{"text_format":"1","workbook":"xlsx","n_sheets":17,"sheets":["Import Tab","Base Information","Peak Hour Graphical Summary","Peak Hour Volume Summary","Hourly Volume Summary","15-Min All Vehicle","15-Min Automobiles","15-Min SU-Truck","15-Min Semi-Truck","15-Min Heavy Vehicle","15-Min Hvy Veh Percentages","Ped & Bicycle","UTDF","Daily & Seasonally Adj 15 min","Daily & Seasonal Factors","Expansion Factors","Calculations"],"not_rendered":{"charts":2,"images":38,"macros":1,"external_links":0,"defined_names":14,"comments":3,"pivot_tables":0},"unopened":[],"bounds":{"document_bytes":16777216,"sheet_cells":100000,"rows_first":2000,"rows_last":500,"rows_between":2000,"halvings":0,"cell_chars":16384,"cell_head_chars":4096},"cells_cut":0,"cells_raw":0,"read":"whole","date_system":"1900"}

{"sheet":"Import Tab","index":0,"n_rows":197,"n_cols":55,"rows_kept":197,"cut":false,"hidden":false,"merged":[]}
["PETRA must be formatted to show left-turns in left-most column -->","Start Date","2011-12-06",null,null,null,null,null,null,null,null,null,null,null,null,null,null,null,null,null,null,null,null,null,null,null,null,null,null,null,null,null,null,null,null,null,"Start Date",null,null,null,null,null,null,null,null,null,null,null,null,null,null,null,null,null,"Start Date"]
[null,"Start Time","07:00:00"]
[null,"Site Code",0]
[null,"Street Name","441 NORTH                From North",null,null,null,"CTH OO NORTHLAND AVE     From East",null,null,null,"441 NORTH                From South",null,null,null,"CTH OO NORTHLAND AVE     From West"]
[null,"Start Time","Left","Thru","Right","Peds","Left","Thru","Right","Peds","Left","Thru","Right","Peds","Left","Thru","Right","Peds"," "]
[{"$f":"B6+0.00001","v":"07:00:00.864"},"07:00:00",0,0,0,0,0,112,15,0,82,0,25,0,2,23,0,0]
[{"$f":"B7+0.00001","v":"07:00:00.864"},"07:00:00",0,0,0,0,0,0,0,0,0,0,0,0,0,0,0,0]
[{"$f":"B8+0.00001","v":"07:00:00.864"},"07:00:00",0,0,0,0,0,1,0,0,0,0,1,0,0,1,0,0]
[{"$f":"A6+(0.010417)","v":"07:15:00.893"},"07:15:00",0,0,0,0,0,102,13,1,111,0,30,0,7,32,0,0]
[{"$f":"A7+(0.010417)","v":"07:15:00.893"},"07:15:00",0,0,0,0,0,0,0,0,0,0,1,0,1,2,0,0]
["07:15:00.893","07:15:00",0,0,0,0,0,0,0,0,3,0,0,0,0,2,0,0]
["07:30:00.922","07:30:00",0,0,0,0,0,101,13,0,93,0,31,0,3,35,0,0]
["07:30:00.922","07:30:00",0,0,0,0,0,0,1,0,1,0,0,0,0,1,0,0]
["07:30:00.922","07:30:00",0,0,0,0,0,0,2,0,1,0,1,0,2,0,0,0]
["07:45:00.950","07:45:00",0,0,0,0,0,141,16,0,186,0,59,0,3,53,0,0]
["07:45:00.950","07:45:00",0,0,0,0,0,2,0,0,3,0,1,0,0,4,0,0]
["07:45:00.950","07:45:00",0,0,0,0,0,0,2,0,0,0,3,0,1,2,0,0]
["08:00:00.979","08:00:00",0,0,0,0,0,153,10,0,140,0,51,0,7,34,0,0]
["08:00:00.979","08:00:00",0,0,0,0,0,1,0,0,2,0,1,0,0,2,0,0]
["08:00:00.979","08:00:00",0,0,0,0,0,4,2,0,0,0,3,0,0,0,0,0]
["08:15:01.008","08:15:00",0,0,0,0,0,145,24,0,212,0,73,0,12,32,0,0]
["08:15:01.008","08:15:00",0,0,0,0,0,5,3,0,3,0,1,0,0,3,0,0]
["08:15:01.008","08:15:00",0,0,0,0,0,1,1,0,1,0,0,0,0,0,0,0]
["08:30:01.037","08:30:00",0,0,0,0,0,221,15,0,229,0,63,0,4,34,0,0]
["08:30:01.037","08:30:00",0,0,0,0,0,1,3,0,3,0,2,0,0,2,0,0]
["08:30:01.037","08:30:00",0,0,0,0,0,2,1,0,1,1,1,0,0,3,0,0]
["08:45:01.066","08:45:00",0,0,0,0,0,268,27,0,238,0,61,0,9,50,0,0]
["08:45:01.066","08:45:00",0,0,0,0,0,8,1,0,4,0,1,0,0,11,0,0]
["08:45:01.066","08:45:00",0,0,0,0,0,1,1,0,0,0,2,0,0,2,0,0]
["09:00:01.094","09:00:00",0,0,0,0,"0","162",11,0,160,0,36,0,5,34,0,0]
["09:00:01.094","09:00:00",0,0,0,0,0,7,0,0,1,0,2,0,2,5,0,0]
["09:00:01.094","09:00:00",0,0,0,0,0,1,1,0,3,0,4,0,1,2,0,0]
["09:15:01.123","09:15:00",0,0,0,0,0,151,18,0,116,0,54,0,11,48,0,0]
["09:15:01.123","09:15:00",0,0,0,0,0,3,2,0,3,0,2,0,0,4,0,0]
["09:15:01.123","09:15:00",0,0,0,0,0,2,2,0,6,0,4,0,1,0,0,0]
["09:30:01.152","09:30:00",0,0,0,0,0,116,13,0,124,0,44,0,3,41,0,0]
["09:30:01.152","09:30:00",0,0,0,0,0,7,3,0,3,0,2,0,2,6,0,0]
["09:30:01.152","09:30:00",0,0,0,0,0,4,4,0,1,0,3,0,0,2,0,0]
["09:45:01.181","09:45:00",0,0,0,0,0,127,15,0,126,0,44,0,9,41,0,0]
["09:45:01.181","09:45:00",0,0,0,0,0,2,1,0,2,0,0,0,1,5,0,0]
["09:45:01.181","09:45:00",0,0,0,0,0,2,3,0,2,0,3,0,3,2,0,0]
["10:00:01.210","10:00:00",0,0,0,0,0,115,7,0,75,0,38,0,9,43,0,0]
["10:00:01.210","10:00:00",0,0,0,0,0,0,0,0,0,0,0,0,0,0,0,0]
["10:00:01.210","10:00:00",0,0,0,0,0,0,0,0,0,0,0,0,0,0,0,0]
["10:15:01.238","10:15:00",0,0,0,0,0,90,8,0,58,0,32,0,9,46,0,0]
["10:15:01.238","10:15:00",0,0,0,0,0,2,2,0,5,0,1,0,0,3,0,0]
["10:15:01.238","10:15:00",0,0,0,0,0,2,4,0,2,0,4,0,1,5,0,0]
["10:30:01.267","10:30:00",0,0,0,0,0,96,9,0,71,0,25,0,11,38,0,0]
["10:30:01.267","10:30:00",0,0,0,0,0,3,1,0,2,0,2,0,0,6,0,0]
["10:30:01.267","10:30:00",0,0,0,0,0,5,0,0,5,0,1,0,3,1,0,0]
["10:45:01.296","10:45:00",0,0,0,0,0,87,12,0,65,0,33,0,5,51,0,0]
["10:45:01.296","10:45:00",0,0,0,0,0,3,2,0,3,0,1,0,1,4,0,0]
["10:45:01.296","10:45:00",0,0,0,0,0,5,2,0,3,0,5,0,0,2,0,0]
["11:00:01.325","11:00:00",0,0,0,0,0,100,12,0,59,0,35,0,7,49,0,0]
["11:00:01.325","11:00:00",0,0,0,0,0,4,2,0,1,0,0,0,0,2,0,0]
["11:00:01.325","11:00:00",0,0,0,0,0,0,5,0,1,0,3,0,2,4,0,0]
["11:15:01.354","11:15:00",0,0,0,0,0,79,11,0,61,0,37,0,5,48,0,0]
["11:15:01.354","11:15:00",0,0,0,0,0,7,1,0,4,0,1,0,0,5,0,0]
["11:15:01.354","11:15:00",0,0,0,0,0,5,3,0,5,0,1,0,0,1,0,0]
["11:30:01.382","11:30:00",0,0,0,0,0,92,11,0,59,0,37,0,6,"43","0",0]
["11:30:01.382","11:30:00",0,0,0,0,0,6,1,0,3,0,1,0,0,9,0,0]
["11:30:01.382","11:30:00",0,0,0,0,0,2,3,0,3,0,2,0,0,2,0,0]
["11:45:01.411","11:45:00",0,0,0,0,0,100,13,0,68,0,44,0,4,53,0,0]
["11:45:01.411","11:45:00",0,0,0,0,0,9,0,0,1,0,2,0,0,6,0,0]
["11:45:01.411","11:45:00",0,0,0,0,0,1,3,0,2,0,2,0,3,3,0,0]
["12:00:01.440","12:00:00",0,0,0,0,0,91,7,0,85,0,30,0,8,"53","0",0]
["12:00:01.440","12:00:00",0,0,0,0,0,7,1,0,4,0,2,0,0,6,0,0]
["12:00:01.440","12:00:00",0,0,0,0,0,0,1,0,6,0,5,0,4,2,0,0]
["12:15:01.469","12:15:00",0,0,0,0,0,101,9,0,95,4,51,0,4,77,0,0]
["12:15:01.469","12:15:00",0,0,0,0,0,4,0,0,1,0,0,0,0,2,0,0]
["12:15:01.469","12:15:00",0,0,0,0,0,4,0,0,3,0,3,0,1,4,0,0]
["12:30:01.498","12:30:00",0,0,0,0,0,104,12,0,80,0,43,0,3,"81","0",0]
["12:30:01.498","12:30:00",0,0,0,0,0,3,0,0,3,0,1,0,1,4,0,0]
[{"$f":"A71+(0.010417)","v":"12:30:01.498"},"12:30:00",0,0,0,0,0,3,3,0,0,0,5,0,1,1,0,0]
["12:45:01.526","12:45:00",0,0,0,0,0,105,9,0,100,0,57,0,4,53,0,0]
["12:45:01.526","12:45:00",0,0,0,0,0,3,1,0,3,0,5,0,0,2,0,0]
["12:45:01.526","12:45:00",0,0,0,0,0,3,1,0,2,0,3,0,3,3,0,0]
["13:00:01.555","13:00:00",0,0,0,0,0,88,8,0,94,0,39,0,11,65,0,0]
["13:00:01.555","13:00:00",0,0,0,0,0,6,0,0,2,0,1,0,2,5,0,0]
["13:00:01.555","13:00:00",0,0,0,0,0,3,3,0,2,0,2,0,1,0,0,0]
["13:15:01.584","13:15:00",0,0,0,0,0,101,13,0,88,0,38,0,8,73,0,0]
["13:15:01.584","13:15:00",0,0,0,0,0,4,3,0,4,0,1,0,1,2,0,0]
["13:15:01.584","13:15:00",0,0,0,0,0,2,2,0,0,0,3,0,1,2,0,0]
["13:30:01.613","13:30:00",0,0,0,0,0,101,11,0,111,0,48,0,8,"55","0",0]
["13:30:01.613","13:30:00",0,0,0,0,0,6,2,0,0,0,1,0,0,6,0,0]
["13:30:01.613","13:30:00",0,0,0,0,0,3,1,0,2,0,1,0,0,3,0,0]
["13:45:01.642","13:45:00",0,0,0,0,0,101,10,0,102,0,56,0,15,"64",0,"0"]
["13:45:01.642","13:45:00",0,0,0,0,0,5,1,0,1,0,5,0,2,1,0,0]
["13:45:01.642","13:45:00",0,0,0,0,0,0,1,0,0,0,3,0,2,3,0,0]
["14:00:01.670","14:00:00",0,0,0,0,0,119,13,0,113,0,48,0,8,64,0,0]
["14:00:01.670","14:00:00",0,0,0,0,0,2,0,0,4,0,2,0,0,2,0,0]
["14:00:01.670","14:00:00",0,0,0,0,0,3,0,0,2,0,2,0,0,6,0,0]
["14:15:01.699","14:15:00",0,0,0,0,0,89,11,0,76,0,54,0,6,67,0,0]
["14:15:01.699","14:15:00",0,0,0,0,0,1,1,0,2,0,1,0,0,4,0,0]
["14:15:01.699","14:15:00",0,0,0,0,0,2,0,0,2,0,6,0,2,2,0,0]
["14:30:01.728","14:30:00",0,0,0,0,0,108,9,0,103,0,45,0,4,90,0,0]
["14:30:01.728","14:30:00",0,0,0,0,0,5,0,0,5,0,1,0,1,10,0,0]
["14:30:01.728","14:30:00",0,0,0,0,0,2,3,0,5,0,5,0,3,0,0,0]
["14:45:01.757","14:45:00",0,0,0,0,"0","96",10,0,103,0,50,0,10,79,0,0]
["14:45:01.757","14:45:00",0,0,0,0,0,4,2,0,2,0,0,0,2,4,0,0]
["14:45:01.757","14:45:00",0,0,0,0,0,10,1,0,0,0,2,0,0,0,0,0]
["15:00:01.786","15:00:00",0,0,0,0,0,117,14,0,85,1,49,0,12,71,0,0]
["15:00:01.786","15:00:00",0,0,0,0,0,5,2,0,4,0,0,0,0,3,0,0]
["15:00:01.786","15:00:00",0,0,0,0,0,5,2,0,4,0,2,0,2,3,0,0]
["15:15:01.814","15:15:00",0,0,0,0,0,110,9,0,112,0,77,0,8,82,0,0]
["15:15:01.814","15:15:00",0,0,0,0,0,4,2,0,1,0,2,0,0,7,0,0]
["15:15:01.814","15:15:00",0,0,0,0,0,0,1,0,6,0,0,0,1,1,0,0]
["15:30:01.843","15:30:00",0,0,0,0,0,100,13,0,85,0,70,0,29,112,0,0]
["15:30:01.843","15:30:00",0,0,0,0,0,1,1,0,5,0,1,0,1,4,0,0]
["15:30:01.843","15:30:00",0,0,0,0,0,1,0,0,1,0,4,0,3,4,0,0]
["15:45:01.872","15:45:00",0,0,0,0,0,104,17,1,106,0,75,1,30,99,0,0]
["15:45:01.872","15:45:00",0,0,0,0,0,2,3,0,3,0,4,0,0,8,0,0]
["15:45:01.872","15:45:00",0,0,0,0,0,4,3,0,0,0,1,0,1,2,0,0]
["16:00:01.901","16:00:00",0,0,0,0,0,112,12,1,110,0,66,0,15,"85","0",0]
["16:00:01.901","16:00:00",0,0,0,0,0,2,2,0,9,0,0,0,0,3,0,0]
["16:00:01.901","16:00:00",0,0,0,0,0,3,2,0,2,0,3,0,0,3,0,0]
["16:15:01.930","16:15:00",0,0,0,0,0,149,13,0,91,0,74,0,12,109,0,0]
["16:15:01.930","16:15:00",0,0,0,0,0,5,4,1,0,0,0,0,0,1,0,0]
["16:15:01.930","16:15:00",0,0,0,0,0,0,2,0,3,0,2,0,0,2,0,0]
["16:30:01.958","16:30:00",0,0,0,0,0,150,13,2,114,0,89,0,17,"121","0",0]
["16:30:01.958","16:30:00",0,0,0,0,0,4,1,0,4,0,2,0,0,3,0,0]
["16:30:01.958","16:30:00",0,0,0,0,0,1,2,0,4,0,0,0,0,1,0,0]
["16:45:01.987","16:45:00",0,0,0,0,0,105,22,0,102,0,105,0,15,"117","0",0]
["16:45:01.987","16:45:00",0,0,0,0,0,4,2,0,1,0,2,0,0,2,0,0]
["16:45:01.987","16:45:00",0,0,0,0,0,0,1,0,2,0,1,0,1,1,0,0]
["17:00:02.016","17:00:00",0,0,0,0,0,129,12,0,87,0,76,3,37,"117","0",0]
["17:00:02.016","17:00:00",0,0,0,0,0,3,2,0,3,0,3,0,3,1,0,0]
["17:00:02.016","17:00:00",0,0,0,0,0,1,0,0,0,0,2,0,0,0,0,0]
["17:15:02.045","17:15:00",0,0,0,0,0,124,10,0,108,0,124,0,27,125,0,0]
["17:15:02.045","17:15:00",0,0,0,0,0,1,0,0,4,0,3,0,0,0,0,0]
["17:15:02.045","17:15:00",0,0,0,0,0,0,0,0,3,0,2,0,0,1,0,0]
["17:30:02.074","17:30:00",0,0,0,0,0,142,14,0,89,0,124,0,29,143,0,0]
["17:30:02.074","17:30:00",0,0,0,0,0,2,1,0,1,0,1,0,0,0,0,0]
["17:30:02.074","17:30:00",0,0,0,0,0,0,1,0,2,0,3,0,2,5,0,0]
["17:45:02.102","17:45:00",0,0,0,0,0,157,16,0,117,0,147,1,35,127,0,0]
["17:45:02.102","17:45:00",0,0,0,0,0,0,0,0,0,0,1,0,0,0,0,0]
["17:45:02.102","17:45:00",0,0,0,0,0,0,0,0,0,0,4,0,0,1,0,0]
[{"$f":"A135+(0.010417)","v":"18:00:02.131"},"18:00:00",0,0,0,0,0,138,20,0,94,0,103,0,24,"126","0",0]
["18:00:02.131","18:00:00",0,0,0,0,0,1,0,0,1,0,0,0,0,0,0,0]
["18:00:02.131","18:00:00",0,0,0,0,0,0,0,0,1,0,1,0,0,0,0,0]
["18:15:02.160","18:15:00",0,0,0,0,0,145,11,0,107,0,132,2,18,"142","0",0]
["18:15:02.160","18:15:00",0,0,0,0,0,1,0,0,0,0,1,0,0,0,0,0]
["18:15:02.160","18:15:00",0,0,0,0,0,4,1,0,1,0,4,0,1,0,0,0]
["18:30:02.189","18:30:00",0,0,0,0,0,119,19,0,74,0,107,0,18,94,0,0]
["18:30:02.189","18:30:00",0,0,0,0,0,0,0,0,0,0,0,0,0,0,0,0]
["18:30:02.189","18:30:00",0,0,0,0,0,3,1,0,0,0,0,0,1,0,0,0]
["18:45:02.218","18:45:00",0,0,0,0,0,114,3,0,89,0,94,0,9,96,0,0]
["18:45:02.218","18:45:00",0,0,0,0,0,0,0,0,0,0,1,0,0,0,0,0]
["18:45:02.218","18:45:00",0,0,0,0,0,1,1,0,0,0,1,0,0,1,0,0]
["19:00:02.246","19:00:00",0,0,0,0,0,0,0,0,0,0,0,0,0,0,0,0]
["19:00:02.246","19:00:00",0,0,0,0,0,0,0,0,0,0,0,0,0,0,0,0]
["19:00:02.246","19:00:00",0,0,0,0,0,0,0,0,0,0,0,0,0,0,0,0]
["19:15:02.275","19:15:00",0,0,0,0,0,0,0,0,0,0,0,0,0,0,0,0]
["19:15:02.275","19:15:00",0,0,0,0,0,0,0,0,0,0,0,0,0,0,0,0]
["19:15:02.275","19:15:00",0,0,0,0,0,0,0,0,0,0,0,0,0,0,0,0]
["19:30:02.304","19:30:00",0,0,0,0,0,0,0,0,0,0,0,0,0,0,0,0]
["19:30:02.304","19:30:00",0,0,0,0,0,0,0,0,0,0,0,0,0,0,0,0]
["19:30:02.304","19:30:00",0,0,0,0,0,0,0,0,0,0,0,0,0,0,0,0]
["19:45:02.333","19:45:00",0,0,0,0,0,0,0,0,0,0,0,0,0,0,0,0]
["19:45:02.333","19:45:00",0,0,0,0,0,0,0,0,0,0,0,0,0,0,0,0]
["19:45:02.333","19:45:00",0,0,0,0,0,0,0,0,0,0,0,0,0,0,0,0]
["20:00:02.362","20:00:00",0,0,0,0,0,0,0,0,0,0,0,0,0,0,0,0]
["20:00:02.362","20:00:00",0,0,0,0,0,0,0,0,0,0,0,0,0,0,0,0]
["20:00:02.362","20:00:00",0,0,0,0,0,0,0,0,0,0,0,0,0,0,0,0]
["20:15:02.390","20:15:00",0,0,0,0,0,0,0,0,0,0,0,0,0,0,0,0]
["20:15:02.390","20:15:00",0,0,0,0,0,0,0,0,0,0,0,0,0,0,0,0]
["20:15:02.390","20:15:00",0,0,0,0,0,0,0,0,0,0,0,0,0,0,0,0]
["20:30:02.419","20:30:00",0,0,0,0,0,0,0,0,0,0,0,0,0,0,0,0]
["20:30:02.419","20:30:00",0,0,0,0,0,0,0,0,0,0,0,0,0,0,0,0]
["20:30:02.419","20:30:00",0,0,0,0,0,0,0,0,0,0,0,0,0,0,0,0]
["20:45:02.448","20:45:00",0,0,0,0,0,0,0,0,0,0,0,0,0,0,0,0]
["20:45:02.448","20:45:00",0,0,0,0,0,0,0,0,0,0,0,0,0,0,0,0]
["20:45:02.448","20:45:00",0,0,0,0,0,0,0,0,0,0,0,0,0,0,0,0]
["21:00:02.477","21:00:00",0,0,0,0,0,0,0,0,0,0,0,0,0,0,0,0]
["21:00:02.477","21:00:00",0,0,0,0,0,0,0,0,0,0,0,0,0,0,0,0]
["21:00:02.477","21:00:00",0,0,0,0,0,0,0,0,0,0,0,0,0,0,0,0]
["21:15:02.506","21:15:00",0,0,0,0,0,0,0,0,0,0,0,0,0,0,0,0]
["21:15:02.506","21:15:00",0,0,0,0,0,0,0,0,0,0,0,0,0,0,0,0]
["21:15:02.506","21:15:00",0,0,0,0,0,0,0,0,0,0,0,0,0,0,0,0]
["21:30:02.534","21:30:00",0,0,0,0,0,0,0,0,0,0,0,0,0,0,0,0]
["21:30:02.534","21:30:00",0,0,0,0,0,0,0,0,0,0,0,0,0,0,0,0]
["21:30:02.534","21:30:00",0,0,0,0,0,0,0,0,0,0,0,0,0,0,0,0]
["21:45:02.563","21:45:00",0,0,0,0,0,0,0,0,0,0,0,0,0,0,0,0]
["21:45:02.563","21:45:00",0,0,0,0,0,0,0,0,0,0,0,0,0,0,0,0]
["21:45:02.563","21:45:00",0,0,0,0,0,0,0,0,0,0,0,0,0,0,0,0]
["22:00:02.592","22:00:00",0,0,0,0,0,0,0,0,0,0,0,0,0,0,0,0]
["22:00:02.592","22:00:00",0,0,0,0,0,0,0,0,0,0,0,0,0,0,0,0]
["22:00:02.592","22:00:00",0,0,0,0,0,0,0,0,0,0,0,0,0,0,0,0]
["22:15:02.621","22:15:00",0,0,0,0,0,0,0,0,0,0,0,0,0,0,0,0]
["22:15:02.621","22:15:00",0,0,0,0,0,0,0,0,0,0,0,0,0,0,0,0]
["22:15:02.621","22:15:00",0,0,0,0,0,0,0,0,0,0,0,0,0,0,0,0]
["22:30:02.650","22:30:00",0,0,0,0,0,0,0,0,0,0,0,0,0,0,0,0]
["22:30:02.650","22:30:00",0,0,0,0,0,0,0,0,0,0,0,0,0,0,0,0]
["22:30:02.650","22:30:00",0,0,0,0,0,0,0,0,0,0,0,0,0,0,0,0]
["22:45:02.678","22:45:00",0,0,0,0,0,0,0,0,0,0,0,0,0,0,0,0]
["22:45:02.678","22:45:00",0,0,0,0,0,0,0,0,0,0,0,0,0,0,0,0]
["22:45:02.678","22:45:00",0,0,0,0,0,0,0,0,0,0,0,0,0,0,0,0]

{"sheet":"Base Information","index":1,"n_rows":162,"n_cols":46,"rows_kept":162,"cut":false,"hidden":false,"merged":[[17,1,17,9],[14,1,14,2],[14,3,14,9],[19,1,19,2],[19,3,19,9],[20,1,20,2],[20,3,20,9],[19,16,19,21],[19,11,19,15],[20,11,20,15],[18,1,18,2],[18,3,18,9],[20,17,20,20],[18,16,18,21],[18,11,18,15],[6,1,6,3],[0,1,3,9],[10,6,10,8],[10,3,10,5],[2,17,2,19],[3,17,3,19],[9,1,9,2],[9,3,9,9],[9,11,9,12],[9,13,9,21],[1,11,1,12],[2,20,2,21],[10,11,10,18],[11,1,11,2],[11,3,11,9],[10,1,10,2],[12,1,12,5],[12,6,12,8],[17,20,17,21],[15,20,15,21],[71,19,79,19],[71,20,79,20],[76,16,79,16],[76,17,79,18],[67,17,67,20],[66,17,66,20],[36,6,39,6],[32,17,32,20],[33,7,33,10],[38,19,42,19],[71,2,79,2],[71,3,79,3],[49,7,49,15],[66,2,66,5],[66,7,66,15],[51,1,51,21],[36,2,44,2],[67,2,67,5],[67,7,67,15],[32,2,32,5],[32,10,32,12],[31,2,31,4],[31,7,31,15],[76,4,79,4],[45,7,45,10],[46,7,46,10],[47,12,47,15],[48,10,48,12],[68,7,68,10],[36,4,39,5],[38,3,42,3],[41,4,44,4],[84,7,84,15],[80,7,80,10],[81,7,81,10],[82,12,82,15],[83,7,83,15],[69,12,69,15],[70,12,70,15],[71,18,74,18],[71,4,74,5],[71,6,74,6],[41,16,44,16],[41,17,44,18],[34,12,34,15],[35,12,35,15],[36,18,39,18],[36,20,44,20],[27,1,27,3],[27,4,27,7],[27,8,27,9],[31,17,31,20],[24,8,24,9],[25,13,27,21],[25,8,25,9],[26,8,26,9],[26,1,26,7],[25,1,25,7],[24,1,24,7],[22,13,22,15],[23,13,23,15],[24,13,24,15],[22,16,22,21],[24,16,24,21],[22,11,24,12],[21,1,21,9],[22,8,22,9],[23,8,23,9],[21,19,21,20],[23,1,23,7],[22,1,22,7],[21,14,21,18],[23,16,23,21],[12,11,12,13],[13,11,13,13],[13,14,13,18],[15,16,15,18],[16,11,16,21],[14,11,14,21],[13,19,13,21],[16,1,16,2],[16,3,16,9],[15,1,15,2],[15,3,15,9],[15,13,15,14],[17,13,17,14],[17,16,17,18],[13,1,13,2],[13,3,13,9],[11,19,11,21],[12,19,12,21],[11,11,11,13],[10,19,10,21],[12,14,12,18],[11,14,11,18],[3,20,3,21],[2,13,2,16],[3,11,3,16],[2,11,2,12]]}
[null,"Intersection Traffic Volume Report"]
[null,null,null,null,null,null,null,null,null,null,null,"Count Basics",null,null,null,null,"Version 2011.J3",null,null,null,null,"Page 1 of 11"]
[null,null,null,null,null,null,null,null,null,null,null,"Start Date:",null,{"$f":"MIN(O12,O13,O14)","v":"2011-12-06"},null,null,null,{"$f":"VLOOKUP(CONCATENATE(P91,P92,P93),$N$95:$P$121,3,FALSE)","v":"Weekday"},null,null,{"$f":"IF(D19=\"in session\", \"Schools in Session\", IF(D19=\"Not in Session\", \"Schools Not in Session\", \"\"))","v":"Schools in Session"}]
[null,null,null,null,null,null,null,null,null,null,null,{"$f":"CONCATENATE(\"Total Number of Hours Counted: \", $AL$156)","v":"Total Number of Hours Counted: 12"},null,null,null,null,null,{"$f":"IF(D20=\"None\",\"Non-Holiday\", IF(D20=\"\",\"Non-Holiday\", IF(D20=\"\",\"\",D20)))","v":"Non-Holiday"},null,null,{"$f":"IF(D21=\"None\",\"No Special Events\", IF(D21=\"\",\"No Special Events\", IF(D21=\"\",\"\",D21)))","v":"No Special Events"}]
[null,{"$f":"IF(ISERROR($H$35=TRUE),\"Error: Review 16 Hour Count Import Instructions\",CONCATENATE(\"Base Information, Observed (\",$AL$156,\") Hour and Estimated (24) Hour Volume Summaries\"))","v":"Base Information, Observed (12) Hour and Estimated (24) Hour Volume Summaries"}]
[]
[null,"Intersection of:",null,null,{"$f":"CONCATENATE($D$14, \" and \", $D$15)","v":"441 NB ON RAMP and CTH OO (Northland Ave)"}]
[]
[null,"Site Information",null,null,null,null,null,null,null,null,null,"Count Information"]
[null,"Municipality",null,"City of Appleton",null,null,null,null,null,null,null,"Hrs Counted:",null,{"$f":"IF(AND($AS$92=\"\",$AT$92=\"\")=TRUE,$AR$92,IF($AT$92=\"\",CONCATENATE($AR$92,\" and \",$AS$92),CONCATENATE($AR$92,\", \",$AS$92,\", and \",$AT$92)))","v":"6:00 AM-6:00 PM"}]
[null,"County",null,"Outagamie",null,null,"WisDOT Region",null,null,"NE",null,"Count Dates",null,null,null,null,null,null,null,"Weather"]
[null,"Traffic Control",null,"Traffic Signal",null,null,null,null,null,null,null,"AM Peak Period",null,null,"2011-12-06",null,null,null,null,"Clear & Dry",null,null,null,null,"Recommended"]
[null,"Roadway Names",null,null,null,null,"North Direction",null,null,"↑",null,"Midday Peak Period",null,null,"2011-12-06",null,null,null,null,"Clear & Dry",null,null,null,null,"Daily/Seasonal"]
[null,"North Leg",null,"441 NB ON RAMP",null,null,null,null,null,null,null,"PM Peak Period",null,null,"2011-12-06",null,null,null,null,"Clear & Dry",null,null,null,null,"Adjustment Factor"]
[null,"East Leg",null,"CTH OO (Northland Ave)",null,null,null,null,null,null,null,"Calculated Peak Hours",null,null,null,null,null,null,null,null,null,null,null,"Seasonal",{"$f":"VLOOKUP($AD$91,'Daily & Seasonal Factors'!$D$6:$E$581,2,FALSE)","v":1.093}]
[null,"South Leg",null,"441 NB OFF RAMP",null,null,null,null,null,null,null,null,"AM",{"$f":"IF(ISERROR(VLOOKUP(MAX(B91:B103),B91:C103,2,FALSE)=TRUE),\"\",VLOOKUP(MAX(B91:B103),B91:C103,2,FALSE))","v":"7:15-8:15am"},null,"MD",{"$f":"IF(ISERROR(VLOOKUP(MAX(B107:B119),B107:C119,2,FALSE))=TRUE,\"\",VLOOKUP(MAX(B107:B119),B107:C119,2,FALSE))","v":"1:00-2:00pm"},null,null,"PM",{"$f":"IF(ISERROR(VLOOKUP(MAX(B123:B151),B123:D151,2,FALSE)=TRUE),\"\",VLOOKUP(MAX(B123:B151),B123:D151,2,FALSE))","v":"4:30-5:30pm"},null,null,"Daily #1",{"$f":"VLOOKUP($AD$95,'Daily & Seasonal Factors'!$D$6:$E$581,2,FALSE)","v":0.91800000000000004}]
[null,"West Leg",null,"CTH OO (Northland Ave)",null,null,null,null,null,null,null,"Peak Hours Selected for Analysis",null,null,null,null,null,null,null,null,null,null,null,"Daily #2",{"$f":"IF($O$13=\"\",\"\",VLOOKUP($AD$96,'Daily & Seasonal Factors'!$D$6:$E$581,2,FALSE))","v":0.91800000000000004}]
[null,"Special Considerations",null,null,null,null,null,null,null,null,null,null,"AM",{"$f":"N16","v":"7:15-8:15am"},null,"MD",{"$f":"Q16","v":"1:00-2:00pm"},null,null,"PM",{"$f":"U16","v":"4:30-5:30pm"},null,null,"Daily #3",{"$f":"VLOOKUP($AD$97,'Daily & Seasonal Factors'!$D$6:$E$581,2,FALSE)","v":0.91800000000000004}]
[null,"Schools",null,"In Session",null,null,null,null,null,null,null,"Daily/Seasonal Adjustment Group",null,null,null,null,"(2) Urban Arterials & Collectors",null,null,null,null,null,null,"Total",{"$f":"IF($O$13=\"\",AVERAGE($Y$16,$Y$18)*$Y$15,AVERAGE($Y$16,$Y$17,$Y$18)*$Y$15)","v":1.003374}]
[null,"Holidays",null,"None",null,null,null,null,null,null,null,"Count Expansion Group",null,null,null,null,"(2) Urban Arterials & Collectors"]
[null,"Special Events",null,"None",null,null,null,null,null,null,null,"Daily/Seasonal Adjustment Factor",null,null,null,null,{"$f":"IF(Y19=\"#N/A\",1,Y19)","v":1.003374},"Count Expansion Factor",null,null,null,{"$f":"Y25","v":"n/a"}]
[null,"Special Pedestrians Observed",null,null,null,null,null,null,null,null,null,null,null,"Company Name","DAAR CORP",null,null,null,null,"Manual Adj.",null,1]
[null,"Pre-school children",null,null,null,null,null,null,"None",null,null,"Observers",null,"AM Peak Period",null,null,"Kerstian Oestreich",null,null,null,null,null,null,null,"Recommended"]
[null,"Elementry school age children",null,null,null,null,null,null,"None",null,null,null,null,"Midday Peak Period",null,null,"Nathan Lipinski",null,null,null,null,null,null,null,"Count Expansion Factor"]
[null,"Visually impaired (white cane/helper dog)",null,null,null,null,null,null,"None",null,null,null,null,"PM Peak Period",null,null,"Nathan Lipinski",null,null,null,null,null,null,null,{"$f":"VLOOKUP(CONCATENATE($Q$20,$N$10),'Expansion Factors'!$F$7:$BZ$1000,VLOOKUP('Base Information'!$D$11,'Base Information'!$Y$91:$Z$162,2,FALSE),FALSE)","v":"n/a"}]
[null,"Elderly/disabled (except wheelchairs)",null,null,null,null,null,null,"None",null,null,null,"Comments","Version 2011.J3"]
[null,"Wheelchairs/electric scooters",null,null,null,null,null,null,"None"]
[null,"Other (describe)",null,null,"None",null,null,null,"None"]
[]
[null,{"$f":"CONCATENATE(\"Observed \",$AL$156,\" Hour Volume Summary\")","v":"Observed 12 Hour Volume Summary"}]
[]
[null,null,"OBSERVED",null,null,{"$f":"CONCATENATE($AL$156,\"\")","v":"12"},null,{"$f":"$D$14","v":"441 NB ON RAMP"},null,null,null,null,null,null,null,null,null,"TOTAL ENTERING VOLUME"]
[null,null,"HOUR VOLUMES",null,null,null,null,"PED:",{"$f":"'Ped & Bicycle'!D78","v":0},null,{"$f":"H34+M35","v":1367},null,null,null,"BIKE:",{"$f":"'Ped & Bicycle'!F78","v":0},null,{"$f":"H34+S37+M48+E42","v":19409}]
[null,null,null,null,null,null,null,{"$f":"SUM(H35:K35)","v":0}]
[null,null,null,null,null,null,null,{"$f":"'Hourly Volume Summary'!D30","v":0},{"$f":"'Hourly Volume Summary'!E30","v":0},{"$f":"'Hourly Volume Summary'!F30","v":0},{"$f":"'Hourly Volume Summary'!G30","v":0},null,{"$f":"K35+R37+O47+F43","v":1367}]
[null,null,null,null,null,null,null,8,"$",9,"M",null,"#"]
[null,null,{"$f":"$D$17","v":"CTH OO (Northland Ave)"},"PED:",{"$f":"H35+R38+N47+F42","v":11284},null,"!",null,null,null,null,null,null,null,null,null,"<",{"$f":"'Hourly Volume Summary'!I30","v":739},{"$f":"SUM(R37:R40)","v":6767},"PED:",{"$f":"$D$15","v":"CTH OO (Northland Ave)"}]
[null,null,null,{"$f":"'Ped & Bicycle'!S78","v":0},null,null,null,null,null,null,null,null,null,null,null,null,"!",{"$f":"'Hourly Volume Summary'!J30","v":6028},null,{"$f":"'Ped & Bicycle'!I78","v":5}]
[null,null,null,{"$f":"E37+E42","v":15566},null,null,null,null,null,null,null,null,null,null,null,null,">",{"$f":"'Hourly Volume Summary'!K30","v":0},null,{"$f":"S37+R42","v":13525}]
[null,null,null,null,null,null,null,null,null,null,null,null,null,null,null,null,"N",{"$f":"'Hourly Volume Summary'!L30","v":0}]
[null,null,null,null,null,null,null,null,null,null,null,{"$f":"$J$13","v":"↑"}]
[null,null,null,null,{"$f":"SUM(F42:F45)","v":4282},{"$f":"'Hourly Volume Summary'!V30","v":0},"O",null,null,null,null,"North",null,null,null,null,"\"",{"$f":"P47+F44+J35+R40","v":6758}]
[null,null,null,null,null,{"$f":"'Hourly Volume Summary'!U30","v":622},"="]
[null,null,null,"BIKE:",null,{"$f":"'Hourly Volume Summary'!T30","v":3660},"\"",null,null,null,null,null,null,null,null,null,null,null,null,"BIKE:"]
[null,null,null,{"$f":"'Ped & Bicycle'!U78","v":0},null,{"$f":"'Hourly Volume Summary'!S30","v":0},"?",null,null,null,null,null,null,null,null,null,null,null,null,{"$f":"'Ped & Bicycle'!K78","v":1}]
[null,null,null,null,null,null,null,"$",null,null,null,null,"L",":","#",";"]
[null,null,null,null,null,null,null,{"$f":"F45+I35+R39+M47","v":0},null,null,null,null,{"$f":"'Hourly Volume Summary'!Q30","v":0},{"$f":"'Hourly Volume Summary'!P30","v":5256},{"$f":"'Hourly Volume Summary'!O30","v":6},{"$f":"'Hourly Volume Summary'!N30","v":3098}]
[null,null,null,null,null,null,null,null,null,null,null,null,{"$f":"SUM(M47:P47)","v":8360}]
[null,null,null,null,null,null,null,"PED:",{"$f":"'Ped & Bicycle'!N78","v":7},null,{"$f":"H47+M48","v":8360},null,null,null,"BIKE:",{"$f":"'Ped & Bicycle'!P78","v":0}]
[null,null,null,null,null,null,null,{"$f":"$D$16","v":"441 NB OFF RAMP"}]
[]
[null,"Total Entering Hourly Volume"]
[]
[]
[]
[]
[]
[]
[]
[]
[]
[]
[]
[]
[null,"Estimated 24 Hour AADT"]
[]
[null,null,"ESTIMATED",null,null,null,null,{"$f":"$D$14","v":"441 NB ON RAMP"},null,null,null,null,null,null,null,null,null,"TOTAL ENTERING VOLUME"]
[null,null,"24 HOUR AADT",null,null,null,null,{"$f":"H69+M70","v":{"$error":"#VALUE!"}},null,null,null,null,null,null,null,null,null,{"$f":"H69+S72+M83+E77","v":{"$error":"#VALUE!"}}]
[null,null,null,null,null,null,null,{"$f":"SUM(H70:K70)","v":{"$error":"#VALUE!"}}]
[null,null,null,null,null,null,null,{"$f":"H35*$F$85","v":{"$error":"#VALUE!"}},{"$f":"I35*$F$85","v":{"$error":"#VALUE!"}},{"$error":"#VALUE!"},{"$error":"#VALUE!"},null,{"$f":"K70+R72+O82+F78","v":{"$error":"#VALUE!"}}]
[null,null,null,null,null,null,null,8,"$",9,"M",null,"#"]
[null,null,{"$f":"$D$17","v":"CTH OO (Northland Ave)"},{"$f":"E72+E77","v":{"$error":"#VALUE!"}},{"$f":"H70+R73+N82+F77","v":{"$error":"#VALUE!"}},null,"!",null,null,null,null,null,null,null,null,null,"<",{"$f":"R37*$F$85","v":{"$error":"#VALUE!"}},{"$f":"SUM(R72:R75)","v":{"$error":"#VALUE!"}},{"$f":"S72+R77","v":{"$error":"#VALUE!"}},{"$f":"$D$15","v":"CTH OO (Northland Ave)"}]
[null,null,null,null,null,null,null,null,null,null,null,null,null,null,null,null,"!",{"$error":"#VALUE!"}]
[null,null,null,null,null,null,null,null,null,null,null,null,null,null,null,null,">",{"$error":"#VALUE!"}]
[null,null,null,null,null,null,null,null,null,null,null,null,null,null,null,null,"N",{"$error":"#VALUE!"}]
[null,null,null,null,null,null,null,null,null,null,null,{"$f":"$J$13","v":"↑"}]
[null,null,null,null,{"$f":"SUM(F77:F80)","v":{"$error":"#VALUE!"}},{"$f":"F42*$F$85","v":{"$error":"#VALUE!"}},"O",null,null,null,null,"North",null,null,null,null,"\"",{"$f":"P82+F79+J70+R75","v":{"$error":"#VALUE!"}}]
[null,null,null,null,null,{"$f":"F43*$F$85","v":{"$error":"#VALUE!"}},"="]
[null,null,null,null,null,{"$f":"F44*$F$85","v":{"$error":"#VALUE!"}},"\""]
[null,null,null,null,null,{"$error":"#VALUE!"},"?"]
[null,null,null,null,null,null,null,"$",null,null,null,null,"L",":","#",";"]
[null,"Daily/Seasonal Factor",null,null,null,{"$f":"Q21","v":1.003374},null,{"$f":"F80+I70+R74+M82","v":{"$error":"#VALUE!"}},null,null,null,null,{"$f":"M47*$F$85","v":{"$error":"#VALUE!"}},{"$error":"#VALUE!"},{"$error":"#VALUE!"},{"$error":"#VALUE!"}]
[null,"Count Expansion Factor",null,null,null,{"$f":"V21","v":"n/a"},null,null,null,null,null,null,{"$f":"SUM(M82:P82)","v":{"$error":"#VALUE!"}}]
[null,"Manual Adjustment Factor",null,null,null,{"$f":"V22","v":1},null,{"$f":"H82+M83","v":{"$error":"#VALUE!"}}]
[null,"Total 24 Hr Expansion Factor",null,null,null,{"$f":"$F$82*$F$83*$F$84","v":{"$error":"#VALUE!"}},null,{"$f":"$D$16","v":"441 NB OFF RAMP"}]
[]
[]
[null,null,null,null,null,null,null,null,null,null,null,null,null,null,null,null,null,null,null,null,null,null,null,null,null,null,null,"Start of"]
[null,"Total Entering","Hourly Time","Start of",null,null,null,null,null,null,null,null,"Traffic",null,null,null,null,"Growth",null,null,"Expansion",null,null,null,null,null,"Hourly Time","Count","Hours","Vlookup",null,null,"Vlookup",null,"Vlookup",null,null,"Hours",null,null,null,null,null,"Hours","Hours","Hours"]
[null,"Hourly Volume","Period","Count","Q2","Q3","Q4","County","Region","Schools","North Arrow","Ped","Control","Weekday/Weekend Determinations",null,null,null,"Group",null,null,"Group",null,null,null,"County","Column","Period","for Expansion","Counted","for Seasonal",null,"Month for Adjustments","for Month",null,"for Day",null,null,"Counted","Starts","Finishes","Starts","Finishes",null,"Counted #1","Counted #2","Counted #3"]
[null,{"$f":"'15-Min All Vehicle'!Z14","v":1327},"6:00-7:00am","06:00:00","06:14:59.942","06:29:59.971","06:45:00","Adams","NE","In Session","↑","None","Traffic Signal","Day 1",{"$f":"IF(O12=\"\",\"none\",WEEKDAY(O12,1))","v":3},{"$f":"IF(O91=2, \"Weekday\", IF(O91=3, \"Weekday\", IF(O91= 4, \"Weekday\", IF(O91=5, \"Weekday\", IF(O91=6, \"Weekday\", IF(O91=7, \"Weekend\", IF(O91=1, \"Weekend\",\"None\")))))))","v":"Weekday"},null,"(1) Urban Interstate",null,null,"(1) Urban Interstate",null,null,null,"Kenosha",2,"6:00-7:00am","06:00:00",{"$f":"ROUNDDOWN(($V$10-$Q$10)*24+0.1,0)","v":0},{"$f":"CONCATENATE($Q$19,$AF$91,\"seasonal\")","v":"(2) Urban Arterials & CollectorsDecemberseasonal"},null,{"$f":"VLOOKUP(MONTH($O$12),$AG$91:$AH$102,2,FALSE)","v":"December"},1,"January",1,"Sunday",null,{"$f":"IF('15-Min All Vehicle'!X14>0,1,0)","v":1},{"$f":"IF(AL91=1,\"Start\",\"\")","v":"Start"},{"$f":"IF(AL91-AL91 = (-1),\"Finish\",\"\")","v":""},{"$f":"IF(AM91=\"Start\", \"Start #1\",\"\")","v":"Start #1"},{"$f":"IF(AN91=\"Finish\", \"Finish #1\",\"\")","v":""},"6:00 AM",{"$f":"CONCATENATE(VLOOKUP(\"Start #1\",$AO$91:$AQ$155,3,FALSE), \"-\", VLOOKUP(\"Finish #1\",$AP$91:$AQ$155,2,FALSE))","v":"6:00 AM-6:00 PM"},{"$f":"CONCATENATE(VLOOKUP(\"Start #2\",$AO$91:$AQ$155,3,FALSE), \"-\", VLOOKUP(\"Finish #2\",$AP$91:$AQ$155,2,FALSE))","v":{"$error":"#N/A"}},{"$f":"CONCATENATE(VLOOKUP(\"Start #3\",$AO$91:$AQ$155,3,FALSE), \"-\", VLOOKUP(\"Finish #3\",$AP$91:$AQ$155,2,FALSE))","v":{"$error":"#N/A"}}]
[null,{"$f":"'15-Min All Vehicle'!Z15","v":1475},"6:15-7:15am","06:14:59.942","06:29:59.971","06:45:00","06:59:59.942","Ashland","NC-R","Not in Session","↗","1 or 2","Roundabout","Day 2",{"$f":"IF(O13=\"\",\"none\",WEEKDAY(O13,1))","v":3},{"$f":"IF(O92=2, \"Weekday\", IF(O92=3, \"Weekday\", IF(O92= 4, \"Weekday\", IF(O92=5, \"Weekday\", IF(O92=6, \"Weekday\", IF(O92=7, \"Weekend\", IF(O92=1, \"Weekend\",\"None\")))))))","v":"Weekday"},null,"(2) Urban Arterials & Collectors",null,null,"(2) Urban Arterials & Collectors",null,null,null,"Milwaukee",3,"6:15-7:15am","06:00:00",null,null,null,null,2,"February",2,"Monday",null,{"$f":"IF('15-Min All Vehicle'!X15>0,1,0)","v":1},{"$f":"IF(AL92-AL91=1,\"Start\",\"\")","v":""},{"$f":"IF(AL92-AL91 = (-1),\"Finish\",\"\")","v":""},{"$f":"IF(AND(AM92=\"Start\",COUNTIF($AM$91:AM91,\"start\")=0) =TRUE, \"Start #1\", IF(AND(AM92=\"Start\",COUNTIF($AM$91:AM91,\"start\")=1)=TRUE,\"Start #2\", IF(AND(AM92=\"Start\",COUNTIF($AM$91:AM91,\"start\")=2)=TRUE,\"Start #3\",\"\")))","v":""},{"$f":"IF(AND(AN92=\"Finish\",COUNTIF($AM$91:AN91,\"Finish\")=0) =TRUE, \"Finish #1\", IF(AND(AN92=\"Finish\",COUNTIF($AM$91:AN91,\"Finish\")=1)=TRUE,\"Finish #2\", IF(AND(AN92=\"Finish\",COUNTIF($AM$91:AN91,\"Finish\")=2)=TRUE,\"Finish #3\",\"\")))","v":""},"6:15 AM",{"$f":"IF(ISERROR((AR91)=TRUE), \"\",AR91)","v":"6:00 AM-6:00 PM"},{"$f":"IF(ISERROR((AS91)=TRUE), \"\",AS91)","v":""},""]
[null,{"$f":"'15-Min All Vehicle'!Z16","v":1687},"6:30-7:30am","06:29:59.971","06:45:00","06:59:59.942","07:14:59.971","Barron","NC-W","Unknown","↖","A Few","All-Way Stop","Day 3",{"$f":"IF(O14=\"\",\"none\",WEEKDAY(O14,1))","v":3},{"$f":"IF(O93=2, \"Weekday\", IF(O93=3, \"Weekday\", IF(O93= 4, \"Weekday\", IF(O93=5, \"Weekday\", IF(O93=6, \"Weekday\", IF(O93=7, \"Weekend\", IF(O93=1, \"Weekend\",\"None\")))))))","v":"Weekday"},null,"(3) Rural Interstate",null,null,"(3) Rural Interstate",null,null,null,"Ozaukee",4,"6:30-7:30am","06:00:00",null,"Vlookup","Day","Day for Adjustments",3,"March",3,"Tuesday",null,{"$f":"IF('15-Min All Vehicle'!X16>0,1,0)","v":1},{"$f":"IF(AL93-AL92=1,\"Start\",\"\")","v":""},"",{"$f":"IF(AND(AM93=\"Start\",COUNTIF($AM$91:AM92,\"start\")=0) =TRUE, \"Start #1\", IF(AND(AM93=\"Start\",COUNTIF($AM$91:AM92,\"start\")=1)=TRUE,\"Start #2\", IF(AND(AM93=\"Start\",COUNTIF($AM$91:AM92,\"start\")=2)=TRUE,\"Start #3\",\"\")))","v":""},{"$f":"IF(AND(AN93=\"Finish\",COUNTIF($AM$91:AN92,\"Finish\")=0) =TRUE, \"Finish #1\", IF(AND(AN93=\"Finish\",COUNTIF($AM$91:AN92,\"Finish\")=1)=TRUE,\"Finish #2\", IF(AND(AN93=\"Finish\",COUNTIF($AM$91:AN92,\"Finish\")=2)=TRUE,\"Finish #3\",\"\")))","v":""},"6:30 AM"]
[null,{"$f":"'15-Min All Vehicle'!Z17","v":1988},"6:45-7:45am","06:45:00","06:59:59.942","07:14:59.971","07:30:00","Bayfield","NW","Other","→","Several","Partial Stop Control",null,null,null,null,"(4) Rural Arterials & Collectors",null,null,"(4) Rural Arterials & Collectors",null,null,null,"Racine",5,"6:45-7:45am","06:00:00",null,"for Daily","#1",{"$f":"VLOOKUP(WEEKDAY($O$12),$AI$91:$AJ$97,2,FALSE)","v":"Tuesday"},4,"April",4,"Wednesday",null,{"$f":"IF('15-Min All Vehicle'!X17>0,1,0)","v":1},"","",{"$f":"IF(AND(AM94=\"Start\",COUNTIF($AM$91:AM93,\"start\")=0) =TRUE, \"Start #1\", IF(AND(AM94=\"Start\",COUNTIF($AM$91:AM93,\"start\")=1)=TRUE,\"Start #2\", IF(AND(AM94=\"Start\",COUNTIF($AM$91:AM93,\"start\")=2)=TRUE,\"Start #3\",\"\")))","v":""},{"$f":"IF(AND(AN94=\"Finish\",COUNTIF($AM$91:AN93,\"Finish\")=0) =TRUE, \"Finish #1\", IF(AND(AN94=\"Finish\",COUNTIF($AM$91:AN93,\"Finish\")=1)=TRUE,\"Finish #2\", IF(AND(AN94=\"Finish\",COUNTIF($AM$91:AN93,\"Finish\")=2)=TRUE,\"Finish #3\",\"\")))","v":""},"6:45 AM","Total Hours"]
[null,{"$f":"'15-Min All Vehicle'!Z18","v":2196},"7:00-8:00am","06:59:59.942","07:14:59.971","07:30:00","07:44:59.942","Brown","SE",null,"↘","Many","Uncontrolled","WeekdayWeekdayWeekday",null,"Weekday",null,"(5) Tourist/Recreational Interstate",null,null,"(5) Tourist/Recreational Interstate",null,null,null,"Walworth",6,"7:00-8:00am","06:59:59.942",null,{"$f":"CONCATENATE($Q$19,$AF$91,$AF$94)","v":"(2) Urban Arterials & CollectorsDecemberTuesday"},"#2",{"$f":"VLOOKUP(WEEKDAY($O$13),$AI$91:$AJ$97,2,FALSE)","v":"Tuesday"},5,"May",5,"Thursday",null,{"$f":"IF('15-Min All Vehicle'!X18>0,1,0)","v":1},"","",{"$f":"IF(AND(AM95=\"Start\",COUNTIF($AM$91:AM94,\"start\")=0) =TRUE, \"Start #1\", IF(AND(AM95=\"Start\",COUNTIF($AM$91:AM94,\"start\")=1)=TRUE,\"Start #2\", IF(AND(AM95=\"Start\",COUNTIF($AM$91:AM94,\"start\")=2)=TRUE,\"Start #3\",\"\")))","v":""},{"$f":"IF(AND(AN95=\"Finish\",COUNTIF($AM$91:AN94,\"Finish\")=0) =TRUE, \"Finish #1\", IF(AND(AN95=\"Finish\",COUNTIF($AM$91:AN94,\"Finish\")=1)=TRUE,\"Finish #2\", IF(AND(AN95=\"Finish\",COUNTIF($AM$91:AN94,\"Finish\")=2)=TRUE,\"Finish #3\",\"\")))","v":""},"7:00 AM","Counted"]
[null,{"$f":"'15-Min All Vehicle'!Z19","v":2223},"7:15-8:15am","07:14:59.971","07:30:00","07:44:59.942","07:59:59.971","Buffalo","SW-L",null,"←","Unknown","Other","WeekdayWeekdayNone",null,"Weekday",null,"(6) Tourist/Recreational Other",null,null,"(6) Tourist/Recreational Other",null,null,null,"Washington",7,"7:15-8:15am","06:59:59.942",null,{"$f":"CONCATENATE($Q$19,$AF$91,$AF$95)","v":"(2) Urban Arterials & CollectorsDecemberTuesday"},"#3",{"$f":"VLOOKUP(WEEKDAY($O$14),$AI$91:$AJ$97,2,FALSE)","v":"Tuesday"},6,"June",6,"Friday",null,{"$f":"IF('15-Min All Vehicle'!X19>0,1,0)","v":1},"","",{"$f":"IF(AND(AM96=\"Start\",COUNTIF($AM$91:AM95,\"start\")=0) =TRUE, \"Start #1\", IF(AND(AM96=\"Start\",COUNTIF($AM$91:AM95,\"start\")=1)=TRUE,\"Start #2\", IF(AND(AM96=\"Start\",COUNTIF($AM$91:AM95,\"start\")=2)=TRUE,\"Start #3\",\"\")))","v":""},{"$f":"IF(AND(AN96=\"Finish\",COUNTIF($AM$91:AN95,\"Finish\")=0) =TRUE, \"Finish #1\", IF(AND(AN96=\"Finish\",COUNTIF($AM$91:AN95,\"Finish\")=1)=TRUE,\"Finish #2\", IF(AND(AN96=\"Finish\",COUNTIF($AM$91:AN95,\"Finish\")=2)=TRUE,\"Finish #3\",\"\")))","v":""},"7:15 AM",{"$f":"IF(AND($AS$92=\"\",$AT$92=\"\")=TRUE,$AR$92,IF($AT$92=\"\",CONCATENATE($AR$92,\" and \",$AS$92),CONCATENATE($AR$92,\", \",$AS$92,\", and \",$AT$92)))","v":"6:00 AM-6:00 PM"}]
[null,{"$f":"'15-Min All Vehicle'!Z20","v":2134},"7:30-8:30am","07:30:00","07:44:59.942","07:59:59.971","08:15:00","Burnett","SW-M",null,"↙",null,null,"WeekdayWeekdayWeekend",null,"Weekday/Weekend",null,"Other",null,null,"County-wide",null,null,null,"Waukesha",8,"7:30-8:30am","06:59:59.942",null,{"$f":"CONCATENATE($Q$19,$AF$91,$AF$96)","v":"(2) Urban Arterials & CollectorsDecemberTuesday"},null,null,7,"July",7,"Saturday",null,{"$f":"IF('15-Min All Vehicle'!X20>0,1,0)","v":1},"","",{"$f":"IF(AND(AM97=\"Start\",COUNTIF($AM$91:AM96,\"start\")=0) =TRUE, \"Start #1\", IF(AND(AM97=\"Start\",COUNTIF($AM$91:AM96,\"start\")=1)=TRUE,\"Start #2\", IF(AND(AM97=\"Start\",COUNTIF($AM$91:AM96,\"start\")=2)=TRUE,\"Start #3\",\"\")))","v":""},{"$f":"IF(AND(AN97=\"Finish\",COUNTIF($AM$91:AN96,\"Finish\")=0) =TRUE, \"Finish #1\", IF(AND(AN97=\"Finish\",COUNTIF($AM$91:AN96,\"Finish\")=1)=TRUE,\"Finish #2\", IF(AND(AN97=\"Finish\",COUNTIF($AM$91:AN96,\"Finish\")=2)=TRUE,\"Finish #3\",\"\")))","v":""},"7:30 AM"]
[null,{"$f":"'15-Min All Vehicle'!Z21","v":1926},"7:45-8:45am","07:44:59.942","07:59:59.971","08:15:00","08:29:59.942","Calumet",null,null,"↓",null,null,"WeekdayWeekendWeekday",null,"Weekday/Weekend",null,null,null,null,"Ramps",null,null,null,"Brown",9,"7:45-8:45am","06:59:59.942",null,null,null,null,8,"August",null,null,null,{"$f":"IF('15-Min All Vehicle'!X21>0,1,0)","v":1},"","",{"$f":"IF(AND(AM98=\"Start\",COUNTIF($AM$91:AM97,\"start\")=0) =TRUE, \"Start #1\", IF(AND(AM98=\"Start\",COUNTIF($AM$91:AM97,\"start\")=1)=TRUE,\"Start #2\", IF(AND(AM98=\"Start\",COUNTIF($AM$91:AM97,\"start\")=2)=TRUE,\"Start #3\",\"\")))","v":""},{"$f":"IF(AND(AN98=\"Finish\",COUNTIF($AM$91:AN97,\"Finish\")=0) =TRUE, \"Finish #1\", IF(AND(AN98=\"Finish\",COUNTIF($AM$91:AN97,\"Finish\")=1)=TRUE,\"Finish #2\", IF(AND(AN98=\"Finish\",COUNTIF($AM$91:AN97,\"Finish\")=2)=TRUE,\"Finish #3\",\"\")))","v":""},"7:45 AM"]
[null,{"$f":"'15-Min All Vehicle'!Z22","v":1630},"8:00-9:00am","07:59:59.971","08:15:00","08:29:59.942","08:44:59.971","Chippewa",null,null,null,null,null,"WeekdayWeekendWeekend",null,"Weekday/Weekend",null,null,null,null,"Other",null,null,null,"Calumet",10,"8:00-9:00am","07:59:59.971",null,null,null,null,9,"September",null,null,null,{"$f":"IF('15-Min All Vehicle'!X22>0,1,0)","v":1},"","",{"$f":"IF(AND(AM99=\"Start\",COUNTIF($AM$91:AM98,\"start\")=0) =TRUE, \"Start #1\", IF(AND(AM99=\"Start\",COUNTIF($AM$91:AM98,\"start\")=1)=TRUE,\"Start #2\", IF(AND(AM99=\"Start\",COUNTIF($AM$91:AM98,\"start\")=2)=TRUE,\"Start #3\",\"\")))","v":""},{"$f":"IF(AND(AN99=\"Finish\",COUNTIF($AM$91:AN98,\"Finish\")=0) =TRUE, \"Finish #1\", IF(AND(AN99=\"Finish\",COUNTIF($AM$91:AN98,\"Finish\")=1)=TRUE,\"Finish #2\", IF(AND(AN99=\"Finish\",COUNTIF($AM$91:AN98,\"Finish\")=2)=TRUE,\"Finish #3\",\"\")))","v":""},"8:00 AM"]
[null,{"$f":"'15-Min All Vehicle'!Z23","v":1480},"8:15-9:15am","08:15:00","08:29:59.942","08:44:59.971","09:00:00","Clark",null,null,null,null,null,"WeekdayWeekendNone",null,"Weekday/Weekend",null,null,null,null,null,null,null,null,"Door",11,"8:15-9:15am","07:59:59.971",null,null,null,null,10,"October",null,null,null,{"$f":"IF('15-Min All Vehicle'!X23>0,1,0)","v":1},"","",{"$f":"IF(AND(AM100=\"Start\",COUNTIF($AM$91:AM99,\"start\")=0) =TRUE, \"Start #1\", IF(AND(AM100=\"Start\",COUNTIF($AM$91:AM99,\"start\")=1)=TRUE,\"Start #2\", IF(AND(AM100=\"Start\",COUNTIF($AM$91:AM99,\"start\")=2)=TRUE,\"Start #3\",\"\")))","v":""},{"$f":"IF(AND(AN100=\"Finish\",COUNTIF($AM$91:AN99,\"Finish\")=0) =TRUE, \"Finish #1\", IF(AND(AN100=\"Finish\",COUNTIF($AM$91:AN99,\"Finish\")=1)=TRUE,\"Finish #2\", IF(AND(AN100=\"Finish\",COUNTIF($AM$91:AN99,\"Finish\")=2)=TRUE,\"Finish #3\",\"\")))","v":""},"8:15 AM"]
[null,{"$f":"'15-Min All Vehicle'!Z24","v":1327},"8:30-9:30am","08:29:59.942","08:44:59.971","09:00:00","09:14:59.942","Columbia",null,null,null,null,null,"WeekdayNoneWeekday",null,"Weekday",null,null,null,null,null,null,null,null,"Fond du Lac",12,"8:30-9:30am","07:59:59.971",null,null,null,null,11,"November",null,null,null,{"$f":"IF('15-Min All Vehicle'!X24>0,1,0)","v":1},"","",{"$f":"IF(AND(AM101=\"Start\",COUNTIF($AM$91:AM100,\"start\")=0) =TRUE, \"Start #1\", IF(AND(AM101=\"Start\",COUNTIF($AM$91:AM100,\"start\")=1)=TRUE,\"Start #2\", IF(AND(AM101=\"Start\",COUNTIF($AM$91:AM100,\"start\")=2)=TRUE,\"Start #3\",\"\")))","v":""},{"$f":"IF(AND(AN101=\"Finish\",COUNTIF($AM$91:AN100,\"Finish\")=0) =TRUE, \"Finish #1\", IF(AND(AN101=\"Finish\",COUNTIF($AM$91:AN100,\"Finish\")=1)=TRUE,\"Finish #2\", IF(AND(AN101=\"Finish\",COUNTIF($AM$91:AN100,\"Finish\")=2)=TRUE,\"Finish #3\",\"\")))","v":""},"8:30 AM"]
[null,{"$f":"'15-Min All Vehicle'!Z25","v":1228},"8:45-9:45am","08:44:59.971","09:00:00","09:14:59.942","09:29:59.971","Crawford",null,null,null,null,null,"WeekdayNoneWeekend",null,"Weekday/Weekend",null,null,null,null,null,null,null,null,"Kewaunee",13,"8:45-9:45am","07:59:59.971",null,null,null,null,12,"December",null,null,null,{"$f":"IF('15-Min All Vehicle'!X25>0,1,0)","v":1},"","",{"$f":"IF(AND(AM102=\"Start\",COUNTIF($AM$91:AM101,\"start\")=0) =TRUE, \"Start #1\", IF(AND(AM102=\"Start\",COUNTIF($AM$91:AM101,\"start\")=1)=TRUE,\"Start #2\", IF(AND(AM102=\"Start\",COUNTIF($AM$91:AM101,\"start\")=2)=TRUE,\"Start #3\",\"\")))","v":""},{"$f":"IF(AND(AN102=\"Finish\",COUNTIF($AM$91:AN101,\"Finish\")=0) =TRUE, \"Finish #1\", IF(AND(AN102=\"Finish\",COUNTIF($AM$91:AN101,\"Finish\")=1)=TRUE,\"Finish #2\", IF(AND(AN102=\"Finish\",COUNTIF($AM$91:AN101,\"Finish\")=2)=TRUE,\"Finish #3\",\"\")))","v":""},"8:45 AM"]
[null,{"$f":"'15-Min All Vehicle'!Z26","v":1124},"9:00-10:00am","09:00:00","09:14:59.942","09:29:59.971","09:45:00","Dane",null,null,null,null,null,"WeekdayNoneNone",null,"Weekday",null,null,null,null,null,null,null,null,"Manitowoc",14,"9:00-10:00am","09:00:00",null,null,null,null,null,null,null,null,null,{"$f":"IF('15-Min All Vehicle'!X26>0,1,0)","v":1},"","",{"$f":"IF(AND(AM103=\"Start\",COUNTIF($AM$91:AM102,\"start\")=0) =TRUE, \"Start #1\", IF(AND(AM103=\"Start\",COUNTIF($AM$91:AM102,\"start\")=1)=TRUE,\"Start #2\", IF(AND(AM103=\"Start\",COUNTIF($AM$91:AM102,\"start\")=2)=TRUE,\"Start #3\",\"\")))","v":""},{"$f":"IF(AND(AN103=\"Finish\",COUNTIF($AM$91:AN102,\"Finish\")=0) =TRUE, \"Finish #1\", IF(AND(AN103=\"Finish\",COUNTIF($AM$91:AN102,\"Finish\")=1)=TRUE,\"Finish #2\", IF(AND(AN103=\"Finish\",COUNTIF($AM$91:AN102,\"Finish\")=2)=TRUE,\"Finish #3\",\"\")))","v":""},"9:00 AM"]
[null,{"$f":"'15-Min All Vehicle'!Z27","v":1123},"9:15-10:15am","09:14:59.942","09:29:59.971","09:45:00","09:59:59.942","Dodge",null,null,null,null,null,"WeekendWeekdayWeekday",null,"Weekday/Weekend",null,null,null,null,null,null,null,null,"Marinette",15,"9:15-10:15am","09:00:00",null,null,null,null,null,null,null,null,null,{"$f":"IF('15-Min All Vehicle'!X27>0,1,0)","v":1},"","",{"$f":"IF(AND(AM104=\"Start\",COUNTIF($AM$91:AM103,\"start\")=0) =TRUE, \"Start #1\", IF(AND(AM104=\"Start\",COUNTIF($AM$91:AM103,\"start\")=1)=TRUE,\"Start #2\", IF(AND(AM104=\"Start\",COUNTIF($AM$91:AM103,\"start\")=2)=TRUE,\"Start #3\",\"\")))","v":""},{"$f":"IF(AND(AN104=\"Finish\",COUNTIF($AM$91:AN103,\"Finish\")=0) =TRUE, \"Finish #1\", IF(AND(AN104=\"Finish\",COUNTIF($AM$91:AN103,\"Finish\")=1)=TRUE,\"Finish #2\", IF(AND(AN104=\"Finish\",COUNTIF($AM$91:AN103,\"Finish\")=2)=TRUE,\"Finish #3\",\"\")))","v":""},"9:15 AM"]
[null,{"$f":"'15-Min All Vehicle'!Z28","v":1123},"9:30-10:30am","09:29:59.971","09:45:00","09:59:59.942","10:14:59.971","Door",null,null,null,null,null,"WeekendWeekdayNone",null,"Weekday/Weekend",null,null,null,null,null,null,null,null,"Oconto",16,"9:30-10:30am","09:00:00",null,null,null,null,null,null,null,null,null,{"$f":"IF('15-Min All Vehicle'!X28>0,1,0)","v":1},"","",{"$f":"IF(AND(AM105=\"Start\",COUNTIF($AM$91:AM104,\"start\")=0) =TRUE, \"Start #1\", IF(AND(AM105=\"Start\",COUNTIF($AM$91:AM104,\"start\")=1)=TRUE,\"Start #2\", IF(AND(AM105=\"Start\",COUNTIF($AM$91:AM104,\"start\")=2)=TRUE,\"Start #3\",\"\")))","v":""},{"$f":"IF(AND(AN105=\"Finish\",COUNTIF($AM$91:AN104,\"Finish\")=0) =TRUE, \"Finish #1\", IF(AND(AN105=\"Finish\",COUNTIF($AM$91:AN104,\"Finish\")=1)=TRUE,\"Finish #2\", IF(AND(AN105=\"Finish\",COUNTIF($AM$91:AN104,\"Finish\")=2)=TRUE,\"Finish #3\",\"\")))","v":""},"9:30 AM"]
[null,{"$f":"'15-Min All Vehicle'!Z29","v":1124},"9:45-10:45am","09:45:00","09:59:59.942","10:14:59.971","10:30:00","Douglas",null,null,null,null,null,"WeekendWeekdayWeekend",null,"Weekday/Weekend",null,null,null,null,null,null,null,null,"Outagamie",17,"9:45-10:45am","09:00:00",null,null,null,null,null,null,null,null,null,{"$f":"IF('15-Min All Vehicle'!X29>0,1,0)","v":1},"","",{"$f":"IF(AND(AM106=\"Start\",COUNTIF($AM$91:AM105,\"start\")=0) =TRUE, \"Start #1\", IF(AND(AM106=\"Start\",COUNTIF($AM$91:AM105,\"start\")=1)=TRUE,\"Start #2\", IF(AND(AM106=\"Start\",COUNTIF($AM$91:AM105,\"start\")=2)=TRUE,\"Start #3\",\"\")))","v":""},{"$f":"IF(AND(AN106=\"Finish\",COUNTIF($AM$91:AN105,\"Finish\")=0) =TRUE, \"Finish #1\", IF(AND(AN106=\"Finish\",COUNTIF($AM$91:AN105,\"Finish\")=1)=TRUE,\"Finish #2\", IF(AND(AN106=\"Finish\",COUNTIF($AM$91:AN105,\"Finish\")=2)=TRUE,\"Finish #3\",\"\")))","v":""},"9:45 AM"]
[null,{"$f":"'15-Min All Vehicle'!Z30","v":1154},"10:00-11:00am","09:59:59.942","10:14:59.971","10:30:00","10:44:59.942","Dunn",null,null,null,null,null,"WeekendWeekendWeekday",null,"Weekday/Weekend",null,null,null,null,null,null,null,null,"Sheboygan",18,"10:00-11:00am","09:59:59.942",null,null,null,null,null,null,null,null,null,{"$f":"IF('15-Min All Vehicle'!X30>0,1,0)","v":1},"","",{"$f":"IF(AND(AM107=\"Start\",COUNTIF($AM$91:AM106,\"start\")=0) =TRUE, \"Start #1\", IF(AND(AM107=\"Start\",COUNTIF($AM$91:AM106,\"start\")=1)=TRUE,\"Start #2\", IF(AND(AM107=\"Start\",COUNTIF($AM$91:AM106,\"start\")=2)=TRUE,\"Start #3\",\"\")))","v":""},{"$f":"IF(AND(AN107=\"Finish\",COUNTIF($AM$91:AN106,\"Finish\")=0) =TRUE, \"Finish #1\", IF(AND(AN107=\"Finish\",COUNTIF($AM$91:AN106,\"Finish\")=1)=TRUE,\"Finish #2\", IF(AND(AN107=\"Finish\",COUNTIF($AM$91:AN106,\"Finish\")=2)=TRUE,\"Finish #3\",\"\")))","v":""},"10:00 AM"]
[null,{"$f":"'15-Min All Vehicle'!Z31","v":1180},"10:15-11:15am","10:14:59.971","10:30:00","10:44:59.942","10:59:59.971","Eau Claire",null,null,null,null,null,"WeekendWeekendWeekend",null,"Weekend",null,null,null,null,null,null,null,null,"Winnebago",19,"10:15-11:15am","09:59:59.942",null,null,null,null,null,null,null,null,null,{"$f":"IF('15-Min All Vehicle'!X31>0,1,0)","v":1},"","",{"$f":"IF(AND(AM108=\"Start\",COUNTIF($AM$91:AM107,\"start\")=0) =TRUE, \"Start #1\", IF(AND(AM108=\"Start\",COUNTIF($AM$91:AM107,\"start\")=1)=TRUE,\"Start #2\", IF(AND(AM108=\"Start\",COUNTIF($AM$91:AM107,\"start\")=2)=TRUE,\"Start #3\",\"\")))","v":""},{"$f":"IF(AND(AN108=\"Finish\",COUNTIF($AM$91:AN107,\"Finish\")=0) =TRUE, \"Finish #1\", IF(AND(AN108=\"Finish\",COUNTIF($AM$91:AN107,\"Finish\")=1)=TRUE,\"Finish #2\", IF(AND(AN108=\"Finish\",COUNTIF($AM$91:AN107,\"Finish\")=2)=TRUE,\"Finish #3\",\"\")))","v":""},"10:15 AM"]
[null,{"$f":"'15-Min All Vehicle'!Z32","v":1269},"10:30-11:30am","10:30:00","10:44:59.942","10:59:59.971","11:15:00","Florence",null,null,null,null,null,"WeekendWeekendNone",null,"Weekend",null,null,null,null,null,null,null,null,"Adams",20,"10:30-11:30am","09:59:59.942",null,null,null,null,null,null,null,null,null,{"$f":"IF('15-Min All Vehicle'!X32>0,1,0)","v":1},"","",{"$f":"IF(AND(AM109=\"Start\",COUNTIF($AM$91:AM108,\"start\")=0) =TRUE, \"Start #1\", IF(AND(AM109=\"Start\",COUNTIF($AM$91:AM108,\"start\")=1)=TRUE,\"Start #2\", IF(AND(AM109=\"Start\",COUNTIF($AM$91:AM108,\"start\")=2)=TRUE,\"Start #3\",\"\")))","v":""},{"$f":"IF(AND(AN109=\"Finish\",COUNTIF($AM$91:AN108,\"Finish\")=0) =TRUE, \"Finish #1\", IF(AND(AN109=\"Finish\",COUNTIF($AM$91:AN108,\"Finish\")=1)=TRUE,\"Finish #2\", IF(AND(AN109=\"Finish\",COUNTIF($AM$91:AN108,\"Finish\")=2)=TRUE,\"Finish #3\",\"\")))","v":""},"10:30 AM"]
[null,{"$f":"'15-Min All Vehicle'!Z33","v":1337},"10:45-11:45am","10:44:59.942","10:59:59.971","11:15:00","11:29:59.942","Fond du Lac",null,null,null,null,null,"WeekendNoneWeekday",null,"Weekday/Weekend",null,null,null,null,null,null,null,null,"Florence",21,"10:45-11:45am","09:59:59.942",null,null,null,null,null,null,null,null,null,{"$f":"IF('15-Min All Vehicle'!X33>0,1,0)","v":1},"","",{"$f":"IF(AND(AM110=\"Start\",COUNTIF($AM$91:AM109,\"start\")=0) =TRUE, \"Start #1\", IF(AND(AM110=\"Start\",COUNTIF($AM$91:AM109,\"start\")=1)=TRUE,\"Start #2\", IF(AND(AM110=\"Start\",COUNTIF($AM$91:AM109,\"start\")=2)=TRUE,\"Start #3\",\"\")))","v":""},{"$f":"IF(AND(AN110=\"Finish\",COUNTIF($AM$91:AN109,\"Finish\")=0) =TRUE, \"Finish #1\", IF(AND(AN110=\"Finish\",COUNTIF($AM$91:AN109,\"Finish\")=1)=TRUE,\"Finish #2\", IF(AND(AN110=\"Finish\",COUNTIF($AM$91:AN109,\"Finish\")=2)=TRUE,\"Finish #3\",\"\")))","v":""},"10:45 AM"]
[null,{"$f":"'15-Min All Vehicle'!Z34","v":1380},"11:00-12:00am","10:59:59.971","11:15:00","11:29:59.942","11:44:59.971","Forest",null,null,null,null,null,"WeekendNoneWeekend",null,"Weekend",null,null,null,null,null,null,null,null,"Forest",22,"11:00-12:00am","10:59:59.971",null,null,null,null,null,null,null,null,null,{"$f":"IF('15-Min All Vehicle'!X34>0,1,0)","v":1},"","",{"$f":"IF(AND(AM111=\"Start\",COUNTIF($AM$91:AM110,\"start\")=0) =TRUE, \"Start #1\", IF(AND(AM111=\"Start\",COUNTIF($AM$91:AM110,\"start\")=1)=TRUE,\"Start #2\", IF(AND(AM111=\"Start\",COUNTIF($AM$91:AM110,\"start\")=2)=TRUE,\"Start #3\",\"\")))","v":""},{"$f":"IF(AND(AN111=\"Finish\",COUNTIF($AM$91:AN110,\"Finish\")=0) =TRUE, \"Finish #1\", IF(AND(AN111=\"Finish\",COUNTIF($AM$91:AN110,\"Finish\")=1)=TRUE,\"Finish #2\", IF(AND(AN111=\"Finish\",COUNTIF($AM$91:AN110,\"Finish\")=2)=TRUE,\"Finish #3\",\"\")))","v":""},"11:00 AM"]
[null,{"$f":"'15-Min All Vehicle'!Z35","v":1400},"11:15-12:15am","11:15:00","11:29:59.942","11:44:59.971","12:00:00","Grant",null,null,null,null,null,"WeekendNoneNone",null,"Weekend",null,null,null,null,null,null,null,null,"Green Lake",23,"11:15-12:15am","10:59:59.971",null,null,null,null,null,null,null,null,null,{"$f":"IF('15-Min All Vehicle'!X35>0,1,0)","v":1},"","",{"$f":"IF(AND(AM112=\"Start\",COUNTIF($AM$91:AM111,\"start\")=0) =TRUE, \"Start #1\", IF(AND(AM112=\"Start\",COUNTIF($AM$91:AM111,\"start\")=1)=TRUE,\"Start #2\", IF(AND(AM112=\"Start\",COUNTIF($AM$91:AM111,\"start\")=2)=TRUE,\"Start #3\",\"\")))","v":""},{"$f":"IF(AND(AN112=\"Finish\",COUNTIF($AM$91:AN111,\"Finish\")=0) =TRUE, \"Finish #1\", IF(AND(AN112=\"Finish\",COUNTIF($AM$91:AN111,\"Finish\")=1)=TRUE,\"Finish #2\", IF(AND(AN112=\"Finish\",COUNTIF($AM$91:AN111,\"Finish\")=2)=TRUE,\"Finish #3\",\"\")))","v":""},"11:15 AM"]
[null,{"$f":"'15-Min All Vehicle'!Z36","v":1383},"11:30-12:30am","11:29:59.942","11:44:59.971","12:00:00","12:14:59.942","Green",null,null,null,null,null,"NoneWeekdayWeekday",null,"Weekday",null,null,null,null,null,null,null,null,"Iron",24,"11:30-12:30am","10:59:59.971",null,null,null,null,null,null,null,null,null,{"$f":"IF('15-Min All Vehicle'!X36>0,1,0)","v":1},"","",{"$f":"IF(AND(AM113=\"Start\",COUNTIF($AM$91:AM112,\"start\")=0) =TRUE, \"Start #1\", IF(AND(AM113=\"Start\",COUNTIF($AM$91:AM112,\"start\")=1)=TRUE,\"Start #2\", IF(AND(AM113=\"Start\",COUNTIF($AM$91:AM112,\"start\")=2)=TRUE,\"Start #3\",\"\")))","v":""},{"$f":"IF(AND(AN113=\"Finish\",COUNTIF($AM$91:AN112,\"Finish\")=0) =TRUE, \"Finish #1\", IF(AND(AN113=\"Finish\",COUNTIF($AM$91:AN112,\"Finish\")=1)=TRUE,\"Finish #2\", IF(AND(AN113=\"Finish\",COUNTIF($AM$91:AN112,\"Finish\")=2)=TRUE,\"Finish #3\",\"\")))","v":""},"11:30 AM"]
[null,{"$f":"'15-Min All Vehicle'!Z37","v":1394},"11:45-12:45pm","11:44:59.971","12:00:00","12:14:59.942","12:29:59.971","Green Lake",null,null,null,null,null,"NoneWeekdayNone",null,"Weekday",null,null,null,null,null,null,null,null,"Langlade",25,"11:45-12:45pm","10:59:59.971",null,null,null,null,null,null,null,null,null,{"$f":"IF('15-Min All Vehicle'!X37>0,1,0)","v":1},"","",{"$f":"IF(AND(AM114=\"Start\",COUNTIF($AM$91:AM113,\"start\")=0) =TRUE, \"Start #1\", IF(AND(AM114=\"Start\",COUNTIF($AM$91:AM113,\"start\")=1)=TRUE,\"Start #2\", IF(AND(AM114=\"Start\",COUNTIF($AM$91:AM113,\"start\")=2)=TRUE,\"Start #3\",\"\")))","v":""},{"$f":"IF(AND(AN114=\"Finish\",COUNTIF($AM$91:AN113,\"Finish\")=0) =TRUE, \"Finish #1\", IF(AND(AN114=\"Finish\",COUNTIF($AM$91:AN113,\"Finish\")=1)=TRUE,\"Finish #2\", IF(AND(AN114=\"Finish\",COUNTIF($AM$91:AN113,\"Finish\")=2)=TRUE,\"Finish #3\",\"\")))","v":""},"11:45 AM"]
[null,{"$f":"'15-Min All Vehicle'!Z38","v":1409},"12:00-1:00pm","12:00:00","12:14:59.942","12:29:59.971","12:45:00","Iowa",null,null,null,null,null,"NoneWeekdayWeekend",null,"Weekday/Weekend",null,null,null,null,null,null,null,null,"Lincoln",26,"12:00-1:00pm","12:00:00",null,null,null,null,null,null,null,null,null,{"$f":"IF('15-Min All Vehicle'!X38>0,1,0)","v":1},"","",{"$f":"IF(AND(AM115=\"Start\",COUNTIF($AM$91:AM114,\"start\")=0) =TRUE, \"Start #1\", IF(AND(AM115=\"Start\",COUNTIF($AM$91:AM114,\"start\")=1)=TRUE,\"Start #2\", IF(AND(AM115=\"Start\",COUNTIF($AM$91:AM114,\"start\")=2)=TRUE,\"Start #3\",\"\")))","v":""},{"$f":"IF(AND(AN115=\"Finish\",COUNTIF($AM$91:AN114,\"Finish\")=0) =TRUE, \"Finish #1\", IF(AND(AN115=\"Finish\",COUNTIF($AM$91:AN114,\"Finish\")=1)=TRUE,\"Finish #2\", IF(AND(AN115=\"Finish\",COUNTIF($AM$91:AN114,\"Finish\")=2)=TRUE,\"Finish #3\",\"\")))","v":""},"12:00 PM"]
[null,{"$f":"'15-Min All Vehicle'!Z39","v":1465},"12:15-1:15pm","12:14:59.942","12:29:59.971","12:45:00","12:59:59.942","Iron",null,null,null,null,null,"NoneWeekendWeekday",null,"Weekday/Weekend",null,null,null,null,null,null,null,null,"Marathon",27,"12:15-1:15pm","12:00:00",null,null,null,null,null,null,null,null,null,{"$f":"IF('15-Min All Vehicle'!X39>0,1,0)","v":1},"","",{"$f":"IF(AND(AM116=\"Start\",COUNTIF($AM$91:AM115,\"start\")=0) =TRUE, \"Start #1\", IF(AND(AM116=\"Start\",COUNTIF($AM$91:AM115,\"start\")=1)=TRUE,\"Start #2\", IF(AND(AM116=\"Start\",COUNTIF($AM$91:AM115,\"start\")=2)=TRUE,\"Start #3\",\"\")))","v":""},{"$f":"IF(AND(AN116=\"Finish\",COUNTIF($AM$91:AN115,\"Finish\")=0) =TRUE, \"Finish #1\", IF(AND(AN116=\"Finish\",COUNTIF($AM$91:AN115,\"Finish\")=1)=TRUE,\"Finish #2\", IF(AND(AN116=\"Finish\",COUNTIF($AM$91:AN115,\"Finish\")=2)=TRUE,\"Finish #3\",\"\")))","v":""},"12:15 PM"]
[null,{"$f":"'15-Min All Vehicle'!Z40","v":1445},"12:30-1:30pm","12:29:59.971","12:45:00","12:59:59.942","13:14:59.971","Jackson",null,null,null,null,null,"NoneWeekendWeekend",null,"Weekend",null,null,null,null,null,null,null,null,"Marquette",28,"12:30-1:30pm","12:00:00",null,null,null,null,null,null,null,null,null,{"$f":"IF('15-Min All Vehicle'!X40>0,1,0)","v":1},"","",{"$f":"IF(AND(AM117=\"Start\",COUNTIF($AM$91:AM116,\"start\")=0) =TRUE, \"Start #1\", IF(AND(AM117=\"Start\",COUNTIF($AM$91:AM116,\"start\")=1)=TRUE,\"Start #2\", IF(AND(AM117=\"Start\",COUNTIF($AM$91:AM116,\"start\")=2)=TRUE,\"Start #3\",\"\")))","v":""},{"$f":"IF(AND(AN117=\"Finish\",COUNTIF($AM$91:AN116,\"Finish\")=0) =TRUE, \"Finish #1\", IF(AND(AN117=\"Finish\",COUNTIF($AM$91:AN116,\"Finish\")=1)=TRUE,\"Finish #2\", IF(AND(AN117=\"Finish\",COUNTIF($AM$91:AN116,\"Finish\")=2)=TRUE,\"Finish #3\",\"\")))","v":""},"12:30 PM"]
[null,{"$f":"'15-Min All Vehicle'!Z41","v":1485},"12:45-1:45pm","12:45:00","12:59:59.942","13:14:59.971","13:30:00","Jefferson",null,null,null,null,null,"NoneWeekendNone",null,"Weekend",null,null,null,null,null,null,null,null,"Menominee",29,"12:45-1:45pm","12:00:00",null,null,null,null,null,null,null,null,null,{"$f":"IF('15-Min All Vehicle'!X41>0,1,0)","v":1},"","",{"$f":"IF(AND(AM118=\"Start\",COUNTIF($AM$91:AM117,\"start\")=0) =TRUE, \"Start #1\", IF(AND(AM118=\"Start\",COUNTIF($AM$91:AM117,\"start\")=1)=TRUE,\"Start #2\", IF(AND(AM118=\"Start\",COUNTIF($AM$91:AM117,\"start\")=2)=TRUE,\"Start #3\",\"\")))","v":""},{"$f":"IF(AND(AN118=\"Finish\",COUNTIF($AM$91:AN117,\"Finish\")=0) =TRUE, \"Finish #1\", IF(AND(AN118=\"Finish\",COUNTIF($AM$91:AN117,\"Finish\")=1)=TRUE,\"Finish #2\", IF(AND(AN118=\"Finish\",COUNTIF($AM$91:AN117,\"Finish\")=2)=TRUE,\"Finish #3\",\"\")))","v":""},"12:45 PM"]
[null,{"$f":"'15-Min All Vehicle'!Z42","v":1488},"1:00-2:00pm","12:59:59.942","13:14:59.971","13:30:00","13:44:59.942","Juneau",null,null,null,null,null,"NoneNoneWeekday",null,"Weekday",null,null,null,null,null,null,null,null,"Oneida",30,"1:00-2:00pm","12:59:59.942",null,null,null,null,null,null,null,null,null,{"$f":"IF('15-Min All Vehicle'!X42>0,1,0)","v":1},"","",{"$f":"IF(AND(AM119=\"Start\",COUNTIF($AM$91:AM118,\"start\")=0) =TRUE, \"Start #1\", IF(AND(AM119=\"Start\",COUNTIF($AM$91:AM118,\"start\")=1)=TRUE,\"Start #2\", IF(AND(AM119=\"Start\",COUNTIF($AM$91:AM118,\"start\")=2)=TRUE,\"Start #3\",\"\")))","v":""},{"$f":"IF(AND(AN119=\"Finish\",COUNTIF($AM$91:AN118,\"Finish\")=0) =TRUE, \"Finish #1\", IF(AND(AN119=\"Finish\",COUNTIF($AM$91:AN118,\"Finish\")=1)=TRUE,\"Finish #2\", IF(AND(AN119=\"Finish\",COUNTIF($AM$91:AN118,\"Finish\")=2)=TRUE,\"Finish #3\",\"\")))","v":""},"1:00 PM"]
[null,{"$f":"'15-Min All Vehicle'!Z43","v":1481},"1:15-2:15pm","13:14:59.971","13:30:00","13:44:59.942","13:59:59.971","Kenosha",null,null,null,null,null,"NoneNoneWeekend",null,"Weekend",null,null,null,null,null,null,null,null,"Portage",31,"1:15-2:15pm","12:59:59.942",null,null,null,null,null,null,null,null,null,{"$f":"IF('15-Min All Vehicle'!X43>0,1,0)","v":1},"","",{"$f":"IF(AND(AM120=\"Start\",COUNTIF($AM$91:AM119,\"start\")=0) =TRUE, \"Start #1\", IF(AND(AM120=\"Start\",COUNTIF($AM$91:AM119,\"start\")=1)=TRUE,\"Start #2\", IF(AND(AM120=\"Start\",COUNTIF($AM$91:AM119,\"start\")=2)=TRUE,\"Start #3\",\"\")))","v":""},{"$f":"IF(AND(AN120=\"Finish\",COUNTIF($AM$91:AN119,\"Finish\")=0) =TRUE, \"Finish #1\", IF(AND(AN120=\"Finish\",COUNTIF($AM$91:AN119,\"Finish\")=1)=TRUE,\"Finish #2\", IF(AND(AN120=\"Finish\",COUNTIF($AM$91:AN119,\"Finish\")=2)=TRUE,\"Finish #3\",\"\")))","v":""},"1:15 PM"]
[null,{"$f":"'15-Min All Vehicle'!Z44","v":1578},"1:30-2:30pm","13:30:00","13:44:59.942","13:59:59.971","14:15:00","Kewaunee",null,null,null,null,null,"NoneNoneNone",null,null,null,null,null,null,null,null,null,null,"Price",32,"1:30-2:30pm","12:59:59.942",null,null,null,null,null,null,null,null,null,{"$f":"IF('15-Min All Vehicle'!X44>0,1,0)","v":1},"","",{"$f":"IF(AND(AM121=\"Start\",COUNTIF($AM$91:AM120,\"start\")=0) =TRUE, \"Start #1\", IF(AND(AM121=\"Start\",COUNTIF($AM$91:AM120,\"start\")=1)=TRUE,\"Start #2\", IF(AND(AM121=\"Start\",COUNTIF($AM$91:AM120,\"start\")=2)=TRUE,\"Start #3\",\"\")))","v":""},{"$f":"IF(AND(AN121=\"Finish\",COUNTIF($AM$91:AN120,\"Finish\")=0) =TRUE, \"Finish #1\", IF(AND(AN121=\"Finish\",COUNTIF($AM$91:AN120,\"Finish\")=1)=TRUE,\"Finish #2\", IF(AND(AN121=\"Finish\",COUNTIF($AM$91:AN120,\"Finish\")=2)=TRUE,\"Finish #3\",\"\")))","v":""},"1:30 PM"]
[null,{"$f":"'15-Min All Vehicle'!Z45","v":1614},"1:45-2:45pm","13:44:59.942","13:59:59.971","14:15:00","14:29:59.942","La Crosse",null,null,null,null,null,null,null,null,null,null,null,null,null,null,null,null,"Shawano",33,"1:45-2:45pm","12:59:59.942",null,null,null,null,null,null,null,null,null,{"$f":"IF('15-Min All Vehicle'!X45>0,1,0)","v":1},"","",{"$f":"IF(AND(AM122=\"Start\",COUNTIF($AM$91:AM121,\"start\")=0) =TRUE, \"Start #1\", IF(AND(AM122=\"Start\",COUNTIF($AM$91:AM121,\"start\")=1)=TRUE,\"Start #2\", IF(AND(AM122=\"Start\",COUNTIF($AM$91:AM121,\"start\")=2)=TRUE,\"Start #3\",\"\")))","v":""},{"$f":"IF(AND(AN122=\"Finish\",COUNTIF($AM$91:AN121,\"Finish\")=0) =TRUE, \"Finish #1\", IF(AND(AN122=\"Finish\",COUNTIF($AM$91:AN121,\"Finish\")=1)=TRUE,\"Finish #2\", IF(AND(AN122=\"Finish\",COUNTIF($AM$91:AN121,\"Finish\")=2)=TRUE,\"Finish #3\",\"\")))","v":""},"1:45 PM"]
[null,{"$f":"'15-Min All Vehicle'!Z46","v":1701},"2:00-3:00pm","13:59:59.971","14:15:00","14:29:59.942","14:44:59.971","Lafayette",null,null,null,null,null,null,null,null,null,null,null,null,null,null,null,null,"Vilas",34,"2:00-3:00pm","13:59:59.971",null,null,null,null,null,null,null,null,null,{"$f":"IF('15-Min All Vehicle'!X46>0,1,0)","v":1},"","",{"$f":"IF(AND(AM123=\"Start\",COUNTIF($AM$91:AM122,\"start\")=0) =TRUE, \"Start #1\", IF(AND(AM123=\"Start\",COUNTIF($AM$91:AM122,\"start\")=1)=TRUE,\"Start #2\", IF(AND(AM123=\"Start\",COUNTIF($AM$91:AM122,\"start\")=2)=TRUE,\"Start #3\",\"\")))","v":""},{"$f":"IF(AND(AN123=\"Finish\",COUNTIF($AM$91:AN122,\"Finish\")=0) =TRUE, \"Finish #1\", IF(AND(AN123=\"Finish\",COUNTIF($AM$91:AN122,\"Finish\")=1)=TRUE,\"Finish #2\", IF(AND(AN123=\"Finish\",COUNTIF($AM$91:AN122,\"Finish\")=2)=TRUE,\"Finish #3\",\"\")))","v":""},"2:00 PM"]
[null,{"$f":"'15-Min All Vehicle'!Z47","v":1749},"2:15-3:15pm","14:15:00","14:29:59.942","14:44:59.971","15:00:00","Langlade",null,null,null,null,null,null,null,null,null,null,null,null,null,null,null,null,"Waupaca",35,"2:15-3:15pm","13:59:59.971",null,null,null,null,null,null,null,null,null,{"$f":"IF('15-Min All Vehicle'!X47>0,1,0)","v":1},"","",{"$f":"IF(AND(AM124=\"Start\",COUNTIF($AM$91:AM123,\"start\")=0) =TRUE, \"Start #1\", IF(AND(AM124=\"Start\",COUNTIF($AM$91:AM123,\"start\")=1)=TRUE,\"Start #2\", IF(AND(AM124=\"Start\",COUNTIF($AM$91:AM123,\"start\")=2)=TRUE,\"Start #3\",\"\")))","v":""},{"$f":"IF(AND(AN124=\"Finish\",COUNTIF($AM$91:AN123,\"Finish\")=0) =TRUE, \"Finish #1\", IF(AND(AN124=\"Finish\",COUNTIF($AM$91:AN123,\"Finish\")=1)=TRUE,\"Finish #2\", IF(AND(AN124=\"Finish\",COUNTIF($AM$91:AN123,\"Finish\")=2)=TRUE,\"Finish #3\",\"\")))","v":""},"2:15 PM"]
[null,{"$f":"'15-Min All Vehicle'!Z48","v":1793},"2:30-3:30pm","14:29:59.942","14:44:59.971","15:00:00","15:14:59.942","Lincoln",null,null,null,null,null,null,null,null,null,null,null,null,null,null,null,null,"Waushara",36,"2:30-3:30pm","13:59:59.971",null,null,null,null,null,null,null,null,null,{"$f":"IF('15-Min All Vehicle'!X48>0,1,0)","v":1},"","",{"$f":"IF(AND(AM125=\"Start\",COUNTIF($AM$91:AM124,\"start\")=0) =TRUE, \"Start #1\", IF(AND(AM125=\"Start\",COUNTIF($AM$91:AM124,\"start\")=1)=TRUE,\"Start #2\", IF(AND(AM125=\"Start\",COUNTIF($AM$91:AM124,\"start\")=2)=TRUE,\"Start #3\",\"\")))","v":""},{"$f":"IF(AND(AN125=\"Finish\",COUNTIF($AM$91:AN124,\"Finish\")=0) =TRUE, \"Finish #1\", IF(AND(AN125=\"Finish\",COUNTIF($AM$91:AN124,\"Finish\")=1)=TRUE,\"Finish #2\", IF(AND(AN125=\"Finish\",COUNTIF($AM$91:AN124,\"Finish\")=2)=TRUE,\"Finish #3\",\"\")))","v":""},"2:30 PM"]
[null,{"$f":"'15-Min All Vehicle'!Z49","v":1884},"2:45-3:45pm","14:44:59.971","15:00:00","15:14:59.942","15:29:59.971","Manitowoc",null,null,null,null,null,null,null,null,null,null,null,null,null,null,null,null,"Wood",37,"2:45-3:45pm","13:59:59.971",null,null,null,null,null,null,null,null,null,{"$f":"IF('15-Min All Vehicle'!X49>0,1,0)","v":1},"","",{"$f":"IF(AND(AM126=\"Start\",COUNTIF($AM$91:AM125,\"start\")=0) =TRUE, \"Start #1\", IF(AND(AM126=\"Start\",COUNTIF($AM$91:AM125,\"start\")=1)=TRUE,\"Start #2\", IF(AND(AM126=\"Start\",COUNTIF($AM$91:AM125,\"start\")=2)=TRUE,\"Start #3\",\"\")))","v":""},{"$f":"IF(AND(AN126=\"Finish\",COUNTIF($AM$91:AN125,\"Finish\")=0) =TRUE, \"Finish #1\", IF(AND(AN126=\"Finish\",COUNTIF($AM$91:AN125,\"Finish\")=1)=TRUE,\"Finish #2\", IF(AND(AN126=\"Finish\",COUNTIF($AM$91:AN125,\"Finish\")=2)=TRUE,\"Finish #3\",\"\")))","v":""},"2:45 PM"]
[null,{"$f":"'15-Min All Vehicle'!Z50","v":1905},"3:00-4:00pm","15:00:00","15:14:59.942","15:29:59.971","15:45:00","Marathon",null,null,null,null,null,null,null,null,null,null,null,null,null,null,null,null,"Ashland",38,"3:00-4:00pm","15:00:00",null,null,null,null,null,null,null,null,null,{"$f":"IF('15-Min All Vehicle'!X50>0,1,0)","v":1},"","",{"$f":"IF(AND(AM127=\"Start\",COUNTIF($AM$91:AM126,\"start\")=0) =TRUE, \"Start #1\", IF(AND(AM127=\"Start\",COUNTIF($AM$91:AM126,\"start\")=1)=TRUE,\"Start #2\", IF(AND(AM127=\"Start\",COUNTIF($AM$91:AM126,\"start\")=2)=TRUE,\"Start #3\",\"\")))","v":""},{"$f":"IF(AND(AN127=\"Finish\",COUNTIF($AM$91:AN126,\"Finish\")=0) =TRUE, \"Finish #1\", IF(AND(AN127=\"Finish\",COUNTIF($AM$91:AN126,\"Finish\")=1)=TRUE,\"Finish #2\", IF(AND(AN127=\"Finish\",COUNTIF($AM$91:AN126,\"Finish\")=2)=TRUE,\"Finish #3\",\"\")))","v":""},"3:00 PM"]
[null,{"$f":"'15-Min All Vehicle'!Z51","v":1952},"3:15-4:15pm","15:14:59.942","15:29:59.971","15:45:00","15:59:59.942","Marinette",null,null,null,null,null,null,null,null,null,null,null,null,null,null,null,null,"Barron",39,"3:15-4:15pm","15:00:00",null,null,null,null,null,null,null,null,null,{"$f":"IF('15-Min All Vehicle'!X51>0,1,0)","v":1},"","",{"$f":"IF(AND(AM128=\"Start\",COUNTIF($AM$91:AM127,\"start\")=0) =TRUE, \"Start #1\", IF(AND(AM128=\"Start\",COUNTIF($AM$91:AM127,\"start\")=1)=TRUE,\"Start #2\", IF(AND(AM128=\"Start\",COUNTIF($AM$91:AM127,\"start\")=2)=TRUE,\"Start #3\",\"\")))","v":""},{"$f":"IF(AND(AN128=\"Finish\",COUNTIF($AM$91:AN127,\"Finish\")=0) =TRUE, \"Finish #1\", IF(AND(AN128=\"Finish\",COUNTIF($AM$91:AN127,\"Finish\")=1)=TRUE,\"Finish #2\", IF(AND(AN128=\"Finish\",COUNTIF($AM$91:AN127,\"Finish\")=2)=TRUE,\"Finish #3\",\"\")))","v":""},"3:15 PM"]
[null,{"$f":"'15-Min All Vehicle'!Z52","v":2017},"3:30-4:30pm","15:29:59.971","15:45:00","15:59:59.942","16:14:59.971","Marquette",null,null,null,null,null,null,null,null,null,null,null,null,null,null,null,null,"Bayfield",40,"3:30-4:30pm","15:00:00",null,null,null,null,null,null,null,null,null,{"$f":"IF('15-Min All Vehicle'!X52>0,1,0)","v":1},"","",{"$f":"IF(AND(AM129=\"Start\",COUNTIF($AM$91:AM128,\"start\")=0) =TRUE, \"Start #1\", IF(AND(AM129=\"Start\",COUNTIF($AM$91:AM128,\"start\")=1)=TRUE,\"Start #2\", IF(AND(AM129=\"Start\",COUNTIF($AM$91:AM128,\"start\")=2)=TRUE,\"Start #3\",\"\")))","v":""},{"$f":"IF(AND(AN129=\"Finish\",COUNTIF($AM$91:AN128,\"Finish\")=0) =TRUE, \"Finish #1\", IF(AND(AN129=\"Finish\",COUNTIF($AM$91:AN128,\"Finish\")=1)=TRUE,\"Finish #2\", IF(AND(AN129=\"Finish\",COUNTIF($AM$91:AN128,\"Finish\")=2)=TRUE,\"Finish #3\",\"\")))","v":""},"3:30 PM"]
[null,{"$f":"'15-Min All Vehicle'!Z53","v":2050},"3:45-4:45pm","15:45:00","15:59:59.942","16:14:59.971","16:30:00","Menominee",null,null,null,null,null,null,null,null,null,null,null,null,null,null,null,null,"Buffalo",41,"3:45-4:45pm","15:00:00",null,null,null,null,null,null,null,null,null,{"$f":"IF('15-Min All Vehicle'!X53>0,1,0)","v":1},"","",{"$f":"IF(AND(AM130=\"Start\",COUNTIF($AM$91:AM129,\"start\")=0) =TRUE, \"Start #1\", IF(AND(AM130=\"Start\",COUNTIF($AM$91:AM129,\"start\")=1)=TRUE,\"Start #2\", IF(AND(AM130=\"Start\",COUNTIF($AM$91:AM129,\"start\")=2)=TRUE,\"Start #3\",\"\")))","v":""},{"$f":"IF(AND(AN130=\"Finish\",COUNTIF($AM$91:AN129,\"Finish\")=0) =TRUE, \"Finish #1\", IF(AND(AN130=\"Finish\",COUNTIF($AM$91:AN129,\"Finish\")=1)=TRUE,\"Finish #2\", IF(AND(AN130=\"Finish\",COUNTIF($AM$91:AN129,\"Finish\")=2)=TRUE,\"Finish #3\",\"\")))","v":""},"3:45 PM"]
[null,{"$f":"'15-Min All Vehicle'!Z54","v":2172},"4:00-5:00pm","15:59:59.942","16:14:59.971","16:30:00","16:44:59.942","Milwaukee",null,null,null,null,null,null,null,null,null,null,null,null,null,null,null,null,"Burnett",42,"4:00-5:00pm","15:59:59.942",null,null,null,null,null,null,null,null,null,{"$f":"IF('15-Min All Vehicle'!X54>0,1,0)","v":1},"","",{"$f":"IF(AND(AM131=\"Start\",COUNTIF($AM$91:AM130,\"start\")=0) =TRUE, \"Start #1\", IF(AND(AM131=\"Start\",COUNTIF($AM$91:AM130,\"start\")=1)=TRUE,\"Start #2\", IF(AND(AM131=\"Start\",COUNTIF($AM$91:AM130,\"start\")=2)=TRUE,\"Start #3\",\"\")))","v":""},{"$f":"IF(AND(AN131=\"Finish\",COUNTIF($AM$91:AN130,\"Finish\")=0) =TRUE, \"Finish #1\", IF(AND(AN131=\"Finish\",COUNTIF($AM$91:AN130,\"Finish\")=1)=TRUE,\"Finish #2\", IF(AND(AN131=\"Finish\",COUNTIF($AM$91:AN130,\"Finish\")=2)=TRUE,\"Finish #3\",\"\")))","v":""},"4:00 PM"]
[null,{"$f":"'15-Min All Vehicle'!Z55","v":2205},"4:15-5:15pm","16:14:59.971","16:30:00","16:44:59.942","16:59:59.971","Monroe",null,null,null,null,null,null,null,null,null,null,null,null,null,null,null,null,"Chippewa",43,"4:15-5:15pm","15:59:59.942",null,null,null,null,null,null,null,null,null,{"$f":"IF('15-Min All Vehicle'!X55>0,1,0)","v":1},"","",{"$f":"IF(AND(AM132=\"Start\",COUNTIF($AM$91:AM131,\"start\")=0) =TRUE, \"Start #1\", IF(AND(AM132=\"Start\",COUNTIF($AM$91:AM131,\"start\")=1)=TRUE,\"Start #2\", IF(AND(AM132=\"Start\",COUNTIF($AM$91:AM131,\"start\")=2)=TRUE,\"Start #3\",\"\")))","v":""},{"$f":"IF(AND(AN132=\"Finish\",COUNTIF($AM$91:AN131,\"Finish\")=0) =TRUE, \"Finish #1\", IF(AND(AN132=\"Finish\",COUNTIF($AM$91:AN131,\"Finish\")=1)=TRUE,\"Finish #2\", IF(AND(AN132=\"Finish\",COUNTIF($AM$91:AN131,\"Finish\")=2)=TRUE,\"Finish #3\",\"\")))","v":""},"4:15 PM"]
[null,{"$f":"'15-Min All Vehicle'!Z56","v":2241},"4:30-5:30pm","16:30:00","16:44:59.942","16:59:59.971","17:15:00","Oconto",null,null,null,null,null,null,null,null,null,null,null,null,null,null,null,null,"Clark",44,"4:30-5:30pm","15:59:59.942",null,null,null,null,null,null,null,null,null,{"$f":"IF('15-Min All Vehicle'!X56>0,1,0)","v":1},"","",{"$f":"IF(AND(AM133=\"Start\",COUNTIF($AM$91:AM132,\"start\")=0) =TRUE, \"Start #1\", IF(AND(AM133=\"Start\",COUNTIF($AM$91:AM132,\"start\")=1)=TRUE,\"Start #2\", IF(AND(AM133=\"Start\",COUNTIF($AM$91:AM132,\"start\")=2)=TRUE,\"Start #3\",\"\")))","v":""},{"$f":"IF(AND(AN133=\"Finish\",COUNTIF($AM$91:AN132,\"Finish\")=0) =TRUE, \"Finish #1\", IF(AND(AN133=\"Finish\",COUNTIF($AM$91:AN132,\"Finish\")=1)=TRUE,\"Finish #2\", IF(AND(AN133=\"Finish\",COUNTIF($AM$91:AN132,\"Finish\")=2)=TRUE,\"Finish #3\",\"\")))","v":""},"4:30 PM"]
[null,{"$f":"'15-Min All Vehicle'!Z57","v":2118},"4:45-5:45pm","16:44:59.942","16:59:59.971","17:15:00","17:29:59.942","Oneida",null,null,null,null,null,null,null,null,null,null,null,null,null,null,null,null,"Douglas",45,"4:45-5:45pm","15:59:59.942",null,null,null,null,null,null,null,null,null,{"$f":"IF('15-Min All Vehicle'!X57>0,1,0)","v":1},"","",{"$f":"IF(AND(AM134=\"Start\",COUNTIF($AM$91:AM133,\"start\")=0) =TRUE, \"Start #1\", IF(AND(AM134=\"Start\",COUNTIF($AM$91:AM133,\"start\")=1)=TRUE,\"Start #2\", IF(AND(AM134=\"Start\",COUNTIF($AM$91:AM133,\"start\")=2)=TRUE,\"Start #3\",\"\")))","v":""},{"$f":"IF(AND(AN134=\"Finish\",COUNTIF($AM$91:AN133,\"Finish\")=0) =TRUE, \"Finish #1\", IF(AND(AN134=\"Finish\",COUNTIF($AM$91:AN133,\"Finish\")=1)=TRUE,\"Finish #2\", IF(AND(AN134=\"Finish\",COUNTIF($AM$91:AN133,\"Finish\")=2)=TRUE,\"Finish #3\",\"\")))","v":""},"4:45 PM"]
[null,{"$f":"'15-Min All Vehicle'!Z58","v":1923},"5:00-6:00pm","16:59:59.971","17:15:00","17:29:59.942","17:44:59.971","Outagamie",null,null,null,null,null,null,null,null,null,null,null,null,null,null,null,null,"Dunn",46,"5:00-6:00pm","16:59:59.971",null,null,null,null,null,null,null,null,null,{"$f":"IF('15-Min All Vehicle'!X58>0,1,0)","v":1},"","",{"$f":"IF(AND(AM135=\"Start\",COUNTIF($AM$91:AM134,\"start\")=0) =TRUE, \"Start #1\", IF(AND(AM135=\"Start\",COUNTIF($AM$91:AM134,\"start\")=1)=TRUE,\"Start #2\", IF(AND(AM135=\"Start\",COUNTIF($AM$91:AM134,\"start\")=2)=TRUE,\"Start #3\",\"\")))","v":""},{"$f":"IF(AND(AN135=\"Finish\",COUNTIF($AM$91:AN134,\"Finish\")=0) =TRUE, \"Finish #1\", IF(AND(AN135=\"Finish\",COUNTIF($AM$91:AN134,\"Finish\")=1)=TRUE,\"Finish #2\", IF(AND(AN135=\"Finish\",COUNTIF($AM$91:AN134,\"Finish\")=2)=TRUE,\"Finish #3\",\"\")))","v":""},"5:00 PM"]
[null,{"$f":"'15-Min All Vehicle'!Z59","v":""},"5:15-6:15pm","17:15:00","17:29:59.942","17:44:59.971","18:00:00","Ozaukee",null,null,null,null,null,null,null,null,null,null,null,null,null,null,null,null,"Eau Claire",47,"5:15-6:15pm","16:59:59.971",null,null,null,null,null,null,null,null,null,{"$f":"IF('15-Min All Vehicle'!X59>0,1,0)","v":1},"","",{"$f":"IF(AND(AM136=\"Start\",COUNTIF($AM$91:AM135,\"start\")=0) =TRUE, \"Start #1\", IF(AND(AM136=\"Start\",COUNTIF($AM$91:AM135,\"start\")=1)=TRUE,\"Start #2\", IF(AND(AM136=\"Start\",COUNTIF($AM$91:AM135,\"start\")=2)=TRUE,\"Start #3\",\"\")))","v":""},{"$f":"IF(AND(AN136=\"Finish\",COUNTIF($AM$91:AN135,\"Finish\")=0) =TRUE, \"Finish #1\", IF(AND(AN136=\"Finish\",COUNTIF($AM$91:AN135,\"Finish\")=1)=TRUE,\"Finish #2\", IF(AND(AN136=\"Finish\",COUNTIF($AM$91:AN135,\"Finish\")=2)=TRUE,\"Finish #3\",\"\")))","v":""},"5:15 PM"]
[null,{"$f":"'15-Min All Vehicle'!Z60","v":""},"5:30-6:30pm","17:29:59.942","17:44:59.971","18:00:00","18:14:59.942","Pepin",null,null,null,null,null,null,null,null,null,null,null,null,null,null,null,null,"Jackson",48,"5:30-6:30pm","16:59:59.971",null,null,null,null,null,null,null,null,null,{"$f":"IF('15-Min All Vehicle'!X60>0,1,0)","v":1},"","",{"$f":"IF(AND(AM137=\"Start\",COUNTIF($AM$91:AM136,\"start\")=0) =TRUE, \"Start #1\", IF(AND(AM137=\"Start\",COUNTIF($AM$91:AM136,\"start\")=1)=TRUE,\"Start #2\", IF(AND(AM137=\"Start\",COUNTIF($AM$91:AM136,\"start\")=2)=TRUE,\"Start #3\",\"\")))","v":""},{"$f":"IF(AND(AN137=\"Finish\",COUNTIF($AM$91:AN136,\"Finish\")=0) =TRUE, \"Finish #1\", IF(AND(AN137=\"Finish\",COUNTIF($AM$91:AN136,\"Finish\")=1)=TRUE,\"Finish #2\", IF(AND(AN137=\"Finish\",COUNTIF($AM$91:AN136,\"Finish\")=2)=TRUE,\"Finish #3\",\"\")))","v":""},"5:30 PM"]
[null,{"$f":"'15-Min All Vehicle'!Z61","v":""},"5:45-6:45pm","17:44:59.971","18:00:00","18:14:59.942","18:29:59.971","Pierce",null,null,null,null,null,null,null,null,null,null,null,null,null,null,null,null,"Pepin",49,"5:45-6:45pm","16:59:59.971",null,null,null,null,null,null,null,null,null,{"$f":"IF('15-Min All Vehicle'!X61>0,1,0)","v":1},"","",{"$f":"IF(AND(AM138=\"Start\",COUNTIF($AM$91:AM137,\"start\")=0) =TRUE, \"Start #1\", IF(AND(AM138=\"Start\",COUNTIF($AM$91:AM137,\"start\")=1)=TRUE,\"Start #2\", IF(AND(AM138=\"Start\",COUNTIF($AM$91:AM137,\"start\")=2)=TRUE,\"Start #3\",\"\")))","v":""},{"$f":"IF(AND(AN138=\"Finish\",COUNTIF($AM$91:AN137,\"Finish\")=0) =TRUE, \"Finish #1\", IF(AND(AN138=\"Finish\",COUNTIF($AM$91:AN137,\"Finish\")=1)=TRUE,\"Finish #2\", IF(AND(AN138=\"Finish\",COUNTIF($AM$91:AN137,\"Finish\")=2)=TRUE,\"Finish #3\",\"\")))","v":""},"5:45 PM"]
[null,{"$f":"'15-Min All Vehicle'!Z62","v":""},"6:00-7:00pm","18:00:00","18:14:59.942","18:29:59.971","18:45:00","Polk",null,null,null,null,null,null,null,null,null,null,null,null,null,null,null,null,"Pierce",50,"6:00-7:00pm","18:00:00",null,null,null,null,null,null,null,null,null,{"$f":"IF('15-Min All Vehicle'!X62>0,1,0)","v":0},"","Finish",{"$f":"IF(AND(AM139=\"Start\",COUNTIF($AM$91:AM138,\"start\")=0) =TRUE, \"Start #1\", IF(AND(AM139=\"Start\",COUNTIF($AM$91:AM138,\"start\")=1)=TRUE,\"Start #2\", IF(AND(AM139=\"Start\",COUNTIF($AM$91:AM138,\"start\")=2)=TRUE,\"Start #3\",\"\")))","v":""},{"$f":"IF(AND(AN139=\"Finish\",COUNTIF($AM$91:AN138,\"Finish\")=0) =TRUE, \"Finish #1\", IF(AND(AN139=\"Finish\",COUNTIF($AM$91:AN138,\"Finish\")=1)=TRUE,\"Finish #2\", IF(AND(AN139=\"Finish\",COUNTIF($AM$91:AN138,\"Finish\")=2)=TRUE,\"Finish #3\",\"\")))","v":"Finish #1"},"6:00 PM"]
[null,{"$f":"'15-Min All Vehicle'!Z63","v":""},"6:15-7:15pm","18:14:59.942","18:29:59.971","18:45:00","18:59:59.942","Portage",null,null,null,null,null,null,null,null,null,null,null,null,null,null,null,null,"Polk",51,"6:15-7:15pm","18:00:00",null,null,null,null,null,null,null,null,null,{"$f":"IF('15-Min All Vehicle'!X63>0,1,0)","v":0},"","",{"$f":"IF(AND(AM140=\"Start\",COUNTIF($AM$91:AM139,\"start\")=0) =TRUE, \"Start #1\", IF(AND(AM140=\"Start\",COUNTIF($AM$91:AM139,\"start\")=1)=TRUE,\"Start #2\", IF(AND(AM140=\"Start\",COUNTIF($AM$91:AM139,\"start\")=2)=TRUE,\"Start #3\",\"\")))","v":""},{"$f":"IF(AND(AN140=\"Finish\",COUNTIF($AM$91:AN139,\"Finish\")=0) =TRUE, \"Finish #1\", IF(AND(AN140=\"Finish\",COUNTIF($AM$91:AN139,\"Finish\")=1)=TRUE,\"Finish #2\", IF(AND(AN140=\"Finish\",COUNTIF($AM$91:AN139,\"Finish\")=2)=TRUE,\"Finish #3\",\"\")))","v":""},"6:15 PM"]
[null,{"$f":"'15-Min All Vehicle'!Z64","v":""},"6:30-7:30pm","18:29:59.971","18:45:00","18:59:59.942","19:14:59.971","Price",null,null,null,null,null,null,null,null,null,null,null,null,null,null,null,null,"Rusk",52,"6:30-7:30pm","18:00:00",null,null,null,null,null,null,null,null,null,{"$f":"IF('15-Min All Vehicle'!X64>0,1,0)","v":0},"","",{"$f":"IF(AND(AM141=\"Start\",COUNTIF($AM$91:AM140,\"start\")=0) =TRUE, \"Start #1\", IF(AND(AM141=\"Start\",COUNTIF($AM$91:AM140,\"start\")=1)=TRUE,\"Start #2\", IF(AND(AM141=\"Start\",COUNTIF($AM$91:AM140,\"start\")=2)=TRUE,\"Start #3\",\"\")))","v":""},{"$f":"IF(AND(AN141=\"Finish\",COUNTIF($AM$91:AN140,\"Finish\")=0) =TRUE, \"Finish #1\", IF(AND(AN141=\"Finish\",COUNTIF($AM$91:AN140,\"Finish\")=1)=TRUE,\"Finish #2\", IF(AND(AN141=\"Finish\",COUNTIF($AM$91:AN140,\"Finish\")=2)=TRUE,\"Finish #3\",\"\")))","v":""},"6:30 PM"]
[null,{"$f":"'15-Min All Vehicle'!Z65","v":""},"6:45-7:45pm","18:45:00","18:59:59.942","19:14:59.971","19:30:00","Racine",null,null,null,null,null,null,null,null,null,null,null,null,null,null,null,null,"Sawyer",53,"6:45-7:45pm","18:00:00",null,null,null,null,null,null,null,null,null,{"$f":"IF('15-Min All Vehicle'!X65>0,1,0)","v":0},"","",{"$f":"IF(AND(AM142=\"Start\",COUNTIF($AM$91:AM141,\"start\")=0) =TRUE, \"Start #1\", IF(AND(AM142=\"Start\",COUNTIF($AM$91:AM141,\"start\")=1)=TRUE,\"Start #2\", IF(AND(AM142=\"Start\",COUNTIF($AM$91:AM141,\"start\")=2)=TRUE,\"Start #3\",\"\")))","v":""},{"$f":"IF(AND(AN142=\"Finish\",COUNTIF($AM$91:AN141,\"Finish\")=0) =TRUE, \"Finish #1\", IF(AND(AN142=\"Finish\",COUNTIF($AM$91:AN141,\"Finish\")=1)=TRUE,\"Finish #2\", IF(AND(AN142=\"Finish\",COUNTIF($AM$91:AN141,\"Finish\")=2)=TRUE,\"Finish #3\",\"\")))","v":""},"6:45 PM"]
[null,{"$f":"'15-Min All Vehicle'!Z66","v":""},"7:00-8:00pm","18:59:59.942","19:14:59.971","19:30:00","19:44:59.942","Richland",null,null,null,null,null,null,null,null,null,null,null,null,null,null,null,null,"St. Croix",54,"7:00-8:00pm","18:59:59.942",null,null,null,null,null,null,null,null,null,{"$f":"IF('15-Min All Vehicle'!X66>0,1,0)","v":0},"",{"$f":"IF(AL143-AL142 = (-1),\"Finish\",\"\")","v":""},{"$f":"IF(AND(AM143=\"Start\",COUNTIF($AM$91:AM142,\"start\")=0) =TRUE, \"Start #1\", IF(AND(AM143=\"Start\",COUNTIF($AM$91:AM142,\"start\")=1)=TRUE,\"Start #2\", IF(AND(AM143=\"Start\",COUNTIF($AM$91:AM142,\"start\")=2)=TRUE,\"Start #3\",\"\")))","v":""},{"$f":"IF(AND(AN143=\"Finish\",COUNTIF($AM$91:AN142,\"Finish\")=0) =TRUE, \"Finish #1\", IF(AND(AN143=\"Finish\",COUNTIF($AM$91:AN142,\"Finish\")=1)=TRUE,\"Finish #2\", IF(AND(AN143=\"Finish\",COUNTIF($AM$91:AN142,\"Finish\")=2)=TRUE,\"Finish #3\",\"\")))","v":""},"7:00 PM"]
[null,{"$f":"'15-Min All Vehicle'!Z67","v":""},"7:15-8:15pm","19:14:59.971","19:30:00","19:44:59.942","19:59:59.971","Rock",null,null,null,null,null,null,null,null,null,null,null,null,null,null,null,null,"Taylor",55,"7:15-8:15pm","18:59:59.942",null,null,null,null,null,null,null,null,null,{"$f":"IF('15-Min All Vehicle'!X67>0,1,0)","v":0},"","",{"$f":"IF(AND(AM144=\"Start\",COUNTIF($AM$91:AM143,\"start\")=0) =TRUE, \"Start #1\", IF(AND(AM144=\"Start\",COUNTIF($AM$91:AM143,\"start\")=1)=TRUE,\"Start #2\", IF(AND(AM144=\"Start\",COUNTIF($AM$91:AM143,\"start\")=2)=TRUE,\"Start #3\",\"\")))","v":""},{"$f":"IF(AND(AN144=\"Finish\",COUNTIF($AM$91:AN143,\"Finish\")=0) =TRUE, \"Finish #1\", IF(AND(AN144=\"Finish\",COUNTIF($AM$91:AN143,\"Finish\")=1)=TRUE,\"Finish #2\", IF(AND(AN144=\"Finish\",COUNTIF($AM$91:AN143,\"Finish\")=2)=TRUE,\"Finish #3\",\"\")))","v":""},"7:15 PM"]
[null,{"$f":"'15-Min All Vehicle'!Z68","v":""},"7:30-8:30pm","19:30:00","19:44:59.942","19:59:59.971","20:15:00","Rusk",null,null,null,null,null,null,null,null,null,null,null,null,null,null,null,null,"Trempealeau",56,"7:30-8:30pm","18:59:59.942",null,null,null,null,null,null,null,null,null,{"$f":"IF('15-Min All Vehicle'!X68>0,1,0)","v":0},"","",{"$f":"IF(AND(AM145=\"Start\",COUNTIF($AM$91:AM144,\"start\")=0) =TRUE, \"Start #1\", IF(AND(AM145=\"Start\",COUNTIF($AM$91:AM144,\"start\")=1)=TRUE,\"Start #2\", IF(AND(AM145=\"Start\",COUNTIF($AM$91:AM144,\"start\")=2)=TRUE,\"Start #3\",\"\")))","v":""},{"$f":"IF(AND(AN145=\"Finish\",COUNTIF($AM$91:AN144,\"Finish\")=0) =TRUE, \"Finish #1\", IF(AND(AN145=\"Finish\",COUNTIF($AM$91:AN144,\"Finish\")=1)=TRUE,\"Finish #2\", IF(AND(AN145=\"Finish\",COUNTIF($AM$91:AN144,\"Finish\")=2)=TRUE,\"Finish #3\",\"\")))","v":""},"7:30 PM"]
[null,{"$f":"'15-Min All Vehicle'!Z69","v":""},"7:45-8:45pm","19:44:59.942","19:59:59.971","20:15:00","20:29:59.942","St. Croix",null,null,null,null,null,null,null,null,null,null,null,null,null,null,null,null,"Washburn",57,"7:45-8:45pm","18:59:59.942",null,null,null,null,null,null,null,null,null,{"$f":"IF('15-Min All Vehicle'!X69>0,1,0)","v":0},"","",{"$f":"IF(AND(AM146=\"Start\",COUNTIF($AM$91:AM145,\"start\")=0) =TRUE, \"Start #1\", IF(AND(AM146=\"Start\",COUNTIF($AM$91:AM145,\"start\")=1)=TRUE,\"Start #2\", IF(AND(AM146=\"Start\",COUNTIF($AM$91:AM145,\"start\")=2)=TRUE,\"Start #3\",\"\")))","v":""},{"$f":"IF(AND(AN146=\"Finish\",COUNTIF($AM$91:AN145,\"Finish\")=0) =TRUE, \"Finish #1\", IF(AND(AN146=\"Finish\",COUNTIF($AM$91:AN145,\"Finish\")=1)=TRUE,\"Finish #2\", IF(AND(AN146=\"Finish\",COUNTIF($AM$91:AN145,\"Finish\")=2)=TRUE,\"Finish #3\",\"\")))","v":""},"7:45 PM"]
[null,{"$f":"'15-Min All Vehicle'!Z70","v":""},"8:00-9:00pm","19:59:59.971","20:15:00","20:29:59.942","20:44:59.971","Sauk",null,null,null,null,null,null,null,null,null,null,null,null,null,null,null,null,"Columbia",58,"8:00-9:00pm","19:59:59.971",null,null,null,null,null,null,null,null,null,{"$f":"IF('15-Min All Vehicle'!X70>0,1,0)","v":0},"","",{"$f":"IF(AND(AM147=\"Start\",COUNTIF($AM$91:AM146,\"start\")=0) =TRUE, \"Start #1\", IF(AND(AM147=\"Start\",COUNTIF($AM$91:AM146,\"start\")=1)=TRUE,\"Start #2\", IF(AND(AM147=\"Start\",COUNTIF($AM$91:AM146,\"start\")=2)=TRUE,\"Start #3\",\"\")))","v":""},{"$f":"IF(AND(AN147=\"Finish\",COUNTIF($AM$91:AN146,\"Finish\")=0) =TRUE, \"Finish #1\", IF(AND(AN147=\"Finish\",COUNTIF($AM$91:AN146,\"Finish\")=1)=TRUE,\"Finish #2\", IF(AND(AN147=\"Finish\",COUNTIF($AM$91:AN146,\"Finish\")=2)=TRUE,\"Finish #3\",\"\")))","v":""},"8:00 PM"]
[null,{"$f":"'15-Min All Vehicle'!Z71","v":""},"8:15-9:15pm","20:15:00","20:29:59.942","20:44:59.971","21:00:00","Sawyer",null,null,null,null,null,null,null,null,null,null,null,null,null,null,null,null,"Crawford",59,"8:15-9:15pm","19:59:59.971",null,null,null,null,null,null,null,null,null,{"$f":"IF('15-Min All Vehicle'!X71>0,1,0)","v":0},"","",{"$f":"IF(AND(AM148=\"Start\",COUNTIF($AM$91:AM147,\"start\")=0) =TRUE, \"Start #1\", IF(AND(AM148=\"Start\",COUNTIF($AM$91:AM147,\"start\")=1)=TRUE,\"Start #2\", IF(AND(AM148=\"Start\",COUNTIF($AM$91:AM147,\"start\")=2)=TRUE,\"Start #3\",\"\")))","v":""},{"$f":"IF(AND(AN148=\"Finish\",COUNTIF($AM$91:AN147,\"Finish\")=0) =TRUE, \"Finish #1\", IF(AND(AN148=\"Finish\",COUNTIF($AM$91:AN147,\"Finish\")=1)=TRUE,\"Finish #2\", IF(AND(AN148=\"Finish\",COUNTIF($AM$91:AN147,\"Finish\")=2)=TRUE,\"Finish #3\",\"\")))","v":""},"8:15 PM"]
[null,{"$f":"'15-Min All Vehicle'!Z72","v":""},"8:30-9:30pm","20:29:59.942","20:44:59.971","21:00:00","21:14:59.942","Shawano",null,null,null,null,null,null,null,null,null,null,null,null,null,null,null,null,"Dane",60,"8:30-9:30pm","19:59:59.971",null,null,null,null,null,null,null,null,null,{"$f":"IF('15-Min All Vehicle'!X72>0,1,0)","v":0},"","",{"$f":"IF(AND(AM149=\"Start\",COUNTIF($AM$91:AM148,\"start\")=0) =TRUE, \"Start #1\", IF(AND(AM149=\"Start\",COUNTIF($AM$91:AM148,\"start\")=1)=TRUE,\"Start #2\", IF(AND(AM149=\"Start\",COUNTIF($AM$91:AM148,\"start\")=2)=TRUE,\"Start #3\",\"\")))","v":""},{"$f":"IF(AND(AN149=\"Finish\",COUNTIF($AM$91:AN148,\"Finish\")=0) =TRUE, \"Finish #1\", IF(AND(AN149=\"Finish\",COUNTIF($AM$91:AN148,\"Finish\")=1)=TRUE,\"Finish #2\", IF(AND(AN149=\"Finish\",COUNTIF($AM$91:AN148,\"Finish\")=2)=TRUE,\"Finish #3\",\"\")))","v":""},"8:30 PM"]
[null,{"$f":"'15-Min All Vehicle'!Z73","v":""},"8:45-9:45pm","20:44:59.971","21:00:00","21:14:59.942","21:29:59.971","Sheboygan",null,null,null,null,null,null,null,null,null,null,null,null,null,null,null,null,"Dodge",61,"8:45-9:45pm","19:59:59.971",null,null,null,null,null,null,null,null,null,{"$f":"IF('15-Min All Vehicle'!X73>0,1,0)","v":0},"","",{"$f":"IF(AND(AM150=\"Start\",COUNTIF($AM$91:AM149,\"start\")=0) =TRUE, \"Start #1\", IF(AND(AM150=\"Start\",COUNTIF($AM$91:AM149,\"start\")=1)=TRUE,\"Start #2\", IF(AND(AM150=\"Start\",COUNTIF($AM$91:AM149,\"start\")=2)=TRUE,\"Start #3\",\"\")))","v":""},{"$f":"IF(AND(AN150=\"Finish\",COUNTIF($AM$91:AN149,\"Finish\")=0) =TRUE, \"Finish #1\", IF(AND(AN150=\"Finish\",COUNTIF($AM$91:AN149,\"Finish\")=1)=TRUE,\"Finish #2\", IF(AND(AN150=\"Finish\",COUNTIF($AM$91:AN149,\"Finish\")=2)=TRUE,\"Finish #3\",\"\")))","v":""},"8:45 PM"]
[null,{"$f":"'15-Min All Vehicle'!Z74","v":""},"9:00-10:00pm","21:00:00","21:14:59.942","21:29:59.971","21:45:00","Taylor",null,null,null,null,null,null,null,null,null,null,null,null,null,null,null,null,"Grant",62,"9:00-10:00pm","21:00:00",null,null,null,null,null,null,null,null,null,{"$f":"IF('15-Min All Vehicle'!X74>0,1,0)","v":0},"","",{"$f":"IF(AND(AM151=\"Start\",COUNTIF($AM$91:AM150,\"start\")=0) =TRUE, \"Start #1\", IF(AND(AM151=\"Start\",COUNTIF($AM$91:AM150,\"start\")=1)=TRUE,\"Start #2\", IF(AND(AM151=\"Start\",COUNTIF($AM$91:AM150,\"start\")=2)=TRUE,\"Start #3\",\"\")))","v":""},{"$f":"IF(AND(AN151=\"Finish\",COUNTIF($AM$91:AN150,\"Finish\")=0) =TRUE, \"Finish #1\", IF(AND(AN151=\"Finish\",COUNTIF($AM$91:AN150,\"Finish\")=1)=TRUE,\"Finish #2\", IF(AND(AN151=\"Finish\",COUNTIF($AM$91:AN150,\"Finish\")=2)=TRUE,\"Finish #3\",\"\")))","v":""},"9:00 PM"]
[null,null,null,"21:14:59.942","21:29:59.971","21:45:00","21:59:59.942","Trempealeau",null,null,null,null,null,null,null,null,null,null,null,null,null,null,null,null,"Green",63,null,null,null,null,null,null,null,null,null,null,null,{"$f":"IF('15-Min All Vehicle'!X75>0,1,0)","v":0},"","",{"$f":"IF(AND(AM152=\"Start\",COUNTIF($AM$91:AM151,\"start\")=0) =TRUE, \"Start #1\", IF(AND(AM152=\"Start\",COUNTIF($AM$91:AM151,\"start\")=1)=TRUE,\"Start #2\", IF(AND(AM152=\"Start\",COUNTIF($AM$91:AM151,\"start\")=2)=TRUE,\"Start #3\",\"\")))","v":""},{"$f":"IF(AND(AN152=\"Finish\",COUNTIF($AM$91:AN151,\"Finish\")=0) =TRUE, \"Finish #1\", IF(AND(AN152=\"Finish\",COUNTIF($AM$91:AN151,\"Finish\")=1)=TRUE,\"Finish #2\", IF(AND(AN152=\"Finish\",COUNTIF($AM$91:AN151,\"Finish\")=2)=TRUE,\"Finish #3\",\"\")))","v":""},"9:15 PM"]
[null,null,null,"21:29:59.971","21:45:00","21:59:59.942",null,"Vernon",null,null,null,null,null,null,null,null,null,null,null,null,null,null,null,null,"Iowa",64,null,null,null,null,null,null,null,null,null,null,null,{"$f":"IF('15-Min All Vehicle'!X76>0,1,0)","v":0},"","",{"$f":"IF(AND(AM153=\"Start\",COUNTIF($AM$91:AM152,\"start\")=0) =TRUE, \"Start #1\", IF(AND(AM153=\"Start\",COUNTIF($AM$91:AM152,\"start\")=1)=TRUE,\"Start #2\", IF(AND(AM153=\"Start\",COUNTIF($AM$91:AM152,\"start\")=2)=TRUE,\"Start #3\",\"\")))","v":""},{"$f":"IF(AND(AN153=\"Finish\",COUNTIF($AM$91:AN152,\"Finish\")=0) =TRUE, \"Finish #1\", IF(AND(AN153=\"Finish\",COUNTIF($AM$91:AN152,\"Finish\")=1)=TRUE,\"Finish #2\", IF(AND(AN153=\"Finish\",COUNTIF($AM$91:AN152,\"Finish\")=2)=TRUE,\"Finish #3\",\"\")))","v":""},"9:30 PM"]
[null,null,null,"21:45:00","21:59:59.942",null,null,"Vilas",null,null,null,null,null,null,null,null,null,null,null,null,null,null,null,null,"Jefferson",65,null,null,null,null,null,null,null,null,null,null,null,{"$f":"IF('15-Min All Vehicle'!X77>0,1,0)","v":0},"","",{"$f":"IF(AND(AM154=\"Start\",COUNTIF($AM$91:AM153,\"start\")=0) =TRUE, \"Start #1\", IF(AND(AM154=\"Start\",COUNTIF($AM$91:AM153,\"start\")=1)=TRUE,\"Start #2\", IF(AND(AM154=\"Start\",COUNTIF($AM$91:AM153,\"start\")=2)=TRUE,\"Start #3\",\"\")))","v":""},{"$f":"IF(AND(AN154=\"Finish\",COUNTIF($AM$91:AN153,\"Finish\")=0) =TRUE, \"Finish #1\", IF(AND(AN154=\"Finish\",COUNTIF($AM$91:AN153,\"Finish\")=1)=TRUE,\"Finish #2\", IF(AND(AN154=\"Finish\",COUNTIF($AM$91:AN153,\"Finish\")=2)=TRUE,\"Finish #3\",\"\")))","v":""},"9:45 PM"]
[null,null,null,"21:59:59.942",null,null,null,"Walworth",null,null,null,null,null,null,null,null,null,null,null,null,null,null,null,null,"Juneau",66,null,null,null,null,null,null,null,null,null,null,null,0,"","",{"$f":"IF(AND(AM155=\"Start\",COUNTIF($AM$91:AM154,\"start\")=0) =TRUE, \"Start #1\", IF(AND(AM155=\"Start\",COUNTIF($AM$91:AM154,\"start\")=1)=TRUE,\"Start #2\", IF(AND(AM155=\"Start\",COUNTIF($AM$91:AM154,\"start\")=2)=TRUE,\"Start #3\",\"\")))","v":""},{"$f":"IF(AND(AN155=\"Finish\",COUNTIF($AM$91:AN154,\"Finish\")=0) =TRUE, \"Finish #1\", IF(AND(AN155=\"Finish\",COUNTIF($AM$91:AN154,\"Finish\")=1)=TRUE,\"Finish #2\", IF(AND(AN155=\"Finish\",COUNTIF($AM$91:AN154,\"Finish\")=2)=TRUE,\"Finish #3\",\"\")))","v":""},"10:00 PM"]
[null,null,null,null,null,null,null,"Washburn",null,null,null,null,null,null,null,null,null,null,null,null,null,null,null,null,"La Crosse",67,null,null,null,null,null,null,null,null,null,null,null,{"$f":"SUM(AL91:AL154)/4","v":12},{"$f":"COUNTIF(AM91:AM155,\"Start\")","v":1},{"$f":"COUNTIF(AN91:AN155,\"Finish\")","v":1}]
[null,null,null,null,null,null,null,"Washington",null,null,null,null,null,null,null,null,null,null,null,null,null,null,null,null,"Lafayette",68]
[null,null,null,null,null,null,null,"Waukesha",null,null,null,null,null,null,null,null,null,null,null,null,null,null,null,null,"Monroe",69]
[null,null,null,null,null,null,null,"Waupaca",null,null,null,null,null,null,null,null,null,null,null,null,null,null,null,null,"Richland",70]
[null,null,null,null,null,null,null,"Waushara",null,null,null,null,null,null,null,null,null,null,null,null,null,null,null,null,"Rock",71]
[null,null,null,null,null,null,null,"Winnebago",null,null,null,null,null,null,null,null,null,null,null,null,null,null,null,null,"Sauk",72]
[null,null,null,null,null,null,null,"Wood",null,null,null,null,null,null,null,null,null,null,null,null,null,null,null,null,"Vernon",73]

{"sheet":"Peak Hour Graphical Summary","index":2,"n_rows":77,"n_cols":22,"rows_kept":77,"cut":false,"hidden":false,"merged":[[6,13,7,21],[12,2,12,5],[36,2,36,5],[60,2,60,5],[2,19,2,21],[3,19,3,21],[10,2,10,5],[10,7,10,15],[10,17,10,20],[11,2,11,5],[11,10,11,12],[11,17,11,20],[12,7,12,10],[13,12,13,15],[14,12,14,15],[15,2,23,2],[15,4,18,5],[15,6,18,6],[15,18,18,18],[15,20,23,20],[17,3,21,3],[17,19,21,19],[20,4,23,4],[20,16,23,16],[20,17,23,18],[37,12,37,15],[24,7,24,10],[25,7,25,10],[26,12,26,15],[27,10,27,12],[28,7,28,15],[34,7,34,15],[34,17,34,20],[35,2,35,5],[35,10,35,12],[35,17,35,20],[36,7,36,10],[34,2,34,5],[49,7,49,10],[50,12,50,15],[51,10,51,12],[39,18,42,18],[39,20,47,20],[41,19,45,19],[44,16,47,16],[44,17,47,18],[39,2,47,2],[39,4,42,5],[39,6,42,6],[48,7,48,10],[41,3,45,3],[44,4,47,4],[63,2,71,2],[63,4,66,5],[63,6,66,6],[58,2,58,5],[58,7,58,15],[59,2,59,5],[59,10,59,12],[65,3,69,3],[65,19,69,19],[68,4,71,4],[68,16,71,16],[68,17,71,18],[2,17,2,18],[3,17,3,18],[5,13,5,21],[63,18,66,18],[63,20,71,20],[60,7,60,10],[61,12,61,15],[62,12,62,15],[58,17,58,20],[59,17,59,20],[52,7,52,15],[38,12,38,15],[76,7,76,15],[72,7,72,10],[73,7,73,10],[74,12,74,15],[75,10,75,12],[1,11,1,12],[2,11,2,12],[2,13,2,16],[3,11,3,16],[0,1,3,9]]}
[null,"Intersection Traffic Volume Report"]
[null,null,null,null,null,null,null,null,null,null,null,"Count Basics",null,null,null,null,null,null,null,null,null,"Page 2 of 11"]
[null,null,null,null,null,null,null,null,null,null,null,{"$f":"'Base Information'!$L$3","v":"Start Date:"},null,{"$f":"'Base Information'!$N$3","v":"2011-12-06"},null,null,null,{"$f":"'Base Information'!R3","v":"Weekday"},null,{"$f":"'Base Information'!U3","v":"Schools in Session"}]
[null,null,null,null,null,null,null,null,null,null,null,{"$f":"'Base Information'!$L$4","v":"Total Number of Hours Counted: 12"},null,null,null,null,null,{"$f":"'Base Information'!R4","v":"Non-Holiday"},null,{"$f":"'Base Information'!U4","v":"No Special Events"}]
[null,"Peak Hour Volume Graphical Summary"]
[null,null,null,null,null,null,null,null,null,null,null,null,null,"All Motor Vehicles"]
[null,{"$f":"'Base Information'!E7","v":"441 NB ON RAMP and CTH OO (Northland Ave)"}]
[]
[null,"AM Peak Hour Summary"]
[]
[null,null,"AM PEAK HOUR",null,null,null,null,{"$f":"'Base Information'!$D$14","v":"441 NB ON RAMP"},null,null,null,null,null,null,null,null,null,"TOTAL ENTERING VOLUME"]
[null,null,{"$f":"'Base Information'!$N$18","v":"7:15-8:15am"},null,null,null,null,"PED:",{"$f":"'Peak Hour Volume Summary'!D64","v":0},null,{"$f":"H13+M14","v":122},null,null,null,"BIKE:",{"$f":"'Peak Hour Volume Summary'!F64","v":0},null,{"$f":"H13+S16+M27+E21","v":2223}]
[null,null,{"$f":"'Base Information'!$O$12","v":"2011-12-06"},null,null,null,null,{"$f":"SUM(H14:K14)","v":0}]
[null,null,null,null,null,null,null,{"$f":"'Peak Hour Volume Summary'!D18","v":0},{"$f":"'Peak Hour Volume Summary'!E18","v":0},{"$f":"'Peak Hour Volume Summary'!F18","v":0},{"$f":"'Peak Hour Volume Summary'!G18","v":0},null,{"$f":"K14+R16+O26+F22","v":122}]
[null,null,null,null,null,null,null,8,"$",9,"M",null,"#"]
[null,null,{"$f":"'Base Information'!$D$17","v":"CTH OO (Northland Ave)"},"PED:",{"$f":"H14+R17+N26+F21","v":1677},null,"!",null,null,null,null,null,null,null,null,null,"<",{"$f":"'Peak Hour Volume Summary'!I18","v":88},{"$f":"SUM(R16:R19)","v":910},"PED:",{"$f":"'Base Information'!$D$15","v":"CTH OO (Northland Ave)"}]
[null,null,null,{"$f":"'Peak Hour Volume Summary'!S64","v":0},null,null,null,null,null,null,null,null,null,null,null,null,"!",{"$f":"'Peak Hour Volume Summary'!J18","v":822},null,{"$f":"'Peak Hour Volume Summary'!I64","v":0}]
[null,null,null,{"$f":"E16+E21","v":1888},null,null,null,null,null,null,null,null,null,null,null,null,">",{"$f":"'Peak Hour Volume Summary'!K18","v":0},null,{"$f":"S16+R21","v":1334}]
[null,null,null,null,null,null,null,null,null,null,null,null,null,null,null,null,"N",{"$f":"'Peak Hour Volume Summary'!L18","v":0}]
[null,null,null,null,null,null,null,null,null,null,null,{"$f":"'Base Information'!$J$13","v":"↑"}]
[null,null,null,null,{"$f":"SUM(F21:F24)","v":211},{"$f":"'Peak Hour Volume Summary'!V18","v":0},"O",null,null,null,null,"North",null,null,null,null,"\"",{"$f":"P26+F23+J14+R19","v":424}]
[null,null,null,null,null,{"$f":"'Peak Hour Volume Summary'!U18","v":33},"="]
[null,null,null,"BIKE:",null,{"$f":"'Peak Hour Volume Summary'!T18","v":178},"\"",null,null,null,null,null,null,null,null,null,null,null,null,"BIKE:"]
[null,null,null,{"$f":"'Peak Hour Volume Summary'!U64","v":0},null,{"$f":"'Peak Hour Volume Summary'!S18","v":0},"?",null,null,null,null,null,null,null,null,null,null,null,null,{"$f":"'Peak Hour Volume Summary'!K64","v":0}]
[null,null,null,null,null,null,null,"$",null,null,null,null,"L",":","#",";"]
[null,null,null,null,null,null,null,{"$f":"F24+I14+R18+M26","v":0},null,null,null,null,{"$f":"'Peak Hour Volume Summary'!Q18","v":0},{"$f":"'Peak Hour Volume Summary'!P18","v":855},{"$f":"'Peak Hour Volume Summary'!O18","v":1},{"$f":"'Peak Hour Volume Summary'!N18","v":246}]
[null,null,null,null,null,null,null,null,null,null,null,null,{"$f":"SUM(M26:P26)","v":1102}]
[null,null,null,null,null,null,null,"PED:",{"$f":"'Peak Hour Volume Summary'!N64","v":0},null,{"$f":"H26+M27","v":1102},null,null,null,"BIKE:",{"$f":"'Peak Hour Volume Summary'!P64","v":0}]
[null,null,null,null,null,null,null,{"$f":"'Base Information'!$D$16","v":"441 NB OFF RAMP"}]
[]
[]
[]
[null,"Midday (MD) Peak Hour Summary"]
[]
[null,null,"MD PEAK HOUR",null,null,null,null,{"$f":"'Base Information'!$D$14","v":"441 NB ON RAMP"},null,null,null,null,null,null,null,null,null,"TOTAL ENTERING VOLUME"]
[null,null,{"$f":"'Base Information'!$Q$18","v":"1:00-2:00pm"},null,null,null,null,"PED:",{"$f":"'Peak Hour Volume Summary'!D70","v":0},null,{"$f":"H37+M38","v":86},null,null,null,"BIKE:",{"$f":"'Peak Hour Volume Summary'!F70","v":0},null,{"$f":"H37+S40+M51+E45","v":1488}]
[null,null,{"$f":"IF($R$36=0,\"N/A\",IF('Base Information'!$O$12='Base Information'!$O$14,'Base Information'!$O$12,IF(ISBLANK('Base Information'!$O$13)=TRUE,\"Split between AM/PM count dates\",'Base Information'!$O$13)))","v":"2011-12-06"},null,null,null,null,{"$f":"SUM(H38:K38)","v":0}]
[null,null,null,null,null,null,null,{"$f":"'Peak Hour Volume Summary'!D33","v":0},{"$f":"'Peak Hour Volume Summary'!E33","v":0},{"$f":"'Peak Hour Volume Summary'!F33","v":0},{"$f":"'Peak Hour Volume Summary'!G33","v":0},null,{"$f":"K38+R40+O50+F46","v":86}]
[null,null,null,null,null,null,null,8,"$",9,"M",null,"#"]
[null,null,{"$f":"'Base Information'!$D$17","v":"CTH OO (Northland Ave)"},"PED:",{"$f":"H38+R41+N50+F45","v":858},null,"!",null,null,null,null,null,null,null,null,null,"<",{"$f":"'Peak Hour Volume Summary'!I33","v":50},{"$f":"SUM(R40:R43)","v":491},"PED:",{"$f":"'Base Information'!$D$15","v":"CTH OO (Northland Ave)"}]
[null,null,null,{"$f":"'Peak Hour Volume Summary'!S70","v":0},null,null,null,null,null,null,null,null,null,null,null,null,"!",{"$f":"'Peak Hour Volume Summary'!J33","v":441},null,{"$f":"'Peak Hour Volume Summary'!I70","v":0}]
[null,null,null,{"$f":"E40+E45","v":1222},null,null,null,null,null,null,null,null,null,null,null,null,">",{"$f":"'Peak Hour Volume Summary'!K33","v":0},null,{"$f":"S40+R45","v":1035}]
[null,null,null,null,null,null,null,null,null,null,null,null,null,null,null,null,"N",{"$f":"'Peak Hour Volume Summary'!L33","v":0}]
[null,null,null,null,null,null,null,null,null,null,null,{"$f":"'Base Information'!$J$13","v":"↑"}]
[null,null,null,null,{"$f":"SUM(F45:F48)","v":364},{"$f":"'Peak Hour Volume Summary'!V33","v":0},"O",null,null,null,null,"North",null,null,null,null,"\"",{"$f":"P50+F47+J38+R43","v":544}]
[null,null,null,null,null,{"$f":"'Peak Hour Volume Summary'!U33","v":36},"="]
[null,null,null,"BIKE:",null,{"$f":"'Peak Hour Volume Summary'!T33","v":328},"\"",null,null,null,null,null,null,null,null,null,null,null,null,"BIKE:"]
[null,null,null,{"$f":"'Peak Hour Volume Summary'!U70","v":0},null,{"$f":"'Peak Hour Volume Summary'!S33","v":0},"?",null,null,null,null,null,null,null,null,null,null,null,null,{"$f":"'Peak Hour Volume Summary'!K70","v":0}]
[null,null,null,null,null,null,null,"$",null,null,null,null,"L",":","#",";"]
[null,null,null,null,null,null,null,{"$f":"F48+I38+R42+M50","v":0},null,null,null,null,{"$f":"'Peak Hour Volume Summary'!Q33","v":0},{"$f":"'Peak Hour Volume Summary'!P33","v":417},{"$f":"'Peak Hour Volume Summary'!O33","v":0},{"$f":"'Peak Hour Volume Summary'!N33","v":216}]
[null,null,null,null,null,null,null,null,null,null,null,null,{"$f":"SUM(M50:P50)","v":633}]
[null,null,null,null,null,null,null,"PED:",{"$f":"'Peak Hour Volume Summary'!N70","v":0},null,{"$f":"H50+M51","v":633},null,null,null,"BIKE:",{"$f":"'Peak Hour Volume Summary'!P70","v":0}]
[null,null,null,null,null,null,null,{"$f":"'Base Information'!$D$16","v":"441 NB OFF RAMP"}]
[]
[]
[]
[null,"PM Peak Hour Summary"]
[]
[null,null,"PM PEAK HOUR",null,null,null,null,{"$f":"'Base Information'!$D$14","v":"441 NB ON RAMP"},null,null,null,null,null,null,null,null,null,"TOTAL ENTERING VOLUME"]
[null,null,{"$f":"'Base Information'!$U$18","v":"4:30-5:30pm"},null,null,null,null,"PED:",{"$f":"'Peak Hour Volume Summary'!D76","v":0},null,{"$f":"H61+M62","v":173},null,null,null,"BIKE:",{"$f":"'Peak Hour Volume Summary'!F76","v":0},null,{"$f":"H61+S64+M75+E69","v":2241}]
[null,null,{"$f":"'Base Information'!$O$14","v":"2011-12-06"},null,null,null,null,{"$f":"SUM(H62:K62)","v":0}]
[null,null,null,null,null,null,null,{"$f":"'Peak Hour Volume Summary'!D48","v":0},{"$f":"'Peak Hour Volume Summary'!E48","v":0},{"$f":"'Peak Hour Volume Summary'!F48","v":0},{"$f":"'Peak Hour Volume Summary'!G48","v":0},null,{"$f":"K62+R64+O74+F70","v":173}]
[null,null,null,null,null,null,null,8,"$",9,"M",null,"#"]
[null,null,{"$f":"'Base Information'!$D$17","v":"CTH OO (Northland Ave)"},"PED:",{"$f":"H62+R65+N74+F69","v":1003},null,"!",null,null,null,null,null,null,null,null,null,"<",{"$f":"'Peak Hour Volume Summary'!I48","v":64},{"$f":"SUM(R64:R67)","v":654},"PED:",{"$f":"'Base Information'!$D$15","v":"CTH OO (Northland Ave)"}]
[null,null,null,{"$f":"'Peak Hour Volume Summary'!S76","v":0},null,null,null,null,null,null,null,null,null,null,null,null,"!",{"$f":"'Peak Hour Volume Summary'!J48","v":590},null,{"$f":"'Peak Hour Volume Summary'!I76","v":0}]
[null,null,null,{"$f":"E64+E69","v":1656},null,null,null,null,null,null,null,null,null,null,null,null,">",{"$f":"'Peak Hour Volume Summary'!K48","v":0},null,{"$f":"S64+R69","v":1719}]
[null,null,null,null,null,null,null,null,null,null,null,null,null,null,null,null,"N",{"$f":"'Peak Hour Volume Summary'!L48","v":0}]
[null,null,null,null,null,null,null,null,null,null,null,{"$f":"'Base Information'!$J$13","v":"↑"}]
[null,null,null,null,{"$f":"SUM(F69:F72)","v":653},{"$f":"'Peak Hour Volume Summary'!V48","v":0},"O",null,null,null,null,"North",null,null,null,null,"\"",{"$f":"P74+F71+J62+R67","v":1065}]
[null,null,null,null,null,{"$f":"'Peak Hour Volume Summary'!U48","v":109},"="]
[null,null,null,"BIKE:",null,{"$f":"'Peak Hour Volume Summary'!T48","v":544},"\"",null,null,null,null,null,null,null,null,null,null,null,null,"BIKE:"]
[null,null,null,{"$f":"'Peak Hour Volume Summary'!U76","v":0},null,{"$f":"'Peak Hour Volume Summary'!S48","v":0},"?",null,null,null,null,null,null,null,null,null,null,null,null,{"$f":"'Peak Hour Volume Summary'!K76","v":0}]
[null,null,null,null,null,null,null,"$",null,null,null,null,"L",":","#",";"]
[null,null,null,null,null,null,null,{"$f":"F72+I62+R66+M74","v":0},null,null,null,null,{"$f":"'Peak Hour Volume Summary'!Q48","v":0},{"$f":"'Peak Hour Volume Summary'!P48","v":413},{"$f":"'Peak Hour Volume Summary'!O48","v":0},{"$f":"'Peak Hour Volume Summary'!N48","v":521}]
[null,null,null,null,null,null,null,null,null,null,null,null,{"$f":"SUM(M74:P74)","v":934}]
[null,null,null,null,null,null,null,"PED:",{"$f":"'Peak Hour Volume Summary'!N76","v":3},null,{"$f":"H74+M75","v":934},null,null,null,"BIKE:",{"$f":"'Peak Hour Volume Summary'!P76","v":0}]
[null,null,null,null,null,null,null,{"$f":"'Base Information'!$D$16","v":"441 NB OFF RAMP"}]

{"sheet":"Peak Hour Volume Summary","index":3,"n_rows":76,"n_cols":24,"rows_kept":76,"cut":false,"hidden":false,"merged":[[74,10,74,11],[73,13,73,14],[73,15,73,16],[73,10,73,11],[75,20,75,21],[75,10,75,11],[75,13,75,14],[75,15,75,16],[75,18,75,19],[74,13,74,14],[74,15,74,16],[74,18,74,19],[74,20,74,21],[73,18,73,19],[71,20,71,21],[72,13,72,14],[72,15,72,16],[72,18,72,19],[72,20,72,21],[73,20,73,21],[72,10,72,11],[71,10,71,11],[71,13,71,14],[71,15,71,16],[71,18,71,19],[71,1,75,1],[71,3,71,4],[71,5,71,6],[71,8,71,9],[73,3,73,4],[73,5,73,6],[73,8,73,9],[75,3,75,4],[75,5,75,6],[75,8,75,9],[72,3,72,4],[72,5,72,6],[72,8,72,9],[74,3,74,4],[74,5,74,6],[74,8,74,9],[67,10,67,11],[68,13,68,14],[68,15,68,16],[68,18,68,19],[68,20,68,21],[68,3,68,4],[68,5,68,6],[68,8,68,9],[68,10,68,11],[69,13,69,14],[69,15,69,16],[69,18,69,19],[69,20,69,21],[69,3,69,4],[69,5,69,6],[69,8,69,9],[69,10,69,11],[65,1,69,1],[65,3,65,4],[65,5,65,6],[65,8,65,9],[65,10,65,11],[65,13,65,14],[65,15,65,16],[65,18,65,19],[65,20,65,21],[66,3,66,4],[66,5,66,6],[66,8,66,9],[66,10,66,11],[66,13,66,14],[66,15,66,16],[66,18,66,19],[66,20,66,21],[67,13,67,14],[67,15,67,16],[67,18,67,19],[67,20,67,21],[67,3,67,4],[67,5,67,6],[67,8,67,9],[59,18,59,19],[59,20,59,21],[60,18,60,19],[60,20,60,21],[61,18,61,19],[61,20,61,21],[62,18,62,19],[62,20,62,21],[63,18,63,19],[63,20,63,21],[59,13,59,14],[59,15,59,16],[60,13,60,14],[60,15,60,16],[61,13,61,14],[61,15,61,16],[62,13,62,14],[62,15,62,16],[63,13,63,14],[63,15,63,16],[61,10,61,11],[62,8,62,9],[62,10,62,11],[59,8,59,9],[59,10,59,11],[60,8,60,9],[60,10,60,11],[63,8,63,9],[63,10,63,11],[55,16,56,17],[55,18,55,20],[55,21,56,22],[55,13,55,15],[56,13,56,15],[9,1,10,2],[24,1,25,2],[11,1,22,1],[26,1,37,1],[9,3,9,4],[9,6,9,7],[10,3,10,7],[55,11,56,12],[39,1,40,2],[39,3,39,4],[39,6,39,7],[39,8,39,9],[56,1,57,2],[55,3,55,5],[56,3,56,5],[41,1,52,1],[55,6,56,7],[55,8,55,10],[25,18,25,22],[5,13,5,23],[6,13,7,23],[59,1,63,1],[63,5,63,6],[62,5,62,6],[61,5,61,6],[60,5,60,6],[59,5,59,6],[63,3,63,4],[9,8,9,9],[58,5,58,6],[58,8,58,9],[58,10,58,11],[58,13,58,14],[62,3,62,4],[61,3,61,4],[60,3,60,4],[58,3,58,4],[59,3,59,4],[61,8,61,9],[58,15,58,16],[58,18,58,19],[58,20,58,21],[9,16,9,17],[39,11,39,12],[9,11,9,12],[10,8,10,12],[9,13,9,14],[10,13,10,17],[10,18,10,22],[24,3,24,4],[24,6,24,7],[24,8,24,9],[24,11,24,12],[24,13,24,14],[9,18,9,19],[9,21,9,22],[3,18,3,20],[2,21,2,23],[3,21,3,23],[2,12,2,13],[2,14,2,17],[3,12,3,17],[0,1,3,9],[56,8,56,10],[39,18,39,19],[39,21,39,22],[40,3,40,7],[40,8,40,12],[40,13,40,17],[40,18,40,22],[39,13,39,14],[2,18,2,20],[39,16,39,17],[56,18,56,20],[24,16,24,17],[24,18,24,19],[24,21,24,22],[25,3,25,7],[25,8,25,12],[25,13,25,17]]}
[null,"Intersection Traffic Volume Report"]
[null,null,null,null,null,null,null,null,null,null,null,null,"Count Basics",null,null,null,null,null,null,null,null,null,null,"Page 3 of 11"]
[null,null,null,null,null,null,null,null,null,null,null,null,{"$f":"'Base Information'!L3","v":"Start Date:"},null,{"$f":"'Base Information'!N3","v":"2011-12-06"},null,null,null,{"$f":"'Base Information'!R3","v":"Weekday"},null,null,{"$f":"'Base Information'!U3","v":"Schools in Session"}]
[null,null,null,null,null,null,null,null,null,null,null,null,{"$f":"'Base Information'!L4","v":"Total Number of Hours Counted: 12"},null,null,null,null,null,{"$f":"'Base Information'!R4","v":"Non-Holiday"},null,null,{"$f":"'Base Information'!U4","v":"No Special Events"}]
[null,"Peak Hour Volume Summary"]
[null,null,null,null,null,null,null,null,null,null,null,null,null,"All Motor Vehicles"]
[null,{"$f":"'Base Information'!E7","v":"441 NB ON RAMP and CTH OO (Northland Ave)"}]
[]
[null,"Peak Hour Volumes, Truck Percentages, and PHFs"]
[null,{"$f":"'Base Information'!O12","v":"2011-12-06"},null,null,null,"ê",null,null,null,null,"ç",null,null,null,null,"é",null,null,null,null,"è"]
[null,null,null,"From North",null,null,null,null,"From East",null,null,null,null,"From South",null,null,null,null,"From West"]
[null,"AM Peak Hour","AM Peak Hour",{"$f":"'Base Information'!$D$14:$D$14","v":"441 NB ON RAMP"},null,null,null,null,{"$f":"'Base Information'!$D$15:$D$15","v":"CTH OO (Northland Ave)"},null,null,null,null,{"$f":"'Base Information'!$D$16:$D$16","v":"441 NB OFF RAMP"},null,null,null,null,{"$f":"'Base Information'!$D$17:$D$17","v":"CTH OO (Northland Ave)"}]
[null,null,"Start Time","Right ","Thru ","Left ","U-Tn","Total","Right ","Thru ","Left ","U-Tn","Total","Right ","Thru ","Left ","U-Tn","Total","Right ","Thru ","Left ","U-Tn","Total","Totals"]
[null,null,{"$f":"IF(ISERROR(VLOOKUP('Base Information'!$N$18,'Base Information'!$C$91:$G$151,2,FALSE)=TRUE),0.333333,VLOOKUP('Base Information'!$N$18,'Base Information'!$C$91:$G$151,2,FALSE))","v":"07:14:59.971"},{"$f":"VLOOKUP($C14,'15-Min All Vehicle'!$C$14:$W$77,2,FALSE)","v":0},{"$f":"VLOOKUP($C14,'15-Min All Vehicle'!$C$14:$W$77,3,FALSE)","v":0},{"$f":"VLOOKUP($C14,'15-Min All Vehicle'!$C$14:$W$77,4,FALSE)","v":0},{"$f":"VLOOKUP($C14,'15-Min All Vehicle'!$C$14:$W$77,5,FALSE)","v":0},{"$f":"SUM(D14:G14)","v":0},{"$f":"VLOOKUP($C14,'15-Min All Vehicle'!$C$14:$W$77,7,FALSE)","v":28},{"$f":"VLOOKUP($C14,'15-Min All Vehicle'!$C$14:$W$77,8,FALSE)","v":151},{"$f":"VLOOKUP($C14,'15-Min All Vehicle'!$C$14:$W$77,9,FALSE)","v":0},{"$f":"VLOOKUP($C14,'15-Min All Vehicle'!$C$14:$W$77,10,FALSE)","v":0},{"$f":"SUM(I14:L14)","v":179},{"$f":"VLOOKUP($C14,'15-Min All Vehicle'!$C$14:$W$77,12,FALSE)","v":74},{"$f":"VLOOKUP($C14,'15-Min All Vehicle'!$C$14:$W$77,13,FALSE)","v":0},{"$f":"VLOOKUP($C14,'15-Min All Vehicle'!$C$14:$W$77,14,FALSE)","v":216},{"$f":"VLOOKUP($C14,'15-Min All Vehicle'!$C$14:$W$77,15,FALSE)","v":0},{"$f":"SUM(N14:Q14)","v":290},{"$f":"VLOOKUP($C14,'15-Min All Vehicle'!$C$14:$W$77,17,FALSE)","v":0},{"$f":"VLOOKUP($C14,'15-Min All Vehicle'!$C$14:$W$77,18,FALSE)","v":35},{"$f":"VLOOKUP($C14,'15-Min All Vehicle'!$C$14:$W$77,19,FALSE)","v":12},{"$f":"VLOOKUP($C14,'15-Min All Vehicle'!$C$14:$W$77,20,FALSE)","v":0},{"$f":"SUM(S14:V14)","v":47},{"$f":"H14+M14+R14+W14","v":516}]
[null,null,{"$f":"IF(ISERROR(VLOOKUP('Base Information'!$N$18,'Base Information'!$C$91:$G$151,3,FALSE)=TRUE),0.34375,VLOOKUP('Base Information'!$N$18,'Base Information'!$C$91:$G$151,3,FALSE))","v":"07:30:00"},{"$f":"VLOOKUP($C15,'15-Min All Vehicle'!$C$14:$W$77,2,FALSE)","v":0},{"$f":"VLOOKUP($C15,'15-Min All Vehicle'!$C$14:$W$77,3,FALSE)","v":0},{"$f":"VLOOKUP($C15,'15-Min All Vehicle'!$C$14:$W$77,4,FALSE)","v":0},{"$f":"VLOOKUP($C15,'15-Min All Vehicle'!$C$14:$W$77,5,FALSE)","v":0},{"$f":"SUM(D15:G15)","v":0},{"$f":"VLOOKUP($C15,'15-Min All Vehicle'!$C$14:$W$77,7,FALSE)","v":19},{"$f":"VLOOKUP($C15,'15-Min All Vehicle'!$C$14:$W$77,8,FALSE)","v":224},{"$f":"VLOOKUP($C15,'15-Min All Vehicle'!$C$14:$W$77,9,FALSE)","v":0},{"$f":"VLOOKUP($C15,'15-Min All Vehicle'!$C$14:$W$77,10,FALSE)","v":0},{"$f":"SUM(I15:L15)","v":243},{"$f":"VLOOKUP($C15,'15-Min All Vehicle'!$C$14:$W$77,12,FALSE)","v":66},{"$f":"VLOOKUP($C15,'15-Min All Vehicle'!$C$14:$W$77,13,FALSE)","v":1},{"$f":"VLOOKUP($C15,'15-Min All Vehicle'!$C$14:$W$77,14,FALSE)","v":233},{"$f":"VLOOKUP($C15,'15-Min All Vehicle'!$C$14:$W$77,15,FALSE)","v":0},{"$f":"SUM(N15:Q15)","v":300},{"$f":"VLOOKUP($C15,'15-Min All Vehicle'!$C$14:$W$77,17,FALSE)","v":0},{"$f":"VLOOKUP($C15,'15-Min All Vehicle'!$C$14:$W$77,18,FALSE)","v":39},{"$f":"VLOOKUP($C15,'15-Min All Vehicle'!$C$14:$W$77,19,FALSE)","v":4},{"$f":"VLOOKUP($C15,'15-Min All Vehicle'!$C$14:$W$77,20,FALSE)","v":0},{"$f":"SUM(S15:V15)","v":43},{"$f":"H15+M15+R15+W15","v":586}]
[null,null,{"$f":"IF(ISERROR(VLOOKUP('Base Information'!$N$18,'Base Information'!$C$91:$G$151,4,FALSE)=TRUE),0.354166,VLOOKUP('Base Information'!$N$18,'Base Information'!$C$91:$G$151,4,FALSE))","v":"07:44:59.942"},{"$f":"VLOOKUP($C16,'15-Min All Vehicle'!$C$14:$W$77,2,FALSE)","v":0},{"$f":"VLOOKUP($C16,'15-Min All Vehicle'!$C$14:$W$77,3,FALSE)","v":0},{"$f":"VLOOKUP($C16,'15-Min All Vehicle'!$C$14:$W$77,4,FALSE)","v":0},{"$f":"VLOOKUP($C16,'15-Min All Vehicle'!$C$14:$W$77,5,FALSE)","v":0},0,{"$f":"VLOOKUP($C16,'15-Min All Vehicle'!$C$14:$W$77,7,FALSE)","v":29},{"$f":"VLOOKUP($C16,'15-Min All Vehicle'!$C$14:$W$77,8,FALSE)","v":277},{"$f":"VLOOKUP($C16,'15-Min All Vehicle'!$C$14:$W$77,9,FALSE)","v":0},{"$f":"VLOOKUP($C16,'15-Min All Vehicle'!$C$14:$W$77,10,FALSE)","v":0},306,{"$f":"VLOOKUP($C16,'15-Min All Vehicle'!$C$14:$W$77,12,FALSE)","v":64},{"$f":"VLOOKUP($C16,'15-Min All Vehicle'!$C$14:$W$77,13,FALSE)","v":0},{"$f":"VLOOKUP($C16,'15-Min All Vehicle'!$C$14:$W$77,14,FALSE)","v":242},{"$f":"VLOOKUP($C16,'15-Min All Vehicle'!$C$14:$W$77,15,FALSE)","v":0},306,{"$f":"VLOOKUP($C16,'15-Min All Vehicle'!$C$14:$W$77,17,FALSE)","v":0},{"$f":"VLOOKUP($C16,'15-Min All Vehicle'!$C$14:$W$77,18,FALSE)","v":63},{"$f":"VLOOKUP($C16,'15-Min All Vehicle'!$C$14:$W$77,19,FALSE)","v":9},{"$f":"VLOOKUP($C16,'15-Min All Vehicle'!$C$14:$W$77,20,FALSE)","v":0},72,684]
[null,null,{"$f":"IF(ISERROR(VLOOKUP('Base Information'!$N$18,'Base Information'!$C$91:$G$151,5,FALSE)=TRUE),0.364583,VLOOKUP('Base Information'!$N$18,'Base Information'!$C$91:$G$151,5,FALSE))","v":"07:59:59.971"},{"$f":"VLOOKUP($C17,'15-Min All Vehicle'!$C$14:$W$77,2,FALSE)","v":0},{"$f":"VLOOKUP($C17,'15-Min All Vehicle'!$C$14:$W$77,3,FALSE)","v":0},{"$f":"VLOOKUP($C17,'15-Min All Vehicle'!$C$14:$W$77,4,FALSE)","v":0},{"$f":"VLOOKUP($C17,'15-Min All Vehicle'!$C$14:$W$77,5,FALSE)","v":0},0,{"$f":"VLOOKUP($C17,'15-Min All Vehicle'!$C$14:$W$77,7,FALSE)","v":12},{"$f":"VLOOKUP($C17,'15-Min All Vehicle'!$C$14:$W$77,8,FALSE)","v":170},{"$f":"VLOOKUP($C17,'15-Min All Vehicle'!$C$14:$W$77,9,FALSE)","v":0},{"$f":"VLOOKUP($C17,'15-Min All Vehicle'!$C$14:$W$77,10,FALSE)","v":0},182,{"$f":"VLOOKUP($C17,'15-Min All Vehicle'!$C$14:$W$77,12,FALSE)","v":42},{"$f":"VLOOKUP($C17,'15-Min All Vehicle'!$C$14:$W$77,13,FALSE)","v":0},{"$f":"VLOOKUP($C17,'15-Min All Vehicle'!$C$14:$W$77,14,FALSE)","v":164},{"$f":"VLOOKUP($C17,'15-Min All Vehicle'!$C$14:$W$77,15,FALSE)","v":0},206,{"$f":"VLOOKUP($C17,'15-Min All Vehicle'!$C$14:$W$77,17,FALSE)","v":0},{"$f":"VLOOKUP($C17,'15-Min All Vehicle'!$C$14:$W$77,18,FALSE)","v":41},{"$f":"VLOOKUP($C17,'15-Min All Vehicle'!$C$14:$W$77,19,FALSE)","v":8},{"$f":"VLOOKUP($C17,'15-Min All Vehicle'!$C$14:$W$77,20,FALSE)","v":0},49,437]
[null,null,"Peak Hour Volume",{"$f":"SUM(D14:D17)","v":0},{"$f":"SUM(E14:E17)","v":0},0,0,0,88,822,0,0,910,246,1,855,0,1102,0,178,33,0,211,2223]
[null,null,"Rounded Hourly Volume",{"$f":"MROUND(D18,5)","v":0},{"$f":"MROUND(E18,5)","v":0},0,0,{"$f":"SUM(D19:G19)","v":0},90,820,0,0,{"$f":"SUM(I19:L19)","v":910},245,0,855,0,{"$f":"SUM(N19:Q19)","v":1100},0,180,35,0,{"$f":"SUM(S19:V19)","v":215},{"$f":"H19+M19+R19+W19","v":2225}]
[null,null,"% Single Unit Trucks",{"$f":"100*(VLOOKUP($C14,'15-Min SU-Truck'!$C$14:$W$77,2,FALSE)+VLOOKUP($C15,'15-Min SU-Truck'!$C$14:$W$77,2,FALSE)+VLOOKUP($C16,'15-Min SU-Truck'!$C$14:$W$77,2,FALSE)+VLOOKUP($C17,'15-Min SU-Truck'!$C$14:$W$77,2,FALSE))/(0.00001+VLOOKUP($C14,'15-Min All Vehicle'!$C$14:$W$77,2,FALSE)+VLOOKUP($C15,'15-Min All Vehicle'!$C$14:$W$77,2,FALSE)+VLOOKUP($C16,'15-Min All Vehicle'!$C$14:$W$77,2,FALSE)+VLOOKUP($C17,'15-Min All Vehicle'!$C$17:$W$77,2,FALSE))","v":0},{"$f":"100*(VLOOKUP($C14,'15-Min SU-Truck'!$C$14:$W$77,3,FALSE)+VLOOKUP($C15,'15-Min SU-Truck'!$C$14:$W$77,3,FALSE)+VLOOKUP($C16,'15-Min SU-Truck'!$C$14:$W$77,3,FALSE)+VLOOKUP($C17,'15-Min SU-Truck'!$C$14:$W$77,3,FALSE))/(0.00001+VLOOKUP($C14,'15-Min All Vehicle'!$C$14:$W$77,3,FALSE)+VLOOKUP($C15,'15-Min All Vehicle'!$C$14:$W$77,3,FALSE)+VLOOKUP($C16,'15-Min All Vehicle'!$C$14:$W$77,3,FALSE)+VLOOKUP($C17,'15-Min All Vehicle'!$C$17:$W$77,3,FALSE))","v":0},{"$f":"100*(VLOOKUP($C14,'15-Min SU-Truck'!$C$14:$W$77,4,FALSE)+VLOOKUP($C15,'15-Min SU-Truck'!$C$14:$W$77,4,FALSE)+VLOOKUP($C16,'15-Min SU-Truck'!$C$14:$W$77,4,FALSE)+VLOOKUP($C17,'15-Min SU-Truck'!$C$14:$W$77,4,FALSE))/(0.00001+VLOOKUP($C14,'15-Min All Vehicle'!$C$14:$W$77,4,FALSE)+VLOOKUP($C15,'15-Min All Vehicle'!$C$14:$W$77,4,FALSE)+VLOOKUP($C16,'15-Min All Vehicle'!$C$14:$W$77,4,FALSE)+VLOOKUP($C17,'15-Min All Vehicle'!$C$17:$W$77,4,FALSE))","v":0},{"$f":"IF(ISERROR(F20=TRUE),\"#N/A\",0)","v":0},{"$f":"100*(VLOOKUP($C14,'15-Min SU-Truck'!$C$14:$W$77,6,FALSE)+VLOOKUP($C15,'15-Min SU-Truck'!$C$14:$W$77,6,FALSE)+VLOOKUP($C16,'15-Min SU-Truck'!$C$14:$W$77,6,FALSE)+VLOOKUP($C17,'15-Min SU-Truck'!$C$14:$W$77,6,FALSE))/(0.00001+VLOOKUP($C14,'15-Min All Vehicle'!$C$14:$W$77,6,FALSE)+VLOOKUP($C15,'15-Min All Vehicle'!$C$14:$W$77,6,FALSE)+VLOOKUP($C16,'15-Min All Vehicle'!$C$14:$W$77,6,FALSE)+VLOOKUP($C17,'15-Min All Vehicle'!$C$17:$W$77,6,FALSE))","v":0},{"$f":"100*(VLOOKUP($C14,'15-Min SU-Truck'!$C$14:$W$77,7,FALSE)+VLOOKUP($C15,'15-Min SU-Truck'!$C$14:$W$77,7,FALSE)+VLOOKUP($C16,'15-Min SU-Truck'!$C$14:$W$77,7,FALSE)+VLOOKUP($C17,'15-Min SU-Truck'!$C$14:$W$77,7,FALSE))/(0.00001+VLOOKUP($C14,'15-Min All Vehicle'!$C$14:$W$77,7,FALSE)+VLOOKUP($C15,'15-Min All Vehicle'!$C$14:$W$77,7,FALSE)+VLOOKUP($C16,'15-Min All Vehicle'!$C$14:$W$77,7,FALSE)+VLOOKUP($C17,'15-Min All Vehicle'!$C$17:$W$77,7,FALSE))","v":7.9545445506199375},{"$f":"100*(VLOOKUP($C14,'15-Min SU-Truck'!$C$14:$W$77,8,FALSE)+VLOOKUP($C15,'15-Min SU-Truck'!$C$14:$W$77,8,FALSE)+VLOOKUP($C16,'15-Min SU-Truck'!$C$14:$W$77,8,FALSE)+VLOOKUP($C17,'15-Min SU-Truck'!$C$14:$W$77,8,FALSE))/(0.00001+VLOOKUP($C14,'15-Min All Vehicle'!$C$14:$W$77,8,FALSE)+VLOOKUP($C15,'15-Min All Vehicle'!$C$14:$W$77,8,FALSE)+VLOOKUP($C16,'15-Min All Vehicle'!$C$14:$W$77,8,FALSE)+VLOOKUP($C17,'15-Min All Vehicle'!$C$17:$W$77,8,FALSE))","v":2.5547444944678288},{"$f":"100*(VLOOKUP($C14,'15-Min SU-Truck'!$C$14:$W$77,9,FALSE)+VLOOKUP($C15,'15-Min SU-Truck'!$C$14:$W$77,9,FALSE)+VLOOKUP($C16,'15-Min SU-Truck'!$C$14:$W$77,9,FALSE)+VLOOKUP($C17,'15-Min SU-Truck'!$C$14:$W$77,9,FALSE))/(0.00001+VLOOKUP($C14,'15-Min All Vehicle'!$C$14:$W$77,9,FALSE)+VLOOKUP($C15,'15-Min All Vehicle'!$C$14:$W$77,9,FALSE)+VLOOKUP($C16,'15-Min All Vehicle'!$C$14:$W$77,9,FALSE)+VLOOKUP($C17,'15-Min All Vehicle'!$C$17:$W$77,9,FALSE))","v":0},{"$f":"IF(ISERROR(K20=TRUE),\"#N/A\",0)","v":0},{"$f":"100*(VLOOKUP($C14,'15-Min SU-Truck'!$C$14:$W$77,11,FALSE)+VLOOKUP($C15,'15-Min SU-Truck'!$C$14:$W$77,11,FALSE)+VLOOKUP($C16,'15-Min SU-Truck'!$C$14:$W$77,11,FALSE)+VLOOKUP($C17,'15-Min SU-Truck'!$C$14:$W$77,11,FALSE))/(0.00001+VLOOKUP($C14,'15-Min All Vehicle'!$C$14:$W$77,11,FALSE)+VLOOKUP($C15,'15-Min All Vehicle'!$C$14:$W$77,11,FALSE)+VLOOKUP($C16,'15-Min All Vehicle'!$C$14:$W$77,11,FALSE)+VLOOKUP($C17,'15-Min All Vehicle'!$C$17:$W$77,11,FALSE))","v":3.0769230431107357},{"$f":"100*(VLOOKUP($C14,'15-Min SU-Truck'!$C$14:$W$77,12,FALSE)+VLOOKUP($C15,'15-Min SU-Truck'!$C$14:$W$77,12,FALSE)+VLOOKUP($C16,'15-Min SU-Truck'!$C$14:$W$77,12,FALSE)+VLOOKUP($C17,'15-Min SU-Truck'!$C$14:$W$77,12,FALSE))/(0.00001+VLOOKUP($C14,'15-Min All Vehicle'!$C$14:$W$77,12,FALSE)+VLOOKUP($C15,'15-Min All Vehicle'!$C$14:$W$77,12,FALSE)+VLOOKUP($C16,'15-Min All Vehicle'!$C$14:$W$77,12,FALSE)+VLOOKUP($C17,'15-Min All Vehicle'!$C$17:$W$77,12,FALSE))","v":2.4390242910965734},{"$f":"100*(VLOOKUP($C14,'15-Min SU-Truck'!$C$14:$W$77,13,FALSE)+VLOOKUP($C15,'15-Min SU-Truck'!$C$14:$W$77,13,FALSE)+VLOOKUP($C16,'15-Min SU-Truck'!$C$14:$W$77,13,FALSE)+VLOOKUP($C17,'15-Min SU-Truck'!$C$14:$W$77,13,FALSE))/(0.00001+VLOOKUP($C14,'15-Min All Vehicle'!$C$14:$W$77,13,FALSE)+VLOOKUP($C15,'15-Min All Vehicle'!$C$14:$W$77,13,FALSE)+VLOOKUP($C16,'15-Min All Vehicle'!$C$14:$W$77,13,FALSE)+VLOOKUP($C17,'15-Min All Vehicle'!$C$17:$W$77,13,FALSE))","v":0},{"$f":"100*(VLOOKUP($C14,'15-Min SU-Truck'!$C$14:$W$77,14,FALSE)+VLOOKUP($C15,'15-Min SU-Truck'!$C$14:$W$77,14,FALSE)+VLOOKUP($C16,'15-Min SU-Truck'!$C$14:$W$77,14,FALSE)+VLOOKUP($C17,'15-Min SU-Truck'!$C$14:$W$77,14,FALSE))/(0.00001+VLOOKUP($C14,'15-Min All Vehicle'!$C$14:$W$77,14,FALSE)+VLOOKUP($C15,'15-Min All Vehicle'!$C$14:$W$77,14,FALSE)+VLOOKUP($C16,'15-Min All Vehicle'!$C$14:$W$77,14,FALSE)+VLOOKUP($C17,'15-Min All Vehicle'!$C$17:$W$77,14,FALSE))","v":1.2865496925549744},{"$f":"IF(ISERROR(P20=TRUE),\"#N/A\",0)","v":0},{"$f":"100*(VLOOKUP($C14,'15-Min SU-Truck'!$C$14:$W$77,16,FALSE)+VLOOKUP($C15,'15-Min SU-Truck'!$C$14:$W$77,16,FALSE)+VLOOKUP($C16,'15-Min SU-Truck'!$C$14:$W$77,16,FALSE)+VLOOKUP($C17,'15-Min SU-Truck'!$C$14:$W$77,16,FALSE))/(0.00001+VLOOKUP($C14,'15-Min All Vehicle'!$C$14:$W$77,16,FALSE)+VLOOKUP($C15,'15-Min All Vehicle'!$C$14:$W$77,16,FALSE)+VLOOKUP($C16,'15-Min All Vehicle'!$C$14:$W$77,16,FALSE)+VLOOKUP($C17,'15-Min All Vehicle'!$C$17:$W$77,16,FALSE))","v":1.5426497137690589},{"$f":"100*(VLOOKUP($C14,'15-Min SU-Truck'!$C$14:$W$77,17,FALSE)+VLOOKUP($C15,'15-Min SU-Truck'!$C$14:$W$77,17,FALSE)+VLOOKUP($C16,'15-Min SU-Truck'!$C$14:$W$77,17,FALSE)+VLOOKUP($C17,'15-Min SU-Truck'!$C$14:$W$77,17,FALSE))/(0.00001+VLOOKUP($C14,'15-Min All Vehicle'!$C$14:$W$77,17,FALSE)+VLOOKUP($C15,'15-Min All Vehicle'!$C$14:$W$77,17,FALSE)+VLOOKUP($C16,'15-Min All Vehicle'!$C$14:$W$77,17,FALSE)+VLOOKUP($C17,'15-Min All Vehicle'!$C$17:$W$77,17,FALSE))","v":0},{"$f":"100*(VLOOKUP($C14,'15-Min SU-Truck'!$C$14:$W$77,18,FALSE)+VLOOKUP($C15,'15-Min SU-Truck'!$C$14:$W$77,18,FALSE)+VLOOKUP($C16,'15-Min SU-Truck'!$C$14:$W$77,18,FALSE)+VLOOKUP($C17,'15-Min SU-Truck'!$C$14:$W$77,18,FALSE))/(0.00001+VLOOKUP($C14,'15-Min All Vehicle'!$C$14:$W$77,18,FALSE)+VLOOKUP($C15,'15-Min All Vehicle'!$C$14:$W$77,18,FALSE)+VLOOKUP($C16,'15-Min All Vehicle'!$C$14:$W$77,18,FALSE)+VLOOKUP($C17,'15-Min All Vehicle'!$C$17:$W$77,18,FALSE))","v":11.7977521461937},{"$f":"100*(VLOOKUP($C14,'15-Min SU-Truck'!$C$14:$W$77,19,FALSE)+VLOOKUP($C15,'15-Min SU-Truck'!$C$14:$W$77,19,FALSE)+VLOOKUP($C16,'15-Min SU-Truck'!$C$14:$W$77,19,FALSE)+VLOOKUP($C17,'15-Min SU-Truck'!$C$14:$W$77,19,FALSE))/(0.00001+VLOOKUP($C14,'15-Min All Vehicle'!$C$14:$W$77,19,FALSE)+VLOOKUP($C15,'15-Min All Vehicle'!$C$14:$W$77,19,FALSE)+VLOOKUP($C16,'15-Min All Vehicle'!$C$14:$W$77,19,FALSE)+VLOOKUP($C17,'15-Min All Vehicle'!$C$17:$W$77,19,FALSE))","v":6.0606042240593254},{"$f":"IF(ISERROR(U20=TRUE),\"#N/A\",0)","v":0},{"$f":"100*(VLOOKUP($C14,'15-Min SU-Truck'!$C$14:$W$77,21,FALSE)+VLOOKUP($C15,'15-Min SU-Truck'!$C$14:$W$77,21,FALSE)+VLOOKUP($C16,'15-Min SU-Truck'!$C$14:$W$77,21,FALSE)+VLOOKUP($C17,'15-Min SU-Truck'!$C$14:$W$77,21,FALSE))/(0.00001+VLOOKUP($C14,'15-Min All Vehicle'!$C$14:$W$77,21,FALSE)+VLOOKUP($C15,'15-Min All Vehicle'!$C$14:$W$77,21,FALSE)+VLOOKUP($C16,'15-Min All Vehicle'!$C$14:$W$77,21,FALSE)+VLOOKUP($C17,'15-Min All Vehicle'!$C$17:$W$77,21,FALSE))","v":10.900473417039175},{"$f":"100*(VLOOKUP($C14,'15-Min SU-Truck'!$C$14:$X$77,22,FALSE)+VLOOKUP($C15,'15-Min SU-Truck'!$C$14:$X$77,22,FALSE)+VLOOKUP($C16,'15-Min SU-Truck'!$C$14:$X$77,22,FALSE)+VLOOKUP($C17,'15-Min SU-Truck'!$C$14:$X$77,22,FALSE))/(0.00001+VLOOKUP($C14,'15-Min All Vehicle'!$C$14:$X$77,22,FALSE)+VLOOKUP($C15,'15-Min All Vehicle'!$C$14:$X$77,22,FALSE)+VLOOKUP($C16,'15-Min All Vehicle'!$C$14:$X$77,22,FALSE)+VLOOKUP($C17,'15-Min All Vehicle'!$C$17:$X$77,22,FALSE))","v":3.0589293609584827}]
[null,null,"% Heavy Trucks",{"$f":"100*(VLOOKUP($C15,'15-Min Semi-Truck'!$C$14:$W$77,2,FALSE)+VLOOKUP($C16,'15-Min Semi-Truck'!$C$14:$W$77,2,FALSE)+VLOOKUP($C17,'15-Min Semi-Truck'!$C$14:$W$77,2,FALSE)+VLOOKUP($C14,'15-Min Semi-Truck'!$C$14:$W$77,2,FALSE))/(0.00001+VLOOKUP($C15,'15-Min All Vehicle'!$C$14:$W$77,2,FALSE)+VLOOKUP($C16,'15-Min All Vehicle'!$C$14:$W$77,2,FALSE)+VLOOKUP($C17,'15-Min All Vehicle'!$C$14:$W$77,2,FALSE)+VLOOKUP($C14,'15-Min All Vehicle'!$C$14:$W$77,2,FALSE))","v":0},{"$f":"100*(VLOOKUP($C15,'15-Min Semi-Truck'!$C$14:$W$77,3,FALSE)+VLOOKUP($C16,'15-Min Semi-Truck'!$C$14:$W$77,3,FALSE)+VLOOKUP($C17,'15-Min Semi-Truck'!$C$14:$W$77,3,FALSE)+VLOOKUP($C14,'15-Min Semi-Truck'!$C$14:$W$77,3,FALSE))/(0.00001+VLOOKUP($C15,'15-Min All Vehicle'!$C$14:$W$77,3,FALSE)+VLOOKUP($C16,'15-Min All Vehicle'!$C$14:$W$77,3,FALSE)+VLOOKUP($C17,'15-Min All Vehicle'!$C$14:$W$77,3,FALSE)+VLOOKUP($C14,'15-Min All Vehicle'!$C$14:$W$77,3,FALSE))","v":0},{"$f":"100*(VLOOKUP($C15,'15-Min Semi-Truck'!$C$14:$W$77,4,FALSE)+VLOOKUP($C16,'15-Min Semi-Truck'!$C$14:$W$77,4,FALSE)+VLOOKUP($C17,'15-Min Semi-Truck'!$C$14:$W$77,4,FALSE)+VLOOKUP($C14,'15-Min Semi-Truck'!$C$14:$W$77,4,FALSE))/(0.00001+VLOOKUP($C15,'15-Min All Vehicle'!$C$14:$W$77,4,FALSE)+VLOOKUP($C16,'15-Min All Vehicle'!$C$14:$W$77,4,FALSE)+VLOOKUP($C17,'15-Min All Vehicle'!$C$14:$W$77,4,FALSE)+VLOOKUP($C14,'15-Min All Vehicle'!$C$14:$W$77,4,FALSE))","v":0},{"$f":"IF(ISERROR(F21=TRUE),\"#N/A\",0)","v":0},{"$f":"100*(VLOOKUP($C15,'15-Min Semi-Truck'!$C$14:$W$77,6,FALSE)+VLOOKUP($C16,'15-Min Semi-Truck'!$C$14:$W$77,6,FALSE)+VLOOKUP($C17,'15-Min Semi-Truck'!$C$14:$W$77,6,FALSE)+VLOOKUP($C14,'15-Min Semi-Truck'!$C$14:$W$77,6,FALSE))/(0.00001+VLOOKUP($C15,'15-Min All Vehicle'!$C$14:$W$77,6,FALSE)+VLOOKUP($C16,'15-Min All Vehicle'!$C$14:$W$77,6,FALSE)+VLOOKUP($C17,'15-Min All Vehicle'!$C$14:$W$77,6,FALSE)+VLOOKUP($C14,'15-Min All Vehicle'!$C$14:$W$77,6,FALSE))","v":0},{"$f":"100*(VLOOKUP($C15,'15-Min Semi-Truck'!$C$14:$W$77,7,FALSE)+VLOOKUP($C16,'15-Min Semi-Truck'!$C$14:$W$77,7,FALSE)+VLOOKUP($C17,'15-Min Semi-Truck'!$C$14:$W$77,7,FALSE)+VLOOKUP($C14,'15-Min Semi-Truck'!$C$14:$W$77,7,FALSE))/(0.00001+VLOOKUP($C15,'15-Min All Vehicle'!$C$14:$W$77,7,FALSE)+VLOOKUP($C16,'15-Min All Vehicle'!$C$14:$W$77,7,FALSE)+VLOOKUP($C17,'15-Min All Vehicle'!$C$14:$W$77,7,FALSE)+VLOOKUP($C14,'15-Min All Vehicle'!$C$14:$W$77,7,FALSE))","v":4.5454540289256782},{"$f":"100*(VLOOKUP($C15,'15-Min Semi-Truck'!$C$14:$W$77,8,FALSE)+VLOOKUP($C16,'15-Min Semi-Truck'!$C$14:$W$77,8,FALSE)+VLOOKUP($C17,'15-Min Semi-Truck'!$C$14:$W$77,8,FALSE)+VLOOKUP($C14,'15-Min Semi-Truck'!$C$14:$W$77,8,FALSE))/(0.00001+VLOOKUP($C15,'15-Min All Vehicle'!$C$14:$W$77,8,FALSE)+VLOOKUP($C16,'15-Min All Vehicle'!$C$14:$W$77,8,FALSE)+VLOOKUP($C17,'15-Min All Vehicle'!$C$14:$W$77,8,FALSE)+VLOOKUP($C14,'15-Min All Vehicle'!$C$14:$W$77,8,FALSE))","v":0.6082724986828163},{"$f":"100*(VLOOKUP($C15,'15-Min Semi-Truck'!$C$14:$W$77,9,FALSE)+VLOOKUP($C16,'15-Min Semi-Truck'!$C$14:$W$77,9,FALSE)+VLOOKUP($C17,'15-Min Semi-Truck'!$C$14:$W$77,9,FALSE)+VLOOKUP($C14,'15-Min Semi-Truck'!$C$14:$W$77,9,FALSE))/(0.00001+VLOOKUP($C15,'15-Min All Vehicle'!$C$14:$W$77,9,FALSE)+VLOOKUP($C16,'15-Min All Vehicle'!$C$14:$W$77,9,FALSE)+VLOOKUP($C17,'15-Min All Vehicle'!$C$14:$W$77,9,FALSE)+VLOOKUP($C14,'15-Min All Vehicle'!$C$14:$W$77,9,FALSE))","v":0},{"$f":"IF(ISERROR(K21=TRUE),\"#N/A\",0)","v":0},{"$f":"100*(VLOOKUP($C15,'15-Min Semi-Truck'!$C$14:$W$77,11,FALSE)+VLOOKUP($C16,'15-Min Semi-Truck'!$C$14:$W$77,11,FALSE)+VLOOKUP($C17,'15-Min Semi-Truck'!$C$14:$W$77,11,FALSE)+VLOOKUP($C14,'15-Min Semi-Truck'!$C$14:$W$77,11,FALSE))/(0.00001+VLOOKUP($C15,'15-Min All Vehicle'!$C$14:$W$77,11,FALSE)+VLOOKUP($C16,'15-Min All Vehicle'!$C$14:$W$77,11,FALSE)+VLOOKUP($C17,'15-Min All Vehicle'!$C$14:$W$77,11,FALSE)+VLOOKUP($C14,'15-Min All Vehicle'!$C$14:$W$77,11,FALSE))","v":0.98901097814273653},{"$f":"100*(VLOOKUP($C15,'15-Min Semi-Truck'!$C$14:$W$77,12,FALSE)+VLOOKUP($C16,'15-Min Semi-Truck'!$C$14:$W$77,12,FALSE)+VLOOKUP($C17,'15-Min Semi-Truck'!$C$14:$W$77,12,FALSE)+VLOOKUP($C14,'15-Min Semi-Truck'!$C$14:$W$77,12,FALSE))/(0.00001+VLOOKUP($C15,'15-Min All Vehicle'!$C$14:$W$77,12,FALSE)+VLOOKUP($C16,'15-Min All Vehicle'!$C$14:$W$77,12,FALSE)+VLOOKUP($C17,'15-Min All Vehicle'!$C$14:$W$77,12,FALSE)+VLOOKUP($C14,'15-Min All Vehicle'!$C$14:$W$77,12,FALSE))","v":2.8455283396126689},{"$f":"100*(VLOOKUP($C15,'15-Min Semi-Truck'!$C$14:$W$77,13,FALSE)+VLOOKUP($C16,'15-Min Semi-Truck'!$C$14:$W$77,13,FALSE)+VLOOKUP($C17,'15-Min Semi-Truck'!$C$14:$W$77,13,FALSE)+VLOOKUP($C14,'15-Min Semi-Truck'!$C$14:$W$77,13,FALSE))/(0.00001+VLOOKUP($C15,'15-Min All Vehicle'!$C$14:$W$77,13,FALSE)+VLOOKUP($C16,'15-Min All Vehicle'!$C$14:$W$77,13,FALSE)+VLOOKUP($C17,'15-Min All Vehicle'!$C$14:$W$77,13,FALSE)+VLOOKUP($C14,'15-Min All Vehicle'!$C$14:$W$77,13,FALSE))","v":99.999000009999889},{"$f":"100*(VLOOKUP($C15,'15-Min Semi-Truck'!$C$14:$W$77,14,FALSE)+VLOOKUP($C16,'15-Min Semi-Truck'!$C$14:$W$77,14,FALSE)+VLOOKUP($C17,'15-Min Semi-Truck'!$C$14:$W$77,14,FALSE)+VLOOKUP($C14,'15-Min Semi-Truck'!$C$14:$W$77,14,FALSE))/(0.00001+VLOOKUP($C15,'15-Min All Vehicle'!$C$14:$W$77,14,FALSE)+VLOOKUP($C16,'15-Min All Vehicle'!$C$14:$W$77,14,FALSE)+VLOOKUP($C17,'15-Min All Vehicle'!$C$14:$W$77,14,FALSE)+VLOOKUP($C14,'15-Min All Vehicle'!$C$14:$W$77,14,FALSE))","v":0.58479531479771563},{"$f":"IF(ISERROR(P21=TRUE),\"#N/A\",0)","v":0},{"$f":"100*(VLOOKUP($C15,'15-Min Semi-Truck'!$C$14:$W$77,16,FALSE)+VLOOKUP($C16,'15-Min Semi-Truck'!$C$14:$W$77,16,FALSE)+VLOOKUP($C17,'15-Min Semi-Truck'!$C$14:$W$77,16,FALSE)+VLOOKUP($C14,'15-Min Semi-Truck'!$C$14:$W$77,16,FALSE))/(0.00001+VLOOKUP($C15,'15-Min All Vehicle'!$C$14:$W$77,16,FALSE)+VLOOKUP($C16,'15-Min All Vehicle'!$C$14:$W$77,16,FALSE)+VLOOKUP($C17,'15-Min All Vehicle'!$C$14:$W$77,16,FALSE)+VLOOKUP($C14,'15-Min All Vehicle'!$C$14:$W$77,16,FALSE))","v":1.1796733105292803},{"$f":"100*(VLOOKUP($C15,'15-Min Semi-Truck'!$C$14:$W$77,17,FALSE)+VLOOKUP($C16,'15-Min Semi-Truck'!$C$14:$W$77,17,FALSE)+VLOOKUP($C17,'15-Min Semi-Truck'!$C$14:$W$77,17,FALSE)+VLOOKUP($C14,'15-Min Semi-Truck'!$C$14:$W$77,17,FALSE))/(0.00001+VLOOKUP($C15,'15-Min All Vehicle'!$C$14:$W$77,17,FALSE)+VLOOKUP($C16,'15-Min All Vehicle'!$C$14:$W$77,17,FALSE)+VLOOKUP($C17,'15-Min All Vehicle'!$C$14:$W$77,17,FALSE)+VLOOKUP($C14,'15-Min All Vehicle'!$C$14:$W$77,17,FALSE))","v":0},{"$f":"100*(VLOOKUP($C15,'15-Min Semi-Truck'!$C$14:$W$77,18,FALSE)+VLOOKUP($C16,'15-Min Semi-Truck'!$C$14:$W$77,18,FALSE)+VLOOKUP($C17,'15-Min Semi-Truck'!$C$14:$W$77,18,FALSE)+VLOOKUP($C14,'15-Min Semi-Truck'!$C$14:$W$77,18,FALSE))/(0.00001+VLOOKUP($C15,'15-Min All Vehicle'!$C$14:$W$77,18,FALSE)+VLOOKUP($C16,'15-Min All Vehicle'!$C$14:$W$77,18,FALSE)+VLOOKUP($C17,'15-Min All Vehicle'!$C$14:$W$77,18,FALSE)+VLOOKUP($C14,'15-Min All Vehicle'!$C$14:$W$77,18,FALSE))","v":3.9325840487312331},{"$f":"100*(VLOOKUP($C15,'15-Min Semi-Truck'!$C$14:$W$77,19,FALSE)+VLOOKUP($C16,'15-Min Semi-Truck'!$C$14:$W$77,19,FALSE)+VLOOKUP($C17,'15-Min Semi-Truck'!$C$14:$W$77,19,FALSE)+VLOOKUP($C14,'15-Min Semi-Truck'!$C$14:$W$77,19,FALSE))/(0.00001+VLOOKUP($C15,'15-Min All Vehicle'!$C$14:$W$77,19,FALSE)+VLOOKUP($C16,'15-Min All Vehicle'!$C$14:$W$77,19,FALSE)+VLOOKUP($C17,'15-Min All Vehicle'!$C$14:$W$77,19,FALSE)+VLOOKUP($C14,'15-Min All Vehicle'!$C$14:$W$77,19,FALSE))","v":3.0303021120296627},{"$f":"IF(ISERROR(U21=TRUE),\"#N/A\",0)","v":0},{"$f":"100*(VLOOKUP($C15,'15-Min Semi-Truck'!$C$14:$W$77,21,FALSE)+VLOOKUP($C16,'15-Min Semi-Truck'!$C$14:$W$77,21,FALSE)+VLOOKUP($C17,'15-Min Semi-Truck'!$C$14:$W$77,21,FALSE)+VLOOKUP($C14,'15-Min Semi-Truck'!$C$14:$W$77,21,FALSE))/(0.00001+VLOOKUP($C15,'15-Min All Vehicle'!$C$14:$W$77,21,FALSE)+VLOOKUP($C16,'15-Min All Vehicle'!$C$14:$W$77,21,FALSE)+VLOOKUP($C17,'15-Min All Vehicle'!$C$14:$W$77,21,FALSE)+VLOOKUP($C14,'15-Min All Vehicle'!$C$14:$W$77,21,FALSE))","v":3.7914690146223213},{"$f":"100*(VLOOKUP($C15,'15-Min Semi-Truck'!$C$14:$X$77,22,FALSE)+VLOOKUP($C16,'15-Min Semi-Truck'!$C$14:$X$77,22,FALSE)+VLOOKUP($C17,'15-Min Semi-Truck'!$C$14:$X$77,22,FALSE)+VLOOKUP($C14,'15-Min Semi-Truck'!$C$14:$X$77,22,FALSE))/(0.00001+VLOOKUP($C15,'15-Min All Vehicle'!$C$14:$X$77,22,FALSE)+VLOOKUP($C16,'15-Min All Vehicle'!$C$14:$X$77,22,FALSE)+VLOOKUP($C17,'15-Min All Vehicle'!$C$14:$X$77,22,FALSE)+VLOOKUP($C14,'15-Min All Vehicle'!$C$14:$X$77,22,FALSE))","v":1.3495276592463894}]
[null,null,"% Trucks (Total)",{"$f":"100*(VLOOKUP($C16,'15-Min Heavy Vehicle'!$C$14:$W$77,2,FALSE)+VLOOKUP($C17,'15-Min Heavy Vehicle'!$C$14:$W$77,2,FALSE)+VLOOKUP($C14,'15-Min Heavy Vehicle'!$C$14:$W$77,2,FALSE)+VLOOKUP($C15,'15-Min Heavy Vehicle'!$C$14:$W$77,2,FALSE))/(0.00001+VLOOKUP($C15,'15-Min All Vehicle'!$C$14:$W$77,2,FALSE)+VLOOKUP($C17,'15-Min All Vehicle'!$C$14:$W$77,2,FALSE)+VLOOKUP($C14,'15-Min All Vehicle'!$C$14:$W$77,2,FALSE)+VLOOKUP($C16,'15-Min All Vehicle'!$C$14:$W$77,2,FALSE))","v":0},{"$f":"100*(VLOOKUP($C16,'15-Min Heavy Vehicle'!$C$14:$W$77,3,FALSE)+VLOOKUP($C17,'15-Min Heavy Vehicle'!$C$14:$W$77,3,FALSE)+VLOOKUP($C14,'15-Min Heavy Vehicle'!$C$14:$W$77,3,FALSE)+VLOOKUP($C15,'15-Min Heavy Vehicle'!$C$14:$W$77,3,FALSE))/(0.00001+VLOOKUP($C15,'15-Min All Vehicle'!$C$14:$W$77,3,FALSE)+VLOOKUP($C17,'15-Min All Vehicle'!$C$14:$W$77,3,FALSE)+VLOOKUP($C14,'15-Min All Vehicle'!$C$14:$W$77,3,FALSE)+VLOOKUP($C16,'15-Min All Vehicle'!$C$14:$W$77,3,FALSE))","v":0},{"$f":"100*(VLOOKUP($C16,'15-Min Heavy Vehicle'!$C$14:$W$77,4,FALSE)+VLOOKUP($C17,'15-Min Heavy Vehicle'!$C$14:$W$77,4,FALSE)+VLOOKUP($C14,'15-Min Heavy Vehicle'!$C$14:$W$77,4,FALSE)+VLOOKUP($C15,'15-Min Heavy Vehicle'!$C$14:$W$77,4,FALSE))/(0.00001+VLOOKUP($C15,'15-Min All Vehicle'!$C$14:$W$77,4,FALSE)+VLOOKUP($C17,'15-Min All Vehicle'!$C$14:$W$77,4,FALSE)+VLOOKUP($C14,'15-Min All Vehicle'!$C$14:$W$77,4,FALSE)+VLOOKUP($C16,'15-Min All Vehicle'!$C$14:$W$77,4,FALSE))","v":0},0,{"$f":"100*(VLOOKUP($C16,'15-Min Heavy Vehicle'!$C$14:$W$77,6,FALSE)+VLOOKUP($C17,'15-Min Heavy Vehicle'!$C$14:$W$77,6,FALSE)+VLOOKUP($C14,'15-Min Heavy Vehicle'!$C$14:$W$77,6,FALSE)+VLOOKUP($C15,'15-Min Heavy Vehicle'!$C$14:$W$77,6,FALSE))/(0.00001+VLOOKUP($C15,'15-Min All Vehicle'!$C$14:$W$77,6,FALSE)+VLOOKUP($C17,'15-Min All Vehicle'!$C$14:$W$77,6,FALSE)+VLOOKUP($C14,'15-Min All Vehicle'!$C$14:$W$77,6,FALSE)+VLOOKUP($C16,'15-Min All Vehicle'!$C$14:$W$77,6,FALSE))","v":0},{"$f":"100*(VLOOKUP($C16,'15-Min Heavy Vehicle'!$C$14:$W$77,7,FALSE)+VLOOKUP($C17,'15-Min Heavy Vehicle'!$C$14:$W$77,7,FALSE)+VLOOKUP($C14,'15-Min Heavy Vehicle'!$C$14:$W$77,7,FALSE)+VLOOKUP($C15,'15-Min Heavy Vehicle'!$C$14:$W$77,7,FALSE))/(0.00001+VLOOKUP($C15,'15-Min All Vehicle'!$C$14:$W$77,7,FALSE)+VLOOKUP($C17,'15-Min All Vehicle'!$C$14:$W$77,7,FALSE)+VLOOKUP($C14,'15-Min All Vehicle'!$C$14:$W$77,7,FALSE)+VLOOKUP($C16,'15-Min All Vehicle'!$C$14:$W$77,7,FALSE))","v":12.499998579545615},{"$f":"100*(VLOOKUP($C16,'15-Min Heavy Vehicle'!$C$14:$W$77,8,FALSE)+VLOOKUP($C17,'15-Min Heavy Vehicle'!$C$14:$W$77,8,FALSE)+VLOOKUP($C14,'15-Min Heavy Vehicle'!$C$14:$W$77,8,FALSE)+VLOOKUP($C15,'15-Min Heavy Vehicle'!$C$14:$W$77,8,FALSE))/(0.00001+VLOOKUP($C15,'15-Min All Vehicle'!$C$14:$W$77,8,FALSE)+VLOOKUP($C17,'15-Min All Vehicle'!$C$14:$W$77,8,FALSE)+VLOOKUP($C14,'15-Min All Vehicle'!$C$14:$W$77,8,FALSE)+VLOOKUP($C16,'15-Min All Vehicle'!$C$14:$W$77,8,FALSE))","v":3.1630169931506451},{"$f":"100*(VLOOKUP($C16,'15-Min Heavy Vehicle'!$C$14:$W$77,9,FALSE)+VLOOKUP($C17,'15-Min Heavy Vehicle'!$C$14:$W$77,9,FALSE)+VLOOKUP($C14,'15-Min Heavy Vehicle'!$C$14:$W$77,9,FALSE)+VLOOKUP($C15,'15-Min Heavy Vehicle'!$C$14:$W$77,9,FALSE))/(0.00001+VLOOKUP($C15,'15-Min All Vehicle'!$C$14:$W$77,9,FALSE)+VLOOKUP($C17,'15-Min All Vehicle'!$C$14:$W$77,9,FALSE)+VLOOKUP($C14,'15-Min All Vehicle'!$C$14:$W$77,9,FALSE)+VLOOKUP($C16,'15-Min All Vehicle'!$C$14:$W$77,9,FALSE))","v":0},0,{"$f":"100*(VLOOKUP($C16,'15-Min Heavy Vehicle'!$C$14:$W$77,11,FALSE)+VLOOKUP($C17,'15-Min Heavy Vehicle'!$C$14:$W$77,11,FALSE)+VLOOKUP($C14,'15-Min Heavy Vehicle'!$C$14:$W$77,11,FALSE)+VLOOKUP($C15,'15-Min Heavy Vehicle'!$C$14:$W$77,11,FALSE))/(0.00001+VLOOKUP($C15,'15-Min All Vehicle'!$C$14:$W$77,11,FALSE)+VLOOKUP($C17,'15-Min All Vehicle'!$C$14:$W$77,11,FALSE)+VLOOKUP($C14,'15-Min All Vehicle'!$C$14:$W$77,11,FALSE)+VLOOKUP($C16,'15-Min All Vehicle'!$C$14:$W$77,11,FALSE))","v":4.0659340212534723},{"$f":"100*(VLOOKUP($C16,'15-Min Heavy Vehicle'!$C$14:$W$77,12,FALSE)+VLOOKUP($C17,'15-Min Heavy Vehicle'!$C$14:$W$77,12,FALSE)+VLOOKUP($C14,'15-Min Heavy Vehicle'!$C$14:$W$77,12,FALSE)+VLOOKUP($C15,'15-Min Heavy Vehicle'!$C$14:$W$77,12,FALSE))/(0.00001+VLOOKUP($C15,'15-Min All Vehicle'!$C$14:$W$77,12,FALSE)+VLOOKUP($C17,'15-Min All Vehicle'!$C$14:$W$77,12,FALSE)+VLOOKUP($C14,'15-Min All Vehicle'!$C$14:$W$77,12,FALSE)+VLOOKUP($C16,'15-Min All Vehicle'!$C$14:$W$77,12,FALSE))","v":5.2845526307092427},{"$f":"100*(VLOOKUP($C16,'15-Min Heavy Vehicle'!$C$14:$W$77,13,FALSE)+VLOOKUP($C17,'15-Min Heavy Vehicle'!$C$14:$W$77,13,FALSE)+VLOOKUP($C14,'15-Min Heavy Vehicle'!$C$14:$W$77,13,FALSE)+VLOOKUP($C15,'15-Min Heavy Vehicle'!$C$14:$W$77,13,FALSE))/(0.00001+VLOOKUP($C15,'15-Min All Vehicle'!$C$14:$W$77,13,FALSE)+VLOOKUP($C17,'15-Min All Vehicle'!$C$14:$W$77,13,FALSE)+VLOOKUP($C14,'15-Min All Vehicle'!$C$14:$W$77,13,FALSE)+VLOOKUP($C16,'15-Min All Vehicle'!$C$14:$W$77,13,FALSE))","v":99.999000009999889},{"$f":"100*(VLOOKUP($C16,'15-Min Heavy Vehicle'!$C$14:$W$77,14,FALSE)+VLOOKUP($C17,'15-Min Heavy Vehicle'!$C$14:$W$77,14,FALSE)+VLOOKUP($C14,'15-Min Heavy Vehicle'!$C$14:$W$77,14,FALSE)+VLOOKUP($C15,'15-Min Heavy Vehicle'!$C$14:$W$77,14,FALSE))/(0.00001+VLOOKUP($C15,'15-Min All Vehicle'!$C$14:$W$77,14,FALSE)+VLOOKUP($C17,'15-Min All Vehicle'!$C$14:$W$77,14,FALSE)+VLOOKUP($C14,'15-Min All Vehicle'!$C$14:$W$77,14,FALSE)+VLOOKUP($C16,'15-Min All Vehicle'!$C$14:$W$77,14,FALSE))","v":1.87134500735269},0,{"$f":"100*(VLOOKUP($C16,'15-Min Heavy Vehicle'!$C$14:$W$77,16,FALSE)+VLOOKUP($C17,'15-Min Heavy Vehicle'!$C$14:$W$77,16,FALSE)+VLOOKUP($C14,'15-Min Heavy Vehicle'!$C$14:$W$77,16,FALSE)+VLOOKUP($C15,'15-Min Heavy Vehicle'!$C$14:$W$77,16,FALSE))/(0.00001+VLOOKUP($C15,'15-Min All Vehicle'!$C$14:$W$77,16,FALSE)+VLOOKUP($C17,'15-Min All Vehicle'!$C$14:$W$77,16,FALSE)+VLOOKUP($C14,'15-Min All Vehicle'!$C$14:$W$77,16,FALSE)+VLOOKUP($C16,'15-Min All Vehicle'!$C$14:$W$77,16,FALSE))","v":2.7223230242983392},{"$f":"100*(VLOOKUP($C16,'15-Min Heavy Vehicle'!$C$14:$W$77,17,FALSE)+VLOOKUP($C17,'15-Min Heavy Vehicle'!$C$14:$W$77,17,FALSE)+VLOOKUP($C14,'15-Min Heavy Vehicle'!$C$14:$W$77,17,FALSE)+VLOOKUP($C15,'15-Min Heavy Vehicle'!$C$14:$W$77,17,FALSE))/(0.00001+VLOOKUP($C15,'15-Min All Vehicle'!$C$14:$W$77,17,FALSE)+VLOOKUP($C17,'15-Min All Vehicle'!$C$14:$W$77,17,FALSE)+VLOOKUP($C14,'15-Min All Vehicle'!$C$14:$W$77,17,FALSE)+VLOOKUP($C16,'15-Min All Vehicle'!$C$14:$W$77,17,FALSE))","v":0},{"$f":"100*(VLOOKUP($C16,'15-Min Heavy Vehicle'!$C$14:$W$77,18,FALSE)+VLOOKUP($C17,'15-Min Heavy Vehicle'!$C$14:$W$77,18,FALSE)+VLOOKUP($C14,'15-Min Heavy Vehicle'!$C$14:$W$77,18,FALSE)+VLOOKUP($C15,'15-Min Heavy Vehicle'!$C$14:$W$77,18,FALSE))/(0.00001+VLOOKUP($C15,'15-Min All Vehicle'!$C$14:$W$77,18,FALSE)+VLOOKUP($C17,'15-Min All Vehicle'!$C$14:$W$77,18,FALSE)+VLOOKUP($C14,'15-Min All Vehicle'!$C$14:$W$77,18,FALSE)+VLOOKUP($C16,'15-Min All Vehicle'!$C$14:$W$77,18,FALSE))","v":15.730336194924933},{"$f":"100*(VLOOKUP($C16,'15-Min Heavy Vehicle'!$C$14:$W$77,19,FALSE)+VLOOKUP($C17,'15-Min Heavy Vehicle'!$C$14:$W$77,19,FALSE)+VLOOKUP($C14,'15-Min Heavy Vehicle'!$C$14:$W$77,19,FALSE)+VLOOKUP($C15,'15-Min Heavy Vehicle'!$C$14:$W$77,19,FALSE))/(0.00001+VLOOKUP($C15,'15-Min All Vehicle'!$C$14:$W$77,19,FALSE)+VLOOKUP($C17,'15-Min All Vehicle'!$C$14:$W$77,19,FALSE)+VLOOKUP($C14,'15-Min All Vehicle'!$C$14:$W$77,19,FALSE)+VLOOKUP($C16,'15-Min All Vehicle'!$C$14:$W$77,19,FALSE))","v":9.0909063360889881},0,{"$f":"100*(VLOOKUP($C16,'15-Min Heavy Vehicle'!$C$14:$W$77,21,FALSE)+VLOOKUP($C17,'15-Min Heavy Vehicle'!$C$14:$W$77,21,FALSE)+VLOOKUP($C14,'15-Min Heavy Vehicle'!$C$14:$W$77,21,FALSE)+VLOOKUP($C15,'15-Min Heavy Vehicle'!$C$14:$W$77,21,FALSE))/(0.00001+VLOOKUP($C15,'15-Min All Vehicle'!$C$14:$W$77,21,FALSE)+VLOOKUP($C17,'15-Min All Vehicle'!$C$14:$W$77,21,FALSE)+VLOOKUP($C14,'15-Min All Vehicle'!$C$14:$W$77,21,FALSE)+VLOOKUP($C16,'15-Min All Vehicle'!$C$14:$W$77,21,FALSE))","v":14.691942431661495},{"$f":"100*(VLOOKUP($C16,'15-Min Heavy Vehicle'!$C$14:$X$77,22,FALSE)+VLOOKUP($C17,'15-Min Heavy Vehicle'!$C$14:$X$77,22,FALSE)+VLOOKUP($C14,'15-Min Heavy Vehicle'!$C$14:$X$77,22,FALSE)+VLOOKUP($C15,'15-Min Heavy Vehicle'!$C$14:$X$77,22,FALSE))/(0.00001+VLOOKUP($C15,'15-Min All Vehicle'!$C$14:$X$77,22,FALSE)+VLOOKUP($C17,'15-Min All Vehicle'!$C$14:$X$77,22,FALSE)+VLOOKUP($C14,'15-Min All Vehicle'!$C$14:$X$77,22,FALSE)+VLOOKUP($C16,'15-Min All Vehicle'!$C$14:$X$77,22,FALSE))","v":4.4084570202048718}]
[null,null,"Peak Hour Factor (PHF)",{"$f":"SUM(D14:D17)/(0.000001+4*MAX(D14:D17))","v":0},{"$f":"SUM(E14:E17)/(0.000001+4*MAX(E14:E17))","v":0},0,0,0,0.75862068311533892,0.74187725564812512,0,0,0.74346405168017637,0.83108107827337474,0.24999993750001562,0.88326446189745411,0,0.90032679665005977,0,0.70634920354623332,0.6874999856770837,0,0.73263888634500385,0.81249999970303366]
[]
[null,{"$f":"IF('Peak Hour Graphical Summary'!$R$36=0,\"N/A\",IF('Base Information'!$O$12='Base Information'!$O$14,'Base Information'!$O$12,IF(ISBLANK('Base Information'!$O$13)=TRUE,\"Split between AM/PM count dates\",'Base Information'!$O$13)))","v":"2011-12-06"},null,null,null,"ê",null,null,null,null,"ç",null,null,null,null,"é",null,null,null,null,"è"]
[null,null,null,"From North",null,null,null,null,"From East",null,null,null,null,"From South",null,null,null,null,"From West"]
[null,"Midday (MD) Peak Hour","MD Peak Hour",{"$f":"'Base Information'!$D$14:$D$14","v":"441 NB ON RAMP"},null,null,null,null,{"$f":"'Base Information'!$D$15:$D$15","v":"CTH OO (Northland Ave)"},null,null,null,null,{"$f":"'Base Information'!$D$16:$D$16","v":"441 NB OFF RAMP"},null,null,null,null,{"$f":"'Base Information'!$D$17:$D$17","v":"CTH OO (Northland Ave)"}]
[null,null,"Start Time","Right ","Thru ","Left ","U-Tn","Total","Right ","Thru ","Left ","U-Tn","Total","Right ","Thru ","Left ","U-Tn","Total","Right ","Thru ","Left ","U-Tn","Total","Totals"]
[null,null,{"$f":"IF(ISERROR(VLOOKUP('Base Information'!$Q$18,'Base Information'!$C$91:$G$151,2,FALSE)=TRUE),0.5,(VLOOKUP('Base Information'!$Q$18,'Base Information'!$C$91:$G$151,2,FALSE)))","v":"12:59:59.942"},{"$f":"VLOOKUP($C29,'15-Min All Vehicle'!$C$14:$W$77,2,FALSE)","v":0},{"$f":"VLOOKUP($C29,'15-Min All Vehicle'!$C$14:$W$77,3,FALSE)","v":0},{"$f":"VLOOKUP($C29,'15-Min All Vehicle'!$C$14:$W$77,4,FALSE)","v":0},{"$f":"VLOOKUP($C29,'15-Min All Vehicle'!$C$14:$W$77,5,FALSE)","v":0},{"$f":"SUM(D29:G29)","v":0},{"$f":"VLOOKUP($C29,'15-Min All Vehicle'!$C$14:$W$77,7,FALSE)","v":13},{"$f":"VLOOKUP($C29,'15-Min All Vehicle'!$C$14:$W$77,8,FALSE)","v":124},{"$f":"VLOOKUP($C29,'15-Min All Vehicle'!$C$14:$W$77,9,FALSE)","v":0},{"$f":"VLOOKUP($C29,'15-Min All Vehicle'!$C$14:$W$77,10,FALSE)","v":0},{"$f":"SUM(I29:L29)","v":137},{"$f":"VLOOKUP($C29,'15-Min All Vehicle'!$C$14:$W$77,12,FALSE)","v":52},{"$f":"VLOOKUP($C29,'15-Min All Vehicle'!$C$14:$W$77,13,FALSE)","v":0},{"$f":"VLOOKUP($C29,'15-Min All Vehicle'!$C$14:$W$77,14,FALSE)","v":119},{"$f":"VLOOKUP($C29,'15-Min All Vehicle'!$C$14:$W$77,15,FALSE)","v":0},{"$f":"SUM(N29:Q29)","v":171},{"$f":"VLOOKUP($C29,'15-Min All Vehicle'!$C$14:$W$77,17,FALSE)","v":0},{"$f":"VLOOKUP($C29,'15-Min All Vehicle'!$C$14:$W$77,18,FALSE)","v":72},{"$f":"VLOOKUP($C29,'15-Min All Vehicle'!$C$14:$W$77,19,FALSE)","v":8},{"$f":"VLOOKUP($C29,'15-Min All Vehicle'!$C$14:$W$77,20,FALSE)","v":0},{"$f":"SUM(S29:V29)","v":80},{"$f":"H29+M29+R29+W29","v":388}]
[null,null,{"$f":"IF(ISERROR(VLOOKUP('Base Information'!$Q$18,'Base Information'!$C$91:$G$151,3,FALSE)=TRUE),0.510416,(VLOOKUP('Base Information'!$Q$18,'Base Information'!$C$91:$G$151,3,FALSE)))","v":"13:14:59.971"},{"$f":"VLOOKUP($C30,'15-Min All Vehicle'!$C$14:$W$77,2,FALSE)","v":0},{"$f":"VLOOKUP($C30,'15-Min All Vehicle'!$C$14:$W$77,3,FALSE)","v":0},{"$f":"VLOOKUP($C30,'15-Min All Vehicle'!$C$14:$W$77,4,FALSE)","v":0},{"$f":"VLOOKUP($C30,'15-Min All Vehicle'!$C$14:$W$77,5,FALSE)","v":0},{"$f":"SUM(D30:G30)","v":0},{"$f":"VLOOKUP($C30,'15-Min All Vehicle'!$C$14:$W$77,7,FALSE)","v":12},{"$f":"VLOOKUP($C30,'15-Min All Vehicle'!$C$14:$W$77,8,FALSE)","v":92},{"$f":"VLOOKUP($C30,'15-Min All Vehicle'!$C$14:$W$77,9,FALSE)","v":0},{"$f":"VLOOKUP($C30,'15-Min All Vehicle'!$C$14:$W$77,10,FALSE)","v":0},{"$f":"SUM(I30:L30)","v":104},{"$f":"VLOOKUP($C30,'15-Min All Vehicle'!$C$14:$W$77,12,FALSE)","v":61},{"$f":"VLOOKUP($C30,'15-Min All Vehicle'!$C$14:$W$77,13,FALSE)","v":0},{"$f":"VLOOKUP($C30,'15-Min All Vehicle'!$C$14:$W$77,14,FALSE)","v":80},{"$f":"VLOOKUP($C30,'15-Min All Vehicle'!$C$14:$W$77,15,FALSE)","v":0},{"$f":"SUM(N30:Q30)","v":141},{"$f":"VLOOKUP($C30,'15-Min All Vehicle'!$C$14:$W$77,17,FALSE)","v":0},{"$f":"VLOOKUP($C30,'15-Min All Vehicle'!$C$14:$W$77,18,FALSE)","v":73},{"$f":"VLOOKUP($C30,'15-Min All Vehicle'!$C$14:$W$77,19,FALSE)","v":8},{"$f":"VLOOKUP($C30,'15-Min All Vehicle'!$C$14:$W$77,20,FALSE)","v":0},{"$f":"SUM(S30:V30)","v":81},{"$f":"H30+M30+R30+W30","v":326}]
[null,null,{"$f":"IF(ISERROR(VLOOKUP('Base Information'!$Q$18,'Base Information'!$C$91:$G$151,4,FALSE)=TRUE),0.520833,(VLOOKUP('Base Information'!$Q$18,'Base Information'!$C$91:$G$151,4,FALSE)))","v":"13:30:00"},{"$f":"VLOOKUP($C31,'15-Min All Vehicle'!$C$14:$W$77,2,FALSE)","v":0},{"$f":"VLOOKUP($C31,'15-Min All Vehicle'!$C$14:$W$77,3,FALSE)","v":0},{"$f":"VLOOKUP($C31,'15-Min All Vehicle'!$C$14:$W$77,4,FALSE)","v":0},{"$f":"VLOOKUP($C31,'15-Min All Vehicle'!$C$14:$W$77,5,FALSE)","v":0},0,{"$f":"VLOOKUP($C31,'15-Min All Vehicle'!$C$14:$W$77,7,FALSE)","v":12},{"$f":"VLOOKUP($C31,'15-Min All Vehicle'!$C$14:$W$77,8,FALSE)","v":115},{"$f":"VLOOKUP($C31,'15-Min All Vehicle'!$C$14:$W$77,9,FALSE)","v":0},{"$f":"VLOOKUP($C31,'15-Min All Vehicle'!$C$14:$W$77,10,FALSE)","v":0},127,{"$f":"VLOOKUP($C31,'15-Min All Vehicle'!$C$14:$W$77,12,FALSE)","v":51},{"$f":"VLOOKUP($C31,'15-Min All Vehicle'!$C$14:$W$77,13,FALSE)","v":0},{"$f":"VLOOKUP($C31,'15-Min All Vehicle'!$C$14:$W$77,14,FALSE)","v":113},{"$f":"VLOOKUP($C31,'15-Min All Vehicle'!$C$14:$W$77,15,FALSE)","v":0},164,{"$f":"VLOOKUP($C31,'15-Min All Vehicle'!$C$14:$W$77,17,FALSE)","v":0},{"$f":"VLOOKUP($C31,'15-Min All Vehicle'!$C$14:$W$77,18,FALSE)","v":100},{"$f":"VLOOKUP($C31,'15-Min All Vehicle'!$C$14:$W$77,19,FALSE)","v":8},{"$f":"VLOOKUP($C31,'15-Min All Vehicle'!$C$14:$W$77,20,FALSE)","v":0},108,399]
[null,null,{"$f":"IF(ISERROR(VLOOKUP('Base Information'!$Q$18,'Base Information'!$C$91:$G$151,5,FALSE)=TRUE),0.53125,(VLOOKUP('Base Information'!$Q$18,'Base Information'!$C$91:$G$151,5,FALSE)))","v":"13:44:59.942"},{"$f":"VLOOKUP($C32,'15-Min All Vehicle'!$C$14:$W$77,2,FALSE)","v":0},{"$f":"VLOOKUP($C32,'15-Min All Vehicle'!$C$14:$W$77,3,FALSE)","v":0},{"$f":"VLOOKUP($C32,'15-Min All Vehicle'!$C$14:$W$77,4,FALSE)","v":0},{"$f":"VLOOKUP($C32,'15-Min All Vehicle'!$C$14:$W$77,5,FALSE)","v":0},0,{"$f":"VLOOKUP($C32,'15-Min All Vehicle'!$C$14:$W$77,7,FALSE)","v":13},{"$f":"VLOOKUP($C32,'15-Min All Vehicle'!$C$14:$W$77,8,FALSE)","v":110},{"$f":"VLOOKUP($C32,'15-Min All Vehicle'!$C$14:$W$77,9,FALSE)","v":0},{"$f":"VLOOKUP($C32,'15-Min All Vehicle'!$C$14:$W$77,10,FALSE)","v":0},123,{"$f":"VLOOKUP($C32,'15-Min All Vehicle'!$C$14:$W$77,12,FALSE)","v":52},{"$f":"VLOOKUP($C32,'15-Min All Vehicle'!$C$14:$W$77,13,FALSE)","v":0},{"$f":"VLOOKUP($C32,'15-Min All Vehicle'!$C$14:$W$77,14,FALSE)","v":105},{"$f":"VLOOKUP($C32,'15-Min All Vehicle'!$C$14:$W$77,15,FALSE)","v":0},157,{"$f":"VLOOKUP($C32,'15-Min All Vehicle'!$C$14:$W$77,17,FALSE)","v":0},{"$f":"VLOOKUP($C32,'15-Min All Vehicle'!$C$14:$W$77,18,FALSE)","v":83},{"$f":"VLOOKUP($C32,'15-Min All Vehicle'!$C$14:$W$77,19,FALSE)","v":12},{"$f":"VLOOKUP($C32,'15-Min All Vehicle'!$C$14:$W$77,20,FALSE)","v":0},95,375]
[null,null,"Peak Hour Volume",{"$f":"SUM(D29:D32)","v":0},{"$f":"SUM(E29:E32)","v":0},{"$f":"SUM(F29:F32)","v":0},{"$f":"SUM(G29:G32)","v":0},{"$f":"SUM(H29:H32)","v":0},{"$f":"SUM(I29:I32)","v":50},{"$f":"SUM(J29:J32)","v":441},{"$f":"SUM(K29:K32)","v":0},{"$f":"SUM(L29:L32)","v":0},{"$f":"SUM(M29:M32)","v":491},{"$f":"SUM(N29:N32)","v":216},{"$f":"SUM(O29:O32)","v":0},{"$f":"SUM(P29:P32)","v":417},{"$f":"SUM(Q29:Q32)","v":0},{"$f":"SUM(R29:R32)","v":633},{"$f":"SUM(S29:S32)","v":0},{"$f":"SUM(T29:T32)","v":328},{"$f":"SUM(U29:U32)","v":36},{"$f":"SUM(V29:V32)","v":0},{"$f":"SUM(W29:W32)","v":364},{"$f":"SUM(X29:X32)","v":1488}]
[null,null,"Rounded Hourly Volume",{"$f":"MROUND(D33,5)","v":0},{"$f":"MROUND(E33,5)","v":0},{"$f":"MROUND(F33,5)","v":0},{"$f":"MROUND(G33,5)","v":0},{"$f":"SUM(D34:G34)","v":0},{"$f":"MROUND(I33,5)","v":50},{"$f":"MROUND(J33,5)","v":440},{"$f":"MROUND(K33,5)","v":0},{"$f":"MROUND(L33,5)","v":0},{"$f":"SUM(I34:L34)","v":490},{"$f":"MROUND(N33,5)","v":215},{"$f":"MROUND(O33,5)","v":0},{"$f":"MROUND(P33,5)","v":415},{"$f":"MROUND(Q33,5)","v":0},{"$f":"SUM(N34:Q34)","v":630},{"$f":"MROUND(S33,5)","v":0},{"$f":"MROUND(T33,5)","v":330},{"$f":"MROUND(U33,5)","v":35},{"$f":"MROUND(V33,5)","v":0},{"$f":"SUM(S34:V34)","v":365},{"$f":"H34+M34+R34+W34","v":1485}]
[null,null,"% Single Unit Trucks",{"$f":"100*(VLOOKUP($C29,'15-Min SU-Truck'!$C$14:$W$77,2,FALSE)+VLOOKUP($C30,'15-Min SU-Truck'!$C$14:$W$77,2,FALSE)+VLOOKUP($C31,'15-Min SU-Truck'!$C$14:$W$77,2,FALSE)+VLOOKUP($C32,'15-Min SU-Truck'!$C$14:$W$77,2,FALSE))/(0.00001+VLOOKUP($C29,'15-Min All Vehicle'!$C$14:$W$77,2,FALSE)+VLOOKUP($C30,'15-Min All Vehicle'!$C$14:$W$77,2,FALSE)+VLOOKUP($C31,'15-Min All Vehicle'!$C$14:$W$77,2,FALSE)+VLOOKUP($C32,'15-Min All Vehicle'!$C$17:$W$77,2,FALSE))","v":0},{"$f":"100*(VLOOKUP($C29,'15-Min SU-Truck'!$C$14:$W$77,3,FALSE)+VLOOKUP($C30,'15-Min SU-Truck'!$C$14:$W$77,3,FALSE)+VLOOKUP($C31,'15-Min SU-Truck'!$C$14:$W$77,3,FALSE)+VLOOKUP($C32,'15-Min SU-Truck'!$C$14:$W$77,3,FALSE))/(0.00001+VLOOKUP($C29,'15-Min All Vehicle'!$C$14:$W$77,3,FALSE)+VLOOKUP($C30,'15-Min All Vehicle'!$C$14:$W$77,3,FALSE)+VLOOKUP($C31,'15-Min All Vehicle'!$C$14:$W$77,3,FALSE)+VLOOKUP($C32,'15-Min All Vehicle'!$C$17:$W$77,3,FALSE))","v":0},{"$f":"100*(VLOOKUP($C29,'15-Min SU-Truck'!$C$14:$W$77,4,FALSE)+VLOOKUP($C30,'15-Min SU-Truck'!$C$14:$W$77,4,FALSE)+VLOOKUP($C31,'15-Min SU-Truck'!$C$14:$W$77,4,FALSE)+VLOOKUP($C32,'15-Min SU-Truck'!$C$14:$W$77,4,FALSE))/(0.00001+VLOOKUP($C29,'15-Min All Vehicle'!$C$14:$W$77,4,FALSE)+VLOOKUP($C30,'15-Min All Vehicle'!$C$14:$W$77,4,FALSE)+VLOOKUP($C31,'15-Min All Vehicle'!$C$14:$W$77,4,FALSE)+VLOOKUP($C32,'15-Min All Vehicle'!$C$17:$W$77,4,FALSE))","v":0},{"$f":"IF(ISERROR(F35=TRUE),\"#N/A\",0)","v":0},{"$f":"100*(VLOOKUP($C29,'15-Min SU-Truck'!$C$14:$W$77,6,FALSE)+VLOOKUP($C30,'15-Min SU-Truck'!$C$14:$W$77,6,FALSE)+VLOOKUP($C31,'15-Min SU-Truck'!$C$14:$W$77,6,FALSE)+VLOOKUP($C32,'15-Min SU-Truck'!$C$14:$W$77,6,FALSE))/(0.00001+VLOOKUP($C29,'15-Min All Vehicle'!$C$14:$W$77,6,FALSE)+VLOOKUP($C30,'15-Min All Vehicle'!$C$14:$W$77,6,FALSE)+VLOOKUP($C31,'15-Min All Vehicle'!$C$14:$W$77,6,FALSE)+VLOOKUP($C32,'15-Min All Vehicle'!$C$17:$W$77,6,FALSE))","v":0},{"$f":"100*(VLOOKUP($C29,'15-Min SU-Truck'!$C$14:$W$77,7,FALSE)+VLOOKUP($C30,'15-Min SU-Truck'!$C$14:$W$77,7,FALSE)+VLOOKUP($C31,'15-Min SU-Truck'!$C$14:$W$77,7,FALSE)+VLOOKUP($C32,'15-Min SU-Truck'!$C$14:$W$77,7,FALSE))/(0.00001+VLOOKUP($C29,'15-Min All Vehicle'!$C$14:$W$77,7,FALSE)+VLOOKUP($C30,'15-Min All Vehicle'!$C$14:$W$77,7,FALSE)+VLOOKUP($C31,'15-Min All Vehicle'!$C$14:$W$77,7,FALSE)+VLOOKUP($C32,'15-Min All Vehicle'!$C$17:$W$77,7,FALSE))","v":5.99999880000024},{"$f":"100*(VLOOKUP($C29,'15-Min SU-Truck'!$C$14:$W$77,8,FALSE)+VLOOKUP($C30,'15-Min SU-Truck'!$C$14:$W$77,8,FALSE)+VLOOKUP($C31,'15-Min SU-Truck'!$C$14:$W$77,8,FALSE)+VLOOKUP($C32,'15-Min SU-Truck'!$C$14:$W$77,8,FALSE))/(0.00001+VLOOKUP($C29,'15-Min All Vehicle'!$C$14:$W$77,8,FALSE)+VLOOKUP($C30,'15-Min All Vehicle'!$C$14:$W$77,8,FALSE)+VLOOKUP($C31,'15-Min All Vehicle'!$C$14:$W$77,8,FALSE)+VLOOKUP($C32,'15-Min All Vehicle'!$C$17:$W$77,8,FALSE))","v":2.7210883736714657},{"$f":"100*(VLOOKUP($C29,'15-Min SU-Truck'!$C$14:$W$77,9,FALSE)+VLOOKUP($C30,'15-Min SU-Truck'!$C$14:$W$77,9,FALSE)+VLOOKUP($C31,'15-Min SU-Truck'!$C$14:$W$77,9,FALSE)+VLOOKUP($C32,'15-Min SU-Truck'!$C$14:$W$77,9,FALSE))/(0.00001+VLOOKUP($C29,'15-Min All Vehicle'!$C$14:$W$77,9,FALSE)+VLOOKUP($C30,'15-Min All Vehicle'!$C$14:$W$77,9,FALSE)+VLOOKUP($C31,'15-Min All Vehicle'!$C$14:$W$77,9,FALSE)+VLOOKUP($C32,'15-Min All Vehicle'!$C$17:$W$77,9,FALSE))","v":0},{"$f":"IF(ISERROR(K35=TRUE),\"#N/A\",0)","v":0},{"$f":"100*(VLOOKUP($C29,'15-Min SU-Truck'!$C$14:$W$77,11,FALSE)+VLOOKUP($C30,'15-Min SU-Truck'!$C$14:$W$77,11,FALSE)+VLOOKUP($C31,'15-Min SU-Truck'!$C$14:$W$77,11,FALSE)+VLOOKUP($C32,'15-Min SU-Truck'!$C$14:$W$77,11,FALSE))/(0.00001+VLOOKUP($C29,'15-Min All Vehicle'!$C$14:$W$77,11,FALSE)+VLOOKUP($C30,'15-Min All Vehicle'!$C$14:$W$77,11,FALSE)+VLOOKUP($C31,'15-Min All Vehicle'!$C$14:$W$77,11,FALSE)+VLOOKUP($C32,'15-Min All Vehicle'!$C$17:$W$77,11,FALSE))","v":3.0549897544808604},{"$f":"100*(VLOOKUP($C29,'15-Min SU-Truck'!$C$14:$W$77,12,FALSE)+VLOOKUP($C30,'15-Min SU-Truck'!$C$14:$W$77,12,FALSE)+VLOOKUP($C31,'15-Min SU-Truck'!$C$14:$W$77,12,FALSE)+VLOOKUP($C32,'15-Min SU-Truck'!$C$14:$W$77,12,FALSE))/(0.00001+VLOOKUP($C29,'15-Min All Vehicle'!$C$14:$W$77,12,FALSE)+VLOOKUP($C30,'15-Min All Vehicle'!$C$14:$W$77,12,FALSE)+VLOOKUP($C31,'15-Min All Vehicle'!$C$14:$W$77,12,FALSE)+VLOOKUP($C32,'15-Min All Vehicle'!$C$17:$W$77,12,FALSE))","v":1.8518517661179739},{"$f":"100*(VLOOKUP($C29,'15-Min SU-Truck'!$C$14:$W$77,13,FALSE)+VLOOKUP($C30,'15-Min SU-Truck'!$C$14:$W$77,13,FALSE)+VLOOKUP($C31,'15-Min SU-Truck'!$C$14:$W$77,13,FALSE)+VLOOKUP($C32,'15-Min SU-Truck'!$C$14:$W$77,13,FALSE))/(0.00001+VLOOKUP($C29,'15-Min All Vehicle'!$C$14:$W$77,13,FALSE)+VLOOKUP($C30,'15-Min All Vehicle'!$C$14:$W$77,13,FALSE)+VLOOKUP($C31,'15-Min All Vehicle'!$C$14:$W$77,13,FALSE)+VLOOKUP($C32,'15-Min All Vehicle'!$C$17:$W$77,13,FALSE))","v":0},{"$f":"100*(VLOOKUP($C29,'15-Min SU-Truck'!$C$14:$W$77,14,FALSE)+VLOOKUP($C30,'15-Min SU-Truck'!$C$14:$W$77,14,FALSE)+VLOOKUP($C31,'15-Min SU-Truck'!$C$14:$W$77,14,FALSE)+VLOOKUP($C32,'15-Min SU-Truck'!$C$14:$W$77,14,FALSE))/(0.00001+VLOOKUP($C29,'15-Min All Vehicle'!$C$14:$W$77,14,FALSE)+VLOOKUP($C30,'15-Min All Vehicle'!$C$14:$W$77,14,FALSE)+VLOOKUP($C31,'15-Min All Vehicle'!$C$14:$W$77,14,FALSE)+VLOOKUP($C32,'15-Min All Vehicle'!$C$17:$W$77,14,FALSE))","v":3.1175059204435032},{"$f":"IF(ISERROR(P35=TRUE),\"#N/A\",0)","v":0},{"$f":"100*(VLOOKUP($C29,'15-Min SU-Truck'!$C$14:$W$77,16,FALSE)+VLOOKUP($C30,'15-Min SU-Truck'!$C$14:$W$77,16,FALSE)+VLOOKUP($C31,'15-Min SU-Truck'!$C$14:$W$77,16,FALSE)+VLOOKUP($C32,'15-Min SU-Truck'!$C$14:$W$77,16,FALSE))/(0.00001+VLOOKUP($C29,'15-Min All Vehicle'!$C$14:$W$77,16,FALSE)+VLOOKUP($C30,'15-Min All Vehicle'!$C$14:$W$77,16,FALSE)+VLOOKUP($C31,'15-Min All Vehicle'!$C$14:$W$77,16,FALSE)+VLOOKUP($C32,'15-Min All Vehicle'!$C$17:$W$77,16,FALSE))","v":2.6856239702113118},{"$f":"100*(VLOOKUP($C29,'15-Min SU-Truck'!$C$14:$W$77,17,FALSE)+VLOOKUP($C30,'15-Min SU-Truck'!$C$14:$W$77,17,FALSE)+VLOOKUP($C31,'15-Min SU-Truck'!$C$14:$W$77,17,FALSE)+VLOOKUP($C32,'15-Min SU-Truck'!$C$14:$W$77,17,FALSE))/(0.00001+VLOOKUP($C29,'15-Min All Vehicle'!$C$14:$W$77,17,FALSE)+VLOOKUP($C30,'15-Min All Vehicle'!$C$14:$W$77,17,FALSE)+VLOOKUP($C31,'15-Min All Vehicle'!$C$14:$W$77,17,FALSE)+VLOOKUP($C32,'15-Min All Vehicle'!$C$17:$W$77,17,FALSE))","v":0},{"$f":"100*(VLOOKUP($C29,'15-Min SU-Truck'!$C$14:$W$77,18,FALSE)+VLOOKUP($C30,'15-Min SU-Truck'!$C$14:$W$77,18,FALSE)+VLOOKUP($C31,'15-Min SU-Truck'!$C$14:$W$77,18,FALSE)+VLOOKUP($C32,'15-Min SU-Truck'!$C$14:$W$77,18,FALSE))/(0.00001+VLOOKUP($C29,'15-Min All Vehicle'!$C$14:$W$77,18,FALSE)+VLOOKUP($C30,'15-Min All Vehicle'!$C$14:$W$77,18,FALSE)+VLOOKUP($C31,'15-Min All Vehicle'!$C$14:$W$77,18,FALSE)+VLOOKUP($C32,'15-Min All Vehicle'!$C$17:$W$77,18,FALSE))","v":6.0975607897085133},{"$f":"100*(VLOOKUP($C29,'15-Min SU-Truck'!$C$14:$W$77,19,FALSE)+VLOOKUP($C30,'15-Min SU-Truck'!$C$14:$W$77,19,FALSE)+VLOOKUP($C31,'15-Min SU-Truck'!$C$14:$W$77,19,FALSE)+VLOOKUP($C32,'15-Min SU-Truck'!$C$14:$W$77,19,FALSE))/(0.00001+VLOOKUP($C29,'15-Min All Vehicle'!$C$14:$W$77,19,FALSE)+VLOOKUP($C30,'15-Min All Vehicle'!$C$14:$W$77,19,FALSE)+VLOOKUP($C31,'15-Min All Vehicle'!$C$14:$W$77,19,FALSE)+VLOOKUP($C32,'15-Min All Vehicle'!$C$17:$W$77,19,FALSE))","v":8.3333310185191607},{"$f":"IF(ISERROR(U35=TRUE),\"#N/A\",0)","v":0},{"$f":"100*(VLOOKUP($C29,'15-Min SU-Truck'!$C$14:$W$77,21,FALSE)+VLOOKUP($C30,'15-Min SU-Truck'!$C$14:$W$77,21,FALSE)+VLOOKUP($C31,'15-Min SU-Truck'!$C$14:$W$77,21,FALSE)+VLOOKUP($C32,'15-Min SU-Truck'!$C$14:$W$77,21,FALSE))/(0.00001+VLOOKUP($C29,'15-Min All Vehicle'!$C$14:$W$77,21,FALSE)+VLOOKUP($C30,'15-Min All Vehicle'!$C$14:$W$77,21,FALSE)+VLOOKUP($C31,'15-Min All Vehicle'!$C$14:$W$77,21,FALSE)+VLOOKUP($C32,'15-Min All Vehicle'!$C$17:$W$77,21,FALSE))","v":6.318681145091178},{"$f":"100*(VLOOKUP($C29,'15-Min SU-Truck'!$C$14:$X$77,22,FALSE)+VLOOKUP($C30,'15-Min SU-Truck'!$C$14:$X$77,22,FALSE)+VLOOKUP($C31,'15-Min SU-Truck'!$C$14:$X$77,22,FALSE)+VLOOKUP($C32,'15-Min SU-Truck'!$C$14:$X$77,22,FALSE))/(0.00001+VLOOKUP($C29,'15-Min All Vehicle'!$C$14:$X$77,22,FALSE)+VLOOKUP($C30,'15-Min All Vehicle'!$C$14:$X$77,22,FALSE)+VLOOKUP($C31,'15-Min All Vehicle'!$C$14:$X$77,22,FALSE)+VLOOKUP($C32,'15-Min All Vehicle'!$C$17:$X$77,22,FALSE))","v":3.6962365342994858}]
[null,null,"% Heavy Trucks",{"$f":"100*(VLOOKUP($C30,'15-Min Semi-Truck'!$C$14:$W$77,2,FALSE)+VLOOKUP($C31,'15-Min Semi-Truck'!$C$14:$W$77,2,FALSE)+VLOOKUP($C32,'15-Min Semi-Truck'!$C$14:$W$77,2,FALSE)+VLOOKUP($C29,'15-Min Semi-Truck'!$C$14:$W$77,2,FALSE))/(0.00001+VLOOKUP($C30,'15-Min All Vehicle'!$C$14:$W$77,2,FALSE)+VLOOKUP($C31,'15-Min All Vehicle'!$C$14:$W$77,2,FALSE)+VLOOKUP($C32,'15-Min All Vehicle'!$C$14:$W$77,2,FALSE)+VLOOKUP($C29,'15-Min All Vehicle'!$C$14:$W$77,2,FALSE))","v":0},{"$f":"100*(VLOOKUP($C30,'15-Min Semi-Truck'!$C$14:$W$77,3,FALSE)+VLOOKUP($C31,'15-Min Semi-Truck'!$C$14:$W$77,3,FALSE)+VLOOKUP($C32,'15-Min Semi-Truck'!$C$14:$W$77,3,FALSE)+VLOOKUP($C29,'15-Min Semi-Truck'!$C$14:$W$77,3,FALSE))/(0.00001+VLOOKUP($C30,'15-Min All Vehicle'!$C$14:$W$77,3,FALSE)+VLOOKUP($C31,'15-Min All Vehicle'!$C$14:$W$77,3,FALSE)+VLOOKUP($C32,'15-Min All Vehicle'!$C$14:$W$77,3,FALSE)+VLOOKUP($C29,'15-Min All Vehicle'!$C$14:$W$77,3,FALSE))","v":0},{"$f":"100*(VLOOKUP($C30,'15-Min Semi-Truck'!$C$14:$W$77,4,FALSE)+VLOOKUP($C31,'15-Min Semi-Truck'!$C$14:$W$77,4,FALSE)+VLOOKUP($C32,'15-Min Semi-Truck'!$C$14:$W$77,4,FALSE)+VLOOKUP($C29,'15-Min Semi-Truck'!$C$14:$W$77,4,FALSE))/(0.00001+VLOOKUP($C30,'15-Min All Vehicle'!$C$14:$W$77,4,FALSE)+VLOOKUP($C31,'15-Min All Vehicle'!$C$14:$W$77,4,FALSE)+VLOOKUP($C32,'15-Min All Vehicle'!$C$14:$W$77,4,FALSE)+VLOOKUP($C29,'15-Min All Vehicle'!$C$14:$W$77,4,FALSE))","v":0},{"$f":"IF(ISERROR(F36=TRUE),\"#N/A\",0)","v":0},{"$f":"100*(VLOOKUP($C30,'15-Min Semi-Truck'!$C$14:$W$77,6,FALSE)+VLOOKUP($C31,'15-Min Semi-Truck'!$C$14:$W$77,6,FALSE)+VLOOKUP($C32,'15-Min Semi-Truck'!$C$14:$W$77,6,FALSE)+VLOOKUP($C29,'15-Min Semi-Truck'!$C$14:$W$77,6,FALSE))/(0.00001+VLOOKUP($C30,'15-Min All Vehicle'!$C$14:$W$77,6,FALSE)+VLOOKUP($C31,'15-Min All Vehicle'!$C$14:$W$77,6,FALSE)+VLOOKUP($C32,'15-Min All Vehicle'!$C$14:$W$77,6,FALSE)+VLOOKUP($C29,'15-Min All Vehicle'!$C$14:$W$77,6,FALSE))","v":0},{"$f":"100*(VLOOKUP($C30,'15-Min Semi-Truck'!$C$14:$W$77,7,FALSE)+VLOOKUP($C31,'15-Min Semi-Truck'!$C$14:$W$77,7,FALSE)+VLOOKUP($C32,'15-Min Semi-Truck'!$C$14:$W$77,7,FALSE)+VLOOKUP($C29,'15-Min Semi-Truck'!$C$14:$W$77,7,FALSE))/(0.00001+VLOOKUP($C30,'15-Min All Vehicle'!$C$14:$W$77,7,FALSE)+VLOOKUP($C31,'15-Min All Vehicle'!$C$14:$W$77,7,FALSE)+VLOOKUP($C32,'15-Min All Vehicle'!$C$14:$W$77,7,FALSE)+VLOOKUP($C29,'15-Min All Vehicle'!$C$14:$W$77,7,FALSE))","v":7.9999984000003197},{"$f":"100*(VLOOKUP($C30,'15-Min Semi-Truck'!$C$14:$W$77,8,FALSE)+VLOOKUP($C31,'15-Min Semi-Truck'!$C$14:$W$77,8,FALSE)+VLOOKUP($C32,'15-Min Semi-Truck'!$C$14:$W$77,8,FALSE)+VLOOKUP($C29,'15-Min Semi-Truck'!$C$14:$W$77,8,FALSE))/(0.00001+VLOOKUP($C30,'15-Min All Vehicle'!$C$14:$W$77,8,FALSE)+VLOOKUP($C31,'15-Min All Vehicle'!$C$14:$W$77,8,FALSE)+VLOOKUP($C32,'15-Min All Vehicle'!$C$14:$W$77,8,FALSE)+VLOOKUP($C29,'15-Min All Vehicle'!$C$14:$W$77,8,FALSE))","v":3.8548751960345764},{"$f":"100*(VLOOKUP($C30,'15-Min Semi-Truck'!$C$14:$W$77,9,FALSE)+VLOOKUP($C31,'15-Min Semi-Truck'!$C$14:$W$77,9,FALSE)+VLOOKUP($C32,'15-Min Semi-Truck'!$C$14:$W$77,9,FALSE)+VLOOKUP($C29,'15-Min Semi-Truck'!$C$14:$W$77,9,FALSE))/(0.00001+VLOOKUP($C30,'15-Min All Vehicle'!$C$14:$W$77,9,FALSE)+VLOOKUP($C31,'15-Min All Vehicle'!$C$14:$W$77,9,FALSE)+VLOOKUP($C32,'15-Min All Vehicle'!$C$14:$W$77,9,FALSE)+VLOOKUP($C29,'15-Min All Vehicle'!$C$14:$W$77,9,FALSE))","v":0},{"$f":"IF(ISERROR(K36=TRUE),\"#N/A\",0)","v":0},{"$f":"100*(VLOOKUP($C30,'15-Min Semi-Truck'!$C$14:$W$77,11,FALSE)+VLOOKUP($C31,'15-Min Semi-Truck'!$C$14:$W$77,11,FALSE)+VLOOKUP($C32,'15-Min Semi-Truck'!$C$14:$W$77,11,FALSE)+VLOOKUP($C29,'15-Min Semi-Truck'!$C$14:$W$77,11,FALSE))/(0.00001+VLOOKUP($C30,'15-Min All Vehicle'!$C$14:$W$77,11,FALSE)+VLOOKUP($C31,'15-Min All Vehicle'!$C$14:$W$77,11,FALSE)+VLOOKUP($C32,'15-Min All Vehicle'!$C$14:$W$77,11,FALSE)+VLOOKUP($C29,'15-Min All Vehicle'!$C$14:$W$77,11,FALSE))","v":4.2769856562732045},{"$f":"100*(VLOOKUP($C30,'15-Min Semi-Truck'!$C$14:$W$77,12,FALSE)+VLOOKUP($C31,'15-Min Semi-Truck'!$C$14:$W$77,12,FALSE)+VLOOKUP($C32,'15-Min Semi-Truck'!$C$14:$W$77,12,FALSE)+VLOOKUP($C29,'15-Min Semi-Truck'!$C$14:$W$77,12,FALSE))/(0.00001+VLOOKUP($C30,'15-Min All Vehicle'!$C$14:$W$77,12,FALSE)+VLOOKUP($C31,'15-Min All Vehicle'!$C$14:$W$77,12,FALSE)+VLOOKUP($C32,'15-Min All Vehicle'!$C$14:$W$77,12,FALSE)+VLOOKUP($C29,'15-Min All Vehicle'!$C$14:$W$77,12,FALSE))","v":6.9444441229424019},{"$f":"100*(VLOOKUP($C30,'15-Min Semi-Truck'!$C$14:$W$77,13,FALSE)+VLOOKUP($C31,'15-Min Semi-Truck'!$C$14:$W$77,13,FALSE)+VLOOKUP($C32,'15-Min Semi-Truck'!$C$14:$W$77,13,FALSE)+VLOOKUP($C29,'15-Min Semi-Truck'!$C$14:$W$77,13,FALSE))/(0.00001+VLOOKUP($C30,'15-Min All Vehicle'!$C$14:$W$77,13,FALSE)+VLOOKUP($C31,'15-Min All Vehicle'!$C$14:$W$77,13,FALSE)+VLOOKUP($C32,'15-Min All Vehicle'!$C$14:$W$77,13,FALSE)+VLOOKUP($C29,'15-Min All Vehicle'!$C$14:$W$77,13,FALSE))","v":0},{"$f":"100*(VLOOKUP($C30,'15-Min Semi-Truck'!$C$14:$W$77,14,FALSE)+VLOOKUP($C31,'15-Min Semi-Truck'!$C$14:$W$77,14,FALSE)+VLOOKUP($C32,'15-Min Semi-Truck'!$C$14:$W$77,14,FALSE)+VLOOKUP($C29,'15-Min Semi-Truck'!$C$14:$W$77,14,FALSE))/(0.00001+VLOOKUP($C30,'15-Min All Vehicle'!$C$14:$W$77,14,FALSE)+VLOOKUP($C31,'15-Min All Vehicle'!$C$14:$W$77,14,FALSE)+VLOOKUP($C32,'15-Min All Vehicle'!$C$14:$W$77,14,FALSE)+VLOOKUP($C29,'15-Min All Vehicle'!$C$14:$W$77,14,FALSE))","v":2.1582733295378098},{"$f":"IF(ISERROR(P36=TRUE),\"#N/A\",0)","v":0},{"$f":"100*(VLOOKUP($C30,'15-Min Semi-Truck'!$C$14:$W$77,16,FALSE)+VLOOKUP($C31,'15-Min Semi-Truck'!$C$14:$W$77,16,FALSE)+VLOOKUP($C32,'15-Min Semi-Truck'!$C$14:$W$77,16,FALSE)+VLOOKUP($C29,'15-Min Semi-Truck'!$C$14:$W$77,16,FALSE))/(0.00001+VLOOKUP($C30,'15-Min All Vehicle'!$C$14:$W$77,16,FALSE)+VLOOKUP($C31,'15-Min All Vehicle'!$C$14:$W$77,16,FALSE)+VLOOKUP($C32,'15-Min All Vehicle'!$C$14:$W$77,16,FALSE)+VLOOKUP($C29,'15-Min All Vehicle'!$C$14:$W$77,16,FALSE))","v":3.7914691344159697},{"$f":"100*(VLOOKUP($C30,'15-Min Semi-Truck'!$C$14:$W$77,17,FALSE)+VLOOKUP($C31,'15-Min Semi-Truck'!$C$14:$W$77,17,FALSE)+VLOOKUP($C32,'15-Min Semi-Truck'!$C$14:$W$77,17,FALSE)+VLOOKUP($C29,'15-Min Semi-Truck'!$C$14:$W$77,17,FALSE))/(0.00001+VLOOKUP($C30,'15-Min All Vehicle'!$C$14:$W$77,17,FALSE)+VLOOKUP($C31,'15-Min All Vehicle'!$C$14:$W$77,17,FALSE)+VLOOKUP($C32,'15-Min All Vehicle'!$C$14:$W$77,17,FALSE)+VLOOKUP($C29,'15-Min All Vehicle'!$C$14:$W$77,17,FALSE))","v":0},{"$f":"100*(VLOOKUP($C30,'15-Min Semi-Truck'!$C$14:$W$77,18,FALSE)+VLOOKUP($C31,'15-Min Semi-Truck'!$C$14:$W$77,18,FALSE)+VLOOKUP($C32,'15-Min Semi-Truck'!$C$14:$W$77,18,FALSE)+VLOOKUP($C29,'15-Min Semi-Truck'!$C$14:$W$77,18,FALSE))/(0.00001+VLOOKUP($C30,'15-Min All Vehicle'!$C$14:$W$77,18,FALSE)+VLOOKUP($C31,'15-Min All Vehicle'!$C$14:$W$77,18,FALSE)+VLOOKUP($C32,'15-Min All Vehicle'!$C$14:$W$77,18,FALSE)+VLOOKUP($C29,'15-Min All Vehicle'!$C$14:$W$77,18,FALSE))","v":2.4390243158834051},{"$f":"100*(VLOOKUP($C30,'15-Min Semi-Truck'!$C$14:$W$77,19,FALSE)+VLOOKUP($C31,'15-Min Semi-Truck'!$C$14:$W$77,19,FALSE)+VLOOKUP($C32,'15-Min Semi-Truck'!$C$14:$W$77,19,FALSE)+VLOOKUP($C29,'15-Min Semi-Truck'!$C$14:$W$77,19,FALSE))/(0.00001+VLOOKUP($C30,'15-Min All Vehicle'!$C$14:$W$77,19,FALSE)+VLOOKUP($C31,'15-Min All Vehicle'!$C$14:$W$77,19,FALSE)+VLOOKUP($C32,'15-Min All Vehicle'!$C$14:$W$77,19,FALSE)+VLOOKUP($C29,'15-Min All Vehicle'!$C$14:$W$77,19,FALSE))","v":13.888885030865268},{"$f":"IF(ISERROR(U36=TRUE),\"#N/A\",0)","v":0},{"$f":"100*(VLOOKUP($C30,'15-Min Semi-Truck'!$C$14:$W$77,21,FALSE)+VLOOKUP($C31,'15-Min Semi-Truck'!$C$14:$W$77,21,FALSE)+VLOOKUP($C32,'15-Min Semi-Truck'!$C$14:$W$77,21,FALSE)+VLOOKUP($C29,'15-Min Semi-Truck'!$C$14:$W$77,21,FALSE))/(0.00001+VLOOKUP($C30,'15-Min All Vehicle'!$C$14:$W$77,21,FALSE)+VLOOKUP($C31,'15-Min All Vehicle'!$C$14:$W$77,21,FALSE)+VLOOKUP($C32,'15-Min All Vehicle'!$C$14:$W$77,21,FALSE)+VLOOKUP($C29,'15-Min All Vehicle'!$C$14:$W$77,21,FALSE))","v":3.5714284733124049},{"$f":"100*(VLOOKUP($C30,'15-Min Semi-Truck'!$C$14:$X$77,22,FALSE)+VLOOKUP($C31,'15-Min Semi-Truck'!$C$14:$X$77,22,FALSE)+VLOOKUP($C32,'15-Min Semi-Truck'!$C$14:$X$77,22,FALSE)+VLOOKUP($C29,'15-Min Semi-Truck'!$C$14:$X$77,22,FALSE))/(0.00001+VLOOKUP($C30,'15-Min All Vehicle'!$C$14:$X$77,22,FALSE)+VLOOKUP($C31,'15-Min All Vehicle'!$C$14:$X$77,22,FALSE)+VLOOKUP($C32,'15-Min All Vehicle'!$C$14:$X$77,22,FALSE)+VLOOKUP($C29,'15-Min All Vehicle'!$C$14:$X$77,22,FALSE))","v":3.8978494361703668}]
[null,null,"% Trucks (Total)",{"$f":"100*(VLOOKUP($C31,'15-Min Heavy Vehicle'!$C$14:$W$77,2,FALSE)+VLOOKUP($C32,'15-Min Heavy Vehicle'!$C$14:$W$77,2,FALSE)+VLOOKUP($C29,'15-Min Heavy Vehicle'!$C$14:$W$77,2,FALSE)+VLOOKUP($C30,'15-Min Heavy Vehicle'!$C$14:$W$77,2,FALSE))/(0.00001+VLOOKUP($C30,'15-Min All Vehicle'!$C$14:$W$77,2,FALSE)+VLOOKUP($C32,'15-Min All Vehicle'!$C$14:$W$77,2,FALSE)+VLOOKUP($C29,'15-Min All Vehicle'!$C$14:$W$77,2,FALSE)+VLOOKUP($C31,'15-Min All Vehicle'!$C$14:$W$77,2,FALSE))","v":0},{"$f":"100*(VLOOKUP($C31,'15-Min Heavy Vehicle'!$C$14:$W$77,3,FALSE)+VLOOKUP($C32,'15-Min Heavy Vehicle'!$C$14:$W$77,3,FALSE)+VLOOKUP($C29,'15-Min Heavy Vehicle'!$C$14:$W$77,3,FALSE)+VLOOKUP($C30,'15-Min Heavy Vehicle'!$C$14:$W$77,3,FALSE))/(0.00001+VLOOKUP($C30,'15-Min All Vehicle'!$C$14:$W$77,3,FALSE)+VLOOKUP($C32,'15-Min All Vehicle'!$C$14:$W$77,3,FALSE)+VLOOKUP($C29,'15-Min All Vehicle'!$C$14:$W$77,3,FALSE)+VLOOKUP($C31,'15-Min All Vehicle'!$C$14:$W$77,3,FALSE))","v":0},{"$f":"100*(VLOOKUP($C31,'15-Min Heavy Vehicle'!$C$14:$W$77,4,FALSE)+VLOOKUP($C32,'15-Min Heavy Vehicle'!$C$14:$W$77,4,FALSE)+VLOOKUP($C29,'15-Min Heavy Vehicle'!$C$14:$W$77,4,FALSE)+VLOOKUP($C30,'15-Min Heavy Vehicle'!$C$14:$W$77,4,FALSE))/(0.00001+VLOOKUP($C30,'15-Min All Vehicle'!$C$14:$W$77,4,FALSE)+VLOOKUP($C32,'15-Min All Vehicle'!$C$14:$W$77,4,FALSE)+VLOOKUP($C29,'15-Min All Vehicle'!$C$14:$W$77,4,FALSE)+VLOOKUP($C31,'15-Min All Vehicle'!$C$14:$W$77,4,FALSE))","v":0},0,{"$f":"100*(VLOOKUP($C31,'15-Min Heavy Vehicle'!$C$14:$W$77,6,FALSE)+VLOOKUP($C32,'15-Min Heavy Vehicle'!$C$14:$W$77,6,FALSE)+VLOOKUP($C29,'15-Min Heavy Vehicle'!$C$14:$W$77,6,FALSE)+VLOOKUP($C30,'15-Min Heavy Vehicle'!$C$14:$W$77,6,FALSE))/(0.00001+VLOOKUP($C30,'15-Min All Vehicle'!$C$14:$W$77,6,FALSE)+VLOOKUP($C32,'15-Min All Vehicle'!$C$14:$W$77,6,FALSE)+VLOOKUP($C29,'15-Min All Vehicle'!$C$14:$W$77,6,FALSE)+VLOOKUP($C31,'15-Min All Vehicle'!$C$14:$W$77,6,FALSE))","v":0},{"$f":"100*(VLOOKUP($C31,'15-Min Heavy Vehicle'!$C$14:$W$77,7,FALSE)+VLOOKUP($C32,'15-Min Heavy Vehicle'!$C$14:$W$77,7,FALSE)+VLOOKUP($C29,'15-Min Heavy Vehicle'!$C$14:$W$77,7,FALSE)+VLOOKUP($C30,'15-Min Heavy Vehicle'!$C$14:$W$77,7,FALSE))/(0.00001+VLOOKUP($C30,'15-Min All Vehicle'!$C$14:$W$77,7,FALSE)+VLOOKUP($C32,'15-Min All Vehicle'!$C$14:$W$77,7,FALSE)+VLOOKUP($C29,'15-Min All Vehicle'!$C$14:$W$77,7,FALSE)+VLOOKUP($C31,'15-Min All Vehicle'!$C$14:$W$77,7,FALSE))","v":13.999997200000559},{"$f":"100*(VLOOKUP($C31,'15-Min Heavy Vehicle'!$C$14:$W$77,8,FALSE)+VLOOKUP($C32,'15-Min Heavy Vehicle'!$C$14:$W$77,8,FALSE)+VLOOKUP($C29,'15-Min Heavy Vehicle'!$C$14:$W$77,8,FALSE)+VLOOKUP($C30,'15-Min Heavy Vehicle'!$C$14:$W$77,8,FALSE))/(0.00001+VLOOKUP($C30,'15-Min All Vehicle'!$C$14:$W$77,8,FALSE)+VLOOKUP($C32,'15-Min All Vehicle'!$C$14:$W$77,8,FALSE)+VLOOKUP($C29,'15-Min All Vehicle'!$C$14:$W$77,8,FALSE)+VLOOKUP($C31,'15-Min All Vehicle'!$C$14:$W$77,8,FALSE))","v":6.5759635697060421},{"$f":"100*(VLOOKUP($C31,'15-Min Heavy Vehicle'!$C$14:$W$77,9,FALSE)+VLOOKUP($C32,'15-Min Heavy Vehicle'!$C$14:$W$77,9,FALSE)+VLOOKUP($C29,'15-Min Heavy Vehicle'!$C$14:$W$77,9,FALSE)+VLOOKUP($C30,'15-Min Heavy Vehicle'!$C$14:$W$77,9,FALSE))/(0.00001+VLOOKUP($C30,'15-Min All Vehicle'!$C$14:$W$77,9,FALSE)+VLOOKUP($C32,'15-Min All Vehicle'!$C$14:$W$77,9,FALSE)+VLOOKUP($C29,'15-Min All Vehicle'!$C$14:$W$77,9,FALSE)+VLOOKUP($C31,'15-Min All Vehicle'!$C$14:$W$77,9,FALSE))","v":0},0,{"$f":"100*(VLOOKUP($C31,'15-Min Heavy Vehicle'!$C$14:$W$77,11,FALSE)+VLOOKUP($C32,'15-Min Heavy Vehicle'!$C$14:$W$77,11,FALSE)+VLOOKUP($C29,'15-Min Heavy Vehicle'!$C$14:$W$77,11,FALSE)+VLOOKUP($C30,'15-Min Heavy Vehicle'!$C$14:$W$77,11,FALSE))/(0.00001+VLOOKUP($C30,'15-Min All Vehicle'!$C$14:$W$77,11,FALSE)+VLOOKUP($C32,'15-Min All Vehicle'!$C$14:$W$77,11,FALSE)+VLOOKUP($C29,'15-Min All Vehicle'!$C$14:$W$77,11,FALSE)+VLOOKUP($C31,'15-Min All Vehicle'!$C$14:$W$77,11,FALSE))","v":7.3319754107540653},{"$f":"100*(VLOOKUP($C31,'15-Min Heavy Vehicle'!$C$14:$W$77,12,FALSE)+VLOOKUP($C32,'15-Min Heavy Vehicle'!$C$14:$W$77,12,FALSE)+VLOOKUP($C29,'15-Min Heavy Vehicle'!$C$14:$W$77,12,FALSE)+VLOOKUP($C30,'15-Min Heavy Vehicle'!$C$14:$W$77,12,FALSE))/(0.00001+VLOOKUP($C30,'15-Min All Vehicle'!$C$14:$W$77,12,FALSE)+VLOOKUP($C32,'15-Min All Vehicle'!$C$14:$W$77,12,FALSE)+VLOOKUP($C29,'15-Min All Vehicle'!$C$14:$W$77,12,FALSE)+VLOOKUP($C31,'15-Min All Vehicle'!$C$14:$W$77,12,FALSE))","v":8.7962958890603762},{"$f":"100*(VLOOKUP($C31,'15-Min Heavy Vehicle'!$C$14:$W$77,13,FALSE)+VLOOKUP($C32,'15-Min Heavy Vehicle'!$C$14:$W$77,13,FALSE)+VLOOKUP($C29,'15-Min Heavy Vehicle'!$C$14:$W$77,13,FALSE)+VLOOKUP($C30,'15-Min Heavy Vehicle'!$C$14:$W$77,13,FALSE))/(0.00001+VLOOKUP($C30,'15-Min All Vehicle'!$C$14:$W$77,13,FALSE)+VLOOKUP($C32,'15-Min All Vehicle'!$C$14:$W$77,13,FALSE)+VLOOKUP($C29,'15-Min All Vehicle'!$C$14:$W$77,13,FALSE)+VLOOKUP($C31,'15-Min All Vehicle'!$C$14:$W$77,13,FALSE))","v":0},{"$f":"100*(VLOOKUP($C31,'15-Min Heavy Vehicle'!$C$14:$W$77,14,FALSE)+VLOOKUP($C32,'15-Min Heavy Vehicle'!$C$14:$W$77,14,FALSE)+VLOOKUP($C29,'15-Min Heavy Vehicle'!$C$14:$W$77,14,FALSE)+VLOOKUP($C30,'15-Min Heavy Vehicle'!$C$14:$W$77,14,FALSE))/(0.00001+VLOOKUP($C30,'15-Min All Vehicle'!$C$14:$W$77,14,FALSE)+VLOOKUP($C32,'15-Min All Vehicle'!$C$14:$W$77,14,FALSE)+VLOOKUP($C29,'15-Min All Vehicle'!$C$14:$W$77,14,FALSE)+VLOOKUP($C31,'15-Min All Vehicle'!$C$14:$W$77,14,FALSE))","v":5.275779249981313},0,{"$f":"100*(VLOOKUP($C31,'15-Min Heavy Vehicle'!$C$14:$W$77,16,FALSE)+VLOOKUP($C32,'15-Min Heavy Vehicle'!$C$14:$W$77,16,FALSE)+VLOOKUP($C29,'15-Min Heavy Vehicle'!$C$14:$W$77,16,FALSE)+VLOOKUP($C30,'15-Min Heavy Vehicle'!$C$14:$W$77,16,FALSE))/(0.00001+VLOOKUP($C30,'15-Min All Vehicle'!$C$14:$W$77,16,FALSE)+VLOOKUP($C32,'15-Min All Vehicle'!$C$14:$W$77,16,FALSE)+VLOOKUP($C29,'15-Min All Vehicle'!$C$14:$W$77,16,FALSE)+VLOOKUP($C31,'15-Min All Vehicle'!$C$14:$W$77,16,FALSE))","v":6.4770931046272811},{"$f":"100*(VLOOKUP($C31,'15-Min Heavy Vehicle'!$C$14:$W$77,17,FALSE)+VLOOKUP($C32,'15-Min Heavy Vehicle'!$C$14:$W$77,17,FALSE)+VLOOKUP($C29,'15-Min Heavy Vehicle'!$C$14:$W$77,17,FALSE)+VLOOKUP($C30,'15-Min Heavy Vehicle'!$C$14:$W$77,17,FALSE))/(0.00001+VLOOKUP($C30,'15-Min All Vehicle'!$C$14:$W$77,17,FALSE)+VLOOKUP($C32,'15-Min All Vehicle'!$C$14:$W$77,17,FALSE)+VLOOKUP($C29,'15-Min All Vehicle'!$C$14:$W$77,17,FALSE)+VLOOKUP($C31,'15-Min All Vehicle'!$C$14:$W$77,17,FALSE))","v":0},{"$f":"100*(VLOOKUP($C31,'15-Min Heavy Vehicle'!$C$14:$W$77,18,FALSE)+VLOOKUP($C32,'15-Min Heavy Vehicle'!$C$14:$W$77,18,FALSE)+VLOOKUP($C29,'15-Min Heavy Vehicle'!$C$14:$W$77,18,FALSE)+VLOOKUP($C30,'15-Min Heavy Vehicle'!$C$14:$W$77,18,FALSE))/(0.00001+VLOOKUP($C30,'15-Min All Vehicle'!$C$14:$W$77,18,FALSE)+VLOOKUP($C32,'15-Min All Vehicle'!$C$14:$W$77,18,FALSE)+VLOOKUP($C29,'15-Min All Vehicle'!$C$14:$W$77,18,FALSE)+VLOOKUP($C31,'15-Min All Vehicle'!$C$14:$W$77,18,FALSE))","v":8.536585105591918},{"$f":"100*(VLOOKUP($C31,'15-Min Heavy Vehicle'!$C$14:$W$77,19,FALSE)+VLOOKUP($C32,'15-Min Heavy Vehicle'!$C$14:$W$77,19,FALSE)+VLOOKUP($C29,'15-Min Heavy Vehicle'!$C$14:$W$77,19,FALSE)+VLOOKUP($C30,'15-Min Heavy Vehicle'!$C$14:$W$77,19,FALSE))/(0.00001+VLOOKUP($C30,'15-Min All Vehicle'!$C$14:$W$77,19,FALSE)+VLOOKUP($C32,'15-Min All Vehicle'!$C$14:$W$77,19,FALSE)+VLOOKUP($C29,'15-Min All Vehicle'!$C$14:$W$77,19,FALSE)+VLOOKUP($C31,'15-Min All Vehicle'!$C$14:$W$77,19,FALSE))","v":22.222216049384429},0,{"$f":"100*(VLOOKUP($C31,'15-Min Heavy Vehicle'!$C$14:$W$77,21,FALSE)+VLOOKUP($C32,'15-Min Heavy Vehicle'!$C$14:$W$77,21,FALSE)+VLOOKUP($C29,'15-Min Heavy Vehicle'!$C$14:$W$77,21,FALSE)+VLOOKUP($C30,'15-Min Heavy Vehicle'!$C$14:$W$77,21,FALSE))/(0.00001+VLOOKUP($C30,'15-Min All Vehicle'!$C$14:$W$77,21,FALSE)+VLOOKUP($C32,'15-Min All Vehicle'!$C$14:$W$77,21,FALSE)+VLOOKUP($C29,'15-Min All Vehicle'!$C$14:$W$77,21,FALSE)+VLOOKUP($C31,'15-Min All Vehicle'!$C$14:$W$77,21,FALSE))","v":9.8901096184035833},{"$f":"100*(VLOOKUP($C31,'15-Min Heavy Vehicle'!$C$14:$X$77,22,FALSE)+VLOOKUP($C32,'15-Min Heavy Vehicle'!$C$14:$X$77,22,FALSE)+VLOOKUP($C29,'15-Min Heavy Vehicle'!$C$14:$X$77,22,FALSE)+VLOOKUP($C30,'15-Min Heavy Vehicle'!$C$14:$X$77,22,FALSE))/(0.00001+VLOOKUP($C30,'15-Min All Vehicle'!$C$14:$X$77,22,FALSE)+VLOOKUP($C32,'15-Min All Vehicle'!$C$14:$X$77,22,FALSE)+VLOOKUP($C29,'15-Min All Vehicle'!$C$14:$X$77,22,FALSE)+VLOOKUP($C31,'15-Min All Vehicle'!$C$14:$X$77,22,FALSE))","v":7.5940859704698527}]
[null,null,"Peak Hour Factor (PHF)",{"$f":"SUM(D29:D32)/(0.000001+4*MAX(D29:D32))","v":0},{"$f":"SUM(E29:E32)/(0.000001+4*MAX(E29:E32))","v":0},0,0,0,0.96153844304733771,0.88911290143324018,0,0,0.89598539982484415,0.88524589801128728,0,0.8760504183276252,0,0.92543859513824767,0,0.81999999795,0.74999998437500037,0,0.84259259064214675,0.93233082648350196]
[]
[null,{"$f":"'Base Information'!O14","v":"2011-12-06"},null,null,null,"ê",null,null,null,null,"ç",null,null,null,null,"é",null,null,null,null,"è"]
[null,null,null,"From North",null,null,null,null,"From East",null,null,null,null,"From South",null,null,null,null,"From West"]
[null,"PM Peak Hour","PM Peak Hour",{"$f":"'Base Information'!$D$14:$D$14","v":"441 NB ON RAMP"},null,null,null,null,{"$f":"'Base Information'!$D$15:$D$15","v":"CTH OO (Northland Ave)"},null,null,null,null,{"$f":"'Base Information'!$D$16:$D$16","v":"441 NB OFF RAMP"},null,null,null,null,{"$f":"'Base Information'!$D$17:$D$17","v":"CTH OO (Northland Ave)"}]
[null,null,"Start Time","Right ","Thru ","Left ","U-Tn","Total","Right ","Thru ","Left ","U-Tn","Total","Right ","Thru ","Left ","U-Tn","Total","Right ","Thru ","Left ","U-Tn","Total","Totals"]
[null,null,{"$f":"IF(ISERROR(VLOOKUP('Base Information'!$U$18,'Base Information'!$C$91:$G$151,2,FALSE)=TRUE),0.666666,VLOOKUP('Base Information'!$U$18,'Base Information'!$C$91:$G$151,2,FALSE))","v":"16:30:00"},{"$f":"VLOOKUP($C44,'15-Min All Vehicle'!$C$14:$W$77,2,FALSE)","v":0},{"$f":"VLOOKUP($C44,'15-Min All Vehicle'!$C$14:$W$77,3,FALSE)","v":0},{"$f":"VLOOKUP($C44,'15-Min All Vehicle'!$C$14:$W$77,4,FALSE)","v":0},{"$f":"VLOOKUP($C44,'15-Min All Vehicle'!$C$14:$W$77,5,FALSE)","v":0},{"$f":"SUM(D44:G44)","v":0},{"$f":"VLOOKUP($C44,'15-Min All Vehicle'!$C$14:$W$77,7,FALSE)","v":16},{"$f":"VLOOKUP($C44,'15-Min All Vehicle'!$C$14:$W$77,8,FALSE)","v":144},{"$f":"VLOOKUP($C44,'15-Min All Vehicle'!$C$14:$W$77,9,FALSE)","v":0},{"$f":"VLOOKUP($C44,'15-Min All Vehicle'!$C$14:$W$77,10,FALSE)","v":0},{"$f":"SUM(I44:L44)","v":160},{"$f":"VLOOKUP($C44,'15-Min All Vehicle'!$C$14:$W$77,12,FALSE)","v":128},{"$f":"VLOOKUP($C44,'15-Min All Vehicle'!$C$14:$W$77,13,FALSE)","v":0},{"$f":"VLOOKUP($C44,'15-Min All Vehicle'!$C$14:$W$77,14,FALSE)","v":92},{"$f":"VLOOKUP($C44,'15-Min All Vehicle'!$C$14:$W$77,15,FALSE)","v":0},{"$f":"SUM(N44:Q44)","v":220},{"$f":"VLOOKUP($C44,'15-Min All Vehicle'!$C$14:$W$77,17,FALSE)","v":0},{"$f":"VLOOKUP($C44,'15-Min All Vehicle'!$C$14:$W$77,18,FALSE)","v":148},{"$f":"VLOOKUP($C44,'15-Min All Vehicle'!$C$14:$W$77,19,FALSE)","v":31},{"$f":"VLOOKUP($C44,'15-Min All Vehicle'!$C$14:$W$77,20,FALSE)","v":0},{"$f":"SUM(S44:V44)","v":179},{"$f":"H44+M44+R44+W44","v":559}]
[null,null,{"$f":"IF(ISERROR(VLOOKUP('Base Information'!$U$18,'Base Information'!$C$91:$G$151,3,FALSE)=TRUE),0.677083,VLOOKUP('Base Information'!$U$18,'Base Information'!$C$91:$G$151,3,FALSE))","v":"16:44:59.942"},{"$f":"VLOOKUP($C45,'15-Min All Vehicle'!$C$14:$W$77,2,FALSE)","v":0},{"$f":"VLOOKUP($C45,'15-Min All Vehicle'!$C$14:$W$77,3,FALSE)","v":0},{"$f":"VLOOKUP($C45,'15-Min All Vehicle'!$C$14:$W$77,4,FALSE)","v":0},{"$f":"VLOOKUP($C45,'15-Min All Vehicle'!$C$14:$W$77,5,FALSE)","v":0},{"$f":"SUM(D45:G45)","v":0},{"$f":"VLOOKUP($C45,'15-Min All Vehicle'!$C$14:$W$77,7,FALSE)","v":16},{"$f":"VLOOKUP($C45,'15-Min All Vehicle'!$C$14:$W$77,8,FALSE)","v":157},{"$f":"VLOOKUP($C45,'15-Min All Vehicle'!$C$14:$W$77,9,FALSE)","v":0},{"$f":"VLOOKUP($C45,'15-Min All Vehicle'!$C$14:$W$77,10,FALSE)","v":0},{"$f":"SUM(I45:L45)","v":173},{"$f":"VLOOKUP($C45,'15-Min All Vehicle'!$C$14:$W$77,12,FALSE)","v":152},{"$f":"VLOOKUP($C45,'15-Min All Vehicle'!$C$14:$W$77,13,FALSE)","v":0},{"$f":"VLOOKUP($C45,'15-Min All Vehicle'!$C$14:$W$77,14,FALSE)","v":117},{"$f":"VLOOKUP($C45,'15-Min All Vehicle'!$C$14:$W$77,15,FALSE)","v":0},{"$f":"SUM(N45:Q45)","v":269},{"$f":"VLOOKUP($C45,'15-Min All Vehicle'!$C$14:$W$77,17,FALSE)","v":0},{"$f":"VLOOKUP($C45,'15-Min All Vehicle'!$C$14:$W$77,18,FALSE)","v":128},{"$f":"VLOOKUP($C45,'15-Min All Vehicle'!$C$14:$W$77,19,FALSE)","v":35},{"$f":"VLOOKUP($C45,'15-Min All Vehicle'!$C$14:$W$77,20,FALSE)","v":0},{"$f":"SUM(S45:V45)","v":163},{"$f":"H45+M45+R45+W45","v":605}]
[null,null,{"$f":"IF(ISERROR(VLOOKUP('Base Information'!$U$18,'Base Information'!$C$91:$G$151,4,FALSE)=TRUE),0.6875,VLOOKUP('Base Information'!$U$18,'Base Information'!$C$91:$G$151,4,FALSE))","v":"16:59:59.971"},{"$f":"VLOOKUP($C46,'15-Min All Vehicle'!$C$14:$W$77,2,FALSE)","v":0},{"$f":"VLOOKUP($C46,'15-Min All Vehicle'!$C$14:$W$77,3,FALSE)","v":0},{"$f":"VLOOKUP($C46,'15-Min All Vehicle'!$C$14:$W$77,4,FALSE)","v":0},{"$f":"VLOOKUP($C46,'15-Min All Vehicle'!$C$14:$W$77,5,FALSE)","v":0},0,{"$f":"VLOOKUP($C46,'15-Min All Vehicle'!$C$14:$W$77,7,FALSE)","v":20},{"$f":"VLOOKUP($C46,'15-Min All Vehicle'!$C$14:$W$77,8,FALSE)","v":139},{"$f":"VLOOKUP($C46,'15-Min All Vehicle'!$C$14:$W$77,9,FALSE)","v":0},{"$f":"VLOOKUP($C46,'15-Min All Vehicle'!$C$14:$W$77,10,FALSE)","v":0},159,{"$f":"VLOOKUP($C46,'15-Min All Vehicle'!$C$14:$W$77,12,FALSE)","v":104},{"$f":"VLOOKUP($C46,'15-Min All Vehicle'!$C$14:$W$77,13,FALSE)","v":0},{"$f":"VLOOKUP($C46,'15-Min All Vehicle'!$C$14:$W$77,14,FALSE)","v":96},{"$f":"VLOOKUP($C46,'15-Min All Vehicle'!$C$14:$W$77,15,FALSE)","v":0},200,{"$f":"VLOOKUP($C46,'15-Min All Vehicle'!$C$14:$W$77,17,FALSE)","v":0},{"$f":"VLOOKUP($C46,'15-Min All Vehicle'!$C$14:$W$77,18,FALSE)","v":126},{"$f":"VLOOKUP($C46,'15-Min All Vehicle'!$C$14:$W$77,19,FALSE)","v":24},{"$f":"VLOOKUP($C46,'15-Min All Vehicle'!$C$14:$W$77,20,FALSE)","v":0},150,509]
[null,null,{"$f":"IF(ISERROR(VLOOKUP('Base Information'!$U$18,'Base Information'!$C$91:$G$151,5,FALSE)=TRUE),0.697916,VLOOKUP('Base Information'!$U$18,'Base Information'!$C$91:$G$151,5,FALSE))","v":"17:15:00"},{"$f":"VLOOKUP($C47,'15-Min All Vehicle'!$C$14:$W$77,2,FALSE)","v":0},{"$f":"VLOOKUP($C47,'15-Min All Vehicle'!$C$14:$W$77,3,FALSE)","v":0},{"$f":"VLOOKUP($C47,'15-Min All Vehicle'!$C$14:$W$77,4,FALSE)","v":0},{"$f":"VLOOKUP($C47,'15-Min All Vehicle'!$C$14:$W$77,5,FALSE)","v":0},0,{"$f":"VLOOKUP($C47,'15-Min All Vehicle'!$C$14:$W$77,7,FALSE)","v":12},{"$f":"VLOOKUP($C47,'15-Min All Vehicle'!$C$14:$W$77,8,FALSE)","v":150},{"$f":"VLOOKUP($C47,'15-Min All Vehicle'!$C$14:$W$77,9,FALSE)","v":0},{"$f":"VLOOKUP($C47,'15-Min All Vehicle'!$C$14:$W$77,10,FALSE)","v":0},162,{"$f":"VLOOKUP($C47,'15-Min All Vehicle'!$C$14:$W$77,12,FALSE)","v":137},{"$f":"VLOOKUP($C47,'15-Min All Vehicle'!$C$14:$W$77,13,FALSE)","v":0},{"$f":"VLOOKUP($C47,'15-Min All Vehicle'!$C$14:$W$77,14,FALSE)","v":108},{"$f":"VLOOKUP($C47,'15-Min All Vehicle'!$C$14:$W$77,15,FALSE)","v":0},245,{"$f":"VLOOKUP($C47,'15-Min All Vehicle'!$C$14:$W$77,17,FALSE)","v":0},{"$f":"VLOOKUP($C47,'15-Min All Vehicle'!$C$14:$W$77,18,FALSE)","v":142},{"$f":"VLOOKUP($C47,'15-Min All Vehicle'!$C$14:$W$77,19,FALSE)","v":19},{"$f":"VLOOKUP($C47,'15-Min All Vehicle'!$C$14:$W$77,20,FALSE)","v":0},161,568]
[null,null,"Peak Hour Volume",{"$f":"SUM(D44:D47)","v":0},{"$f":"SUM(E44:E47)","v":0},{"$f":"SUM(F44:F47)","v":0},{"$f":"SUM(G44:G47)","v":0},{"$f":"SUM(H44:H47)","v":0},{"$f":"SUM(I44:I47)","v":64},{"$f":"SUM(J44:J47)","v":590},{"$f":"SUM(K44:K47)","v":0},{"$f":"SUM(L44:L47)","v":0},{"$f":"SUM(M44:M47)","v":654},{"$f":"SUM(N44:N47)","v":521},{"$f":"SUM(O44:O47)","v":0},{"$f":"SUM(P44:P47)","v":413},{"$f":"SUM(Q44:Q47)","v":0},{"$f":"SUM(R44:R47)","v":934},{"$f":"SUM(S44:S47)","v":0},{"$f":"SUM(T44:T47)","v":544},{"$f":"SUM(U44:U47)","v":109},{"$f":"SUM(V44:V47)","v":0},{"$f":"SUM(W44:W47)","v":653},{"$f":"SUM(X44:X47)","v":2241}]
[null,null,"Rounded Hourly Volume",{"$f":"MROUND(D48,5)","v":0},{"$f":"MROUND(E48,5)","v":0},{"$f":"MROUND(F48,5)","v":0},{"$f":"MROUND(G48,5)","v":0},{"$f":"SUM(D49:G49)","v":0},{"$f":"MROUND(I48,5)","v":65},{"$f":"MROUND(J48,5)","v":590},{"$f":"MROUND(K48,5)","v":0},{"$f":"MROUND(L48,5)","v":0},{"$f":"SUM(I49:L49)","v":655},{"$f":"MROUND(N48,5)","v":520},{"$f":"MROUND(O48,5)","v":0},{"$f":"MROUND(P48,5)","v":415},{"$f":"MROUND(Q48,5)","v":0},{"$f":"SUM(N49:Q49)","v":935},{"$f":"MROUND(S48,5)","v":0},{"$f":"MROUND(T48,5)","v":545},{"$f":"MROUND(U48,5)","v":110},{"$f":"MROUND(V48,5)","v":0},{"$f":"SUM(S49:V49)","v":655},{"$f":"H49+M49+R49+W49","v":2245}]
[null,null,"% Single Unit Trucks",{"$f":"100*(VLOOKUP($C44,'15-Min SU-Truck'!$C$14:$W$77,2,FALSE)+VLOOKUP($C45,'15-Min SU-Truck'!$C$14:$W$77,2,FALSE)+VLOOKUP($C46,'15-Min SU-Truck'!$C$14:$W$77,2,FALSE)+VLOOKUP($C47,'15-Min SU-Truck'!$C$14:$W$77,2,FALSE))/(0.00001+VLOOKUP($C44,'15-Min All Vehicle'!$C$14:$W$77,2,FALSE)+VLOOKUP($C45,'15-Min All Vehicle'!$C$14:$W$77,2,FALSE)+VLOOKUP($C46,'15-Min All Vehicle'!$C$14:$W$77,2,FALSE)+VLOOKUP($C47,'15-Min All Vehicle'!$C$17:$W$77,2,FALSE))","v":0},{"$f":"100*(VLOOKUP($C44,'15-Min SU-Truck'!$C$14:$W$77,3,FALSE)+VLOOKUP($C45,'15-Min SU-Truck'!$C$14:$W$77,3,FALSE)+VLOOKUP($C46,'15-Min SU-Truck'!$C$14:$W$77,3,FALSE)+VLOOKUP($C47,'15-Min SU-Truck'!$C$14:$W$77,3,FALSE))/(0.00001+VLOOKUP($C44,'15-Min All Vehicle'!$C$14:$W$77,3,FALSE)+VLOOKUP($C45,'15-Min All Vehicle'!$C$14:$W$77,3,FALSE)+VLOOKUP($C46,'15-Min All Vehicle'!$C$14:$W$77,3,FALSE)+VLOOKUP($C47,'15-Min All Vehicle'!$C$17:$W$77,3,FALSE))","v":0},{"$f":"100*(VLOOKUP($C44,'15-Min SU-Truck'!$C$14:$W$77,4,FALSE)+VLOOKUP($C45,'15-Min SU-Truck'!$C$14:$W$77,4,FALSE)+VLOOKUP($C46,'15-Min SU-Truck'!$C$14:$W$77,4,FALSE)+VLOOKUP($C47,'15-Min SU-Truck'!$C$14:$W$77,4,FALSE))/(0.00001+VLOOKUP($C44,'15-Min All Vehicle'!$C$14:$W$77,4,FALSE)+VLOOKUP($C45,'15-Min All Vehicle'!$C$14:$W$77,4,FALSE)+VLOOKUP($C46,'15-Min All Vehicle'!$C$14:$W$77,4,FALSE)+VLOOKUP($C47,'15-Min All Vehicle'!$C$17:$W$77,4,FALSE))","v":0},{"$f":"IF(ISERROR(F50=TRUE),\"#N/A\",0)","v":0},{"$f":"100*(VLOOKUP($C44,'15-Min SU-Truck'!$C$14:$W$77,6,FALSE)+VLOOKUP($C45,'15-Min SU-Truck'!$C$14:$W$77,6,FALSE)+VLOOKUP($C46,'15-Min SU-Truck'!$C$14:$W$77,6,FALSE)+VLOOKUP($C47,'15-Min SU-Truck'!$C$14:$W$77,6,FALSE))/(0.00001+VLOOKUP($C44,'15-Min All Vehicle'!$C$14:$W$77,6,FALSE)+VLOOKUP($C45,'15-Min All Vehicle'!$C$14:$W$77,6,FALSE)+VLOOKUP($C46,'15-Min All Vehicle'!$C$14:$W$77,6,FALSE)+VLOOKUP($C47,'15-Min All Vehicle'!$C$17:$W$77,6,FALSE))","v":0},{"$f":"100*(VLOOKUP($C44,'15-Min SU-Truck'!$C$14:$W$77,7,FALSE)+VLOOKUP($C45,'15-Min SU-Truck'!$C$14:$W$77,7,FALSE)+VLOOKUP($C46,'15-Min SU-Truck'!$C$14:$W$77,7,FALSE)+VLOOKUP($C47,'15-Min SU-Truck'!$C$14:$W$77,7,FALSE))/(0.00001+VLOOKUP($C44,'15-Min All Vehicle'!$C$14:$W$77,7,FALSE)+VLOOKUP($C45,'15-Min All Vehicle'!$C$14:$W$77,7,FALSE)+VLOOKUP($C46,'15-Min All Vehicle'!$C$14:$W$77,7,FALSE)+VLOOKUP($C47,'15-Min All Vehicle'!$C$17:$W$77,7,FALSE))","v":1.5624997558594131},{"$f":"100*(VLOOKUP($C44,'15-Min SU-Truck'!$C$14:$W$77,8,FALSE)+VLOOKUP($C45,'15-Min SU-Truck'!$C$14:$W$77,8,FALSE)+VLOOKUP($C46,'15-Min SU-Truck'!$C$14:$W$77,8,FALSE)+VLOOKUP($C47,'15-Min SU-Truck'!$C$14:$W$77,8,FALSE))/(0.00001+VLOOKUP($C44,'15-Min All Vehicle'!$C$14:$W$77,8,FALSE)+VLOOKUP($C45,'15-Min All Vehicle'!$C$14:$W$77,8,FALSE)+VLOOKUP($C46,'15-Min All Vehicle'!$C$14:$W$77,8,FALSE)+VLOOKUP($C47,'15-Min All Vehicle'!$C$17:$W$77,8,FALSE))","v":0.67796609020396459},{"$f":"100*(VLOOKUP($C44,'15-Min SU-Truck'!$C$14:$W$77,9,FALSE)+VLOOKUP($C45,'15-Min SU-Truck'!$C$14:$W$77,9,FALSE)+VLOOKUP($C46,'15-Min SU-Truck'!$C$14:$W$77,9,FALSE)+VLOOKUP($C47,'15-Min SU-Truck'!$C$14:$W$77,9,FALSE))/(0.00001+VLOOKUP($C44,'15-Min All Vehicle'!$C$14:$W$77,9,FALSE)+VLOOKUP($C45,'15-Min All Vehicle'!$C$14:$W$77,9,FALSE)+VLOOKUP($C46,'15-Min All Vehicle'!$C$14:$W$77,9,FALSE)+VLOOKUP($C47,'15-Min All Vehicle'!$C$17:$W$77,9,FALSE))","v":0},{"$f":"IF(ISERROR(K50=TRUE),\"#N/A\",0)","v":0},{"$f":"100*(VLOOKUP($C44,'15-Min SU-Truck'!$C$14:$W$77,11,FALSE)+VLOOKUP($C45,'15-Min SU-Truck'!$C$14:$W$77,11,FALSE)+VLOOKUP($C46,'15-Min SU-Truck'!$C$14:$W$77,11,FALSE)+VLOOKUP($C47,'15-Min SU-Truck'!$C$14:$W$77,11,FALSE))/(0.00001+VLOOKUP($C44,'15-Min All Vehicle'!$C$14:$W$77,11,FALSE)+VLOOKUP($C45,'15-Min All Vehicle'!$C$14:$W$77,11,FALSE)+VLOOKUP($C46,'15-Min All Vehicle'!$C$14:$W$77,11,FALSE)+VLOOKUP($C47,'15-Min All Vehicle'!$C$17:$W$77,11,FALSE))","v":0.76452598219379231},{"$f":"100*(VLOOKUP($C44,'15-Min SU-Truck'!$C$14:$W$77,12,FALSE)+VLOOKUP($C45,'15-Min SU-Truck'!$C$14:$W$77,12,FALSE)+VLOOKUP($C46,'15-Min SU-Truck'!$C$14:$W$77,12,FALSE)+VLOOKUP($C47,'15-Min SU-Truck'!$C$14:$W$77,12,FALSE))/(0.00001+VLOOKUP($C44,'15-Min All Vehicle'!$C$14:$W$77,12,FALSE)+VLOOKUP($C45,'15-Min All Vehicle'!$C$14:$W$77,12,FALSE)+VLOOKUP($C46,'15-Min All Vehicle'!$C$14:$W$77,12,FALSE)+VLOOKUP($C47,'15-Min All Vehicle'!$C$17:$W$77,12,FALSE))","v":0.57581572791140645},{"$f":"100*(VLOOKUP($C44,'15-Min SU-Truck'!$C$14:$W$77,13,FALSE)+VLOOKUP($C45,'15-Min SU-Truck'!$C$14:$W$77,13,FALSE)+VLOOKUP($C46,'15-Min SU-Truck'!$C$14:$W$77,13,FALSE)+VLOOKUP($C47,'15-Min SU-Truck'!$C$14:$W$77,13,FALSE))/(0.00001+VLOOKUP($C44,'15-Min All Vehicle'!$C$14:$W$77,13,FALSE)+VLOOKUP($C45,'15-Min All Vehicle'!$C$14:$W$77,13,FALSE)+VLOOKUP($C46,'15-Min All Vehicle'!$C$14:$W$77,13,FALSE)+VLOOKUP($C47,'15-Min All Vehicle'!$C$17:$W$77,13,FALSE))","v":0},{"$f":"100*(VLOOKUP($C44,'15-Min SU-Truck'!$C$14:$W$77,14,FALSE)+VLOOKUP($C45,'15-Min SU-Truck'!$C$14:$W$77,14,FALSE)+VLOOKUP($C46,'15-Min SU-Truck'!$C$14:$W$77,14,FALSE)+VLOOKUP($C47,'15-Min SU-Truck'!$C$14:$W$77,14,FALSE))/(0.00001+VLOOKUP($C44,'15-Min All Vehicle'!$C$14:$W$77,14,FALSE)+VLOOKUP($C45,'15-Min All Vehicle'!$C$14:$W$77,14,FALSE)+VLOOKUP($C46,'15-Min All Vehicle'!$C$14:$W$77,14,FALSE)+VLOOKUP($C47,'15-Min All Vehicle'!$C$17:$W$77,14,FALSE))","v":0.48426148948519399},{"$f":"IF(ISERROR(P50=TRUE),\"#N/A\",0)","v":0},{"$f":"100*(VLOOKUP($C44,'15-Min SU-Truck'!$C$14:$W$77,16,FALSE)+VLOOKUP($C45,'15-Min SU-Truck'!$C$14:$W$77,16,FALSE)+VLOOKUP($C46,'15-Min SU-Truck'!$C$14:$W$77,16,FALSE)+VLOOKUP($C47,'15-Min SU-Truck'!$C$14:$W$77,16,FALSE))/(0.00001+VLOOKUP($C44,'15-Min All Vehicle'!$C$14:$W$77,16,FALSE)+VLOOKUP($C45,'15-Min All Vehicle'!$C$14:$W$77,16,FALSE)+VLOOKUP($C46,'15-Min All Vehicle'!$C$14:$W$77,16,FALSE)+VLOOKUP($C47,'15-Min All Vehicle'!$C$17:$W$77,16,FALSE))","v":0.53533190004997966},{"$f":"100*(VLOOKUP($C44,'15-Min SU-Truck'!$C$14:$W$77,17,FALSE)+VLOOKUP($C45,'15-Min SU-Truck'!$C$14:$W$77,17,FALSE)+VLOOKUP($C46,'15-Min SU-Truck'!$C$14:$W$77,17,FALSE)+VLOOKUP($C47,'15-Min SU-Truck'!$C$14:$W$77,17,FALSE))/(0.00001+VLOOKUP($C44,'15-Min All Vehicle'!$C$14:$W$77,17,FALSE)+VLOOKUP($C45,'15-Min All Vehicle'!$C$14:$W$77,17,FALSE)+VLOOKUP($C46,'15-Min All Vehicle'!$C$14:$W$77,17,FALSE)+VLOOKUP($C47,'15-Min All Vehicle'!$C$17:$W$77,17,FALSE))","v":0},{"$f":"100*(VLOOKUP($C44,'15-Min SU-Truck'!$C$14:$W$77,18,FALSE)+VLOOKUP($C45,'15-Min SU-Truck'!$C$14:$W$77,18,FALSE)+VLOOKUP($C46,'15-Min SU-Truck'!$C$14:$W$77,18,FALSE)+VLOOKUP($C47,'15-Min SU-Truck'!$C$14:$W$77,18,FALSE))/(0.00001+VLOOKUP($C44,'15-Min All Vehicle'!$C$14:$W$77,18,FALSE)+VLOOKUP($C45,'15-Min All Vehicle'!$C$14:$W$77,18,FALSE)+VLOOKUP($C46,'15-Min All Vehicle'!$C$14:$W$77,18,FALSE)+VLOOKUP($C47,'15-Min All Vehicle'!$C$17:$W$77,18,FALSE))","v":0},{"$f":"100*(VLOOKUP($C44,'15-Min SU-Truck'!$C$14:$W$77,19,FALSE)+VLOOKUP($C45,'15-Min SU-Truck'!$C$14:$W$77,19,FALSE)+VLOOKUP($C46,'15-Min SU-Truck'!$C$14:$W$77,19,FALSE)+VLOOKUP($C47,'15-Min SU-Truck'!$C$14:$W$77,19,FALSE))/(0.00001+VLOOKUP($C44,'15-Min All Vehicle'!$C$14:$W$77,19,FALSE)+VLOOKUP($C45,'15-Min All Vehicle'!$C$14:$W$77,19,FALSE)+VLOOKUP($C46,'15-Min All Vehicle'!$C$14:$W$77,19,FALSE)+VLOOKUP($C47,'15-Min All Vehicle'!$C$17:$W$77,19,FALSE))","v":0},{"$f":"IF(ISERROR(U50=TRUE),\"#N/A\",0)","v":0},{"$f":"100*(VLOOKUP($C44,'15-Min SU-Truck'!$C$14:$W$77,21,FALSE)+VLOOKUP($C45,'15-Min SU-Truck'!$C$14:$W$77,21,FALSE)+VLOOKUP($C46,'15-Min SU-Truck'!$C$14:$W$77,21,FALSE)+VLOOKUP($C47,'15-Min SU-Truck'!$C$14:$W$77,21,FALSE))/(0.00001+VLOOKUP($C44,'15-Min All Vehicle'!$C$14:$W$77,21,FALSE)+VLOOKUP($C45,'15-Min All Vehicle'!$C$14:$W$77,21,FALSE)+VLOOKUP($C46,'15-Min All Vehicle'!$C$14:$W$77,21,FALSE)+VLOOKUP($C47,'15-Min All Vehicle'!$C$17:$W$77,21,FALSE))","v":0},{"$f":"100*(VLOOKUP($C44,'15-Min SU-Truck'!$C$14:$X$77,22,FALSE)+VLOOKUP($C45,'15-Min SU-Truck'!$C$14:$X$77,22,FALSE)+VLOOKUP($C46,'15-Min SU-Truck'!$C$14:$X$77,22,FALSE)+VLOOKUP($C47,'15-Min SU-Truck'!$C$14:$X$77,22,FALSE))/(0.00001+VLOOKUP($C44,'15-Min All Vehicle'!$C$14:$X$77,22,FALSE)+VLOOKUP($C45,'15-Min All Vehicle'!$C$14:$X$77,22,FALSE)+VLOOKUP($C46,'15-Min All Vehicle'!$C$14:$X$77,22,FALSE)+VLOOKUP($C47,'15-Min All Vehicle'!$C$17:$X$77,22,FALSE))","v":0.44622935990080614}]
[null,null,"% Heavy Trucks",{"$f":"100*(VLOOKUP($C45,'15-Min Semi-Truck'!$C$14:$W$77,2,FALSE)+VLOOKUP($C46,'15-Min Semi-Truck'!$C$14:$W$77,2,FALSE)+VLOOKUP($C47,'15-Min Semi-Truck'!$C$14:$W$77,2,FALSE)+VLOOKUP($C44,'15-Min Semi-Truck'!$C$14:$W$77,2,FALSE))/(0.00001+VLOOKUP($C45,'15-Min All Vehicle'!$C$14:$W$77,2,FALSE)+VLOOKUP($C46,'15-Min All Vehicle'!$C$14:$W$77,2,FALSE)+VLOOKUP($C47,'15-Min All Vehicle'!$C$14:$W$77,2,FALSE)+VLOOKUP($C44,'15-Min All Vehicle'!$C$14:$W$77,2,FALSE))","v":0},{"$f":"100*(VLOOKUP($C45,'15-Min Semi-Truck'!$C$14:$W$77,3,FALSE)+VLOOKUP($C46,'15-Min Semi-Truck'!$C$14:$W$77,3,FALSE)+VLOOKUP($C47,'15-Min Semi-Truck'!$C$14:$W$77,3,FALSE)+VLOOKUP($C44,'15-Min Semi-Truck'!$C$14:$W$77,3,FALSE))/(0.00001+VLOOKUP($C45,'15-Min All Vehicle'!$C$14:$W$77,3,FALSE)+VLOOKUP($C46,'15-Min All Vehicle'!$C$14:$W$77,3,FALSE)+VLOOKUP($C47,'15-Min All Vehicle'!$C$14:$W$77,3,FALSE)+VLOOKUP($C44,'15-Min All Vehicle'!$C$14:$W$77,3,FALSE))","v":0},{"$f":"100*(VLOOKUP($C45,'15-Min Semi-Truck'!$C$14:$W$77,4,FALSE)+VLOOKUP($C46,'15-Min Semi-Truck'!$C$14:$W$77,4,FALSE)+VLOOKUP($C47,'15-Min Semi-Truck'!$C$14:$W$77,4,FALSE)+VLOOKUP($C44,'15-Min Semi-Truck'!$C$14:$W$77,4,FALSE))/(0.00001+VLOOKUP($C45,'15-Min All Vehicle'!$C$14:$W$77,4,FALSE)+VLOOKUP($C46,'15-Min All Vehicle'!$C$14:$W$77,4,FALSE)+VLOOKUP($C47,'15-Min All Vehicle'!$C$14:$W$77,4,FALSE)+VLOOKUP($C44,'15-Min All Vehicle'!$C$14:$W$77,4,FALSE))","v":0},{"$f":"IF(ISERROR(F51=TRUE),\"#N/A\",0)","v":0},{"$f":"100*(VLOOKUP($C45,'15-Min Semi-Truck'!$C$14:$W$77,6,FALSE)+VLOOKUP($C46,'15-Min Semi-Truck'!$C$14:$W$77,6,FALSE)+VLOOKUP($C47,'15-Min Semi-Truck'!$C$14:$W$77,6,FALSE)+VLOOKUP($C44,'15-Min Semi-Truck'!$C$14:$W$77,6,FALSE))/(0.00001+VLOOKUP($C45,'15-Min All Vehicle'!$C$14:$W$77,6,FALSE)+VLOOKUP($C46,'15-Min All Vehicle'!$C$14:$W$77,6,FALSE)+VLOOKUP($C47,'15-Min All Vehicle'!$C$14:$W$77,6,FALSE)+VLOOKUP($C44,'15-Min All Vehicle'!$C$14:$W$77,6,FALSE))","v":0},{"$f":"100*(VLOOKUP($C45,'15-Min Semi-Truck'!$C$14:$W$77,7,FALSE)+VLOOKUP($C46,'15-Min Semi-Truck'!$C$14:$W$77,7,FALSE)+VLOOKUP($C47,'15-Min Semi-Truck'!$C$14:$W$77,7,FALSE)+VLOOKUP($C44,'15-Min Semi-Truck'!$C$14:$W$77,7,FALSE))/(0.00001+VLOOKUP($C45,'15-Min All Vehicle'!$C$14:$W$77,7,FALSE)+VLOOKUP($C46,'15-Min All Vehicle'!$C$14:$W$77,7,FALSE)+VLOOKUP($C47,'15-Min All Vehicle'!$C$14:$W$77,7,FALSE)+VLOOKUP($C44,'15-Min All Vehicle'!$C$14:$W$77,7,FALSE))","v":3.1249995117188263},{"$f":"100*(VLOOKUP($C45,'15-Min Semi-Truck'!$C$14:$W$77,8,FALSE)+VLOOKUP($C46,'15-Min Semi-Truck'!$C$14:$W$77,8,FALSE)+VLOOKUP($C47,'15-Min Semi-Truck'!$C$14:$W$77,8,FALSE)+VLOOKUP($C44,'15-Min Semi-Truck'!$C$14:$W$77,8,FALSE))/(0.00001+VLOOKUP($C45,'15-Min All Vehicle'!$C$14:$W$77,8,FALSE)+VLOOKUP($C46,'15-Min All Vehicle'!$C$14:$W$77,8,FALSE)+VLOOKUP($C47,'15-Min All Vehicle'!$C$14:$W$77,8,FALSE)+VLOOKUP($C44,'15-Min All Vehicle'!$C$14:$W$77,8,FALSE))","v":0.67796609020396459},{"$f":"100*(VLOOKUP($C45,'15-Min Semi-Truck'!$C$14:$W$77,9,FALSE)+VLOOKUP($C46,'15-Min Semi-Truck'!$C$14:$W$77,9,FALSE)+VLOOKUP($C47,'15-Min Semi-Truck'!$C$14:$W$77,9,FALSE)+VLOOKUP($C44,'15-Min Semi-Truck'!$C$14:$W$77,9,FALSE))/(0.00001+VLOOKUP($C45,'15-Min All Vehicle'!$C$14:$W$77,9,FALSE)+VLOOKUP($C46,'15-Min All Vehicle'!$C$14:$W$77,9,FALSE)+VLOOKUP($C47,'15-Min All Vehicle'!$C$14:$W$77,9,FALSE)+VLOOKUP($C44,'15-Min All Vehicle'!$C$14:$W$77,9,FALSE))","v":0},{"$f":"IF(ISERROR(K51=TRUE),\"#N/A\",0)","v":0},{"$f":"100*(VLOOKUP($C45,'15-Min Semi-Truck'!$C$14:$W$77,11,FALSE)+VLOOKUP($C46,'15-Min Semi-Truck'!$C$14:$W$77,11,FALSE)+VLOOKUP($C47,'15-Min Semi-Truck'!$C$14:$W$77,11,FALSE)+VLOOKUP($C44,'15-Min Semi-Truck'!$C$14:$W$77,11,FALSE))/(0.00001+VLOOKUP($C45,'15-Min All Vehicle'!$C$14:$W$77,11,FALSE)+VLOOKUP($C46,'15-Min All Vehicle'!$C$14:$W$77,11,FALSE)+VLOOKUP($C47,'15-Min All Vehicle'!$C$14:$W$77,11,FALSE)+VLOOKUP($C44,'15-Min All Vehicle'!$C$14:$W$77,11,FALSE))","v":0.91743117863255086},{"$f":"100*(VLOOKUP($C45,'15-Min Semi-Truck'!$C$14:$W$77,12,FALSE)+VLOOKUP($C46,'15-Min Semi-Truck'!$C$14:$W$77,12,FALSE)+VLOOKUP($C47,'15-Min Semi-Truck'!$C$14:$W$77,12,FALSE)+VLOOKUP($C44,'15-Min Semi-Truck'!$C$14:$W$77,12,FALSE))/(0.00001+VLOOKUP($C45,'15-Min All Vehicle'!$C$14:$W$77,12,FALSE)+VLOOKUP($C46,'15-Min All Vehicle'!$C$14:$W$77,12,FALSE)+VLOOKUP($C47,'15-Min All Vehicle'!$C$14:$W$77,12,FALSE)+VLOOKUP($C44,'15-Min All Vehicle'!$C$14:$W$77,12,FALSE))","v":2.3032629116456258},{"$f":"100*(VLOOKUP($C45,'15-Min Semi-Truck'!$C$14:$W$77,13,FALSE)+VLOOKUP($C46,'15-Min Semi-Truck'!$C$14:$W$77,13,FALSE)+VLOOKUP($C47,'15-Min Semi-Truck'!$C$14:$W$77,13,FALSE)+VLOOKUP($C44,'15-Min Semi-Truck'!$C$14:$W$77,13,FALSE))/(0.00001+VLOOKUP($C45,'15-Min All Vehicle'!$C$14:$W$77,13,FALSE)+VLOOKUP($C46,'15-Min All Vehicle'!$C$14:$W$77,13,FALSE)+VLOOKUP($C47,'15-Min All Vehicle'!$C$14:$W$77,13,FALSE)+VLOOKUP($C44,'15-Min All Vehicle'!$C$14:$W$77,13,FALSE))","v":0},{"$f":"100*(VLOOKUP($C45,'15-Min Semi-Truck'!$C$14:$W$77,14,FALSE)+VLOOKUP($C46,'15-Min Semi-Truck'!$C$14:$W$77,14,FALSE)+VLOOKUP($C47,'15-Min Semi-Truck'!$C$14:$W$77,14,FALSE)+VLOOKUP($C44,'15-Min Semi-Truck'!$C$14:$W$77,14,FALSE))/(0.00001+VLOOKUP($C45,'15-Min All Vehicle'!$C$14:$W$77,14,FALSE)+VLOOKUP($C46,'15-Min All Vehicle'!$C$14:$W$77,14,FALSE)+VLOOKUP($C47,'15-Min All Vehicle'!$C$14:$W$77,14,FALSE)+VLOOKUP($C44,'15-Min All Vehicle'!$C$14:$W$77,14,FALSE))","v":0.96852297897038797},{"$f":"IF(ISERROR(P51=TRUE),\"#N/A\",0)","v":0},{"$f":"100*(VLOOKUP($C45,'15-Min Semi-Truck'!$C$14:$W$77,16,FALSE)+VLOOKUP($C46,'15-Min Semi-Truck'!$C$14:$W$77,16,FALSE)+VLOOKUP($C47,'15-Min Semi-Truck'!$C$14:$W$77,16,FALSE)+VLOOKUP($C44,'15-Min Semi-Truck'!$C$14:$W$77,16,FALSE))/(0.00001+VLOOKUP($C45,'15-Min All Vehicle'!$C$14:$W$77,16,FALSE)+VLOOKUP($C46,'15-Min All Vehicle'!$C$14:$W$77,16,FALSE)+VLOOKUP($C47,'15-Min All Vehicle'!$C$14:$W$77,16,FALSE)+VLOOKUP($C44,'15-Min All Vehicle'!$C$14:$W$77,16,FALSE))","v":1.713062080159935},{"$f":"100*(VLOOKUP($C45,'15-Min Semi-Truck'!$C$14:$W$77,17,FALSE)+VLOOKUP($C46,'15-Min Semi-Truck'!$C$14:$W$77,17,FALSE)+VLOOKUP($C47,'15-Min Semi-Truck'!$C$14:$W$77,17,FALSE)+VLOOKUP($C44,'15-Min Semi-Truck'!$C$14:$W$77,17,FALSE))/(0.00001+VLOOKUP($C45,'15-Min All Vehicle'!$C$14:$W$77,17,FALSE)+VLOOKUP($C46,'15-Min All Vehicle'!$C$14:$W$77,17,FALSE)+VLOOKUP($C47,'15-Min All Vehicle'!$C$14:$W$77,17,FALSE)+VLOOKUP($C44,'15-Min All Vehicle'!$C$14:$W$77,17,FALSE))","v":0},{"$f":"100*(VLOOKUP($C45,'15-Min Semi-Truck'!$C$14:$W$77,18,FALSE)+VLOOKUP($C46,'15-Min Semi-Truck'!$C$14:$W$77,18,FALSE)+VLOOKUP($C47,'15-Min Semi-Truck'!$C$14:$W$77,18,FALSE)+VLOOKUP($C44,'15-Min Semi-Truck'!$C$14:$W$77,18,FALSE))/(0.00001+VLOOKUP($C45,'15-Min All Vehicle'!$C$14:$W$77,18,FALSE)+VLOOKUP($C46,'15-Min All Vehicle'!$C$14:$W$77,18,FALSE)+VLOOKUP($C47,'15-Min All Vehicle'!$C$14:$W$77,18,FALSE)+VLOOKUP($C44,'15-Min All Vehicle'!$C$14:$W$77,18,FALSE))","v":1.1029411561959346},{"$f":"100*(VLOOKUP($C45,'15-Min Semi-Truck'!$C$14:$W$77,19,FALSE)+VLOOKUP($C46,'15-Min Semi-Truck'!$C$14:$W$77,19,FALSE)+VLOOKUP($C47,'15-Min Semi-Truck'!$C$14:$W$77,19,FALSE)+VLOOKUP($C44,'15-Min Semi-Truck'!$C$14:$W$77,19,FALSE))/(0.00001+VLOOKUP($C45,'15-Min All Vehicle'!$C$14:$W$77,19,FALSE)+VLOOKUP($C46,'15-Min All Vehicle'!$C$14:$W$77,19,FALSE)+VLOOKUP($C47,'15-Min All Vehicle'!$C$14:$W$77,19,FALSE)+VLOOKUP($C44,'15-Min All Vehicle'!$C$14:$W$77,19,FALSE))","v":2.7522933254776767},{"$f":"IF(ISERROR(U51=TRUE),\"#N/A\",0)","v":0},{"$f":"100*(VLOOKUP($C45,'15-Min Semi-Truck'!$C$14:$W$77,21,FALSE)+VLOOKUP($C46,'15-Min Semi-Truck'!$C$14:$W$77,21,FALSE)+VLOOKUP($C47,'15-Min Semi-Truck'!$C$14:$W$77,21,FALSE)+VLOOKUP($C44,'15-Min Semi-Truck'!$C$14:$W$77,21,FALSE))/(0.00001+VLOOKUP($C45,'15-Min All Vehicle'!$C$14:$W$77,21,FALSE)+VLOOKUP($C46,'15-Min All Vehicle'!$C$14:$W$77,21,FALSE)+VLOOKUP($C47,'15-Min All Vehicle'!$C$14:$W$77,21,FALSE)+VLOOKUP($C44,'15-Min All Vehicle'!$C$14:$W$77,21,FALSE))","v":1.3782541902258165},{"$f":"100*(VLOOKUP($C45,'15-Min Semi-Truck'!$C$14:$X$77,22,FALSE)+VLOOKUP($C46,'15-Min Semi-Truck'!$C$14:$X$77,22,FALSE)+VLOOKUP($C47,'15-Min Semi-Truck'!$C$14:$X$77,22,FALSE)+VLOOKUP($C44,'15-Min Semi-Truck'!$C$14:$X$77,22,FALSE))/(0.00001+VLOOKUP($C45,'15-Min All Vehicle'!$C$14:$X$77,22,FALSE)+VLOOKUP($C46,'15-Min All Vehicle'!$C$14:$X$77,22,FALSE)+VLOOKUP($C47,'15-Min All Vehicle'!$C$14:$X$77,22,FALSE)+VLOOKUP($C44,'15-Min All Vehicle'!$C$14:$X$77,22,FALSE))","v":1.383311015692499}]
[null,null,"% Trucks (Total)",{"$f":"100*(VLOOKUP($C46,'15-Min Heavy Vehicle'!$C$14:$W$77,2,FALSE)+VLOOKUP($C47,'15-Min Heavy Vehicle'!$C$14:$W$77,2,FALSE)+VLOOKUP($C44,'15-Min Heavy Vehicle'!$C$14:$W$77,2,FALSE)+VLOOKUP($C45,'15-Min Heavy Vehicle'!$C$14:$W$77,2,FALSE))/(0.00001+VLOOKUP($C45,'15-Min All Vehicle'!$C$14:$W$77,2,FALSE)+VLOOKUP($C47,'15-Min All Vehicle'!$C$14:$W$77,2,FALSE)+VLOOKUP($C44,'15-Min All Vehicle'!$C$14:$W$77,2,FALSE)+VLOOKUP($C46,'15-Min All Vehicle'!$C$14:$W$77,2,FALSE))","v":0},{"$f":"100*(VLOOKUP($C46,'15-Min Heavy Vehicle'!$C$14:$W$77,3,FALSE)+VLOOKUP($C47,'15-Min Heavy Vehicle'!$C$14:$W$77,3,FALSE)+VLOOKUP($C44,'15-Min Heavy Vehicle'!$C$14:$W$77,3,FALSE)+VLOOKUP($C45,'15-Min Heavy Vehicle'!$C$14:$W$77,3,FALSE))/(0.00001+VLOOKUP($C45,'15-Min All Vehicle'!$C$14:$W$77,3,FALSE)+VLOOKUP($C47,'15-Min All Vehicle'!$C$14:$W$77,3,FALSE)+VLOOKUP($C44,'15-Min All Vehicle'!$C$14:$W$77,3,FALSE)+VLOOKUP($C46,'15-Min All Vehicle'!$C$14:$W$77,3,FALSE))","v":0},{"$f":"100*(VLOOKUP($C46,'15-Min Heavy Vehicle'!$C$14:$W$77,4,FALSE)+VLOOKUP($C47,'15-Min Heavy Vehicle'!$C$14:$W$77,4,FALSE)+VLOOKUP($C44,'15-Min Heavy Vehicle'!$C$14:$W$77,4,FALSE)+VLOOKUP($C45,'15-Min Heavy Vehicle'!$C$14:$W$77,4,FALSE))/(0.00001+VLOOKUP($C45,'15-Min All Vehicle'!$C$14:$W$77,4,FALSE)+VLOOKUP($C47,'15-Min All Vehicle'!$C$14:$W$77,4,FALSE)+VLOOKUP($C44,'15-Min All Vehicle'!$C$14:$W$77,4,FALSE)+VLOOKUP($C46,'15-Min All Vehicle'!$C$14:$W$77,4,FALSE))","v":0},0,{"$f":"100*(VLOOKUP($C46,'15-Min Heavy Vehicle'!$C$14:$W$77,6,FALSE)+VLOOKUP($C47,'15-Min Heavy Vehicle'!$C$14:$W$77,6,FALSE)+VLOOKUP($C44,'15-Min Heavy Vehicle'!$C$14:$W$77,6,FALSE)+VLOOKUP($C45,'15-Min Heavy Vehicle'!$C$14:$W$77,6,FALSE))/(0.00001+VLOOKUP($C45,'15-Min All Vehicle'!$C$14:$W$77,6,FALSE)+VLOOKUP($C47,'15-Min All Vehicle'!$C$14:$W$77,6,FALSE)+VLOOKUP($C44,'15-Min All Vehicle'!$C$14:$W$77,6,FALSE)+VLOOKUP($C46,'15-Min All Vehicle'!$C$14:$W$77,6,FALSE))","v":0},{"$f":"100*(VLOOKUP($C46,'15-Min Heavy Vehicle'!$C$14:$W$77,7,FALSE)+VLOOKUP($C47,'15-Min Heavy Vehicle'!$C$14:$W$77,7,FALSE)+VLOOKUP($C44,'15-Min Heavy Vehicle'!$C$14:$W$77,7,FALSE)+VLOOKUP($C45,'15-Min Heavy Vehicle'!$C$14:$W$77,7,FALSE))/(0.00001+VLOOKUP($C45,'15-Min All Vehicle'!$C$14:$W$77,7,FALSE)+VLOOKUP($C47,'15-Min All Vehicle'!$C$14:$W$77,7,FALSE)+VLOOKUP($C44,'15-Min All Vehicle'!$C$14:$W$77,7,FALSE)+VLOOKUP($C46,'15-Min All Vehicle'!$C$14:$W$77,7,FALSE))","v":4.6874992675782394},{"$f":"100*(VLOOKUP($C46,'15-Min Heavy Vehicle'!$C$14:$W$77,8,FALSE)+VLOOKUP($C47,'15-Min Heavy Vehicle'!$C$14:$W$77,8,FALSE)+VLOOKUP($C44,'15-Min Heavy Vehicle'!$C$14:$W$77,8,FALSE)+VLOOKUP($C45,'15-Min Heavy Vehicle'!$C$14:$W$77,8,FALSE))/(0.00001+VLOOKUP($C45,'15-Min All Vehicle'!$C$14:$W$77,8,FALSE)+VLOOKUP($C47,'15-Min All Vehicle'!$C$14:$W$77,8,FALSE)+VLOOKUP($C44,'15-Min All Vehicle'!$C$14:$W$77,8,FALSE)+VLOOKUP($C46,'15-Min All Vehicle'!$C$14:$W$77,8,FALSE))","v":1.3559321804079292},{"$f":"100*(VLOOKUP($C46,'15-Min Heavy Vehicle'!$C$14:$W$77,9,FALSE)+VLOOKUP($C47,'15-Min Heavy Vehicle'!$C$14:$W$77,9,FALSE)+VLOOKUP($C44,'15-Min Heavy Vehicle'!$C$14:$W$77,9,FALSE)+VLOOKUP($C45,'15-Min Heavy Vehicle'!$C$14:$W$77,9,FALSE))/(0.00001+VLOOKUP($C45,'15-Min All Vehicle'!$C$14:$W$77,9,FALSE)+VLOOKUP($C47,'15-Min All Vehicle'!$C$14:$W$77,9,FALSE)+VLOOKUP($C44,'15-Min All Vehicle'!$C$14:$W$77,9,FALSE)+VLOOKUP($C46,'15-Min All Vehicle'!$C$14:$W$77,9,FALSE))","v":0},0,{"$f":"100*(VLOOKUP($C46,'15-Min Heavy Vehicle'!$C$14:$W$77,11,FALSE)+VLOOKUP($C47,'15-Min Heavy Vehicle'!$C$14:$W$77,11,FALSE)+VLOOKUP($C44,'15-Min Heavy Vehicle'!$C$14:$W$77,11,FALSE)+VLOOKUP($C45,'15-Min Heavy Vehicle'!$C$14:$W$77,11,FALSE))/(0.00001+VLOOKUP($C45,'15-Min All Vehicle'!$C$14:$W$77,11,FALSE)+VLOOKUP($C47,'15-Min All Vehicle'!$C$14:$W$77,11,FALSE)+VLOOKUP($C44,'15-Min All Vehicle'!$C$14:$W$77,11,FALSE)+VLOOKUP($C46,'15-Min All Vehicle'!$C$14:$W$77,11,FALSE))","v":1.6819571608263433},{"$f":"100*(VLOOKUP($C46,'15-Min Heavy Vehicle'!$C$14:$W$77,12,FALSE)+VLOOKUP($C47,'15-Min Heavy Vehicle'!$C$14:$W$77,12,FALSE)+VLOOKUP($C44,'15-Min Heavy Vehicle'!$C$14:$W$77,12,FALSE)+VLOOKUP($C45,'15-Min Heavy Vehicle'!$C$14:$W$77,12,FALSE))/(0.00001+VLOOKUP($C45,'15-Min All Vehicle'!$C$14:$W$77,12,FALSE)+VLOOKUP($C47,'15-Min All Vehicle'!$C$14:$W$77,12,FALSE)+VLOOKUP($C44,'15-Min All Vehicle'!$C$14:$W$77,12,FALSE)+VLOOKUP($C46,'15-Min All Vehicle'!$C$14:$W$77,12,FALSE))","v":2.879078639557032},{"$f":"100*(VLOOKUP($C46,'15-Min Heavy Vehicle'!$C$14:$W$77,13,FALSE)+VLOOKUP($C47,'15-Min Heavy Vehicle'!$C$14:$W$77,13,FALSE)+VLOOKUP($C44,'15-Min Heavy Vehicle'!$C$14:$W$77,13,FALSE)+VLOOKUP($C45,'15-Min Heavy Vehicle'!$C$14:$W$77,13,FALSE))/(0.00001+VLOOKUP($C45,'15-Min All Vehicle'!$C$14:$W$77,13,FALSE)+VLOOKUP($C47,'15-Min All Vehicle'!$C$14:$W$77,13,FALSE)+VLOOKUP($C44,'15-Min All Vehicle'!$C$14:$W$77,13,FALSE)+VLOOKUP($C46,'15-Min All Vehicle'!$C$14:$W$77,13,FALSE))","v":0},{"$f":"100*(VLOOKUP($C46,'15-Min Heavy Vehicle'!$C$14:$W$77,14,FALSE)+VLOOKUP($C47,'15-Min Heavy Vehicle'!$C$14:$W$77,14,FALSE)+VLOOKUP($C44,'15-Min Heavy Vehicle'!$C$14:$W$77,14,FALSE)+VLOOKUP($C45,'15-Min Heavy Vehicle'!$C$14:$W$77,14,FALSE))/(0.00001+VLOOKUP($C45,'15-Min All Vehicle'!$C$14:$W$77,14,FALSE)+VLOOKUP($C47,'15-Min All Vehicle'!$C$14:$W$77,14,FALSE)+VLOOKUP($C44,'15-Min All Vehicle'!$C$14:$W$77,14,FALSE)+VLOOKUP($C46,'15-Min All Vehicle'!$C$14:$W$77,14,FALSE))","v":1.452784468455582},0,{"$f":"100*(VLOOKUP($C46,'15-Min Heavy Vehicle'!$C$14:$W$77,16,FALSE)+VLOOKUP($C47,'15-Min Heavy Vehicle'!$C$14:$W$77,16,FALSE)+VLOOKUP($C44,'15-Min Heavy Vehicle'!$C$14:$W$77,16,FALSE)+VLOOKUP($C45,'15-Min Heavy Vehicle'!$C$14:$W$77,16,FALSE))/(0.00001+VLOOKUP($C45,'15-Min All Vehicle'!$C$14:$W$77,16,FALSE)+VLOOKUP($C47,'15-Min All Vehicle'!$C$14:$W$77,16,FALSE)+VLOOKUP($C44,'15-Min All Vehicle'!$C$14:$W$77,16,FALSE)+VLOOKUP($C46,'15-Min All Vehicle'!$C$14:$W$77,16,FALSE))","v":2.2483939802099147},{"$f":"100*(VLOOKUP($C46,'15-Min Heavy Vehicle'!$C$14:$W$77,17,FALSE)+VLOOKUP($C47,'15-Min Heavy Vehicle'!$C$14:$W$77,17,FALSE)+VLOOKUP($C44,'15-Min Heavy Vehicle'!$C$14:$W$77,17,FALSE)+VLOOKUP($C45,'15-Min Heavy Vehicle'!$C$14:$W$77,17,FALSE))/(0.00001+VLOOKUP($C45,'15-Min All Vehicle'!$C$14:$W$77,17,FALSE)+VLOOKUP($C47,'15-Min All Vehicle'!$C$14:$W$77,17,FALSE)+VLOOKUP($C44,'15-Min All Vehicle'!$C$14:$W$77,17,FALSE)+VLOOKUP($C46,'15-Min All Vehicle'!$C$14:$W$77,17,FALSE))","v":0},{"$f":"100*(VLOOKUP($C46,'15-Min Heavy Vehicle'!$C$14:$W$77,18,FALSE)+VLOOKUP($C47,'15-Min Heavy Vehicle'!$C$14:$W$77,18,FALSE)+VLOOKUP($C44,'15-Min Heavy Vehicle'!$C$14:$W$77,18,FALSE)+VLOOKUP($C45,'15-Min Heavy Vehicle'!$C$14:$W$77,18,FALSE))/(0.00001+VLOOKUP($C45,'15-Min All Vehicle'!$C$14:$W$77,18,FALSE)+VLOOKUP($C47,'15-Min All Vehicle'!$C$14:$W$77,18,FALSE)+VLOOKUP($C44,'15-Min All Vehicle'!$C$14:$W$77,18,FALSE)+VLOOKUP($C46,'15-Min All Vehicle'!$C$14:$W$77,18,FALSE))","v":1.1029411561959346},{"$f":"100*(VLOOKUP($C46,'15-Min Heavy Vehicle'!$C$14:$W$77,19,FALSE)+VLOOKUP($C47,'15-Min Heavy Vehicle'!$C$14:$W$77,19,FALSE)+VLOOKUP($C44,'15-Min Heavy Vehicle'!$C$14:$W$77,19,FALSE)+VLOOKUP($C45,'15-Min Heavy Vehicle'!$C$14:$W$77,19,FALSE))/(0.00001+VLOOKUP($C45,'15-Min All Vehicle'!$C$14:$W$77,19,FALSE)+VLOOKUP($C47,'15-Min All Vehicle'!$C$14:$W$77,19,FALSE)+VLOOKUP($C44,'15-Min All Vehicle'!$C$14:$W$77,19,FALSE)+VLOOKUP($C46,'15-Min All Vehicle'!$C$14:$W$77,19,FALSE))","v":2.7522933254776767},0,{"$f":"100*(VLOOKUP($C46,'15-Min Heavy Vehicle'!$C$14:$W$77,21,FALSE)+VLOOKUP($C47,'15-Min Heavy Vehicle'!$C$14:$W$77,21,FALSE)+VLOOKUP($C44,'15-Min Heavy Vehicle'!$C$14:$W$77,21,FALSE)+VLOOKUP($C45,'15-Min Heavy Vehicle'!$C$14:$W$77,21,FALSE))/(0.00001+VLOOKUP($C45,'15-Min All Vehicle'!$C$14:$W$77,21,FALSE)+VLOOKUP($C47,'15-Min All Vehicle'!$C$14:$W$77,21,FALSE)+VLOOKUP($C44,'15-Min All Vehicle'!$C$14:$W$77,21,FALSE)+VLOOKUP($C46,'15-Min All Vehicle'!$C$14:$W$77,21,FALSE))","v":1.3782541902258165},{"$f":"100*(VLOOKUP($C46,'15-Min Heavy Vehicle'!$C$14:$X$77,22,FALSE)+VLOOKUP($C47,'15-Min Heavy Vehicle'!$C$14:$X$77,22,FALSE)+VLOOKUP($C44,'15-Min Heavy Vehicle'!$C$14:$X$77,22,FALSE)+VLOOKUP($C45,'15-Min Heavy Vehicle'!$C$14:$X$77,22,FALSE))/(0.00001+VLOOKUP($C45,'15-Min All Vehicle'!$C$14:$X$77,22,FALSE)+VLOOKUP($C47,'15-Min All Vehicle'!$C$14:$X$77,22,FALSE)+VLOOKUP($C44,'15-Min All Vehicle'!$C$14:$X$77,22,FALSE)+VLOOKUP($C46,'15-Min All Vehicle'!$C$14:$X$77,22,FALSE))","v":1.8295403755933051}]
[null,null,"Peak Hour Factor (PHF)",{"$f":"SUM(D44:D47)/(0.000001+4*MAX(D44:D47))","v":0},{"$f":"SUM(E44:E47)/(0.000001+4*MAX(E44:E47))","v":0},0,0,0,0.79999999000000011,0.93949044436386875,0,0,0.94508670383657989,0.8569078933274541,0,0.88247863059299436,0,0.8680297389702325,0,0.91891891736669107,0.7785714230102041,0,0.91201117191059888,0.92603305746858144]
[]
[null,"Peak Hour Pedestrian and Bicyclist Volumes"]
[null,"Pedestrians and Bicyclists",null,"Crossing",null,null,null,null,"Crossing",null,null,null,null,"Crossing",null,null,null,null,"Crossing",null,null,null,null,"Total"]
[null,null,null,"North Approach",null,null,null,null,"East Approach",null,null,null,null,"South Approach",null,null,null,null,"West Approach",null,null,null,null,"Ped &"]
[null,null,null,{"$f":"'Base Information'!$D$14:$D$14","v":"441 NB ON RAMP"},null,null,null,null,{"$f":"'Base Information'!$D$15:$D$15","v":"CTH OO (Northland Ave)"},null,null,null,null,{"$f":"'Base Information'!$D$16:$D$16","v":"441 NB OFF RAMP"},null,null,null,null,{"$f":"'Base Information'!$D$17:$D$17","v":"CTH OO (Northland Ave)"},null,null,null,null,"Bike"]
[null,null,"15-Minute Start Time","Pedestrian",null,"Bicyclist",null,"Total","Pedestrian",null,"Bicyclist",null,"Total","Pedestrian",null,"Bicyclist",null,"Total","Pedestrian",null,"Bicyclist",null,"Total","Volume"]
[null,"AM",{"$f":"C14","v":"07:14:59.971"},{"$f":"VLOOKUP($C60,'Ped & Bicycle'!$C$14:$X$77,2,TRUE)","v":0},null,{"$f":"VLOOKUP($C60,'Ped & Bicycle'!$C$14:$X$77,4,TRUE)","v":0},null,{"$f":"SUM(D60:G60)","v":0},{"$f":"VLOOKUP($C60,'Ped & Bicycle'!$C$14:$X$77,7,TRUE)","v":0},null,{"$f":"VLOOKUP($C60,'Ped & Bicycle'!$C$14:$X$77,9,TRUE)","v":0},null,{"$f":"SUM(I60:L60)","v":0},{"$f":"VLOOKUP($C60,'Ped & Bicycle'!$C$14:$X$77,12,TRUE)","v":0},null,{"$f":"VLOOKUP($C60,'Ped & Bicycle'!$C$14:$X$77,14,TRUE)","v":0},null,{"$f":"SUM(N60:Q60)","v":0},{"$f":"VLOOKUP($C60,'Ped & Bicycle'!$C$14:$X$77,17,TRUE)","v":0},null,{"$f":"VLOOKUP($C60,'Ped & Bicycle'!$C$14:$X$77,19,TRUE)","v":0},null,{"$f":"SUM(S60:V60)","v":0},{"$f":"H60+M60+R60+W60","v":0}]
[null,null,{"$f":"C15","v":"07:30:00"},{"$f":"VLOOKUP($C61,'Ped & Bicycle'!$C$14:$X$77,2,TRUE)","v":0},null,{"$f":"VLOOKUP($C61,'Ped & Bicycle'!$C$14:$X$77,4,TRUE)","v":0},null,{"$f":"SUM(D61:G61)","v":0},{"$f":"VLOOKUP($C61,'Ped & Bicycle'!$C$14:$X$77,7,TRUE)","v":0},null,{"$f":"VLOOKUP($C61,'Ped & Bicycle'!$C$14:$X$77,9,TRUE)","v":0},null,{"$f":"SUM(I61:L61)","v":0},{"$f":"VLOOKUP($C61,'Ped & Bicycle'!$C$14:$X$77,12,TRUE)","v":0},null,{"$f":"VLOOKUP($C61,'Ped & Bicycle'!$C$14:$X$77,14,TRUE)","v":0},null,{"$f":"SUM(N61:Q61)","v":0},{"$f":"VLOOKUP($C61,'Ped & Bicycle'!$C$14:$X$77,17,TRUE)","v":0},null,{"$f":"VLOOKUP($C61,'Ped & Bicycle'!$C$14:$X$77,19,TRUE)","v":0},null,{"$f":"SUM(S61:V61)","v":0},{"$f":"H61+M61+R61+W61","v":0}]
[null,null,{"$f":"C16","v":"07:44:59.942"},{"$f":"VLOOKUP($C62,'Ped & Bicycle'!$C$14:$X$77,2,TRUE)","v":0},null,{"$f":"VLOOKUP($C62,'Ped & Bicycle'!$C$14:$X$77,4,TRUE)","v":0},null,{"$f":"SUM(D62:G62)","v":0},{"$f":"VLOOKUP($C62,'Ped & Bicycle'!$C$14:$X$77,7,TRUE)","v":0},null,{"$f":"VLOOKUP($C62,'Ped & Bicycle'!$C$14:$X$77,9,TRUE)","v":0},null,{"$f":"SUM(I62:L62)","v":0},{"$f":"VLOOKUP($C62,'Ped & Bicycle'!$C$14:$X$77,12,TRUE)","v":0},null,{"$f":"VLOOKUP($C62,'Ped & Bicycle'!$C$14:$X$77,14,TRUE)","v":0},null,{"$f":"SUM(N62:Q62)","v":0},{"$f":"VLOOKUP($C62,'Ped & Bicycle'!$C$14:$X$77,17,TRUE)","v":0},null,{"$f":"VLOOKUP($C62,'Ped & Bicycle'!$C$14:$X$77,19,TRUE)","v":0},null,{"$f":"SUM(S62:V62)","v":0},{"$f":"H62+M62+R62+W62","v":0}]
[null,null,{"$f":"C17","v":"07:59:59.971"},{"$f":"VLOOKUP($C63,'Ped & Bicycle'!$C$14:$X$77,2,TRUE)","v":0},null,{"$f":"VLOOKUP($C63,'Ped & Bicycle'!$C$14:$X$77,4,TRUE)","v":0},null,{"$f":"SUM(D63:G63)","v":0},{"$f":"VLOOKUP($C63,'Ped & Bicycle'!$C$14:$X$77,7,TRUE)","v":0},null,{"$f":"VLOOKUP($C63,'Ped & Bicycle'!$C$14:$X$77,9,TRUE)","v":0},null,{"$f":"SUM(I63:L63)","v":0},{"$f":"VLOOKUP($C63,'Ped & Bicycle'!$C$14:$X$77,12,TRUE)","v":0},null,{"$f":"VLOOKUP($C63,'Ped & Bicycle'!$C$14:$X$77,14,TRUE)","v":0},null,{"$f":"SUM(N63:Q63)","v":0},{"$f":"VLOOKUP($C63,'Ped & Bicycle'!$C$14:$X$77,17,TRUE)","v":0},null,{"$f":"VLOOKUP($C63,'Ped & Bicycle'!$C$14:$X$77,19,TRUE)","v":0},null,{"$f":"SUM(S63:V63)","v":0},{"$f":"H63+M63+R63+W63","v":0}]
[null,null,"Total",{"$f":"SUM(D60:E63)","v":0},null,{"$f":"SUM(F60:G63)","v":0},null,{"$f":"SUM(D64:G64)","v":0},{"$f":"SUM(I60:J63)","v":0},null,{"$f":"SUM(K60:L63)","v":0},null,{"$f":"SUM(I64:L64)","v":0},{"$f":"SUM(N60:O63)","v":0},null,{"$f":"SUM(P60:Q63)","v":0},null,{"$f":"SUM(N64:Q64)","v":0},{"$f":"SUM(S60:T63)","v":0},null,{"$f":"SUM(U60:V63)","v":0},null,{"$f":"SUM(S64:V64)","v":0},{"$f":"SUM(X60:X63)","v":0}]
[]
[null,"MD",{"$f":"C29","v":"12:59:59.942"},{"$f":"VLOOKUP($C66,'Ped & Bicycle'!$C$14:$X$77,2,TRUE)","v":0},null,{"$f":"VLOOKUP($C66,'Ped & Bicycle'!$C$14:$X$77,4,TRUE)","v":0},null,{"$f":"SUM(D66:G66)","v":0},{"$f":"VLOOKUP($C66,'Ped & Bicycle'!$C$14:$X$77,7,TRUE)","v":0},null,{"$f":"VLOOKUP($C66,'Ped & Bicycle'!$C$14:$X$77,9,TRUE)","v":0},null,{"$f":"SUM(I66:L66)","v":0},{"$f":"VLOOKUP($C66,'Ped & Bicycle'!$C$14:$X$77,12,TRUE)","v":0},null,{"$f":"VLOOKUP($C66,'Ped & Bicycle'!$C$14:$X$77,14,TRUE)","v":0},null,{"$f":"SUM(N66:Q66)","v":0},{"$f":"VLOOKUP($C66,'Ped & Bicycle'!$C$14:$X$77,17,TRUE)","v":0},null,{"$f":"VLOOKUP($C66,'Ped & Bicycle'!$C$14:$X$77,19,TRUE)","v":0},null,{"$f":"SUM(S66:V66)","v":0},{"$f":"H66+M66+R66+W66","v":0}]
[null,null,{"$f":"C30","v":"13:14:59.971"},{"$f":"VLOOKUP($C67,'Ped & Bicycle'!$C$14:$X$77,2,TRUE)","v":0},null,{"$f":"VLOOKUP($C67,'Ped & Bicycle'!$C$14:$X$77,4,TRUE)","v":0},null,{"$f":"SUM(D67:G67)","v":0},{"$f":"VLOOKUP($C67,'Ped & Bicycle'!$C$14:$X$77,7,TRUE)","v":0},null,{"$f":"VLOOKUP($C67,'Ped & Bicycle'!$C$14:$X$77,9,TRUE)","v":0},null,{"$f":"SUM(I67:L67)","v":0},{"$f":"VLOOKUP($C67,'Ped & Bicycle'!$C$14:$X$77,12,TRUE)","v":0},null,{"$f":"VLOOKUP($C67,'Ped & Bicycle'!$C$14:$X$77,14,TRUE)","v":0},null,{"$f":"SUM(N67:Q67)","v":0},{"$f":"VLOOKUP($C67,'Ped & Bicycle'!$C$14:$X$77,17,TRUE)","v":0},null,{"$f":"VLOOKUP($C67,'Ped & Bicycle'!$C$14:$X$77,19,TRUE)","v":0},null,{"$f":"SUM(S67:V67)","v":0},{"$f":"H67+M67+R67+W67","v":0}]
[null,null,{"$f":"C31","v":"13:30:00"},{"$f":"VLOOKUP($C68,'Ped & Bicycle'!$C$14:$X$77,2,TRUE)","v":0},null,{"$f":"VLOOKUP($C68,'Ped & Bicycle'!$C$14:$X$77,4,TRUE)","v":0},null,{"$f":"SUM(D68:G68)","v":0},{"$f":"VLOOKUP($C68,'Ped & Bicycle'!$C$14:$X$77,7,TRUE)","v":0},null,{"$f":"VLOOKUP($C68,'Ped & Bicycle'!$C$14:$X$77,9,TRUE)","v":0},null,{"$f":"SUM(I68:L68)","v":0},{"$f":"VLOOKUP($C68,'Ped & Bicycle'!$C$14:$X$77,12,TRUE)","v":0},null,{"$f":"VLOOKUP($C68,'Ped & Bicycle'!$C$14:$X$77,14,TRUE)","v":0},null,{"$f":"SUM(N68:Q68)","v":0},{"$f":"VLOOKUP($C68,'Ped & Bicycle'!$C$14:$X$77,17,TRUE)","v":0},null,{"$f":"VLOOKUP($C68,'Ped & Bicycle'!$C$14:$X$77,19,TRUE)","v":0},null,{"$f":"SUM(S68:V68)","v":0},{"$f":"H68+M68+R68+W68","v":0}]
[null,null,{"$f":"C32","v":"13:44:59.942"},{"$f":"VLOOKUP($C69,'Ped & Bicycle'!$C$14:$X$77,2,TRUE)","v":0},null,{"$f":"VLOOKUP($C69,'Ped & Bicycle'!$C$14:$X$77,4,TRUE)","v":0},null,{"$f":"SUM(D69:G69)","v":0},{"$f":"VLOOKUP($C69,'Ped & Bicycle'!$C$14:$X$77,7,TRUE)","v":0},null,{"$f":"VLOOKUP($C69,'Ped & Bicycle'!$C$14:$X$77,9,TRUE)","v":0},null,{"$f":"SUM(I69:L69)","v":0},{"$f":"VLOOKUP($C69,'Ped & Bicycle'!$C$14:$X$77,12,TRUE)","v":0},null,{"$f":"VLOOKUP($C69,'Ped & Bicycle'!$C$14:$X$77,14,TRUE)","v":0},null,{"$f":"SUM(N69:Q69)","v":0},{"$f":"VLOOKUP($C69,'Ped & Bicycle'!$C$14:$X$77,17,TRUE)","v":0},null,{"$f":"VLOOKUP($C69,'Ped & Bicycle'!$C$14:$X$77,19,TRUE)","v":0},null,{"$f":"SUM(S69:V69)","v":0},{"$f":"H69+M69+R69+W69","v":0}]
[null,null,"Total",{"$f":"SUM(D66:E69)","v":0},null,{"$f":"SUM(F66:G69)","v":0},null,{"$f":"SUM(D70:G70)","v":0},{"$f":"SUM(I66:J69)","v":0},null,{"$f":"SUM(K66:L69)","v":0},null,{"$f":"SUM(I70:L70)","v":0},{"$f":"SUM(N66:O69)","v":0},null,{"$f":"SUM(P66:Q69)","v":0},null,{"$f":"SUM(N70:Q70)","v":0},{"$f":"SUM(S66:T69)","v":0},null,{"$f":"SUM(U66:V69)","v":0},null,{"$f":"SUM(S70:V70)","v":0},{"$f":"SUM(X66:X69)","v":0}]
[]
[null,"PM",{"$f":"C44","v":"16:30:00"},{"$f":"VLOOKUP($C72,'Ped & Bicycle'!$C$14:$X$77,2,TRUE)","v":0},null,{"$f":"VLOOKUP($C72,'Ped & Bicycle'!$C$14:$X$77,4,TRUE)","v":0},null,{"$f":"SUM(D72:G72)","v":0},{"$f":"VLOOKUP($C72,'Ped & Bicycle'!$C$14:$X$77,7,TRUE)","v":0},null,{"$f":"VLOOKUP($C72,'Ped & Bicycle'!$C$14:$X$77,9,TRUE)","v":0},null,{"$f":"SUM(I72:L72)","v":0},{"$f":"VLOOKUP($C72,'Ped & Bicycle'!$C$14:$X$77,12,TRUE)","v":0},null,{"$f":"VLOOKUP($C72,'Ped & Bicycle'!$C$14:$X$77,14,TRUE)","v":0},null,{"$f":"SUM(N72:Q72)","v":0},{"$f":"VLOOKUP($C72,'Ped & Bicycle'!$C$14:$X$77,17,TRUE)","v":0},null,{"$f":"VLOOKUP($C72,'Ped & Bicycle'!$C$14:$X$77,19,TRUE)","v":0},null,{"$f":"SUM(S72:V72)","v":0},{"$f":"H72+M72+R72+W72","v":0}]
[null,null,{"$f":"C45","v":"16:44:59.942"},{"$f":"VLOOKUP($C73,'Ped & Bicycle'!$C$14:$X$77,2,TRUE)","v":0},null,{"$f":"VLOOKUP($C73,'Ped & Bicycle'!$C$14:$X$77,4,TRUE)","v":0},null,{"$f":"SUM(D73:G73)","v":0},{"$f":"VLOOKUP($C73,'Ped & Bicycle'!$C$14:$X$77,7,TRUE)","v":0},null,{"$f":"VLOOKUP($C73,'Ped & Bicycle'!$C$14:$X$77,9,TRUE)","v":0},null,{"$f":"SUM(I73:L73)","v":0},{"$f":"VLOOKUP($C73,'Ped & Bicycle'!$C$14:$X$77,12,TRUE)","v":1},null,{"$f":"VLOOKUP($C73,'Ped & Bicycle'!$C$14:$X$77,14,TRUE)","v":0},null,{"$f":"SUM(N73:Q73)","v":1},{"$f":"VLOOKUP($C73,'Ped & Bicycle'!$C$14:$X$77,17,TRUE)","v":0},null,{"$f":"VLOOKUP($C73,'Ped & Bicycle'!$C$14:$X$77,19,TRUE)","v":0},null,{"$f":"SUM(S73:V73)","v":0},{"$f":"H73+M73+R73+W73","v":1}]
[null,null,{"$f":"C46","v":"16:59:59.971"},{"$f":"VLOOKUP($C74,'Ped & Bicycle'!$C$14:$X$77,2,TRUE)","v":0},null,{"$f":"VLOOKUP($C74,'Ped & Bicycle'!$C$14:$X$77,4,TRUE)","v":0},null,{"$f":"SUM(D74:G74)","v":0},{"$f":"VLOOKUP($C74,'Ped & Bicycle'!$C$14:$X$77,7,TRUE)","v":0},null,{"$f":"VLOOKUP($C74,'Ped & Bicycle'!$C$14:$X$77,9,TRUE)","v":0},null,{"$f":"SUM(I74:L74)","v":0},{"$f":"VLOOKUP($C74,'Ped & Bicycle'!$C$14:$X$77,12,TRUE)","v":0},null,{"$f":"VLOOKUP($C74,'Ped & Bicycle'!$C$14:$X$77,14,TRUE)","v":0},null,{"$f":"SUM(N74:Q74)","v":0},{"$f":"VLOOKUP($C74,'Ped & Bicycle'!$C$14:$X$77,17,TRUE)","v":0},null,{"$f":"VLOOKUP($C74,'Ped & Bicycle'!$C$14:$X$77,19,TRUE)","v":0},null,{"$f":"SUM(S74:V74)","v":0},{"$f":"H74+M74+R74+W74","v":0}]
[null,null,{"$f":"C47","v":"17:15:00"},{"$f":"VLOOKUP($C75,'Ped & Bicycle'!$C$14:$X$77,2,TRUE)","v":0},null,{"$f":"VLOOKUP($C75,'Ped & Bicycle'!$C$14:$X$77,4,TRUE)","v":0},null,{"$f":"SUM(D75:G75)","v":0},{"$f":"VLOOKUP($C75,'Ped & Bicycle'!$C$14:$X$77,7,TRUE)","v":0},null,{"$f":"VLOOKUP($C75,'Ped & Bicycle'!$C$14:$X$77,9,TRUE)","v":0},null,{"$f":"SUM(I75:L75)","v":0},{"$f":"VLOOKUP($C75,'Ped & Bicycle'!$C$14:$X$77,12,TRUE)","v":2},null,{"$f":"VLOOKUP($C75,'Ped & Bicycle'!$C$14:$X$77,14,TRUE)","v":0},null,{"$f":"SUM(N75:Q75)","v":2},{"$f":"VLOOKUP($C75,'Ped & Bicycle'!$C$14:$X$77,17,TRUE)","v":0},null,{"$f":"VLOOKUP($C75,'Ped & Bicycle'!$C$14:$X$77,19,TRUE)","v":0},null,{"$f":"SUM(S75:V75)","v":0},{"$f":"H75+M75+R75+W75","v":2}]
[null,null,"Total",{"$f":"SUM(D72:E75)","v":0},null,{"$f":"SUM(F72:G75)","v":0},null,{"$f":"SUM(D76:G76)","v":0},{"$f":"SUM(I72:J75)","v":0},null,{"$f":"SUM(K72:L75)","v":0},null,{"$f":"SUM(I76:L76)","v":0},{"$f":"SUM(N72:O75)","v":3},null,{"$f":"SUM(P72:Q75)","v":0},null,{"$f":"SUM(N76:Q76)","v":3},{"$f":"SUM(S72:T75)","v":0},null,{"$f":"SUM(U72:V75)","v":0},null,{"$f":"SUM(S76:V76)","v":0},{"$f":"SUM(X72:X75)","v":3}]

{"sheet":"Hourly Volume Summary","index":4,"n_rows":30,"n_cols":27,"rows_kept":30,"cut":false,"hidden":false,"merged":[[2,14,2,15],[2,16,2,19],[3,14,3,19],[5,14,5,25],[6,14,7,25],[2,23,2,26],[3,23,3,26],[21,1,28,1],[29,1,29,2],[13,1,16,1],[17,1,20,1],[10,3,10,7],[11,25,11,26],[3,20,3,22],[0,1,3,12],[10,25,10,26],[10,13,10,17],[10,18,10,22],[9,3,9,4],[10,8,10,12],[9,13,9,14],[9,16,9,17],[9,18,9,19],[9,21,9,22],[2,20,2,22],[9,6,9,7],[9,8,9,9],[9,11,9,12]]}
[null,"Intersection Traffic Volume Report"]
[null,null,null,null,null,null,null,null,null,null,null,null,null,null,"Count Basics",null,null,null,null,null,null,null,null,null,null,null,"Page 4 of 11"]
[null,null,null,null,null,null,null,null,null,null,null,null,null,null,{"$f":"'Base Information'!L3","v":"Start Date:"},null,{"$f":"'Base Information'!N3","v":"2011-12-06"},null,null,null,{"$f":"'Base Information'!R3","v":"Weekday"},null,null,{"$f":"'Base Information'!U3","v":"Schools in Session"}]
[null,null,null,null,null,null,null,null,null,null,null,null,null,null,{"$f":"'Base Information'!L4","v":"Total Number of Hours Counted: 12"},null,null,null,null,null,{"$f":"'Base Information'!R4","v":"Non-Holiday"},null,null,{"$f":"'Base Information'!U4","v":"No Special Events"}]
[null,"Hourly Volume Summary - Motor Vehicle Data"]
[null,null,null,null,null,null,null,null,null,null,null,null,null,null,"All Motor Vehicles"]
[null,{"$f":"'Base Information'!E7","v":"441 NB ON RAMP and CTH OO (Northland Ave)"}]
[]
[null,"One-Hour Motor Vehicle Data"]
[null,null,null,null,null,"ê",null,null,null,null,"ç",null,null,null,null,"é",null,null,null,null,"è"]
[null,"One-Hour",null,"From North",null,null,null,null,"From East",null,null,null,null,"From South",null,null,null,null,"From West",null,null,null,null,"Total",null,"Directional"]
[null,"Time Period",null,{"$f":"'Base Information'!$D$14:$D$14","v":"441 NB ON RAMP"},null,null,null,null,{"$f":"'Base Information'!$D$15:$D$15","v":"CTH OO (Northland Ave)"},null,null,null,null,{"$f":"'Base Information'!$D$16:$D$16","v":"441 NB OFF RAMP"},null,null,null,null,{"$f":"'Base Information'!$D$17:$D$17","v":"CTH OO (Northland Ave)"},null,null,null,null,"Vehicle",null,"Volume Totals"]
[null,"Start Time",null,"Right ","Thru ","Left ","U-Tn","Total","Right ","Thru ","Left ","U-Tn","Total","Right ","Thru ","Left ","U-Tn","Total","Right ","Thru ","Left ","U-Tn","Total","Volume",null,"E/W","N/S"]
[null,"AM","06:00:00",{"$f":"Calculations!CQ6","v":0},{"$f":"Calculations!CR6","v":0},{"$f":"Calculations!CS6","v":0},{"$f":"Calculations!CV6","v":0},{"$f":"D14+E14+F14+G14","v":0},{"$f":"Calculations!CW6","v":62},{"$f":"Calculations!CX6","v":459},{"$f":"Calculations!CY6","v":0},{"$f":"Calculations!DB6","v":0},{"$f":"I14+J14+K14+L14","v":521},{"$f":"Calculations!DC6","v":152},{"$f":"Calculations!DD6","v":0},{"$f":"Calculations!DE6","v":480},{"$f":"Calculations!DH6","v":0},{"$f":"N14+O14+P14+Q14","v":632},{"$f":"Calculations!DI6","v":0},{"$f":"Calculations!DJ6","v":155},{"$f":"Calculations!DK6","v":19},{"$f":"Calculations!DN6","v":0},{"$f":"S14+T14+U14+V14","v":174},{"$f":"H14+M14+R14+W14","v":1327},null,{"$f":"M14+W14","v":695},{"$f":"H14+R14","v":632}]
[null,null,"07:00:00",{"$f":"Calculations!CQ18","v":0},{"$f":"Calculations!CR18","v":0},{"$f":"Calculations!CS18","v":0},{"$f":"Calculations!CV18","v":0},0,{"$f":"Calculations!CW18","v":88},{"$f":"Calculations!CX18","v":810},{"$f":"Calculations!CY18","v":0},{"$f":"Calculations!DB18","v":0},898,{"$f":"Calculations!DC18","v":259},{"$f":"Calculations!DD18","v":1},{"$f":"Calculations!DE18","v":833},{"$f":"Calculations!DH18","v":0},1093,{"$f":"Calculations!DI18","v":0},{"$f":"Calculations!DJ18","v":173},{"$f":"Calculations!DK18","v":32},{"$f":"Calculations!DN18","v":0},205,{"$f":"H15+M15+R15+W15","v":2196},null,{"$f":"M15+W15","v":1103},{"$f":"H15+R15","v":1093}]
[null,null,"08:00:00",{"$f":"Calculations!CQ30","v":0},{"$f":"Calculations!CR30","v":0},{"$f":"Calculations!CS30","v":0},{"$f":"Calculations!CV30","v":0},0,{"$f":"Calculations!CW30","v":73},{"$f":"Calculations!CX30","v":584},{"$f":"Calculations!CY30","v":0},{"$f":"Calculations!DB30","v":0},657,{"$f":"Calculations!DC30","v":198},{"$f":"Calculations!DD30","v":0},{"$f":"Calculations!DE30","v":547},{"$f":"Calculations!DH30","v":0},745,{"$f":"Calculations!DI30","v":0},{"$f":"Calculations!DJ30","v":190},{"$f":"Calculations!DK30","v":38},{"$f":"Calculations!DN30","v":0},228,1630,null,885,745]
[null,null,"09:00:00",{"$f":"Calculations!CQ42","v":0},{"$f":"Calculations!CR42","v":0},{"$f":"Calculations!CS42","v":0},{"$f":"Calculations!CV42","v":0},0,{"$f":"Calculations!CW42","v":47},{"$f":"Calculations!CX42","v":408},{"$f":"Calculations!CY42","v":0},{"$f":"Calculations!DB42","v":0},455,{"$f":"Calculations!DC42","v":142},{"$f":"Calculations!DD42","v":0},{"$f":"Calculations!DE42","v":289},{"$f":"Calculations!DH42","v":0},431,{"$f":"Calculations!DI42","v":0},{"$f":"Calculations!DJ42","v":199},{"$f":"Calculations!DK42","v":39},{"$f":"Calculations!DN42","v":0},238,1124,null,693,431]
[null,"MD","10:00:00",{"$f":"Calculations!CQ54","v":0},{"$f":"Calculations!CR54","v":0},{"$f":"Calculations!CS54","v":0},{"$f":"Calculations!CV54","v":0},0,{"$f":"Calculations!CW54","v":65},{"$f":"Calculations!CX54","v":405},{"$f":"Calculations!CY54","v":0},{"$f":"Calculations!DB54","v":0},470,{"$f":"Calculations!DC54","v":165},{"$f":"Calculations!DD54","v":0},{"$f":"Calculations!DE54","v":267},{"$f":"Calculations!DH54","v":0},432,{"$f":"Calculations!DI54","v":0},{"$f":"Calculations!DJ54","v":225},{"$f":"Calculations!DK54","v":27},{"$f":"Calculations!DN54","v":0},252,1154,null,722,432]
[null,null,"11:00:00",{"$f":"Calculations!CQ66","v":0},{"$f":"Calculations!CR66","v":0},{"$f":"Calculations!CS66","v":0},{"$f":"Calculations!CV66","v":0},0,{"$f":"Calculations!CW66","v":44},{"$f":"Calculations!CX66","v":428},{"$f":"Calculations!CY66","v":0},{"$f":"Calculations!DB66","v":0},472,{"$f":"Calculations!DC66","v":205},{"$f":"Calculations!DD66","v":4},{"$f":"Calculations!DE66","v":382},{"$f":"Calculations!DH66","v":0},591,{"$f":"Calculations!DI66","v":0},{"$f":"Calculations!DJ66","v":288},{"$f":"Calculations!DK66","v":29},{"$f":"Calculations!DN66","v":0},317,1380,null,789,591]
[null,null,"12:00:00",{"$f":"Calculations!CQ78","v":0},{"$f":"Calculations!CR78","v":0},{"$f":"Calculations!CS78","v":0},{"$f":"Calculations!CV78","v":0},0,{"$f":"Calculations!CW78","v":55},{"$f":"Calculations!CX78","v":420},{"$f":"Calculations!CY78","v":0},{"$f":"Calculations!DB78","v":0},475,{"$f":"Calculations!DC78","v":198},{"$f":"Calculations!DD78","v":0},{"$f":"Calculations!DE78","v":406},{"$f":"Calculations!DH78","v":0},604,{"$f":"Calculations!DI78","v":0},{"$f":"Calculations!DJ78","v":279},{"$f":"Calculations!DK78","v":51},{"$f":"Calculations!DN78","v":0},330,1409,null,805,604]
[null,null,"13:00:00",{"$f":"Calculations!CQ90","v":0},{"$f":"Calculations!CR90","v":0},{"$f":"Calculations!CS90","v":0},{"$f":"Calculations!CV90","v":0},0,{"$f":"Calculations!CW90","v":50},{"$f":"Calculations!CX90","v":441},{"$f":"Calculations!CY90","v":0},{"$f":"Calculations!DB90","v":0},491,{"$f":"Calculations!DC90","v":216},{"$f":"Calculations!DD90","v":0},{"$f":"Calculations!DE90","v":417},{"$f":"Calculations!DH90","v":0},633,{"$f":"Calculations!DI90","v":0},{"$f":"Calculations!DJ90","v":328},{"$f":"Calculations!DK90","v":36},{"$f":"Calculations!DN90","v":0},364,1488,null,855,633]
[null,"PM","14:00:00",{"$f":"Calculations!CQ102","v":0},{"$f":"Calculations!CR102","v":0},{"$f":"Calculations!CS102","v":0},{"$f":"Calculations!CV102","v":0},0,{"$f":"Calculations!CW102","v":67},{"$f":"Calculations!CX102","v":453},{"$f":"Calculations!CY102","v":0},{"$f":"Calculations!DB102","v":0},520,{"$f":"Calculations!DC102","v":285},{"$f":"Calculations!DD102","v":1},{"$f":"Calculations!DE102","v":412},{"$f":"Calculations!DH102","v":0},698,{"$f":"Calculations!DI102","v":0},{"$f":"Calculations!DJ102","v":396},{"$f":"Calculations!DK102","v":87},{"$f":"Calculations!DN102","v":0},483,1701,null,1003,698]
[null,null,"15:00:00",{"$f":"Calculations!CQ114","v":0},{"$f":"Calculations!CR114","v":0},{"$f":"Calculations!CS114","v":0},{"$f":"Calculations!CV114","v":0},0,{"$f":"Calculations!CW114","v":76},{"$f":"Calculations!CX114","v":535},{"$f":"Calculations!CY114","v":0},{"$f":"Calculations!DB114","v":0},611,{"$f":"Calculations!DC114","v":344},{"$f":"Calculations!DD114","v":0},{"$f":"Calculations!DE114","v":442},{"$f":"Calculations!DH114","v":0},786,{"$f":"Calculations!DI114","v":0},{"$f":"Calculations!DJ114","v":448},{"$f":"Calculations!DK114","v":60},{"$f":"Calculations!DN114","v":0},508,1905,null,{"$f":"M23+W23","v":1119},786]
[null,null,"16:00:00",{"$f":"Calculations!CQ126","v":0},{"$f":"Calculations!CR126","v":0},{"$f":"Calculations!CS126","v":0},{"$f":"Calculations!CV126","v":0},0,{"$f":"Calculations!CW126","v":56},{"$f":"Calculations!CX126","v":559},{"$f":"Calculations!CY126","v":0},{"$f":"Calculations!DB126","v":0},615,{"$f":"Calculations!DC126","v":490},{"$f":"Calculations!DD126","v":0},{"$f":"Calculations!DE126","v":414},{"$f":"Calculations!DH126","v":0},904,{"$f":"Calculations!DI126","v":0},{"$f":"Calculations!DJ126","v":520},{"$f":"Calculations!DK126","v":133},{"$f":"Calculations!DN126","v":0},653,2172,null,1268,904]
[null,null,"17:00:00",{"$f":"Calculations!CQ138","v":0},{"$f":"Calculations!CR138","v":0},{"$f":"Calculations!CS138","v":0},{"$f":"Calculations!CV138","v":0},0,{"$f":"Calculations!CW138","v":56},{"$f":"Calculations!CX138","v":526},{"$f":"Calculations!CY138","v":0},{"$f":"Calculations!DB138","v":0},582,{"$f":"Calculations!DC138","v":444},{"$f":"Calculations!DD138","v":0},{"$f":"Calculations!DE138","v":367},{"$f":"Calculations!DH138","v":0},811,{"$f":"Calculations!DI138","v":0},{"$f":"Calculations!DJ138","v":459},{"$f":"Calculations!DK138","v":71},{"$f":"Calculations!DN138","v":0},530,1923,null,1112,811]
[null,null,"18:00:00",{"$f":"Calculations!CQ150","v":0},{"$f":"Calculations!CR150","v":0},{"$f":"Calculations!CS150","v":0},{"$f":"Calculations!CV150","v":0},0,{"$f":"Calculations!CW150","v":0},{"$f":"Calculations!CX150","v":0},{"$f":"Calculations!CY150","v":0},{"$f":"Calculations!DB150","v":0},0,{"$f":"Calculations!DC150","v":0},{"$f":"Calculations!DD150","v":0},{"$f":"Calculations!DE150","v":0},{"$f":"Calculations!DH150","v":0},0,{"$f":"Calculations!DI150","v":0},{"$f":"Calculations!DJ150","v":0},{"$f":"Calculations!DK150","v":0},{"$f":"Calculations!DN150","v":0},0,0,null,0,0]
[null,null,"19:00:00",{"$f":"Calculations!CQ162","v":0},{"$f":"Calculations!CR162","v":0},{"$f":"Calculations!CS162","v":0},{"$f":"Calculations!CV162","v":0},0,{"$f":"Calculations!CW162","v":0},{"$f":"Calculations!CX162","v":0},{"$f":"Calculations!CY162","v":0},{"$f":"Calculations!DB162","v":0},0,{"$f":"Calculations!DC162","v":0},{"$f":"Calculations!DD162","v":0},{"$f":"Calculations!DE162","v":0},{"$f":"Calculations!DH162","v":0},0,{"$f":"Calculations!DI162","v":0},{"$f":"Calculations!DJ162","v":0},{"$f":"Calculations!DK162","v":0},{"$f":"Calculations!DN162","v":0},0,0,null,0,0]
[null,null,"20:00:00",{"$f":"Calculations!CQ174","v":0},{"$f":"Calculations!CR174","v":0},{"$f":"Calculations!CS174","v":0},{"$f":"Calculations!CV174","v":0},0,{"$f":"Calculations!CW174","v":0},{"$f":"Calculations!CX174","v":0},{"$f":"Calculations!CY174","v":0},{"$f":"Calculations!DB174","v":0},0,{"$f":"Calculations!DC174","v":0},{"$f":"Calculations!DD174","v":0},{"$f":"Calculations!DE174","v":0},{"$f":"Calculations!DH174","v":0},0,{"$f":"Calculations!DI174","v":0},{"$f":"Calculations!DJ174","v":0},{"$f":"Calculations!DK174","v":0},{"$f":"Calculations!DN174","v":0},0,0,null,0,0]
[null,null,"21:00:00",{"$f":"Calculations!CQ186","v":0},{"$f":"Calculations!CR186","v":0},{"$f":"Calculations!CS186","v":0},{"$f":"Calculations!CV186","v":0},0,{"$f":"Calculations!CW186","v":0},{"$f":"Calculations!CX186","v":0},{"$f":"Calculations!CY186","v":0},{"$f":"Calculations!DB186","v":0},0,{"$f":"Calculations!DC186","v":0},{"$f":"Calculations!DD186","v":0},{"$f":"Calculations!DE186","v":0},{"$f":"Calculations!DH186","v":0},0,{"$f":"Calculations!DI186","v":0},{"$f":"Calculations!DJ186","v":0},{"$f":"Calculations!DK186","v":0},{"$f":"Calculations!DN186","v":0},0,0,null,0,0]
[null,"Totals",null,{"$f":"SUM(D14:D29)","v":0},{"$f":"SUM(E14:E29)","v":0},0,0,{"$f":"SUM(H14:H29)","v":0},739,6028,0,0,6767,3098,6,5256,0,8360,0,3660,622,0,4282,{"$f":"SUM(X14:X29)","v":19409},null,{"$f":"SUM(Z14:Z29)","v":11049},{"$f":"SUM(AA14:AA29)","v":8360}]

{"sheet":"15-Min All Vehicle","index":5,"n_rows":87,"n_cols":27,"rows_kept":87,"cut":false,"hidden":false,"merged":[[2,21,2,23],[2,24,2,26],[3,21,3,23],[3,24,3,26],[2,15,2,16],[13,1,28,1],[29,1,44,1],[45,1,76,1],[77,1,77,2],[9,3,9,4],[9,6,9,7],[0,1,3,12],[9,18,9,19],[9,21,9,22],[10,3,10,7],[10,8,10,12],[10,13,10,17],[10,18,10,22],[9,8,9,9],[9,11,9,12],[9,13,9,14],[9,16,9,17],[2,17,2,20],[3,15,3,20],[5,15,5,26],[6,15,7,26],[80,18,80,19],[80,21,80,22],[81,3,81,7],[81,8,81,12],[81,13,81,17],[81,18,81,22],[80,8,80,9],[80,11,80,12],[80,13,80,14],[80,16,80,17],[80,3,80,4],[80,6,80,7]]}
[null,"Intersection Traffic Volume Report"]
[null,null,null,null,null,null,null,null,null,null,null,null,null,null,null,"Count Basics",null,null,null,null,null,null,null,null,null,null,"Page 5 of 11"]
[null,null,null,null,null,null,null,null,null,null,null,null,null,null,null,{"$f":"'Base Information'!$L$3","v":"Start Date:"},null,{"$f":"'Base Information'!$N$3","v":"2011-12-06"},null,null,null,{"$f":"'Base Information'!R3","v":"Weekday"},null,null,{"$f":"'Base Information'!U3","v":"Schools in Session"}]
[null,null,null,null,null,null,null,null,null,null,null,null,null,null,null,{"$f":"'Base Information'!$L$4","v":"Total Number of Hours Counted: 12"},null,null,null,null,null,{"$f":"'Base Information'!R4","v":"Non-Holiday"},null,null,{"$f":"'Base Information'!U4","v":"No Special Events"}]
[null,"15-Minute Motor Vehicle Data"]
[null,null,null,null,null,null,null,null,null,null,null,null,null,null,null,"All Motor Vehicles"]
[null,{"$f":"'Base Information'!E7","v":"441 NB ON RAMP and CTH OO (Northland Ave)"}]
[]
[null,"15-Minute Motor Vehicle Data"]
[null,null,null,null,null,"ê",null,null,null,null,"ç",null,null,null,null,"é",null,null,null,null,"è"]
[null,"15-Minute",null,"From North",null,null,null,null,"From East",null,null,null,null,"From South",null,null,null,null,"From West"]
[null,"Time Period",null,{"$f":"'Base Information'!$D$14:$D$14","v":"441 NB ON RAMP"},null,null,null,null,{"$f":"'Base Information'!$D$15:$D$15","v":"CTH OO (Northland Ave)"},null,null,null,null,{"$f":"'Base Information'!$D$16:$D$16","v":"441 NB OFF RAMP"},null,null,null,null,{"$f":"'Base Information'!$D$17:$D$17","v":"CTH OO (Northland Ave)"},null,null,null,null,"15-Min",null,"Hourly"]
[null,"Start Time",null,"Right ","Thru ","Left ","U-Tn","Total","Right ","Thru ","Left ","U-Tn","Total","Right ","Thru ","Left ","U-Tn","Total","Right ","Thru ","Left ","U-Tn","Total","Totals",null,"Sum","PHF"]
[null,"AM Peak Period","06:00:00",{"$f":"Calculations!$S$6","v":0},{"$f":"Calculations!$T$6","v":0},{"$f":"Calculations!$U$6","v":0},{"$f":"Calculations!$X$6","v":0},{"$f":"SUM(D14:G14)","v":0},{"$f":"Calculations!$Y$6","v":15},{"$f":"Calculations!$Z$6","v":113},{"$f":"Calculations!$AA$6","v":0},{"$f":"Calculations!$AD$6","v":0},{"$f":"SUM(I14:L14)","v":128},{"$f":"Calculations!$AE$6","v":26},{"$f":"Calculations!$AF$6","v":0},{"$f":"Calculations!$AG$6","v":82},{"$f":"Calculations!$AJ$6","v":0},{"$f":"SUM(N14:Q14)","v":108},{"$f":"Calculations!$AK$6","v":0},{"$f":"Calculations!$AL$6","v":24},{"$f":"Calculations!$AM$6","v":2},{"$f":"Calculations!$AP$6","v":0},{"$f":"SUM(S14:V14)","v":26},{"$f":"H14+M14+R14+W14","v":262},null,{"$f":"IF(OR(X14=0,X15=0, X16=0,X17=0)=TRUE,\"\",X14+X15+X16+X17)","v":1327},{"$f":"IF(OR(X14=0,X15=0, X16=0,X17=0)=TRUE,\"\",(Z14/(4*MAX(X14:X17))))","v":0.69695378151260501}]
[null,null,"06:14:59.942",{"$f":"Calculations!$S$9","v":0},{"$f":"Calculations!$T$9","v":0},{"$f":"Calculations!$U$9","v":0},{"$f":"Calculations!$X$9","v":0},{"$f":"SUM(D15:G15)","v":0},{"$f":"Calculations!$Y$9","v":13},{"$f":"Calculations!$Z$9","v":102},{"$f":"Calculations!$AA$9","v":0},{"$f":"Calculations!$AD$9","v":0},{"$f":"SUM(I15:L15)","v":115},{"$f":"Calculations!$AE$9","v":31},{"$f":"Calculations!$AF$9","v":0},{"$f":"Calculations!$AG$9","v":114},{"$f":"Calculations!$AJ$9","v":0},{"$f":"SUM(N15:Q15)","v":145},{"$f":"Calculations!$AK$9","v":0},{"$f":"Calculations!$AL$9","v":36},{"$f":"Calculations!$AM$9","v":8},{"$f":"Calculations!$AP$9","v":0},{"$f":"SUM(S15:V15)","v":44},{"$f":"H15+M15+R15+W15","v":304},null,{"$f":"IF(OR(X15=0,X16=0, X17=0,X18=0)=TRUE,\"\",X15+X16+X17+X18)","v":1475},{"$f":"IF(OR(X15=0,X16=0, X17=0,X18=0)=TRUE,\"\",(Z15/(4*MAX(X15:X18))))","v":0.77468487394957986}]
[null,null,"06:29:59.971",{"$f":"Calculations!$S$12","v":0},{"$f":"Calculations!$T$12","v":0},{"$f":"Calculations!$U$12","v":0},{"$f":"Calculations!$X$12","v":0},0,{"$f":"Calculations!$Y$12","v":16},{"$f":"Calculations!$Z$12","v":101},{"$f":"Calculations!$AA$12","v":0},{"$f":"Calculations!$AD$12","v":0},117,{"$f":"Calculations!$AE$12","v":32},{"$f":"Calculations!$AF$12","v":0},{"$f":"Calculations!$AG$12","v":95},{"$f":"Calculations!$AJ$12","v":0},127,{"$f":"Calculations!$AK$12","v":0},{"$f":"Calculations!$AL$12","v":36},{"$f":"Calculations!$AM$12","v":5},{"$f":"Calculations!$AP$12","v":0},41,285,null,1687,0.81734496124031009]
[null,null,"06:45:00",{"$f":"Calculations!$S$15","v":0},{"$f":"Calculations!$T$15","v":0},{"$f":"Calculations!$U$15","v":0},{"$f":"Calculations!$X$15","v":0},0,{"$f":"Calculations!$Y$15","v":18},{"$f":"Calculations!$Z$15","v":143},{"$f":"Calculations!$AA$15","v":0},{"$f":"Calculations!$AD$15","v":0},161,{"$f":"Calculations!$AE$15","v":63},{"$f":"Calculations!$AF$15","v":0},{"$f":"Calculations!$AG$15","v":189},{"$f":"Calculations!$AJ$15","v":0},252,{"$f":"Calculations!$AK$15","v":0},{"$f":"Calculations!$AL$15","v":59},{"$f":"Calculations!$AM$15","v":4},{"$f":"Calculations!$AP$15","v":0},63,476,null,1988,0.84812286689419791]
[null,null,"06:59:59.942",{"$f":"Calculations!$S$18","v":0},{"$f":"Calculations!$T$18","v":0},{"$f":"Calculations!$U$18","v":0},{"$f":"Calculations!$X$18","v":0},0,{"$f":"Calculations!$Y$18","v":12},{"$f":"Calculations!$Z$18","v":158},{"$f":"Calculations!$AA$18","v":0},{"$f":"Calculations!$AD$18","v":0},170,{"$f":"Calculations!$AE$18","v":55},{"$f":"Calculations!$AF$18","v":0},{"$f":"Calculations!$AG$18","v":142},{"$f":"Calculations!$AJ$18","v":0},197,{"$f":"Calculations!$AK$18","v":0},{"$f":"Calculations!$AL$18","v":36},{"$f":"Calculations!$AM$18","v":7},{"$f":"Calculations!$AP$18","v":0},43,410,null,2196,0.80263157894736847]
[null,null,"07:14:59.971",{"$f":"Calculations!$S$21","v":0},{"$f":"Calculations!$T$21","v":0},{"$f":"Calculations!$U$21","v":0},{"$f":"Calculations!$X$21","v":0},0,{"$f":"Calculations!$Y$21","v":28},{"$f":"Calculations!$Z$21","v":151},{"$f":"Calculations!$AA$21","v":0},{"$f":"Calculations!$AD$21","v":0},179,{"$f":"Calculations!$AE$21","v":74},{"$f":"Calculations!$AF$21","v":0},{"$f":"Calculations!$AG$21","v":216},{"$f":"Calculations!$AJ$21","v":0},290,{"$f":"Calculations!$AK$21","v":0},{"$f":"Calculations!$AL$21","v":35},{"$f":"Calculations!$AM$21","v":12},{"$f":"Calculations!$AP$21","v":0},47,516,null,2223,0.8125]
[null,null,"07:30:00",{"$f":"Calculations!$S$24","v":0},{"$f":"Calculations!$T$24","v":0},{"$f":"Calculations!$U$24","v":0},{"$f":"Calculations!$X$24","v":0},0,{"$f":"Calculations!$Y$24","v":19},{"$f":"Calculations!$Z$24","v":224},{"$f":"Calculations!$AA$24","v":0},{"$f":"Calculations!$AD$24","v":0},243,{"$f":"Calculations!$AE$24","v":66},{"$f":"Calculations!$AF$24","v":1},{"$f":"Calculations!$AG$24","v":233},{"$f":"Calculations!$AJ$24","v":0},300,{"$f":"Calculations!$AK$24","v":0},{"$f":"Calculations!$AL$24","v":39},{"$f":"Calculations!$AM$24","v":4},{"$f":"Calculations!$AP$24","v":0},43,586,null,2134,0.77997076023391809]
[null,null,"07:44:59.942",{"$f":"Calculations!$S$27","v":0},{"$f":"Calculations!$T$27","v":0},{"$f":"Calculations!$U$27","v":0},{"$f":"Calculations!$X$27","v":0},0,{"$f":"Calculations!$Y$27","v":29},{"$f":"Calculations!$Z$27","v":277},{"$f":"Calculations!$AA$27","v":0},{"$f":"Calculations!$AD$27","v":0},306,{"$f":"Calculations!$AE$27","v":64},{"$f":"Calculations!$AF$27","v":0},{"$f":"Calculations!$AG$27","v":242},{"$f":"Calculations!$AJ$27","v":0},306,{"$f":"Calculations!$AK$27","v":0},{"$f":"Calculations!$AL$27","v":63},{"$f":"Calculations!$AM$27","v":9},{"$f":"Calculations!$AP$27","v":0},72,684,null,1926,0.70394736842105265]
[null,null,"07:59:59.971",{"$f":"Calculations!$S$30","v":0},{"$f":"Calculations!$T$30","v":0},{"$f":"Calculations!$U$30","v":0},{"$f":"Calculations!$X$30","v":0},0,{"$f":"Calculations!$Y$30","v":12},{"$f":"Calculations!$Z$30","v":170},{"$f":"Calculations!$AA$30","v":0},{"$f":"Calculations!$AD$30","v":0},182,{"$f":"Calculations!$AE$30","v":42},{"$f":"Calculations!$AF$30","v":0},{"$f":"Calculations!$AG$30","v":164},{"$f":"Calculations!$AJ$30","v":0},206,{"$f":"Calculations!$AK$30","v":0},{"$f":"Calculations!$AL$30","v":41},{"$f":"Calculations!$AM$30","v":8},{"$f":"Calculations!$AP$30","v":0},49,437,null,1630,0.93249427917620142]
[null,null,"08:15:00",{"$f":"Calculations!$S$33","v":0},{"$f":"Calculations!$T$33","v":0},{"$f":"Calculations!$U$33","v":0},{"$f":"Calculations!$X$33","v":0},0,{"$f":"Calculations!$Y$33","v":22},{"$f":"Calculations!$Z$33","v":156},{"$f":"Calculations!$AA$33","v":0},{"$f":"Calculations!$AD$33","v":0},178,{"$f":"Calculations!$AE$33","v":60},{"$f":"Calculations!$AF$33","v":0},{"$f":"Calculations!$AG$33","v":125},{"$f":"Calculations!$AJ$33","v":0},185,{"$f":"Calculations!$AK$33","v":0},{"$f":"Calculations!$AL$33","v":52},{"$f":"Calculations!$AM$33","v":12},{"$f":"Calculations!$AP$33","v":0},64,427,null,1480,0.86651053864168615]
[null,null,"08:29:59.942",{"$f":"Calculations!$S$36","v":0},{"$f":"Calculations!$T$36","v":0},{"$f":"Calculations!$U$36","v":0},{"$f":"Calculations!$X$36","v":0},0,{"$f":"Calculations!$Y$36","v":20},{"$f":"Calculations!$Z$36","v":127},{"$f":"Calculations!$AA$36","v":0},{"$f":"Calculations!$AD$36","v":0},147,{"$f":"Calculations!$AE$36","v":49},{"$f":"Calculations!$AF$36","v":0},{"$f":"Calculations!$AG$36","v":128},{"$f":"Calculations!$AJ$36","v":0},177,{"$f":"Calculations!$AK$36","v":0},{"$f":"Calculations!$AL$36","v":49},{"$f":"Calculations!$AM$36","v":5},{"$f":"Calculations!$AP$36","v":0},54,378,null,1327,0.85502577319587625]
[null,null,"08:44:59.971",{"$f":"Calculations!$S$39","v":0},{"$f":"Calculations!$T$39","v":0},{"$f":"Calculations!$U$39","v":0},{"$f":"Calculations!$X$39","v":0},0,{"$f":"Calculations!$Y$39","v":19},{"$f":"Calculations!$Z$39","v":131},{"$f":"Calculations!$AA$39","v":0},{"$f":"Calculations!$AD$39","v":0},150,{"$f":"Calculations!$AE$39","v":47},{"$f":"Calculations!$AF$39","v":0},{"$f":"Calculations!$AG$39","v":130},{"$f":"Calculations!$AJ$39","v":0},177,{"$f":"Calculations!$AK$39","v":0},{"$f":"Calculations!$AL$39","v":48},{"$f":"Calculations!$AM$39","v":13},{"$f":"Calculations!$AP$39","v":0},61,388,null,1228,0.79123711340206182]
[null,null,"09:00:00",{"$f":"Calculations!$S$42","v":0},{"$f":"Calculations!$T$42","v":0},{"$f":"Calculations!$U$42","v":0},{"$f":"Calculations!$X$42","v":0},0,{"$f":"Calculations!$Y$42","v":7},{"$f":"Calculations!$Z$42","v":115},{"$f":"Calculations!$AA$42","v":0},{"$f":"Calculations!$AD$42","v":0},122,{"$f":"Calculations!$AE$42","v":38},{"$f":"Calculations!$AF$42","v":0},{"$f":"Calculations!$AG$42","v":75},{"$f":"Calculations!$AJ$42","v":0},113,{"$f":"Calculations!$AK$42","v":0},{"$f":"Calculations!$AL$42","v":43},{"$f":"Calculations!$AM$42","v":9},{"$f":"Calculations!$AP$42","v":0},52,287,null,1124,0.97909407665505221]
[null,null,"09:14:59.942",{"$f":"Calculations!$S$45","v":0},{"$f":"Calculations!$T$45","v":0},{"$f":"Calculations!$U$45","v":0},{"$f":"Calculations!$X$45","v":0},0,{"$f":"Calculations!$Y$45","v":14},{"$f":"Calculations!$Z$45","v":94},{"$f":"Calculations!$AA$45","v":0},{"$f":"Calculations!$AD$45","v":0},108,{"$f":"Calculations!$AE$45","v":37},{"$f":"Calculations!$AF$45","v":0},{"$f":"Calculations!$AG$45","v":65},{"$f":"Calculations!$AJ$45","v":0},102,{"$f":"Calculations!$AK$45","v":0},{"$f":"Calculations!$AL$45","v":54},{"$f":"Calculations!$AM$45","v":10},{"$f":"Calculations!$AP$45","v":0},64,274,null,1123,0.98164335664335667]
[null,null,"09:29:59.971",{"$f":"Calculations!$S$48","v":0},{"$f":"Calculations!$T$48","v":0},{"$f":"Calculations!$U$48","v":0},{"$f":"Calculations!$X$48","v":0},0,{"$f":"Calculations!$Y$48","v":10},{"$f":"Calculations!$Z$48","v":104},{"$f":"Calculations!$AA$48","v":0},{"$f":"Calculations!$AD$48","v":0},114,{"$f":"Calculations!$AE$48","v":28},{"$f":"Calculations!$AF$48","v":0},{"$f":"Calculations!$AG$48","v":78},{"$f":"Calculations!$AJ$48","v":0},106,{"$f":"Calculations!$AK$48","v":0},{"$f":"Calculations!$AL$48","v":45},{"$f":"Calculations!$AM$48","v":14},{"$f":"Calculations!$AP$48","v":0},59,279,null,1123,0.98164335664335667]
[null,null,"09:45:00",{"$f":"Calculations!$S$51","v":0},{"$f":"Calculations!$T$51","v":0},{"$f":"Calculations!$U$51","v":0},{"$f":"Calculations!$X$51","v":0},0,{"$f":"Calculations!$Y$51","v":16},{"$f":"Calculations!$Z$51","v":95},{"$f":"Calculations!$AA$51","v":0},{"$f":"Calculations!$AD$51","v":0},111,{"$f":"Calculations!$AE$51","v":39},{"$f":"Calculations!$AF$51","v":0},{"$f":"Calculations!$AG$51","v":71},{"$f":"Calculations!$AJ$51","v":0},110,{"$f":"Calculations!$AK$51","v":0},{"$f":"Calculations!$AL$51","v":57},{"$f":"Calculations!$AM$51","v":6},{"$f":"Calculations!$AP$51","v":0},63,284,null,1124,0.9825174825174825]
[null,"Midday Peak Period","09:59:59.942",{"$f":"Calculations!$S$54","v":0},{"$f":"Calculations!$T$54","v":0},{"$f":"Calculations!$U$54","v":0},{"$f":"Calculations!$X$54","v":0},0,{"$f":"Calculations!$Y$54","v":19},{"$f":"Calculations!$Z$54","v":104},{"$f":"Calculations!$AA$54","v":0},{"$f":"Calculations!$AD$54","v":0},123,{"$f":"Calculations!$AE$54","v":38},{"$f":"Calculations!$AF$54","v":0},{"$f":"Calculations!$AG$54","v":61},{"$f":"Calculations!$AJ$54","v":0},99,{"$f":"Calculations!$AK$54","v":0},{"$f":"Calculations!$AL$54","v":55},{"$f":"Calculations!$AM$54","v":9},{"$f":"Calculations!$AP$54","v":0},64,286,null,1154,0.91878980891719741]
[null,null,"10:14:59.971",{"$f":"Calculations!$S$57","v":0},{"$f":"Calculations!$T$57","v":0},{"$f":"Calculations!$U$57","v":0},{"$f":"Calculations!$X$57","v":0},0,{"$f":"Calculations!$Y$57","v":15},{"$f":"Calculations!$Z$57","v":91},{"$f":"Calculations!$AA$57","v":0},{"$f":"Calculations!$AD$57","v":0},106,{"$f":"Calculations!$AE$57","v":39},{"$f":"Calculations!$AF$57","v":0},{"$f":"Calculations!$AG$57","v":70},{"$f":"Calculations!$AJ$57","v":0},109,{"$f":"Calculations!$AK$57","v":0},{"$f":"Calculations!$AL$57","v":54},{"$f":"Calculations!$AM$57","v":5},{"$f":"Calculations!$AP$57","v":0},59,274,null,1180,0.93949044585987262]
[null,null,"10:30:00",{"$f":"Calculations!$S$60","v":0},{"$f":"Calculations!$T$60","v":0},{"$f":"Calculations!$U$60","v":0},{"$f":"Calculations!$X$60","v":0},0,{"$f":"Calculations!$Y$60","v":15},{"$f":"Calculations!$Z$60","v":100},{"$f":"Calculations!$AA$60","v":0},{"$f":"Calculations!$AD$60","v":0},115,{"$f":"Calculations!$AE$60","v":40},{"$f":"Calculations!$AF$60","v":0},{"$f":"Calculations!$AG$60","v":65},{"$f":"Calculations!$AJ$60","v":0},105,{"$f":"Calculations!$AK$60","v":0},{"$f":"Calculations!$AL$60","v":54},{"$f":"Calculations!$AM$60","v":6},{"$f":"Calculations!$AP$60","v":0},60,280,null,1269,0.87396694214876036]
[null,null,"10:44:59.942",{"$f":"Calculations!$S$63","v":0},{"$f":"Calculations!$T$63","v":0},{"$f":"Calculations!$U$63","v":0},{"$f":"Calculations!$X$63","v":0},0,{"$f":"Calculations!$Y$63","v":16},{"$f":"Calculations!$Z$63","v":110},{"$f":"Calculations!$AA$63","v":0},{"$f":"Calculations!$AD$63","v":0},126,{"$f":"Calculations!$AE$63","v":48},{"$f":"Calculations!$AF$63","v":0},{"$f":"Calculations!$AG$63","v":71},{"$f":"Calculations!$AJ$63","v":0},119,{"$f":"Calculations!$AK$63","v":0},{"$f":"Calculations!$AL$63","v":62},{"$f":"Calculations!$AM$63","v":7},{"$f":"Calculations!$AP$63","v":0},69,314,null,1337,0.92079889807162529]
[null,null,"10:59:59.971",{"$f":"Calculations!$S$66","v":0},{"$f":"Calculations!$T$66","v":0},{"$f":"Calculations!$U$66","v":0},{"$f":"Calculations!$X$66","v":0},0,{"$f":"Calculations!$Y$66","v":9},{"$f":"Calculations!$Z$66","v":98},{"$f":"Calculations!$AA$66","v":0},{"$f":"Calculations!$AD$66","v":0},107,{"$f":"Calculations!$AE$66","v":37},{"$f":"Calculations!$AF$66","v":0},{"$f":"Calculations!$AG$66","v":95},{"$f":"Calculations!$AJ$66","v":0},132,{"$f":"Calculations!$AK$66","v":0},{"$f":"Calculations!$AL$66","v":61},{"$f":"Calculations!$AM$66","v":12},{"$f":"Calculations!$AP$66","v":0},73,312,null,1380,0.95041322314049592]
[null,null,"11:15:00",{"$f":"Calculations!$S$69","v":0},{"$f":"Calculations!$T$69","v":0},{"$f":"Calculations!$U$69","v":0},{"$f":"Calculations!$X$69","v":0},0,{"$f":"Calculations!$Y$69","v":9},{"$f":"Calculations!$Z$69","v":109},{"$f":"Calculations!$AA$69","v":0},{"$f":"Calculations!$AD$69","v":0},118,{"$f":"Calculations!$AE$69","v":54},{"$f":"Calculations!$AF$69","v":4},{"$f":"Calculations!$AG$69","v":99},{"$f":"Calculations!$AJ$69","v":0},157,{"$f":"Calculations!$AK$69","v":0},{"$f":"Calculations!$AL$69","v":83},{"$f":"Calculations!$AM$69","v":5},{"$f":"Calculations!$AP$69","v":0},88,363,null,1400,0.96418732782369143]
[null,null,"11:29:59.942",{"$f":"Calculations!$S$72","v":0},{"$f":"Calculations!$T$72","v":0},{"$f":"Calculations!$U$72","v":0},{"$f":"Calculations!$X$72","v":0},0,{"$f":"Calculations!$Y$72","v":15},{"$f":"Calculations!$Z$72","v":110},{"$f":"Calculations!$AA$72","v":0},{"$f":"Calculations!$AD$72","v":0},125,{"$f":"Calculations!$AE$72","v":49},{"$f":"Calculations!$AF$72","v":0},{"$f":"Calculations!$AG$72","v":83},{"$f":"Calculations!$AJ$72","v":0},132,{"$f":"Calculations!$AK$72","v":0},{"$f":"Calculations!$AL$72","v":86},{"$f":"Calculations!$AM$72","v":5},{"$f":"Calculations!$AP$72","v":0},91,348,null,1383,0.96848739495798319]
[null,null,"11:44:59.971",{"$f":"Calculations!$S$75","v":0},{"$f":"Calculations!$T$75","v":0},{"$f":"Calculations!$U$75","v":0},{"$f":"Calculations!$X$75","v":0},0,{"$f":"Calculations!$Y$75","v":11},{"$f":"Calculations!$Z$75","v":111},{"$f":"Calculations!$AA$75","v":0},{"$f":"Calculations!$AD$75","v":0},122,{"$f":"Calculations!$AE$75","v":65},{"$f":"Calculations!$AF$75","v":0},{"$f":"Calculations!$AG$75","v":105},{"$f":"Calculations!$AJ$75","v":0},170,{"$f":"Calculations!$AK$75","v":0},{"$f":"Calculations!$AL$75","v":58},{"$f":"Calculations!$AM$75","v":7},{"$f":"Calculations!$AP$75","v":0},65,357,null,1394,0.97075208913649025]
[null,null,"12:00:00",{"$f":"Calculations!$S$78","v":0},{"$f":"Calculations!$T$78","v":0},{"$f":"Calculations!$U$78","v":0},{"$f":"Calculations!$X$78","v":0},0,{"$f":"Calculations!$Y$78","v":11},{"$f":"Calculations!$Z$78","v":97},{"$f":"Calculations!$AA$78","v":0},{"$f":"Calculations!$AD$78","v":0},108,{"$f":"Calculations!$AE$78","v":42},{"$f":"Calculations!$AF$78","v":0},{"$f":"Calculations!$AG$78","v":98},{"$f":"Calculations!$AJ$78","v":0},140,{"$f":"Calculations!$AK$78","v":0},{"$f":"Calculations!$AL$78","v":70},{"$f":"Calculations!$AM$78","v":14},{"$f":"Calculations!$AP$78","v":0},84,332,null,1409,0.94690860215053763]
[null,null,"12:14:59.942",{"$f":"Calculations!$S$81","v":0},{"$f":"Calculations!$T$81","v":0},{"$f":"Calculations!$U$81","v":0},{"$f":"Calculations!$X$81","v":0},0,{"$f":"Calculations!$Y$81","v":18},{"$f":"Calculations!$Z$81","v":107},{"$f":"Calculations!$AA$81","v":0},{"$f":"Calculations!$AD$81","v":0},125,{"$f":"Calculations!$AE$81","v":42},{"$f":"Calculations!$AF$81","v":0},{"$f":"Calculations!$AG$81","v":92},{"$f":"Calculations!$AJ$81","v":0},134,{"$f":"Calculations!$AK$81","v":0},{"$f":"Calculations!$AL$81","v":77},{"$f":"Calculations!$AM$81","v":10},{"$f":"Calculations!$AP$81","v":0},87,346,null,1465,0.94394329896907214]
[null,null,"12:29:59.971",{"$f":"Calculations!$S$84","v":0},{"$f":"Calculations!$T$84","v":0},{"$f":"Calculations!$U$84","v":0},{"$f":"Calculations!$X$84","v":0},0,{"$f":"Calculations!$Y$84","v":14},{"$f":"Calculations!$Z$84","v":110},{"$f":"Calculations!$AA$84","v":0},{"$f":"Calculations!$AD$84","v":0},124,{"$f":"Calculations!$AE$84","v":50},{"$f":"Calculations!$AF$84","v":0},{"$f":"Calculations!$AG$84","v":113},{"$f":"Calculations!$AJ$84","v":0},163,{"$f":"Calculations!$AK$84","v":0},{"$f":"Calculations!$AL$84","v":64},{"$f":"Calculations!$AM$84","v":8},{"$f":"Calculations!$AP$84","v":0},72,359,null,1445,0.93105670103092786]
[null,null,"12:45:00",{"$f":"Calculations!$S$87","v":0},{"$f":"Calculations!$T$87","v":0},{"$f":"Calculations!$U$87","v":0},{"$f":"Calculations!$X$87","v":0},0,{"$f":"Calculations!$Y$87","v":12},{"$f":"Calculations!$Z$87","v":106},{"$f":"Calculations!$AA$87","v":0},{"$f":"Calculations!$AD$87","v":0},118,{"$f":"Calculations!$AE$87","v":64},{"$f":"Calculations!$AF$87","v":0},{"$f":"Calculations!$AG$87","v":103},{"$f":"Calculations!$AJ$87","v":0},167,{"$f":"Calculations!$AK$87","v":0},{"$f":"Calculations!$AL$87","v":68},{"$f":"Calculations!$AM$87","v":19},{"$f":"Calculations!$AP$87","v":0},87,372,null,1485,0.93045112781954886]
[null,null,"12:59:59.942",{"$f":"Calculations!$S$90","v":0},{"$f":"Calculations!$T$90","v":0},{"$f":"Calculations!$U$90","v":0},{"$f":"Calculations!$X$90","v":0},0,{"$f":"Calculations!$Y$90","v":13},{"$f":"Calculations!$Z$90","v":124},{"$f":"Calculations!$AA$90","v":0},{"$f":"Calculations!$AD$90","v":0},137,{"$f":"Calculations!$AE$90","v":52},{"$f":"Calculations!$AF$90","v":0},{"$f":"Calculations!$AG$90","v":119},{"$f":"Calculations!$AJ$90","v":0},171,{"$f":"Calculations!$AK$90","v":0},{"$f":"Calculations!$AL$90","v":72},{"$f":"Calculations!$AM$90","v":8},{"$f":"Calculations!$AP$90","v":0},80,388,null,1488,0.93233082706766912]
[null,null,"13:14:59.971",{"$f":"Calculations!$S$93","v":0},{"$f":"Calculations!$T$93","v":0},{"$f":"Calculations!$U$93","v":0},{"$f":"Calculations!$X$93","v":0},0,{"$f":"Calculations!$Y$93","v":12},{"$f":"Calculations!$Z$93","v":92},{"$f":"Calculations!$AA$93","v":0},{"$f":"Calculations!$AD$93","v":0},104,{"$f":"Calculations!$AE$93","v":61},{"$f":"Calculations!$AF$93","v":0},{"$f":"Calculations!$AG$93","v":80},{"$f":"Calculations!$AJ$93","v":0},141,{"$f":"Calculations!$AK$93","v":0},{"$f":"Calculations!$AL$93","v":73},{"$f":"Calculations!$AM$93","v":8},{"$f":"Calculations!$AP$93","v":0},81,326,null,1481,0.92794486215538852]
[null,null,"13:30:00",{"$f":"Calculations!$S$96","v":0},{"$f":"Calculations!$T$96","v":0},{"$f":"Calculations!$U$96","v":0},{"$f":"Calculations!$X$96","v":0},0,{"$f":"Calculations!$Y$96","v":12},{"$f":"Calculations!$Z$96","v":115},{"$f":"Calculations!$AA$96","v":0},{"$f":"Calculations!$AD$96","v":0},127,{"$f":"Calculations!$AE$96","v":51},{"$f":"Calculations!$AF$96","v":0},{"$f":"Calculations!$AG$96","v":113},{"$f":"Calculations!$AJ$96","v":0},164,{"$f":"Calculations!$AK$96","v":0},{"$f":"Calculations!$AL$96","v":100},{"$f":"Calculations!$AM$96","v":8},{"$f":"Calculations!$AP$96","v":0},108,399,null,1578,0.93262411347517726]
[null,null,"13:44:59.942",{"$f":"Calculations!$S$99","v":0},{"$f":"Calculations!$T$99","v":0},{"$f":"Calculations!$U$99","v":0},{"$f":"Calculations!$X$99","v":0},0,{"$f":"Calculations!$Y$99","v":13},{"$f":"Calculations!$Z$99","v":110},{"$f":"Calculations!$AA$99","v":0},{"$f":"Calculations!$AD$99","v":0},123,{"$f":"Calculations!$AE$99","v":52},{"$f":"Calculations!$AF$99","v":0},{"$f":"Calculations!$AG$99","v":105},{"$f":"Calculations!$AJ$99","v":0},157,{"$f":"Calculations!$AK$99","v":0},{"$f":"Calculations!$AL$99","v":83},{"$f":"Calculations!$AM$99","v":12},{"$f":"Calculations!$AP$99","v":0},95,375,null,1614,0.92758620689655169]
[null,"PM Peak Period","13:59:59.971",{"$f":"Calculations!$S$102","v":0},{"$f":"Calculations!$T$102","v":0},{"$f":"Calculations!$U$102","v":0},{"$f":"Calculations!$X$102","v":0},0,{"$f":"Calculations!$Y$102","v":18},{"$f":"Calculations!$Z$102","v":127},{"$f":"Calculations!$AA$102","v":0},{"$f":"Calculations!$AD$102","v":0},145,{"$f":"Calculations!$AE$102","v":51},{"$f":"Calculations!$AF$102","v":1},{"$f":"Calculations!$AG$102","v":93},{"$f":"Calculations!$AJ$102","v":0},145,{"$f":"Calculations!$AK$102","v":0},{"$f":"Calculations!$AL$102","v":77},{"$f":"Calculations!$AM$102","v":14},{"$f":"Calculations!$AP$102","v":0},91,381,null,1701,0.92045454545454541]
[null,null,"14:15:00",{"$f":"Calculations!$S$105","v":0},{"$f":"Calculations!$T$105","v":0},{"$f":"Calculations!$U$105","v":0},{"$f":"Calculations!$X$105","v":0},0,{"$f":"Calculations!$Y$105","v":12},{"$f":"Calculations!$Z$105","v":114},{"$f":"Calculations!$AA$105","v":0},{"$f":"Calculations!$AD$105","v":0},126,{"$f":"Calculations!$AE$105","v":79},{"$f":"Calculations!$AF$105","v":0},{"$f":"Calculations!$AG$105","v":119},{"$f":"Calculations!$AJ$105","v":0},198,{"$f":"Calculations!$AK$105","v":0},{"$f":"Calculations!$AL$105","v":90},{"$f":"Calculations!$AM$105","v":9},{"$f":"Calculations!$AP$105","v":0},99,423,null,1749,0.9464285714285714]
[null,null,"14:29:59.942",{"$f":"Calculations!$S$108","v":0},{"$f":"Calculations!$T$108","v":0},{"$f":"Calculations!$U$108","v":0},{"$f":"Calculations!$X$108","v":0},0,{"$f":"Calculations!$Y$108","v":14},{"$f":"Calculations!$Z$108","v":102},{"$f":"Calculations!$AA$108","v":0},{"$f":"Calculations!$AD$108","v":0},116,{"$f":"Calculations!$AE$108","v":75},{"$f":"Calculations!$AF$108","v":0},{"$f":"Calculations!$AG$108","v":91},{"$f":"Calculations!$AJ$108","v":0},166,{"$f":"Calculations!$AK$108","v":0},{"$f":"Calculations!$AL$108","v":120},{"$f":"Calculations!$AM$108","v":33},{"$f":"Calculations!$AP$108","v":0},153,435,null,1793,0.95985010706638119]
[null,null,"14:44:59.971",{"$f":"Calculations!$S$111","v":0},{"$f":"Calculations!$T$111","v":0},{"$f":"Calculations!$U$111","v":0},{"$f":"Calculations!$X$111","v":0},0,{"$f":"Calculations!$Y$111","v":23},{"$f":"Calculations!$Z$111","v":110},{"$f":"Calculations!$AA$111","v":0},{"$f":"Calculations!$AD$111","v":0},133,{"$f":"Calculations!$AE$111","v":80},{"$f":"Calculations!$AF$111","v":0},{"$f":"Calculations!$AG$111","v":109},{"$f":"Calculations!$AJ$111","v":0},189,{"$f":"Calculations!$AK$111","v":0},{"$f":"Calculations!$AL$111","v":109},{"$f":"Calculations!$AM$111","v":31},{"$f":"Calculations!$AP$111","v":0},140,462,null,1884,0.8954372623574145]
[null,null,"15:00:00",{"$f":"Calculations!$S$114","v":0},{"$f":"Calculations!$T$114","v":0},{"$f":"Calculations!$U$114","v":0},{"$f":"Calculations!$X$114","v":0},0,{"$f":"Calculations!$Y$114","v":16},{"$f":"Calculations!$Z$114","v":117},{"$f":"Calculations!$AA$114","v":0},{"$f":"Calculations!$AD$114","v":0},133,{"$f":"Calculations!$AE$114","v":69},{"$f":"Calculations!$AF$114","v":0},{"$f":"Calculations!$AG$114","v":121},{"$f":"Calculations!$AJ$114","v":0},190,{"$f":"Calculations!$AK$114","v":0},{"$f":"Calculations!$AL$114","v":91},{"$f":"Calculations!$AM$114","v":15},{"$f":"Calculations!$AP$114","v":0},106,429,null,1905,0.90541825095057038]
[null,null,"15:14:59.942",{"$f":"Calculations!$S$117","v":0},{"$f":"Calculations!$T$117","v":0},{"$f":"Calculations!$U$117","v":0},{"$f":"Calculations!$X$117","v":0},0,{"$f":"Calculations!$Y$117","v":19},{"$f":"Calculations!$Z$117","v":154},{"$f":"Calculations!$AA$117","v":0},{"$f":"Calculations!$AD$117","v":0},173,{"$f":"Calculations!$AE$117","v":76},{"$f":"Calculations!$AF$117","v":0},{"$f":"Calculations!$AG$117","v":94},{"$f":"Calculations!$AJ$117","v":0},170,{"$f":"Calculations!$AK$117","v":0},{"$f":"Calculations!$AL$117","v":112},{"$f":"Calculations!$AM$117","v":12},{"$f":"Calculations!$AP$117","v":0},124,467,null,1952,0.92775665399239549]
[null,null,"15:29:59.971",{"$f":"Calculations!$S$120","v":0},{"$f":"Calculations!$T$120","v":0},{"$f":"Calculations!$U$120","v":0},{"$f":"Calculations!$X$120","v":0},0,{"$f":"Calculations!$Y$120","v":16},{"$f":"Calculations!$Z$120","v":155},{"$f":"Calculations!$AA$120","v":0},{"$f":"Calculations!$AD$120","v":0},171,{"$f":"Calculations!$AE$120","v":91},{"$f":"Calculations!$AF$120","v":0},{"$f":"Calculations!$AG$120","v":122},{"$f":"Calculations!$AJ$120","v":0},213,{"$f":"Calculations!$AK$120","v":0},{"$f":"Calculations!$AL$120","v":125},{"$f":"Calculations!$AM$120","v":17},{"$f":"Calculations!$AP$120","v":0},142,526,null,2017,0.94783834586466165]
[null,null,"15:45:00",{"$f":"Calculations!$S$123","v":0},{"$f":"Calculations!$T$123","v":0},{"$f":"Calculations!$U$123","v":0},{"$f":"Calculations!$X$123","v":0},0,{"$f":"Calculations!$Y$123","v":25},{"$f":"Calculations!$Z$123","v":109},{"$f":"Calculations!$AA$123","v":0},{"$f":"Calculations!$AD$123","v":0},134,{"$f":"Calculations!$AE$123","v":108},{"$f":"Calculations!$AF$123","v":0},{"$f":"Calculations!$AG$123","v":105},{"$f":"Calculations!$AJ$123","v":0},213,{"$f":"Calculations!$AK$123","v":0},{"$f":"Calculations!$AL$123","v":120},{"$f":"Calculations!$AM$123","v":16},{"$f":"Calculations!$AP$123","v":0},136,483,null,2050,0.9168157423971377]
[null,null,"15:59:59.942",{"$f":"Calculations!$S$126","v":0},{"$f":"Calculations!$T$126","v":0},{"$f":"Calculations!$U$126","v":0},{"$f":"Calculations!$X$126","v":0},0,{"$f":"Calculations!$Y$126","v":14},{"$f":"Calculations!$Z$126","v":133},{"$f":"Calculations!$AA$126","v":0},{"$f":"Calculations!$AD$126","v":0},147,{"$f":"Calculations!$AE$126","v":81},{"$f":"Calculations!$AF$126","v":0},{"$f":"Calculations!$AG$126","v":90},{"$f":"Calculations!$AJ$126","v":0},171,{"$f":"Calculations!$AK$126","v":0},{"$f":"Calculations!$AL$126","v":118},{"$f":"Calculations!$AM$126","v":40},{"$f":"Calculations!$AP$126","v":0},158,476,null,2172,0.89752066115702478]
[null,null,"16:14:59.971",{"$f":"Calculations!$S$129","v":0},{"$f":"Calculations!$T$129","v":0},{"$f":"Calculations!$U$129","v":0},{"$f":"Calculations!$X$129","v":0},0,{"$f":"Calculations!$Y$129","v":10},{"$f":"Calculations!$Z$129","v":125},{"$f":"Calculations!$AA$129","v":0},{"$f":"Calculations!$AD$129","v":0},135,{"$f":"Calculations!$AE$129","v":129},{"$f":"Calculations!$AF$129","v":0},{"$f":"Calculations!$AG$129","v":115},{"$f":"Calculations!$AJ$129","v":0},244,{"$f":"Calculations!$AK$129","v":0},{"$f":"Calculations!$AL$129","v":126},{"$f":"Calculations!$AM$129","v":27},{"$f":"Calculations!$AP$129","v":0},153,532,null,2205,0.91115702479338845]
[null,null,"16:30:00",{"$f":"Calculations!$S$132","v":0},{"$f":"Calculations!$T$132","v":0},{"$f":"Calculations!$U$132","v":0},{"$f":"Calculations!$X$132","v":0},0,{"$f":"Calculations!$Y$132","v":16},{"$f":"Calculations!$Z$132","v":144},{"$f":"Calculations!$AA$132","v":0},{"$f":"Calculations!$AD$132","v":0},160,{"$f":"Calculations!$AE$132","v":128},{"$f":"Calculations!$AF$132","v":0},{"$f":"Calculations!$AG$132","v":92},{"$f":"Calculations!$AJ$132","v":0},220,{"$f":"Calculations!$AK$132","v":0},{"$f":"Calculations!$AL$132","v":148},{"$f":"Calculations!$AM$132","v":31},{"$f":"Calculations!$AP$132","v":0},179,559,null,2241,0.92603305785123968]
[null,null,"16:44:59.942",{"$f":"Calculations!$S$135","v":0},{"$f":"Calculations!$T$135","v":0},{"$f":"Calculations!$U$135","v":0},{"$f":"Calculations!$X$135","v":0},0,{"$f":"Calculations!$Y$135","v":16},{"$f":"Calculations!$Z$135","v":157},{"$f":"Calculations!$AA$135","v":0},{"$f":"Calculations!$AD$135","v":0},173,{"$f":"Calculations!$AE$135","v":152},{"$f":"Calculations!$AF$135","v":0},{"$f":"Calculations!$AG$135","v":117},{"$f":"Calculations!$AJ$135","v":0},269,{"$f":"Calculations!$AK$135","v":0},{"$f":"Calculations!$AL$135","v":128},{"$f":"Calculations!$AM$135","v":35},{"$f":"Calculations!$AP$135","v":0},163,605,null,2118,0.87520661157024793]
[null,null,"16:59:59.971",{"$f":"Calculations!$S$138","v":0},{"$f":"Calculations!$T$138","v":0},{"$f":"Calculations!$U$138","v":0},{"$f":"Calculations!$X$138","v":0},0,{"$f":"Calculations!$Y$138","v":20},{"$f":"Calculations!$Z$138","v":139},{"$f":"Calculations!$AA$138","v":0},{"$f":"Calculations!$AD$138","v":0},159,{"$f":"Calculations!$AE$138","v":104},{"$f":"Calculations!$AF$138","v":0},{"$f":"Calculations!$AG$138","v":96},{"$f":"Calculations!$AJ$138","v":0},200,{"$f":"Calculations!$AK$138","v":0},{"$f":"Calculations!$AL$138","v":126},{"$f":"Calculations!$AM$138","v":24},{"$f":"Calculations!$AP$138","v":0},150,509,null,1923,0.8463908450704225]
[null,null,"17:15:00",{"$f":"Calculations!$S$141","v":0},{"$f":"Calculations!$T$141","v":0},{"$f":"Calculations!$U$141","v":0},{"$f":"Calculations!$X$141","v":0},0,{"$f":"Calculations!$Y$141","v":12},{"$f":"Calculations!$Z$141","v":150},{"$f":"Calculations!$AA$141","v":0},{"$f":"Calculations!$AD$141","v":0},162,{"$f":"Calculations!$AE$141","v":137},{"$f":"Calculations!$AF$141","v":0},{"$f":"Calculations!$AG$141","v":108},{"$f":"Calculations!$AJ$141","v":0},245,{"$f":"Calculations!$AK$141","v":0},{"$f":"Calculations!$AL$141","v":142},{"$f":"Calculations!$AM$141","v":19},{"$f":"Calculations!$AP$141","v":0},161,568,null,"",""]
[null,null,"17:29:59.942",{"$f":"Calculations!$S$144","v":0},{"$f":"Calculations!$T$144","v":0},{"$f":"Calculations!$U$144","v":0},{"$f":"Calculations!$X$144","v":0},0,{"$f":"Calculations!$Y$144","v":20},{"$f":"Calculations!$Z$144","v":122},{"$f":"Calculations!$AA$144","v":0},{"$f":"Calculations!$AD$144","v":0},142,{"$f":"Calculations!$AE$144","v":107},{"$f":"Calculations!$AF$144","v":0},{"$f":"Calculations!$AG$144","v":74},{"$f":"Calculations!$AJ$144","v":0},181,{"$f":"Calculations!$AK$144","v":0},{"$f":"Calculations!$AL$144","v":94},{"$f":"Calculations!$AM$144","v":19},{"$f":"Calculations!$AP$144","v":0},113,436,null,"",""]
[null,null,"17:44:59.971",{"$f":"Calculations!$S$147","v":0},{"$f":"Calculations!$T$147","v":0},{"$f":"Calculations!$U$147","v":0},{"$f":"Calculations!$X$147","v":0},0,{"$f":"Calculations!$Y$147","v":4},{"$f":"Calculations!$Z$147","v":115},{"$f":"Calculations!$AA$147","v":0},{"$f":"Calculations!$AD$147","v":0},119,{"$f":"Calculations!$AE$147","v":96},{"$f":"Calculations!$AF$147","v":0},{"$f":"Calculations!$AG$147","v":89},{"$f":"Calculations!$AJ$147","v":0},185,{"$f":"Calculations!$AK$147","v":0},{"$f":"Calculations!$AL$147","v":97},{"$f":"Calculations!$AM$147","v":9},{"$f":"Calculations!$AP$147","v":0},106,410,null,"",""]
[null,null,"18:00:00",{"$f":"Calculations!$S$150","v":0},{"$f":"Calculations!$T$150","v":0},{"$f":"Calculations!$U$150","v":0},{"$f":"Calculations!$X$150","v":0},0,{"$f":"Calculations!$Y$150","v":0},{"$f":"Calculations!$Z$150","v":0},{"$f":"Calculations!$AA$150","v":0},{"$f":"Calculations!$AD$150","v":0},0,{"$f":"Calculations!$AE$150","v":0},{"$f":"Calculations!$AF$150","v":0},{"$f":"Calculations!$AG$150","v":0},{"$f":"Calculations!$AJ$150","v":0},0,{"$f":"Calculations!$AK$150","v":0},{"$f":"Calculations!$AL$150","v":0},{"$f":"Calculations!$AM$150","v":0},{"$f":"Calculations!$AP$150","v":0},0,0,null,"",""]
[null,null,"18:14:59.942",{"$f":"Calculations!$S$153","v":0},{"$f":"Calculations!$T$153","v":0},{"$f":"Calculations!$U$153","v":0},{"$f":"Calculations!$X$153","v":0},0,{"$f":"Calculations!$Y$153","v":0},{"$f":"Calculations!$Z$153","v":0},{"$f":"Calculations!$AA$153","v":0},{"$f":"Calculations!$AD$153","v":0},0,{"$f":"Calculations!$AE$153","v":0},{"$f":"Calculations!$AF$153","v":0},{"$f":"Calculations!$AG$153","v":0},{"$f":"Calculations!$AJ$153","v":0},0,{"$f":"Calculations!$AK$153","v":0},{"$f":"Calculations!$AL$153","v":0},{"$f":"Calculations!$AM$153","v":0},{"$f":"Calculations!$AP$153","v":0},0,0,null,"",""]
[null,null,"18:29:59.971",{"$f":"Calculations!$S$156","v":0},{"$f":"Calculations!$T$156","v":0},{"$f":"Calculations!$U$156","v":0},{"$f":"Calculations!$X$156","v":0},0,{"$f":"Calculations!$Y$156","v":0},{"$f":"Calculations!$Z$156","v":0},{"$f":"Calculations!$AA$156","v":0},{"$f":"Calculations!$AD$156","v":0},0,{"$f":"Calculations!$AE$156","v":0},{"$f":"Calculations!$AF$156","v":0},{"$f":"Calculations!$AG$156","v":0},{"$f":"Calculations!$AJ$156","v":0},0,{"$f":"Calculations!$AK$156","v":0},{"$f":"Calculations!$AL$156","v":0},{"$f":"Calculations!$AM$156","v":0},{"$f":"Calculations!$AP$156","v":0},0,0,null,"",""]
[null,null,"18:45:00",{"$f":"Calculations!$S$159","v":0},{"$f":"Calculations!$T$159","v":0},{"$f":"Calculations!$U$159","v":0},{"$f":"Calculations!$X$159","v":0},0,{"$f":"Calculations!$Y$159","v":0},{"$f":"Calculations!$Z$159","v":0},{"$f":"Calculations!$AA$159","v":0},{"$f":"Calculations!$AD$159","v":0},0,{"$f":"Calculations!$AE$159","v":0},{"$f":"Calculations!$AF$159","v":0},{"$f":"Calculations!$AG$159","v":0},{"$f":"Calculations!$AJ$159","v":0},0,{"$f":"Calculations!$AK$159","v":0},{"$f":"Calculations!$AL$159","v":0},{"$f":"Calculations!$AM$159","v":0},{"$f":"Calculations!$AP$159","v":0},0,0,null,"",""]
[null,null,"18:59:59.942",{"$f":"Calculations!$S$162","v":0},{"$f":"Calculations!$T$162","v":0},{"$f":"Calculations!$U$162","v":0},{"$f":"Calculations!$X$162","v":0},0,{"$f":"Calculations!$Y$162","v":0},{"$f":"Calculations!$Z$162","v":0},{"$f":"Calculations!$AA$162","v":0},{"$f":"Calculations!$AD$162","v":0},0,{"$f":"Calculations!$AE$162","v":0},{"$f":"Calculations!$AF$162","v":0},{"$f":"Calculations!$AG$162","v":0},{"$f":"Calculations!$AJ$162","v":0},0,{"$f":"Calculations!$AK$162","v":0},{"$f":"Calculations!$AL$162","v":0},{"$f":"Calculations!$AM$162","v":0},{"$f":"Calculations!$AP$162","v":0},0,0,null,"",""]
[null,null,"19:14:59.971",{"$f":"Calculations!$S$165","v":0},{"$f":"Calculations!$T$165","v":0},{"$f":"Calculations!$U$165","v":0},{"$f":"Calculations!$X$165","v":0},0,{"$f":"Calculations!$Y$165","v":0},{"$f":"Calculations!$Z$165","v":0},{"$f":"Calculations!$AA$165","v":0},{"$f":"Calculations!$AD$165","v":0},0,{"$f":"Calculations!$AE$165","v":0},{"$f":"Calculations!$AF$165","v":0},{"$f":"Calculations!$AG$165","v":0},{"$f":"Calculations!$AJ$165","v":0},0,{"$f":"Calculations!$AK$165","v":0},{"$f":"Calculations!$AL$165","v":0},{"$f":"Calculations!$AM$165","v":0},{"$f":"Calculations!$AP$165","v":0},0,0,null,"",""]
[null,null,"19:30:00",{"$f":"Calculations!$S$168","v":0},{"$f":"Calculations!$T$168","v":0},{"$f":"Calculations!$U$168","v":0},{"$f":"Calculations!$X$168","v":0},0,{"$f":"Calculations!$Y$168","v":0},{"$f":"Calculations!$Z$168","v":0},{"$f":"Calculations!$AA$168","v":0},{"$f":"Calculations!$AD$168","v":0},0,{"$f":"Calculations!$AE$168","v":0},{"$f":"Calculations!$AF$168","v":0},{"$f":"Calculations!$AG$168","v":0},{"$f":"Calculations!$AJ$168","v":0},0,{"$f":"Calculations!$AK$168","v":0},{"$f":"Calculations!$AL$168","v":0},{"$f":"Calculations!$AM$168","v":0},{"$f":"Calculations!$AP$168","v":0},0,0,null,"",""]
[null,null,"19:44:59.942",{"$f":"Calculations!$S$171","v":0},{"$f":"Calculations!$T$171","v":0},{"$f":"Calculations!$U$171","v":0},{"$f":"Calculations!$X$171","v":0},0,{"$f":"Calculations!$Y$171","v":0},{"$f":"Calculations!$Z$171","v":0},{"$f":"Calculations!$AA$171","v":0},{"$f":"Calculations!$AD$171","v":0},0,{"$f":"Calculations!$AE$171","v":0},{"$f":"Calculations!$AF$171","v":0},{"$f":"Calculations!$AG$171","v":0},{"$f":"Calculations!$AJ$171","v":0},0,{"$f":"Calculations!$AK$171","v":0},{"$f":"Calculations!$AL$171","v":0},{"$f":"Calculations!$AM$171","v":0},{"$f":"Calculations!$AP$171","v":0},0,0,null,"",""]
[null,null,"19:59:59.971",{"$f":"Calculations!$S$174","v":0},{"$f":"Calculations!$T$174","v":0},{"$f":"Calculations!$U$174","v":0},{"$f":"Calculations!$X$174","v":0},0,{"$f":"Calculations!$Y$174","v":0},{"$f":"Calculations!$Z$174","v":0},{"$f":"Calculations!$AA$174","v":0},{"$f":"Calculations!$AD$174","v":0},0,{"$f":"Calculations!$AE$174","v":0},{"$f":"Calculations!$AF$174","v":0},{"$f":"Calculations!$AG$174","v":0},{"$f":"Calculations!$AJ$174","v":0},0,{"$f":"Calculations!$AK$174","v":0},{"$f":"Calculations!$AL$174","v":0},{"$f":"Calculations!$AM$174","v":0},{"$f":"Calculations!$AP$174","v":0},0,0,null,"",""]
[null,null,"20:15:00",{"$f":"Calculations!$S$177","v":0},{"$f":"Calculations!$T$177","v":0},{"$f":"Calculations!$U$177","v":0},{"$f":"Calculations!$X$177","v":0},0,{"$f":"Calculations!$Y$177","v":0},{"$f":"Calculations!$Z$177","v":0},{"$f":"Calculations!$AA$177","v":0},{"$f":"Calculations!$AD$177","v":0},0,{"$f":"Calculations!$AE$177","v":0},{"$f":"Calculations!$AF$177","v":0},{"$f":"Calculations!$AG$177","v":0},{"$f":"Calculations!$AJ$177","v":0},0,{"$f":"Calculations!$AK$177","v":0},{"$f":"Calculations!$AL$177","v":0},{"$f":"Calculations!$AM$177","v":0},{"$f":"Calculations!$AP$177","v":0},0,0,null,"",""]
[null,null,"20:29:59.942",{"$f":"Calculations!$S$180","v":0},{"$f":"Calculations!$T$180","v":0},{"$f":"Calculations!$U$180","v":0},{"$f":"Calculations!$X$180","v":0},0,{"$f":"Calculations!$Y$180","v":0},{"$f":"Calculations!$Z$180","v":0},{"$f":"Calculations!$AA$180","v":0},{"$f":"Calculations!$AD$180","v":0},0,{"$f":"Calculations!$AE$180","v":0},{"$f":"Calculations!$AF$180","v":0},{"$f":"Calculations!$AG$180","v":0},{"$f":"Calculations!$AJ$180","v":0},0,{"$f":"Calculations!$AK$180","v":0},{"$f":"Calculations!$AL$180","v":0},{"$f":"Calculations!$AM$180","v":0},{"$f":"Calculations!$AP$180","v":0},0,0,null,"",""]
[null,null,"20:44:59.971",{"$f":"Calculations!$S$183","v":0},{"$f":"Calculations!$T$183","v":0},{"$f":"Calculations!$U$183","v":0},{"$f":"Calculations!$X$183","v":0},0,{"$f":"Calculations!$Y$183","v":0},{"$f":"Calculations!$Z$183","v":0},{"$f":"Calculations!$AA$183","v":0},{"$f":"Calculations!$AD$183","v":0},0,{"$f":"Calculations!$AE$183","v":0},{"$f":"Calculations!$AF$183","v":0},{"$f":"Calculations!$AG$183","v":0},{"$f":"Calculations!$AJ$183","v":0},0,{"$f":"Calculations!$AK$183","v":0},{"$f":"Calculations!$AL$183","v":0},{"$f":"Calculations!$AM$183","v":0},{"$f":"Calculations!$AP$183","v":0},0,0,null,"",""]
[null,null,"21:00:00",{"$f":"Calculations!$S$186","v":0},{"$f":"Calculations!$T$186","v":0},{"$f":"Calculations!$U$186","v":0},{"$f":"Calculations!$X$186","v":0},0,{"$f":"Calculations!$Y$186","v":0},{"$f":"Calculations!$Z$186","v":0},{"$f":"Calculations!$AA$186","v":0},{"$f":"Calculations!$AD$186","v":0},0,{"$f":"Calculations!$AE$186","v":0},{"$f":"Calculations!$AF$186","v":0},{"$f":"Calculations!$AG$186","v":0},{"$f":"Calculations!$AJ$186","v":0},0,{"$f":"Calculations!$AK$186","v":0},{"$f":"Calculations!$AL$186","v":0},{"$f":"Calculations!$AM$186","v":0},{"$f":"Calculations!$AP$186","v":0},0,{"$f":"H74+M74+R74+W74","v":0},null,"",""]
[null,null,"21:14:59.942",{"$f":"Calculations!$S$189","v":0},{"$f":"Calculations!$T$189","v":0},{"$f":"Calculations!$U$189","v":0},{"$f":"Calculations!$X$189","v":0},0,{"$f":"Calculations!$Y$189","v":0},{"$f":"Calculations!$Z$189","v":0},{"$f":"Calculations!$AA$189","v":0},{"$f":"Calculations!$AD$189","v":0},0,{"$f":"Calculations!$AE$189","v":0},{"$f":"Calculations!$AF$189","v":0},{"$f":"Calculations!$AG$189","v":0},{"$f":"Calculations!$AJ$189","v":0},0,{"$f":"Calculations!$AK$189","v":0},{"$f":"Calculations!$AL$189","v":0},{"$f":"Calculations!$AM$189","v":0},{"$f":"Calculations!$AP$189","v":0},0,{"$f":"H75+M75+R75+W75","v":0}]
[null,null,"21:29:59.971",{"$f":"Calculations!$S$192","v":0},{"$f":"Calculations!$T$192","v":0},{"$f":"Calculations!$U$192","v":0},{"$f":"Calculations!$X$192","v":0},0,{"$f":"Calculations!$Y$192","v":0},{"$f":"Calculations!$Z$192","v":0},{"$f":"Calculations!$AA$192","v":0},{"$f":"Calculations!$AD$192","v":0},0,{"$f":"Calculations!$AE$192","v":0},{"$f":"Calculations!$AF$192","v":0},{"$f":"Calculations!$AG$192","v":0},{"$f":"Calculations!$AJ$192","v":0},0,{"$f":"Calculations!$AK$192","v":0},{"$f":"Calculations!$AL$192","v":0},{"$f":"Calculations!$AM$192","v":0},{"$f":"Calculations!$AP$192","v":0},0,{"$f":"H76+M76+R76+W76","v":0}]
[null,null,"21:45:00",{"$f":"Calculations!$S$195","v":0},{"$f":"Calculations!$T$195","v":0},{"$f":"Calculations!$U$195","v":0},{"$f":"Calculations!$X$195","v":0},0,{"$f":"Calculations!$Y$195","v":0},{"$f":"Calculations!$Z$195","v":0},{"$f":"Calculations!$AA$195","v":0},{"$f":"Calculations!$AD$195","v":0},0,{"$f":"Calculations!$AE$195","v":0},{"$f":"Calculations!$AF$195","v":0},{"$f":"Calculations!$AG$195","v":0},{"$f":"Calculations!$AJ$195","v":0},0,{"$f":"Calculations!$AK$195","v":0},{"$f":"Calculations!$AL$195","v":0},{"$f":"Calculations!$AM$195","v":0},{"$f":"Calculations!$AP$195","v":0},0,{"$f":"H77+M77+R77+W77","v":0}]
[null,"Totals",null,{"$f":"SUM(D14:D77)","v":0},{"$f":"SUM(E14:E77)","v":0},0,0,{"$f":"SUM(H14:H77)","v":0},739,6028,0,0,6767,3098,6,5256,0,8360,0,3660,622,0,4282,{"$f":"SUM(X14:X77)","v":19409}," "]
[]
[null,"Peak Hour All Vehicle Volume Summary"]
[null,null,null,null,null,"ê",null,null,null,null,"ç",null,null,null,null,"é",null,null,null,null,"è"]
[null,"Hourly",null,"From North",null,null,null,null,"From East",null,null,null,null,"From South",null,null,null,null,"From West",null,null,null,null,"Total"]
[null,"Time Period",null,{"$f":"'Base Information'!$D$14:$D$14","v":"441 NB ON RAMP"},null,null,null,null,{"$f":"'Base Information'!$D$15:$D$15","v":"CTH OO (Northland Ave)"},null,null,null,null,{"$f":"'Base Information'!$D$16:$D$16","v":"441 NB OFF RAMP"},null,null,null,null,{"$f":"'Base Information'!$D$17:$D$17","v":"CTH OO (Northland Ave)"},null,null,null,null,"Hourly"]
[null,"Start Time",null,"Right ","Thru ","Left ","U-Tn","Total","Right ","Thru ","Left ","U-Tn","Total","Right ","Thru ","Left ","U-Tn","Total","Right ","Thru ","Left ","U-Tn","Total","Volume",null,"PHF"]
[null,"AM",{"$f":"'Peak Hour Volume Summary'!$C$14","v":"07:14:59.971"},{"$f":"VLOOKUP(VLOOKUP($C85,'Base Information'!$D$91:$G$152,1,FALSE),$C$14:$X$77,2,FALSE)+VLOOKUP(VLOOKUP($C85,'Base Information'!$D$91:$G$152,2,FALSE),$C$14:$X$77,2,FALSE)+VLOOKUP(VLOOKUP($C85,'Base Information'!$D$91:$G$152,3,FALSE),$C$14:$X$77,2,FALSE)+VLOOKUP(VLOOKUP($C85,'Base Information'!$D$91:$G$152,4,FALSE),$C$14:$X$77,2,FALSE)","v":0},{"$f":"VLOOKUP(VLOOKUP($C85,'Base Information'!$D$91:$G$152,1,FALSE),$C$14:$X$77,3,FALSE)+VLOOKUP(VLOOKUP($C85,'Base Information'!$D$91:$G$152,2,FALSE),$C$14:$X$77,3,FALSE)+VLOOKUP(VLOOKUP($C85,'Base Information'!$D$91:$G$152,3,FALSE),$C$14:$X$77,3,FALSE)+VLOOKUP(VLOOKUP($C85,'Base Information'!$D$91:$G$152,4,FALSE),$C$14:$X$77,3,FALSE)","v":0},{"$f":"VLOOKUP(VLOOKUP($C85,'Base Information'!$D$91:$G$152,1,FALSE),$C$14:$X$77,4,FALSE)+VLOOKUP(VLOOKUP($C85,'Base Information'!$D$91:$G$152,2,FALSE),$C$14:$X$77,4,FALSE)+VLOOKUP(VLOOKUP($C85,'Base Information'!$D$91:$G$152,3,FALSE),$C$14:$X$77,4,FALSE)+VLOOKUP(VLOOKUP($C85,'Base Information'!$D$91:$G$152,4,FALSE),$C$14:$X$77,4,FALSE)","v":0},{"$f":"VLOOKUP(VLOOKUP($C85,'Base Information'!$D$91:$G$152,1,FALSE),$C$14:$X$77,5,FALSE)+VLOOKUP(VLOOKUP($C85,'Base Information'!$D$91:$G$152,2,FALSE),$C$14:$X$77,5,FALSE)+VLOOKUP(VLOOKUP($C85,'Base Information'!$D$91:$G$152,3,FALSE),$C$14:$X$77,5,FALSE)+VLOOKUP(VLOOKUP($C85,'Base Information'!$D$91:$G$152,4,FALSE),$C$14:$X$77,5,FALSE)","v":0},{"$f":"SUM(D85:G85)","v":0},{"$f":"VLOOKUP(VLOOKUP($C85,'Base Information'!$D$91:$G$152,1,FALSE),$C$14:$X$77,7,FALSE)+VLOOKUP(VLOOKUP($C85,'Base Information'!$D$91:$G$152,2,FALSE),$C$14:$X$77,7,FALSE)+VLOOKUP(VLOOKUP($C85,'Base Information'!$D$91:$G$152,3,FALSE),$C$14:$X$77,7,FALSE)+VLOOKUP(VLOOKUP($C85,'Base Information'!$D$91:$G$152,4,FALSE),$C$14:$X$77,7,FALSE)","v":88},{"$f":"VLOOKUP(VLOOKUP($C85,'Base Information'!$D$91:$G$152,1,FALSE),$C$14:$X$77,8,FALSE)+VLOOKUP(VLOOKUP($C85,'Base Information'!$D$91:$G$152,2,FALSE),$C$14:$X$77,8,FALSE)+VLOOKUP(VLOOKUP($C85,'Base Information'!$D$91:$G$152,3,FALSE),$C$14:$X$77,8,FALSE)+VLOOKUP(VLOOKUP($C85,'Base Information'!$D$91:$G$152,4,FALSE),$C$14:$X$77,8,FALSE)","v":822},{"$f":"VLOOKUP(VLOOKUP($C85,'Base Information'!$D$91:$G$152,1,FALSE),$C$14:$X$77,9,FALSE)+VLOOKUP(VLOOKUP($C85,'Base Information'!$D$91:$G$152,2,FALSE),$C$14:$X$77,9,FALSE)+VLOOKUP(VLOOKUP($C85,'Base Information'!$D$91:$G$152,3,FALSE),$C$14:$X$77,9,FALSE)+VLOOKUP(VLOOKUP($C85,'Base Information'!$D$91:$G$152,4,FALSE),$C$14:$X$77,9,FALSE)","v":0},{"$f":"VLOOKUP(VLOOKUP($C85,'Base Information'!$D$91:$G$152,1,FALSE),$C$14:$X$77,10,FALSE)+VLOOKUP(VLOOKUP($C85,'Base Information'!$D$91:$G$152,2,FALSE),$C$14:$X$77,10,FALSE)+VLOOKUP(VLOOKUP($C85,'Base Information'!$D$91:$G$152,3,FALSE),$C$14:$X$77,10,FALSE)+VLOOKUP(VLOOKUP($C85,'Base Information'!$D$91:$G$152,4,FALSE),$C$14:$X$77,10,FALSE)","v":0},{"$f":"SUM(I85:L85)","v":910},{"$f":"VLOOKUP(VLOOKUP($C85,'Base Information'!$D$91:$G$152,1,FALSE),$C$14:$X$77,12,FALSE)+VLOOKUP(VLOOKUP($C85,'Base Information'!$D$91:$G$152,2,FALSE),$C$14:$X$77,12,FALSE)+VLOOKUP(VLOOKUP($C85,'Base Information'!$D$91:$G$152,3,FALSE),$C$14:$X$77,12,FALSE)+VLOOKUP(VLOOKUP($C85,'Base Information'!$D$91:$G$152,4,FALSE),$C$14:$X$77,12,FALSE)","v":246},{"$f":"VLOOKUP(VLOOKUP($C85,'Base Information'!$D$91:$G$152,1,FALSE),$C$14:$X$77,13,FALSE)+VLOOKUP(VLOOKUP($C85,'Base Information'!$D$91:$G$152,2,FALSE),$C$14:$X$77,13,FALSE)+VLOOKUP(VLOOKUP($C85,'Base Information'!$D$91:$G$152,3,FALSE),$C$14:$X$77,13,FALSE)+VLOOKUP(VLOOKUP($C85,'Base Information'!$D$91:$G$152,4,FALSE),$C$14:$X$77,13,FALSE)","v":1},{"$f":"VLOOKUP(VLOOKUP($C85,'Base Information'!$D$91:$G$152,1,FALSE),$C$14:$X$77,14,FALSE)+VLOOKUP(VLOOKUP($C85,'Base Information'!$D$91:$G$152,2,FALSE),$C$14:$X$77,14,FALSE)+VLOOKUP(VLOOKUP($C85,'Base Information'!$D$91:$G$152,3,FALSE),$C$14:$X$77,14,FALSE)+VLOOKUP(VLOOKUP($C85,'Base Information'!$D$91:$G$152,4,FALSE),$C$14:$X$77,14,FALSE)","v":855},{"$f":"VLOOKUP(VLOOKUP($C85,'Base Information'!$D$91:$G$152,1,FALSE),$C$14:$X$77,15,FALSE)+VLOOKUP(VLOOKUP($C85,'Base Information'!$D$91:$G$152,2,FALSE),$C$14:$X$77,15,FALSE)+VLOOKUP(VLOOKUP($C85,'Base Information'!$D$91:$G$152,3,FALSE),$C$14:$X$77,15,FALSE)+VLOOKUP(VLOOKUP($C85,'Base Information'!$D$91:$G$152,4,FALSE),$C$14:$X$77,15,FALSE)","v":0},{"$f":"SUM(N85:Q85)","v":1102},{"$f":"VLOOKUP(VLOOKUP($C85,'Base Information'!$D$91:$G$152,1,FALSE),$C$14:$X$77,17,FALSE)+VLOOKUP(VLOOKUP($C85,'Base Information'!$D$91:$G$152,2,FALSE),$C$14:$X$77,17,FALSE)+VLOOKUP(VLOOKUP($C85,'Base Information'!$D$91:$G$152,3,FALSE),$C$14:$X$77,17,FALSE)+VLOOKUP(VLOOKUP($C85,'Base Information'!$D$91:$G$152,4,FALSE),$C$14:$X$77,17,FALSE)","v":0},{"$f":"VLOOKUP(VLOOKUP($C85,'Base Information'!$D$91:$G$152,1,FALSE),$C$14:$X$77,18,FALSE)+VLOOKUP(VLOOKUP($C85,'Base Information'!$D$91:$G$152,2,FALSE),$C$14:$X$77,18,FALSE)+VLOOKUP(VLOOKUP($C85,'Base Information'!$D$91:$G$152,3,FALSE),$C$14:$X$77,18,FALSE)+VLOOKUP(VLOOKUP($C85,'Base Information'!$D$91:$G$152,4,FALSE),$C$14:$X$77,18,FALSE)","v":178},{"$f":"VLOOKUP(VLOOKUP($C85,'Base Information'!$D$91:$G$152,1,FALSE),$C$14:$X$77,19,FALSE)+VLOOKUP(VLOOKUP($C85,'Base Information'!$D$91:$G$152,2,FALSE),$C$14:$X$77,19,FALSE)+VLOOKUP(VLOOKUP($C85,'Base Information'!$D$91:$G$152,3,FALSE),$C$14:$X$77,19,FALSE)+VLOOKUP(VLOOKUP($C85,'Base Information'!$D$91:$G$152,4,FALSE),$C$14:$X$77,19,FALSE)","v":33},{"$f":"VLOOKUP(VLOOKUP($C85,'Base Information'!$D$91:$G$152,1,FALSE),$C$14:$X$77,20,FALSE)+VLOOKUP(VLOOKUP($C85,'Base Information'!$D$91:$G$152,2,FALSE),$C$14:$X$77,20,FALSE)+VLOOKUP(VLOOKUP($C85,'Base Information'!$D$91:$G$152,3,FALSE),$C$14:$X$77,20,FALSE)+VLOOKUP(VLOOKUP($C85,'Base Information'!$D$91:$G$152,4,FALSE),$C$14:$X$77,20,FALSE)","v":0},{"$f":"SUM(S85:V85)","v":211},{"$f":"H85+M85+R85+W85","v":2223},null,{"$f":"VLOOKUP($C85,$C$14:$AA$77,25,FALSE)","v":0.8125}]
[null,"MD",{"$f":"'Peak Hour Volume Summary'!$C$29","v":"12:59:59.942"},{"$f":"VLOOKUP(VLOOKUP($C86,'Base Information'!$D$91:$G$152,1,FALSE),$C$14:$X$77,2,FALSE)+VLOOKUP(VLOOKUP($C86,'Base Information'!$D$91:$G$152,2,FALSE),$C$14:$X$77,2,FALSE)+VLOOKUP(VLOOKUP($C86,'Base Information'!$D$91:$G$152,3,FALSE),$C$14:$X$77,2,FALSE)+VLOOKUP(VLOOKUP($C86,'Base Information'!$D$91:$G$152,4,FALSE),$C$14:$X$77,2,FALSE)","v":0},{"$f":"VLOOKUP(VLOOKUP($C86,'Base Information'!$D$91:$G$152,1,FALSE),$C$14:$X$77,3,FALSE)+VLOOKUP(VLOOKUP($C86,'Base Information'!$D$91:$G$152,2,FALSE),$C$14:$X$77,3,FALSE)+VLOOKUP(VLOOKUP($C86,'Base Information'!$D$91:$G$152,3,FALSE),$C$14:$X$77,3,FALSE)+VLOOKUP(VLOOKUP($C86,'Base Information'!$D$91:$G$152,4,FALSE),$C$14:$X$77,3,FALSE)","v":0},{"$f":"VLOOKUP(VLOOKUP($C86,'Base Information'!$D$91:$G$152,1,FALSE),$C$14:$X$77,4,FALSE)+VLOOKUP(VLOOKUP($C86,'Base Information'!$D$91:$G$152,2,FALSE),$C$14:$X$77,4,FALSE)+VLOOKUP(VLOOKUP($C86,'Base Information'!$D$91:$G$152,3,FALSE),$C$14:$X$77,4,FALSE)+VLOOKUP(VLOOKUP($C86,'Base Information'!$D$91:$G$152,4,FALSE),$C$14:$X$77,4,FALSE)","v":0},{"$f":"VLOOKUP(VLOOKUP($C86,'Base Information'!$D$91:$G$152,1,FALSE),$C$14:$X$77,5,FALSE)+VLOOKUP(VLOOKUP($C86,'Base Information'!$D$91:$G$152,2,FALSE),$C$14:$X$77,5,FALSE)+VLOOKUP(VLOOKUP($C86,'Base Information'!$D$91:$G$152,3,FALSE),$C$14:$X$77,5,FALSE)+VLOOKUP(VLOOKUP($C86,'Base Information'!$D$91:$G$152,4,FALSE),$C$14:$X$77,5,FALSE)","v":0},{"$f":"SUM(D86:G86)","v":0},{"$f":"VLOOKUP(VLOOKUP($C86,'Base Information'!$D$91:$G$152,1,FALSE),$C$14:$X$77,7,FALSE)+VLOOKUP(VLOOKUP($C86,'Base Information'!$D$91:$G$152,2,FALSE),$C$14:$X$77,7,FALSE)+VLOOKUP(VLOOKUP($C86,'Base Information'!$D$91:$G$152,3,FALSE),$C$14:$X$77,7,FALSE)+VLOOKUP(VLOOKUP($C86,'Base Information'!$D$91:$G$152,4,FALSE),$C$14:$X$77,7,FALSE)","v":50},{"$f":"VLOOKUP(VLOOKUP($C86,'Base Information'!$D$91:$G$152,1,FALSE),$C$14:$X$77,8,FALSE)+VLOOKUP(VLOOKUP($C86,'Base Information'!$D$91:$G$152,2,FALSE),$C$14:$X$77,8,FALSE)+VLOOKUP(VLOOKUP($C86,'Base Information'!$D$91:$G$152,3,FALSE),$C$14:$X$77,8,FALSE)+VLOOKUP(VLOOKUP($C86,'Base Information'!$D$91:$G$152,4,FALSE),$C$14:$X$77,8,FALSE)","v":441},{"$f":"VLOOKUP(VLOOKUP($C86,'Base Information'!$D$91:$G$152,1,FALSE),$C$14:$X$77,9,FALSE)+VLOOKUP(VLOOKUP($C86,'Base Information'!$D$91:$G$152,2,FALSE),$C$14:$X$77,9,FALSE)+VLOOKUP(VLOOKUP($C86,'Base Information'!$D$91:$G$152,3,FALSE),$C$14:$X$77,9,FALSE)+VLOOKUP(VLOOKUP($C86,'Base Information'!$D$91:$G$152,4,FALSE),$C$14:$X$77,9,FALSE)","v":0},{"$f":"VLOOKUP(VLOOKUP($C86,'Base Information'!$D$91:$G$152,1,FALSE),$C$14:$X$77,10,FALSE)+VLOOKUP(VLOOKUP($C86,'Base Information'!$D$91:$G$152,2,FALSE),$C$14:$X$77,10,FALSE)+VLOOKUP(VLOOKUP($C86,'Base Information'!$D$91:$G$152,3,FALSE),$C$14:$X$77,10,FALSE)+VLOOKUP(VLOOKUP($C86,'Base Information'!$D$91:$G$152,4,FALSE),$C$14:$X$77,10,FALSE)","v":0},{"$f":"SUM(I86:L86)","v":491},{"$f":"VLOOKUP(VLOOKUP($C86,'Base Information'!$D$91:$G$152,1,FALSE),$C$14:$X$77,12,FALSE)+VLOOKUP(VLOOKUP($C86,'Base Information'!$D$91:$G$152,2,FALSE),$C$14:$X$77,12,FALSE)+VLOOKUP(VLOOKUP($C86,'Base Information'!$D$91:$G$152,3,FALSE),$C$14:$X$77,12,FALSE)+VLOOKUP(VLOOKUP($C86,'Base Information'!$D$91:$G$152,4,FALSE),$C$14:$X$77,12,FALSE)","v":216},{"$f":"VLOOKUP(VLOOKUP($C86,'Base Information'!$D$91:$G$152,1,FALSE),$C$14:$X$77,13,FALSE)+VLOOKUP(VLOOKUP($C86,'Base Information'!$D$91:$G$152,2,FALSE),$C$14:$X$77,13,FALSE)+VLOOKUP(VLOOKUP($C86,'Base Information'!$D$91:$G$152,3,FALSE),$C$14:$X$77,13,FALSE)+VLOOKUP(VLOOKUP($C86,'Base Information'!$D$91:$G$152,4,FALSE),$C$14:$X$77,13,FALSE)","v":0},{"$f":"VLOOKUP(VLOOKUP($C86,'Base Information'!$D$91:$G$152,1,FALSE),$C$14:$X$77,14,FALSE)+VLOOKUP(VLOOKUP($C86,'Base Information'!$D$91:$G$152,2,FALSE),$C$14:$X$77,14,FALSE)+VLOOKUP(VLOOKUP($C86,'Base Information'!$D$91:$G$152,3,FALSE),$C$14:$X$77,14,FALSE)+VLOOKUP(VLOOKUP($C86,'Base Information'!$D$91:$G$152,4,FALSE),$C$14:$X$77,14,FALSE)","v":417},{"$f":"VLOOKUP(VLOOKUP($C86,'Base Information'!$D$91:$G$152,1,FALSE),$C$14:$X$77,15,FALSE)+VLOOKUP(VLOOKUP($C86,'Base Information'!$D$91:$G$152,2,FALSE),$C$14:$X$77,15,FALSE)+VLOOKUP(VLOOKUP($C86,'Base Information'!$D$91:$G$152,3,FALSE),$C$14:$X$77,15,FALSE)+VLOOKUP(VLOOKUP($C86,'Base Information'!$D$91:$G$152,4,FALSE),$C$14:$X$77,15,FALSE)","v":0},{"$f":"SUM(N86:Q86)","v":633},{"$f":"VLOOKUP(VLOOKUP($C86,'Base Information'!$D$91:$G$152,1,FALSE),$C$14:$X$77,17,FALSE)+VLOOKUP(VLOOKUP($C86,'Base Information'!$D$91:$G$152,2,FALSE),$C$14:$X$77,17,FALSE)+VLOOKUP(VLOOKUP($C86,'Base Information'!$D$91:$G$152,3,FALSE),$C$14:$X$77,17,FALSE)+VLOOKUP(VLOOKUP($C86,'Base Information'!$D$91:$G$152,4,FALSE),$C$14:$X$77,17,FALSE)","v":0},{"$f":"VLOOKUP(VLOOKUP($C86,'Base Information'!$D$91:$G$152,1,FALSE),$C$14:$X$77,18,FALSE)+VLOOKUP(VLOOKUP($C86,'Base Information'!$D$91:$G$152,2,FALSE),$C$14:$X$77,18,FALSE)+VLOOKUP(VLOOKUP($C86,'Base Information'!$D$91:$G$152,3,FALSE),$C$14:$X$77,18,FALSE)+VLOOKUP(VLOOKUP($C86,'Base Information'!$D$91:$G$152,4,FALSE),$C$14:$X$77,18,FALSE)","v":328},{"$f":"VLOOKUP(VLOOKUP($C86,'Base Information'!$D$91:$G$152,1,FALSE),$C$14:$X$77,19,FALSE)+VLOOKUP(VLOOKUP($C86,'Base Information'!$D$91:$G$152,2,FALSE),$C$14:$X$77,19,FALSE)+VLOOKUP(VLOOKUP($C86,'Base Information'!$D$91:$G$152,3,FALSE),$C$14:$X$77,19,FALSE)+VLOOKUP(VLOOKUP($C86,'Base Information'!$D$91:$G$152,4,FALSE),$C$14:$X$77,19,FALSE)","v":36},{"$f":"VLOOKUP(VLOOKUP($C86,'Base Information'!$D$91:$G$152,1,FALSE),$C$14:$X$77,20,FALSE)+VLOOKUP(VLOOKUP($C86,'Base Information'!$D$91:$G$152,2,FALSE),$C$14:$X$77,20,FALSE)+VLOOKUP(VLOOKUP($C86,'Base Information'!$D$91:$G$152,3,FALSE),$C$14:$X$77,20,FALSE)+VLOOKUP(VLOOKUP($C86,'Base Information'!$D$91:$G$152,4,FALSE),$C$14:$X$77,20,FALSE)","v":0},{"$f":"SUM(S86:V86)","v":364},{"$f":"H86+M86+R86+W86","v":1488},null,{"$f":"VLOOKUP($C86,$C$14:$AA$77,25,FALSE)","v":0.93233082706766912}]
[null,"PM",{"$f":"'Peak Hour Volume Summary'!$C$44","v":"16:30:00"},{"$f":"VLOOKUP(VLOOKUP($C87,'Base Information'!$D$91:$G$152,1,FALSE),$C$14:$X$77,2,FALSE)+VLOOKUP(VLOOKUP($C87,'Base Information'!$D$91:$G$152,2,FALSE),$C$14:$X$77,2,FALSE)+VLOOKUP(VLOOKUP($C87,'Base Information'!$D$91:$G$152,3,FALSE),$C$14:$X$77,2,FALSE)+VLOOKUP(VLOOKUP($C87,'Base Information'!$D$91:$G$152,4,FALSE),$C$14:$X$77,2,FALSE)","v":0},{"$f":"VLOOKUP(VLOOKUP($C87,'Base Information'!$D$91:$G$152,1,FALSE),$C$14:$X$77,3,FALSE)+VLOOKUP(VLOOKUP($C87,'Base Information'!$D$91:$G$152,2,FALSE),$C$14:$X$77,3,FALSE)+VLOOKUP(VLOOKUP($C87,'Base Information'!$D$91:$G$152,3,FALSE),$C$14:$X$77,3,FALSE)+VLOOKUP(VLOOKUP($C87,'Base Information'!$D$91:$G$152,4,FALSE),$C$14:$X$77,3,FALSE)","v":0},{"$f":"VLOOKUP(VLOOKUP($C87,'Base Information'!$D$91:$G$152,1,FALSE),$C$14:$X$77,4,FALSE)+VLOOKUP(VLOOKUP($C87,'Base Information'!$D$91:$G$152,2,FALSE),$C$14:$X$77,4,FALSE)+VLOOKUP(VLOOKUP($C87,'Base Information'!$D$91:$G$152,3,FALSE),$C$14:$X$77,4,FALSE)+VLOOKUP(VLOOKUP($C87,'Base Information'!$D$91:$G$152,4,FALSE),$C$14:$X$77,4,FALSE)","v":0},{"$f":"VLOOKUP(VLOOKUP($C87,'Base Information'!$D$91:$G$152,1,FALSE),$C$14:$X$77,5,FALSE)+VLOOKUP(VLOOKUP($C87,'Base Information'!$D$91:$G$152,2,FALSE),$C$14:$X$77,5,FALSE)+VLOOKUP(VLOOKUP($C87,'Base Information'!$D$91:$G$152,3,FALSE),$C$14:$X$77,5,FALSE)+VLOOKUP(VLOOKUP($C87,'Base Information'!$D$91:$G$152,4,FALSE),$C$14:$X$77,5,FALSE)","v":0},{"$f":"SUM(D87:G87)","v":0},{"$f":"VLOOKUP(VLOOKUP($C87,'Base Information'!$D$91:$G$152,1,FALSE),$C$14:$X$77,7,FALSE)+VLOOKUP(VLOOKUP($C87,'Base Information'!$D$91:$G$152,2,FALSE),$C$14:$X$77,7,FALSE)+VLOOKUP(VLOOKUP($C87,'Base Information'!$D$91:$G$152,3,FALSE),$C$14:$X$77,7,FALSE)+VLOOKUP(VLOOKUP($C87,'Base Information'!$D$91:$G$152,4,FALSE),$C$14:$X$77,7,FALSE)","v":64},{"$f":"VLOOKUP(VLOOKUP($C87,'Base Information'!$D$91:$G$152,1,FALSE),$C$14:$X$77,8,FALSE)+VLOOKUP(VLOOKUP($C87,'Base Information'!$D$91:$G$152,2,FALSE),$C$14:$X$77,8,FALSE)+VLOOKUP(VLOOKUP($C87,'Base Information'!$D$91:$G$152,3,FALSE),$C$14:$X$77,8,FALSE)+VLOOKUP(VLOOKUP($C87,'Base Information'!$D$91:$G$152,4,FALSE),$C$14:$X$77,8,FALSE)","v":590},{"$f":"VLOOKUP(VLOOKUP($C87,'Base Information'!$D$91:$G$152,1,FALSE),$C$14:$X$77,9,FALSE)+VLOOKUP(VLOOKUP($C87,'Base Information'!$D$91:$G$152,2,FALSE),$C$14:$X$77,9,FALSE)+VLOOKUP(VLOOKUP($C87,'Base Information'!$D$91:$G$152,3,FALSE),$C$14:$X$77,9,FALSE)+VLOOKUP(VLOOKUP($C87,'Base Information'!$D$91:$G$152,4,FALSE),$C$14:$X$77,9,FALSE)","v":0},{"$f":"VLOOKUP(VLOOKUP($C87,'Base Information'!$D$91:$G$152,1,FALSE),$C$14:$X$77,10,FALSE)+VLOOKUP(VLOOKUP($C87,'Base Information'!$D$91:$G$152,2,FALSE),$C$14:$X$77,10,FALSE)+VLOOKUP(VLOOKUP($C87,'Base Information'!$D$91:$G$152,3,FALSE),$C$14:$X$77,10,FALSE)+VLOOKUP(VLOOKUP($C87,'Base Information'!$D$91:$G$152,4,FALSE),$C$14:$X$77,10,FALSE)","v":0},{"$f":"SUM(I87:L87)","v":654},{"$f":"VLOOKUP(VLOOKUP($C87,'Base Information'!$D$91:$G$152,1,FALSE),$C$14:$X$77,12,FALSE)+VLOOKUP(VLOOKUP($C87,'Base Information'!$D$91:$G$152,2,FALSE),$C$14:$X$77,12,FALSE)+VLOOKUP(VLOOKUP($C87,'Base Information'!$D$91:$G$152,3,FALSE),$C$14:$X$77,12,FALSE)+VLOOKUP(VLOOKUP($C87,'Base Information'!$D$91:$G$152,4,FALSE),$C$14:$X$77,12,FALSE)","v":521},{"$f":"VLOOKUP(VLOOKUP($C87,'Base Information'!$D$91:$G$152,1,FALSE),$C$14:$X$77,13,FALSE)+VLOOKUP(VLOOKUP($C87,'Base Information'!$D$91:$G$152,2,FALSE),$C$14:$X$77,13,FALSE)+VLOOKUP(VLOOKUP($C87,'Base Information'!$D$91:$G$152,3,FALSE),$C$14:$X$77,13,FALSE)+VLOOKUP(VLOOKUP($C87,'Base Information'!$D$91:$G$152,4,FALSE),$C$14:$X$77,13,FALSE)","v":0},{"$f":"VLOOKUP(VLOOKUP($C87,'Base Information'!$D$91:$G$152,1,FALSE),$C$14:$X$77,14,FALSE)+VLOOKUP(VLOOKUP($C87,'Base Information'!$D$91:$G$152,2,FALSE),$C$14:$X$77,14,FALSE)+VLOOKUP(VLOOKUP($C87,'Base Information'!$D$91:$G$152,3,FALSE),$C$14:$X$77,14,FALSE)+VLOOKUP(VLOOKUP($C87,'Base Information'!$D$91:$G$152,4,FALSE),$C$14:$X$77,14,FALSE)","v":413},{"$f":"VLOOKUP(VLOOKUP($C87,'Base Information'!$D$91:$G$152,1,FALSE),$C$14:$X$77,15,FALSE)+VLOOKUP(VLOOKUP($C87,'Base Information'!$D$91:$G$152,2,FALSE),$C$14:$X$77,15,FALSE)+VLOOKUP(VLOOKUP($C87,'Base Information'!$D$91:$G$152,3,FALSE),$C$14:$X$77,15,FALSE)+VLOOKUP(VLOOKUP($C87,'Base Information'!$D$91:$G$152,4,FALSE),$C$14:$X$77,15,FALSE)","v":0},{"$f":"SUM(N87:Q87)","v":934},{"$f":"VLOOKUP(VLOOKUP($C87,'Base Information'!$D$91:$G$152,1,FALSE),$C$14:$X$77,17,FALSE)+VLOOKUP(VLOOKUP($C87,'Base Information'!$D$91:$G$152,2,FALSE),$C$14:$X$77,17,FALSE)+VLOOKUP(VLOOKUP($C87,'Base Information'!$D$91:$G$152,3,FALSE),$C$14:$X$77,17,FALSE)+VLOOKUP(VLOOKUP($C87,'Base Information'!$D$91:$G$152,4,FALSE),$C$14:$X$77,17,FALSE)","v":0},{"$f":"VLOOKUP(VLOOKUP($C87,'Base Information'!$D$91:$G$152,1,FALSE),$C$14:$X$77,18,FALSE)+VLOOKUP(VLOOKUP($C87,'Base Information'!$D$91:$G$152,2,FALSE),$C$14:$X$77,18,FALSE)+VLOOKUP(VLOOKUP($C87,'Base Information'!$D$91:$G$152,3,FALSE),$C$14:$X$77,18,FALSE)+VLOOKUP(VLOOKUP($C87,'Base Information'!$D$91:$G$152,4,FALSE),$C$14:$X$77,18,FALSE)","v":544},{"$f":"VLOOKUP(VLOOKUP($C87,'Base Information'!$D$91:$G$152,1,FALSE),$C$14:$X$77,19,FALSE)+VLOOKUP(VLOOKUP($C87,'Base Information'!$D$91:$G$152,2,FALSE),$C$14:$X$77,19,FALSE)+VLOOKUP(VLOOKUP($C87,'Base Information'!$D$91:$G$152,3,FALSE),$C$14:$X$77,19,FALSE)+VLOOKUP(VLOOKUP($C87,'Base Information'!$D$91:$G$152,4,FALSE),$C$14:$X$77,19,FALSE)","v":109},{"$f":"VLOOKUP(VLOOKUP($C87,'Base Information'!$D$91:$G$152,1,FALSE),$C$14:$X$77,20,FALSE)+VLOOKUP(VLOOKUP($C87,'Base Information'!$D$91:$G$152,2,FALSE),$C$14:$X$77,20,FALSE)+VLOOKUP(VLOOKUP($C87,'Base Information'!$D$91:$G$152,3,FALSE),$C$14:$X$77,20,FALSE)+VLOOKUP(VLOOKUP($C87,'Base Information'!$D$91:$G$152,4,FALSE),$C$14:$X$77,20,FALSE)","v":0},{"$f":"SUM(S87:V87)","v":653},{"$f":"H87+M87+R87+W87","v":2241},null,{"$f":"VLOOKUP($C87,$C$14:$AA$77,25,FALSE)","v":0.92603305785123968}]

{"sheet":"15-Min Automobiles","index":6,"n_rows":87,"n_cols":26,"rows_kept":87,"cut":false,"hidden":false,"merged":[[2,16,2,19],[3,14,3,19],[0,1,3,12],[2,20,2,22],[2,23,2,25],[3,20,3,22],[3,23,3,25],[2,14,2,15],[5,16,5,23],[6,16,7,23],[9,13,9,14],[9,16,9,17],[9,18,9,19],[9,21,9,22],[77,1,77,2],[13,1,28,1],[29,1,44,1],[10,3,10,7],[10,8,10,12],[9,3,9,4],[9,6,9,7],[9,8,9,9],[9,11,9,12],[45,1,76,1],[81,3,81,7],[81,8,81,12],[81,13,81,17],[81,18,81,22],[10,13,10,17],[10,18,10,22],[80,3,80,4],[80,6,80,7],[80,8,80,9],[80,11,80,12],[80,13,80,14],[80,16,80,17],[80,18,80,19],[80,21,80,22]]}
[null,"Intersection Traffic Volume Report"]
[null,null,null,null,null,null,null,null,null,null,null,null,null,null,"Count Basics",null,null,null,null,null,null,null,null,null,null,"Page 6 of 11"]
[null,null,null,null,null,null,null,null,null,null,null,null,null,null,{"$f":"'Base Information'!$L$3","v":"Start Date:"},null,{"$f":"'Base Information'!$N$3","v":"2011-12-06"},null,null,null,{"$f":"'Base Information'!R3","v":"Weekday"},null,null,{"$f":"'Base Information'!U3","v":"Schools in Session"}]
[null,null,null,null,null,null,null,null,null,null,null,null,null,null,{"$f":"'Base Information'!$L$4","v":"Total Number of Hours Counted: 12"},null,null,null,null,null,{"$f":"'Base Information'!R4","v":"Non-Holiday"},null,null,{"$f":"'Base Information'!U4","v":"No Special Events"}]
[null,"15-Minute Automobile Data"]
[null,null,null,null,null,null,null,null,null,null,null,null,null,null,null,null,"Automobiles (Cars, Light Trucks, & Motorcycles)"]
[null,{"$f":"'Base Information'!E7","v":"441 NB ON RAMP and CTH OO (Northland Ave)"}]
[]
[null,"15-Minute Automobile Data"]
[null,null,null,null,null,"ê",null,null,null,null,"ç",null,null,null,null,"é",null,null,null,null,"è"]
[null,"15-Minute",null,"From North",null,null,null,null,"From East",null,null,null,null,"From South",null,null,null,null,"From West"]
[null,"Time Period",null,{"$f":"'Base Information'!$D$14:$D$14","v":"441 NB ON RAMP"},null,null,null,null,{"$f":"'Base Information'!$D$15:$D$15","v":"CTH OO (Northland Ave)"},null,null,null,null,{"$f":"'Base Information'!$D$16:$D$16","v":"441 NB OFF RAMP"},null,null,null,null,{"$f":"'Base Information'!$D$17:$D$17","v":"CTH OO (Northland Ave)"},null,null,null,null,"15-Min",null,"Hourly"]
[null,"Start Time",null,"Right ","Thru ","Left ","U-Tn","Total","Right ","Thru ","Left ","U-Tn","Total","Right ","Thru ","Left ","U-Tn","Total","Right ","Thru ","Left ","U-Tn","Total","Totals",null,"Sum"]
[null,"AM Peak Period","06:00:00",{"$f":"Calculations!$AR$6","v":0},{"$f":"Calculations!$AS$6","v":0},{"$f":"Calculations!$AT$6","v":0},{"$f":"Calculations!$X$6","v":0},{"$f":"SUM(D14:G14)","v":0},{"$f":"Calculations!$AV$6","v":15},{"$f":"Calculations!$AW$6","v":112},{"$f":"Calculations!$AX$6","v":0},{"$f":"Calculations!$AD$6","v":0},{"$f":"SUM(I14:L14)","v":127},{"$f":"Calculations!$AZ$6","v":25},{"$f":"Calculations!$BA$6","v":0},{"$f":"Calculations!$BB$6","v":82},{"$f":"Calculations!$AJ$6","v":0},{"$f":"SUM(N14:Q14)","v":107},{"$f":"Calculations!$BD$6","v":0},{"$f":"Calculations!$BE$6","v":23},{"$f":"Calculations!$BF$6","v":2},{"$f":"Calculations!$AP$6","v":0},{"$f":"SUM(S14:V14)","v":25},{"$f":"H14+M14+R14+W14","v":259},null,{"$f":"IF(OR('15-Min All Vehicle'!X14=0,'15-Min All Vehicle'!X15=0, '15-Min All Vehicle'!X16=0,'15-Min All Vehicle'!X17=0)=TRUE,\"\",X14+X15+X16+X17)","v":1288}]
[null,null,"06:14:59.942",{"$f":"Calculations!$AR$9","v":0},{"$f":"Calculations!$AS$9","v":0},{"$f":"Calculations!$AT$9","v":0},{"$f":"Calculations!$X$9","v":0},{"$f":"SUM(D15:G15)","v":0},{"$f":"Calculations!$AV$9","v":13},{"$f":"Calculations!$AW$9","v":102},{"$f":"Calculations!$AX$9","v":0},{"$f":"Calculations!$AD$9","v":0},{"$f":"SUM(I15:L15)","v":115},{"$f":"Calculations!$AZ$9","v":30},{"$f":"Calculations!$BA$9","v":0},{"$f":"Calculations!$BB$9","v":111},{"$f":"Calculations!$AJ$9","v":0},{"$f":"SUM(N15:Q15)","v":141},{"$f":"Calculations!$BD$9","v":0},{"$f":"Calculations!$BE$9","v":32},{"$f":"Calculations!$BF$9","v":7},{"$f":"Calculations!$AP$9","v":0},{"$f":"SUM(S15:V15)","v":39},295,null,{"$f":"IF(OR('15-Min All Vehicle'!X15=0,'15-Min All Vehicle'!X16=0, '15-Min All Vehicle'!X17=0,'15-Min All Vehicle'!X18=0)=TRUE,\"\",X15+X16+X17+X18)","v":1424}]
[null,null,"06:29:59.971",{"$f":"Calculations!$AR$12","v":0},{"$f":"Calculations!$AS$12","v":0},{"$f":"Calculations!$AT$12","v":0},{"$f":"Calculations!$X$12","v":0},0,{"$f":"Calculations!$AV$12","v":13},{"$f":"Calculations!$AW$12","v":101},{"$f":"Calculations!$AX$12","v":0},{"$f":"Calculations!$AD$12","v":0},114,{"$f":"Calculations!$AZ$12","v":31},{"$f":"Calculations!$BA$12","v":0},{"$f":"Calculations!$BB$12","v":93},{"$f":"Calculations!$AJ$12","v":0},124,{"$f":"Calculations!$BD$12","v":0},{"$f":"Calculations!$BE$12","v":35},{"$f":"Calculations!$BF$12","v":3},{"$f":"Calculations!$AP$12","v":0},38,276,null,{"$f":"IF(OR('15-Min All Vehicle'!X16=0,'15-Min All Vehicle'!X17=0, '15-Min All Vehicle'!X18=0,'15-Min All Vehicle'!X19=0)=TRUE,\"\",X16+X17+X18+X19)","v":1627}]
[null,null,"06:45:00",{"$f":"Calculations!$AR$15","v":0},{"$f":"Calculations!$AS$15","v":0},{"$f":"Calculations!$AT$15","v":0},{"$f":"Calculations!$X$15","v":0},0,{"$f":"Calculations!$AV$15","v":16},{"$f":"Calculations!$AW$15","v":141},{"$f":"Calculations!$AX$15","v":0},{"$f":"Calculations!$AD$15","v":0},157,{"$f":"Calculations!$AZ$15","v":59},{"$f":"Calculations!$BA$15","v":0},{"$f":"Calculations!$BB$15","v":186},{"$f":"Calculations!$AJ$15","v":0},245,{"$f":"Calculations!$BD$15","v":0},{"$f":"Calculations!$BE$15","v":53},{"$f":"Calculations!$BF$15","v":3},{"$f":"Calculations!$AP$15","v":0},56,458,null,{"$f":"IF(OR('15-Min All Vehicle'!X17=0,'15-Min All Vehicle'!X18=0, '15-Min All Vehicle'!X19=0,'15-Min All Vehicle'!X20=0)=TRUE,\"\",X17+X18+X19+X20)","v":1917}]
[null,null,"06:59:59.942",{"$f":"Calculations!$AR$18","v":0},{"$f":"Calculations!$AS$18","v":0},{"$f":"Calculations!$AT$18","v":0},{"$f":"Calculations!$X$18","v":0},0,{"$f":"Calculations!$AV$18","v":10},{"$f":"Calculations!$AW$18","v":153},{"$f":"Calculations!$AX$18","v":0},{"$f":"Calculations!$AD$18","v":0},163,{"$f":"Calculations!$AZ$18","v":51},{"$f":"Calculations!$BA$18","v":0},{"$f":"Calculations!$BB$18","v":140},{"$f":"Calculations!$AJ$18","v":0},191,{"$f":"Calculations!$BD$18","v":0},{"$f":"Calculations!$BE$18","v":34},{"$f":"Calculations!$BF$18","v":7},{"$f":"Calculations!$AP$18","v":0},41,395,null,{"$f":"IF(OR('15-Min All Vehicle'!X18=0,'15-Min All Vehicle'!X19=0, '15-Min All Vehicle'!X20=0,'15-Min All Vehicle'!X21=0)=TRUE,\"\",X18+X19+X20+X21)","v":2112}]
[null,null,"07:14:59.971",{"$f":"Calculations!$AR$21","v":0},{"$f":"Calculations!$AS$21","v":0},{"$f":"Calculations!$AT$21","v":0},{"$f":"Calculations!$X$21","v":0},0,{"$f":"Calculations!$AV$21","v":24},{"$f":"Calculations!$AW$21","v":145},{"$f":"Calculations!$AX$21","v":0},{"$f":"Calculations!$AD$21","v":0},169,{"$f":"Calculations!$AZ$21","v":73},{"$f":"Calculations!$BA$21","v":0},{"$f":"Calculations!$BB$21","v":212},{"$f":"Calculations!$AJ$21","v":0},285,{"$f":"Calculations!$BD$21","v":0},{"$f":"Calculations!$BE$21","v":32},{"$f":"Calculations!$BF$21","v":12},{"$f":"Calculations!$AP$21","v":0},44,498,null,{"$f":"IF(OR('15-Min All Vehicle'!X19=0,'15-Min All Vehicle'!X20=0, '15-Min All Vehicle'!X21=0,'15-Min All Vehicle'!X22=0)=TRUE,\"\",X19+X20+X21+X22)","v":2125}]
[null,null,"07:30:00",{"$f":"Calculations!$AR$24","v":0},{"$f":"Calculations!$AS$24","v":0},{"$f":"Calculations!$AT$24","v":0},{"$f":"Calculations!$X$24","v":0},0,{"$f":"Calculations!$AV$24","v":15},{"$f":"Calculations!$AW$24","v":221},{"$f":"Calculations!$AX$24","v":0},{"$f":"Calculations!$AD$24","v":0},236,{"$f":"Calculations!$AZ$24","v":63},{"$f":"Calculations!$BA$24","v":0},{"$f":"Calculations!$BB$24","v":229},{"$f":"Calculations!$AJ$24","v":0},292,{"$f":"Calculations!$BD$24","v":0},{"$f":"Calculations!$BE$24","v":34},{"$f":"Calculations!$BF$24","v":4},{"$f":"Calculations!$AP$24","v":0},38,566,null,{"$f":"IF(OR('15-Min All Vehicle'!X20=0,'15-Min All Vehicle'!X21=0, '15-Min All Vehicle'!X22=0,'15-Min All Vehicle'!X23=0)=TRUE,\"\",X20+X21+X22+X23)","v":2025}]
[null,null,"07:44:59.942",{"$f":"Calculations!$AR$27","v":0},{"$f":"Calculations!$AS$27","v":0},{"$f":"Calculations!$AT$27","v":0},{"$f":"Calculations!$X$27","v":0},0,{"$f":"Calculations!$AV$27","v":27},{"$f":"Calculations!$AW$27","v":268},{"$f":"Calculations!$AX$27","v":0},{"$f":"Calculations!$AD$27","v":0},295,{"$f":"Calculations!$AZ$27","v":61},{"$f":"Calculations!$BA$27","v":0},{"$f":"Calculations!$BB$27","v":238},{"$f":"Calculations!$AJ$27","v":0},299,{"$f":"Calculations!$BD$27","v":0},{"$f":"Calculations!$BE$27","v":50},{"$f":"Calculations!$BF$27","v":9},{"$f":"Calculations!$AP$27","v":0},59,653,null,{"$f":"IF(OR('15-Min All Vehicle'!X21=0,'15-Min All Vehicle'!X22=0, '15-Min All Vehicle'!X23=0,'15-Min All Vehicle'!X24=0)=TRUE,\"\",X21+X22+X23+X24)","v":1800}]
[null,null,"07:59:59.971",{"$f":"Calculations!$AR$30","v":0},{"$f":"Calculations!$AS$30","v":0},{"$f":"Calculations!$AT$30","v":0},{"$f":"Calculations!$X$30","v":0},0,{"$f":"Calculations!$AV$30","v":11},{"$f":"Calculations!$AW$30","v":162},{"$f":"Calculations!$AX$30","v":0},{"$f":"Calculations!$AD$30","v":0},173,{"$f":"Calculations!$AZ$30","v":36},{"$f":"Calculations!$BA$30","v":0},{"$f":"Calculations!$BB$30","v":160},{"$f":"Calculations!$AJ$30","v":0},196,{"$f":"Calculations!$BD$30","v":0},{"$f":"Calculations!$BE$30","v":34},{"$f":"Calculations!$BF$30","v":5},{"$f":"Calculations!$AP$30","v":0},39,408,null,{"$f":"IF(OR('15-Min All Vehicle'!X22=0,'15-Min All Vehicle'!X23=0, '15-Min All Vehicle'!X24=0,'15-Min All Vehicle'!X25=0)=TRUE,\"\",X22+X23+X24+X25)","v":1509}]
[null,null,"08:15:00",{"$f":"Calculations!$AR$33","v":0},{"$f":"Calculations!$AS$33","v":0},{"$f":"Calculations!$AT$33","v":0},{"$f":"Calculations!$X$33","v":0},0,{"$f":"Calculations!$AV$33","v":18},{"$f":"Calculations!$AW$33","v":151},{"$f":"Calculations!$AX$33","v":0},{"$f":"Calculations!$AD$33","v":0},169,{"$f":"Calculations!$AZ$33","v":54},{"$f":"Calculations!$BA$33","v":0},{"$f":"Calculations!$BB$33","v":116},{"$f":"Calculations!$AJ$33","v":0},170,{"$f":"Calculations!$BD$33","v":0},{"$f":"Calculations!$BE$33","v":48},{"$f":"Calculations!$BF$33","v":11},{"$f":"Calculations!$AP$33","v":0},59,398,null,{"$f":"IF(OR('15-Min All Vehicle'!X23=0,'15-Min All Vehicle'!X24=0, '15-Min All Vehicle'!X25=0,'15-Min All Vehicle'!X26=0)=TRUE,\"\",X23+X24+X25+X26)","v":1388}]
[null,null,"08:29:59.942",{"$f":"Calculations!$AR$36","v":0},{"$f":"Calculations!$AS$36","v":0},{"$f":"Calculations!$AT$36","v":0},{"$f":"Calculations!$X$36","v":0},0,{"$f":"Calculations!$AV$36","v":13},{"$f":"Calculations!$AW$36","v":116},{"$f":"Calculations!$AX$36","v":0},{"$f":"Calculations!$AD$36","v":0},129,{"$f":"Calculations!$AZ$36","v":44},{"$f":"Calculations!$BA$36","v":0},{"$f":"Calculations!$BB$36","v":124},{"$f":"Calculations!$AJ$36","v":0},168,{"$f":"Calculations!$BD$36","v":0},{"$f":"Calculations!$BE$36","v":41},{"$f":"Calculations!$BF$36","v":3},{"$f":"Calculations!$AP$36","v":0},44,341,null,{"$f":"IF(OR('15-Min All Vehicle'!X24=0,'15-Min All Vehicle'!X25=0, '15-Min All Vehicle'!X26=0,'15-Min All Vehicle'!X27=0)=TRUE,\"\",X24+X25+X26+X27)","v":1233}]
[null,null,"08:44:59.971",{"$f":"Calculations!$AR$39","v":0},{"$f":"Calculations!$AS$39","v":0},{"$f":"Calculations!$AT$39","v":0},{"$f":"Calculations!$X$39","v":0},0,{"$f":"Calculations!$AV$39","v":15},{"$f":"Calculations!$AW$39","v":127},{"$f":"Calculations!$AX$39","v":0},{"$f":"Calculations!$AD$39","v":0},142,{"$f":"Calculations!$AZ$39","v":44},{"$f":"Calculations!$BA$39","v":0},{"$f":"Calculations!$BB$39","v":126},{"$f":"Calculations!$AJ$39","v":0},170,{"$f":"Calculations!$BD$39","v":0},{"$f":"Calculations!$BE$39","v":41},{"$f":"Calculations!$BF$39","v":9},{"$f":"Calculations!$AP$39","v":0},50,362,null,{"$f":"IF(OR('15-Min All Vehicle'!X25=0,'15-Min All Vehicle'!X26=0, '15-Min All Vehicle'!X27=0,'15-Min All Vehicle'!X28=0)=TRUE,\"\",X25+X26+X27+X28)","v":1142}]
[null,null,"09:00:00",{"$f":"Calculations!$AR$42","v":0},{"$f":"Calculations!$AS$42","v":0},{"$f":"Calculations!$AT$42","v":0},{"$f":"Calculations!$X$42","v":0},0,{"$f":"Calculations!$AV$42","v":7},{"$f":"Calculations!$AW$42","v":115},{"$f":"Calculations!$AX$42","v":0},{"$f":"Calculations!$AD$42","v":0},122,{"$f":"Calculations!$AZ$42","v":38},{"$f":"Calculations!$BA$42","v":0},{"$f":"Calculations!$BB$42","v":75},{"$f":"Calculations!$AJ$42","v":0},113,{"$f":"Calculations!$BD$42","v":0},{"$f":"Calculations!$BE$42","v":43},{"$f":"Calculations!$BF$42","v":9},{"$f":"Calculations!$AP$42","v":0},52,287,null,{"$f":"IF(OR('15-Min All Vehicle'!X26=0,'15-Min All Vehicle'!X27=0, '15-Min All Vehicle'!X28=0,'15-Min All Vehicle'!X29=0)=TRUE,\"\",X26+X27+X28+X29)","v":1033}]
[null,null,"09:14:59.942",{"$f":"Calculations!$AR$45","v":0},{"$f":"Calculations!$AS$45","v":0},{"$f":"Calculations!$AT$45","v":0},{"$f":"Calculations!$X$45","v":0},0,{"$f":"Calculations!$AV$45","v":8},{"$f":"Calculations!$AW$45","v":90},{"$f":"Calculations!$AX$45","v":0},{"$f":"Calculations!$AD$45","v":0},98,{"$f":"Calculations!$AZ$45","v":32},{"$f":"Calculations!$BA$45","v":0},{"$f":"Calculations!$BB$45","v":58},{"$f":"Calculations!$AJ$45","v":0},90,{"$f":"Calculations!$BD$45","v":0},{"$f":"Calculations!$BE$45","v":46},{"$f":"Calculations!$BF$45","v":9},{"$f":"Calculations!$AP$45","v":0},55,243,null,{"$f":"IF(OR('15-Min All Vehicle'!X27=0,'15-Min All Vehicle'!X28=0, '15-Min All Vehicle'!X29=0,'15-Min All Vehicle'!X30=0)=TRUE,\"\",X27+X28+X29+X30)","v":1008}]
[null,null,"09:29:59.971",{"$f":"Calculations!$AR$48","v":0},{"$f":"Calculations!$AS$48","v":0},{"$f":"Calculations!$AT$48","v":0},{"$f":"Calculations!$X$48","v":0},0,{"$f":"Calculations!$AV$48","v":9},{"$f":"Calculations!$AW$48","v":96},{"$f":"Calculations!$AX$48","v":0},{"$f":"Calculations!$AD$48","v":0},105,{"$f":"Calculations!$AZ$48","v":25},{"$f":"Calculations!$BA$48","v":0},{"$f":"Calculations!$BB$48","v":71},{"$f":"Calculations!$AJ$48","v":0},96,{"$f":"Calculations!$BD$48","v":0},{"$f":"Calculations!$BE$48","v":38},{"$f":"Calculations!$BF$48","v":11},{"$f":"Calculations!$AP$48","v":0},49,250,null,{"$f":"IF(OR('15-Min All Vehicle'!X28=0,'15-Min All Vehicle'!X29=0, '15-Min All Vehicle'!X30=0,'15-Min All Vehicle'!X31=0)=TRUE,\"\",X28+X29+X30+X31)","v":1006}]
[null,null,"09:45:00",{"$f":"Calculations!$AR$51","v":0},{"$f":"Calculations!$AS$51","v":0},{"$f":"Calculations!$AT$51","v":0},{"$f":"Calculations!$X$51","v":0},0,{"$f":"Calculations!$AV$51","v":12},{"$f":"Calculations!$AW$51","v":87},{"$f":"Calculations!$AX$51","v":0},{"$f":"Calculations!$AD$51","v":0},99,{"$f":"Calculations!$AZ$51","v":33},{"$f":"Calculations!$BA$51","v":0},{"$f":"Calculations!$BB$51","v":65},{"$f":"Calculations!$AJ$51","v":0},98,{"$f":"Calculations!$BD$51","v":0},{"$f":"Calculations!$BE$51","v":51},{"$f":"Calculations!$BF$51","v":5},{"$f":"Calculations!$AP$51","v":0},56,253,null,{"$f":"IF(OR('15-Min All Vehicle'!X29=0,'15-Min All Vehicle'!X30=0, '15-Min All Vehicle'!X31=0,'15-Min All Vehicle'!X32=0)=TRUE,\"\",X29+X30+X31+X32)","v":1004}]
[null,"Midday Peak Period","09:59:59.942",{"$f":"Calculations!$AR$54","v":0},{"$f":"Calculations!$AS$54","v":0},{"$f":"Calculations!$AT$54","v":0},{"$f":"Calculations!$X$54","v":0},0,{"$f":"Calculations!$AV$54","v":12},{"$f":"Calculations!$AW$54","v":100},{"$f":"Calculations!$AX$54","v":0},{"$f":"Calculations!$AD$54","v":0},112,{"$f":"Calculations!$AZ$54","v":35},{"$f":"Calculations!$BA$54","v":0},{"$f":"Calculations!$BB$54","v":59},{"$f":"Calculations!$AJ$54","v":0},94,{"$f":"Calculations!$BD$54","v":0},{"$f":"Calculations!$BE$54","v":49},{"$f":"Calculations!$BF$54","v":7},{"$f":"Calculations!$AP$54","v":0},56,262,null,{"$f":"IF(OR('15-Min All Vehicle'!X30=0,'15-Min All Vehicle'!X31=0, '15-Min All Vehicle'!X32=0,'15-Min All Vehicle'!X33=0)=TRUE,\"\",X30+X31+X32+X33)","v":1033}]
[null,null,"10:14:59.971",{"$f":"Calculations!$AR$57","v":0},{"$f":"Calculations!$AS$57","v":0},{"$f":"Calculations!$AT$57","v":0},{"$f":"Calculations!$X$57","v":0},0,{"$f":"Calculations!$AV$57","v":11},{"$f":"Calculations!$AW$57","v":79},{"$f":"Calculations!$AX$57","v":0},{"$f":"Calculations!$AD$57","v":0},90,{"$f":"Calculations!$AZ$57","v":37},{"$f":"Calculations!$BA$57","v":0},{"$f":"Calculations!$BB$57","v":61},{"$f":"Calculations!$AJ$57","v":0},98,{"$f":"Calculations!$BD$57","v":0},{"$f":"Calculations!$BE$57","v":48},{"$f":"Calculations!$BF$57","v":5},{"$f":"Calculations!$AP$57","v":0},53,241,null,{"$f":"IF(OR('15-Min All Vehicle'!X31=0,'15-Min All Vehicle'!X32=0, '15-Min All Vehicle'!X33=0,'15-Min All Vehicle'!X34=0)=TRUE,\"\",X31+X32+X33+X34)","v":1045}]
[null,null,"10:30:00",{"$f":"Calculations!$AR$60","v":0},{"$f":"Calculations!$AS$60","v":0},{"$f":"Calculations!$AT$60","v":0},{"$f":"Calculations!$X$60","v":0},0,{"$f":"Calculations!$AV$60","v":11},{"$f":"Calculations!$AW$60","v":92},{"$f":"Calculations!$AX$60","v":0},{"$f":"Calculations!$AD$60","v":0},103,{"$f":"Calculations!$AZ$60","v":37},{"$f":"Calculations!$BA$60","v":0},{"$f":"Calculations!$BB$60","v":59},{"$f":"Calculations!$AJ$60","v":0},96,{"$f":"Calculations!$BD$60","v":0},{"$f":"Calculations!$BE$60","v":43},{"$f":"Calculations!$BF$60","v":6},{"$f":"Calculations!$AP$60","v":0},49,248,null,{"$f":"IF(OR('15-Min All Vehicle'!X32=0,'15-Min All Vehicle'!X33=0, '15-Min All Vehicle'!X34=0,'15-Min All Vehicle'!X35=0)=TRUE,\"\",X32+X33+X34+X35)","v":1145}]
[null,null,"10:44:59.942",{"$f":"Calculations!$AR$63","v":0},{"$f":"Calculations!$AS$63","v":0},{"$f":"Calculations!$AT$63","v":0},{"$f":"Calculations!$X$63","v":0},0,{"$f":"Calculations!$AV$63","v":13},{"$f":"Calculations!$AW$63","v":100},{"$f":"Calculations!$AX$63","v":0},{"$f":"Calculations!$AD$63","v":0},113,{"$f":"Calculations!$AZ$63","v":44},{"$f":"Calculations!$BA$63","v":0},{"$f":"Calculations!$BB$63","v":68},{"$f":"Calculations!$AJ$63","v":0},112,{"$f":"Calculations!$BD$63","v":0},{"$f":"Calculations!$BE$63","v":53},{"$f":"Calculations!$BF$63","v":4},{"$f":"Calculations!$AP$63","v":0},57,282,null,{"$f":"IF(OR('15-Min All Vehicle'!X33=0,'15-Min All Vehicle'!X34=0, '15-Min All Vehicle'!X35=0,'15-Min All Vehicle'!X36=0)=TRUE,\"\",X33+X34+X35+X36)","v":1220}]
[null,null,"10:59:59.971",{"$f":"Calculations!$AR$66","v":0},{"$f":"Calculations!$AS$66","v":0},{"$f":"Calculations!$AT$66","v":0},{"$f":"Calculations!$X$66","v":0},0,{"$f":"Calculations!$AV$66","v":7},{"$f":"Calculations!$AW$66","v":91},{"$f":"Calculations!$AX$66","v":0},{"$f":"Calculations!$AD$66","v":0},98,{"$f":"Calculations!$AZ$66","v":30},{"$f":"Calculations!$BA$66","v":0},{"$f":"Calculations!$BB$66","v":85},{"$f":"Calculations!$AJ$66","v":0},115,{"$f":"Calculations!$BD$66","v":0},{"$f":"Calculations!$BE$66","v":53},{"$f":"Calculations!$BF$66","v":8},{"$f":"Calculations!$AP$66","v":0},61,274,null,{"$f":"IF(OR('15-Min All Vehicle'!X34=0,'15-Min All Vehicle'!X35=0, '15-Min All Vehicle'!X36=0,'15-Min All Vehicle'!X37=0)=TRUE,\"\",X34+X35+X36+X37)","v":1266}]
[null,null,"11:15:00",{"$f":"Calculations!$AR$69","v":0},{"$f":"Calculations!$AS$69","v":0},{"$f":"Calculations!$AT$69","v":0},{"$f":"Calculations!$X$69","v":0},0,{"$f":"Calculations!$AV$69","v":9},{"$f":"Calculations!$AW$69","v":101},{"$f":"Calculations!$AX$69","v":0},{"$f":"Calculations!$AD$69","v":0},110,{"$f":"Calculations!$AZ$69","v":51},{"$f":"Calculations!$BA$69","v":4},{"$f":"Calculations!$BB$69","v":95},{"$f":"Calculations!$AJ$69","v":0},150,{"$f":"Calculations!$BD$69","v":0},{"$f":"Calculations!$BE$69","v":77},{"$f":"Calculations!$BF$69","v":4},{"$f":"Calculations!$AP$69","v":0},81,341,null,{"$f":"IF(OR('15-Min All Vehicle'!X35=0,'15-Min All Vehicle'!X36=0, '15-Min All Vehicle'!X37=0,'15-Min All Vehicle'!X38=0)=TRUE,\"\",X35+X36+X37+X38)","v":1297}]
[null,null,"11:29:59.942",{"$f":"Calculations!$AR$72","v":0},{"$f":"Calculations!$AS$72","v":0},{"$f":"Calculations!$AT$72","v":0},{"$f":"Calculations!$X$72","v":0},0,{"$f":"Calculations!$AV$72","v":12},{"$f":"Calculations!$AW$72","v":104},{"$f":"Calculations!$AX$72","v":0},{"$f":"Calculations!$AD$72","v":0},116,{"$f":"Calculations!$AZ$72","v":43},{"$f":"Calculations!$BA$72","v":0},{"$f":"Calculations!$BB$72","v":80},{"$f":"Calculations!$AJ$72","v":0},123,{"$f":"Calculations!$BD$72","v":0},{"$f":"Calculations!$BE$72","v":81},{"$f":"Calculations!$BF$72","v":3},{"$f":"Calculations!$AP$72","v":0},84,323,null,{"$f":"IF(OR('15-Min All Vehicle'!X36=0,'15-Min All Vehicle'!X37=0, '15-Min All Vehicle'!X38=0,'15-Min All Vehicle'!X39=0)=TRUE,\"\",X36+X37+X38+X39)","v":1277}]
[null,null,"11:44:59.971",{"$f":"Calculations!$AR$75","v":0},{"$f":"Calculations!$AS$75","v":0},{"$f":"Calculations!$AT$75","v":0},{"$f":"Calculations!$X$75","v":0},0,{"$f":"Calculations!$AV$75","v":9},{"$f":"Calculations!$AW$75","v":105},{"$f":"Calculations!$AX$75","v":0},{"$f":"Calculations!$AD$75","v":0},114,{"$f":"Calculations!$AZ$75","v":57},{"$f":"Calculations!$BA$75","v":0},{"$f":"Calculations!$BB$75","v":100},{"$f":"Calculations!$AJ$75","v":0},157,{"$f":"Calculations!$BD$75","v":0},{"$f":"Calculations!$BE$75","v":53},{"$f":"Calculations!$BF$75","v":4},{"$f":"Calculations!$AP$75","v":0},57,328,null,{"$f":"IF(OR('15-Min All Vehicle'!X37=0,'15-Min All Vehicle'!X38=0, '15-Min All Vehicle'!X39=0,'15-Min All Vehicle'!X40=0)=TRUE,\"\",X37+X38+X39+X40)","v":1288}]
[null,null,"12:00:00",{"$f":"Calculations!$AR$78","v":0},{"$f":"Calculations!$AS$78","v":0},{"$f":"Calculations!$AT$78","v":0},{"$f":"Calculations!$X$78","v":0},0,{"$f":"Calculations!$AV$78","v":8},{"$f":"Calculations!$AW$78","v":88},{"$f":"Calculations!$AX$78","v":0},{"$f":"Calculations!$AD$78","v":0},96,{"$f":"Calculations!$AZ$78","v":39},{"$f":"Calculations!$BA$78","v":0},{"$f":"Calculations!$BB$78","v":94},{"$f":"Calculations!$AJ$78","v":0},133,{"$f":"Calculations!$BD$78","v":0},{"$f":"Calculations!$BE$78","v":65},{"$f":"Calculations!$BF$78","v":11},{"$f":"Calculations!$AP$78","v":0},76,305,null,{"$f":"IF(OR('15-Min All Vehicle'!X38=0,'15-Min All Vehicle'!X39=0, '15-Min All Vehicle'!X40=0,'15-Min All Vehicle'!X41=0)=TRUE,\"\",X38+X39+X40+X41)","v":1308}]
[null,null,"12:14:59.942",{"$f":"Calculations!$AR$81","v":0},{"$f":"Calculations!$AS$81","v":0},{"$f":"Calculations!$AT$81","v":0},{"$f":"Calculations!$X$81","v":0},0,{"$f":"Calculations!$AV$81","v":13},{"$f":"Calculations!$AW$81","v":101},{"$f":"Calculations!$AX$81","v":0},{"$f":"Calculations!$AD$81","v":0},114,{"$f":"Calculations!$AZ$81","v":38},{"$f":"Calculations!$BA$81","v":0},{"$f":"Calculations!$BB$81","v":88},{"$f":"Calculations!$AJ$81","v":0},126,{"$f":"Calculations!$BD$81","v":0},{"$f":"Calculations!$BE$81","v":73},{"$f":"Calculations!$BF$81","v":8},{"$f":"Calculations!$AP$81","v":0},81,321,null,{"$f":"IF(OR('15-Min All Vehicle'!X39=0,'15-Min All Vehicle'!X40=0, '15-Min All Vehicle'!X41=0,'15-Min All Vehicle'!X42=0)=TRUE,\"\",X39+X40+X41+X42)","v":1368}]
[null,null,"12:29:59.971",{"$f":"Calculations!$AR$84","v":0},{"$f":"Calculations!$AS$84","v":0},{"$f":"Calculations!$AT$84","v":0},{"$f":"Calculations!$X$84","v":0},0,{"$f":"Calculations!$AV$84","v":11},{"$f":"Calculations!$AW$84","v":101},{"$f":"Calculations!$AX$84","v":0},{"$f":"Calculations!$AD$84","v":0},112,{"$f":"Calculations!$AZ$84","v":48},{"$f":"Calculations!$BA$84","v":0},{"$f":"Calculations!$BB$84","v":111},{"$f":"Calculations!$AJ$84","v":0},159,{"$f":"Calculations!$BD$84","v":0},{"$f":"Calculations!$BE$84","v":55},{"$f":"Calculations!$BF$84","v":8},{"$f":"Calculations!$AP$84","v":0},63,334,null,{"$f":"IF(OR('15-Min All Vehicle'!X40=0,'15-Min All Vehicle'!X41=0, '15-Min All Vehicle'!X42=0,'15-Min All Vehicle'!X43=0)=TRUE,\"\",X40+X41+X42+X43)","v":1350}]
[null,null,"12:45:00",{"$f":"Calculations!$AR$87","v":0},{"$f":"Calculations!$AS$87","v":0},{"$f":"Calculations!$AT$87","v":0},{"$f":"Calculations!$X$87","v":0},0,{"$f":"Calculations!$AV$87","v":10},{"$f":"Calculations!$AW$87","v":101},{"$f":"Calculations!$AX$87","v":0},{"$f":"Calculations!$AD$87","v":0},111,{"$f":"Calculations!$AZ$87","v":56},{"$f":"Calculations!$BA$87","v":0},{"$f":"Calculations!$BB$87","v":102},{"$f":"Calculations!$AJ$87","v":0},158,{"$f":"Calculations!$BD$87","v":0},{"$f":"Calculations!$BE$87","v":64},{"$f":"Calculations!$BF$87","v":15},{"$f":"Calculations!$AP$87","v":0},79,348,null,{"$f":"IF(OR('15-Min All Vehicle'!X41=0,'15-Min All Vehicle'!X42=0, '15-Min All Vehicle'!X43=0,'15-Min All Vehicle'!X44=0)=TRUE,\"\",X41+X42+X43+X44)","v":1375}]
[null,null,"12:59:59.942",{"$f":"Calculations!$AR$90","v":0},{"$f":"Calculations!$AS$90","v":0},{"$f":"Calculations!$AT$90","v":0},{"$f":"Calculations!$X$90","v":0},0,{"$f":"Calculations!$AV$90","v":13},{"$f":"Calculations!$AW$90","v":119},{"$f":"Calculations!$AX$90","v":0},{"$f":"Calculations!$AD$90","v":0},132,{"$f":"Calculations!$AZ$90","v":48},{"$f":"Calculations!$BA$90","v":0},{"$f":"Calculations!$BB$90","v":113},{"$f":"Calculations!$AJ$90","v":0},161,{"$f":"Calculations!$BD$90","v":0},{"$f":"Calculations!$BE$90","v":64},{"$f":"Calculations!$BF$90","v":8},{"$f":"Calculations!$AP$90","v":0},72,365,null,{"$f":"IF(OR('15-Min All Vehicle'!X42=0,'15-Min All Vehicle'!X43=0, '15-Min All Vehicle'!X44=0,'15-Min All Vehicle'!X45=0)=TRUE,\"\",X42+X43+X44+X45)","v":1375}]
[null,null,"13:14:59.971",{"$f":"Calculations!$AR$93","v":0},{"$f":"Calculations!$AS$93","v":0},{"$f":"Calculations!$AT$93","v":0},{"$f":"Calculations!$X$93","v":0},0,{"$f":"Calculations!$AV$93","v":11},{"$f":"Calculations!$AW$93","v":89},{"$f":"Calculations!$AX$93","v":0},{"$f":"Calculations!$AD$93","v":0},100,{"$f":"Calculations!$AZ$93","v":54},{"$f":"Calculations!$BA$93","v":0},{"$f":"Calculations!$BB$93","v":76},{"$f":"Calculations!$AJ$93","v":0},130,{"$f":"Calculations!$BD$93","v":0},{"$f":"Calculations!$BE$93","v":67},{"$f":"Calculations!$BF$93","v":6},{"$f":"Calculations!$AP$93","v":0},73,303,null,{"$f":"IF(OR('15-Min All Vehicle'!X43=0,'15-Min All Vehicle'!X44=0, '15-Min All Vehicle'!X45=0,'15-Min All Vehicle'!X46=0)=TRUE,\"\",X43+X44+X45+X46)","v":1359}]
[null,null,"13:30:00",{"$f":"Calculations!$AR$96","v":0},{"$f":"Calculations!$AS$96","v":0},{"$f":"Calculations!$AT$96","v":0},{"$f":"Calculations!$X$96","v":0},0,{"$f":"Calculations!$AV$96","v":9},{"$f":"Calculations!$AW$96","v":108},{"$f":"Calculations!$AX$96","v":0},{"$f":"Calculations!$AD$96","v":0},117,{"$f":"Calculations!$AZ$96","v":45},{"$f":"Calculations!$BA$96","v":0},{"$f":"Calculations!$BB$96","v":103},{"$f":"Calculations!$AJ$96","v":0},148,{"$f":"Calculations!$BD$96","v":0},{"$f":"Calculations!$BE$96","v":90},{"$f":"Calculations!$BF$96","v":4},{"$f":"Calculations!$AP$96","v":0},94,359,null,{"$f":"IF(OR('15-Min All Vehicle'!X44=0,'15-Min All Vehicle'!X45=0, '15-Min All Vehicle'!X46=0,'15-Min All Vehicle'!X47=0)=TRUE,\"\",X44+X45+X46+X47)","v":1454}]
[null,null,"13:44:59.942",{"$f":"Calculations!$AR$99","v":0},{"$f":"Calculations!$AS$99","v":0},{"$f":"Calculations!$AT$99","v":0},{"$f":"Calculations!$X$99","v":0},0,{"$f":"Calculations!$AV$99","v":10},{"$f":"Calculations!$AW$99","v":96},{"$f":"Calculations!$AX$99","v":0},{"$f":"Calculations!$AD$99","v":0},106,{"$f":"Calculations!$AZ$99","v":50},{"$f":"Calculations!$BA$99","v":0},{"$f":"Calculations!$BB$99","v":103},{"$f":"Calculations!$AJ$99","v":0},153,{"$f":"Calculations!$BD$99","v":0},{"$f":"Calculations!$BE$99","v":79},{"$f":"Calculations!$BF$99","v":10},{"$f":"Calculations!$AP$99","v":0},89,348,null,{"$f":"IF(OR('15-Min All Vehicle'!X45=0,'15-Min All Vehicle'!X46=0, '15-Min All Vehicle'!X47=0,'15-Min All Vehicle'!X48=0)=TRUE,\"\",X45+X46+X47+X48)","v":1504}]
[null,"PM Peak Period","13:59:59.971",{"$f":"Calculations!$AR$102","v":0},{"$f":"Calculations!$AS$102","v":0},{"$f":"Calculations!$AT$102","v":0},{"$f":"Calculations!$X$102","v":0},0,{"$f":"Calculations!$AV$102","v":14},{"$f":"Calculations!$AW$102","v":117},{"$f":"Calculations!$AX$102","v":0},{"$f":"Calculations!$AD$102","v":0},131,{"$f":"Calculations!$AZ$102","v":49},{"$f":"Calculations!$BA$102","v":1},{"$f":"Calculations!$BB$102","v":85},{"$f":"Calculations!$AJ$102","v":0},135,{"$f":"Calculations!$BD$102","v":0},{"$f":"Calculations!$BE$102","v":71},{"$f":"Calculations!$BF$102","v":12},{"$f":"Calculations!$AP$102","v":0},83,{"$f":"H46+M46+R46+W46","v":349},null,{"$f":"IF(OR('15-Min All Vehicle'!X46=0,'15-Min All Vehicle'!X47=0, '15-Min All Vehicle'!X48=0,'15-Min All Vehicle'!X49=0)=TRUE,\"\",X46+X47+X48+X49)","v":1587}]
[null,null,"14:15:00",{"$f":"Calculations!$AR$105","v":0},{"$f":"Calculations!$AS$105","v":0},{"$f":"Calculations!$AT$105","v":0},{"$f":"Calculations!$X$105","v":0},0,{"$f":"Calculations!$AV$105","v":9},{"$f":"Calculations!$AW$105","v":110},{"$f":"Calculations!$AX$105","v":0},{"$f":"Calculations!$AD$105","v":0},119,{"$f":"Calculations!$AZ$105","v":77},{"$f":"Calculations!$BA$105","v":0},{"$f":"Calculations!$BB$105","v":112},{"$f":"Calculations!$AJ$105","v":0},189,{"$f":"Calculations!$BD$105","v":0},{"$f":"Calculations!$BE$105","v":82},{"$f":"Calculations!$BF$105","v":8},{"$f":"Calculations!$AP$105","v":0},90,398,null,{"$f":"IF(OR('15-Min All Vehicle'!X47=0,'15-Min All Vehicle'!X48=0, '15-Min All Vehicle'!X49=0,'15-Min All Vehicle'!X50=0)=TRUE,\"\",X47+X48+X49+X50)","v":1638}]
[null,null,"14:29:59.942",{"$f":"Calculations!$AR$108","v":0},{"$f":"Calculations!$AS$108","v":0},{"$f":"Calculations!$AT$108","v":0},{"$f":"Calculations!$X$108","v":0},0,{"$f":"Calculations!$AV$108","v":13},{"$f":"Calculations!$AW$108","v":100},{"$f":"Calculations!$AX$108","v":0},{"$f":"Calculations!$AD$108","v":0},113,{"$f":"Calculations!$AZ$108","v":70},{"$f":"Calculations!$BA$108","v":0},{"$f":"Calculations!$BB$108","v":85},{"$f":"Calculations!$AJ$108","v":0},155,{"$f":"Calculations!$BD$108","v":0},{"$f":"Calculations!$BE$108","v":112},{"$f":"Calculations!$BF$108","v":29},{"$f":"Calculations!$AP$108","v":0},141,409,null,{"$f":"IF(OR('15-Min All Vehicle'!X48=0,'15-Min All Vehicle'!X49=0, '15-Min All Vehicle'!X50=0,'15-Min All Vehicle'!X51=0)=TRUE,\"\",X48+X49+X50+X51)","v":1688}]
[null,null,"14:44:59.971",{"$f":"Calculations!$AR$111","v":0},{"$f":"Calculations!$AS$111","v":0},{"$f":"Calculations!$AT$111","v":0},{"$f":"Calculations!$X$111","v":0},0,{"$f":"Calculations!$AV$111","v":17},{"$f":"Calculations!$AW$111","v":104},{"$f":"Calculations!$AX$111","v":0},{"$f":"Calculations!$AD$111","v":0},121,{"$f":"Calculations!$AZ$111","v":75},{"$f":"Calculations!$BA$111","v":0},{"$f":"Calculations!$BB$111","v":106},{"$f":"Calculations!$AJ$111","v":0},181,{"$f":"Calculations!$BD$111","v":0},{"$f":"Calculations!$BE$111","v":99},{"$f":"Calculations!$BF$111","v":30},{"$f":"Calculations!$AP$111","v":0},129,431,null,{"$f":"IF(OR('15-Min All Vehicle'!X49=0,'15-Min All Vehicle'!X50=0, '15-Min All Vehicle'!X51=0,'15-Min All Vehicle'!X52=0)=TRUE,\"\",X49+X50+X51+X52)","v":1783}]
[null,null,"15:00:00",{"$f":"Calculations!$AR$114","v":0},{"$f":"Calculations!$AS$114","v":0},{"$f":"Calculations!$AT$114","v":0},{"$f":"Calculations!$X$114","v":0},0,{"$f":"Calculations!$AV$114","v":12},{"$f":"Calculations!$AW$114","v":112},{"$f":"Calculations!$AX$114","v":0},{"$f":"Calculations!$AD$114","v":0},124,{"$f":"Calculations!$AZ$114","v":66},{"$f":"Calculations!$BA$114","v":0},{"$f":"Calculations!$BB$114","v":110},{"$f":"Calculations!$AJ$114","v":0},176,{"$f":"Calculations!$BD$114","v":0},{"$f":"Calculations!$BE$114","v":85},{"$f":"Calculations!$BF$114","v":15},{"$f":"Calculations!$AP$114","v":0},100,400,null,{"$f":"IF(OR('15-Min All Vehicle'!X50=0,'15-Min All Vehicle'!X51=0, '15-Min All Vehicle'!X52=0,'15-Min All Vehicle'!X53=0)=TRUE,\"\",X50+X51+X52+X53)","v":1818}]
[null,null,"15:14:59.942",{"$f":"Calculations!$AR$117","v":0},{"$f":"Calculations!$AS$117","v":0},{"$f":"Calculations!$AT$117","v":0},{"$f":"Calculations!$X$117","v":0},0,{"$f":"Calculations!$AV$117","v":13},{"$f":"Calculations!$AW$117","v":149},{"$f":"Calculations!$AX$117","v":0},{"$f":"Calculations!$AD$117","v":0},162,{"$f":"Calculations!$AZ$117","v":74},{"$f":"Calculations!$BA$117","v":0},{"$f":"Calculations!$BB$117","v":91},{"$f":"Calculations!$AJ$117","v":0},165,{"$f":"Calculations!$BD$117","v":0},{"$f":"Calculations!$BE$117","v":109},{"$f":"Calculations!$BF$117","v":12},{"$f":"Calculations!$AP$117","v":0},121,448,null,{"$f":"IF(OR('15-Min All Vehicle'!X51=0,'15-Min All Vehicle'!X52=0, '15-Min All Vehicle'!X53=0,'15-Min All Vehicle'!X54=0)=TRUE,\"\",X51+X52+X53+X54)","v":1876}]
[null,null,"15:29:59.971",{"$f":"Calculations!$AR$120","v":0},{"$f":"Calculations!$AS$120","v":0},{"$f":"Calculations!$AT$120","v":0},{"$f":"Calculations!$X$120","v":0},0,{"$f":"Calculations!$AV$120","v":13},{"$f":"Calculations!$AW$120","v":150},{"$f":"Calculations!$AX$120","v":0},{"$f":"Calculations!$AD$120","v":0},163,{"$f":"Calculations!$AZ$120","v":89},{"$f":"Calculations!$BA$120","v":0},{"$f":"Calculations!$BB$120","v":114},{"$f":"Calculations!$AJ$120","v":0},203,{"$f":"Calculations!$BD$120","v":0},{"$f":"Calculations!$BE$120","v":121},{"$f":"Calculations!$BF$120","v":17},{"$f":"Calculations!$AP$120","v":0},138,504,null,{"$f":"IF(OR('15-Min All Vehicle'!X52=0,'15-Min All Vehicle'!X53=0, '15-Min All Vehicle'!X54=0,'15-Min All Vehicle'!X55=0)=TRUE,\"\",X52+X53+X54+X55)","v":1946}]
[null,null,"15:45:00",{"$f":"Calculations!$AR$123","v":0},{"$f":"Calculations!$AS$123","v":0},{"$f":"Calculations!$AT$123","v":0},{"$f":"Calculations!$X$123","v":0},0,{"$f":"Calculations!$AV$123","v":22},{"$f":"Calculations!$AW$123","v":105},{"$f":"Calculations!$AX$123","v":0},{"$f":"Calculations!$AD$123","v":0},127,{"$f":"Calculations!$AZ$123","v":105},{"$f":"Calculations!$BA$123","v":0},{"$f":"Calculations!$BB$123","v":102},{"$f":"Calculations!$AJ$123","v":0},207,{"$f":"Calculations!$BD$123","v":0},{"$f":"Calculations!$BE$123","v":117},{"$f":"Calculations!$BF$123","v":15},{"$f":"Calculations!$AP$123","v":0},132,466,null,{"$f":"IF(OR('15-Min All Vehicle'!X53=0,'15-Min All Vehicle'!X54=0, '15-Min All Vehicle'!X55=0,'15-Min All Vehicle'!X56=0)=TRUE,\"\",X53+X54+X55+X56)","v":1983}]
[null,null,"15:59:59.942",{"$f":"Calculations!$AR$126","v":0},{"$f":"Calculations!$AS$126","v":0},{"$f":"Calculations!$AT$126","v":0},{"$f":"Calculations!$X$126","v":0},0,{"$f":"Calculations!$AV$126","v":12},{"$f":"Calculations!$AW$126","v":129},{"$f":"Calculations!$AX$126","v":0},{"$f":"Calculations!$AD$126","v":0},141,{"$f":"Calculations!$AZ$126","v":76},{"$f":"Calculations!$BA$126","v":0},{"$f":"Calculations!$BB$126","v":87},{"$f":"Calculations!$AJ$126","v":0},163,{"$f":"Calculations!$BD$126","v":0},{"$f":"Calculations!$BE$126","v":117},{"$f":"Calculations!$BF$126","v":37},{"$f":"Calculations!$AP$126","v":0},154,458,null,{"$f":"IF(OR('15-Min All Vehicle'!X54=0,'15-Min All Vehicle'!X55=0, '15-Min All Vehicle'!X56=0,'15-Min All Vehicle'!X57=0)=TRUE,\"\",X54+X55+X56+X57)","v":2116}]
[null,null,"16:14:59.971",{"$f":"Calculations!$AR$129","v":0},{"$f":"Calculations!$AS$129","v":0},{"$f":"Calculations!$AT$129","v":0},{"$f":"Calculations!$X$129","v":0},0,{"$f":"Calculations!$AV$129","v":10},{"$f":"Calculations!$AW$129","v":124},{"$f":"Calculations!$AX$129","v":0},{"$f":"Calculations!$AD$129","v":0},134,{"$f":"Calculations!$AZ$129","v":124},{"$f":"Calculations!$BA$129","v":0},{"$f":"Calculations!$BB$129","v":108},{"$f":"Calculations!$AJ$129","v":0},232,{"$f":"Calculations!$BD$129","v":0},{"$f":"Calculations!$BE$129","v":125},{"$f":"Calculations!$BF$129","v":27},{"$f":"Calculations!$AP$129","v":0},152,518,null,{"$f":"IF(OR('15-Min All Vehicle'!X55=0,'15-Min All Vehicle'!X56=0, '15-Min All Vehicle'!X57=0,'15-Min All Vehicle'!X58=0)=TRUE,\"\",X55+X56+X57+X58)","v":2163}]
[null,null,"16:30:00",{"$f":"Calculations!$AR$132","v":0},{"$f":"Calculations!$AS$132","v":0},{"$f":"Calculations!$AT$132","v":0},{"$f":"Calculations!$X$132","v":0},0,{"$f":"Calculations!$AV$132","v":14},{"$f":"Calculations!$AW$132","v":142},{"$f":"Calculations!$AX$132","v":0},{"$f":"Calculations!$AD$132","v":0},156,{"$f":"Calculations!$AZ$132","v":124},{"$f":"Calculations!$BA$132","v":0},{"$f":"Calculations!$BB$132","v":89},{"$f":"Calculations!$AJ$132","v":0},213,{"$f":"Calculations!$BD$132","v":0},{"$f":"Calculations!$BE$132","v":143},{"$f":"Calculations!$BF$132","v":29},{"$f":"Calculations!$AP$132","v":0},172,541,null,{"$f":"IF(OR('15-Min All Vehicle'!X56=0,'15-Min All Vehicle'!X57=0, '15-Min All Vehicle'!X58=0,'15-Min All Vehicle'!X59=0)=TRUE,\"\",X56+X57+X58+X59)","v":2200}]
[null,null,"16:44:59.942",{"$f":"Calculations!$AR$135","v":0},{"$f":"Calculations!$AS$135","v":0},{"$f":"Calculations!$AT$135","v":0},{"$f":"Calculations!$X$135","v":0},0,{"$f":"Calculations!$AV$135","v":16},{"$f":"Calculations!$AW$135","v":157},{"$f":"Calculations!$AX$135","v":0},{"$f":"Calculations!$AD$135","v":0},173,{"$f":"Calculations!$AZ$135","v":147},{"$f":"Calculations!$BA$135","v":0},{"$f":"Calculations!$BB$135","v":117},{"$f":"Calculations!$AJ$135","v":0},264,{"$f":"Calculations!$BD$135","v":0},{"$f":"Calculations!$BE$135","v":127},{"$f":"Calculations!$BF$135","v":35},{"$f":"Calculations!$AP$135","v":0},162,599,null,{"$f":"IF(OR('15-Min All Vehicle'!X57=0,'15-Min All Vehicle'!X58=0, '15-Min All Vehicle'!X59=0,'15-Min All Vehicle'!X60=0)=TRUE,\"\",X57+X58+X59+X60)","v":2090}]
[null,null,"16:59:59.971",{"$f":"Calculations!$AR$138","v":0},{"$f":"Calculations!$AS$138","v":0},{"$f":"Calculations!$AT$138","v":0},{"$f":"Calculations!$X$138","v":0},0,{"$f":"Calculations!$AV$138","v":20},{"$f":"Calculations!$AW$138","v":138},{"$f":"Calculations!$AX$138","v":0},{"$f":"Calculations!$AD$138","v":0},158,{"$f":"Calculations!$AZ$138","v":103},{"$f":"Calculations!$BA$138","v":0},{"$f":"Calculations!$BB$138","v":94},{"$f":"Calculations!$AJ$138","v":0},197,{"$f":"Calculations!$BD$138","v":0},{"$f":"Calculations!$BE$138","v":126},{"$f":"Calculations!$BF$138","v":24},{"$f":"Calculations!$AP$138","v":0},150,505,null,{"$f":"IF(OR('15-Min All Vehicle'!X58=0,'15-Min All Vehicle'!X59=0, '15-Min All Vehicle'!X60=0,'15-Min All Vehicle'!X61=0)=TRUE,\"\",X58+X59+X60+X61)","v":1896}]
[null,null,"17:15:00",{"$f":"Calculations!$AR$141","v":0},{"$f":"Calculations!$AS$141","v":0},{"$f":"Calculations!$AT$141","v":0},{"$f":"Calculations!$X$141","v":0},0,{"$f":"Calculations!$AV$141","v":11},{"$f":"Calculations!$AW$141","v":145},{"$f":"Calculations!$AX$141","v":0},{"$f":"Calculations!$AD$141","v":0},156,{"$f":"Calculations!$AZ$141","v":132},{"$f":"Calculations!$BA$141","v":0},{"$f":"Calculations!$BB$141","v":107},{"$f":"Calculations!$AJ$141","v":0},239,{"$f":"Calculations!$BD$141","v":0},{"$f":"Calculations!$BE$141","v":142},{"$f":"Calculations!$BF$141","v":18},{"$f":"Calculations!$AP$141","v":0},160,555,null,{"$f":"IF(OR('15-Min All Vehicle'!X59=0,'15-Min All Vehicle'!X60=0, '15-Min All Vehicle'!X61=0,'15-Min All Vehicle'!X62=0)=TRUE,\"\",X59+X60+X61+X62)","v":""}]
[null,null,"17:29:59.942",{"$f":"Calculations!$AR$144","v":0},{"$f":"Calculations!$AS$144","v":0},{"$f":"Calculations!$AT$144","v":0},{"$f":"Calculations!$X$144","v":0},0,{"$f":"Calculations!$AV$144","v":19},{"$f":"Calculations!$AW$144","v":119},{"$f":"Calculations!$AX$144","v":0},{"$f":"Calculations!$AD$144","v":0},138,{"$f":"Calculations!$AZ$144","v":107},{"$f":"Calculations!$BA$144","v":0},{"$f":"Calculations!$BB$144","v":74},{"$f":"Calculations!$AJ$144","v":0},181,{"$f":"Calculations!$BD$144","v":0},{"$f":"Calculations!$BE$144","v":94},{"$f":"Calculations!$BF$144","v":18},{"$f":"Calculations!$AP$144","v":0},112,431,null,{"$f":"IF(OR('15-Min All Vehicle'!X60=0,'15-Min All Vehicle'!X61=0, '15-Min All Vehicle'!X62=0,'15-Min All Vehicle'!X63=0)=TRUE,\"\",X60+X61+X62+X63)","v":""}]
[null,null,"17:44:59.971",{"$f":"Calculations!$AR$147","v":0},{"$f":"Calculations!$AS$147","v":0},{"$f":"Calculations!$AT$147","v":0},{"$f":"Calculations!$X$147","v":0},0,{"$f":"Calculations!$AV$147","v":3},{"$f":"Calculations!$AW$147","v":114},{"$f":"Calculations!$AX$147","v":0},{"$f":"Calculations!$AD$147","v":0},117,{"$f":"Calculations!$AZ$147","v":94},{"$f":"Calculations!$BA$147","v":0},{"$f":"Calculations!$BB$147","v":89},{"$f":"Calculations!$AJ$147","v":0},183,{"$f":"Calculations!$BD$147","v":0},{"$f":"Calculations!$BE$147","v":96},{"$f":"Calculations!$BF$147","v":9},{"$f":"Calculations!$AP$147","v":0},105,405,null,{"$f":"IF(OR('15-Min All Vehicle'!X61=0,'15-Min All Vehicle'!X62=0, '15-Min All Vehicle'!X63=0,'15-Min All Vehicle'!X64=0)=TRUE,\"\",X61+X62+X63+X64)","v":""}]
[null,null,"18:00:00",{"$f":"Calculations!$AR$150","v":0},{"$f":"Calculations!$AS$150","v":0},{"$f":"Calculations!$AT$150","v":0},{"$f":"Calculations!$X$150","v":0},0,{"$f":"Calculations!$AV$150","v":0},{"$f":"Calculations!$AW$150","v":0},{"$f":"Calculations!$AX$150","v":0},{"$f":"Calculations!$AD$150","v":0},0,{"$f":"Calculations!$AZ$150","v":0},{"$f":"Calculations!$BA$150","v":0},{"$f":"Calculations!$BB$150","v":0},{"$f":"Calculations!$AJ$150","v":0},0,{"$f":"Calculations!$BD$150","v":0},{"$f":"Calculations!$BE$150","v":0},{"$f":"Calculations!$BF$150","v":0},{"$f":"Calculations!$AP$150","v":0},0,0,null,{"$f":"IF(OR('15-Min All Vehicle'!X62=0,'15-Min All Vehicle'!X63=0, '15-Min All Vehicle'!X64=0,'15-Min All Vehicle'!X65=0)=TRUE,\"\",X62+X63+X64+X65)","v":""}]
[null,null,"18:14:59.942",{"$f":"Calculations!$AR$153","v":0},{"$f":"Calculations!$AS$153","v":0},{"$f":"Calculations!$AT$153","v":0},{"$f":"Calculations!$X$153","v":0},0,{"$f":"Calculations!$AV$153","v":0},{"$f":"Calculations!$AW$153","v":0},{"$f":"Calculations!$AX$153","v":0},{"$f":"Calculations!$AD$153","v":0},0,{"$f":"Calculations!$AZ$153","v":0},{"$f":"Calculations!$BA$153","v":0},{"$f":"Calculations!$BB$153","v":0},{"$f":"Calculations!$AJ$153","v":0},0,{"$f":"Calculations!$BD$153","v":0},{"$f":"Calculations!$BE$153","v":0},{"$f":"Calculations!$BF$153","v":0},{"$f":"Calculations!$AP$153","v":0},0,0,null,{"$f":"IF(OR('15-Min All Vehicle'!X63=0,'15-Min All Vehicle'!X64=0, '15-Min All Vehicle'!X65=0,'15-Min All Vehicle'!X66=0)=TRUE,\"\",X63+X64+X65+X66)","v":""}]
[null,null,"18:29:59.971",{"$f":"Calculations!$AR$156","v":0},{"$f":"Calculations!$AS$156","v":0},{"$f":"Calculations!$AT$156","v":0},{"$f":"Calculations!$X$156","v":0},0,{"$f":"Calculations!$AV$156","v":0},{"$f":"Calculations!$AW$156","v":0},{"$f":"Calculations!$AX$156","v":0},{"$f":"Calculations!$AD$156","v":0},0,{"$f":"Calculations!$AZ$156","v":0},{"$f":"Calculations!$BA$156","v":0},{"$f":"Calculations!$BB$156","v":0},{"$f":"Calculations!$AJ$156","v":0},0,{"$f":"Calculations!$BD$156","v":0},{"$f":"Calculations!$BE$156","v":0},{"$f":"Calculations!$BF$156","v":0},{"$f":"Calculations!$AP$156","v":0},0,0,null,{"$f":"IF(OR('15-Min All Vehicle'!X64=0,'15-Min All Vehicle'!X65=0, '15-Min All Vehicle'!X66=0,'15-Min All Vehicle'!X67=0)=TRUE,\"\",X64+X65+X66+X67)","v":""}]
[null,null,"18:45:00",{"$f":"Calculations!$AR$159","v":0},{"$f":"Calculations!$AS$159","v":0},{"$f":"Calculations!$AT$159","v":0},{"$f":"Calculations!$X$159","v":0},0,{"$f":"Calculations!$AV$159","v":0},{"$f":"Calculations!$AW$159","v":0},{"$f":"Calculations!$AX$159","v":0},{"$f":"Calculations!$AD$159","v":0},0,{"$f":"Calculations!$AZ$159","v":0},{"$f":"Calculations!$BA$159","v":0},{"$f":"Calculations!$BB$159","v":0},{"$f":"Calculations!$AJ$159","v":0},0,{"$f":"Calculations!$BD$159","v":0},{"$f":"Calculations!$BE$159","v":0},{"$f":"Calculations!$BF$159","v":0},{"$f":"Calculations!$AP$159","v":0},0,0,null,{"$f":"IF(OR('15-Min All Vehicle'!X65=0,'15-Min All Vehicle'!X66=0, '15-Min All Vehicle'!X67=0,'15-Min All Vehicle'!X68=0)=TRUE,\"\",X65+X66+X67+X68)","v":""}]
[null,null,"18:59:59.942",{"$f":"Calculations!$AR$162","v":0},{"$f":"Calculations!$AS$162","v":0},{"$f":"Calculations!$AT$162","v":0},{"$f":"Calculations!$X$162","v":0},0,{"$f":"Calculations!$AV$162","v":0},{"$f":"Calculations!$AW$162","v":0},{"$f":"Calculations!$AX$162","v":0},{"$f":"Calculations!$AD$162","v":0},0,{"$f":"Calculations!$AZ$162","v":0},{"$f":"Calculations!$BA$162","v":0},{"$f":"Calculations!$BB$162","v":0},{"$f":"Calculations!$AJ$162","v":0},0,{"$f":"Calculations!$BD$162","v":0},{"$f":"Calculations!$BE$162","v":0},{"$f":"Calculations!$BF$162","v":0},{"$f":"Calculations!$AP$162","v":0},0,0,null,{"$f":"IF(OR('15-Min All Vehicle'!X66=0,'15-Min All Vehicle'!X67=0, '15-Min All Vehicle'!X68=0,'15-Min All Vehicle'!X69=0)=TRUE,\"\",X66+X67+X68+X69)","v":""}]
[null,null,"19:14:59.971",{"$f":"Calculations!$AR$165","v":0},{"$f":"Calculations!$AS$165","v":0},{"$f":"Calculations!$AT$165","v":0},{"$f":"Calculations!$X$165","v":0},0,{"$f":"Calculations!$AV$165","v":0},{"$f":"Calculations!$AW$165","v":0},{"$f":"Calculations!$AX$165","v":0},{"$f":"Calculations!$AD$165","v":0},0,{"$f":"Calculations!$AZ$165","v":0},{"$f":"Calculations!$BA$165","v":0},{"$f":"Calculations!$BB$165","v":0},{"$f":"Calculations!$AJ$165","v":0},0,{"$f":"Calculations!$BD$165","v":0},{"$f":"Calculations!$BE$165","v":0},{"$f":"Calculations!$BF$165","v":0},{"$f":"Calculations!$AP$165","v":0},0,0,null,{"$f":"IF(OR('15-Min All Vehicle'!X67=0,'15-Min All Vehicle'!X68=0, '15-Min All Vehicle'!X69=0,'15-Min All Vehicle'!X70=0)=TRUE,\"\",X67+X68+X69+X70)","v":""}]
[null,null,"19:30:00",{"$f":"Calculations!$AR$168","v":0},{"$f":"Calculations!$AS$168","v":0},{"$f":"Calculations!$AT$168","v":0},{"$f":"Calculations!$X$168","v":0},0,{"$f":"Calculations!$AV$168","v":0},{"$f":"Calculations!$AW$168","v":0},{"$f":"Calculations!$AX$168","v":0},{"$f":"Calculations!$AD$168","v":0},0,{"$f":"Calculations!$AZ$168","v":0},{"$f":"Calculations!$BA$168","v":0},{"$f":"Calculations!$BB$168","v":0},{"$f":"Calculations!$AJ$168","v":0},0,{"$f":"Calculations!$BD$168","v":0},{"$f":"Calculations!$BE$168","v":0},{"$f":"Calculations!$BF$168","v":0},{"$f":"Calculations!$AP$168","v":0},0,0,null,{"$f":"IF(OR('15-Min All Vehicle'!X68=0,'15-Min All Vehicle'!X69=0, '15-Min All Vehicle'!X70=0,'15-Min All Vehicle'!X71=0)=TRUE,\"\",X68+X69+X70+X71)","v":""}]
[null,null,"19:44:59.942",{"$f":"Calculations!$AR$171","v":0},{"$f":"Calculations!$AS$171","v":0},{"$f":"Calculations!$AT$171","v":0},{"$f":"Calculations!$X$171","v":0},0,{"$f":"Calculations!$AV$171","v":0},{"$f":"Calculations!$AW$171","v":0},{"$f":"Calculations!$AX$171","v":0},{"$f":"Calculations!$AD$171","v":0},0,{"$f":"Calculations!$AZ$171","v":0},{"$f":"Calculations!$BA$171","v":0},{"$f":"Calculations!$BB$171","v":0},{"$f":"Calculations!$AJ$171","v":0},0,{"$f":"Calculations!$BD$171","v":0},{"$f":"Calculations!$BE$171","v":0},{"$f":"Calculations!$BF$171","v":0},{"$f":"Calculations!$AP$171","v":0},0,0,null,{"$f":"IF(OR('15-Min All Vehicle'!X69=0,'15-Min All Vehicle'!X70=0, '15-Min All Vehicle'!X71=0,'15-Min All Vehicle'!X72=0)=TRUE,\"\",X69+X70+X71+X72)","v":""}]
[null,null,"19:59:59.971",{"$f":"Calculations!$AR$174","v":0},{"$f":"Calculations!$AS$174","v":0},{"$f":"Calculations!$AT$174","v":0},{"$f":"Calculations!$X$174","v":0},0,{"$f":"Calculations!$AV$174","v":0},{"$f":"Calculations!$AW$174","v":0},{"$f":"Calculations!$AX$174","v":0},{"$f":"Calculations!$AD$174","v":0},0,{"$f":"Calculations!$AZ$174","v":0},{"$f":"Calculations!$BA$174","v":0},{"$f":"Calculations!$BB$174","v":0},{"$f":"Calculations!$AJ$174","v":0},0,{"$f":"Calculations!$BD$174","v":0},{"$f":"Calculations!$BE$174","v":0},{"$f":"Calculations!$BF$174","v":0},{"$f":"Calculations!$AP$174","v":0},0,0,null,{"$f":"IF(OR('15-Min All Vehicle'!X70=0,'15-Min All Vehicle'!X71=0, '15-Min All Vehicle'!X72=0,'15-Min All Vehicle'!X73=0)=TRUE,\"\",X70+X71+X72+X73)","v":""}]
[null,null,"20:15:00",{"$f":"Calculations!$AR$177","v":0},{"$f":"Calculations!$AS$177","v":0},{"$f":"Calculations!$AT$177","v":0},{"$f":"Calculations!$X$177","v":0},0,{"$f":"Calculations!$AV$177","v":0},{"$f":"Calculations!$AW$177","v":0},{"$f":"Calculations!$AX$177","v":0},{"$f":"Calculations!$AD$177","v":0},0,{"$f":"Calculations!$AZ$177","v":0},{"$f":"Calculations!$BA$177","v":0},{"$f":"Calculations!$BB$177","v":0},{"$f":"Calculations!$AJ$177","v":0},0,{"$f":"Calculations!$BD$177","v":0},{"$f":"Calculations!$BE$177","v":0},{"$f":"Calculations!$BF$177","v":0},{"$f":"Calculations!$AP$177","v":0},0,0,null,{"$f":"IF(OR('15-Min All Vehicle'!X71=0,'15-Min All Vehicle'!X72=0, '15-Min All Vehicle'!X73=0,'15-Min All Vehicle'!X74=0)=TRUE,\"\",X71+X72+X73+X74)","v":""}]
[null,null,"20:29:59.942",{"$f":"Calculations!$AR$180","v":0},{"$f":"Calculations!$AS$180","v":0},{"$f":"Calculations!$AT$180","v":0},{"$f":"Calculations!$X$180","v":0},0,{"$f":"Calculations!$AV$180","v":0},{"$f":"Calculations!$AW$180","v":0},{"$f":"Calculations!$AX$180","v":0},{"$f":"Calculations!$AD$180","v":0},0,{"$f":"Calculations!$AZ$180","v":0},{"$f":"Calculations!$BA$180","v":0},{"$f":"Calculations!$BB$180","v":0},{"$f":"Calculations!$AJ$180","v":0},0,{"$f":"Calculations!$BD$180","v":0},{"$f":"Calculations!$BE$180","v":0},{"$f":"Calculations!$BF$180","v":0},{"$f":"Calculations!$AP$180","v":0},0,0,null,{"$f":"IF(OR('15-Min All Vehicle'!X72=0,'15-Min All Vehicle'!X73=0, '15-Min All Vehicle'!X74=0,'15-Min All Vehicle'!X75=0)=TRUE,\"\",X72+X73+X74+X75)","v":""}]
[null,null,"20:44:59.971",{"$f":"Calculations!$AR$183","v":0},{"$f":"Calculations!$AS$183","v":0},{"$f":"Calculations!$AT$183","v":0},{"$f":"Calculations!$X$183","v":0},0,{"$f":"Calculations!$AV$183","v":0},{"$f":"Calculations!$AW$183","v":0},{"$f":"Calculations!$AX$183","v":0},{"$f":"Calculations!$AD$183","v":0},0,{"$f":"Calculations!$AZ$183","v":0},{"$f":"Calculations!$BA$183","v":0},{"$f":"Calculations!$BB$183","v":0},{"$f":"Calculations!$AJ$183","v":0},0,{"$f":"Calculations!$BD$183","v":0},{"$f":"Calculations!$BE$183","v":0},{"$f":"Calculations!$BF$183","v":0},{"$f":"Calculations!$AP$183","v":0},0,0,null,{"$f":"IF(OR('15-Min All Vehicle'!X73=0,'15-Min All Vehicle'!X74=0, '15-Min All Vehicle'!X75=0,'15-Min All Vehicle'!X76=0)=TRUE,\"\",X73+X74+X75+X76)","v":""}]
[null,null,"21:00:00",{"$f":"Calculations!$AR$186","v":0},{"$f":"Calculations!$AS$186","v":0},{"$f":"Calculations!$AT$186","v":0},{"$f":"Calculations!$X$186","v":0},0,{"$f":"Calculations!$AV$186","v":0},{"$f":"Calculations!$AW$186","v":0},{"$f":"Calculations!$AX$186","v":0},{"$f":"Calculations!$AD$186","v":0},0,{"$f":"Calculations!$AZ$186","v":0},{"$f":"Calculations!$BA$186","v":0},{"$f":"Calculations!$BB$186","v":0},{"$f":"Calculations!$AJ$186","v":0},0,{"$f":"Calculations!$BD$186","v":0},{"$f":"Calculations!$BE$186","v":0},{"$f":"Calculations!$BF$186","v":0},{"$f":"Calculations!$AP$186","v":0},0,0,null,{"$f":"IF(OR('15-Min All Vehicle'!X74=0,'15-Min All Vehicle'!X75=0, '15-Min All Vehicle'!X76=0,'15-Min All Vehicle'!X77=0)=TRUE,\"\",X74+X75+X76+X77)","v":""}]
[null,null,"21:14:59.942",{"$f":"Calculations!$AR$189","v":0},{"$f":"Calculations!$AS$189","v":0},{"$f":"Calculations!$AT$189","v":0},{"$f":"Calculations!$X$189","v":0},0,{"$f":"Calculations!$AV$189","v":0},{"$f":"Calculations!$AW$189","v":0},{"$f":"Calculations!$AX$189","v":0},{"$f":"Calculations!$AD$189","v":0},0,{"$f":"Calculations!$AZ$189","v":0},{"$f":"Calculations!$BA$189","v":0},{"$f":"Calculations!$BB$189","v":0},{"$f":"Calculations!$AJ$189","v":0},0,{"$f":"Calculations!$BD$189","v":0},{"$f":"Calculations!$BE$189","v":0},{"$f":"Calculations!$BF$189","v":0},{"$f":"Calculations!$AP$189","v":0},0,0]
[null,null,"21:29:59.971",{"$f":"Calculations!$AR$192","v":0},{"$f":"Calculations!$AS$192","v":0},{"$f":"Calculations!$AT$192","v":0},{"$f":"Calculations!$X$192","v":0},0,{"$f":"Calculations!$AV$192","v":0},{"$f":"Calculations!$AW$192","v":0},{"$f":"Calculations!$AX$192","v":0},{"$f":"Calculations!$AD$192","v":0},0,{"$f":"Calculations!$AZ$192","v":0},{"$f":"Calculations!$BA$192","v":0},{"$f":"Calculations!$BB$192","v":0},{"$f":"Calculations!$AJ$192","v":0},0,{"$f":"Calculations!$BD$192","v":0},{"$f":"Calculations!$BE$192","v":0},{"$f":"Calculations!$BF$192","v":0},{"$f":"Calculations!$AP$192","v":0},0,0]
[null,null,"21:45:00",{"$f":"Calculations!$AR$195","v":0},{"$f":"Calculations!$AS$195","v":0},{"$f":"Calculations!$AT$195","v":0},{"$f":"Calculations!$X$195","v":0},0,{"$f":"Calculations!$AV$195","v":0},{"$f":"Calculations!$AW$195","v":0},{"$f":"Calculations!$AX$195","v":0},{"$f":"Calculations!$AD$195","v":0},0,{"$f":"Calculations!$AZ$195","v":0},{"$f":"Calculations!$BA$195","v":0},{"$f":"Calculations!$BB$195","v":0},{"$f":"Calculations!$AJ$195","v":0},0,{"$f":"Calculations!$BD$195","v":0},{"$f":"Calculations!$BE$195","v":0},{"$f":"Calculations!$BF$195","v":0},{"$f":"Calculations!$AP$195","v":0},0,0]
[null,"Totals",null,{"$f":"SUM(D14:D77)","v":0},0,0,0,0,613,5777,0,0,6390,2923,5,5053,0,7981,0,3415,555,0,3970,18341]
[]
[null,"Peak Hour Automobile Volume Summary"]
[null,null,null,null,null,"ê",null,null,null,null,"ç",null,null,null,null,"é",null,null,null,null,"è"]
[null,"Hourly",null,"From North",null,null,null,null,"From East",null,null,null,null,"From South",null,null,null,null,"From West",null,null,null,null,"Total"]
[null,"Time Period",null,{"$f":"'Base Information'!$D$14:$D$14","v":"441 NB ON RAMP"},null,null,null,null,{"$f":"'Base Information'!$D$15:$D$15","v":"CTH OO (Northland Ave)"},null,null,null,null,{"$f":"'Base Information'!$D$16:$D$16","v":"441 NB OFF RAMP"},null,null,null,null,{"$f":"'Base Information'!$D$17:$D$17","v":"CTH OO (Northland Ave)"},null,null,null,null,"Hourly"]
[null,"Start Time",null,"Right ","Thru ","Left ","U-Tn","Total","Right ","Thru ","Left ","U-Tn","Total","Right ","Thru ","Left ","U-Tn","Total","Right ","Thru ","Left ","U-Tn","Total","Volume"]
[null,"AM",{"$f":"'15-Min All Vehicle'!$C$85","v":"07:14:59.971"},{"$f":"VLOOKUP(VLOOKUP($C85,'Base Information'!$D$91:$G$152,1,FALSE),$C$14:$X$77,2,FALSE)+VLOOKUP(VLOOKUP($C85,'Base Information'!$D$91:$G$152,2,FALSE),$C$14:$X$77,2,FALSE)+VLOOKUP(VLOOKUP($C85,'Base Information'!$D$91:$G$152,3,FALSE),$C$14:$X$77,2,FALSE)+VLOOKUP(VLOOKUP($C85,'Base Information'!$D$91:$G$152,4,FALSE),$C$14:$X$77,2,FALSE)","v":0},{"$f":"VLOOKUP(VLOOKUP($C85,'Base Information'!$D$91:$G$152,1,FALSE),$C$14:$X$77,3,FALSE)+VLOOKUP(VLOOKUP($C85,'Base Information'!$D$91:$G$152,2,FALSE),$C$14:$X$77,3,FALSE)+VLOOKUP(VLOOKUP($C85,'Base Information'!$D$91:$G$152,3,FALSE),$C$14:$X$77,3,FALSE)+VLOOKUP(VLOOKUP($C85,'Base Information'!$D$91:$G$152,4,FALSE),$C$14:$X$77,3,FALSE)","v":0},{"$f":"VLOOKUP(VLOOKUP($C85,'Base Information'!$D$91:$G$152,1,FALSE),$C$14:$X$77,4,FALSE)+VLOOKUP(VLOOKUP($C85,'Base Information'!$D$91:$G$152,2,FALSE),$C$14:$X$77,4,FALSE)+VLOOKUP(VLOOKUP($C85,'Base Information'!$D$91:$G$152,3,FALSE),$C$14:$X$77,4,FALSE)+VLOOKUP(VLOOKUP($C85,'Base Information'!$D$91:$G$152,4,FALSE),$C$14:$X$77,4,FALSE)","v":0},{"$f":"VLOOKUP(VLOOKUP($C85,'Base Information'!$D$91:$G$152,1,FALSE),$C$14:$X$77,5,FALSE)+VLOOKUP(VLOOKUP($C85,'Base Information'!$D$91:$G$152,2,FALSE),$C$14:$X$77,5,FALSE)+VLOOKUP(VLOOKUP($C85,'Base Information'!$D$91:$G$152,3,FALSE),$C$14:$X$77,5,FALSE)+VLOOKUP(VLOOKUP($C85,'Base Information'!$D$91:$G$152,4,FALSE),$C$14:$X$77,5,FALSE)","v":0},{"$f":"SUM(D85:G85)","v":0},{"$f":"VLOOKUP(VLOOKUP($C85,'Base Information'!$D$91:$G$152,1,FALSE),$C$14:$X$77,7,FALSE)+VLOOKUP(VLOOKUP($C85,'Base Information'!$D$91:$G$152,2,FALSE),$C$14:$X$77,7,FALSE)+VLOOKUP(VLOOKUP($C85,'Base Information'!$D$91:$G$152,3,FALSE),$C$14:$X$77,7,FALSE)+VLOOKUP(VLOOKUP($C85,'Base Information'!$D$91:$G$152,4,FALSE),$C$14:$X$77,7,FALSE)","v":77},{"$f":"VLOOKUP(VLOOKUP($C85,'Base Information'!$D$91:$G$152,1,FALSE),$C$14:$X$77,8,FALSE)+VLOOKUP(VLOOKUP($C85,'Base Information'!$D$91:$G$152,2,FALSE),$C$14:$X$77,8,FALSE)+VLOOKUP(VLOOKUP($C85,'Base Information'!$D$91:$G$152,3,FALSE),$C$14:$X$77,8,FALSE)+VLOOKUP(VLOOKUP($C85,'Base Information'!$D$91:$G$152,4,FALSE),$C$14:$X$77,8,FALSE)","v":796},{"$f":"VLOOKUP(VLOOKUP($C85,'Base Information'!$D$91:$G$152,1,FALSE),$C$14:$X$77,9,FALSE)+VLOOKUP(VLOOKUP($C85,'Base Information'!$D$91:$G$152,2,FALSE),$C$14:$X$77,9,FALSE)+VLOOKUP(VLOOKUP($C85,'Base Information'!$D$91:$G$152,3,FALSE),$C$14:$X$77,9,FALSE)+VLOOKUP(VLOOKUP($C85,'Base Information'!$D$91:$G$152,4,FALSE),$C$14:$X$77,9,FALSE)","v":0},{"$f":"VLOOKUP(VLOOKUP($C85,'Base Information'!$D$91:$G$152,1,FALSE),$C$14:$X$77,10,FALSE)+VLOOKUP(VLOOKUP($C85,'Base Information'!$D$91:$G$152,2,FALSE),$C$14:$X$77,10,FALSE)+VLOOKUP(VLOOKUP($C85,'Base Information'!$D$91:$G$152,3,FALSE),$C$14:$X$77,10,FALSE)+VLOOKUP(VLOOKUP($C85,'Base Information'!$D$91:$G$152,4,FALSE),$C$14:$X$77,10,FALSE)","v":0},{"$f":"SUM(I85:L85)","v":873},{"$f":"VLOOKUP(VLOOKUP($C85,'Base Information'!$D$91:$G$152,1,FALSE),$C$14:$X$77,12,FALSE)+VLOOKUP(VLOOKUP($C85,'Base Information'!$D$91:$G$152,2,FALSE),$C$14:$X$77,12,FALSE)+VLOOKUP(VLOOKUP($C85,'Base Information'!$D$91:$G$152,3,FALSE),$C$14:$X$77,12,FALSE)+VLOOKUP(VLOOKUP($C85,'Base Information'!$D$91:$G$152,4,FALSE),$C$14:$X$77,12,FALSE)","v":233},{"$f":"VLOOKUP(VLOOKUP($C85,'Base Information'!$D$91:$G$152,1,FALSE),$C$14:$X$77,13,FALSE)+VLOOKUP(VLOOKUP($C85,'Base Information'!$D$91:$G$152,2,FALSE),$C$14:$X$77,13,FALSE)+VLOOKUP(VLOOKUP($C85,'Base Information'!$D$91:$G$152,3,FALSE),$C$14:$X$77,13,FALSE)+VLOOKUP(VLOOKUP($C85,'Base Information'!$D$91:$G$152,4,FALSE),$C$14:$X$77,13,FALSE)","v":0},{"$f":"VLOOKUP(VLOOKUP($C85,'Base Information'!$D$91:$G$152,1,FALSE),$C$14:$X$77,14,FALSE)+VLOOKUP(VLOOKUP($C85,'Base Information'!$D$91:$G$152,2,FALSE),$C$14:$X$77,14,FALSE)+VLOOKUP(VLOOKUP($C85,'Base Information'!$D$91:$G$152,3,FALSE),$C$14:$X$77,14,FALSE)+VLOOKUP(VLOOKUP($C85,'Base Information'!$D$91:$G$152,4,FALSE),$C$14:$X$77,14,FALSE)","v":839},{"$f":"VLOOKUP(VLOOKUP($C85,'Base Information'!$D$91:$G$152,1,FALSE),$C$14:$X$77,15,FALSE)+VLOOKUP(VLOOKUP($C85,'Base Information'!$D$91:$G$152,2,FALSE),$C$14:$X$77,15,FALSE)+VLOOKUP(VLOOKUP($C85,'Base Information'!$D$91:$G$152,3,FALSE),$C$14:$X$77,15,FALSE)+VLOOKUP(VLOOKUP($C85,'Base Information'!$D$91:$G$152,4,FALSE),$C$14:$X$77,15,FALSE)","v":0},{"$f":"SUM(N85:Q85)","v":1072},{"$f":"VLOOKUP(VLOOKUP($C85,'Base Information'!$D$91:$G$152,1,FALSE),$C$14:$X$77,17,FALSE)+VLOOKUP(VLOOKUP($C85,'Base Information'!$D$91:$G$152,2,FALSE),$C$14:$X$77,17,FALSE)+VLOOKUP(VLOOKUP($C85,'Base Information'!$D$91:$G$152,3,FALSE),$C$14:$X$77,17,FALSE)+VLOOKUP(VLOOKUP($C85,'Base Information'!$D$91:$G$152,4,FALSE),$C$14:$X$77,17,FALSE)","v":0},{"$f":"VLOOKUP(VLOOKUP($C85,'Base Information'!$D$91:$G$152,1,FALSE),$C$14:$X$77,18,FALSE)+VLOOKUP(VLOOKUP($C85,'Base Information'!$D$91:$G$152,2,FALSE),$C$14:$X$77,18,FALSE)+VLOOKUP(VLOOKUP($C85,'Base Information'!$D$91:$G$152,3,FALSE),$C$14:$X$77,18,FALSE)+VLOOKUP(VLOOKUP($C85,'Base Information'!$D$91:$G$152,4,FALSE),$C$14:$X$77,18,FALSE)","v":150},{"$f":"VLOOKUP(VLOOKUP($C85,'Base Information'!$D$91:$G$152,1,FALSE),$C$14:$X$77,19,FALSE)+VLOOKUP(VLOOKUP($C85,'Base Information'!$D$91:$G$152,2,FALSE),$C$14:$X$77,19,FALSE)+VLOOKUP(VLOOKUP($C85,'Base Information'!$D$91:$G$152,3,FALSE),$C$14:$X$77,19,FALSE)+VLOOKUP(VLOOKUP($C85,'Base Information'!$D$91:$G$152,4,FALSE),$C$14:$X$77,19,FALSE)","v":30},{"$f":"VLOOKUP(VLOOKUP($C85,'Base Information'!$D$91:$G$152,1,FALSE),$C$14:$X$77,20,FALSE)+VLOOKUP(VLOOKUP($C85,'Base Information'!$D$91:$G$152,2,FALSE),$C$14:$X$77,20,FALSE)+VLOOKUP(VLOOKUP($C85,'Base Information'!$D$91:$G$152,3,FALSE),$C$14:$X$77,20,FALSE)+VLOOKUP(VLOOKUP($C85,'Base Information'!$D$91:$G$152,4,FALSE),$C$14:$X$77,20,FALSE)","v":0},{"$f":"SUM(S85:V85)","v":180},{"$f":"H85+M85+R85+W85","v":2125}]
[null,"MD",{"$f":"'15-Min All Vehicle'!$C$86","v":"12:59:59.942"},{"$f":"VLOOKUP(VLOOKUP($C86,'Base Information'!$D$91:$G$152,1,FALSE),$C$14:$X$77,2,FALSE)+VLOOKUP(VLOOKUP($C86,'Base Information'!$D$91:$G$152,2,FALSE),$C$14:$X$77,2,FALSE)+VLOOKUP(VLOOKUP($C86,'Base Information'!$D$91:$G$152,3,FALSE),$C$14:$X$77,2,FALSE)+VLOOKUP(VLOOKUP($C86,'Base Information'!$D$91:$G$152,4,FALSE),$C$14:$X$77,2,FALSE)","v":0},{"$f":"VLOOKUP(VLOOKUP($C86,'Base Information'!$D$91:$G$152,1,FALSE),$C$14:$X$77,3,FALSE)+VLOOKUP(VLOOKUP($C86,'Base Information'!$D$91:$G$152,2,FALSE),$C$14:$X$77,3,FALSE)+VLOOKUP(VLOOKUP($C86,'Base Information'!$D$91:$G$152,3,FALSE),$C$14:$X$77,3,FALSE)+VLOOKUP(VLOOKUP($C86,'Base Information'!$D$91:$G$152,4,FALSE),$C$14:$X$77,3,FALSE)","v":0},{"$f":"VLOOKUP(VLOOKUP($C86,'Base Information'!$D$91:$G$152,1,FALSE),$C$14:$X$77,4,FALSE)+VLOOKUP(VLOOKUP($C86,'Base Information'!$D$91:$G$152,2,FALSE),$C$14:$X$77,4,FALSE)+VLOOKUP(VLOOKUP($C86,'Base Information'!$D$91:$G$152,3,FALSE),$C$14:$X$77,4,FALSE)+VLOOKUP(VLOOKUP($C86,'Base Information'!$D$91:$G$152,4,FALSE),$C$14:$X$77,4,FALSE)","v":0},{"$f":"VLOOKUP(VLOOKUP($C86,'Base Information'!$D$91:$G$152,1,FALSE),$C$14:$X$77,5,FALSE)+VLOOKUP(VLOOKUP($C86,'Base Information'!$D$91:$G$152,2,FALSE),$C$14:$X$77,5,FALSE)+VLOOKUP(VLOOKUP($C86,'Base Information'!$D$91:$G$152,3,FALSE),$C$14:$X$77,5,FALSE)+VLOOKUP(VLOOKUP($C86,'Base Information'!$D$91:$G$152,4,FALSE),$C$14:$X$77,5,FALSE)","v":0},{"$f":"SUM(D86:G86)","v":0},{"$f":"VLOOKUP(VLOOKUP($C86,'Base Information'!$D$91:$G$152,1,FALSE),$C$14:$X$77,7,FALSE)+VLOOKUP(VLOOKUP($C86,'Base Information'!$D$91:$G$152,2,FALSE),$C$14:$X$77,7,FALSE)+VLOOKUP(VLOOKUP($C86,'Base Information'!$D$91:$G$152,3,FALSE),$C$14:$X$77,7,FALSE)+VLOOKUP(VLOOKUP($C86,'Base Information'!$D$91:$G$152,4,FALSE),$C$14:$X$77,7,FALSE)","v":43},{"$f":"VLOOKUP(VLOOKUP($C86,'Base Information'!$D$91:$G$152,1,FALSE),$C$14:$X$77,8,FALSE)+VLOOKUP(VLOOKUP($C86,'Base Information'!$D$91:$G$152,2,FALSE),$C$14:$X$77,8,FALSE)+VLOOKUP(VLOOKUP($C86,'Base Information'!$D$91:$G$152,3,FALSE),$C$14:$X$77,8,FALSE)+VLOOKUP(VLOOKUP($C86,'Base Information'!$D$91:$G$152,4,FALSE),$C$14:$X$77,8,FALSE)","v":412},{"$f":"VLOOKUP(VLOOKUP($C86,'Base Information'!$D$91:$G$152,1,FALSE),$C$14:$X$77,9,FALSE)+VLOOKUP(VLOOKUP($C86,'Base Information'!$D$91:$G$152,2,FALSE),$C$14:$X$77,9,FALSE)+VLOOKUP(VLOOKUP($C86,'Base Information'!$D$91:$G$152,3,FALSE),$C$14:$X$77,9,FALSE)+VLOOKUP(VLOOKUP($C86,'Base Information'!$D$91:$G$152,4,FALSE),$C$14:$X$77,9,FALSE)","v":0},{"$f":"VLOOKUP(VLOOKUP($C86,'Base Information'!$D$91:$G$152,1,FALSE),$C$14:$X$77,10,FALSE)+VLOOKUP(VLOOKUP($C86,'Base Information'!$D$91:$G$152,2,FALSE),$C$14:$X$77,10,FALSE)+VLOOKUP(VLOOKUP($C86,'Base Information'!$D$91:$G$152,3,FALSE),$C$14:$X$77,10,FALSE)+VLOOKUP(VLOOKUP($C86,'Base Information'!$D$91:$G$152,4,FALSE),$C$14:$X$77,10,FALSE)","v":0},{"$f":"SUM(I86:L86)","v":455},{"$f":"VLOOKUP(VLOOKUP($C86,'Base Information'!$D$91:$G$152,1,FALSE),$C$14:$X$77,12,FALSE)+VLOOKUP(VLOOKUP($C86,'Base Information'!$D$91:$G$152,2,FALSE),$C$14:$X$77,12,FALSE)+VLOOKUP(VLOOKUP($C86,'Base Information'!$D$91:$G$152,3,FALSE),$C$14:$X$77,12,FALSE)+VLOOKUP(VLOOKUP($C86,'Base Information'!$D$91:$G$152,4,FALSE),$C$14:$X$77,12,FALSE)","v":197},{"$f":"VLOOKUP(VLOOKUP($C86,'Base Information'!$D$91:$G$152,1,FALSE),$C$14:$X$77,13,FALSE)+VLOOKUP(VLOOKUP($C86,'Base Information'!$D$91:$G$152,2,FALSE),$C$14:$X$77,13,FALSE)+VLOOKUP(VLOOKUP($C86,'Base Information'!$D$91:$G$152,3,FALSE),$C$14:$X$77,13,FALSE)+VLOOKUP(VLOOKUP($C86,'Base Information'!$D$91:$G$152,4,FALSE),$C$14:$X$77,13,FALSE)","v":0},{"$f":"VLOOKUP(VLOOKUP($C86,'Base Information'!$D$91:$G$152,1,FALSE),$C$14:$X$77,14,FALSE)+VLOOKUP(VLOOKUP($C86,'Base Information'!$D$91:$G$152,2,FALSE),$C$14:$X$77,14,FALSE)+VLOOKUP(VLOOKUP($C86,'Base Information'!$D$91:$G$152,3,FALSE),$C$14:$X$77,14,FALSE)+VLOOKUP(VLOOKUP($C86,'Base Information'!$D$91:$G$152,4,FALSE),$C$14:$X$77,14,FALSE)","v":395},{"$f":"VLOOKUP(VLOOKUP($C86,'Base Information'!$D$91:$G$152,1,FALSE),$C$14:$X$77,15,FALSE)+VLOOKUP(VLOOKUP($C86,'Base Information'!$D$91:$G$152,2,FALSE),$C$14:$X$77,15,FALSE)+VLOOKUP(VLOOKUP($C86,'Base Information'!$D$91:$G$152,3,FALSE),$C$14:$X$77,15,FALSE)+VLOOKUP(VLOOKUP($C86,'Base Information'!$D$91:$G$152,4,FALSE),$C$14:$X$77,15,FALSE)","v":0},{"$f":"SUM(N86:Q86)","v":592},{"$f":"VLOOKUP(VLOOKUP($C86,'Base Information'!$D$91:$G$152,1,FALSE),$C$14:$X$77,17,FALSE)+VLOOKUP(VLOOKUP($C86,'Base Information'!$D$91:$G$152,2,FALSE),$C$14:$X$77,17,FALSE)+VLOOKUP(VLOOKUP($C86,'Base Information'!$D$91:$G$152,3,FALSE),$C$14:$X$77,17,FALSE)+VLOOKUP(VLOOKUP($C86,'Base Information'!$D$91:$G$152,4,FALSE),$C$14:$X$77,17,FALSE)","v":0},{"$f":"VLOOKUP(VLOOKUP($C86,'Base Information'!$D$91:$G$152,1,FALSE),$C$14:$X$77,18,FALSE)+VLOOKUP(VLOOKUP($C86,'Base Information'!$D$91:$G$152,2,FALSE),$C$14:$X$77,18,FALSE)+VLOOKUP(VLOOKUP($C86,'Base Information'!$D$91:$G$152,3,FALSE),$C$14:$X$77,18,FALSE)+VLOOKUP(VLOOKUP($C86,'Base Information'!$D$91:$G$152,4,FALSE),$C$14:$X$77,18,FALSE)","v":300},{"$f":"VLOOKUP(VLOOKUP($C86,'Base Information'!$D$91:$G$152,1,FALSE),$C$14:$X$77,19,FALSE)+VLOOKUP(VLOOKUP($C86,'Base Information'!$D$91:$G$152,2,FALSE),$C$14:$X$77,19,FALSE)+VLOOKUP(VLOOKUP($C86,'Base Information'!$D$91:$G$152,3,FALSE),$C$14:$X$77,19,FALSE)+VLOOKUP(VLOOKUP($C86,'Base Information'!$D$91:$G$152,4,FALSE),$C$14:$X$77,19,FALSE)","v":28},{"$f":"VLOOKUP(VLOOKUP($C86,'Base Information'!$D$91:$G$152,1,FALSE),$C$14:$X$77,20,FALSE)+VLOOKUP(VLOOKUP($C86,'Base Information'!$D$91:$G$152,2,FALSE),$C$14:$X$77,20,FALSE)+VLOOKUP(VLOOKUP($C86,'Base Information'!$D$91:$G$152,3,FALSE),$C$14:$X$77,20,FALSE)+VLOOKUP(VLOOKUP($C86,'Base Information'!$D$91:$G$152,4,FALSE),$C$14:$X$77,20,FALSE)","v":0},{"$f":"SUM(S86:V86)","v":328},{"$f":"H86+M86+R86+W86","v":1375}]
[null,"PM",{"$f":"'15-Min All Vehicle'!$C$87","v":"16:30:00"},{"$f":"VLOOKUP(VLOOKUP($C87,'Base Information'!$D$91:$G$152,1,FALSE),$C$14:$X$77,2,FALSE)+VLOOKUP(VLOOKUP($C87,'Base Information'!$D$91:$G$152,2,FALSE),$C$14:$X$77,2,FALSE)+VLOOKUP(VLOOKUP($C87,'Base Information'!$D$91:$G$152,3,FALSE),$C$14:$X$77,2,FALSE)+VLOOKUP(VLOOKUP($C87,'Base Information'!$D$91:$G$152,4,FALSE),$C$14:$X$77,2,FALSE)","v":0},{"$f":"VLOOKUP(VLOOKUP($C87,'Base Information'!$D$91:$G$152,1,FALSE),$C$14:$X$77,3,FALSE)+VLOOKUP(VLOOKUP($C87,'Base Information'!$D$91:$G$152,2,FALSE),$C$14:$X$77,3,FALSE)+VLOOKUP(VLOOKUP($C87,'Base Information'!$D$91:$G$152,3,FALSE),$C$14:$X$77,3,FALSE)+VLOOKUP(VLOOKUP($C87,'Base Information'!$D$91:$G$152,4,FALSE),$C$14:$X$77,3,FALSE)","v":0},{"$f":"VLOOKUP(VLOOKUP($C87,'Base Information'!$D$91:$G$152,1,FALSE),$C$14:$X$77,4,FALSE)+VLOOKUP(VLOOKUP($C87,'Base Information'!$D$91:$G$152,2,FALSE),$C$14:$X$77,4,FALSE)+VLOOKUP(VLOOKUP($C87,'Base Information'!$D$91:$G$152,3,FALSE),$C$14:$X$77,4,FALSE)+VLOOKUP(VLOOKUP($C87,'Base Information'!$D$91:$G$152,4,FALSE),$C$14:$X$77,4,FALSE)","v":0},{"$f":"VLOOKUP(VLOOKUP($C87,'Base Information'!$D$91:$G$152,1,FALSE),$C$14:$X$77,5,FALSE)+VLOOKUP(VLOOKUP($C87,'Base Information'!$D$91:$G$152,2,FALSE),$C$14:$X$77,5,FALSE)+VLOOKUP(VLOOKUP($C87,'Base Information'!$D$91:$G$152,3,FALSE),$C$14:$X$77,5,FALSE)+VLOOKUP(VLOOKUP($C87,'Base Information'!$D$91:$G$152,4,FALSE),$C$14:$X$77,5,FALSE)","v":0},{"$f":"SUM(D87:G87)","v":0},{"$f":"VLOOKUP(VLOOKUP($C87,'Base Information'!$D$91:$G$152,1,FALSE),$C$14:$X$77,7,FALSE)+VLOOKUP(VLOOKUP($C87,'Base Information'!$D$91:$G$152,2,FALSE),$C$14:$X$77,7,FALSE)+VLOOKUP(VLOOKUP($C87,'Base Information'!$D$91:$G$152,3,FALSE),$C$14:$X$77,7,FALSE)+VLOOKUP(VLOOKUP($C87,'Base Information'!$D$91:$G$152,4,FALSE),$C$14:$X$77,7,FALSE)","v":61},{"$f":"VLOOKUP(VLOOKUP($C87,'Base Information'!$D$91:$G$152,1,FALSE),$C$14:$X$77,8,FALSE)+VLOOKUP(VLOOKUP($C87,'Base Information'!$D$91:$G$152,2,FALSE),$C$14:$X$77,8,FALSE)+VLOOKUP(VLOOKUP($C87,'Base Information'!$D$91:$G$152,3,FALSE),$C$14:$X$77,8,FALSE)+VLOOKUP(VLOOKUP($C87,'Base Information'!$D$91:$G$152,4,FALSE),$C$14:$X$77,8,FALSE)","v":582},{"$f":"VLOOKUP(VLOOKUP($C87,'Base Information'!$D$91:$G$152,1,FALSE),$C$14:$X$77,9,FALSE)+VLOOKUP(VLOOKUP($C87,'Base Information'!$D$91:$G$152,2,FALSE),$C$14:$X$77,9,FALSE)+VLOOKUP(VLOOKUP($C87,'Base Information'!$D$91:$G$152,3,FALSE),$C$14:$X$77,9,FALSE)+VLOOKUP(VLOOKUP($C87,'Base Information'!$D$91:$G$152,4,FALSE),$C$14:$X$77,9,FALSE)","v":0},{"$f":"VLOOKUP(VLOOKUP($C87,'Base Information'!$D$91:$G$152,1,FALSE),$C$14:$X$77,10,FALSE)+VLOOKUP(VLOOKUP($C87,'Base Information'!$D$91:$G$152,2,FALSE),$C$14:$X$77,10,FALSE)+VLOOKUP(VLOOKUP($C87,'Base Information'!$D$91:$G$152,3,FALSE),$C$14:$X$77,10,FALSE)+VLOOKUP(VLOOKUP($C87,'Base Information'!$D$91:$G$152,4,FALSE),$C$14:$X$77,10,FALSE)","v":0},{"$f":"SUM(I87:L87)","v":643},{"$f":"VLOOKUP(VLOOKUP($C87,'Base Information'!$D$91:$G$152,1,FALSE),$C$14:$X$77,12,FALSE)+VLOOKUP(VLOOKUP($C87,'Base Information'!$D$91:$G$152,2,FALSE),$C$14:$X$77,12,FALSE)+VLOOKUP(VLOOKUP($C87,'Base Information'!$D$91:$G$152,3,FALSE),$C$14:$X$77,12,FALSE)+VLOOKUP(VLOOKUP($C87,'Base Information'!$D$91:$G$152,4,FALSE),$C$14:$X$77,12,FALSE)","v":506},{"$f":"VLOOKUP(VLOOKUP($C87,'Base Information'!$D$91:$G$152,1,FALSE),$C$14:$X$77,13,FALSE)+VLOOKUP(VLOOKUP($C87,'Base Information'!$D$91:$G$152,2,FALSE),$C$14:$X$77,13,FALSE)+VLOOKUP(VLOOKUP($C87,'Base Information'!$D$91:$G$152,3,FALSE),$C$14:$X$77,13,FALSE)+VLOOKUP(VLOOKUP($C87,'Base Information'!$D$91:$G$152,4,FALSE),$C$14:$X$77,13,FALSE)","v":0},{"$f":"VLOOKUP(VLOOKUP($C87,'Base Information'!$D$91:$G$152,1,FALSE),$C$14:$X$77,14,FALSE)+VLOOKUP(VLOOKUP($C87,'Base Information'!$D$91:$G$152,2,FALSE),$C$14:$X$77,14,FALSE)+VLOOKUP(VLOOKUP($C87,'Base Information'!$D$91:$G$152,3,FALSE),$C$14:$X$77,14,FALSE)+VLOOKUP(VLOOKUP($C87,'Base Information'!$D$91:$G$152,4,FALSE),$C$14:$X$77,14,FALSE)","v":407},{"$f":"VLOOKUP(VLOOKUP($C87,'Base Information'!$D$91:$G$152,1,FALSE),$C$14:$X$77,15,FALSE)+VLOOKUP(VLOOKUP($C87,'Base Information'!$D$91:$G$152,2,FALSE),$C$14:$X$77,15,FALSE)+VLOOKUP(VLOOKUP($C87,'Base Information'!$D$91:$G$152,3,FALSE),$C$14:$X$77,15,FALSE)+VLOOKUP(VLOOKUP($C87,'Base Information'!$D$91:$G$152,4,FALSE),$C$14:$X$77,15,FALSE)","v":0},{"$f":"SUM(N87:Q87)","v":913},{"$f":"VLOOKUP(VLOOKUP($C87,'Base Information'!$D$91:$G$152,1,FALSE),$C$14:$X$77,17,FALSE)+VLOOKUP(VLOOKUP($C87,'Base Information'!$D$91:$G$152,2,FALSE),$C$14:$X$77,17,FALSE)+VLOOKUP(VLOOKUP($C87,'Base Information'!$D$91:$G$152,3,FALSE),$C$14:$X$77,17,FALSE)+VLOOKUP(VLOOKUP($C87,'Base Information'!$D$91:$G$152,4,FALSE),$C$14:$X$77,17,FALSE)","v":0},{"$f":"VLOOKUP(VLOOKUP($C87,'Base Information'!$D$91:$G$152,1,FALSE),$C$14:$X$77,18,FALSE)+VLOOKUP(VLOOKUP($C87,'Base Information'!$D$91:$G$152,2,FALSE),$C$14:$X$77,18,FALSE)+VLOOKUP(VLOOKUP($C87,'Base Information'!$D$91:$G$152,3,FALSE),$C$14:$X$77,18,FALSE)+VLOOKUP(VLOOKUP($C87,'Base Information'!$D$91:$G$152,4,FALSE),$C$14:$X$77,18,FALSE)","v":538},{"$f":"VLOOKUP(VLOOKUP($C87,'Base Information'!$D$91:$G$152,1,FALSE),$C$14:$X$77,19,FALSE)+VLOOKUP(VLOOKUP($C87,'Base Information'!$D$91:$G$152,2,FALSE),$C$14:$X$77,19,FALSE)+VLOOKUP(VLOOKUP($C87,'Base Information'!$D$91:$G$152,3,FALSE),$C$14:$X$77,19,FALSE)+VLOOKUP(VLOOKUP($C87,'Base Information'!$D$91:$G$152,4,FALSE),$C$14:$X$77,19,FALSE)","v":106},{"$f":"VLOOKUP(VLOOKUP($C87,'Base Information'!$D$91:$G$152,1,FALSE),$C$14:$X$77,20,FALSE)+VLOOKUP(VLOOKUP($C87,'Base Information'!$D$91:$G$152,2,FALSE),$C$14:$X$77,20,FALSE)+VLOOKUP(VLOOKUP($C87,'Base Information'!$D$91:$G$152,3,FALSE),$C$14:$X$77,20,FALSE)+VLOOKUP(VLOOKUP($C87,'Base Information'!$D$91:$G$152,4,FALSE),$C$14:$X$77,20,FALSE)","v":0},{"$f":"SUM(S87:V87)","v":644},{"$f":"H87+M87+R87+W87","v":2200}]

{"sheet":"15-Min SU-Truck","index":7,"n_rows":87,"n_cols":26,"rows_kept":87,"cut":false,"hidden":false,"merged":[[2,16,2,19],[3,14,3,19],[0,1,3,12],[2,20,2,22],[2,23,2,25],[3,20,3,22],[3,23,3,25],[2,14,2,15],[5,16,5,23],[6,16,7,23],[9,13,9,14],[9,16,9,17],[9,18,9,19],[9,21,9,22],[77,1,77,2],[13,1,28,1],[29,1,44,1],[10,3,10,7],[10,8,10,12],[9,3,9,4],[9,6,9,7],[9,8,9,9],[9,11,9,12],[45,1,76,1],[81,3,81,7],[81,8,81,12],[81,13,81,17],[81,18,81,22],[10,13,10,17],[10,18,10,22],[80,3,80,4],[80,6,80,7],[80,8,80,9],[80,11,80,12],[80,13,80,14],[80,16,80,17],[80,18,80,19],[80,21,80,22]]}
[null,"Intersection Traffic Volume Report"]
[null,null,null,null,null,null,null,null,null,null,null,null,null,null,"Count Basics",null,null,null,null,null,null,null,null,null,null,"Page 7 of 11"]
[null,null,null,null,null,null,null,null,null,null,null,null,null,null,{"$f":"'Base Information'!$L$3","v":"Start Date:"},null,{"$f":"'Base Information'!$N$3","v":"2011-12-06"},null,null,null,{"$f":"'Base Information'!R3","v":"Weekday"},null,null,{"$f":"'Base Information'!U3","v":"Schools in Session"}]
[null,null,null,null,null,null,null,null,null,null,null,null,null,null,{"$f":"'Base Information'!$L$4","v":"Total Number of Hours Counted: 12"},null,null,null,null,null,{"$f":"'Base Information'!R4","v":"Non-Holiday"},null,null,{"$f":"'Base Information'!U4","v":"No Special Events"}]
[null,"15-Minute Single Unit (SU) Truck & Bus Data"]
[null,null,null,null,null,null,null,null,null,null,null,null,null,null,null,null,"Single Unit (SU) Trucks & Buses"]
[null,{"$f":"'Base Information'!E7","v":"441 NB ON RAMP and CTH OO (Northland Ave)"}]
[]
[null,"15-Minute Single Unit (SU) Truck & Bus Data"]
[null,null,null,null,null,"ê",null,null,null,null,"ç",null,null,null,null,"é",null,null,null,null,"è"]
[null,"15-Minute",null,"From North",null,null,null,null,"From East",null,null,null,null,"From South",null,null,null,null,"From West"]
[null,"Time Period",null,{"$f":"'Base Information'!$D$14:$D$14","v":"441 NB ON RAMP"},null,null,null,null,{"$f":"'Base Information'!$D$15:$D$15","v":"CTH OO (Northland Ave)"},null,null,null,null,{"$f":"'Base Information'!$D$16:$D$16","v":"441 NB OFF RAMP"},null,null,null,null,{"$f":"'Base Information'!$D$17:$D$17","v":"CTH OO (Northland Ave)"},null,null,null,null,"15-Min",null,"Hourly"]
[null,"Start Time",null,"Right ","Thru ","Left ","U-Tn","Total","Right ","Thru ","Left ","U-Tn","Total","Right ","Thru ","Left ","U-Tn","Total","Right ","Thru ","Left ","U-Tn","Total","Totals",null,"Sum"]
[null,"AM Peak Period","06:00:00",{"$f":"Calculations!$BI$6","v":0},{"$f":"Calculations!$BJ$6","v":0},{"$f":"Calculations!$BK$6","v":0},0,{"$f":"D14+E14+F14+G14","v":0},{"$f":"Calculations!$BM$6","v":0},{"$f":"Calculations!$BN$6","v":0},{"$f":"Calculations!$BO$6","v":0},0,{"$f":"I14+J14+K14+L14","v":0},{"$f":"Calculations!$BQ$6","v":0},{"$f":"Calculations!$BR$6","v":0},{"$f":"Calculations!$BS$6","v":0},0,{"$f":"N14+O14+P14+Q14","v":0},{"$f":"Calculations!$BU$6","v":0},{"$f":"Calculations!$BV$6","v":0},{"$f":"Calculations!$BW$6","v":0},0,{"$f":"S14+T14+U14+V14","v":0},{"$f":"H14+M14+R14+W14","v":0},null,{"$f":"IF(OR('15-Min All Vehicle'!X14=0,'15-Min All Vehicle'!X15=0, '15-Min All Vehicle'!X16=0,'15-Min All Vehicle'!X17=0)=TRUE,\"\",X14+X15+X16+X17)","v":17}]
[null,null,"06:14:59.942",{"$f":"Calculations!$BI$9","v":0},{"$f":"Calculations!$BJ$9","v":0},{"$f":"Calculations!$BK$9","v":0},0,0,{"$f":"Calculations!$BM$9","v":0},{"$f":"Calculations!$BN$9","v":0},{"$f":"Calculations!$BO$9","v":0},0,0,{"$f":"Calculations!$BQ$9","v":1},{"$f":"Calculations!$BR$9","v":0},{"$f":"Calculations!$BS$9","v":0},0,1,{"$f":"Calculations!$BU$9","v":0},{"$f":"Calculations!$BV$9","v":2},{"$f":"Calculations!$BW$9","v":1},0,3,4,null,{"$f":"IF(OR('15-Min All Vehicle'!X15=0,'15-Min All Vehicle'!X16=0, '15-Min All Vehicle'!X17=0,'15-Min All Vehicle'!X18=0)=TRUE,\"\",X15+X16+X17+X18)","v":23}]
[null,null,"06:29:59.971",{"$f":"Calculations!$BI$12","v":0},{"$f":"Calculations!$BJ$12","v":0},{"$f":"Calculations!$BK$12","v":0},0,0,{"$f":"Calculations!$BM$12","v":1},{"$f":"Calculations!$BN$12","v":0},{"$f":"Calculations!$BO$12","v":0},0,1,{"$f":"Calculations!$BQ$12","v":0},{"$f":"Calculations!$BR$12","v":0},{"$f":"Calculations!$BS$12","v":1},0,1,{"$f":"Calculations!$BU$12","v":0},{"$f":"Calculations!$BV$12","v":1},{"$f":"Calculations!$BW$12","v":0},0,1,3,null,{"$f":"IF(OR('15-Min All Vehicle'!X16=0,'15-Min All Vehicle'!X17=0, '15-Min All Vehicle'!X18=0,'15-Min All Vehicle'!X19=0)=TRUE,\"\",X16+X17+X18+X19)","v":34}]
[null,null,"06:45:00",{"$f":"Calculations!$BI$15","v":0},{"$f":"Calculations!$BJ$15","v":0},{"$f":"Calculations!$BK$15","v":0},0,0,{"$f":"Calculations!$BM$15","v":0},{"$f":"Calculations!$BN$15","v":2},{"$f":"Calculations!$BO$15","v":0},0,2,{"$f":"Calculations!$BQ$15","v":1},{"$f":"Calculations!$BR$15","v":0},{"$f":"Calculations!$BS$15","v":3},0,4,{"$f":"Calculations!$BU$15","v":0},{"$f":"Calculations!$BV$15","v":4},{"$f":"Calculations!$BW$15","v":0},0,4,10,null,{"$f":"IF(OR('15-Min All Vehicle'!X17=0,'15-Min All Vehicle'!X18=0, '15-Min All Vehicle'!X19=0,'15-Min All Vehicle'!X20=0)=TRUE,\"\",X17+X18+X19+X20)","v":42}]
[null,null,"06:59:59.942",{"$f":"Calculations!$BI$18","v":0},{"$f":"Calculations!$BJ$18","v":0},{"$f":"Calculations!$BK$18","v":0},0,0,{"$f":"Calculations!$BM$18","v":0},{"$f":"Calculations!$BN$18","v":1},{"$f":"Calculations!$BO$18","v":0},0,1,{"$f":"Calculations!$BQ$18","v":1},{"$f":"Calculations!$BR$18","v":0},{"$f":"Calculations!$BS$18","v":2},0,3,{"$f":"Calculations!$BU$18","v":0},{"$f":"Calculations!$BV$18","v":2},{"$f":"Calculations!$BW$18","v":0},0,2,6,null,{"$f":"IF(OR('15-Min All Vehicle'!X18=0,'15-Min All Vehicle'!X19=0, '15-Min All Vehicle'!X20=0,'15-Min All Vehicle'!X21=0)=TRUE,\"\",X18+X19+X20+X21)","v":57}]
[null,null,"07:14:59.971",{"$f":"Calculations!$BI$21","v":0},{"$f":"Calculations!$BJ$21","v":0},{"$f":"Calculations!$BK$21","v":0},0,0,{"$f":"Calculations!$BM$21","v":3},{"$f":"Calculations!$BN$21","v":5},{"$f":"Calculations!$BO$21","v":0},0,8,{"$f":"Calculations!$BQ$21","v":1},{"$f":"Calculations!$BR$21","v":0},{"$f":"Calculations!$BS$21","v":3},0,4,{"$f":"Calculations!$BU$21","v":0},{"$f":"Calculations!$BV$21","v":3},{"$f":"Calculations!$BW$21","v":0},0,3,15,null,{"$f":"IF(OR('15-Min All Vehicle'!X19=0,'15-Min All Vehicle'!X20=0, '15-Min All Vehicle'!X21=0,'15-Min All Vehicle'!X22=0)=TRUE,\"\",X19+X20+X21+X22)","v":68}]
[null,null,"07:30:00",{"$f":"Calculations!$BI$24","v":0},{"$f":"Calculations!$BJ$24","v":0},{"$f":"Calculations!$BK$24","v":0},0,0,{"$f":"Calculations!$BM$24","v":3},{"$f":"Calculations!$BN$24","v":1},{"$f":"Calculations!$BO$24","v":0},0,4,{"$f":"Calculations!$BQ$24","v":2},{"$f":"Calculations!$BR$24","v":0},{"$f":"Calculations!$BS$24","v":3},0,5,{"$f":"Calculations!$BU$24","v":0},{"$f":"Calculations!$BV$24","v":2},{"$f":"Calculations!$BW$24","v":0},0,2,11,null,{"$f":"IF(OR('15-Min All Vehicle'!X20=0,'15-Min All Vehicle'!X21=0, '15-Min All Vehicle'!X22=0,'15-Min All Vehicle'!X23=0)=TRUE,\"\",X20+X21+X22+X23)","v":67}]
[null,null,"07:44:59.942",{"$f":"Calculations!$BI$27","v":0},{"$f":"Calculations!$BJ$27","v":0},{"$f":"Calculations!$BK$27","v":0},0,0,{"$f":"Calculations!$BM$27","v":1},{"$f":"Calculations!$BN$27","v":8},{"$f":"Calculations!$BO$27","v":0},0,9,{"$f":"Calculations!$BQ$27","v":1},{"$f":"Calculations!$BR$27","v":0},{"$f":"Calculations!$BS$27","v":4},0,5,{"$f":"Calculations!$BU$27","v":0},{"$f":"Calculations!$BV$27","v":11},{"$f":"Calculations!$BW$27","v":0},0,11,25,null,{"$f":"IF(OR('15-Min All Vehicle'!X21=0,'15-Min All Vehicle'!X22=0, '15-Min All Vehicle'!X23=0,'15-Min All Vehicle'!X24=0)=TRUE,\"\",X21+X22+X23+X24)","v":79}]
[null,null,"07:59:59.971",{"$f":"Calculations!$BI$30","v":0},{"$f":"Calculations!$BJ$30","v":0},{"$f":"Calculations!$BK$30","v":0},0,0,{"$f":"Calculations!$BM$30","v":0},{"$f":"Calculations!$BN$30","v":7},{"$f":"Calculations!$BO$30","v":0},0,7,{"$f":"Calculations!$BQ$30","v":2},{"$f":"Calculations!$BR$30","v":0},{"$f":"Calculations!$BS$30","v":1},0,3,{"$f":"Calculations!$BU$30","v":0},{"$f":"Calculations!$BV$30","v":5},{"$f":"Calculations!$BW$30","v":2},0,7,17,null,{"$f":"IF(OR('15-Min All Vehicle'!X22=0,'15-Min All Vehicle'!X23=0, '15-Min All Vehicle'!X24=0,'15-Min All Vehicle'!X25=0)=TRUE,\"\",X22+X23+X24+X25)","v":65}]
[null,null,"08:15:00",{"$f":"Calculations!$BI$33","v":0},{"$f":"Calculations!$BJ$33","v":0},{"$f":"Calculations!$BK$33","v":0},0,0,{"$f":"Calculations!$BM$33","v":2},{"$f":"Calculations!$BN$33","v":3},{"$f":"Calculations!$BO$33","v":0},0,5,{"$f":"Calculations!$BQ$33","v":2},{"$f":"Calculations!$BR$33","v":0},{"$f":"Calculations!$BS$33","v":3},0,5,{"$f":"Calculations!$BU$33","v":0},{"$f":"Calculations!$BV$33","v":4},{"$f":"Calculations!$BW$33","v":0},0,4,14,null,{"$f":"IF(OR('15-Min All Vehicle'!X23=0,'15-Min All Vehicle'!X24=0, '15-Min All Vehicle'!X25=0,'15-Min All Vehicle'!X26=0)=TRUE,\"\",X23+X24+X25+X26)","v":48}]
[null,null,"08:29:59.942",{"$f":"Calculations!$BI$36","v":0},{"$f":"Calculations!$BJ$36","v":0},{"$f":"Calculations!$BK$36","v":0},0,0,{"$f":"Calculations!$BM$36","v":3},{"$f":"Calculations!$BN$36","v":7},{"$f":"Calculations!$BO$36","v":0},0,10,{"$f":"Calculations!$BQ$36","v":2},{"$f":"Calculations!$BR$36","v":0},{"$f":"Calculations!$BS$36","v":3},0,5,{"$f":"Calculations!$BU$36","v":0},{"$f":"Calculations!$BV$36","v":6},{"$f":"Calculations!$BW$36","v":2},0,8,23,null,{"$f":"IF(OR('15-Min All Vehicle'!X24=0,'15-Min All Vehicle'!X25=0, '15-Min All Vehicle'!X26=0,'15-Min All Vehicle'!X27=0)=TRUE,\"\",X24+X25+X26+X27)","v":47}]
[null,null,"08:44:59.971",{"$f":"Calculations!$BI$39","v":0},{"$f":"Calculations!$BJ$39","v":0},{"$f":"Calculations!$BK$39","v":0},0,0,{"$f":"Calculations!$BM$39","v":1},{"$f":"Calculations!$BN$39","v":2},{"$f":"Calculations!$BO$39","v":0},0,3,{"$f":"Calculations!$BQ$39","v":0},{"$f":"Calculations!$BR$39","v":0},{"$f":"Calculations!$BS$39","v":2},0,2,{"$f":"Calculations!$BU$39","v":0},{"$f":"Calculations!$BV$39","v":5},{"$f":"Calculations!$BW$39","v":1},0,6,11,null,{"$f":"IF(OR('15-Min All Vehicle'!X25=0,'15-Min All Vehicle'!X26=0, '15-Min All Vehicle'!X27=0,'15-Min All Vehicle'!X28=0)=TRUE,\"\",X25+X26+X27+X28)","v":38}]
[null,null,"09:00:00",{"$f":"Calculations!$BI$42","v":0},{"$f":"Calculations!$BJ$42","v":0},{"$f":"Calculations!$BK$42","v":0},0,0,{"$f":"Calculations!$BM$42","v":0},{"$f":"Calculations!$BN$42","v":0},{"$f":"Calculations!$BO$42","v":0},0,0,{"$f":"Calculations!$BQ$42","v":0},{"$f":"Calculations!$BR$42","v":0},{"$f":"Calculations!$BS$42","v":0},0,0,{"$f":"Calculations!$BU$42","v":0},{"$f":"Calculations!$BV$42","v":0},{"$f":"Calculations!$BW$42","v":0},0,0,0,null,{"$f":"IF(OR('15-Min All Vehicle'!X26=0,'15-Min All Vehicle'!X27=0, '15-Min All Vehicle'!X28=0,'15-Min All Vehicle'!X29=0)=TRUE,\"\",X26+X27+X28+X29)","v":41}]
[null,null,"09:14:59.942",{"$f":"Calculations!$BI$45","v":0},{"$f":"Calculations!$BJ$45","v":0},{"$f":"Calculations!$BK$45","v":0},0,0,{"$f":"Calculations!$BM$45","v":2},{"$f":"Calculations!$BN$45","v":2},{"$f":"Calculations!$BO$45","v":0},0,4,{"$f":"Calculations!$BQ$45","v":1},{"$f":"Calculations!$BR$45","v":0},{"$f":"Calculations!$BS$45","v":5},0,6,{"$f":"Calculations!$BU$45","v":0},{"$f":"Calculations!$BV$45","v":3},{"$f":"Calculations!$BW$45","v":0},0,3,13,null,{"$f":"IF(OR('15-Min All Vehicle'!X27=0,'15-Min All Vehicle'!X28=0, '15-Min All Vehicle'!X29=0,'15-Min All Vehicle'!X30=0)=TRUE,\"\",X27+X28+X29+X30)","v":50}]
[null,null,"09:29:59.971",{"$f":"Calculations!$BI$48","v":0},{"$f":"Calculations!$BJ$48","v":0},{"$f":"Calculations!$BK$48","v":0},0,0,{"$f":"Calculations!$BM$48","v":1},{"$f":"Calculations!$BN$48","v":3},{"$f":"Calculations!$BO$48","v":0},0,4,{"$f":"Calculations!$BQ$48","v":2},{"$f":"Calculations!$BR$48","v":0},{"$f":"Calculations!$BS$48","v":2},0,4,{"$f":"Calculations!$BU$48","v":0},{"$f":"Calculations!$BV$48","v":6},{"$f":"Calculations!$BW$48","v":0},0,6,14,null,{"$f":"IF(OR('15-Min All Vehicle'!X28=0,'15-Min All Vehicle'!X29=0, '15-Min All Vehicle'!X30=0,'15-Min All Vehicle'!X31=0)=TRUE,\"\",X28+X29+X30+X31)","v":55}]
[null,null,"09:45:00",{"$f":"Calculations!$BI$51","v":0},{"$f":"Calculations!$BJ$51","v":0},{"$f":"Calculations!$BK$51","v":0},0,0,{"$f":"Calculations!$BM$51","v":2},{"$f":"Calculations!$BN$51","v":3},{"$f":"Calculations!$BO$51","v":0},0,5,{"$f":"Calculations!$BQ$51","v":1},{"$f":"Calculations!$BR$51","v":0},{"$f":"Calculations!$BS$51","v":3},0,4,{"$f":"Calculations!$BU$51","v":0},{"$f":"Calculations!$BV$51","v":4},{"$f":"Calculations!$BW$51","v":1},0,5,14,null,{"$f":"IF(OR('15-Min All Vehicle'!X29=0,'15-Min All Vehicle'!X30=0, '15-Min All Vehicle'!X31=0,'15-Min All Vehicle'!X32=0)=TRUE,\"\",X29+X30+X31+X32)","v":61}]
[null,"Midday Peak Period","09:59:59.942",{"$f":"Calculations!$BI$54","v":0},{"$f":"Calculations!$BJ$54","v":0},{"$f":"Calculations!$BK$54","v":0},0,0,{"$f":"Calculations!$BM$54","v":2},{"$f":"Calculations!$BN$54","v":4},{"$f":"Calculations!$BO$54","v":0},0,6,{"$f":"Calculations!$BQ$54","v":0},{"$f":"Calculations!$BR$54","v":0},{"$f":"Calculations!$BS$54","v":1},0,1,{"$f":"Calculations!$BU$54","v":0},{"$f":"Calculations!$BV$54","v":2},{"$f":"Calculations!$BW$54","v":0},0,2,9,null,{"$f":"IF(OR('15-Min All Vehicle'!X30=0,'15-Min All Vehicle'!X31=0, '15-Min All Vehicle'!X32=0,'15-Min All Vehicle'!X33=0)=TRUE,\"\",X30+X31+X32+X33)","v":65}]
[null,null,"10:14:59.971",{"$f":"Calculations!$BI$57","v":0},{"$f":"Calculations!$BJ$57","v":0},{"$f":"Calculations!$BK$57","v":0},0,0,{"$f":"Calculations!$BM$57","v":1},{"$f":"Calculations!$BN$57","v":7},{"$f":"Calculations!$BO$57","v":0},0,8,{"$f":"Calculations!$BQ$57","v":1},{"$f":"Calculations!$BR$57","v":0},{"$f":"Calculations!$BS$57","v":4},0,5,{"$f":"Calculations!$BU$57","v":0},{"$f":"Calculations!$BV$57","v":5},{"$f":"Calculations!$BW$57","v":0},0,5,18,null,{"$f":"IF(OR('15-Min All Vehicle'!X31=0,'15-Min All Vehicle'!X32=0, '15-Min All Vehicle'!X33=0,'15-Min All Vehicle'!X34=0)=TRUE,\"\",X31+X32+X33+X34)","v":76}]
[null,null,"10:30:00",{"$f":"Calculations!$BI$60","v":0},{"$f":"Calculations!$BJ$60","v":0},{"$f":"Calculations!$BK$60","v":0},0,0,{"$f":"Calculations!$BM$60","v":1},{"$f":"Calculations!$BN$60","v":6},{"$f":"Calculations!$BO$60","v":0},0,7,{"$f":"Calculations!$BQ$60","v":1},{"$f":"Calculations!$BR$60","v":0},{"$f":"Calculations!$BS$60","v":3},0,4,{"$f":"Calculations!$BU$60","v":0},{"$f":"Calculations!$BV$60","v":9},{"$f":"Calculations!$BW$60","v":0},0,9,20,null,{"$f":"IF(OR('15-Min All Vehicle'!X32=0,'15-Min All Vehicle'!X33=0, '15-Min All Vehicle'!X34=0,'15-Min All Vehicle'!X35=0)=TRUE,\"\",X32+X33+X34+X35)","v":65}]
[null,null,"10:44:59.942",{"$f":"Calculations!$BI$63","v":0},{"$f":"Calculations!$BJ$63","v":0},{"$f":"Calculations!$BK$63","v":0},0,0,{"$f":"Calculations!$BM$63","v":0},{"$f":"Calculations!$BN$63","v":9},{"$f":"Calculations!$BO$63","v":0},0,9,{"$f":"Calculations!$BQ$63","v":2},{"$f":"Calculations!$BR$63","v":0},{"$f":"Calculations!$BS$63","v":1},0,3,{"$f":"Calculations!$BU$63","v":0},{"$f":"Calculations!$BV$63","v":6},{"$f":"Calculations!$BW$63","v":0},0,6,18,null,{"$f":"IF(OR('15-Min All Vehicle'!X33=0,'15-Min All Vehicle'!X34=0, '15-Min All Vehicle'!X35=0,'15-Min All Vehicle'!X36=0)=TRUE,\"\",X33+X34+X35+X36)","v":57}]
[null,null,"10:59:59.971",{"$f":"Calculations!$BI$66","v":0},{"$f":"Calculations!$BJ$66","v":0},{"$f":"Calculations!$BK$66","v":0},0,0,{"$f":"Calculations!$BM$66","v":1},{"$f":"Calculations!$BN$66","v":7},{"$f":"Calculations!$BO$66","v":0},0,8,{"$f":"Calculations!$BQ$66","v":2},{"$f":"Calculations!$BR$66","v":0},{"$f":"Calculations!$BS$66","v":4},0,6,{"$f":"Calculations!$BU$66","v":0},{"$f":"Calculations!$BV$66","v":6},{"$f":"Calculations!$BW$66","v":0},0,6,20,null,{"$f":"IF(OR('15-Min All Vehicle'!X34=0,'15-Min All Vehicle'!X35=0, '15-Min All Vehicle'!X36=0,'15-Min All Vehicle'!X37=0)=TRUE,\"\",X34+X35+X36+X37)","v":53}]
[null,null,"11:15:00",{"$f":"Calculations!$BI$69","v":0},{"$f":"Calculations!$BJ$69","v":0},{"$f":"Calculations!$BK$69","v":0},0,0,{"$f":"Calculations!$BM$69","v":0},{"$f":"Calculations!$BN$69","v":4},{"$f":"Calculations!$BO$69","v":0},0,4,{"$f":"Calculations!$BQ$69","v":0},{"$f":"Calculations!$BR$69","v":0},{"$f":"Calculations!$BS$69","v":1},0,1,{"$f":"Calculations!$BU$69","v":0},{"$f":"Calculations!$BV$69","v":2},{"$f":"Calculations!$BW$69","v":0},0,2,7,null,{"$f":"IF(OR('15-Min All Vehicle'!X35=0,'15-Min All Vehicle'!X36=0, '15-Min All Vehicle'!X37=0,'15-Min All Vehicle'!X38=0)=TRUE,\"\",X35+X36+X37+X38)","v":49}]
[null,null,"11:29:59.942",{"$f":"Calculations!$BI$72","v":0},{"$f":"Calculations!$BJ$72","v":0},{"$f":"Calculations!$BK$72","v":0},0,0,{"$f":"Calculations!$BM$72","v":0},{"$f":"Calculations!$BN$72","v":3},{"$f":"Calculations!$BO$72","v":0},0,3,{"$f":"Calculations!$BQ$72","v":1},{"$f":"Calculations!$BR$72","v":0},{"$f":"Calculations!$BS$72","v":3},0,4,{"$f":"Calculations!$BU$72","v":0},{"$f":"Calculations!$BV$72","v":4},{"$f":"Calculations!$BW$72","v":1},0,5,12,null,{"$f":"IF(OR('15-Min All Vehicle'!X36=0,'15-Min All Vehicle'!X37=0, '15-Min All Vehicle'!X38=0,'15-Min All Vehicle'!X39=0)=TRUE,\"\",X36+X37+X38+X39)","v":57}]
[null,null,"11:44:59.971",{"$f":"Calculations!$BI$75","v":0},{"$f":"Calculations!$BJ$75","v":0},{"$f":"Calculations!$BK$75","v":0},0,0,{"$f":"Calculations!$BM$75","v":1},{"$f":"Calculations!$BN$75","v":3},{"$f":"Calculations!$BO$75","v":0},0,4,{"$f":"Calculations!$BQ$75","v":5},{"$f":"Calculations!$BR$75","v":0},{"$f":"Calculations!$BS$75","v":3},0,8,{"$f":"Calculations!$BU$75","v":0},{"$f":"Calculations!$BV$75","v":2},{"$f":"Calculations!$BW$75","v":0},0,2,14,null,{"$f":"IF(OR('15-Min All Vehicle'!X37=0,'15-Min All Vehicle'!X38=0, '15-Min All Vehicle'!X39=0,'15-Min All Vehicle'!X40=0)=TRUE,\"\",X37+X38+X39+X40)","v":60}]
[null,null,"12:00:00",{"$f":"Calculations!$BI$78","v":0},{"$f":"Calculations!$BJ$78","v":0},{"$f":"Calculations!$BK$78","v":0},0,0,{"$f":"Calculations!$BM$78","v":0},{"$f":"Calculations!$BN$78","v":6},{"$f":"Calculations!$BO$78","v":0},0,6,{"$f":"Calculations!$BQ$78","v":1},{"$f":"Calculations!$BR$78","v":0},{"$f":"Calculations!$BS$78","v":2},0,3,{"$f":"Calculations!$BU$78","v":0},{"$f":"Calculations!$BV$78","v":5},{"$f":"Calculations!$BW$78","v":2},0,7,16,null,{"$f":"IF(OR('15-Min All Vehicle'!X38=0,'15-Min All Vehicle'!X39=0, '15-Min All Vehicle'!X40=0,'15-Min All Vehicle'!X41=0)=TRUE,\"\",X38+X39+X40+X41)","v":61}]
[null,null,"12:14:59.942",{"$f":"Calculations!$BI$81","v":0},{"$f":"Calculations!$BJ$81","v":0},{"$f":"Calculations!$BK$81","v":0},0,0,{"$f":"Calculations!$BM$81","v":3},{"$f":"Calculations!$BN$81","v":4},{"$f":"Calculations!$BO$81","v":0},0,7,{"$f":"Calculations!$BQ$81","v":1},{"$f":"Calculations!$BR$81","v":0},{"$f":"Calculations!$BS$81","v":4},0,5,{"$f":"Calculations!$BU$81","v":0},{"$f":"Calculations!$BV$81","v":2},{"$f":"Calculations!$BW$81","v":1},0,3,15,null,{"$f":"IF(OR('15-Min All Vehicle'!X39=0,'15-Min All Vehicle'!X40=0, '15-Min All Vehicle'!X41=0,'15-Min All Vehicle'!X42=0)=TRUE,\"\",X39+X40+X41+X42)","v":55}]
[null,null,"12:29:59.971",{"$f":"Calculations!$BI$84","v":0},{"$f":"Calculations!$BJ$84","v":0},{"$f":"Calculations!$BK$84","v":0},0,0,{"$f":"Calculations!$BM$84","v":2},{"$f":"Calculations!$BN$84","v":6},{"$f":"Calculations!$BO$84","v":0},0,8,{"$f":"Calculations!$BQ$84","v":1},{"$f":"Calculations!$BR$84","v":0},{"$f":"Calculations!$BS$84","v":0},0,1,{"$f":"Calculations!$BU$84","v":0},{"$f":"Calculations!$BV$84","v":6},{"$f":"Calculations!$BW$84","v":0},0,6,15,null,{"$f":"IF(OR('15-Min All Vehicle'!X40=0,'15-Min All Vehicle'!X41=0, '15-Min All Vehicle'!X42=0,'15-Min All Vehicle'!X43=0)=TRUE,\"\",X40+X41+X42+X43)","v":49}]
[null,null,"12:45:00",{"$f":"Calculations!$BI$87","v":0},{"$f":"Calculations!$BJ$87","v":0},{"$f":"Calculations!$BK$87","v":0},0,0,{"$f":"Calculations!$BM$87","v":1},{"$f":"Calculations!$BN$87","v":5},{"$f":"Calculations!$BO$87","v":0},0,6,{"$f":"Calculations!$BQ$87","v":5},{"$f":"Calculations!$BR$87","v":0},{"$f":"Calculations!$BS$87","v":1},0,6,{"$f":"Calculations!$BU$87","v":0},{"$f":"Calculations!$BV$87","v":1},{"$f":"Calculations!$BW$87","v":2},0,3,15,null,{"$f":"IF(OR('15-Min All Vehicle'!X41=0,'15-Min All Vehicle'!X42=0, '15-Min All Vehicle'!X43=0,'15-Min All Vehicle'!X44=0)=TRUE,\"\",X41+X42+X43+X44)","v":56}]
[null,null,"12:59:59.942",{"$f":"Calculations!$BI$90","v":0},{"$f":"Calculations!$BJ$90","v":0},{"$f":"Calculations!$BK$90","v":0},0,0,{"$f":"Calculations!$BM$90","v":0},{"$f":"Calculations!$BN$90","v":2},{"$f":"Calculations!$BO$90","v":0},0,2,{"$f":"Calculations!$BQ$90","v":2},{"$f":"Calculations!$BR$90","v":0},{"$f":"Calculations!$BS$90","v":4},0,6,{"$f":"Calculations!$BU$90","v":0},{"$f":"Calculations!$BV$90","v":2},{"$f":"Calculations!$BW$90","v":0},0,2,10,null,{"$f":"IF(OR('15-Min All Vehicle'!X42=0,'15-Min All Vehicle'!X43=0, '15-Min All Vehicle'!X44=0,'15-Min All Vehicle'!X45=0)=TRUE,\"\",X42+X43+X44+X45)","v":55}]
[null,null,"13:14:59.971",{"$f":"Calculations!$BI$93","v":0},{"$f":"Calculations!$BJ$93","v":0},{"$f":"Calculations!$BK$93","v":0},0,0,{"$f":"Calculations!$BM$93","v":1},{"$f":"Calculations!$BN$93","v":1},{"$f":"Calculations!$BO$93","v":0},0,2,{"$f":"Calculations!$BQ$93","v":1},{"$f":"Calculations!$BR$93","v":0},{"$f":"Calculations!$BS$93","v":2},0,3,{"$f":"Calculations!$BU$93","v":0},{"$f":"Calculations!$BV$93","v":4},{"$f":"Calculations!$BW$93","v":0},0,4,9,null,{"$f":"IF(OR('15-Min All Vehicle'!X43=0,'15-Min All Vehicle'!X44=0, '15-Min All Vehicle'!X45=0,'15-Min All Vehicle'!X46=0)=TRUE,\"\",X43+X44+X45+X46)","v":59}]
[null,null,"13:30:00",{"$f":"Calculations!$BI$96","v":0},{"$f":"Calculations!$BJ$96","v":0},{"$f":"Calculations!$BK$96","v":0},0,0,{"$f":"Calculations!$BM$96","v":0},{"$f":"Calculations!$BN$96","v":5},{"$f":"Calculations!$BO$96","v":0},0,5,{"$f":"Calculations!$BQ$96","v":1},{"$f":"Calculations!$BR$96","v":0},{"$f":"Calculations!$BS$96","v":5},0,6,{"$f":"Calculations!$BU$96","v":0},{"$f":"Calculations!$BV$96","v":10},{"$f":"Calculations!$BW$96","v":1},0,11,22,null,{"$f":"IF(OR('15-Min All Vehicle'!X44=0,'15-Min All Vehicle'!X45=0, '15-Min All Vehicle'!X46=0,'15-Min All Vehicle'!X47=0)=TRUE,\"\",X44+X45+X46+X47)","v":66}]
[null,null,"13:44:59.942",{"$f":"Calculations!$BI$99","v":0},{"$f":"Calculations!$BJ$99","v":0},{"$f":"Calculations!$BK$99","v":0},0,0,{"$f":"Calculations!$BM$99","v":2},{"$f":"Calculations!$BN$99","v":4},{"$f":"Calculations!$BO$99","v":0},0,6,{"$f":"Calculations!$BQ$99","v":0},{"$f":"Calculations!$BR$99","v":0},{"$f":"Calculations!$BS$99","v":2},0,2,{"$f":"Calculations!$BU$99","v":0},{"$f":"Calculations!$BV$99","v":4},{"$f":"Calculations!$BW$99","v":2},0,6,14,null,{"$f":"IF(OR('15-Min All Vehicle'!X45=0,'15-Min All Vehicle'!X46=0, '15-Min All Vehicle'!X47=0,'15-Min All Vehicle'!X48=0)=TRUE,\"\",X45+X46+X47+X48)","v":57}]
[null,"PM Peak Period","13:59:59.971",{"$f":"Calculations!$BI$102","v":0},{"$f":"Calculations!$BJ$102","v":0},{"$f":"Calculations!$BK$102","v":0},0,{"$f":"D46+E46+F46+G46","v":0},{"$f":"Calculations!$BM$102","v":2},{"$f":"Calculations!$BN$102","v":5},{"$f":"Calculations!$BO$102","v":0},0,{"$f":"I46+J46+K46+L46","v":7},{"$f":"Calculations!$BQ$102","v":0},{"$f":"Calculations!$BR$102","v":0},{"$f":"Calculations!$BS$102","v":4},0,{"$f":"N46+O46+P46+Q46","v":4},{"$f":"Calculations!$BU$102","v":0},{"$f":"Calculations!$BV$102","v":3},{"$f":"Calculations!$BW$102","v":0},0,{"$f":"S46+T46+U46+V46","v":3},{"$f":"H46+M46+R46+W46","v":14},null,{"$f":"IF(OR('15-Min All Vehicle'!X46=0,'15-Min All Vehicle'!X47=0, '15-Min All Vehicle'!X48=0,'15-Min All Vehicle'!X49=0)=TRUE,\"\",X46+X47+X48+X49)","v":63}]
[null,null,"14:15:00",{"$f":"Calculations!$BI$105","v":0},{"$f":"Calculations!$BJ$105","v":0},{"$f":"Calculations!$BK$105","v":0},0,0,{"$f":"Calculations!$BM$105","v":2},{"$f":"Calculations!$BN$105","v":4},{"$f":"Calculations!$BO$105","v":0},0,6,{"$f":"Calculations!$BQ$105","v":2},{"$f":"Calculations!$BR$105","v":0},{"$f":"Calculations!$BS$105","v":1},0,3,{"$f":"Calculations!$BU$105","v":0},{"$f":"Calculations!$BV$105","v":7},{"$f":"Calculations!$BW$105","v":0},0,7,16,null,{"$f":"IF(OR('15-Min All Vehicle'!X47=0,'15-Min All Vehicle'!X48=0, '15-Min All Vehicle'!X49=0,'15-Min All Vehicle'!X50=0)=TRUE,\"\",X47+X48+X49+X50)","v":65}]
[null,null,"14:29:59.942",{"$f":"Calculations!$BI$108","v":0},{"$f":"Calculations!$BJ$108","v":0},{"$f":"Calculations!$BK$108","v":0},0,0,{"$f":"Calculations!$BM$108","v":1},{"$f":"Calculations!$BN$108","v":1},{"$f":"Calculations!$BO$108","v":0},0,2,{"$f":"Calculations!$BQ$108","v":1},{"$f":"Calculations!$BR$108","v":0},{"$f":"Calculations!$BS$108","v":5},0,6,{"$f":"Calculations!$BU$108","v":0},{"$f":"Calculations!$BV$108","v":4},{"$f":"Calculations!$BW$108","v":1},0,5,13,null,{"$f":"IF(OR('15-Min All Vehicle'!X48=0,'15-Min All Vehicle'!X49=0, '15-Min All Vehicle'!X50=0,'15-Min All Vehicle'!X51=0)=TRUE,\"\",X48+X49+X50+X51)","v":59}]
[null,null,"14:44:59.971",{"$f":"Calculations!$BI$111","v":0},{"$f":"Calculations!$BJ$111","v":0},{"$f":"Calculations!$BK$111","v":0},0,0,{"$f":"Calculations!$BM$111","v":3},{"$f":"Calculations!$BN$111","v":2},{"$f":"Calculations!$BO$111","v":0},0,5,{"$f":"Calculations!$BQ$111","v":4},{"$f":"Calculations!$BR$111","v":0},{"$f":"Calculations!$BS$111","v":3},0,7,{"$f":"Calculations!$BU$111","v":0},{"$f":"Calculations!$BV$111","v":8},{"$f":"Calculations!$BW$111","v":0},0,8,20,null,{"$f":"IF(OR('15-Min All Vehicle'!X49=0,'15-Min All Vehicle'!X50=0, '15-Min All Vehicle'!X51=0,'15-Min All Vehicle'!X52=0)=TRUE,\"\",X49+X50+X51+X52)","v":60}]
[null,null,"15:00:00",{"$f":"Calculations!$BI$114","v":0},{"$f":"Calculations!$BJ$114","v":0},{"$f":"Calculations!$BK$114","v":0},0,0,{"$f":"Calculations!$BM$114","v":2},{"$f":"Calculations!$BN$114","v":2},{"$f":"Calculations!$BO$114","v":0},0,4,{"$f":"Calculations!$BQ$114","v":0},{"$f":"Calculations!$BR$114","v":0},{"$f":"Calculations!$BS$114","v":9},0,9,{"$f":"Calculations!$BU$114","v":0},{"$f":"Calculations!$BV$114","v":3},{"$f":"Calculations!$BW$114","v":0},0,3,16,null,{"$f":"IF(OR('15-Min All Vehicle'!X50=0,'15-Min All Vehicle'!X51=0, '15-Min All Vehicle'!X52=0,'15-Min All Vehicle'!X53=0)=TRUE,\"\",X50+X51+X52+X53)","v":51}]
[null,null,"15:14:59.942",{"$f":"Calculations!$BI$117","v":0},{"$f":"Calculations!$BJ$117","v":0},{"$f":"Calculations!$BK$117","v":0},0,0,{"$f":"Calculations!$BM$117","v":4},{"$f":"Calculations!$BN$117","v":5},{"$f":"Calculations!$BO$117","v":0},0,9,{"$f":"Calculations!$BQ$117","v":0},{"$f":"Calculations!$BR$117","v":0},{"$f":"Calculations!$BS$117","v":0},0,0,{"$f":"Calculations!$BU$117","v":0},{"$f":"Calculations!$BV$117","v":1},{"$f":"Calculations!$BW$117","v":0},0,1,10,null,{"$f":"IF(OR('15-Min All Vehicle'!X51=0,'15-Min All Vehicle'!X52=0, '15-Min All Vehicle'!X53=0,'15-Min All Vehicle'!X54=0)=TRUE,\"\",X51+X52+X53+X54)","v":50}]
[null,null,"15:29:59.971",{"$f":"Calculations!$BI$120","v":0},{"$f":"Calculations!$BJ$120","v":0},{"$f":"Calculations!$BK$120","v":0},0,0,{"$f":"Calculations!$BM$120","v":1},{"$f":"Calculations!$BN$120","v":4},{"$f":"Calculations!$BO$120","v":0},0,5,{"$f":"Calculations!$BQ$120","v":2},{"$f":"Calculations!$BR$120","v":0},{"$f":"Calculations!$BS$120","v":4},0,6,{"$f":"Calculations!$BU$120","v":0},{"$f":"Calculations!$BV$120","v":3},{"$f":"Calculations!$BW$120","v":0},0,3,14,null,{"$f":"IF(OR('15-Min All Vehicle'!X52=0,'15-Min All Vehicle'!X53=0, '15-Min All Vehicle'!X54=0,'15-Min All Vehicle'!X55=0)=TRUE,\"\",X52+X53+X54+X55)","v":48}]
[null,null,"15:45:00",{"$f":"Calculations!$BI$123","v":0},{"$f":"Calculations!$BJ$123","v":0},{"$f":"Calculations!$BK$123","v":0},0,0,{"$f":"Calculations!$BM$123","v":2},{"$f":"Calculations!$BN$123","v":4},{"$f":"Calculations!$BO$123","v":0},0,6,{"$f":"Calculations!$BQ$123","v":2},{"$f":"Calculations!$BR$123","v":0},{"$f":"Calculations!$BS$123","v":1},0,3,{"$f":"Calculations!$BU$123","v":0},{"$f":"Calculations!$BV$123","v":2},{"$f":"Calculations!$BW$123","v":0},0,2,11,null,{"$f":"IF(OR('15-Min All Vehicle'!X53=0,'15-Min All Vehicle'!X54=0, '15-Min All Vehicle'!X55=0,'15-Min All Vehicle'!X56=0)=TRUE,\"\",X53+X54+X55+X56)","v":39}]
[null,null,"15:59:59.942",{"$f":"Calculations!$BI$126","v":0},{"$f":"Calculations!$BJ$126","v":0},{"$f":"Calculations!$BK$126","v":0},0,0,{"$f":"Calculations!$BM$126","v":2},{"$f":"Calculations!$BN$126","v":3},{"$f":"Calculations!$BO$126","v":0},0,5,{"$f":"Calculations!$BQ$126","v":3},{"$f":"Calculations!$BR$126","v":0},{"$f":"Calculations!$BS$126","v":3},0,6,{"$f":"Calculations!$BU$126","v":0},{"$f":"Calculations!$BV$126","v":1},{"$f":"Calculations!$BW$126","v":3},0,4,15,null,{"$f":"IF(OR('15-Min All Vehicle'!X54=0,'15-Min All Vehicle'!X55=0, '15-Min All Vehicle'!X56=0,'15-Min All Vehicle'!X57=0)=TRUE,\"\",X54+X55+X56+X57)","v":29}]
[null,null,"16:14:59.971",{"$f":"Calculations!$BI$129","v":0},{"$f":"Calculations!$BJ$129","v":0},{"$f":"Calculations!$BK$129","v":0},0,0,{"$f":"Calculations!$BM$129","v":0},{"$f":"Calculations!$BN$129","v":1},{"$f":"Calculations!$BO$129","v":0},0,1,{"$f":"Calculations!$BQ$129","v":3},{"$f":"Calculations!$BR$129","v":0},{"$f":"Calculations!$BS$129","v":4},0,7,{"$f":"Calculations!$BU$129","v":0},{"$f":"Calculations!$BV$129","v":0},{"$f":"Calculations!$BW$129","v":0},0,0,8,null,{"$f":"IF(OR('15-Min All Vehicle'!X55=0,'15-Min All Vehicle'!X56=0, '15-Min All Vehicle'!X57=0,'15-Min All Vehicle'!X58=0)=TRUE,\"\",X55+X56+X57+X58)","v":16}]
[null,null,"16:30:00",{"$f":"Calculations!$BI$132","v":0},{"$f":"Calculations!$BJ$132","v":0},{"$f":"Calculations!$BK$132","v":0},0,0,{"$f":"Calculations!$BM$132","v":1},{"$f":"Calculations!$BN$132","v":2},{"$f":"Calculations!$BO$132","v":0},0,3,{"$f":"Calculations!$BQ$132","v":1},{"$f":"Calculations!$BR$132","v":0},{"$f":"Calculations!$BS$132","v":1},0,2,{"$f":"Calculations!$BU$132","v":0},{"$f":"Calculations!$BV$132","v":0},{"$f":"Calculations!$BW$132","v":0},0,0,5,null,{"$f":"IF(OR('15-Min All Vehicle'!X56=0,'15-Min All Vehicle'!X57=0, '15-Min All Vehicle'!X58=0,'15-Min All Vehicle'!X59=0)=TRUE,\"\",X56+X57+X58+X59)","v":10}]
[null,null,"16:44:59.942",{"$f":"Calculations!$BI$135","v":0},{"$f":"Calculations!$BJ$135","v":0},{"$f":"Calculations!$BK$135","v":0},0,0,{"$f":"Calculations!$BM$135","v":0},{"$f":"Calculations!$BN$135","v":0},{"$f":"Calculations!$BO$135","v":0},0,0,{"$f":"Calculations!$BQ$135","v":1},{"$f":"Calculations!$BR$135","v":0},{"$f":"Calculations!$BS$135","v":0},0,1,{"$f":"Calculations!$BU$135","v":0},{"$f":"Calculations!$BV$135","v":0},{"$f":"Calculations!$BW$135","v":0},0,0,1,null,{"$f":"IF(OR('15-Min All Vehicle'!X57=0,'15-Min All Vehicle'!X58=0, '15-Min All Vehicle'!X59=0,'15-Min All Vehicle'!X60=0)=TRUE,\"\",X57+X58+X59+X60)","v":5}]
[null,null,"16:59:59.971",{"$f":"Calculations!$BI$138","v":0},{"$f":"Calculations!$BJ$138","v":0},{"$f":"Calculations!$BK$138","v":0},0,0,{"$f":"Calculations!$BM$138","v":0},{"$f":"Calculations!$BN$138","v":1},{"$f":"Calculations!$BO$138","v":0},0,1,{"$f":"Calculations!$BQ$138","v":0},{"$f":"Calculations!$BR$138","v":0},{"$f":"Calculations!$BS$138","v":1},0,1,{"$f":"Calculations!$BU$138","v":0},{"$f":"Calculations!$BV$138","v":0},{"$f":"Calculations!$BW$138","v":0},0,0,2,null,{"$f":"IF(OR('15-Min All Vehicle'!X58=0,'15-Min All Vehicle'!X59=0, '15-Min All Vehicle'!X60=0,'15-Min All Vehicle'!X61=0)=TRUE,\"\",X58+X59+X60+X61)","v":5}]
[null,null,"17:15:00",{"$f":"Calculations!$BI$141","v":0},{"$f":"Calculations!$BJ$141","v":0},{"$f":"Calculations!$BK$141","v":0},0,0,{"$f":"Calculations!$BM$141","v":0},{"$f":"Calculations!$BN$141","v":1},{"$f":"Calculations!$BO$141","v":0},0,1,{"$f":"Calculations!$BQ$141","v":1},{"$f":"Calculations!$BR$141","v":0},{"$f":"Calculations!$BS$141","v":0},0,1,{"$f":"Calculations!$BU$141","v":0},{"$f":"Calculations!$BV$141","v":0},{"$f":"Calculations!$BW$141","v":0},0,0,2,null,{"$f":"IF(OR('15-Min All Vehicle'!X59=0,'15-Min All Vehicle'!X60=0, '15-Min All Vehicle'!X61=0,'15-Min All Vehicle'!X62=0)=TRUE,\"\",X59+X60+X61+X62)","v":""}]
[null,null,"17:29:59.942",{"$f":"Calculations!$BI$144","v":0},{"$f":"Calculations!$BJ$144","v":0},{"$f":"Calculations!$BK$144","v":0},0,0,{"$f":"Calculations!$BM$144","v":0},{"$f":"Calculations!$BN$144","v":0},{"$f":"Calculations!$BO$144","v":0},0,0,{"$f":"Calculations!$BQ$144","v":0},{"$f":"Calculations!$BR$144","v":0},{"$f":"Calculations!$BS$144","v":0},0,0,{"$f":"Calculations!$BU$144","v":0},{"$f":"Calculations!$BV$144","v":0},{"$f":"Calculations!$BW$144","v":0},0,0,0,null,{"$f":"IF(OR('15-Min All Vehicle'!X60=0,'15-Min All Vehicle'!X61=0, '15-Min All Vehicle'!X62=0,'15-Min All Vehicle'!X63=0)=TRUE,\"\",X60+X61+X62+X63)","v":""}]
[null,null,"17:44:59.971",{"$f":"Calculations!$BI$147","v":0},{"$f":"Calculations!$BJ$147","v":0},{"$f":"Calculations!$BK$147","v":0},0,0,{"$f":"Calculations!$BM$147","v":0},{"$f":"Calculations!$BN$147","v":0},{"$f":"Calculations!$BO$147","v":0},0,0,{"$f":"Calculations!$BQ$147","v":1},{"$f":"Calculations!$BR$147","v":0},{"$f":"Calculations!$BS$147","v":0},0,1,{"$f":"Calculations!$BU$147","v":0},{"$f":"Calculations!$BV$147","v":0},{"$f":"Calculations!$BW$147","v":0},0,{"$f":"S61+T61+U61+V61","v":0},1,null,{"$f":"IF(OR('15-Min All Vehicle'!X61=0,'15-Min All Vehicle'!X62=0, '15-Min All Vehicle'!X63=0,'15-Min All Vehicle'!X64=0)=TRUE,\"\",X61+X62+X63+X64)","v":""}]
[null,null,"18:00:00",{"$f":"Calculations!$BI$150","v":0},{"$f":"Calculations!$BJ$150","v":0},{"$f":"Calculations!$BK$150","v":0},0,0,{"$f":"Calculations!$BM$150","v":0},{"$f":"Calculations!$BN$150","v":0},{"$f":"Calculations!$BO$150","v":0},0,0,{"$f":"Calculations!$BQ$150","v":0},{"$f":"Calculations!$BR$150","v":0},{"$f":"Calculations!$BS$150","v":0},0,0,{"$f":"Calculations!$BU$150","v":0},{"$f":"Calculations!$BV$150","v":0},{"$f":"Calculations!$BW$150","v":0},0,{"$f":"S62+T62+U62+V62","v":0},0,null,{"$f":"IF(OR('15-Min All Vehicle'!X62=0,'15-Min All Vehicle'!X63=0, '15-Min All Vehicle'!X64=0,'15-Min All Vehicle'!X65=0)=TRUE,\"\",X62+X63+X64+X65)","v":""}]
[null,null,"18:14:59.942",{"$f":"Calculations!$BI$153","v":0},{"$f":"Calculations!$BJ$153","v":0},{"$f":"Calculations!$BK$153","v":0},0,0,{"$f":"Calculations!$BM$153","v":0},{"$f":"Calculations!$BN$153","v":0},{"$f":"Calculations!$BO$153","v":0},0,0,{"$f":"Calculations!$BQ$153","v":0},{"$f":"Calculations!$BR$153","v":0},{"$f":"Calculations!$BS$153","v":0},0,0,{"$f":"Calculations!$BU$153","v":0},{"$f":"Calculations!$BV$153","v":0},{"$f":"Calculations!$BW$153","v":0},0,{"$f":"S63+T63+U63+V63","v":0},0,null,{"$f":"IF(OR('15-Min All Vehicle'!X63=0,'15-Min All Vehicle'!X64=0, '15-Min All Vehicle'!X65=0,'15-Min All Vehicle'!X66=0)=TRUE,\"\",X63+X64+X65+X66)","v":""}]
[null,null,"18:29:59.971",{"$f":"Calculations!$BI$156","v":0},{"$f":"Calculations!$BJ$156","v":0},{"$f":"Calculations!$BK$156","v":0},0,0,{"$f":"Calculations!$BM$156","v":0},{"$f":"Calculations!$BN$156","v":0},{"$f":"Calculations!$BO$156","v":0},0,0,{"$f":"Calculations!$BQ$156","v":0},{"$f":"Calculations!$BR$156","v":0},{"$f":"Calculations!$BS$156","v":0},0,0,{"$f":"Calculations!$BU$156","v":0},{"$f":"Calculations!$BV$156","v":0},{"$f":"Calculations!$BW$156","v":0},0,{"$f":"S64+T64+U64+V64","v":0},0,null,{"$f":"IF(OR('15-Min All Vehicle'!X64=0,'15-Min All Vehicle'!X65=0, '15-Min All Vehicle'!X66=0,'15-Min All Vehicle'!X67=0)=TRUE,\"\",X64+X65+X66+X67)","v":""}]
[null,null,"18:45:00",{"$f":"Calculations!$BI$159","v":0},{"$f":"Calculations!$BJ$159","v":0},{"$f":"Calculations!$BK$159","v":0},0,0,{"$f":"Calculations!$BM$159","v":0},{"$f":"Calculations!$BN$159","v":0},{"$f":"Calculations!$BO$159","v":0},0,0,{"$f":"Calculations!$BQ$159","v":0},{"$f":"Calculations!$BR$159","v":0},{"$f":"Calculations!$BS$159","v":0},0,0,{"$f":"Calculations!$BU$159","v":0},{"$f":"Calculations!$BV$159","v":0},{"$f":"Calculations!$BW$159","v":0},0,{"$f":"S65+T65+U65+V65","v":0},0,null,{"$f":"IF(OR('15-Min All Vehicle'!X65=0,'15-Min All Vehicle'!X66=0, '15-Min All Vehicle'!X67=0,'15-Min All Vehicle'!X68=0)=TRUE,\"\",X65+X66+X67+X68)","v":""}]
[null,null,"18:59:59.942",{"$f":"Calculations!$BI$162","v":0},{"$f":"Calculations!$BJ$162","v":0},{"$f":"Calculations!$BK$162","v":0},0,0,{"$f":"Calculations!$BM$162","v":0},{"$f":"Calculations!$BN$162","v":0},{"$f":"Calculations!$BO$162","v":0},0,0,{"$f":"Calculations!$BQ$162","v":0},{"$f":"Calculations!$BR$162","v":0},{"$f":"Calculations!$BS$162","v":0},0,0,{"$f":"Calculations!$BU$162","v":0},{"$f":"Calculations!$BV$162","v":0},{"$f":"Calculations!$BW$162","v":0},0,0,0,null,{"$f":"IF(OR('15-Min All Vehicle'!X66=0,'15-Min All Vehicle'!X67=0, '15-Min All Vehicle'!X68=0,'15-Min All Vehicle'!X69=0)=TRUE,\"\",X66+X67+X68+X69)","v":""}]
[null,null,"19:14:59.971",{"$f":"Calculations!$BI$165","v":0},{"$f":"Calculations!$BJ$165","v":0},{"$f":"Calculations!$BK$165","v":0},0,0,{"$f":"Calculations!$BM$165","v":0},{"$f":"Calculations!$BN$165","v":0},{"$f":"Calculations!$BO$165","v":0},0,0,{"$f":"Calculations!$BQ$165","v":0},{"$f":"Calculations!$BR$165","v":0},{"$f":"Calculations!$BS$165","v":0},0,0,{"$f":"Calculations!$BU$165","v":0},{"$f":"Calculations!$BV$165","v":0},{"$f":"Calculations!$BW$165","v":0},0,0,0,null,{"$f":"IF(OR('15-Min All Vehicle'!X67=0,'15-Min All Vehicle'!X68=0, '15-Min All Vehicle'!X69=0,'15-Min All Vehicle'!X70=0)=TRUE,\"\",X67+X68+X69+X70)","v":""}]
[null,null,"19:30:00",{"$f":"Calculations!$BI$168","v":0},{"$f":"Calculations!$BJ$168","v":0},{"$f":"Calculations!$BK$168","v":0},0,0,{"$f":"Calculations!$BM$168","v":0},{"$f":"Calculations!$BN$168","v":0},{"$f":"Calculations!$BO$168","v":0},0,0,{"$f":"Calculations!$BQ$168","v":0},{"$f":"Calculations!$BR$168","v":0},{"$f":"Calculations!$BS$168","v":0},0,0,{"$f":"Calculations!$BU$168","v":0},{"$f":"Calculations!$BV$168","v":0},{"$f":"Calculations!$BW$168","v":0},0,0,0,null,{"$f":"IF(OR('15-Min All Vehicle'!X68=0,'15-Min All Vehicle'!X69=0, '15-Min All Vehicle'!X70=0,'15-Min All Vehicle'!X71=0)=TRUE,\"\",X68+X69+X70+X71)","v":""}]
[null,null,"19:44:59.942",{"$f":"Calculations!$BI$171","v":0},{"$f":"Calculations!$BJ$171","v":0},{"$f":"Calculations!$BK$171","v":0},0,0,{"$f":"Calculations!$BM$171","v":0},{"$f":"Calculations!$BN$171","v":0},{"$f":"Calculations!$BO$171","v":0},0,0,{"$f":"Calculations!$BQ$171","v":0},{"$f":"Calculations!$BR$171","v":0},{"$f":"Calculations!$BS$171","v":0},0,0,{"$f":"Calculations!$BU$171","v":0},{"$f":"Calculations!$BV$171","v":0},{"$f":"Calculations!$BW$171","v":0},0,0,0,null,{"$f":"IF(OR('15-Min All Vehicle'!X69=0,'15-Min All Vehicle'!X70=0, '15-Min All Vehicle'!X71=0,'15-Min All Vehicle'!X72=0)=TRUE,\"\",X69+X70+X71+X72)","v":""}]
[null,null,"19:59:59.971",{"$f":"Calculations!$BI$174","v":0},{"$f":"Calculations!$BJ$174","v":0},{"$f":"Calculations!$BK$174","v":0},0,0,{"$f":"Calculations!$BM$174","v":0},{"$f":"Calculations!$BN$174","v":0},{"$f":"Calculations!$BO$174","v":0},0,0,{"$f":"Calculations!$BQ$174","v":0},{"$f":"Calculations!$BR$174","v":0},{"$f":"Calculations!$BS$174","v":0},0,0,{"$f":"Calculations!$BU$174","v":0},{"$f":"Calculations!$BV$174","v":0},{"$f":"Calculations!$BW$174","v":0},0,0,0,null,{"$f":"IF(OR('15-Min All Vehicle'!X70=0,'15-Min All Vehicle'!X71=0, '15-Min All Vehicle'!X72=0,'15-Min All Vehicle'!X73=0)=TRUE,\"\",X70+X71+X72+X73)","v":""}]
[null,null,"20:15:00",{"$f":"Calculations!$BI$177","v":0},{"$f":"Calculations!$BJ$177","v":0},{"$f":"Calculations!$BK$177","v":0},0,0,{"$f":"Calculations!$BM$177","v":0},{"$f":"Calculations!$BN$177","v":0},{"$f":"Calculations!$BO$177","v":0},0,0,{"$f":"Calculations!$BQ$177","v":0},{"$f":"Calculations!$BR$177","v":0},{"$f":"Calculations!$BS$177","v":0},0,0,{"$f":"Calculations!$BU$177","v":0},{"$f":"Calculations!$BV$177","v":0},{"$f":"Calculations!$BW$177","v":0},0,0,0,null,{"$f":"IF(OR('15-Min All Vehicle'!X71=0,'15-Min All Vehicle'!X72=0, '15-Min All Vehicle'!X73=0,'15-Min All Vehicle'!X74=0)=TRUE,\"\",X71+X72+X73+X74)","v":""}]
[null,null,"20:29:59.942",{"$f":"Calculations!$BI$180","v":0},{"$f":"Calculations!$BJ$180","v":0},{"$f":"Calculations!$BK$180","v":0},0,0,{"$f":"Calculations!$BM$180","v":0},{"$f":"Calculations!$BN$180","v":0},{"$f":"Calculations!$BO$180","v":0},0,0,{"$f":"Calculations!$BQ$180","v":0},{"$f":"Calculations!$BR$180","v":0},{"$f":"Calculations!$BS$180","v":0},0,0,{"$f":"Calculations!$BU$180","v":0},{"$f":"Calculations!$BV$180","v":0},{"$f":"Calculations!$BW$180","v":0},0,0,0,null,{"$f":"IF(OR('15-Min All Vehicle'!X72=0,'15-Min All Vehicle'!X73=0, '15-Min All Vehicle'!X74=0,'15-Min All Vehicle'!X75=0)=TRUE,\"\",X72+X73+X74+X75)","v":""}]
[null,null,"20:44:59.971",{"$f":"Calculations!$BI$183","v":0},{"$f":"Calculations!$BJ$183","v":0},{"$f":"Calculations!$BK$183","v":0},0,0,{"$f":"Calculations!$BM$183","v":0},{"$f":"Calculations!$BN$183","v":0},{"$f":"Calculations!$BO$183","v":0},0,0,{"$f":"Calculations!$BQ$183","v":0},{"$f":"Calculations!$BR$183","v":0},{"$f":"Calculations!$BS$183","v":0},0,0,{"$f":"Calculations!$BU$183","v":0},{"$f":"Calculations!$BV$183","v":0},{"$f":"Calculations!$BW$183","v":0},0,0,0,null,{"$f":"IF(OR('15-Min All Vehicle'!X73=0,'15-Min All Vehicle'!X74=0, '15-Min All Vehicle'!X75=0,'15-Min All Vehicle'!X76=0)=TRUE,\"\",X73+X74+X75+X76)","v":""}]
[null,null,"21:00:00",{"$f":"Calculations!$BI$186","v":0},{"$f":"Calculations!$BJ$186","v":0},{"$f":"Calculations!$BK$186","v":0},0,0,{"$f":"Calculations!$BM$186","v":0},{"$f":"Calculations!$BN$186","v":0},{"$f":"Calculations!$BO$186","v":0},0,0,{"$f":"Calculations!$BQ$186","v":0},{"$f":"Calculations!$BR$186","v":0},{"$f":"Calculations!$BS$186","v":0},0,0,{"$f":"Calculations!$BU$186","v":0},{"$f":"Calculations!$BV$186","v":0},{"$f":"Calculations!$BW$186","v":0},0,0,0,null,{"$f":"IF(OR('15-Min All Vehicle'!X74=0,'15-Min All Vehicle'!X75=0, '15-Min All Vehicle'!X76=0,'15-Min All Vehicle'!X77=0)=TRUE,\"\",X74+X75+X76+X77)","v":""}]
[null,null,"21:14:59.942",{"$f":"Calculations!$BI$189","v":0},{"$f":"Calculations!$BJ$189","v":0},{"$f":"Calculations!$BK$189","v":0},0,0,{"$f":"Calculations!$BM$189","v":0},{"$f":"Calculations!$BN$189","v":0},{"$f":"Calculations!$BO$189","v":0},0,0,{"$f":"Calculations!$BQ$189","v":0},{"$f":"Calculations!$BR$189","v":0},{"$f":"Calculations!$BS$189","v":0},0,0,{"$f":"Calculations!$BU$189","v":0},{"$f":"Calculations!$BV$189","v":0},{"$f":"Calculations!$BW$189","v":0},0,0,0]
[null,null,"21:29:59.971",{"$f":"Calculations!$BI$192","v":0},{"$f":"Calculations!$BJ$192","v":0},{"$f":"Calculations!$BK$192","v":0},0,0,{"$f":"Calculations!$BM$192","v":0},{"$f":"Calculations!$BN$192","v":0},{"$f":"Calculations!$BO$192","v":0},0,0,{"$f":"Calculations!$BQ$192","v":0},{"$f":"Calculations!$BR$192","v":0},{"$f":"Calculations!$BS$192","v":0},0,0,{"$f":"Calculations!$BU$192","v":0},{"$f":"Calculations!$BV$192","v":0},{"$f":"Calculations!$BW$192","v":0},0,{"$f":"S76+T76+U76+V76","v":0},0]
[null,null,"21:45:00",{"$f":"Calculations!$BI$195","v":0},{"$f":"Calculations!$BJ$195","v":0},{"$f":"Calculations!$BK$195","v":0},0,0,{"$f":"Calculations!$BM$195","v":0},{"$f":"Calculations!$BN$195","v":0},{"$f":"Calculations!$BO$195","v":0},0,0,{"$f":"Calculations!$BQ$195","v":0},{"$f":"Calculations!$BR$195","v":0},{"$f":"Calculations!$BS$195","v":0},0,0,{"$f":"Calculations!$BU$195","v":0},{"$f":"Calculations!$BV$195","v":0},{"$f":"Calculations!$BW$195","v":0},0,0,0]
[null,"Totals",null,{"$f":"SUM(D14:D77)","v":0},0,0,0,0,54,155,0,0,209,62,0,111,0,173,0,160,20,0,180,562]
[]
[null,"Peak Hour Single Unit (SU) Truck & Buses Volume Summary"]
[null,null,null,null,null,"ê",null,null,null,null,"ç",null,null,null,null,"é",null,null,null,null,"è"]
[null,"Hourly",null,"From North",null,null,null,null,"From East",null,null,null,null,"From South",null,null,null,null,"From West",null,null,null,null,"Total"]
[null,"Time Period",null,{"$f":"'Base Information'!$D$14:$D$14","v":"441 NB ON RAMP"},null,null,null,null,{"$f":"'Base Information'!$D$15:$D$15","v":"CTH OO (Northland Ave)"},null,null,null,null,{"$f":"'Base Information'!$D$16:$D$16","v":"441 NB OFF RAMP"},null,null,null,null,{"$f":"'Base Information'!$D$17:$D$17","v":"CTH OO (Northland Ave)"},null,null,null,null,"Hourly"]
[null,"Start Time",null,"Right ","Thru ","Left ","U-Tn","Total","Right ","Thru ","Left ","U-Tn","Total","Right ","Thru ","Left ","U-Tn","Total","Right ","Thru ","Left ","U-Tn","Total","Volume"]
[null,"AM",{"$f":"'15-Min All Vehicle'!$C$85","v":"07:14:59.971"},{"$f":"VLOOKUP(VLOOKUP($C85,'Base Information'!$D$91:$G$152,1,FALSE),$C$14:$X$77,2,FALSE)+VLOOKUP(VLOOKUP($C85,'Base Information'!$D$91:$G$152,2,FALSE),$C$14:$X$77,2,FALSE)+VLOOKUP(VLOOKUP($C85,'Base Information'!$D$91:$G$152,3,FALSE),$C$14:$X$77,2,FALSE)+VLOOKUP(VLOOKUP($C85,'Base Information'!$D$91:$G$152,4,FALSE),$C$14:$X$77,2,FALSE)","v":0},{"$f":"VLOOKUP(VLOOKUP($C85,'Base Information'!$D$91:$G$152,1,FALSE),$C$14:$X$77,3,FALSE)+VLOOKUP(VLOOKUP($C85,'Base Information'!$D$91:$G$152,2,FALSE),$C$14:$X$77,3,FALSE)+VLOOKUP(VLOOKUP($C85,'Base Information'!$D$91:$G$152,3,FALSE),$C$14:$X$77,3,FALSE)+VLOOKUP(VLOOKUP($C85,'Base Information'!$D$91:$G$152,4,FALSE),$C$14:$X$77,3,FALSE)","v":0},{"$f":"VLOOKUP(VLOOKUP($C85,'Base Information'!$D$91:$G$152,1,FALSE),$C$14:$X$77,4,FALSE)+VLOOKUP(VLOOKUP($C85,'Base Information'!$D$91:$G$152,2,FALSE),$C$14:$X$77,4,FALSE)+VLOOKUP(VLOOKUP($C85,'Base Information'!$D$91:$G$152,3,FALSE),$C$14:$X$77,4,FALSE)+VLOOKUP(VLOOKUP($C85,'Base Information'!$D$91:$G$152,4,FALSE),$C$14:$X$77,4,FALSE)","v":0},{"$f":"VLOOKUP(VLOOKUP($C85,'Base Information'!$D$91:$G$152,1,FALSE),$C$14:$X$77,5,FALSE)+VLOOKUP(VLOOKUP($C85,'Base Information'!$D$91:$G$152,2,FALSE),$C$14:$X$77,5,FALSE)+VLOOKUP(VLOOKUP($C85,'Base Information'!$D$91:$G$152,3,FALSE),$C$14:$X$77,5,FALSE)+VLOOKUP(VLOOKUP($C85,'Base Information'!$D$91:$G$152,4,FALSE),$C$14:$X$77,5,FALSE)","v":0},{"$f":"SUM(D85:G85)","v":0},{"$f":"VLOOKUP(VLOOKUP($C85,'Base Information'!$D$91:$G$152,1,FALSE),$C$14:$X$77,7,FALSE)+VLOOKUP(VLOOKUP($C85,'Base Information'!$D$91:$G$152,2,FALSE),$C$14:$X$77,7,FALSE)+VLOOKUP(VLOOKUP($C85,'Base Information'!$D$91:$G$152,3,FALSE),$C$14:$X$77,7,FALSE)+VLOOKUP(VLOOKUP($C85,'Base Information'!$D$91:$G$152,4,FALSE),$C$14:$X$77,7,FALSE)","v":7},{"$f":"VLOOKUP(VLOOKUP($C85,'Base Information'!$D$91:$G$152,1,FALSE),$C$14:$X$77,8,FALSE)+VLOOKUP(VLOOKUP($C85,'Base Information'!$D$91:$G$152,2,FALSE),$C$14:$X$77,8,FALSE)+VLOOKUP(VLOOKUP($C85,'Base Information'!$D$91:$G$152,3,FALSE),$C$14:$X$77,8,FALSE)+VLOOKUP(VLOOKUP($C85,'Base Information'!$D$91:$G$152,4,FALSE),$C$14:$X$77,8,FALSE)","v":21},{"$f":"VLOOKUP(VLOOKUP($C85,'Base Information'!$D$91:$G$152,1,FALSE),$C$14:$X$77,9,FALSE)+VLOOKUP(VLOOKUP($C85,'Base Information'!$D$91:$G$152,2,FALSE),$C$14:$X$77,9,FALSE)+VLOOKUP(VLOOKUP($C85,'Base Information'!$D$91:$G$152,3,FALSE),$C$14:$X$77,9,FALSE)+VLOOKUP(VLOOKUP($C85,'Base Information'!$D$91:$G$152,4,FALSE),$C$14:$X$77,9,FALSE)","v":0},{"$f":"VLOOKUP(VLOOKUP($C85,'Base Information'!$D$91:$G$152,1,FALSE),$C$14:$X$77,10,FALSE)+VLOOKUP(VLOOKUP($C85,'Base Information'!$D$91:$G$152,2,FALSE),$C$14:$X$77,10,FALSE)+VLOOKUP(VLOOKUP($C85,'Base Information'!$D$91:$G$152,3,FALSE),$C$14:$X$77,10,FALSE)+VLOOKUP(VLOOKUP($C85,'Base Information'!$D$91:$G$152,4,FALSE),$C$14:$X$77,10,FALSE)","v":0},{"$f":"SUM(I85:L85)","v":28},{"$f":"VLOOKUP(VLOOKUP($C85,'Base Information'!$D$91:$G$152,1,FALSE),$C$14:$X$77,12,FALSE)+VLOOKUP(VLOOKUP($C85,'Base Information'!$D$91:$G$152,2,FALSE),$C$14:$X$77,12,FALSE)+VLOOKUP(VLOOKUP($C85,'Base Information'!$D$91:$G$152,3,FALSE),$C$14:$X$77,12,FALSE)+VLOOKUP(VLOOKUP($C85,'Base Information'!$D$91:$G$152,4,FALSE),$C$14:$X$77,12,FALSE)","v":6},{"$f":"VLOOKUP(VLOOKUP($C85,'Base Information'!$D$91:$G$152,1,FALSE),$C$14:$X$77,13,FALSE)+VLOOKUP(VLOOKUP($C85,'Base Information'!$D$91:$G$152,2,FALSE),$C$14:$X$77,13,FALSE)+VLOOKUP(VLOOKUP($C85,'Base Information'!$D$91:$G$152,3,FALSE),$C$14:$X$77,13,FALSE)+VLOOKUP(VLOOKUP($C85,'Base Information'!$D$91:$G$152,4,FALSE),$C$14:$X$77,13,FALSE)","v":0},{"$f":"VLOOKUP(VLOOKUP($C85,'Base Information'!$D$91:$G$152,1,FALSE),$C$14:$X$77,14,FALSE)+VLOOKUP(VLOOKUP($C85,'Base Information'!$D$91:$G$152,2,FALSE),$C$14:$X$77,14,FALSE)+VLOOKUP(VLOOKUP($C85,'Base Information'!$D$91:$G$152,3,FALSE),$C$14:$X$77,14,FALSE)+VLOOKUP(VLOOKUP($C85,'Base Information'!$D$91:$G$152,4,FALSE),$C$14:$X$77,14,FALSE)","v":11},{"$f":"VLOOKUP(VLOOKUP($C85,'Base Information'!$D$91:$G$152,1,FALSE),$C$14:$X$77,15,FALSE)+VLOOKUP(VLOOKUP($C85,'Base Information'!$D$91:$G$152,2,FALSE),$C$14:$X$77,15,FALSE)+VLOOKUP(VLOOKUP($C85,'Base Information'!$D$91:$G$152,3,FALSE),$C$14:$X$77,15,FALSE)+VLOOKUP(VLOOKUP($C85,'Base Information'!$D$91:$G$152,4,FALSE),$C$14:$X$77,15,FALSE)","v":0},{"$f":"SUM(N85:Q85)","v":17},{"$f":"VLOOKUP(VLOOKUP($C85,'Base Information'!$D$91:$G$152,1,FALSE),$C$14:$X$77,17,FALSE)+VLOOKUP(VLOOKUP($C85,'Base Information'!$D$91:$G$152,2,FALSE),$C$14:$X$77,17,FALSE)+VLOOKUP(VLOOKUP($C85,'Base Information'!$D$91:$G$152,3,FALSE),$C$14:$X$77,17,FALSE)+VLOOKUP(VLOOKUP($C85,'Base Information'!$D$91:$G$152,4,FALSE),$C$14:$X$77,17,FALSE)","v":0},{"$f":"VLOOKUP(VLOOKUP($C85,'Base Information'!$D$91:$G$152,1,FALSE),$C$14:$X$77,18,FALSE)+VLOOKUP(VLOOKUP($C85,'Base Information'!$D$91:$G$152,2,FALSE),$C$14:$X$77,18,FALSE)+VLOOKUP(VLOOKUP($C85,'Base Information'!$D$91:$G$152,3,FALSE),$C$14:$X$77,18,FALSE)+VLOOKUP(VLOOKUP($C85,'Base Information'!$D$91:$G$152,4,FALSE),$C$14:$X$77,18,FALSE)","v":21},{"$f":"VLOOKUP(VLOOKUP($C85,'Base Information'!$D$91:$G$152,1,FALSE),$C$14:$X$77,19,FALSE)+VLOOKUP(VLOOKUP($C85,'Base Information'!$D$91:$G$152,2,FALSE),$C$14:$X$77,19,FALSE)+VLOOKUP(VLOOKUP($C85,'Base Information'!$D$91:$G$152,3,FALSE),$C$14:$X$77,19,FALSE)+VLOOKUP(VLOOKUP($C85,'Base Information'!$D$91:$G$152,4,FALSE),$C$14:$X$77,19,FALSE)","v":2},{"$f":"VLOOKUP(VLOOKUP($C85,'Base Information'!$D$91:$G$152,1,FALSE),$C$14:$X$77,20,FALSE)+VLOOKUP(VLOOKUP($C85,'Base Information'!$D$91:$G$152,2,FALSE),$C$14:$X$77,20,FALSE)+VLOOKUP(VLOOKUP($C85,'Base Information'!$D$91:$G$152,3,FALSE),$C$14:$X$77,20,FALSE)+VLOOKUP(VLOOKUP($C85,'Base Information'!$D$91:$G$152,4,FALSE),$C$14:$X$77,20,FALSE)","v":0},{"$f":"SUM(S85:V85)","v":23},{"$f":"H85+M85+R85+W85","v":68}]
[null,"MD",{"$f":"'15-Min All Vehicle'!$C$86","v":"12:59:59.942"},{"$f":"VLOOKUP(VLOOKUP($C86,'Base Information'!$D$91:$G$152,1,FALSE),$C$14:$X$77,2,FALSE)+VLOOKUP(VLOOKUP($C86,'Base Information'!$D$91:$G$152,2,FALSE),$C$14:$X$77,2,FALSE)+VLOOKUP(VLOOKUP($C86,'Base Information'!$D$91:$G$152,3,FALSE),$C$14:$X$77,2,FALSE)+VLOOKUP(VLOOKUP($C86,'Base Information'!$D$91:$G$152,4,FALSE),$C$14:$X$77,2,FALSE)","v":0},{"$f":"VLOOKUP(VLOOKUP($C86,'Base Information'!$D$91:$G$152,1,FALSE),$C$14:$X$77,3,FALSE)+VLOOKUP(VLOOKUP($C86,'Base Information'!$D$91:$G$152,2,FALSE),$C$14:$X$77,3,FALSE)+VLOOKUP(VLOOKUP($C86,'Base Information'!$D$91:$G$152,3,FALSE),$C$14:$X$77,3,FALSE)+VLOOKUP(VLOOKUP($C86,'Base Information'!$D$91:$G$152,4,FALSE),$C$14:$X$77,3,FALSE)","v":0},{"$f":"VLOOKUP(VLOOKUP($C86,'Base Information'!$D$91:$G$152,1,FALSE),$C$14:$X$77,4,FALSE)+VLOOKUP(VLOOKUP($C86,'Base Information'!$D$91:$G$152,2,FALSE),$C$14:$X$77,4,FALSE)+VLOOKUP(VLOOKUP($C86,'Base Information'!$D$91:$G$152,3,FALSE),$C$14:$X$77,4,FALSE)+VLOOKUP(VLOOKUP($C86,'Base Information'!$D$91:$G$152,4,FALSE),$C$14:$X$77,4,FALSE)","v":0},{"$f":"VLOOKUP(VLOOKUP($C86,'Base Information'!$D$91:$G$152,1,FALSE),$C$14:$X$77,5,FALSE)+VLOOKUP(VLOOKUP($C86,'Base Information'!$D$91:$G$152,2,FALSE),$C$14:$X$77,5,FALSE)+VLOOKUP(VLOOKUP($C86,'Base Information'!$D$91:$G$152,3,FALSE),$C$14:$X$77,5,FALSE)+VLOOKUP(VLOOKUP($C86,'Base Information'!$D$91:$G$152,4,FALSE),$C$14:$X$77,5,FALSE)","v":0},{"$f":"SUM(D86:G86)","v":0},{"$f":"VLOOKUP(VLOOKUP($C86,'Base Information'!$D$91:$G$152,1,FALSE),$C$14:$X$77,7,FALSE)+VLOOKUP(VLOOKUP($C86,'Base Information'!$D$91:$G$152,2,FALSE),$C$14:$X$77,7,FALSE)+VLOOKUP(VLOOKUP($C86,'Base Information'!$D$91:$G$152,3,FALSE),$C$14:$X$77,7,FALSE)+VLOOKUP(VLOOKUP($C86,'Base Information'!$D$91:$G$152,4,FALSE),$C$14:$X$77,7,FALSE)","v":3},{"$f":"VLOOKUP(VLOOKUP($C86,'Base Information'!$D$91:$G$152,1,FALSE),$C$14:$X$77,8,FALSE)+VLOOKUP(VLOOKUP($C86,'Base Information'!$D$91:$G$152,2,FALSE),$C$14:$X$77,8,FALSE)+VLOOKUP(VLOOKUP($C86,'Base Information'!$D$91:$G$152,3,FALSE),$C$14:$X$77,8,FALSE)+VLOOKUP(VLOOKUP($C86,'Base Information'!$D$91:$G$152,4,FALSE),$C$14:$X$77,8,FALSE)","v":12},{"$f":"VLOOKUP(VLOOKUP($C86,'Base Information'!$D$91:$G$152,1,FALSE),$C$14:$X$77,9,FALSE)+VLOOKUP(VLOOKUP($C86,'Base Information'!$D$91:$G$152,2,FALSE),$C$14:$X$77,9,FALSE)+VLOOKUP(VLOOKUP($C86,'Base Information'!$D$91:$G$152,3,FALSE),$C$14:$X$77,9,FALSE)+VLOOKUP(VLOOKUP($C86,'Base Information'!$D$91:$G$152,4,FALSE),$C$14:$X$77,9,FALSE)","v":0},{"$f":"VLOOKUP(VLOOKUP($C86,'Base Information'!$D$91:$G$152,1,FALSE),$C$14:$X$77,10,FALSE)+VLOOKUP(VLOOKUP($C86,'Base Information'!$D$91:$G$152,2,FALSE),$C$14:$X$77,10,FALSE)+VLOOKUP(VLOOKUP($C86,'Base Information'!$D$91:$G$152,3,FALSE),$C$14:$X$77,10,FALSE)+VLOOKUP(VLOOKUP($C86,'Base Information'!$D$91:$G$152,4,FALSE),$C$14:$X$77,10,FALSE)","v":0},{"$f":"SUM(I86:L86)","v":15},{"$f":"VLOOKUP(VLOOKUP($C86,'Base Information'!$D$91:$G$152,1,FALSE),$C$14:$X$77,12,FALSE)+VLOOKUP(VLOOKUP($C86,'Base Information'!$D$91:$G$152,2,FALSE),$C$14:$X$77,12,FALSE)+VLOOKUP(VLOOKUP($C86,'Base Information'!$D$91:$G$152,3,FALSE),$C$14:$X$77,12,FALSE)+VLOOKUP(VLOOKUP($C86,'Base Information'!$D$91:$G$152,4,FALSE),$C$14:$X$77,12,FALSE)","v":4},{"$f":"VLOOKUP(VLOOKUP($C86,'Base Information'!$D$91:$G$152,1,FALSE),$C$14:$X$77,13,FALSE)+VLOOKUP(VLOOKUP($C86,'Base Information'!$D$91:$G$152,2,FALSE),$C$14:$X$77,13,FALSE)+VLOOKUP(VLOOKUP($C86,'Base Information'!$D$91:$G$152,3,FALSE),$C$14:$X$77,13,FALSE)+VLOOKUP(VLOOKUP($C86,'Base Information'!$D$91:$G$152,4,FALSE),$C$14:$X$77,13,FALSE)","v":0},{"$f":"VLOOKUP(VLOOKUP($C86,'Base Information'!$D$91:$G$152,1,FALSE),$C$14:$X$77,14,FALSE)+VLOOKUP(VLOOKUP($C86,'Base Information'!$D$91:$G$152,2,FALSE),$C$14:$X$77,14,FALSE)+VLOOKUP(VLOOKUP($C86,'Base Information'!$D$91:$G$152,3,FALSE),$C$14:$X$77,14,FALSE)+VLOOKUP(VLOOKUP($C86,'Base Information'!$D$91:$G$152,4,FALSE),$C$14:$X$77,14,FALSE)","v":13},{"$f":"VLOOKUP(VLOOKUP($C86,'Base Information'!$D$91:$G$152,1,FALSE),$C$14:$X$77,15,FALSE)+VLOOKUP(VLOOKUP($C86,'Base Information'!$D$91:$G$152,2,FALSE),$C$14:$X$77,15,FALSE)+VLOOKUP(VLOOKUP($C86,'Base Information'!$D$91:$G$152,3,FALSE),$C$14:$X$77,15,FALSE)+VLOOKUP(VLOOKUP($C86,'Base Information'!$D$91:$G$152,4,FALSE),$C$14:$X$77,15,FALSE)","v":0},{"$f":"SUM(N86:Q86)","v":17},{"$f":"VLOOKUP(VLOOKUP($C86,'Base Information'!$D$91:$G$152,1,FALSE),$C$14:$X$77,17,FALSE)+VLOOKUP(VLOOKUP($C86,'Base Information'!$D$91:$G$152,2,FALSE),$C$14:$X$77,17,FALSE)+VLOOKUP(VLOOKUP($C86,'Base Information'!$D$91:$G$152,3,FALSE),$C$14:$X$77,17,FALSE)+VLOOKUP(VLOOKUP($C86,'Base Information'!$D$91:$G$152,4,FALSE),$C$14:$X$77,17,FALSE)","v":0},{"$f":"VLOOKUP(VLOOKUP($C86,'Base Information'!$D$91:$G$152,1,FALSE),$C$14:$X$77,18,FALSE)+VLOOKUP(VLOOKUP($C86,'Base Information'!$D$91:$G$152,2,FALSE),$C$14:$X$77,18,FALSE)+VLOOKUP(VLOOKUP($C86,'Base Information'!$D$91:$G$152,3,FALSE),$C$14:$X$77,18,FALSE)+VLOOKUP(VLOOKUP($C86,'Base Information'!$D$91:$G$152,4,FALSE),$C$14:$X$77,18,FALSE)","v":20},{"$f":"VLOOKUP(VLOOKUP($C86,'Base Information'!$D$91:$G$152,1,FALSE),$C$14:$X$77,19,FALSE)+VLOOKUP(VLOOKUP($C86,'Base Information'!$D$91:$G$152,2,FALSE),$C$14:$X$77,19,FALSE)+VLOOKUP(VLOOKUP($C86,'Base Information'!$D$91:$G$152,3,FALSE),$C$14:$X$77,19,FALSE)+VLOOKUP(VLOOKUP($C86,'Base Information'!$D$91:$G$152,4,FALSE),$C$14:$X$77,19,FALSE)","v":3},{"$f":"VLOOKUP(VLOOKUP($C86,'Base Information'!$D$91:$G$152,1,FALSE),$C$14:$X$77,20,FALSE)+VLOOKUP(VLOOKUP($C86,'Base Information'!$D$91:$G$152,2,FALSE),$C$14:$X$77,20,FALSE)+VLOOKUP(VLOOKUP($C86,'Base Information'!$D$91:$G$152,3,FALSE),$C$14:$X$77,20,FALSE)+VLOOKUP(VLOOKUP($C86,'Base Information'!$D$91:$G$152,4,FALSE),$C$14:$X$77,20,FALSE)","v":0},{"$f":"SUM(S86:V86)","v":23},{"$f":"H86+M86+R86+W86","v":55}]
[null,"PM",{"$f":"'15-Min All Vehicle'!$C$87","v":"16:30:00"},{"$f":"VLOOKUP(VLOOKUP($C87,'Base Information'!$D$91:$G$152,1,FALSE),$C$14:$X$77,2,FALSE)+VLOOKUP(VLOOKUP($C87,'Base Information'!$D$91:$G$152,2,FALSE),$C$14:$X$77,2,FALSE)+VLOOKUP(VLOOKUP($C87,'Base Information'!$D$91:$G$152,3,FALSE),$C$14:$X$77,2,FALSE)+VLOOKUP(VLOOKUP($C87,'Base Information'!$D$91:$G$152,4,FALSE),$C$14:$X$77,2,FALSE)","v":0},{"$f":"VLOOKUP(VLOOKUP($C87,'Base Information'!$D$91:$G$152,1,FALSE),$C$14:$X$77,3,FALSE)+VLOOKUP(VLOOKUP($C87,'Base Information'!$D$91:$G$152,2,FALSE),$C$14:$X$77,3,FALSE)+VLOOKUP(VLOOKUP($C87,'Base Information'!$D$91:$G$152,3,FALSE),$C$14:$X$77,3,FALSE)+VLOOKUP(VLOOKUP($C87,'Base Information'!$D$91:$G$152,4,FALSE),$C$14:$X$77,3,FALSE)","v":0},{"$f":"VLOOKUP(VLOOKUP($C87,'Base Information'!$D$91:$G$152,1,FALSE),$C$14:$X$77,4,FALSE)+VLOOKUP(VLOOKUP($C87,'Base Information'!$D$91:$G$152,2,FALSE),$C$14:$X$77,4,FALSE)+VLOOKUP(VLOOKUP($C87,'Base Information'!$D$91:$G$152,3,FALSE),$C$14:$X$77,4,FALSE)+VLOOKUP(VLOOKUP($C87,'Base Information'!$D$91:$G$152,4,FALSE),$C$14:$X$77,4,FALSE)","v":0},{"$f":"VLOOKUP(VLOOKUP($C87,'Base Information'!$D$91:$G$152,1,FALSE),$C$14:$X$77,5,FALSE)+VLOOKUP(VLOOKUP($C87,'Base Information'!$D$91:$G$152,2,FALSE),$C$14:$X$77,5,FALSE)+VLOOKUP(VLOOKUP($C87,'Base Information'!$D$91:$G$152,3,FALSE),$C$14:$X$77,5,FALSE)+VLOOKUP(VLOOKUP($C87,'Base Information'!$D$91:$G$152,4,FALSE),$C$14:$X$77,5,FALSE)","v":0},{"$f":"SUM(D87:G87)","v":0},{"$f":"VLOOKUP(VLOOKUP($C87,'Base Information'!$D$91:$G$152,1,FALSE),$C$14:$X$77,7,FALSE)+VLOOKUP(VLOOKUP($C87,'Base Information'!$D$91:$G$152,2,FALSE),$C$14:$X$77,7,FALSE)+VLOOKUP(VLOOKUP($C87,'Base Information'!$D$91:$G$152,3,FALSE),$C$14:$X$77,7,FALSE)+VLOOKUP(VLOOKUP($C87,'Base Information'!$D$91:$G$152,4,FALSE),$C$14:$X$77,7,FALSE)","v":1},{"$f":"VLOOKUP(VLOOKUP($C87,'Base Information'!$D$91:$G$152,1,FALSE),$C$14:$X$77,8,FALSE)+VLOOKUP(VLOOKUP($C87,'Base Information'!$D$91:$G$152,2,FALSE),$C$14:$X$77,8,FALSE)+VLOOKUP(VLOOKUP($C87,'Base Information'!$D$91:$G$152,3,FALSE),$C$14:$X$77,8,FALSE)+VLOOKUP(VLOOKUP($C87,'Base Information'!$D$91:$G$152,4,FALSE),$C$14:$X$77,8,FALSE)","v":4},{"$f":"VLOOKUP(VLOOKUP($C87,'Base Information'!$D$91:$G$152,1,FALSE),$C$14:$X$77,9,FALSE)+VLOOKUP(VLOOKUP($C87,'Base Information'!$D$91:$G$152,2,FALSE),$C$14:$X$77,9,FALSE)+VLOOKUP(VLOOKUP($C87,'Base Information'!$D$91:$G$152,3,FALSE),$C$14:$X$77,9,FALSE)+VLOOKUP(VLOOKUP($C87,'Base Information'!$D$91:$G$152,4,FALSE),$C$14:$X$77,9,FALSE)","v":0},{"$f":"VLOOKUP(VLOOKUP($C87,'Base Information'!$D$91:$G$152,1,FALSE),$C$14:$X$77,10,FALSE)+VLOOKUP(VLOOKUP($C87,'Base Information'!$D$91:$G$152,2,FALSE),$C$14:$X$77,10,FALSE)+VLOOKUP(VLOOKUP($C87,'Base Information'!$D$91:$G$152,3,FALSE),$C$14:$X$77,10,FALSE)+VLOOKUP(VLOOKUP($C87,'Base Information'!$D$91:$G$152,4,FALSE),$C$14:$X$77,10,FALSE)","v":0},{"$f":"SUM(I87:L87)","v":5},{"$f":"VLOOKUP(VLOOKUP($C87,'Base Information'!$D$91:$G$152,1,FALSE),$C$14:$X$77,12,FALSE)+VLOOKUP(VLOOKUP($C87,'Base Information'!$D$91:$G$152,2,FALSE),$C$14:$X$77,12,FALSE)+VLOOKUP(VLOOKUP($C87,'Base Information'!$D$91:$G$152,3,FALSE),$C$14:$X$77,12,FALSE)+VLOOKUP(VLOOKUP($C87,'Base Information'!$D$91:$G$152,4,FALSE),$C$14:$X$77,12,FALSE)","v":3},{"$f":"VLOOKUP(VLOOKUP($C87,'Base Information'!$D$91:$G$152,1,FALSE),$C$14:$X$77,13,FALSE)+VLOOKUP(VLOOKUP($C87,'Base Information'!$D$91:$G$152,2,FALSE),$C$14:$X$77,13,FALSE)+VLOOKUP(VLOOKUP($C87,'Base Information'!$D$91:$G$152,3,FALSE),$C$14:$X$77,13,FALSE)+VLOOKUP(VLOOKUP($C87,'Base Information'!$D$91:$G$152,4,FALSE),$C$14:$X$77,13,FALSE)","v":0},{"$f":"VLOOKUP(VLOOKUP($C87,'Base Information'!$D$91:$G$152,1,FALSE),$C$14:$X$77,14,FALSE)+VLOOKUP(VLOOKUP($C87,'Base Information'!$D$91:$G$152,2,FALSE),$C$14:$X$77,14,FALSE)+VLOOKUP(VLOOKUP($C87,'Base Information'!$D$91:$G$152,3,FALSE),$C$14:$X$77,14,FALSE)+VLOOKUP(VLOOKUP($C87,'Base Information'!$D$91:$G$152,4,FALSE),$C$14:$X$77,14,FALSE)","v":2},{"$f":"VLOOKUP(VLOOKUP($C87,'Base Information'!$D$91:$G$152,1,FALSE),$C$14:$X$77,15,FALSE)+VLOOKUP(VLOOKUP($C87,'Base Information'!$D$91:$G$152,2,FALSE),$C$14:$X$77,15,FALSE)+VLOOKUP(VLOOKUP($C87,'Base Information'!$D$91:$G$152,3,FALSE),$C$14:$X$77,15,FALSE)+VLOOKUP(VLOOKUP($C87,'Base Information'!$D$91:$G$152,4,FALSE),$C$14:$X$77,15,FALSE)","v":0},{"$f":"SUM(N87:Q87)","v":5},{"$f":"VLOOKUP(VLOOKUP($C87,'Base Information'!$D$91:$G$152,1,FALSE),$C$14:$X$77,17,FALSE)+VLOOKUP(VLOOKUP($C87,'Base Information'!$D$91:$G$152,2,FALSE),$C$14:$X$77,17,FALSE)+VLOOKUP(VLOOKUP($C87,'Base Information'!$D$91:$G$152,3,FALSE),$C$14:$X$77,17,FALSE)+VLOOKUP(VLOOKUP($C87,'Base Information'!$D$91:$G$152,4,FALSE),$C$14:$X$77,17,FALSE)","v":0},{"$f":"VLOOKUP(VLOOKUP($C87,'Base Information'!$D$91:$G$152,1,FALSE),$C$14:$X$77,18,FALSE)+VLOOKUP(VLOOKUP($C87,'Base Information'!$D$91:$G$152,2,FALSE),$C$14:$X$77,18,FALSE)+VLOOKUP(VLOOKUP($C87,'Base Information'!$D$91:$G$152,3,FALSE),$C$14:$X$77,18,FALSE)+VLOOKUP(VLOOKUP($C87,'Base Information'!$D$91:$G$152,4,FALSE),$C$14:$X$77,18,FALSE)","v":0},{"$f":"VLOOKUP(VLOOKUP($C87,'Base Information'!$D$91:$G$152,1,FALSE),$C$14:$X$77,19,FALSE)+VLOOKUP(VLOOKUP($C87,'Base Information'!$D$91:$G$152,2,FALSE),$C$14:$X$77,19,FALSE)+VLOOKUP(VLOOKUP($C87,'Base Information'!$D$91:$G$152,3,FALSE),$C$14:$X$77,19,FALSE)+VLOOKUP(VLOOKUP($C87,'Base Information'!$D$91:$G$152,4,FALSE),$C$14:$X$77,19,FALSE)","v":0},{"$f":"VLOOKUP(VLOOKUP($C87,'Base Information'!$D$91:$G$152,1,FALSE),$C$14:$X$77,20,FALSE)+VLOOKUP(VLOOKUP($C87,'Base Information'!$D$91:$G$152,2,FALSE),$C$14:$X$77,20,FALSE)+VLOOKUP(VLOOKUP($C87,'Base Information'!$D$91:$G$152,3,FALSE),$C$14:$X$77,20,FALSE)+VLOOKUP(VLOOKUP($C87,'Base Information'!$D$91:$G$152,4,FALSE),$C$14:$X$77,20,FALSE)","v":0},{"$f":"SUM(S87:V87)","v":0},{"$f":"H87+M87+R87+W87","v":10}]

{"sheet":"15-Min Semi-Truck","index":8,"n_rows":87,"n_cols":26,"rows_kept":87,"cut":false,"hidden":false,"merged":[[2,16,2,19],[3,14,3,19],[0,1,3,12],[9,8,9,9],[9,11,9,12],[5,16,5,23],[6,16,7,23],[9,13,9,14],[9,16,9,17],[9,18,9,19],[9,21,9,22],[2,20,2,22],[2,23,2,25],[3,20,3,22],[3,23,3,25],[2,14,2,15],[45,1,76,1],[77,1,77,2],[13,1,28,1],[29,1,44,1],[9,3,9,4],[10,3,10,7],[9,6,9,7],[81,3,81,7],[81,8,81,12],[81,13,81,17],[81,18,81,22],[10,18,10,22],[80,3,80,4],[80,6,80,7],[80,8,80,9],[80,11,80,12],[80,13,80,14],[80,16,80,17],[80,18,80,19],[80,21,80,22],[10,8,10,12],[10,13,10,17]]}
[null,"Intersection Traffic Volume Report"]
[null,null,null,null,null,null,null,null,null,null,null,null,null,null,"Count Basics",null,null,null,null,null,null,null,null,null,null,"Page 8 of 11"]
[null,null,null,null,null,null,null,null,null,null,null,null,null,null,{"$f":"'Base Information'!$L$3","v":"Start Date:"},null,{"$f":"'Base Information'!$N$3","v":"2011-12-06"},null,null,null,{"$f":"'Base Information'!R3","v":"Weekday"},null,null,{"$f":"'Base Information'!U3","v":"Schools in Session"}]
[null,null,null,null,null,null,null,null,null,null,null,null,null,null,{"$f":"'Base Information'!$L$4","v":"Total Number of Hours Counted: 12"},null,null,null,null,null,{"$f":"'Base Information'!R4","v":"Non-Holiday"},null,null,{"$f":"'Base Information'!U4","v":"No Special Events"}]
[null,"15-Minute Semi-Truck Data"]
[null,null,null,null,null,null,null,null,null,null,null,null,null,null,null,null,"Semi-Trucks"]
[null,{"$f":"'Base Information'!E7","v":"441 NB ON RAMP and CTH OO (Northland Ave)"}]
[]
[null,"15-Minute Semi-Truck Data"]
[null,null,null,null,null,"ê",null,null,null,null,"ç",null,null,null,null,"é",null,null,null,null,"è"]
[null,"15-Minute",null,"From North",null,null,null,null,"From East",null,null,null,null,"From South",null,null,null,null,"From West"]
[null,"Time Period",null,{"$f":"'Base Information'!$D$14:$D$14","v":"441 NB ON RAMP"},null,null,null,null,{"$f":"'Base Information'!$D$15:$D$15","v":"CTH OO (Northland Ave)"},null,null,null,null,{"$f":"'Base Information'!$D$16:$D$16","v":"441 NB OFF RAMP"},null,null,null,null,{"$f":"'Base Information'!$D$17:$D$17","v":"CTH OO (Northland Ave)"},null,null,null,null,"15-Min",null,"Hourly"]
[null,"Start Time",null,"Right ","Thru ","Left ","U-Tn","Total","Right ","Thru ","Left ","U-Tn","Total","Right ","Thru ","Left ","U-Tn","Total","Right ","Thru ","Left ","U-Tn","Total","Totals",null,"Sum"]
[null,"AM Peak Period","06:00:00",{"$f":"Calculations!$BZ$6","v":0},{"$f":"Calculations!$CA$6","v":0},{"$f":"Calculations!$CB$6","v":0},0,{"$f":"D14+E14+F14+G14","v":0},{"$f":"Calculations!$CD$6","v":0},{"$f":"Calculations!$CE$6","v":1},{"$f":"Calculations!$CF$6","v":0},0,{"$f":"I14+J14+K14+L14","v":1},{"$f":"Calculations!$CH$6","v":1},{"$f":"Calculations!$CI$6","v":0},{"$f":"Calculations!$CJ$6","v":0},0,{"$f":"N14+O14+P14+Q14","v":1},{"$f":"Calculations!$CL$6","v":0},{"$f":"Calculations!$CM$6","v":1},{"$f":"Calculations!$CN$6","v":0},0,{"$f":"S14+T14+U14+V14","v":1},{"$f":"H14+M14+R14+W14","v":3},null,{"$f":"IF(OR('15-Min All Vehicle'!X14=0,'15-Min All Vehicle'!X15=0, '15-Min All Vehicle'!X16=0,'15-Min All Vehicle'!X17=0)=TRUE,\"\",X14+X15+X16+X17)","v":22}]
[null,null,"06:14:59.942",{"$f":"Calculations!$BZ$9","v":0},{"$f":"Calculations!$CA$9","v":0},{"$f":"Calculations!$CB$9","v":0},0,{"$f":"D15+E15+F15+G15","v":0},{"$f":"Calculations!$CD$9","v":0},{"$f":"Calculations!$CE$9","v":0},{"$f":"Calculations!$CF$9","v":0},0,0,{"$f":"Calculations!$CH$9","v":0},{"$f":"Calculations!$CI$9","v":0},{"$f":"Calculations!$CJ$9","v":3},0,3,{"$f":"Calculations!$CL$9","v":0},{"$f":"Calculations!$CM$9","v":2},{"$f":"Calculations!$CN$9","v":0},0,2,5,null,{"$f":"IF(OR('15-Min All Vehicle'!X15=0,'15-Min All Vehicle'!X16=0, '15-Min All Vehicle'!X17=0,'15-Min All Vehicle'!X18=0)=TRUE,\"\",X15+X16+X17+X18)","v":28}]
[null,null,"06:29:59.971",{"$f":"Calculations!$BZ$12","v":0},{"$f":"Calculations!$CA$12","v":0},{"$f":"Calculations!$CB$12","v":0},0,0,{"$f":"Calculations!$CD$12","v":2},{"$f":"Calculations!$CE$12","v":0},{"$f":"Calculations!$CF$12","v":0},0,2,{"$f":"Calculations!$CH$12","v":1},{"$f":"Calculations!$CI$12","v":0},{"$f":"Calculations!$CJ$12","v":1},0,2,{"$f":"Calculations!$CL$12","v":0},{"$f":"Calculations!$CM$12","v":0},{"$f":"Calculations!$CN$12","v":2},0,2,6,null,{"$f":"IF(OR('15-Min All Vehicle'!X16=0,'15-Min All Vehicle'!X17=0, '15-Min All Vehicle'!X18=0,'15-Min All Vehicle'!X19=0)=TRUE,\"\",X16+X17+X18+X19)","v":26}]
[null,null,"06:45:00",{"$f":"Calculations!$BZ$15","v":0},{"$f":"Calculations!$CA$15","v":0},{"$f":"Calculations!$CB$15","v":0},0,0,{"$f":"Calculations!$CD$15","v":2},{"$f":"Calculations!$CE$15","v":0},{"$f":"Calculations!$CF$15","v":0},0,2,{"$f":"Calculations!$CH$15","v":3},{"$f":"Calculations!$CI$15","v":0},{"$f":"Calculations!$CJ$15","v":0},0,3,{"$f":"Calculations!$CL$15","v":0},{"$f":"Calculations!$CM$15","v":2},{"$f":"Calculations!$CN$15","v":1},0,3,8,null,{"$f":"IF(OR('15-Min All Vehicle'!X17=0,'15-Min All Vehicle'!X18=0, '15-Min All Vehicle'!X19=0,'15-Min All Vehicle'!X20=0)=TRUE,\"\",X17+X18+X19+X20)","v":29}]
[null,null,"06:59:59.942",{"$f":"Calculations!$BZ$18","v":0},{"$f":"Calculations!$CA$18","v":0},{"$f":"Calculations!$CB$18","v":0},0,0,{"$f":"Calculations!$CD$18","v":2},{"$f":"Calculations!$CE$18","v":4},{"$f":"Calculations!$CF$18","v":0},0,6,{"$f":"Calculations!$CH$18","v":3},{"$f":"Calculations!$CI$18","v":0},{"$f":"Calculations!$CJ$18","v":0},0,3,{"$f":"Calculations!$CL$18","v":0},{"$f":"Calculations!$CM$18","v":0},{"$f":"Calculations!$CN$18","v":0},0,0,9,null,{"$f":"IF(OR('15-Min All Vehicle'!X18=0,'15-Min All Vehicle'!X19=0, '15-Min All Vehicle'!X20=0,'15-Min All Vehicle'!X21=0)=TRUE,\"\",X18+X19+X20+X21)","v":27}]
[null,null,"07:14:59.971",{"$f":"Calculations!$BZ$21","v":0},{"$f":"Calculations!$CA$21","v":0},{"$f":"Calculations!$CB$21","v":0},0,0,{"$f":"Calculations!$CD$21","v":1},{"$f":"Calculations!$CE$21","v":1},{"$f":"Calculations!$CF$21","v":0},0,2,{"$f":"Calculations!$CH$21","v":0},{"$f":"Calculations!$CI$21","v":0},{"$f":"Calculations!$CJ$21","v":1},0,1,{"$f":"Calculations!$CL$21","v":0},{"$f":"Calculations!$CM$21","v":0},{"$f":"Calculations!$CN$21","v":0},0,0,3,null,{"$f":"IF(OR('15-Min All Vehicle'!X19=0,'15-Min All Vehicle'!X20=0, '15-Min All Vehicle'!X21=0,'15-Min All Vehicle'!X22=0)=TRUE,\"\",X19+X20+X21+X22)","v":30}]
[null,null,"07:30:00",{"$f":"Calculations!$BZ$24","v":0},{"$f":"Calculations!$CA$24","v":0},{"$f":"Calculations!$CB$24","v":0},0,0,{"$f":"Calculations!$CD$24","v":1},{"$f":"Calculations!$CE$24","v":2},{"$f":"Calculations!$CF$24","v":0},0,3,{"$f":"Calculations!$CH$24","v":1},{"$f":"Calculations!$CI$24","v":1},{"$f":"Calculations!$CJ$24","v":1},0,3,{"$f":"Calculations!$CL$24","v":0},{"$f":"Calculations!$CM$24","v":3},{"$f":"Calculations!$CN$24","v":0},0,3,9,null,{"$f":"IF(OR('15-Min All Vehicle'!X20=0,'15-Min All Vehicle'!X21=0, '15-Min All Vehicle'!X22=0,'15-Min All Vehicle'!X23=0)=TRUE,\"\",X20+X21+X22+X23)","v":42}]
[null,null,"07:44:59.942",{"$f":"Calculations!$BZ$27","v":0},{"$f":"Calculations!$CA$27","v":0},{"$f":"Calculations!$CB$27","v":0},0,0,{"$f":"Calculations!$CD$27","v":1},{"$f":"Calculations!$CE$27","v":1},{"$f":"Calculations!$CF$27","v":0},0,2,{"$f":"Calculations!$CH$27","v":2},{"$f":"Calculations!$CI$27","v":0},{"$f":"Calculations!$CJ$27","v":0},0,2,{"$f":"Calculations!$CL$27","v":0},{"$f":"Calculations!$CM$27","v":2},{"$f":"Calculations!$CN$27","v":0},0,2,6,null,{"$f":"IF(OR('15-Min All Vehicle'!X21=0,'15-Min All Vehicle'!X22=0, '15-Min All Vehicle'!X23=0,'15-Min All Vehicle'!X24=0)=TRUE,\"\",X21+X22+X23+X24)","v":47}]
[null,null,"07:59:59.971",{"$f":"Calculations!$BZ$30","v":0},{"$f":"Calculations!$CA$30","v":0},{"$f":"Calculations!$CB$30","v":0},0,0,{"$f":"Calculations!$CD$30","v":1},{"$f":"Calculations!$CE$30","v":1},{"$f":"Calculations!$CF$30","v":0},0,2,{"$f":"Calculations!$CH$30","v":4},{"$f":"Calculations!$CI$30","v":0},{"$f":"Calculations!$CJ$30","v":3},0,7,{"$f":"Calculations!$CL$30","v":0},{"$f":"Calculations!$CM$30","v":2},{"$f":"Calculations!$CN$30","v":1},0,3,12,null,{"$f":"IF(OR('15-Min All Vehicle'!X22=0,'15-Min All Vehicle'!X23=0, '15-Min All Vehicle'!X24=0,'15-Min All Vehicle'!X25=0)=TRUE,\"\",X22+X23+X24+X25)","v":56}]
[null,null,"08:15:00",{"$f":"Calculations!$BZ$33","v":0},{"$f":"Calculations!$CA$33","v":0},{"$f":"Calculations!$CB$33","v":0},0,0,{"$f":"Calculations!$CD$33","v":2},{"$f":"Calculations!$CE$33","v":2},{"$f":"Calculations!$CF$33","v":0},0,4,{"$f":"Calculations!$CH$33","v":4},{"$f":"Calculations!$CI$33","v":0},{"$f":"Calculations!$CJ$33","v":6},0,10,{"$f":"Calculations!$CL$33","v":0},{"$f":"Calculations!$CM$33","v":0},{"$f":"Calculations!$CN$33","v":1},0,1,15,null,{"$f":"IF(OR('15-Min All Vehicle'!X23=0,'15-Min All Vehicle'!X24=0, '15-Min All Vehicle'!X25=0,'15-Min All Vehicle'!X26=0)=TRUE,\"\",X23+X24+X25+X26)","v":44}]
[null,null,"08:29:59.942",{"$f":"Calculations!$BZ$36","v":0},{"$f":"Calculations!$CA$36","v":0},{"$f":"Calculations!$CB$36","v":0},0,0,{"$f":"Calculations!$CD$36","v":4},{"$f":"Calculations!$CE$36","v":4},{"$f":"Calculations!$CF$36","v":0},0,8,{"$f":"Calculations!$CH$36","v":3},{"$f":"Calculations!$CI$36","v":0},{"$f":"Calculations!$CJ$36","v":1},0,4,{"$f":"Calculations!$CL$36","v":0},{"$f":"Calculations!$CM$36","v":2},{"$f":"Calculations!$CN$36","v":0},0,2,14,null,{"$f":"IF(OR('15-Min All Vehicle'!X24=0,'15-Min All Vehicle'!X25=0, '15-Min All Vehicle'!X26=0,'15-Min All Vehicle'!X27=0)=TRUE,\"\",X24+X25+X26+X27)","v":47}]
[null,null,"08:44:59.971",{"$f":"Calculations!$BZ$39","v":0},{"$f":"Calculations!$CA$39","v":0},{"$f":"Calculations!$CB$39","v":0},0,0,{"$f":"Calculations!$CD$39","v":3},{"$f":"Calculations!$CE$39","v":2},{"$f":"Calculations!$CF$39","v":0},0,5,{"$f":"Calculations!$CH$39","v":3},{"$f":"Calculations!$CI$39","v":0},{"$f":"Calculations!$CJ$39","v":2},0,5,{"$f":"Calculations!$CL$39","v":0},{"$f":"Calculations!$CM$39","v":2},{"$f":"Calculations!$CN$39","v":3},0,5,15,null,{"$f":"IF(OR('15-Min All Vehicle'!X25=0,'15-Min All Vehicle'!X26=0, '15-Min All Vehicle'!X27=0,'15-Min All Vehicle'!X28=0)=TRUE,\"\",X25+X26+X27+X28)","v":48}]
[null,null,"09:00:00",{"$f":"Calculations!$BZ$42","v":0},{"$f":"Calculations!$CA$42","v":0},{"$f":"Calculations!$CB$42","v":0},0,0,{"$f":"Calculations!$CD$42","v":0},{"$f":"Calculations!$CE$42","v":0},{"$f":"Calculations!$CF$42","v":0},0,0,{"$f":"Calculations!$CH$42","v":0},{"$f":"Calculations!$CI$42","v":0},{"$f":"Calculations!$CJ$42","v":0},0,0,{"$f":"Calculations!$CL$42","v":0},{"$f":"Calculations!$CM$42","v":0},{"$f":"Calculations!$CN$42","v":0},0,0,0,null,{"$f":"IF(OR('15-Min All Vehicle'!X26=0,'15-Min All Vehicle'!X27=0, '15-Min All Vehicle'!X28=0,'15-Min All Vehicle'!X29=0)=TRUE,\"\",X26+X27+X28+X29)","v":50}]
[null,null,"09:14:59.942",{"$f":"Calculations!$BZ$45","v":0},{"$f":"Calculations!$CA$45","v":0},{"$f":"Calculations!$CB$45","v":0},0,0,{"$f":"Calculations!$CD$45","v":4},{"$f":"Calculations!$CE$45","v":2},{"$f":"Calculations!$CF$45","v":0},0,6,{"$f":"Calculations!$CH$45","v":4},{"$f":"Calculations!$CI$45","v":0},{"$f":"Calculations!$CJ$45","v":2},0,6,{"$f":"Calculations!$CL$45","v":0},{"$f":"Calculations!$CM$45","v":5},{"$f":"Calculations!$CN$45","v":1},0,6,18,null,{"$f":"IF(OR('15-Min All Vehicle'!X27=0,'15-Min All Vehicle'!X28=0, '15-Min All Vehicle'!X29=0,'15-Min All Vehicle'!X30=0)=TRUE,\"\",X27+X28+X29+X30)","v":65}]
[null,null,"09:29:59.971",{"$f":"Calculations!$BZ$48","v":0},{"$f":"Calculations!$CA$48","v":0},{"$f":"Calculations!$CB$48","v":0},0,0,{"$f":"Calculations!$CD$48","v":0},{"$f":"Calculations!$CE$48","v":5},{"$f":"Calculations!$CF$48","v":0},0,5,{"$f":"Calculations!$CH$48","v":1},{"$f":"Calculations!$CI$48","v":0},{"$f":"Calculations!$CJ$48","v":5},0,6,{"$f":"Calculations!$CL$48","v":0},{"$f":"Calculations!$CM$48","v":1},{"$f":"Calculations!$CN$48","v":3},0,4,15,null,{"$f":"IF(OR('15-Min All Vehicle'!X28=0,'15-Min All Vehicle'!X29=0, '15-Min All Vehicle'!X30=0,'15-Min All Vehicle'!X31=0)=TRUE,\"\",X28+X29+X30+X31)","v":62}]
[null,null,"09:45:00",{"$f":"Calculations!$BZ$51","v":0},{"$f":"Calculations!$CA$51","v":0},{"$f":"Calculations!$CB$51","v":0},0,0,{"$f":"Calculations!$CD$51","v":2},{"$f":"Calculations!$CE$51","v":5},{"$f":"Calculations!$CF$51","v":0},0,7,{"$f":"Calculations!$CH$51","v":5},{"$f":"Calculations!$CI$51","v":0},{"$f":"Calculations!$CJ$51","v":3},0,8,{"$f":"Calculations!$CL$51","v":0},{"$f":"Calculations!$CM$51","v":2},{"$f":"Calculations!$CN$51","v":0},0,2,17,null,{"$f":"IF(OR('15-Min All Vehicle'!X29=0,'15-Min All Vehicle'!X30=0, '15-Min All Vehicle'!X31=0,'15-Min All Vehicle'!X32=0)=TRUE,\"\",X29+X30+X31+X32)","v":59}]
[null,"Midday Peak Period","09:59:59.942",{"$f":"Calculations!$BZ$54","v":0},{"$f":"Calculations!$CA$54","v":0},{"$f":"Calculations!$CB$54","v":0},0,0,{"$f":"Calculations!$CD$54","v":5},{"$f":"Calculations!$CE$54","v":0},{"$f":"Calculations!$CF$54","v":0},0,5,{"$f":"Calculations!$CH$54","v":3},{"$f":"Calculations!$CI$54","v":0},{"$f":"Calculations!$CJ$54","v":1},0,4,{"$f":"Calculations!$CL$54","v":0},{"$f":"Calculations!$CM$54","v":4},{"$f":"Calculations!$CN$54","v":2},0,6,15,null,{"$f":"IF(OR('15-Min All Vehicle'!X30=0,'15-Min All Vehicle'!X31=0, '15-Min All Vehicle'!X32=0,'15-Min All Vehicle'!X33=0)=TRUE,\"\",X30+X31+X32+X33)","v":56}]
[null,null,"10:14:59.971",{"$f":"Calculations!$BZ$57","v":0},{"$f":"Calculations!$CA$57","v":0},{"$f":"Calculations!$CB$57","v":0},0,0,{"$f":"Calculations!$CD$57","v":3},{"$f":"Calculations!$CE$57","v":5},{"$f":"Calculations!$CF$57","v":0},0,8,{"$f":"Calculations!$CH$57","v":1},{"$f":"Calculations!$CI$57","v":0},{"$f":"Calculations!$CJ$57","v":5},0,6,{"$f":"Calculations!$CL$57","v":0},{"$f":"Calculations!$CM$57","v":1},{"$f":"Calculations!$CN$57","v":0},0,1,15,null,{"$f":"IF(OR('15-Min All Vehicle'!X31=0,'15-Min All Vehicle'!X32=0, '15-Min All Vehicle'!X33=0,'15-Min All Vehicle'!X34=0)=TRUE,\"\",X31+X32+X33+X34)","v":59}]
[null,null,"10:30:00",{"$f":"Calculations!$BZ$60","v":0},{"$f":"Calculations!$CA$60","v":0},{"$f":"Calculations!$CB$60","v":0},0,0,{"$f":"Calculations!$CD$60","v":3},{"$f":"Calculations!$CE$60","v":2},{"$f":"Calculations!$CF$60","v":0},0,5,{"$f":"Calculations!$CH$60","v":2},{"$f":"Calculations!$CI$60","v":0},{"$f":"Calculations!$CJ$60","v":3},0,5,{"$f":"Calculations!$CL$60","v":0},{"$f":"Calculations!$CM$60","v":2},{"$f":"Calculations!$CN$60","v":0},0,2,12,null,{"$f":"IF(OR('15-Min All Vehicle'!X32=0,'15-Min All Vehicle'!X33=0, '15-Min All Vehicle'!X34=0,'15-Min All Vehicle'!X35=0)=TRUE,\"\",X32+X33+X34+X35)","v":59}]
[null,null,"10:44:59.942",{"$f":"Calculations!$BZ$63","v":0},{"$f":"Calculations!$CA$63","v":0},{"$f":"Calculations!$CB$63","v":0},0,0,{"$f":"Calculations!$CD$63","v":3},{"$f":"Calculations!$CE$63","v":1},{"$f":"Calculations!$CF$63","v":0},0,4,{"$f":"Calculations!$CH$63","v":2},{"$f":"Calculations!$CI$63","v":0},{"$f":"Calculations!$CJ$63","v":2},0,4,{"$f":"Calculations!$CL$63","v":0},{"$f":"Calculations!$CM$63","v":3},{"$f":"Calculations!$CN$63","v":3},0,6,14,null,{"$f":"IF(OR('15-Min All Vehicle'!X33=0,'15-Min All Vehicle'!X34=0, '15-Min All Vehicle'!X35=0,'15-Min All Vehicle'!X36=0)=TRUE,\"\",X33+X34+X35+X36)","v":60}]
[null,null,"10:59:59.971",{"$f":"Calculations!$BZ$66","v":0},{"$f":"Calculations!$CA$66","v":0},{"$f":"Calculations!$CB$66","v":0},0,0,{"$f":"Calculations!$CD$66","v":1},{"$f":"Calculations!$CE$66","v":0},{"$f":"Calculations!$CF$66","v":0},0,1,{"$f":"Calculations!$CH$66","v":5},{"$f":"Calculations!$CI$66","v":0},{"$f":"Calculations!$CJ$66","v":6},0,11,{"$f":"Calculations!$CL$66","v":0},{"$f":"Calculations!$CM$66","v":2},{"$f":"Calculations!$CN$66","v":4},0,6,18,null,{"$f":"IF(OR('15-Min All Vehicle'!X34=0,'15-Min All Vehicle'!X35=0, '15-Min All Vehicle'!X36=0,'15-Min All Vehicle'!X37=0)=TRUE,\"\",X34+X35+X36+X37)","v":61}]
[null,null,"11:15:00",{"$f":"Calculations!$BZ$69","v":0},{"$f":"Calculations!$CA$69","v":0},{"$f":"Calculations!$CB$69","v":0},0,0,{"$f":"Calculations!$CD$69","v":0},{"$f":"Calculations!$CE$69","v":4},{"$f":"Calculations!$CF$69","v":0},0,4,{"$f":"Calculations!$CH$69","v":3},{"$f":"Calculations!$CI$69","v":0},{"$f":"Calculations!$CJ$69","v":3},0,6,{"$f":"Calculations!$CL$69","v":0},{"$f":"Calculations!$CM$69","v":4},{"$f":"Calculations!$CN$69","v":1},0,5,15,null,{"$f":"IF(OR('15-Min All Vehicle'!X35=0,'15-Min All Vehicle'!X36=0, '15-Min All Vehicle'!X37=0,'15-Min All Vehicle'!X38=0)=TRUE,\"\",X35+X36+X37+X38)","v":54}]
[null,null,"11:29:59.942",{"$f":"Calculations!$BZ$72","v":0},{"$f":"Calculations!$CA$72","v":0},{"$f":"Calculations!$CB$72","v":0},0,0,{"$f":"Calculations!$CD$72","v":3},{"$f":"Calculations!$CE$72","v":3},{"$f":"Calculations!$CF$72","v":0},0,6,{"$f":"Calculations!$CH$72","v":5},{"$f":"Calculations!$CI$72","v":0},{"$f":"Calculations!$CJ$72","v":0},0,5,{"$f":"Calculations!$CL$72","v":0},{"$f":"Calculations!$CM$72","v":1},{"$f":"Calculations!$CN$72","v":1},0,2,13,null,{"$f":"IF(OR('15-Min All Vehicle'!X36=0,'15-Min All Vehicle'!X37=0, '15-Min All Vehicle'!X38=0,'15-Min All Vehicle'!X39=0)=TRUE,\"\",X36+X37+X38+X39)","v":49}]
[null,null,"11:44:59.971",{"$f":"Calculations!$BZ$75","v":0},{"$f":"Calculations!$CA$75","v":0},{"$f":"Calculations!$CB$75","v":0},0,0,{"$f":"Calculations!$CD$75","v":1},{"$f":"Calculations!$CE$75","v":3},{"$f":"Calculations!$CF$75","v":0},0,4,{"$f":"Calculations!$CH$75","v":3},{"$f":"Calculations!$CI$75","v":0},{"$f":"Calculations!$CJ$75","v":2},0,5,{"$f":"Calculations!$CL$75","v":0},{"$f":"Calculations!$CM$75","v":3},{"$f":"Calculations!$CN$75","v":3},0,6,15,null,{"$f":"IF(OR('15-Min All Vehicle'!X37=0,'15-Min All Vehicle'!X38=0, '15-Min All Vehicle'!X39=0,'15-Min All Vehicle'!X40=0)=TRUE,\"\",X37+X38+X39+X40)","v":46}]
[null,null,"12:00:00",{"$f":"Calculations!$BZ$78","v":0},{"$f":"Calculations!$CA$78","v":0},{"$f":"Calculations!$CB$78","v":0},0,0,{"$f":"Calculations!$CD$78","v":3},{"$f":"Calculations!$CE$78","v":3},{"$f":"Calculations!$CF$78","v":0},0,6,{"$f":"Calculations!$CH$78","v":2},{"$f":"Calculations!$CI$78","v":0},{"$f":"Calculations!$CJ$78","v":2},0,4,{"$f":"Calculations!$CL$78","v":0},{"$f":"Calculations!$CM$78","v":0},{"$f":"Calculations!$CN$78","v":1},0,1,11,null,{"$f":"IF(OR('15-Min All Vehicle'!X38=0,'15-Min All Vehicle'!X39=0, '15-Min All Vehicle'!X40=0,'15-Min All Vehicle'!X41=0)=TRUE,\"\",X38+X39+X40+X41)","v":40}]
[null,null,"12:14:59.942",{"$f":"Calculations!$BZ$81","v":0},{"$f":"Calculations!$CA$81","v":0},{"$f":"Calculations!$CB$81","v":0},0,0,{"$f":"Calculations!$CD$81","v":2},{"$f":"Calculations!$CE$81","v":2},{"$f":"Calculations!$CF$81","v":0},0,4,{"$f":"Calculations!$CH$81","v":3},{"$f":"Calculations!$CI$81","v":0},{"$f":"Calculations!$CJ$81","v":0},0,3,{"$f":"Calculations!$CL$81","v":0},{"$f":"Calculations!$CM$81","v":2},{"$f":"Calculations!$CN$81","v":1},0,3,10,null,{"$f":"IF(OR('15-Min All Vehicle'!X39=0,'15-Min All Vehicle'!X40=0, '15-Min All Vehicle'!X41=0,'15-Min All Vehicle'!X42=0)=TRUE,\"\",X39+X40+X41+X42)","v":42}]
[null,null,"12:29:59.971",{"$f":"Calculations!$BZ$84","v":0},{"$f":"Calculations!$CA$84","v":0},{"$f":"Calculations!$CB$84","v":0},0,0,{"$f":"Calculations!$CD$84","v":1},{"$f":"Calculations!$CE$84","v":3},{"$f":"Calculations!$CF$84","v":0},0,4,{"$f":"Calculations!$CH$84","v":1},{"$f":"Calculations!$CI$84","v":0},{"$f":"Calculations!$CJ$84","v":2},0,3,{"$f":"Calculations!$CL$84","v":0},{"$f":"Calculations!$CM$84","v":3},{"$f":"Calculations!$CN$84","v":0},0,3,10,null,{"$f":"IF(OR('15-Min All Vehicle'!X40=0,'15-Min All Vehicle'!X41=0, '15-Min All Vehicle'!X42=0,'15-Min All Vehicle'!X43=0)=TRUE,\"\",X40+X41+X42+X43)","v":46}]
[null,null,"12:45:00",{"$f":"Calculations!$BZ$87","v":0},{"$f":"Calculations!$CA$87","v":0},{"$f":"Calculations!$CB$87","v":0},0,0,{"$f":"Calculations!$CD$87","v":1},{"$f":"Calculations!$CE$87","v":0},{"$f":"Calculations!$CF$87","v":0},0,1,{"$f":"Calculations!$CH$87","v":3},{"$f":"Calculations!$CI$87","v":0},{"$f":"Calculations!$CJ$87","v":0},0,3,{"$f":"Calculations!$CL$87","v":0},{"$f":"Calculations!$CM$87","v":3},{"$f":"Calculations!$CN$87","v":2},0,5,9,null,{"$f":"IF(OR('15-Min All Vehicle'!X41=0,'15-Min All Vehicle'!X42=0, '15-Min All Vehicle'!X43=0,'15-Min All Vehicle'!X44=0)=TRUE,\"\",X41+X42+X43+X44)","v":54}]
[null,null,"12:59:59.942",{"$f":"Calculations!$BZ$90","v":0},{"$f":"Calculations!$CA$90","v":0},{"$f":"Calculations!$CB$90","v":0},0,0,{"$f":"Calculations!$CD$90","v":0},{"$f":"Calculations!$CE$90","v":3},{"$f":"Calculations!$CF$90","v":0},0,3,{"$f":"Calculations!$CH$90","v":2},{"$f":"Calculations!$CI$90","v":0},{"$f":"Calculations!$CJ$90","v":2},0,4,{"$f":"Calculations!$CL$90","v":0},{"$f":"Calculations!$CM$90","v":6},{"$f":"Calculations!$CN$90","v":0},0,6,13,null,{"$f":"IF(OR('15-Min All Vehicle'!X42=0,'15-Min All Vehicle'!X43=0, '15-Min All Vehicle'!X44=0,'15-Min All Vehicle'!X45=0)=TRUE,\"\",X42+X43+X44+X45)","v":58}]
[null,null,"13:14:59.971",{"$f":"Calculations!$BZ$93","v":0},{"$f":"Calculations!$CA$93","v":0},{"$f":"Calculations!$CB$93","v":0},0,0,{"$f":"Calculations!$CD$93","v":0},{"$f":"Calculations!$CE$93","v":2},{"$f":"Calculations!$CF$93","v":0},0,2,{"$f":"Calculations!$CH$93","v":6},{"$f":"Calculations!$CI$93","v":0},{"$f":"Calculations!$CJ$93","v":2},0,8,{"$f":"Calculations!$CL$93","v":0},{"$f":"Calculations!$CM$93","v":2},{"$f":"Calculations!$CN$93","v":2},0,4,14,null,{"$f":"IF(OR('15-Min All Vehicle'!X43=0,'15-Min All Vehicle'!X44=0, '15-Min All Vehicle'!X45=0,'15-Min All Vehicle'!X46=0)=TRUE,\"\",X43+X44+X45+X46)","v":63}]
[null,null,"13:30:00",{"$f":"Calculations!$BZ$96","v":0},{"$f":"Calculations!$CA$96","v":0},{"$f":"Calculations!$CB$96","v":0},0,0,{"$f":"Calculations!$CD$96","v":3},{"$f":"Calculations!$CE$96","v":2},{"$f":"Calculations!$CF$96","v":0},0,5,{"$f":"Calculations!$CH$96","v":5},{"$f":"Calculations!$CI$96","v":0},{"$f":"Calculations!$CJ$96","v":5},0,10,{"$f":"Calculations!$CL$96","v":0},{"$f":"Calculations!$CM$96","v":0},{"$f":"Calculations!$CN$96","v":3},0,3,18,null,{"$f":"IF(OR('15-Min All Vehicle'!X44=0,'15-Min All Vehicle'!X45=0, '15-Min All Vehicle'!X46=0,'15-Min All Vehicle'!X47=0)=TRUE,\"\",X44+X45+X46+X47)","v":58}]
[null,null,"13:44:59.942",{"$f":"Calculations!$BZ$99","v":0},{"$f":"Calculations!$CA$99","v":0},{"$f":"Calculations!$CB$99","v":0},0,0,{"$f":"Calculations!$CD$99","v":1},{"$f":"Calculations!$CE$99","v":10},{"$f":"Calculations!$CF$99","v":0},0,11,{"$f":"Calculations!$CH$99","v":2},{"$f":"Calculations!$CI$99","v":0},{"$f":"Calculations!$CJ$99","v":0},0,2,{"$f":"Calculations!$CL$99","v":0},{"$f":"Calculations!$CM$99","v":0},{"$f":"Calculations!$CN$99","v":0},0,0,13,null,{"$f":"IF(OR('15-Min All Vehicle'!X45=0,'15-Min All Vehicle'!X46=0, '15-Min All Vehicle'!X47=0,'15-Min All Vehicle'!X48=0)=TRUE,\"\",X45+X46+X47+X48)","v":53}]
[null,"PM Peak Period","13:59:59.971",{"$f":"Calculations!$BZ$102","v":0},{"$f":"Calculations!$CA$102","v":0},{"$f":"Calculations!$CB$102","v":0},0,0,{"$f":"Calculations!$CD$102","v":2},{"$f":"Calculations!$CE$102","v":5},{"$f":"Calculations!$CF$102","v":0},0,7,{"$f":"Calculations!$CH$102","v":2},{"$f":"Calculations!$CI$102","v":0},{"$f":"Calculations!$CJ$102","v":4},0,6,{"$f":"Calculations!$CL$102","v":0},{"$f":"Calculations!$CM$102","v":3},{"$f":"Calculations!$CN$102","v":2},0,{"$f":"S46+T46+U46+V46","v":5},{"$f":"H46+M46+R46+W46","v":18},null,{"$f":"IF(OR('15-Min All Vehicle'!X46=0,'15-Min All Vehicle'!X47=0, '15-Min All Vehicle'!X48=0,'15-Min All Vehicle'!X49=0)=TRUE,\"\",X46+X47+X48+X49)","v":51}]
[null,null,"14:15:00",{"$f":"Calculations!$BZ$105","v":0},{"$f":"Calculations!$CA$105","v":0},{"$f":"Calculations!$CB$105","v":0},0,0,{"$f":"Calculations!$CD$105","v":1},{"$f":"Calculations!$CE$105","v":0},{"$f":"Calculations!$CF$105","v":0},0,1,{"$f":"Calculations!$CH$105","v":0},{"$f":"Calculations!$CI$105","v":0},{"$f":"Calculations!$CJ$105","v":6},0,6,{"$f":"Calculations!$CL$105","v":0},{"$f":"Calculations!$CM$105","v":1},{"$f":"Calculations!$CN$105","v":1},0,2,9,null,{"$f":"IF(OR('15-Min All Vehicle'!X47=0,'15-Min All Vehicle'!X48=0, '15-Min All Vehicle'!X49=0,'15-Min All Vehicle'!X50=0)=TRUE,\"\",X47+X48+X49+X50)","v":46}]
[null,null,"14:29:59.942",{"$f":"Calculations!$BZ$108","v":0},{"$f":"Calculations!$CA$108","v":0},{"$f":"Calculations!$CB$108","v":0},0,0,{"$f":"Calculations!$CD$108","v":0},{"$f":"Calculations!$CE$108","v":1},{"$f":"Calculations!$CF$108","v":0},0,1,{"$f":"Calculations!$CH$108","v":4},{"$f":"Calculations!$CI$108","v":0},{"$f":"Calculations!$CJ$108","v":1},0,5,{"$f":"Calculations!$CL$108","v":0},{"$f":"Calculations!$CM$108","v":4},{"$f":"Calculations!$CN$108","v":3},0,7,13,null,{"$f":"IF(OR('15-Min All Vehicle'!X48=0,'15-Min All Vehicle'!X49=0, '15-Min All Vehicle'!X50=0,'15-Min All Vehicle'!X51=0)=TRUE,\"\",X48+X49+X50+X51)","v":46}]
[null,null,"14:44:59.971",{"$f":"Calculations!$BZ$111","v":0},{"$f":"Calculations!$CA$111","v":0},{"$f":"Calculations!$CB$111","v":0},0,0,{"$f":"Calculations!$CD$111","v":3},{"$f":"Calculations!$CE$111","v":4},{"$f":"Calculations!$CF$111","v":0},0,7,{"$f":"Calculations!$CH$111","v":1},{"$f":"Calculations!$CI$111","v":0},{"$f":"Calculations!$CJ$111","v":0},0,1,{"$f":"Calculations!$CL$111","v":0},{"$f":"Calculations!$CM$111","v":2},{"$f":"Calculations!$CN$111","v":1},0,3,11,null,{"$f":"IF(OR('15-Min All Vehicle'!X49=0,'15-Min All Vehicle'!X50=0, '15-Min All Vehicle'!X51=0,'15-Min All Vehicle'!X52=0)=TRUE,\"\",X49+X50+X51+X52)","v":41}]
[null,null,"15:00:00",{"$f":"Calculations!$BZ$114","v":0},{"$f":"Calculations!$CA$114","v":0},{"$f":"Calculations!$CB$114","v":0},0,0,{"$f":"Calculations!$CD$114","v":2},{"$f":"Calculations!$CE$114","v":3},{"$f":"Calculations!$CF$114","v":0},0,5,{"$f":"Calculations!$CH$114","v":3},{"$f":"Calculations!$CI$114","v":0},{"$f":"Calculations!$CJ$114","v":2},0,5,{"$f":"Calculations!$CL$114","v":0},{"$f":"Calculations!$CM$114","v":3},{"$f":"Calculations!$CN$114","v":0},0,3,13,null,{"$f":"IF(OR('15-Min All Vehicle'!X50=0,'15-Min All Vehicle'!X51=0, '15-Min All Vehicle'!X52=0,'15-Min All Vehicle'!X53=0)=TRUE,\"\",X50+X51+X52+X53)","v":36}]
[null,null,"15:14:59.942",{"$f":"Calculations!$BZ$117","v":0},{"$f":"Calculations!$CA$117","v":0},{"$f":"Calculations!$CB$117","v":0},0,0,{"$f":"Calculations!$CD$117","v":2},{"$f":"Calculations!$CE$117","v":0},{"$f":"Calculations!$CF$117","v":0},0,2,{"$f":"Calculations!$CH$117","v":2},{"$f":"Calculations!$CI$117","v":0},{"$f":"Calculations!$CJ$117","v":3},0,5,{"$f":"Calculations!$CL$117","v":0},{"$f":"Calculations!$CM$117","v":2},{"$f":"Calculations!$CN$117","v":0},0,2,9,null,{"$f":"IF(OR('15-Min All Vehicle'!X51=0,'15-Min All Vehicle'!X52=0, '15-Min All Vehicle'!X53=0,'15-Min All Vehicle'!X54=0)=TRUE,\"\",X51+X52+X53+X54)","v":26}]
[null,null,"15:29:59.971",{"$f":"Calculations!$BZ$120","v":0},{"$f":"Calculations!$CA$120","v":0},{"$f":"Calculations!$CB$120","v":0},0,0,{"$f":"Calculations!$CD$120","v":2},{"$f":"Calculations!$CE$120","v":1},{"$f":"Calculations!$CF$120","v":0},0,3,{"$f":"Calculations!$CH$120","v":0},{"$f":"Calculations!$CI$120","v":0},{"$f":"Calculations!$CJ$120","v":4},0,4,{"$f":"Calculations!$CL$120","v":0},{"$f":"Calculations!$CM$120","v":1},{"$f":"Calculations!$CN$120","v":0},0,1,8,null,{"$f":"IF(OR('15-Min All Vehicle'!X52=0,'15-Min All Vehicle'!X53=0, '15-Min All Vehicle'!X54=0,'15-Min All Vehicle'!X55=0)=TRUE,\"\",X52+X53+X54+X55)","v":23}]
[null,null,"15:45:00",{"$f":"Calculations!$BZ$123","v":0},{"$f":"Calculations!$CA$123","v":0},{"$f":"Calculations!$CB$123","v":0},0,0,{"$f":"Calculations!$CD$123","v":1},{"$f":"Calculations!$CE$123","v":0},{"$f":"Calculations!$CF$123","v":0},0,1,{"$f":"Calculations!$CH$123","v":1},{"$f":"Calculations!$CI$123","v":0},{"$f":"Calculations!$CJ$123","v":2},0,3,{"$f":"Calculations!$CL$123","v":0},{"$f":"Calculations!$CM$123","v":1},{"$f":"Calculations!$CN$123","v":1},0,2,6,null,{"$f":"IF(OR('15-Min All Vehicle'!X53=0,'15-Min All Vehicle'!X54=0, '15-Min All Vehicle'!X55=0,'15-Min All Vehicle'!X56=0)=TRUE,\"\",X53+X54+X55+X56)","v":28}]
[null,null,"15:59:59.942",{"$f":"Calculations!$BZ$126","v":0},{"$f":"Calculations!$CA$126","v":0},{"$f":"Calculations!$CB$126","v":0},0,0,{"$f":"Calculations!$CD$126","v":0},{"$f":"Calculations!$CE$126","v":1},{"$f":"Calculations!$CF$126","v":0},0,1,{"$f":"Calculations!$CH$126","v":2},{"$f":"Calculations!$CI$126","v":0},{"$f":"Calculations!$CJ$126","v":0},0,2,{"$f":"Calculations!$CL$126","v":0},{"$f":"Calculations!$CM$126","v":0},{"$f":"Calculations!$CN$126","v":0},0,0,3,null,{"$f":"IF(OR('15-Min All Vehicle'!X54=0,'15-Min All Vehicle'!X55=0, '15-Min All Vehicle'!X56=0,'15-Min All Vehicle'!X57=0)=TRUE,\"\",X54+X55+X56+X57)","v":27}]
[null,null,"16:14:59.971",{"$f":"Calculations!$BZ$129","v":0},{"$f":"Calculations!$CA$129","v":0},{"$f":"Calculations!$CB$129","v":0},0,0,{"$f":"Calculations!$CD$129","v":0},{"$f":"Calculations!$CE$129","v":0},{"$f":"Calculations!$CF$129","v":0},0,0,{"$f":"Calculations!$CH$129","v":2},{"$f":"Calculations!$CI$129","v":0},{"$f":"Calculations!$CJ$129","v":3},0,5,{"$f":"Calculations!$CL$129","v":0},{"$f":"Calculations!$CM$129","v":1},{"$f":"Calculations!$CN$129","v":0},0,1,6,null,{"$f":"IF(OR('15-Min All Vehicle'!X55=0,'15-Min All Vehicle'!X56=0, '15-Min All Vehicle'!X57=0,'15-Min All Vehicle'!X58=0)=TRUE,\"\",X55+X56+X57+X58)","v":26}]
[null,null,"16:30:00",{"$f":"Calculations!$BZ$132","v":0},{"$f":"Calculations!$CA$132","v":0},{"$f":"Calculations!$CB$132","v":0},0,0,{"$f":"Calculations!$CD$132","v":1},{"$f":"Calculations!$CE$132","v":0},{"$f":"Calculations!$CF$132","v":0},0,1,{"$f":"Calculations!$CH$132","v":3},{"$f":"Calculations!$CI$132","v":0},{"$f":"Calculations!$CJ$132","v":2},0,5,{"$f":"Calculations!$CL$132","v":0},{"$f":"Calculations!$CM$132","v":5},{"$f":"Calculations!$CN$132","v":2},0,7,13,null,{"$f":"IF(OR('15-Min All Vehicle'!X56=0,'15-Min All Vehicle'!X57=0, '15-Min All Vehicle'!X58=0,'15-Min All Vehicle'!X59=0)=TRUE,\"\",X56+X57+X58+X59)","v":31}]
[null,null,"16:44:59.942",{"$f":"Calculations!$BZ$135","v":0},{"$f":"Calculations!$CA$135","v":0},{"$f":"Calculations!$CB$135","v":0},0,0,{"$f":"Calculations!$CD$135","v":0},{"$f":"Calculations!$CE$135","v":0},{"$f":"Calculations!$CF$135","v":0},0,0,{"$f":"Calculations!$CH$135","v":4},{"$f":"Calculations!$CI$135","v":0},{"$f":"Calculations!$CJ$135","v":0},0,4,{"$f":"Calculations!$CL$135","v":0},{"$f":"Calculations!$CM$135","v":1},{"$f":"Calculations!$CN$135","v":0},0,1,5,null,{"$f":"IF(OR('15-Min All Vehicle'!X57=0,'15-Min All Vehicle'!X58=0, '15-Min All Vehicle'!X59=0,'15-Min All Vehicle'!X60=0)=TRUE,\"\",X57+X58+X59+X60)","v":23}]
[null,null,"16:59:59.971",{"$f":"Calculations!$BZ$138","v":0},{"$f":"Calculations!$CA$138","v":0},{"$f":"Calculations!$CB$138","v":0},0,0,{"$f":"Calculations!$CD$138","v":0},{"$f":"Calculations!$CE$138","v":0},{"$f":"Calculations!$CF$138","v":0},0,0,{"$f":"Calculations!$CH$138","v":1},{"$f":"Calculations!$CI$138","v":0},{"$f":"Calculations!$CJ$138","v":1},0,2,{"$f":"Calculations!$CL$138","v":0},{"$f":"Calculations!$CM$138","v":0},{"$f":"Calculations!$CN$138","v":0},0,0,2,null,{"$f":"IF(OR('15-Min All Vehicle'!X58=0,'15-Min All Vehicle'!X59=0, '15-Min All Vehicle'!X60=0,'15-Min All Vehicle'!X61=0)=TRUE,\"\",X58+X59+X60+X61)","v":22}]
[null,null,"17:15:00",{"$f":"Calculations!$BZ$141","v":0},{"$f":"Calculations!$CA$141","v":0},{"$f":"Calculations!$CB$141","v":0},0,0,{"$f":"Calculations!$CD$141","v":1},{"$f":"Calculations!$CE$141","v":4},{"$f":"Calculations!$CF$141","v":0},0,5,{"$f":"Calculations!$CH$141","v":4},{"$f":"Calculations!$CI$141","v":0},{"$f":"Calculations!$CJ$141","v":1},0,5,{"$f":"Calculations!$CL$141","v":0},{"$f":"Calculations!$CM$141","v":0},{"$f":"Calculations!$CN$141","v":1},0,1,11,null,{"$f":"IF(OR('15-Min All Vehicle'!X59=0,'15-Min All Vehicle'!X60=0, '15-Min All Vehicle'!X61=0,'15-Min All Vehicle'!X62=0)=TRUE,\"\",X59+X60+X61+X62)","v":""}]
[null,null,"17:29:59.942",{"$f":"Calculations!$BZ$144","v":0},{"$f":"Calculations!$CA$144","v":0},{"$f":"Calculations!$CB$144","v":0},0,0,{"$f":"Calculations!$CD$144","v":1},{"$f":"Calculations!$CE$144","v":3},{"$f":"Calculations!$CF$144","v":0},0,4,{"$f":"Calculations!$CH$144","v":0},{"$f":"Calculations!$CI$144","v":0},{"$f":"Calculations!$CJ$144","v":0},0,0,{"$f":"Calculations!$CL$144","v":0},{"$f":"Calculations!$CM$144","v":0},{"$f":"Calculations!$CN$144","v":1},0,1,5,null,{"$f":"IF(OR('15-Min All Vehicle'!X60=0,'15-Min All Vehicle'!X61=0, '15-Min All Vehicle'!X62=0,'15-Min All Vehicle'!X63=0)=TRUE,\"\",X60+X61+X62+X63)","v":""}]
[null,null,"17:44:59.971",{"$f":"Calculations!$BZ$147","v":0},{"$f":"Calculations!$CA$147","v":0},{"$f":"Calculations!$CB$147","v":0},0,0,{"$f":"Calculations!$CD$147","v":1},{"$f":"Calculations!$CE$147","v":1},{"$f":"Calculations!$CF$147","v":0},0,2,{"$f":"Calculations!$CH$147","v":1},{"$f":"Calculations!$CI$147","v":0},{"$f":"Calculations!$CJ$147","v":0},0,1,{"$f":"Calculations!$CL$147","v":0},{"$f":"Calculations!$CM$147","v":1},{"$f":"Calculations!$CN$147","v":0},0,1,4,null,{"$f":"IF(OR('15-Min All Vehicle'!X61=0,'15-Min All Vehicle'!X62=0, '15-Min All Vehicle'!X63=0,'15-Min All Vehicle'!X64=0)=TRUE,\"\",X61+X62+X63+X64)","v":""}]
[null,null,"18:00:00",{"$f":"Calculations!$BZ$150","v":0},{"$f":"Calculations!$CA$150","v":0},{"$f":"Calculations!$CB$150","v":0},0,0,{"$f":"Calculations!$CD$150","v":0},{"$f":"Calculations!$CE$150","v":0},{"$f":"Calculations!$CF$150","v":0},0,0,{"$f":"Calculations!$CH$150","v":0},{"$f":"Calculations!$CI$150","v":0},{"$f":"Calculations!$CJ$150","v":0},0,0,{"$f":"Calculations!$CL$150","v":0},{"$f":"Calculations!$CM$150","v":0},{"$f":"Calculations!$CN$150","v":0},0,0,0,null,{"$f":"IF(OR('15-Min All Vehicle'!X62=0,'15-Min All Vehicle'!X63=0, '15-Min All Vehicle'!X64=0,'15-Min All Vehicle'!X65=0)=TRUE,\"\",X62+X63+X64+X65)","v":""}]
[null,null,"18:14:59.942",{"$f":"Calculations!$BZ$153","v":0},{"$f":"Calculations!$CA$153","v":0},{"$f":"Calculations!$CB$153","v":0},0,0,{"$f":"Calculations!$CD$153","v":0},{"$f":"Calculations!$CE$153","v":0},{"$f":"Calculations!$CF$153","v":0},0,0,{"$f":"Calculations!$CH$153","v":0},{"$f":"Calculations!$CI$153","v":0},{"$f":"Calculations!$CJ$153","v":0},0,0,{"$f":"Calculations!$CL$153","v":0},{"$f":"Calculations!$CM$153","v":0},{"$f":"Calculations!$CN$153","v":0},0,0,0,null,{"$f":"IF(OR('15-Min All Vehicle'!X63=0,'15-Min All Vehicle'!X64=0, '15-Min All Vehicle'!X65=0,'15-Min All Vehicle'!X66=0)=TRUE,\"\",X63+X64+X65+X66)","v":""}]
[null,null,"18:29:59.971",{"$f":"Calculations!$BZ$156","v":0},{"$f":"Calculations!$CA$156","v":0},{"$f":"Calculations!$CB$156","v":0},0,0,{"$f":"Calculations!$CD$156","v":0},{"$f":"Calculations!$CE$156","v":0},{"$f":"Calculations!$CF$156","v":0},0,0,{"$f":"Calculations!$CH$156","v":0},{"$f":"Calculations!$CI$156","v":0},{"$f":"Calculations!$CJ$156","v":0},0,0,{"$f":"Calculations!$CL$156","v":0},{"$f":"Calculations!$CM$156","v":0},{"$f":"Calculations!$CN$156","v":0},0,0,0,null,{"$f":"IF(OR('15-Min All Vehicle'!X64=0,'15-Min All Vehicle'!X65=0, '15-Min All Vehicle'!X66=0,'15-Min All Vehicle'!X67=0)=TRUE,\"\",X64+X65+X66+X67)","v":""}]
[null,null,"18:45:00",{"$f":"Calculations!$BZ$159","v":0},{"$f":"Calculations!$CA$159","v":0},{"$f":"Calculations!$CB$159","v":0},0,0,{"$f":"Calculations!$CD$159","v":0},{"$f":"Calculations!$CE$159","v":0},{"$f":"Calculations!$CF$159","v":0},0,0,{"$f":"Calculations!$CH$159","v":0},{"$f":"Calculations!$CI$159","v":0},{"$f":"Calculations!$CJ$159","v":0},0,0,{"$f":"Calculations!$CL$159","v":0},{"$f":"Calculations!$CM$159","v":0},{"$f":"Calculations!$CN$159","v":0},0,0,0,null,{"$f":"IF(OR('15-Min All Vehicle'!X65=0,'15-Min All Vehicle'!X66=0, '15-Min All Vehicle'!X67=0,'15-Min All Vehicle'!X68=0)=TRUE,\"\",X65+X66+X67+X68)","v":""}]
[null,null,"18:59:59.942",{"$f":"Calculations!$BZ$162","v":0},{"$f":"Calculations!$CA$162","v":0},{"$f":"Calculations!$CB$162","v":0},0,0,{"$f":"Calculations!$CD$162","v":0},{"$f":"Calculations!$CE$162","v":0},{"$f":"Calculations!$CF$162","v":0},0,0,{"$f":"Calculations!$CH$162","v":0},{"$f":"Calculations!$CI$162","v":0},{"$f":"Calculations!$CJ$162","v":0},0,0,{"$f":"Calculations!$CL$162","v":0},{"$f":"Calculations!$CM$162","v":0},{"$f":"Calculations!$CN$162","v":0},0,0,0,null,{"$f":"IF(OR('15-Min All Vehicle'!X66=0,'15-Min All Vehicle'!X67=0, '15-Min All Vehicle'!X68=0,'15-Min All Vehicle'!X69=0)=TRUE,\"\",X66+X67+X68+X69)","v":""}]
[null,null,"19:14:59.971",{"$f":"Calculations!$BZ$165","v":0},{"$f":"Calculations!$CA$165","v":0},{"$f":"Calculations!$CB$165","v":0},0,0,{"$f":"Calculations!$CD$165","v":0},{"$f":"Calculations!$CE$165","v":0},{"$f":"Calculations!$CF$165","v":0},0,0,{"$f":"Calculations!$CH$165","v":0},{"$f":"Calculations!$CI$165","v":0},{"$f":"Calculations!$CJ$165","v":0},0,0,{"$f":"Calculations!$CL$165","v":0},{"$f":"Calculations!$CM$165","v":0},{"$f":"Calculations!$CN$165","v":0},0,0,0,null,{"$f":"IF(OR('15-Min All Vehicle'!X67=0,'15-Min All Vehicle'!X68=0, '15-Min All Vehicle'!X69=0,'15-Min All Vehicle'!X70=0)=TRUE,\"\",X67+X68+X69+X70)","v":""}]
[null,null,"19:30:00",{"$f":"Calculations!$BZ$168","v":0},{"$f":"Calculations!$CA$168","v":0},{"$f":"Calculations!$CB$168","v":0},0,0,{"$f":"Calculations!$CD$168","v":0},{"$f":"Calculations!$CE$168","v":0},{"$f":"Calculations!$CF$168","v":0},0,0,{"$f":"Calculations!$CH$168","v":0},{"$f":"Calculations!$CI$168","v":0},{"$f":"Calculations!$CJ$168","v":0},0,0,{"$f":"Calculations!$CL$168","v":0},{"$f":"Calculations!$CM$168","v":0},{"$f":"Calculations!$CN$168","v":0},0,0,0,null,{"$f":"IF(OR('15-Min All Vehicle'!X68=0,'15-Min All Vehicle'!X69=0, '15-Min All Vehicle'!X70=0,'15-Min All Vehicle'!X71=0)=TRUE,\"\",X68+X69+X70+X71)","v":""}]
[null,null,"19:44:59.942",{"$f":"Calculations!$BZ$171","v":0},{"$f":"Calculations!$CA$171","v":0},{"$f":"Calculations!$CB$171","v":0},0,0,{"$f":"Calculations!$CD$171","v":0},{"$f":"Calculations!$CE$171","v":0},{"$f":"Calculations!$CF$171","v":0},0,0,{"$f":"Calculations!$CH$171","v":0},{"$f":"Calculations!$CI$171","v":0},{"$f":"Calculations!$CJ$171","v":0},0,0,{"$f":"Calculations!$CL$171","v":0},{"$f":"Calculations!$CM$171","v":0},{"$f":"Calculations!$CN$171","v":0},0,0,0,null,{"$f":"IF(OR('15-Min All Vehicle'!X69=0,'15-Min All Vehicle'!X70=0, '15-Min All Vehicle'!X71=0,'15-Min All Vehicle'!X72=0)=TRUE,\"\",X69+X70+X71+X72)","v":""}]
[null,null,"19:59:59.971",{"$f":"Calculations!$BZ$174","v":0},{"$f":"Calculations!$CA$174","v":0},{"$f":"Calculations!$CB$174","v":0},0,0,{"$f":"Calculations!$CD$174","v":0},{"$f":"Calculations!$CE$174","v":0},{"$f":"Calculations!$CF$174","v":0},0,0,{"$f":"Calculations!$CH$174","v":0},{"$f":"Calculations!$CI$174","v":0},{"$f":"Calculations!$CJ$174","v":0},0,0,{"$f":"Calculations!$CL$174","v":0},{"$f":"Calculations!$CM$174","v":0},{"$f":"Calculations!$CN$174","v":0},0,0,0,null,{"$f":"IF(OR('15-Min All Vehicle'!X70=0,'15-Min All Vehicle'!X71=0, '15-Min All Vehicle'!X72=0,'15-Min All Vehicle'!X73=0)=TRUE,\"\",X70+X71+X72+X73)","v":""}]
[null,null,"20:15:00",{"$f":"Calculations!$BZ$177","v":0},{"$f":"Calculations!$CA$177","v":0},{"$f":"Calculations!$CB$177","v":0},0,0,{"$f":"Calculations!$CD$177","v":0},{"$f":"Calculations!$CE$177","v":0},{"$f":"Calculations!$CF$177","v":0},0,0,{"$f":"Calculations!$CH$177","v":0},{"$f":"Calculations!$CI$177","v":0},{"$f":"Calculations!$CJ$177","v":0},0,0,{"$f":"Calculations!$CL$177","v":0},{"$f":"Calculations!$CM$177","v":0},{"$f":"Calculations!$CN$177","v":0},0,0,0,null,{"$f":"IF(OR('15-Min All Vehicle'!X71=0,'15-Min All Vehicle'!X72=0, '15-Min All Vehicle'!X73=0,'15-Min All Vehicle'!X74=0)=TRUE,\"\",X71+X72+X73+X74)","v":""}]
[null,null,"20:29:59.942",{"$f":"Calculations!$BZ$180","v":0},{"$f":"Calculations!$CA$180","v":0},{"$f":"Calculations!$CB$180","v":0},0,0,{"$f":"Calculations!$CD$180","v":0},{"$f":"Calculations!$CE$180","v":0},{"$f":"Calculations!$CF$180","v":0},0,0,{"$f":"Calculations!$CH$180","v":0},{"$f":"Calculations!$CI$180","v":0},{"$f":"Calculations!$CJ$180","v":0},0,0,{"$f":"Calculations!$CL$180","v":0},{"$f":"Calculations!$CM$180","v":0},{"$f":"Calculations!$CN$180","v":0},0,0,0,null,{"$f":"IF(OR('15-Min All Vehicle'!X72=0,'15-Min All Vehicle'!X73=0, '15-Min All Vehicle'!X74=0,'15-Min All Vehicle'!X75=0)=TRUE,\"\",X72+X73+X74+X75)","v":""}]
[null,null,"20:44:59.971",{"$f":"Calculations!$BZ$183","v":0},{"$f":"Calculations!$CA$183","v":0},{"$f":"Calculations!$CB$183","v":0},0,0,{"$f":"Calculations!$CD$183","v":0},{"$f":"Calculations!$CE$183","v":0},{"$f":"Calculations!$CF$183","v":0},0,0,{"$f":"Calculations!$CH$183","v":0},{"$f":"Calculations!$CI$183","v":0},{"$f":"Calculations!$CJ$183","v":0},0,0,{"$f":"Calculations!$CL$183","v":0},{"$f":"Calculations!$CM$183","v":0},{"$f":"Calculations!$CN$183","v":0},0,0,0,null,{"$f":"IF(OR('15-Min All Vehicle'!X73=0,'15-Min All Vehicle'!X74=0, '15-Min All Vehicle'!X75=0,'15-Min All Vehicle'!X76=0)=TRUE,\"\",X73+X74+X75+X76)","v":""}]
[null,null,"21:00:00",{"$f":"Calculations!$BZ$186","v":0},{"$f":"Calculations!$CA$186","v":0},{"$f":"Calculations!$CB$186","v":0},0,0,{"$f":"Calculations!$CD$186","v":0},{"$f":"Calculations!$CE$186","v":0},{"$f":"Calculations!$CF$186","v":0},0,0,{"$f":"Calculations!$CH$186","v":0},{"$f":"Calculations!$CI$186","v":0},{"$f":"Calculations!$CJ$186","v":0},0,0,{"$f":"Calculations!$CL$186","v":0},{"$f":"Calculations!$CM$186","v":0},{"$f":"Calculations!$CN$186","v":0},0,0,0,null,{"$f":"IF(OR('15-Min All Vehicle'!X74=0,'15-Min All Vehicle'!X75=0, '15-Min All Vehicle'!X76=0,'15-Min All Vehicle'!X77=0)=TRUE,\"\",X74+X75+X76+X77)","v":""}]
[null,null,"21:14:59.942",{"$f":"Calculations!$BZ$189","v":0},{"$f":"Calculations!$CA$189","v":0},{"$f":"Calculations!$CB$189","v":0},0,0,{"$f":"Calculations!$CD$189","v":0},{"$f":"Calculations!$CE$189","v":0},{"$f":"Calculations!$CF$189","v":0},0,0,{"$f":"Calculations!$CH$189","v":0},{"$f":"Calculations!$CI$189","v":0},{"$f":"Calculations!$CJ$189","v":0},0,0,{"$f":"Calculations!$CL$189","v":0},{"$f":"Calculations!$CM$189","v":0},{"$f":"Calculations!$CN$189","v":0},0,0,0]
[null,null,"21:29:59.971",{"$f":"Calculations!$BZ$192","v":0},{"$f":"Calculations!$CA$192","v":0},{"$f":"Calculations!$CB$192","v":0},0,0,{"$f":"Calculations!$CD$192","v":0},{"$f":"Calculations!$CE$192","v":0},{"$f":"Calculations!$CF$192","v":0},0,0,{"$f":"Calculations!$CH$192","v":0},{"$f":"Calculations!$CI$192","v":0},{"$f":"Calculations!$CJ$192","v":0},0,0,{"$f":"Calculations!$CL$192","v":0},{"$f":"Calculations!$CM$192","v":0},{"$f":"Calculations!$CN$192","v":0},0,0,0]
[null,null,"21:45:00",{"$f":"Calculations!$BZ$195","v":0},{"$f":"Calculations!$CA$195","v":0},{"$f":"Calculations!$CB$195","v":0},0,0,{"$f":"Calculations!$CD$195","v":0},{"$f":"Calculations!$CE$195","v":0},{"$f":"Calculations!$CF$195","v":0},0,0,{"$f":"Calculations!$CH$195","v":0},{"$f":"Calculations!$CI$195","v":0},{"$f":"Calculations!$CJ$195","v":0},0,0,{"$f":"Calculations!$CL$195","v":0},{"$f":"Calculations!$CM$195","v":0},{"$f":"Calculations!$CN$195","v":0},0,0,0]
[null,"Totals",null,{"$f":"SUM(D14:D77)","v":0},{"$f":"SUM(E14:E77)","v":0},0,0,0,72,96,0,0,168,113,1,92,0,206,0,85,47,0,132,506]
[]
[null,"Peak Hour Semi-Truck Volume Summary"]
[null,null,null,null,null,"ê",null,null,null,null,"ç",null,null,null,null,"é",null,null,null,null,"è"]
[null,"Hourly",null,"From North",null,null,null,null,"From East",null,null,null,null,"From South",null,null,null,null,"From West",null,null,null,null,"Total"]
[null,"Time Period",null,{"$f":"'Base Information'!$D$14:$D$14","v":"441 NB ON RAMP"},null,null,null,null,{"$f":"'Base Information'!$D$15:$D$15","v":"CTH OO (Northland Ave)"},null,null,null,null,{"$f":"'Base Information'!$D$16:$D$16","v":"441 NB OFF RAMP"},null,null,null,null,{"$f":"'Base Information'!$D$17:$D$17","v":"CTH OO (Northland Ave)"},null,null,null,null,"Hourly"]
[null,"Start Time",null,"Right ","Thru ","Left ","U-Tn","Total","Right ","Thru ","Left ","U-Tn","Total","Right ","Thru ","Left ","U-Tn","Total","Right ","Thru ","Left ","U-Tn","Total","Volume"]
[null,"AM",{"$f":"'15-Min All Vehicle'!$C$85","v":"07:14:59.971"},{"$f":"D20+D21+D22+D23","v":0},0,0,0,0,5,6,0,0,11,11,1,10,0,22,0,7,2,0,9,42]
[null,"MD",{"$f":"'15-Min All Vehicle'!$C$86","v":"12:59:59.942"},{"$f":"D39+D40+D41+D42","v":0},0,0,0,0,4,8,0,0,12,9,0,4,0,13,0,14,3,0,17,42]
[null,"PM",{"$f":"'15-Min All Vehicle'!$C$87","v":"16:30:00"},{"$f":"D53+D54+D55+D56","v":0},0,0,0,0,2,1,0,0,3,8,0,7,0,15,0,7,3,0,10,28]

{"sheet":"15-Min Heavy Vehicle","index":9,"n_rows":87,"n_cols":26,"rows_kept":87,"cut":false,"hidden":false,"merged":[[2,16,2,19],[3,14,3,19],[0,1,3,12],[2,20,2,22],[2,23,2,25],[3,20,3,22],[3,23,3,25],[2,14,2,15],[5,16,5,23],[6,16,7,23],[9,13,9,14],[9,16,9,17],[9,18,9,19],[9,21,9,22],[77,1,77,2],[13,1,28,1],[29,1,44,1],[10,3,10,7],[10,8,10,12],[9,3,9,4],[9,6,9,7],[9,8,9,9],[9,11,9,12],[45,1,76,1],[81,3,81,7],[81,8,81,12],[81,13,81,17],[81,18,81,22],[10,13,10,17],[10,18,10,22],[80,3,80,4],[80,6,80,7],[80,8,80,9],[80,11,80,12],[80,13,80,14],[80,16,80,17],[80,18,80,19],[80,21,80,22]]}
[null,"Intersection Traffic Volume Report"]
[null,null,null,null,null,null,null,null,null,null,null,null,null,null,"Count Basics",null,null,null,null,null,null,null,null,null,null,"Page 9 of 11"]
[null,null,null,null,null,null,null,null,null,null,null,null,null,null,{"$f":"'Base Information'!$L$3","v":"Start Date:"},null,{"$f":"'Base Information'!$N$3","v":"2011-12-06"},null,null,null,{"$f":"'Base Information'!R3","v":"Weekday"},null,null,{"$f":"'Base Information'!U3","v":"Schools in Session"}]
[null,null,null,null,null,null,null,null,null,null,null,null,null,null,{"$f":"'Base Information'!$L$4","v":"Total Number of Hours Counted: 12"},null,null,null,null,null,{"$f":"'Base Information'!R4","v":"Non-Holiday"},null,null,{"$f":"'Base Information'!U4","v":"No Special Events"}]
[null,"15-Minute Heavy Vehicle Data"]
[null,null,null,null,null,null,null,null,null,null,null,null,null,null,null,null,"Heavy Vehicles (Single-Unit Trucks, Buses & Semi-Trucks)"]
[null,{"$f":"'Base Information'!E7","v":"441 NB ON RAMP and CTH OO (Northland Ave)"}]
[]
[null,"15-Minute Heavy Vehicle Data"]
[null,null,null,null,null,"ê",null,null,null,null,"ç",null,null,null,null,"é",null,null,null,null,"è"]
[null,"15-Minute",null,"From North",null,null,null,null,"From East",null,null,null,null,"From South",null,null,null,null,"From West"]
[null,"Time Period",null,{"$f":"'Base Information'!$D$14:$D$14","v":"441 NB ON RAMP"},null,null,null,null,{"$f":"'Base Information'!$D$15:$D$15","v":"CTH OO (Northland Ave)"},null,null,null,null,{"$f":"'Base Information'!$D$16:$D$16","v":"441 NB OFF RAMP"},null,null,null,null,{"$f":"'Base Information'!$D$17:$D$17","v":"CTH OO (Northland Ave)"},null,null,null,null,"15-Min",null,"Hourly"]
[null,"Start Time",null,"Right ","Thru ","Left ","U-Tn","Total","Right ","Thru ","Left ","U-Tn","Total","Right ","Thru ","Left ","U-Tn","Total","Right ","Thru ","Left ","U-Tn","Total","Totals",null,"Sum"]
[null,"AM Peak Period","06:00:00",{"$f":"'15-Min SU-Truck'!D14+'15-Min Semi-Truck'!D14","v":0},{"$f":"'15-Min SU-Truck'!E14+'15-Min Semi-Truck'!E14","v":0},{"$f":"'15-Min SU-Truck'!F14+'15-Min Semi-Truck'!F14","v":0},{"$f":"'15-Min SU-Truck'!G14+'15-Min Semi-Truck'!G14","v":0},{"$f":"'15-Min SU-Truck'!H14+'15-Min Semi-Truck'!H14","v":0},{"$f":"'15-Min SU-Truck'!I14+'15-Min Semi-Truck'!I14","v":0},{"$f":"'15-Min SU-Truck'!J14+'15-Min Semi-Truck'!J14","v":1},{"$f":"'15-Min SU-Truck'!K14+'15-Min Semi-Truck'!K14","v":0},{"$f":"'15-Min SU-Truck'!L14+'15-Min Semi-Truck'!L14","v":0},{"$f":"'15-Min SU-Truck'!M14+'15-Min Semi-Truck'!M14","v":1},{"$f":"'15-Min SU-Truck'!N14+'15-Min Semi-Truck'!N14","v":1},{"$f":"'15-Min SU-Truck'!O14+'15-Min Semi-Truck'!O14","v":0},{"$f":"'15-Min SU-Truck'!P14+'15-Min Semi-Truck'!P14","v":0},{"$f":"'15-Min SU-Truck'!Q14+'15-Min Semi-Truck'!Q14","v":0},{"$f":"'15-Min SU-Truck'!R14+'15-Min Semi-Truck'!R14","v":1},{"$f":"'15-Min SU-Truck'!S14+'15-Min Semi-Truck'!S14","v":0},{"$f":"'15-Min SU-Truck'!T14+'15-Min Semi-Truck'!T14","v":1},{"$f":"'15-Min SU-Truck'!U14+'15-Min Semi-Truck'!U14","v":0},{"$f":"'15-Min SU-Truck'!V14+'15-Min Semi-Truck'!V14","v":0},{"$f":"'15-Min SU-Truck'!W14+'15-Min Semi-Truck'!W14","v":1},{"$f":"'15-Min SU-Truck'!X14+'15-Min Semi-Truck'!X14","v":3},null,{"$f":"IF(OR('15-Min All Vehicle'!X14=0,'15-Min All Vehicle'!X15=0, '15-Min All Vehicle'!X16=0,'15-Min All Vehicle'!X17=0)=TRUE,\"\",X14+X15+X16+X17)","v":39}]
[null,null,"06:14:59.942",{"$f":"'15-Min SU-Truck'!D15+'15-Min Semi-Truck'!D15","v":0},{"$f":"'15-Min SU-Truck'!E15+'15-Min Semi-Truck'!E15","v":0},{"$f":"'15-Min SU-Truck'!F15+'15-Min Semi-Truck'!F15","v":0},{"$f":"'15-Min SU-Truck'!G15+'15-Min Semi-Truck'!G15","v":0},{"$f":"'15-Min SU-Truck'!H15+'15-Min Semi-Truck'!H15","v":0},{"$f":"'15-Min SU-Truck'!I15+'15-Min Semi-Truck'!I15","v":0},{"$f":"'15-Min SU-Truck'!J15+'15-Min Semi-Truck'!J15","v":0},{"$f":"'15-Min SU-Truck'!K15+'15-Min Semi-Truck'!K15","v":0},{"$f":"'15-Min SU-Truck'!L15+'15-Min Semi-Truck'!L15","v":0},{"$f":"'15-Min SU-Truck'!M15+'15-Min Semi-Truck'!M15","v":0},{"$f":"'15-Min SU-Truck'!N15+'15-Min Semi-Truck'!N15","v":1},{"$f":"'15-Min SU-Truck'!O15+'15-Min Semi-Truck'!O15","v":0},{"$f":"'15-Min SU-Truck'!P15+'15-Min Semi-Truck'!P15","v":3},{"$f":"'15-Min SU-Truck'!Q15+'15-Min Semi-Truck'!Q15","v":0},{"$f":"'15-Min SU-Truck'!R15+'15-Min Semi-Truck'!R15","v":4},{"$f":"'15-Min SU-Truck'!S15+'15-Min Semi-Truck'!S15","v":0},{"$f":"'15-Min SU-Truck'!T15+'15-Min Semi-Truck'!T15","v":4},{"$f":"'15-Min SU-Truck'!U15+'15-Min Semi-Truck'!U15","v":1},{"$f":"'15-Min SU-Truck'!V15+'15-Min Semi-Truck'!V15","v":0},{"$f":"'15-Min SU-Truck'!W15+'15-Min Semi-Truck'!W15","v":5},{"$f":"'15-Min SU-Truck'!X15+'15-Min Semi-Truck'!X15","v":9},null,{"$f":"IF(OR('15-Min All Vehicle'!X15=0,'15-Min All Vehicle'!X16=0, '15-Min All Vehicle'!X17=0,'15-Min All Vehicle'!X18=0)=TRUE,\"\",X15+X16+X17+X18)","v":51}]
[null,null,"06:29:59.971",{"$f":"'15-Min SU-Truck'!D16+'15-Min Semi-Truck'!D16","v":0},{"$f":"'15-Min SU-Truck'!E16+'15-Min Semi-Truck'!E16","v":0},{"$f":"'15-Min SU-Truck'!F16+'15-Min Semi-Truck'!F16","v":0},{"$f":"'15-Min SU-Truck'!G16+'15-Min Semi-Truck'!G16","v":0},{"$f":"'15-Min SU-Truck'!H16+'15-Min Semi-Truck'!H16","v":0},{"$f":"'15-Min SU-Truck'!I16+'15-Min Semi-Truck'!I16","v":3},{"$f":"'15-Min SU-Truck'!J16+'15-Min Semi-Truck'!J16","v":0},{"$f":"'15-Min SU-Truck'!K16+'15-Min Semi-Truck'!K16","v":0},{"$f":"'15-Min SU-Truck'!L16+'15-Min Semi-Truck'!L16","v":0},{"$f":"'15-Min SU-Truck'!M16+'15-Min Semi-Truck'!M16","v":3},{"$f":"'15-Min SU-Truck'!N16+'15-Min Semi-Truck'!N16","v":1},{"$f":"'15-Min SU-Truck'!O16+'15-Min Semi-Truck'!O16","v":0},{"$f":"'15-Min SU-Truck'!P16+'15-Min Semi-Truck'!P16","v":2},{"$f":"'15-Min SU-Truck'!Q16+'15-Min Semi-Truck'!Q16","v":0},{"$f":"'15-Min SU-Truck'!R16+'15-Min Semi-Truck'!R16","v":3},{"$f":"'15-Min SU-Truck'!S16+'15-Min Semi-Truck'!S16","v":0},{"$f":"'15-Min SU-Truck'!T16+'15-Min Semi-Truck'!T16","v":1},{"$f":"'15-Min SU-Truck'!U16+'15-Min Semi-Truck'!U16","v":2},{"$f":"'15-Min SU-Truck'!V16+'15-Min Semi-Truck'!V16","v":0},{"$f":"'15-Min SU-Truck'!W16+'15-Min Semi-Truck'!W16","v":3},{"$f":"'15-Min SU-Truck'!X16+'15-Min Semi-Truck'!X16","v":9},null,{"$f":"IF(OR('15-Min All Vehicle'!X16=0,'15-Min All Vehicle'!X17=0, '15-Min All Vehicle'!X18=0,'15-Min All Vehicle'!X19=0)=TRUE,\"\",X16+X17+X18+X19)","v":60}]
[null,null,"06:45:00",{"$f":"'15-Min SU-Truck'!D17+'15-Min Semi-Truck'!D17","v":0},{"$f":"'15-Min SU-Truck'!E17+'15-Min Semi-Truck'!E17","v":0},{"$f":"'15-Min SU-Truck'!F17+'15-Min Semi-Truck'!F17","v":0},{"$f":"'15-Min SU-Truck'!G17+'15-Min Semi-Truck'!G17","v":0},{"$f":"'15-Min SU-Truck'!H17+'15-Min Semi-Truck'!H17","v":0},{"$f":"'15-Min SU-Truck'!I17+'15-Min Semi-Truck'!I17","v":2},{"$f":"'15-Min SU-Truck'!J17+'15-Min Semi-Truck'!J17","v":2},{"$f":"'15-Min SU-Truck'!K17+'15-Min Semi-Truck'!K17","v":0},{"$f":"'15-Min SU-Truck'!L17+'15-Min Semi-Truck'!L17","v":0},{"$f":"'15-Min SU-Truck'!M17+'15-Min Semi-Truck'!M17","v":4},{"$f":"'15-Min SU-Truck'!N17+'15-Min Semi-Truck'!N17","v":4},{"$f":"'15-Min SU-Truck'!O17+'15-Min Semi-Truck'!O17","v":0},{"$f":"'15-Min SU-Truck'!P17+'15-Min Semi-Truck'!P17","v":3},{"$f":"'15-Min SU-Truck'!Q17+'15-Min Semi-Truck'!Q17","v":0},{"$f":"'15-Min SU-Truck'!R17+'15-Min Semi-Truck'!R17","v":7},{"$f":"'15-Min SU-Truck'!S17+'15-Min Semi-Truck'!S17","v":0},{"$f":"'15-Min SU-Truck'!T17+'15-Min Semi-Truck'!T17","v":6},{"$f":"'15-Min SU-Truck'!U17+'15-Min Semi-Truck'!U17","v":1},{"$f":"'15-Min SU-Truck'!V17+'15-Min Semi-Truck'!V17","v":0},{"$f":"'15-Min SU-Truck'!W17+'15-Min Semi-Truck'!W17","v":7},{"$f":"'15-Min SU-Truck'!X17+'15-Min Semi-Truck'!X17","v":18},null,{"$f":"IF(OR('15-Min All Vehicle'!X17=0,'15-Min All Vehicle'!X18=0, '15-Min All Vehicle'!X19=0,'15-Min All Vehicle'!X20=0)=TRUE,\"\",X17+X18+X19+X20)","v":71}]
[null,null,"06:59:59.942",{"$f":"'15-Min SU-Truck'!D18+'15-Min Semi-Truck'!D18","v":0},{"$f":"'15-Min SU-Truck'!E18+'15-Min Semi-Truck'!E18","v":0},{"$f":"'15-Min SU-Truck'!F18+'15-Min Semi-Truck'!F18","v":0},{"$f":"'15-Min SU-Truck'!G18+'15-Min Semi-Truck'!G18","v":0},{"$f":"'15-Min SU-Truck'!H18+'15-Min Semi-Truck'!H18","v":0},{"$f":"'15-Min SU-Truck'!I18+'15-Min Semi-Truck'!I18","v":2},{"$f":"'15-Min SU-Truck'!J18+'15-Min Semi-Truck'!J18","v":5},{"$f":"'15-Min SU-Truck'!K18+'15-Min Semi-Truck'!K18","v":0},{"$f":"'15-Min SU-Truck'!L18+'15-Min Semi-Truck'!L18","v":0},{"$f":"'15-Min SU-Truck'!M18+'15-Min Semi-Truck'!M18","v":7},{"$f":"'15-Min SU-Truck'!N18+'15-Min Semi-Truck'!N18","v":4},{"$f":"'15-Min SU-Truck'!O18+'15-Min Semi-Truck'!O18","v":0},{"$f":"'15-Min SU-Truck'!P18+'15-Min Semi-Truck'!P18","v":2},{"$f":"'15-Min SU-Truck'!Q18+'15-Min Semi-Truck'!Q18","v":0},{"$f":"'15-Min SU-Truck'!R18+'15-Min Semi-Truck'!R18","v":6},{"$f":"'15-Min SU-Truck'!S18+'15-Min Semi-Truck'!S18","v":0},{"$f":"'15-Min SU-Truck'!T18+'15-Min Semi-Truck'!T18","v":2},{"$f":"'15-Min SU-Truck'!U18+'15-Min Semi-Truck'!U18","v":0},{"$f":"'15-Min SU-Truck'!V18+'15-Min Semi-Truck'!V18","v":0},{"$f":"'15-Min SU-Truck'!W18+'15-Min Semi-Truck'!W18","v":2},{"$f":"'15-Min SU-Truck'!X18+'15-Min Semi-Truck'!X18","v":15},null,{"$f":"IF(OR('15-Min All Vehicle'!X18=0,'15-Min All Vehicle'!X19=0, '15-Min All Vehicle'!X20=0,'15-Min All Vehicle'!X21=0)=TRUE,\"\",X18+X19+X20+X21)","v":84}]
[null,null,"07:14:59.971",{"$f":"'15-Min SU-Truck'!D19+'15-Min Semi-Truck'!D19","v":0},{"$f":"'15-Min SU-Truck'!E19+'15-Min Semi-Truck'!E19","v":0},{"$f":"'15-Min SU-Truck'!F19+'15-Min Semi-Truck'!F19","v":0},{"$f":"'15-Min SU-Truck'!G19+'15-Min Semi-Truck'!G19","v":0},{"$f":"'15-Min SU-Truck'!H19+'15-Min Semi-Truck'!H19","v":0},{"$f":"'15-Min SU-Truck'!I19+'15-Min Semi-Truck'!I19","v":4},{"$f":"'15-Min SU-Truck'!J19+'15-Min Semi-Truck'!J19","v":6},{"$f":"'15-Min SU-Truck'!K19+'15-Min Semi-Truck'!K19","v":0},{"$f":"'15-Min SU-Truck'!L19+'15-Min Semi-Truck'!L19","v":0},{"$f":"'15-Min SU-Truck'!M19+'15-Min Semi-Truck'!M19","v":10},{"$f":"'15-Min SU-Truck'!N19+'15-Min Semi-Truck'!N19","v":1},{"$f":"'15-Min SU-Truck'!O19+'15-Min Semi-Truck'!O19","v":0},{"$f":"'15-Min SU-Truck'!P19+'15-Min Semi-Truck'!P19","v":4},{"$f":"'15-Min SU-Truck'!Q19+'15-Min Semi-Truck'!Q19","v":0},{"$f":"'15-Min SU-Truck'!R19+'15-Min Semi-Truck'!R19","v":5},{"$f":"'15-Min SU-Truck'!S19+'15-Min Semi-Truck'!S19","v":0},{"$f":"'15-Min SU-Truck'!T19+'15-Min Semi-Truck'!T19","v":3},{"$f":"'15-Min SU-Truck'!U19+'15-Min Semi-Truck'!U19","v":0},{"$f":"'15-Min SU-Truck'!V19+'15-Min Semi-Truck'!V19","v":0},{"$f":"'15-Min SU-Truck'!W19+'15-Min Semi-Truck'!W19","v":3},{"$f":"'15-Min SU-Truck'!X19+'15-Min Semi-Truck'!X19","v":18},null,{"$f":"IF(OR('15-Min All Vehicle'!X19=0,'15-Min All Vehicle'!X20=0, '15-Min All Vehicle'!X21=0,'15-Min All Vehicle'!X22=0)=TRUE,\"\",X19+X20+X21+X22)","v":98}]
[null,null,"07:30:00",{"$f":"'15-Min SU-Truck'!D20+'15-Min Semi-Truck'!D20","v":0},{"$f":"'15-Min SU-Truck'!E20+'15-Min Semi-Truck'!E20","v":0},{"$f":"'15-Min SU-Truck'!F20+'15-Min Semi-Truck'!F20","v":0},{"$f":"'15-Min SU-Truck'!G20+'15-Min Semi-Truck'!G20","v":0},{"$f":"'15-Min SU-Truck'!H20+'15-Min Semi-Truck'!H20","v":0},{"$f":"'15-Min SU-Truck'!I20+'15-Min Semi-Truck'!I20","v":4},{"$f":"'15-Min SU-Truck'!J20+'15-Min Semi-Truck'!J20","v":3},{"$f":"'15-Min SU-Truck'!K20+'15-Min Semi-Truck'!K20","v":0},{"$f":"'15-Min SU-Truck'!L20+'15-Min Semi-Truck'!L20","v":0},{"$f":"'15-Min SU-Truck'!M20+'15-Min Semi-Truck'!M20","v":7},{"$f":"'15-Min SU-Truck'!N20+'15-Min Semi-Truck'!N20","v":3},{"$f":"'15-Min SU-Truck'!O20+'15-Min Semi-Truck'!O20","v":1},{"$f":"'15-Min SU-Truck'!P20+'15-Min Semi-Truck'!P20","v":4},{"$f":"'15-Min SU-Truck'!Q20+'15-Min Semi-Truck'!Q20","v":0},{"$f":"'15-Min SU-Truck'!R20+'15-Min Semi-Truck'!R20","v":8},{"$f":"'15-Min SU-Truck'!S20+'15-Min Semi-Truck'!S20","v":0},{"$f":"'15-Min SU-Truck'!T20+'15-Min Semi-Truck'!T20","v":5},{"$f":"'15-Min SU-Truck'!U20+'15-Min Semi-Truck'!U20","v":0},{"$f":"'15-Min SU-Truck'!V20+'15-Min Semi-Truck'!V20","v":0},{"$f":"'15-Min SU-Truck'!W20+'15-Min Semi-Truck'!W20","v":5},{"$f":"'15-Min SU-Truck'!X20+'15-Min Semi-Truck'!X20","v":20},null,{"$f":"IF(OR('15-Min All Vehicle'!X20=0,'15-Min All Vehicle'!X21=0, '15-Min All Vehicle'!X22=0,'15-Min All Vehicle'!X23=0)=TRUE,\"\",X20+X21+X22+X23)","v":109}]
[null,null,"07:44:59.942",{"$f":"'15-Min SU-Truck'!D21+'15-Min Semi-Truck'!D21","v":0},{"$f":"'15-Min SU-Truck'!E21+'15-Min Semi-Truck'!E21","v":0},{"$f":"'15-Min SU-Truck'!F21+'15-Min Semi-Truck'!F21","v":0},{"$f":"'15-Min SU-Truck'!G21+'15-Min Semi-Truck'!G21","v":0},{"$f":"'15-Min SU-Truck'!H21+'15-Min Semi-Truck'!H21","v":0},{"$f":"'15-Min SU-Truck'!I21+'15-Min Semi-Truck'!I21","v":2},{"$f":"'15-Min SU-Truck'!J21+'15-Min Semi-Truck'!J21","v":9},{"$f":"'15-Min SU-Truck'!K21+'15-Min Semi-Truck'!K21","v":0},{"$f":"'15-Min SU-Truck'!L21+'15-Min Semi-Truck'!L21","v":0},{"$f":"'15-Min SU-Truck'!M21+'15-Min Semi-Truck'!M21","v":11},{"$f":"'15-Min SU-Truck'!N21+'15-Min Semi-Truck'!N21","v":3},{"$f":"'15-Min SU-Truck'!O21+'15-Min Semi-Truck'!O21","v":0},{"$f":"'15-Min SU-Truck'!P21+'15-Min Semi-Truck'!P21","v":4},{"$f":"'15-Min SU-Truck'!Q21+'15-Min Semi-Truck'!Q21","v":0},{"$f":"'15-Min SU-Truck'!R21+'15-Min Semi-Truck'!R21","v":7},{"$f":"'15-Min SU-Truck'!S21+'15-Min Semi-Truck'!S21","v":0},{"$f":"'15-Min SU-Truck'!T21+'15-Min Semi-Truck'!T21","v":13},{"$f":"'15-Min SU-Truck'!U21+'15-Min Semi-Truck'!U21","v":0},{"$f":"'15-Min SU-Truck'!V21+'15-Min Semi-Truck'!V21","v":0},{"$f":"'15-Min SU-Truck'!W21+'15-Min Semi-Truck'!W21","v":13},{"$f":"'15-Min SU-Truck'!X21+'15-Min Semi-Truck'!X21","v":31},null,{"$f":"IF(OR('15-Min All Vehicle'!X21=0,'15-Min All Vehicle'!X22=0, '15-Min All Vehicle'!X23=0,'15-Min All Vehicle'!X24=0)=TRUE,\"\",X21+X22+X23+X24)","v":126}]
[null,null,"07:59:59.971",{"$f":"'15-Min SU-Truck'!D22+'15-Min Semi-Truck'!D22","v":0},{"$f":"'15-Min SU-Truck'!E22+'15-Min Semi-Truck'!E22","v":0},{"$f":"'15-Min SU-Truck'!F22+'15-Min Semi-Truck'!F22","v":0},{"$f":"'15-Min SU-Truck'!G22+'15-Min Semi-Truck'!G22","v":0},{"$f":"'15-Min SU-Truck'!H22+'15-Min Semi-Truck'!H22","v":0},{"$f":"'15-Min SU-Truck'!I22+'15-Min Semi-Truck'!I22","v":1},{"$f":"'15-Min SU-Truck'!J22+'15-Min Semi-Truck'!J22","v":8},{"$f":"'15-Min SU-Truck'!K22+'15-Min Semi-Truck'!K22","v":0},{"$f":"'15-Min SU-Truck'!L22+'15-Min Semi-Truck'!L22","v":0},{"$f":"'15-Min SU-Truck'!M22+'15-Min Semi-Truck'!M22","v":9},{"$f":"'15-Min SU-Truck'!N22+'15-Min Semi-Truck'!N22","v":6},{"$f":"'15-Min SU-Truck'!O22+'15-Min Semi-Truck'!O22","v":0},{"$f":"'15-Min SU-Truck'!P22+'15-Min Semi-Truck'!P22","v":4},{"$f":"'15-Min SU-Truck'!Q22+'15-Min Semi-Truck'!Q22","v":0},{"$f":"'15-Min SU-Truck'!R22+'15-Min Semi-Truck'!R22","v":10},{"$f":"'15-Min SU-Truck'!S22+'15-Min Semi-Truck'!S22","v":0},{"$f":"'15-Min SU-Truck'!T22+'15-Min Semi-Truck'!T22","v":7},{"$f":"'15-Min SU-Truck'!U22+'15-Min Semi-Truck'!U22","v":3},{"$f":"'15-Min SU-Truck'!V22+'15-Min Semi-Truck'!V22","v":0},{"$f":"'15-Min SU-Truck'!W22+'15-Min Semi-Truck'!W22","v":10},{"$f":"'15-Min SU-Truck'!X22+'15-Min Semi-Truck'!X22","v":29},null,{"$f":"IF(OR('15-Min All Vehicle'!X22=0,'15-Min All Vehicle'!X23=0, '15-Min All Vehicle'!X24=0,'15-Min All Vehicle'!X25=0)=TRUE,\"\",X22+X23+X24+X25)","v":121}]
[null,null,"08:15:00",{"$f":"'15-Min SU-Truck'!D23+'15-Min Semi-Truck'!D23","v":0},{"$f":"'15-Min SU-Truck'!E23+'15-Min Semi-Truck'!E23","v":0},{"$f":"'15-Min SU-Truck'!F23+'15-Min Semi-Truck'!F23","v":0},{"$f":"'15-Min SU-Truck'!G23+'15-Min Semi-Truck'!G23","v":0},{"$f":"'15-Min SU-Truck'!H23+'15-Min Semi-Truck'!H23","v":0},{"$f":"'15-Min SU-Truck'!I23+'15-Min Semi-Truck'!I23","v":4},{"$f":"'15-Min SU-Truck'!J23+'15-Min Semi-Truck'!J23","v":5},{"$f":"'15-Min SU-Truck'!K23+'15-Min Semi-Truck'!K23","v":0},{"$f":"'15-Min SU-Truck'!L23+'15-Min Semi-Truck'!L23","v":0},{"$f":"'15-Min SU-Truck'!M23+'15-Min Semi-Truck'!M23","v":9},{"$f":"'15-Min SU-Truck'!N23+'15-Min Semi-Truck'!N23","v":6},{"$f":"'15-Min SU-Truck'!O23+'15-Min Semi-Truck'!O23","v":0},{"$f":"'15-Min SU-Truck'!P23+'15-Min Semi-Truck'!P23","v":9},{"$f":"'15-Min SU-Truck'!Q23+'15-Min Semi-Truck'!Q23","v":0},{"$f":"'15-Min SU-Truck'!R23+'15-Min Semi-Truck'!R23","v":15},{"$f":"'15-Min SU-Truck'!S23+'15-Min Semi-Truck'!S23","v":0},{"$f":"'15-Min SU-Truck'!T23+'15-Min Semi-Truck'!T23","v":4},{"$f":"'15-Min SU-Truck'!U23+'15-Min Semi-Truck'!U23","v":1},{"$f":"'15-Min SU-Truck'!V23+'15-Min Semi-Truck'!V23","v":0},{"$f":"'15-Min SU-Truck'!W23+'15-Min Semi-Truck'!W23","v":5},{"$f":"'15-Min SU-Truck'!X23+'15-Min Semi-Truck'!X23","v":29},null,{"$f":"IF(OR('15-Min All Vehicle'!X23=0,'15-Min All Vehicle'!X24=0, '15-Min All Vehicle'!X25=0,'15-Min All Vehicle'!X26=0)=TRUE,\"\",X23+X24+X25+X26)","v":92}]
[null,null,"08:29:59.942",{"$f":"'15-Min SU-Truck'!D24+'15-Min Semi-Truck'!D24","v":0},{"$f":"'15-Min SU-Truck'!E24+'15-Min Semi-Truck'!E24","v":0},{"$f":"'15-Min SU-Truck'!F24+'15-Min Semi-Truck'!F24","v":0},{"$f":"'15-Min SU-Truck'!G24+'15-Min Semi-Truck'!G24","v":0},{"$f":"'15-Min SU-Truck'!H24+'15-Min Semi-Truck'!H24","v":0},{"$f":"'15-Min SU-Truck'!I24+'15-Min Semi-Truck'!I24","v":7},{"$f":"'15-Min SU-Truck'!J24+'15-Min Semi-Truck'!J24","v":11},{"$f":"'15-Min SU-Truck'!K24+'15-Min Semi-Truck'!K24","v":0},{"$f":"'15-Min SU-Truck'!L24+'15-Min Semi-Truck'!L24","v":0},{"$f":"'15-Min SU-Truck'!M24+'15-Min Semi-Truck'!M24","v":18},{"$f":"'15-Min SU-Truck'!N24+'15-Min Semi-Truck'!N24","v":5},{"$f":"'15-Min SU-Truck'!O24+'15-Min Semi-Truck'!O24","v":0},{"$f":"'15-Min SU-Truck'!P24+'15-Min Semi-Truck'!P24","v":4},{"$f":"'15-Min SU-Truck'!Q24+'15-Min Semi-Truck'!Q24","v":0},{"$f":"'15-Min SU-Truck'!R24+'15-Min Semi-Truck'!R24","v":9},{"$f":"'15-Min SU-Truck'!S24+'15-Min Semi-Truck'!S24","v":0},{"$f":"'15-Min SU-Truck'!T24+'15-Min Semi-Truck'!T24","v":8},{"$f":"'15-Min SU-Truck'!U24+'15-Min Semi-Truck'!U24","v":2},{"$f":"'15-Min SU-Truck'!V24+'15-Min Semi-Truck'!V24","v":0},{"$f":"'15-Min SU-Truck'!W24+'15-Min Semi-Truck'!W24","v":10},{"$f":"'15-Min SU-Truck'!X24+'15-Min Semi-Truck'!X24","v":37},null,{"$f":"IF(OR('15-Min All Vehicle'!X24=0,'15-Min All Vehicle'!X25=0, '15-Min All Vehicle'!X26=0,'15-Min All Vehicle'!X27=0)=TRUE,\"\",X24+X25+X26+X27)","v":94}]
[null,null,"08:44:59.971",{"$f":"'15-Min SU-Truck'!D25+'15-Min Semi-Truck'!D25","v":0},{"$f":"'15-Min SU-Truck'!E25+'15-Min Semi-Truck'!E25","v":0},{"$f":"'15-Min SU-Truck'!F25+'15-Min Semi-Truck'!F25","v":0},{"$f":"'15-Min SU-Truck'!G25+'15-Min Semi-Truck'!G25","v":0},{"$f":"'15-Min SU-Truck'!H25+'15-Min Semi-Truck'!H25","v":0},{"$f":"'15-Min SU-Truck'!I25+'15-Min Semi-Truck'!I25","v":4},{"$f":"'15-Min SU-Truck'!J25+'15-Min Semi-Truck'!J25","v":4},{"$f":"'15-Min SU-Truck'!K25+'15-Min Semi-Truck'!K25","v":0},{"$f":"'15-Min SU-Truck'!L25+'15-Min Semi-Truck'!L25","v":0},{"$f":"'15-Min SU-Truck'!M25+'15-Min Semi-Truck'!M25","v":8},{"$f":"'15-Min SU-Truck'!N25+'15-Min Semi-Truck'!N25","v":3},{"$f":"'15-Min SU-Truck'!O25+'15-Min Semi-Truck'!O25","v":0},{"$f":"'15-Min SU-Truck'!P25+'15-Min Semi-Truck'!P25","v":4},{"$f":"'15-Min SU-Truck'!Q25+'15-Min Semi-Truck'!Q25","v":0},{"$f":"'15-Min SU-Truck'!R25+'15-Min Semi-Truck'!R25","v":7},{"$f":"'15-Min SU-Truck'!S25+'15-Min Semi-Truck'!S25","v":0},{"$f":"'15-Min SU-Truck'!T25+'15-Min Semi-Truck'!T25","v":7},{"$f":"'15-Min SU-Truck'!U25+'15-Min Semi-Truck'!U25","v":4},{"$f":"'15-Min SU-Truck'!V25+'15-Min Semi-Truck'!V25","v":0},{"$f":"'15-Min SU-Truck'!W25+'15-Min Semi-Truck'!W25","v":11},{"$f":"'15-Min SU-Truck'!X25+'15-Min Semi-Truck'!X25","v":26},null,{"$f":"IF(OR('15-Min All Vehicle'!X25=0,'15-Min All Vehicle'!X26=0, '15-Min All Vehicle'!X27=0,'15-Min All Vehicle'!X28=0)=TRUE,\"\",X25+X26+X27+X28)","v":86}]
[null,null,"09:00:00",{"$f":"'15-Min SU-Truck'!D26+'15-Min Semi-Truck'!D26","v":0},{"$f":"'15-Min SU-Truck'!E26+'15-Min Semi-Truck'!E26","v":0},{"$f":"'15-Min SU-Truck'!F26+'15-Min Semi-Truck'!F26","v":0},{"$f":"'15-Min SU-Truck'!G26+'15-Min Semi-Truck'!G26","v":0},{"$f":"'15-Min SU-Truck'!H26+'15-Min Semi-Truck'!H26","v":0},{"$f":"'15-Min SU-Truck'!I26+'15-Min Semi-Truck'!I26","v":0},{"$f":"'15-Min SU-Truck'!J26+'15-Min Semi-Truck'!J26","v":0},{"$f":"'15-Min SU-Truck'!K26+'15-Min Semi-Truck'!K26","v":0},{"$f":"'15-Min SU-Truck'!L26+'15-Min Semi-Truck'!L26","v":0},{"$f":"'15-Min SU-Truck'!M26+'15-Min Semi-Truck'!M26","v":0},{"$f":"'15-Min SU-Truck'!N26+'15-Min Semi-Truck'!N26","v":0},{"$f":"'15-Min SU-Truck'!O26+'15-Min Semi-Truck'!O26","v":0},{"$f":"'15-Min SU-Truck'!P26+'15-Min Semi-Truck'!P26","v":0},{"$f":"'15-Min SU-Truck'!Q26+'15-Min Semi-Truck'!Q26","v":0},{"$f":"'15-Min SU-Truck'!R26+'15-Min Semi-Truck'!R26","v":0},{"$f":"'15-Min SU-Truck'!S26+'15-Min Semi-Truck'!S26","v":0},{"$f":"'15-Min SU-Truck'!T26+'15-Min Semi-Truck'!T26","v":0},{"$f":"'15-Min SU-Truck'!U26+'15-Min Semi-Truck'!U26","v":0},{"$f":"'15-Min SU-Truck'!V26+'15-Min Semi-Truck'!V26","v":0},{"$f":"'15-Min SU-Truck'!W26+'15-Min Semi-Truck'!W26","v":0},{"$f":"'15-Min SU-Truck'!X26+'15-Min Semi-Truck'!X26","v":0},null,{"$f":"IF(OR('15-Min All Vehicle'!X26=0,'15-Min All Vehicle'!X27=0, '15-Min All Vehicle'!X28=0,'15-Min All Vehicle'!X29=0)=TRUE,\"\",X26+X27+X28+X29)","v":91}]
[null,null,"09:14:59.942",{"$f":"'15-Min SU-Truck'!D27+'15-Min Semi-Truck'!D27","v":0},{"$f":"'15-Min SU-Truck'!E27+'15-Min Semi-Truck'!E27","v":0},{"$f":"'15-Min SU-Truck'!F27+'15-Min Semi-Truck'!F27","v":0},{"$f":"'15-Min SU-Truck'!G27+'15-Min Semi-Truck'!G27","v":0},{"$f":"'15-Min SU-Truck'!H27+'15-Min Semi-Truck'!H27","v":0},{"$f":"'15-Min SU-Truck'!I27+'15-Min Semi-Truck'!I27","v":6},{"$f":"'15-Min SU-Truck'!J27+'15-Min Semi-Truck'!J27","v":4},{"$f":"'15-Min SU-Truck'!K27+'15-Min Semi-Truck'!K27","v":0},{"$f":"'15-Min SU-Truck'!L27+'15-Min Semi-Truck'!L27","v":0},{"$f":"'15-Min SU-Truck'!M27+'15-Min Semi-Truck'!M27","v":10},{"$f":"'15-Min SU-Truck'!N27+'15-Min Semi-Truck'!N27","v":5},{"$f":"'15-Min SU-Truck'!O27+'15-Min Semi-Truck'!O27","v":0},{"$f":"'15-Min SU-Truck'!P27+'15-Min Semi-Truck'!P27","v":7},{"$f":"'15-Min SU-Truck'!Q27+'15-Min Semi-Truck'!Q27","v":0},{"$f":"'15-Min SU-Truck'!R27+'15-Min Semi-Truck'!R27","v":12},{"$f":"'15-Min SU-Truck'!S27+'15-Min Semi-Truck'!S27","v":0},{"$f":"'15-Min SU-Truck'!T27+'15-Min Semi-Truck'!T27","v":8},{"$f":"'15-Min SU-Truck'!U27+'15-Min Semi-Truck'!U27","v":1},{"$f":"'15-Min SU-Truck'!V27+'15-Min Semi-Truck'!V27","v":0},{"$f":"'15-Min SU-Truck'!W27+'15-Min Semi-Truck'!W27","v":9},{"$f":"'15-Min SU-Truck'!X27+'15-Min Semi-Truck'!X27","v":31},null,{"$f":"IF(OR('15-Min All Vehicle'!X27=0,'15-Min All Vehicle'!X28=0, '15-Min All Vehicle'!X29=0,'15-Min All Vehicle'!X30=0)=TRUE,\"\",X27+X28+X29+X30)","v":115}]
[null,null,"09:29:59.971",{"$f":"'15-Min SU-Truck'!D28+'15-Min Semi-Truck'!D28","v":0},{"$f":"'15-Min SU-Truck'!E28+'15-Min Semi-Truck'!E28","v":0},{"$f":"'15-Min SU-Truck'!F28+'15-Min Semi-Truck'!F28","v":0},{"$f":"'15-Min SU-Truck'!G28+'15-Min Semi-Truck'!G28","v":0},{"$f":"'15-Min SU-Truck'!H28+'15-Min Semi-Truck'!H28","v":0},{"$f":"'15-Min SU-Truck'!I28+'15-Min Semi-Truck'!I28","v":1},{"$f":"'15-Min SU-Truck'!J28+'15-Min Semi-Truck'!J28","v":8},{"$f":"'15-Min SU-Truck'!K28+'15-Min Semi-Truck'!K28","v":0},{"$f":"'15-Min SU-Truck'!L28+'15-Min Semi-Truck'!L28","v":0},{"$f":"'15-Min SU-Truck'!M28+'15-Min Semi-Truck'!M28","v":9},{"$f":"'15-Min SU-Truck'!N28+'15-Min Semi-Truck'!N28","v":3},{"$f":"'15-Min SU-Truck'!O28+'15-Min Semi-Truck'!O28","v":0},{"$f":"'15-Min SU-Truck'!P28+'15-Min Semi-Truck'!P28","v":7},{"$f":"'15-Min SU-Truck'!Q28+'15-Min Semi-Truck'!Q28","v":0},{"$f":"'15-Min SU-Truck'!R28+'15-Min Semi-Truck'!R28","v":10},{"$f":"'15-Min SU-Truck'!S28+'15-Min Semi-Truck'!S28","v":0},{"$f":"'15-Min SU-Truck'!T28+'15-Min Semi-Truck'!T28","v":7},{"$f":"'15-Min SU-Truck'!U28+'15-Min Semi-Truck'!U28","v":3},{"$f":"'15-Min SU-Truck'!V28+'15-Min Semi-Truck'!V28","v":0},{"$f":"'15-Min SU-Truck'!W28+'15-Min Semi-Truck'!W28","v":10},{"$f":"'15-Min SU-Truck'!X28+'15-Min Semi-Truck'!X28","v":29},null,{"$f":"IF(OR('15-Min All Vehicle'!X28=0,'15-Min All Vehicle'!X29=0, '15-Min All Vehicle'!X30=0,'15-Min All Vehicle'!X31=0)=TRUE,\"\",X28+X29+X30+X31)","v":117}]
[null,null,"09:45:00",{"$f":"'15-Min SU-Truck'!D29+'15-Min Semi-Truck'!D29","v":0},{"$f":"'15-Min SU-Truck'!E29+'15-Min Semi-Truck'!E29","v":0},{"$f":"'15-Min SU-Truck'!F29+'15-Min Semi-Truck'!F29","v":0},{"$f":"'15-Min SU-Truck'!G29+'15-Min Semi-Truck'!G29","v":0},{"$f":"'15-Min SU-Truck'!H29+'15-Min Semi-Truck'!H29","v":0},{"$f":"'15-Min SU-Truck'!I29+'15-Min Semi-Truck'!I29","v":4},{"$f":"'15-Min SU-Truck'!J29+'15-Min Semi-Truck'!J29","v":8},{"$f":"'15-Min SU-Truck'!K29+'15-Min Semi-Truck'!K29","v":0},{"$f":"'15-Min SU-Truck'!L29+'15-Min Semi-Truck'!L29","v":0},{"$f":"'15-Min SU-Truck'!M29+'15-Min Semi-Truck'!M29","v":12},{"$f":"'15-Min SU-Truck'!N29+'15-Min Semi-Truck'!N29","v":6},{"$f":"'15-Min SU-Truck'!O29+'15-Min Semi-Truck'!O29","v":0},{"$f":"'15-Min SU-Truck'!P29+'15-Min Semi-Truck'!P29","v":6},{"$f":"'15-Min SU-Truck'!Q29+'15-Min Semi-Truck'!Q29","v":0},{"$f":"'15-Min SU-Truck'!R29+'15-Min Semi-Truck'!R29","v":12},{"$f":"'15-Min SU-Truck'!S29+'15-Min Semi-Truck'!S29","v":0},{"$f":"'15-Min SU-Truck'!T29+'15-Min Semi-Truck'!T29","v":6},{"$f":"'15-Min SU-Truck'!U29+'15-Min Semi-Truck'!U29","v":1},{"$f":"'15-Min SU-Truck'!V29+'15-Min Semi-Truck'!V29","v":0},{"$f":"'15-Min SU-Truck'!W29+'15-Min Semi-Truck'!W29","v":7},{"$f":"'15-Min SU-Truck'!X29+'15-Min Semi-Truck'!X29","v":31},null,{"$f":"IF(OR('15-Min All Vehicle'!X29=0,'15-Min All Vehicle'!X30=0, '15-Min All Vehicle'!X31=0,'15-Min All Vehicle'!X32=0)=TRUE,\"\",X29+X30+X31+X32)","v":120}]
[null,"Midday Peak Period","09:59:59.942",{"$f":"'15-Min SU-Truck'!D30+'15-Min Semi-Truck'!D30","v":0},{"$f":"'15-Min SU-Truck'!E30+'15-Min Semi-Truck'!E30","v":0},{"$f":"'15-Min SU-Truck'!F30+'15-Min Semi-Truck'!F30","v":0},{"$f":"'15-Min SU-Truck'!G30+'15-Min Semi-Truck'!G30","v":0},{"$f":"'15-Min SU-Truck'!H30+'15-Min Semi-Truck'!H30","v":0},{"$f":"'15-Min SU-Truck'!I30+'15-Min Semi-Truck'!I30","v":7},{"$f":"'15-Min SU-Truck'!J30+'15-Min Semi-Truck'!J30","v":4},{"$f":"'15-Min SU-Truck'!K30+'15-Min Semi-Truck'!K30","v":0},{"$f":"'15-Min SU-Truck'!L30+'15-Min Semi-Truck'!L30","v":0},{"$f":"'15-Min SU-Truck'!M30+'15-Min Semi-Truck'!M30","v":11},{"$f":"'15-Min SU-Truck'!N30+'15-Min Semi-Truck'!N30","v":3},{"$f":"'15-Min SU-Truck'!O30+'15-Min Semi-Truck'!O30","v":0},{"$f":"'15-Min SU-Truck'!P30+'15-Min Semi-Truck'!P30","v":2},{"$f":"'15-Min SU-Truck'!Q30+'15-Min Semi-Truck'!Q30","v":0},{"$f":"'15-Min SU-Truck'!R30+'15-Min Semi-Truck'!R30","v":5},{"$f":"'15-Min SU-Truck'!S30+'15-Min Semi-Truck'!S30","v":0},{"$f":"'15-Min SU-Truck'!T30+'15-Min Semi-Truck'!T30","v":6},{"$f":"'15-Min SU-Truck'!U30+'15-Min Semi-Truck'!U30","v":2},{"$f":"'15-Min SU-Truck'!V30+'15-Min Semi-Truck'!V30","v":0},{"$f":"'15-Min SU-Truck'!W30+'15-Min Semi-Truck'!W30","v":8},{"$f":"'15-Min SU-Truck'!X30+'15-Min Semi-Truck'!X30","v":24},null,{"$f":"IF(OR('15-Min All Vehicle'!X30=0,'15-Min All Vehicle'!X31=0, '15-Min All Vehicle'!X32=0,'15-Min All Vehicle'!X33=0)=TRUE,\"\",X30+X31+X32+X33)","v":121}]
[null,null,"10:14:59.971",{"$f":"'15-Min SU-Truck'!D31+'15-Min Semi-Truck'!D31","v":0},{"$f":"'15-Min SU-Truck'!E31+'15-Min Semi-Truck'!E31","v":0},{"$f":"'15-Min SU-Truck'!F31+'15-Min Semi-Truck'!F31","v":0},{"$f":"'15-Min SU-Truck'!G31+'15-Min Semi-Truck'!G31","v":0},{"$f":"'15-Min SU-Truck'!H31+'15-Min Semi-Truck'!H31","v":0},{"$f":"'15-Min SU-Truck'!I31+'15-Min Semi-Truck'!I31","v":4},{"$f":"'15-Min SU-Truck'!J31+'15-Min Semi-Truck'!J31","v":12},{"$f":"'15-Min SU-Truck'!K31+'15-Min Semi-Truck'!K31","v":0},{"$f":"'15-Min SU-Truck'!L31+'15-Min Semi-Truck'!L31","v":0},{"$f":"'15-Min SU-Truck'!M31+'15-Min Semi-Truck'!M31","v":16},{"$f":"'15-Min SU-Truck'!N31+'15-Min Semi-Truck'!N31","v":2},{"$f":"'15-Min SU-Truck'!O31+'15-Min Semi-Truck'!O31","v":0},{"$f":"'15-Min SU-Truck'!P31+'15-Min Semi-Truck'!P31","v":9},{"$f":"'15-Min SU-Truck'!Q31+'15-Min Semi-Truck'!Q31","v":0},{"$f":"'15-Min SU-Truck'!R31+'15-Min Semi-Truck'!R31","v":11},{"$f":"'15-Min SU-Truck'!S31+'15-Min Semi-Truck'!S31","v":0},{"$f":"'15-Min SU-Truck'!T31+'15-Min Semi-Truck'!T31","v":6},{"$f":"'15-Min SU-Truck'!U31+'15-Min Semi-Truck'!U31","v":0},{"$f":"'15-Min SU-Truck'!V31+'15-Min Semi-Truck'!V31","v":0},{"$f":"'15-Min SU-Truck'!W31+'15-Min Semi-Truck'!W31","v":6},{"$f":"'15-Min SU-Truck'!X31+'15-Min Semi-Truck'!X31","v":33},null,{"$f":"IF(OR('15-Min All Vehicle'!X31=0,'15-Min All Vehicle'!X32=0, '15-Min All Vehicle'!X33=0,'15-Min All Vehicle'!X34=0)=TRUE,\"\",X31+X32+X33+X34)","v":135}]
[null,null,"10:30:00",{"$f":"'15-Min SU-Truck'!D32+'15-Min Semi-Truck'!D32","v":0},{"$f":"'15-Min SU-Truck'!E32+'15-Min Semi-Truck'!E32","v":0},{"$f":"'15-Min SU-Truck'!F32+'15-Min Semi-Truck'!F32","v":0},{"$f":"'15-Min SU-Truck'!G32+'15-Min Semi-Truck'!G32","v":0},{"$f":"'15-Min SU-Truck'!H32+'15-Min Semi-Truck'!H32","v":0},{"$f":"'15-Min SU-Truck'!I32+'15-Min Semi-Truck'!I32","v":4},{"$f":"'15-Min SU-Truck'!J32+'15-Min Semi-Truck'!J32","v":8},{"$f":"'15-Min SU-Truck'!K32+'15-Min Semi-Truck'!K32","v":0},{"$f":"'15-Min SU-Truck'!L32+'15-Min Semi-Truck'!L32","v":0},{"$f":"'15-Min SU-Truck'!M32+'15-Min Semi-Truck'!M32","v":12},{"$f":"'15-Min SU-Truck'!N32+'15-Min Semi-Truck'!N32","v":3},{"$f":"'15-Min SU-Truck'!O32+'15-Min Semi-Truck'!O32","v":0},{"$f":"'15-Min SU-Truck'!P32+'15-Min Semi-Truck'!P32","v":6},{"$f":"'15-Min SU-Truck'!Q32+'15-Min Semi-Truck'!Q32","v":0},{"$f":"'15-Min SU-Truck'!R32+'15-Min Semi-Truck'!R32","v":9},{"$f":"'15-Min SU-Truck'!S32+'15-Min Semi-Truck'!S32","v":0},{"$f":"'15-Min SU-Truck'!T32+'15-Min Semi-Truck'!T32","v":11},{"$f":"'15-Min SU-Truck'!U32+'15-Min Semi-Truck'!U32","v":0},{"$f":"'15-Min SU-Truck'!V32+'15-Min Semi-Truck'!V32","v":0},{"$f":"'15-Min SU-Truck'!W32+'15-Min Semi-Truck'!W32","v":11},{"$f":"'15-Min SU-Truck'!X32+'15-Min Semi-Truck'!X32","v":32},null,{"$f":"IF(OR('15-Min All Vehicle'!X32=0,'15-Min All Vehicle'!X33=0, '15-Min All Vehicle'!X34=0,'15-Min All Vehicle'!X35=0)=TRUE,\"\",X32+X33+X34+X35)","v":124}]
[null,null,"10:44:59.942",{"$f":"'15-Min SU-Truck'!D33+'15-Min Semi-Truck'!D33","v":0},{"$f":"'15-Min SU-Truck'!E33+'15-Min Semi-Truck'!E33","v":0},{"$f":"'15-Min SU-Truck'!F33+'15-Min Semi-Truck'!F33","v":0},{"$f":"'15-Min SU-Truck'!G33+'15-Min Semi-Truck'!G33","v":0},{"$f":"'15-Min SU-Truck'!H33+'15-Min Semi-Truck'!H33","v":0},{"$f":"'15-Min SU-Truck'!I33+'15-Min Semi-Truck'!I33","v":3},{"$f":"'15-Min SU-Truck'!J33+'15-Min Semi-Truck'!J33","v":10},{"$f":"'15-Min SU-Truck'!K33+'15-Min Semi-Truck'!K33","v":0},{"$f":"'15-Min SU-Truck'!L33+'15-Min Semi-Truck'!L33","v":0},{"$f":"'15-Min SU-Truck'!M33+'15-Min Semi-Truck'!M33","v":13},{"$f":"'15-Min SU-Truck'!N33+'15-Min Semi-Truck'!N33","v":4},{"$f":"'15-Min SU-Truck'!O33+'15-Min Semi-Truck'!O33","v":0},{"$f":"'15-Min SU-Truck'!P33+'15-Min Semi-Truck'!P33","v":3},{"$f":"'15-Min SU-Truck'!Q33+'15-Min Semi-Truck'!Q33","v":0},{"$f":"'15-Min SU-Truck'!R33+'15-Min Semi-Truck'!R33","v":7},{"$f":"'15-Min SU-Truck'!S33+'15-Min Semi-Truck'!S33","v":0},{"$f":"'15-Min SU-Truck'!T33+'15-Min Semi-Truck'!T33","v":9},{"$f":"'15-Min SU-Truck'!U33+'15-Min Semi-Truck'!U33","v":3},{"$f":"'15-Min SU-Truck'!V33+'15-Min Semi-Truck'!V33","v":0},{"$f":"'15-Min SU-Truck'!W33+'15-Min Semi-Truck'!W33","v":12},{"$f":"'15-Min SU-Truck'!X33+'15-Min Semi-Truck'!X33","v":32},null,{"$f":"IF(OR('15-Min All Vehicle'!X33=0,'15-Min All Vehicle'!X34=0, '15-Min All Vehicle'!X35=0,'15-Min All Vehicle'!X36=0)=TRUE,\"\",X33+X34+X35+X36)","v":117}]
[null,null,"10:59:59.971",{"$f":"'15-Min SU-Truck'!D34+'15-Min Semi-Truck'!D34","v":0},{"$f":"'15-Min SU-Truck'!E34+'15-Min Semi-Truck'!E34","v":0},{"$f":"'15-Min SU-Truck'!F34+'15-Min Semi-Truck'!F34","v":0},{"$f":"'15-Min SU-Truck'!G34+'15-Min Semi-Truck'!G34","v":0},{"$f":"'15-Min SU-Truck'!H34+'15-Min Semi-Truck'!H34","v":0},{"$f":"'15-Min SU-Truck'!I34+'15-Min Semi-Truck'!I34","v":2},{"$f":"'15-Min SU-Truck'!J34+'15-Min Semi-Truck'!J34","v":7},{"$f":"'15-Min SU-Truck'!K34+'15-Min Semi-Truck'!K34","v":0},{"$f":"'15-Min SU-Truck'!L34+'15-Min Semi-Truck'!L34","v":0},{"$f":"'15-Min SU-Truck'!M34+'15-Min Semi-Truck'!M34","v":9},{"$f":"'15-Min SU-Truck'!N34+'15-Min Semi-Truck'!N34","v":7},{"$f":"'15-Min SU-Truck'!O34+'15-Min Semi-Truck'!O34","v":0},{"$f":"'15-Min SU-Truck'!P34+'15-Min Semi-Truck'!P34","v":10},{"$f":"'15-Min SU-Truck'!Q34+'15-Min Semi-Truck'!Q34","v":0},{"$f":"'15-Min SU-Truck'!R34+'15-Min Semi-Truck'!R34","v":17},{"$f":"'15-Min SU-Truck'!S34+'15-Min Semi-Truck'!S34","v":0},{"$f":"'15-Min SU-Truck'!T34+'15-Min Semi-Truck'!T34","v":8},{"$f":"'15-Min SU-Truck'!U34+'15-Min Semi-Truck'!U34","v":4},{"$f":"'15-Min SU-Truck'!V34+'15-Min Semi-Truck'!V34","v":0},{"$f":"'15-Min SU-Truck'!W34+'15-Min Semi-Truck'!W34","v":12},{"$f":"'15-Min SU-Truck'!X34+'15-Min Semi-Truck'!X34","v":38},null,{"$f":"IF(OR('15-Min All Vehicle'!X34=0,'15-Min All Vehicle'!X35=0, '15-Min All Vehicle'!X36=0,'15-Min All Vehicle'!X37=0)=TRUE,\"\",X34+X35+X36+X37)","v":114}]
[null,null,"11:15:00",{"$f":"'15-Min SU-Truck'!D35+'15-Min Semi-Truck'!D35","v":0},{"$f":"'15-Min SU-Truck'!E35+'15-Min Semi-Truck'!E35","v":0},{"$f":"'15-Min SU-Truck'!F35+'15-Min Semi-Truck'!F35","v":0},{"$f":"'15-Min SU-Truck'!G35+'15-Min Semi-Truck'!G35","v":0},{"$f":"'15-Min SU-Truck'!H35+'15-Min Semi-Truck'!H35","v":0},{"$f":"'15-Min SU-Truck'!I35+'15-Min Semi-Truck'!I35","v":0},{"$f":"'15-Min SU-Truck'!J35+'15-Min Semi-Truck'!J35","v":8},{"$f":"'15-Min SU-Truck'!K35+'15-Min Semi-Truck'!K35","v":0},{"$f":"'15-Min SU-Truck'!L35+'15-Min Semi-Truck'!L35","v":0},{"$f":"'15-Min SU-Truck'!M35+'15-Min Semi-Truck'!M35","v":8},{"$f":"'15-Min SU-Truck'!N35+'15-Min Semi-Truck'!N35","v":3},{"$f":"'15-Min SU-Truck'!O35+'15-Min Semi-Truck'!O35","v":0},{"$f":"'15-Min SU-Truck'!P35+'15-Min Semi-Truck'!P35","v":4},{"$f":"'15-Min SU-Truck'!Q35+'15-Min Semi-Truck'!Q35","v":0},{"$f":"'15-Min SU-Truck'!R35+'15-Min Semi-Truck'!R35","v":7},{"$f":"'15-Min SU-Truck'!S35+'15-Min Semi-Truck'!S35","v":0},{"$f":"'15-Min SU-Truck'!T35+'15-Min Semi-Truck'!T35","v":6},{"$f":"'15-Min SU-Truck'!U35+'15-Min Semi-Truck'!U35","v":1},{"$f":"'15-Min SU-Truck'!V35+'15-Min Semi-Truck'!V35","v":0},{"$f":"'15-Min SU-Truck'!W35+'15-Min Semi-Truck'!W35","v":7},{"$f":"'15-Min SU-Truck'!X35+'15-Min Semi-Truck'!X35","v":22},null,{"$f":"IF(OR('15-Min All Vehicle'!X35=0,'15-Min All Vehicle'!X36=0, '15-Min All Vehicle'!X37=0,'15-Min All Vehicle'!X38=0)=TRUE,\"\",X35+X36+X37+X38)","v":103}]
[null,null,"11:29:59.942",{"$f":"'15-Min SU-Truck'!D36+'15-Min Semi-Truck'!D36","v":0},{"$f":"'15-Min SU-Truck'!E36+'15-Min Semi-Truck'!E36","v":0},{"$f":"'15-Min SU-Truck'!F36+'15-Min Semi-Truck'!F36","v":0},{"$f":"'15-Min SU-Truck'!G36+'15-Min Semi-Truck'!G36","v":0},{"$f":"'15-Min SU-Truck'!H36+'15-Min Semi-Truck'!H36","v":0},{"$f":"'15-Min SU-Truck'!I36+'15-Min Semi-Truck'!I36","v":3},{"$f":"'15-Min SU-Truck'!J36+'15-Min Semi-Truck'!J36","v":6},{"$f":"'15-Min SU-Truck'!K36+'15-Min Semi-Truck'!K36","v":0},{"$f":"'15-Min SU-Truck'!L36+'15-Min Semi-Truck'!L36","v":0},{"$f":"'15-Min SU-Truck'!M36+'15-Min Semi-Truck'!M36","v":9},{"$f":"'15-Min SU-Truck'!N36+'15-Min Semi-Truck'!N36","v":6},{"$f":"'15-Min SU-Truck'!O36+'15-Min Semi-Truck'!O36","v":0},{"$f":"'15-Min SU-Truck'!P36+'15-Min Semi-Truck'!P36","v":3},{"$f":"'15-Min SU-Truck'!Q36+'15-Min Semi-Truck'!Q36","v":0},{"$f":"'15-Min SU-Truck'!R36+'15-Min Semi-Truck'!R36","v":9},{"$f":"'15-Min SU-Truck'!S36+'15-Min Semi-Truck'!S36","v":0},{"$f":"'15-Min SU-Truck'!T36+'15-Min Semi-Truck'!T36","v":5},{"$f":"'15-Min SU-Truck'!U36+'15-Min Semi-Truck'!U36","v":2},{"$f":"'15-Min SU-Truck'!V36+'15-Min Semi-Truck'!V36","v":0},{"$f":"'15-Min SU-Truck'!W36+'15-Min Semi-Truck'!W36","v":7},{"$f":"'15-Min SU-Truck'!X36+'15-Min Semi-Truck'!X36","v":25},null,{"$f":"IF(OR('15-Min All Vehicle'!X36=0,'15-Min All Vehicle'!X37=0, '15-Min All Vehicle'!X38=0,'15-Min All Vehicle'!X39=0)=TRUE,\"\",X36+X37+X38+X39)","v":106}]
[null,null,"11:44:59.971",{"$f":"'15-Min SU-Truck'!D37+'15-Min Semi-Truck'!D37","v":0},{"$f":"'15-Min SU-Truck'!E37+'15-Min Semi-Truck'!E37","v":0},{"$f":"'15-Min SU-Truck'!F37+'15-Min Semi-Truck'!F37","v":0},{"$f":"'15-Min SU-Truck'!G37+'15-Min Semi-Truck'!G37","v":0},{"$f":"'15-Min SU-Truck'!H37+'15-Min Semi-Truck'!H37","v":0},{"$f":"'15-Min SU-Truck'!I37+'15-Min Semi-Truck'!I37","v":2},{"$f":"'15-Min SU-Truck'!J37+'15-Min Semi-Truck'!J37","v":6},{"$f":"'15-Min SU-Truck'!K37+'15-Min Semi-Truck'!K37","v":0},{"$f":"'15-Min SU-Truck'!L37+'15-Min Semi-Truck'!L37","v":0},{"$f":"'15-Min SU-Truck'!M37+'15-Min Semi-Truck'!M37","v":8},{"$f":"'15-Min SU-Truck'!N37+'15-Min Semi-Truck'!N37","v":8},{"$f":"'15-Min SU-Truck'!O37+'15-Min Semi-Truck'!O37","v":0},{"$f":"'15-Min SU-Truck'!P37+'15-Min Semi-Truck'!P37","v":5},{"$f":"'15-Min SU-Truck'!Q37+'15-Min Semi-Truck'!Q37","v":0},{"$f":"'15-Min SU-Truck'!R37+'15-Min Semi-Truck'!R37","v":13},{"$f":"'15-Min SU-Truck'!S37+'15-Min Semi-Truck'!S37","v":0},{"$f":"'15-Min SU-Truck'!T37+'15-Min Semi-Truck'!T37","v":5},{"$f":"'15-Min SU-Truck'!U37+'15-Min Semi-Truck'!U37","v":3},{"$f":"'15-Min SU-Truck'!V37+'15-Min Semi-Truck'!V37","v":0},{"$f":"'15-Min SU-Truck'!W37+'15-Min Semi-Truck'!W37","v":8},{"$f":"'15-Min SU-Truck'!X37+'15-Min Semi-Truck'!X37","v":29},null,{"$f":"IF(OR('15-Min All Vehicle'!X37=0,'15-Min All Vehicle'!X38=0, '15-Min All Vehicle'!X39=0,'15-Min All Vehicle'!X40=0)=TRUE,\"\",X37+X38+X39+X40)","v":106}]
[null,null,"12:00:00",{"$f":"'15-Min SU-Truck'!D38+'15-Min Semi-Truck'!D38","v":0},{"$f":"'15-Min SU-Truck'!E38+'15-Min Semi-Truck'!E38","v":0},{"$f":"'15-Min SU-Truck'!F38+'15-Min Semi-Truck'!F38","v":0},{"$f":"'15-Min SU-Truck'!G38+'15-Min Semi-Truck'!G38","v":0},{"$f":"'15-Min SU-Truck'!H38+'15-Min Semi-Truck'!H38","v":0},{"$f":"'15-Min SU-Truck'!I38+'15-Min Semi-Truck'!I38","v":3},{"$f":"'15-Min SU-Truck'!J38+'15-Min Semi-Truck'!J38","v":9},{"$f":"'15-Min SU-Truck'!K38+'15-Min Semi-Truck'!K38","v":0},{"$f":"'15-Min SU-Truck'!L38+'15-Min Semi-Truck'!L38","v":0},{"$f":"'15-Min SU-Truck'!M38+'15-Min Semi-Truck'!M38","v":12},{"$f":"'15-Min SU-Truck'!N38+'15-Min Semi-Truck'!N38","v":3},{"$f":"'15-Min SU-Truck'!O38+'15-Min Semi-Truck'!O38","v":0},{"$f":"'15-Min SU-Truck'!P38+'15-Min Semi-Truck'!P38","v":4},{"$f":"'15-Min SU-Truck'!Q38+'15-Min Semi-Truck'!Q38","v":0},{"$f":"'15-Min SU-Truck'!R38+'15-Min Semi-Truck'!R38","v":7},{"$f":"'15-Min SU-Truck'!S38+'15-Min Semi-Truck'!S38","v":0},{"$f":"'15-Min SU-Truck'!T38+'15-Min Semi-Truck'!T38","v":5},{"$f":"'15-Min SU-Truck'!U38+'15-Min Semi-Truck'!U38","v":3},{"$f":"'15-Min SU-Truck'!V38+'15-Min Semi-Truck'!V38","v":0},{"$f":"'15-Min SU-Truck'!W38+'15-Min Semi-Truck'!W38","v":8},{"$f":"'15-Min SU-Truck'!X38+'15-Min Semi-Truck'!X38","v":27},null,{"$f":"IF(OR('15-Min All Vehicle'!X38=0,'15-Min All Vehicle'!X39=0, '15-Min All Vehicle'!X40=0,'15-Min All Vehicle'!X41=0)=TRUE,\"\",X38+X39+X40+X41)","v":101}]
[null,null,"12:14:59.942",{"$f":"'15-Min SU-Truck'!D39+'15-Min Semi-Truck'!D39","v":0},{"$f":"'15-Min SU-Truck'!E39+'15-Min Semi-Truck'!E39","v":0},{"$f":"'15-Min SU-Truck'!F39+'15-Min Semi-Truck'!F39","v":0},{"$f":"'15-Min SU-Truck'!G39+'15-Min Semi-Truck'!G39","v":0},{"$f":"'15-Min SU-Truck'!H39+'15-Min Semi-Truck'!H39","v":0},{"$f":"'15-Min SU-Truck'!I39+'15-Min Semi-Truck'!I39","v":5},{"$f":"'15-Min SU-Truck'!J39+'15-Min Semi-Truck'!J39","v":6},{"$f":"'15-Min SU-Truck'!K39+'15-Min Semi-Truck'!K39","v":0},{"$f":"'15-Min SU-Truck'!L39+'15-Min Semi-Truck'!L39","v":0},{"$f":"'15-Min SU-Truck'!M39+'15-Min Semi-Truck'!M39","v":11},{"$f":"'15-Min SU-Truck'!N39+'15-Min Semi-Truck'!N39","v":4},{"$f":"'15-Min SU-Truck'!O39+'15-Min Semi-Truck'!O39","v":0},{"$f":"'15-Min SU-Truck'!P39+'15-Min Semi-Truck'!P39","v":4},{"$f":"'15-Min SU-Truck'!Q39+'15-Min Semi-Truck'!Q39","v":0},{"$f":"'15-Min SU-Truck'!R39+'15-Min Semi-Truck'!R39","v":8},{"$f":"'15-Min SU-Truck'!S39+'15-Min Semi-Truck'!S39","v":0},{"$f":"'15-Min SU-Truck'!T39+'15-Min Semi-Truck'!T39","v":4},{"$f":"'15-Min SU-Truck'!U39+'15-Min Semi-Truck'!U39","v":2},{"$f":"'15-Min SU-Truck'!V39+'15-Min Semi-Truck'!V39","v":0},{"$f":"'15-Min SU-Truck'!W39+'15-Min Semi-Truck'!W39","v":6},{"$f":"'15-Min SU-Truck'!X39+'15-Min Semi-Truck'!X39","v":25},null,{"$f":"IF(OR('15-Min All Vehicle'!X39=0,'15-Min All Vehicle'!X40=0, '15-Min All Vehicle'!X41=0,'15-Min All Vehicle'!X42=0)=TRUE,\"\",X39+X40+X41+X42)","v":97}]
[null,null,"12:29:59.971",{"$f":"'15-Min SU-Truck'!D40+'15-Min Semi-Truck'!D40","v":0},{"$f":"'15-Min SU-Truck'!E40+'15-Min Semi-Truck'!E40","v":0},{"$f":"'15-Min SU-Truck'!F40+'15-Min Semi-Truck'!F40","v":0},{"$f":"'15-Min SU-Truck'!G40+'15-Min Semi-Truck'!G40","v":0},{"$f":"'15-Min SU-Truck'!H40+'15-Min Semi-Truck'!H40","v":0},{"$f":"'15-Min SU-Truck'!I40+'15-Min Semi-Truck'!I40","v":3},{"$f":"'15-Min SU-Truck'!J40+'15-Min Semi-Truck'!J40","v":9},{"$f":"'15-Min SU-Truck'!K40+'15-Min Semi-Truck'!K40","v":0},{"$f":"'15-Min SU-Truck'!L40+'15-Min Semi-Truck'!L40","v":0},{"$f":"'15-Min SU-Truck'!M40+'15-Min Semi-Truck'!M40","v":12},{"$f":"'15-Min SU-Truck'!N40+'15-Min Semi-Truck'!N40","v":2},{"$f":"'15-Min SU-Truck'!O40+'15-Min Semi-Truck'!O40","v":0},{"$f":"'15-Min SU-Truck'!P40+'15-Min Semi-Truck'!P40","v":2},{"$f":"'15-Min SU-Truck'!Q40+'15-Min Semi-Truck'!Q40","v":0},{"$f":"'15-Min SU-Truck'!R40+'15-Min Semi-Truck'!R40","v":4},{"$f":"'15-Min SU-Truck'!S40+'15-Min Semi-Truck'!S40","v":0},{"$f":"'15-Min SU-Truck'!T40+'15-Min Semi-Truck'!T40","v":9},{"$f":"'15-Min SU-Truck'!U40+'15-Min Semi-Truck'!U40","v":0},{"$f":"'15-Min SU-Truck'!V40+'15-Min Semi-Truck'!V40","v":0},{"$f":"'15-Min SU-Truck'!W40+'15-Min Semi-Truck'!W40","v":9},{"$f":"'15-Min SU-Truck'!X40+'15-Min Semi-Truck'!X40","v":25},null,{"$f":"IF(OR('15-Min All Vehicle'!X40=0,'15-Min All Vehicle'!X41=0, '15-Min All Vehicle'!X42=0,'15-Min All Vehicle'!X43=0)=TRUE,\"\",X40+X41+X42+X43)","v":95}]
[null,null,"12:45:00",{"$f":"'15-Min SU-Truck'!D41+'15-Min Semi-Truck'!D41","v":0},{"$f":"'15-Min SU-Truck'!E41+'15-Min Semi-Truck'!E41","v":0},{"$f":"'15-Min SU-Truck'!F41+'15-Min Semi-Truck'!F41","v":0},{"$f":"'15-Min SU-Truck'!G41+'15-Min Semi-Truck'!G41","v":0},{"$f":"'15-Min SU-Truck'!H41+'15-Min Semi-Truck'!H41","v":0},{"$f":"'15-Min SU-Truck'!I41+'15-Min Semi-Truck'!I41","v":2},{"$f":"'15-Min SU-Truck'!J41+'15-Min Semi-Truck'!J41","v":5},{"$f":"'15-Min SU-Truck'!K41+'15-Min Semi-Truck'!K41","v":0},{"$f":"'15-Min SU-Truck'!L41+'15-Min Semi-Truck'!L41","v":0},{"$f":"'15-Min SU-Truck'!M41+'15-Min Semi-Truck'!M41","v":7},{"$f":"'15-Min SU-Truck'!N41+'15-Min Semi-Truck'!N41","v":8},{"$f":"'15-Min SU-Truck'!O41+'15-Min Semi-Truck'!O41","v":0},{"$f":"'15-Min SU-Truck'!P41+'15-Min Semi-Truck'!P41","v":1},{"$f":"'15-Min SU-Truck'!Q41+'15-Min Semi-Truck'!Q41","v":0},{"$f":"'15-Min SU-Truck'!R41+'15-Min Semi-Truck'!R41","v":9},{"$f":"'15-Min SU-Truck'!S41+'15-Min Semi-Truck'!S41","v":0},{"$f":"'15-Min SU-Truck'!T41+'15-Min Semi-Truck'!T41","v":4},{"$f":"'15-Min SU-Truck'!U41+'15-Min Semi-Truck'!U41","v":4},{"$f":"'15-Min SU-Truck'!V41+'15-Min Semi-Truck'!V41","v":0},{"$f":"'15-Min SU-Truck'!W41+'15-Min Semi-Truck'!W41","v":8},{"$f":"'15-Min SU-Truck'!X41+'15-Min Semi-Truck'!X41","v":24},null,{"$f":"IF(OR('15-Min All Vehicle'!X41=0,'15-Min All Vehicle'!X42=0, '15-Min All Vehicle'!X43=0,'15-Min All Vehicle'!X44=0)=TRUE,\"\",X41+X42+X43+X44)","v":110}]
[null,null,"12:59:59.942",{"$f":"'15-Min SU-Truck'!D42+'15-Min Semi-Truck'!D42","v":0},{"$f":"'15-Min SU-Truck'!E42+'15-Min Semi-Truck'!E42","v":0},{"$f":"'15-Min SU-Truck'!F42+'15-Min Semi-Truck'!F42","v":0},{"$f":"'15-Min SU-Truck'!G42+'15-Min Semi-Truck'!G42","v":0},{"$f":"'15-Min SU-Truck'!H42+'15-Min Semi-Truck'!H42","v":0},{"$f":"'15-Min SU-Truck'!I42+'15-Min Semi-Truck'!I42","v":0},{"$f":"'15-Min SU-Truck'!J42+'15-Min Semi-Truck'!J42","v":5},{"$f":"'15-Min SU-Truck'!K42+'15-Min Semi-Truck'!K42","v":0},{"$f":"'15-Min SU-Truck'!L42+'15-Min Semi-Truck'!L42","v":0},{"$f":"'15-Min SU-Truck'!M42+'15-Min Semi-Truck'!M42","v":5},{"$f":"'15-Min SU-Truck'!N42+'15-Min Semi-Truck'!N42","v":4},{"$f":"'15-Min SU-Truck'!O42+'15-Min Semi-Truck'!O42","v":0},{"$f":"'15-Min SU-Truck'!P42+'15-Min Semi-Truck'!P42","v":6},{"$f":"'15-Min SU-Truck'!Q42+'15-Min Semi-Truck'!Q42","v":0},{"$f":"'15-Min SU-Truck'!R42+'15-Min Semi-Truck'!R42","v":10},{"$f":"'15-Min SU-Truck'!S42+'15-Min Semi-Truck'!S42","v":0},{"$f":"'15-Min SU-Truck'!T42+'15-Min Semi-Truck'!T42","v":8},{"$f":"'15-Min SU-Truck'!U42+'15-Min Semi-Truck'!U42","v":0},{"$f":"'15-Min SU-Truck'!V42+'15-Min Semi-Truck'!V42","v":0},{"$f":"'15-Min SU-Truck'!W42+'15-Min Semi-Truck'!W42","v":8},{"$f":"'15-Min SU-Truck'!X42+'15-Min Semi-Truck'!X42","v":23},null,{"$f":"IF(OR('15-Min All Vehicle'!X42=0,'15-Min All Vehicle'!X43=0, '15-Min All Vehicle'!X44=0,'15-Min All Vehicle'!X45=0)=TRUE,\"\",X42+X43+X44+X45)","v":113}]
[null,null,"13:14:59.971",{"$f":"'15-Min SU-Truck'!D43+'15-Min Semi-Truck'!D43","v":0},{"$f":"'15-Min SU-Truck'!E43+'15-Min Semi-Truck'!E43","v":0},{"$f":"'15-Min SU-Truck'!F43+'15-Min Semi-Truck'!F43","v":0},{"$f":"'15-Min SU-Truck'!G43+'15-Min Semi-Truck'!G43","v":0},{"$f":"'15-Min SU-Truck'!H43+'15-Min Semi-Truck'!H43","v":0},{"$f":"'15-Min SU-Truck'!I43+'15-Min Semi-Truck'!I43","v":1},{"$f":"'15-Min SU-Truck'!J43+'15-Min Semi-Truck'!J43","v":3},{"$f":"'15-Min SU-Truck'!K43+'15-Min Semi-Truck'!K43","v":0},{"$f":"'15-Min SU-Truck'!L43+'15-Min Semi-Truck'!L43","v":0},{"$f":"'15-Min SU-Truck'!M43+'15-Min Semi-Truck'!M43","v":4},{"$f":"'15-Min SU-Truck'!N43+'15-Min Semi-Truck'!N43","v":7},{"$f":"'15-Min SU-Truck'!O43+'15-Min Semi-Truck'!O43","v":0},{"$f":"'15-Min SU-Truck'!P43+'15-Min Semi-Truck'!P43","v":4},{"$f":"'15-Min SU-Truck'!Q43+'15-Min Semi-Truck'!Q43","v":0},{"$f":"'15-Min SU-Truck'!R43+'15-Min Semi-Truck'!R43","v":11},{"$f":"'15-Min SU-Truck'!S43+'15-Min Semi-Truck'!S43","v":0},{"$f":"'15-Min SU-Truck'!T43+'15-Min Semi-Truck'!T43","v":6},{"$f":"'15-Min SU-Truck'!U43+'15-Min Semi-Truck'!U43","v":2},{"$f":"'15-Min SU-Truck'!V43+'15-Min Semi-Truck'!V43","v":0},{"$f":"'15-Min SU-Truck'!W43+'15-Min Semi-Truck'!W43","v":8},{"$f":"'15-Min SU-Truck'!X43+'15-Min Semi-Truck'!X43","v":23},null,{"$f":"IF(OR('15-Min All Vehicle'!X43=0,'15-Min All Vehicle'!X44=0, '15-Min All Vehicle'!X45=0,'15-Min All Vehicle'!X46=0)=TRUE,\"\",X43+X44+X45+X46)","v":122}]
[null,null,"13:30:00",{"$f":"'15-Min SU-Truck'!D44+'15-Min Semi-Truck'!D44","v":0},{"$f":"'15-Min SU-Truck'!E44+'15-Min Semi-Truck'!E44","v":0},{"$f":"'15-Min SU-Truck'!F44+'15-Min Semi-Truck'!F44","v":0},{"$f":"'15-Min SU-Truck'!G44+'15-Min Semi-Truck'!G44","v":0},{"$f":"'15-Min SU-Truck'!H44+'15-Min Semi-Truck'!H44","v":0},{"$f":"'15-Min SU-Truck'!I44+'15-Min Semi-Truck'!I44","v":3},{"$f":"'15-Min SU-Truck'!J44+'15-Min Semi-Truck'!J44","v":7},{"$f":"'15-Min SU-Truck'!K44+'15-Min Semi-Truck'!K44","v":0},{"$f":"'15-Min SU-Truck'!L44+'15-Min Semi-Truck'!L44","v":0},{"$f":"'15-Min SU-Truck'!M44+'15-Min Semi-Truck'!M44","v":10},{"$f":"'15-Min SU-Truck'!N44+'15-Min Semi-Truck'!N44","v":6},{"$f":"'15-Min SU-Truck'!O44+'15-Min Semi-Truck'!O44","v":0},{"$f":"'15-Min SU-Truck'!P44+'15-Min Semi-Truck'!P44","v":10},{"$f":"'15-Min SU-Truck'!Q44+'15-Min Semi-Truck'!Q44","v":0},{"$f":"'15-Min SU-Truck'!R44+'15-Min Semi-Truck'!R44","v":16},{"$f":"'15-Min SU-Truck'!S44+'15-Min Semi-Truck'!S44","v":0},{"$f":"'15-Min SU-Truck'!T44+'15-Min Semi-Truck'!T44","v":10},{"$f":"'15-Min SU-Truck'!U44+'15-Min Semi-Truck'!U44","v":4},{"$f":"'15-Min SU-Truck'!V44+'15-Min Semi-Truck'!V44","v":0},{"$f":"'15-Min SU-Truck'!W44+'15-Min Semi-Truck'!W44","v":14},{"$f":"'15-Min SU-Truck'!X44+'15-Min Semi-Truck'!X44","v":40},null,{"$f":"IF(OR('15-Min All Vehicle'!X44=0,'15-Min All Vehicle'!X45=0, '15-Min All Vehicle'!X46=0,'15-Min All Vehicle'!X47=0)=TRUE,\"\",X44+X45+X46+X47)","v":124}]
[null,null,"13:44:59.942",{"$f":"'15-Min SU-Truck'!D45+'15-Min Semi-Truck'!D45","v":0},{"$f":"'15-Min SU-Truck'!E45+'15-Min Semi-Truck'!E45","v":0},{"$f":"'15-Min SU-Truck'!F45+'15-Min Semi-Truck'!F45","v":0},{"$f":"'15-Min SU-Truck'!G45+'15-Min Semi-Truck'!G45","v":0},{"$f":"'15-Min SU-Truck'!H45+'15-Min Semi-Truck'!H45","v":0},{"$f":"'15-Min SU-Truck'!I45+'15-Min Semi-Truck'!I45","v":3},{"$f":"'15-Min SU-Truck'!J45+'15-Min Semi-Truck'!J45","v":14},{"$f":"'15-Min SU-Truck'!K45+'15-Min Semi-Truck'!K45","v":0},{"$f":"'15-Min SU-Truck'!L45+'15-Min Semi-Truck'!L45","v":0},{"$f":"'15-Min SU-Truck'!M45+'15-Min Semi-Truck'!M45","v":17},{"$f":"'15-Min SU-Truck'!N45+'15-Min Semi-Truck'!N45","v":2},{"$f":"'15-Min SU-Truck'!O45+'15-Min Semi-Truck'!O45","v":0},{"$f":"'15-Min SU-Truck'!P45+'15-Min Semi-Truck'!P45","v":2},{"$f":"'15-Min SU-Truck'!Q45+'15-Min Semi-Truck'!Q45","v":0},{"$f":"'15-Min SU-Truck'!R45+'15-Min Semi-Truck'!R45","v":4},{"$f":"'15-Min SU-Truck'!S45+'15-Min Semi-Truck'!S45","v":0},{"$f":"'15-Min SU-Truck'!T45+'15-Min Semi-Truck'!T45","v":4},{"$f":"'15-Min SU-Truck'!U45+'15-Min Semi-Truck'!U45","v":2},{"$f":"'15-Min SU-Truck'!V45+'15-Min Semi-Truck'!V45","v":0},{"$f":"'15-Min SU-Truck'!W45+'15-Min Semi-Truck'!W45","v":6},{"$f":"'15-Min SU-Truck'!X45+'15-Min Semi-Truck'!X45","v":27},null,{"$f":"IF(OR('15-Min All Vehicle'!X45=0,'15-Min All Vehicle'!X46=0, '15-Min All Vehicle'!X47=0,'15-Min All Vehicle'!X48=0)=TRUE,\"\",X45+X46+X47+X48)","v":110}]
[null,"PM Peak Period","13:59:59.971",{"$f":"'15-Min SU-Truck'!D46+'15-Min Semi-Truck'!D46","v":0},{"$f":"'15-Min SU-Truck'!E46+'15-Min Semi-Truck'!E46","v":0},{"$f":"'15-Min SU-Truck'!F46+'15-Min Semi-Truck'!F46","v":0},{"$f":"'15-Min SU-Truck'!G46+'15-Min Semi-Truck'!G46","v":0},{"$f":"'15-Min SU-Truck'!H46+'15-Min Semi-Truck'!H46","v":0},{"$f":"'15-Min SU-Truck'!I46+'15-Min Semi-Truck'!I46","v":4},{"$f":"'15-Min SU-Truck'!J46+'15-Min Semi-Truck'!J46","v":10},{"$f":"'15-Min SU-Truck'!K46+'15-Min Semi-Truck'!K46","v":0},{"$f":"'15-Min SU-Truck'!L46+'15-Min Semi-Truck'!L46","v":0},{"$f":"'15-Min SU-Truck'!M46+'15-Min Semi-Truck'!M46","v":14},{"$f":"'15-Min SU-Truck'!N46+'15-Min Semi-Truck'!N46","v":2},{"$f":"'15-Min SU-Truck'!O46+'15-Min Semi-Truck'!O46","v":0},{"$f":"'15-Min SU-Truck'!P46+'15-Min Semi-Truck'!P46","v":8},{"$f":"'15-Min SU-Truck'!Q46+'15-Min Semi-Truck'!Q46","v":0},{"$f":"'15-Min SU-Truck'!R46+'15-Min Semi-Truck'!R46","v":10},{"$f":"'15-Min SU-Truck'!S46+'15-Min Semi-Truck'!S46","v":0},{"$f":"'15-Min SU-Truck'!T46+'15-Min Semi-Truck'!T46","v":6},{"$f":"'15-Min SU-Truck'!U46+'15-Min Semi-Truck'!U46","v":2},{"$f":"'15-Min SU-Truck'!V46+'15-Min Semi-Truck'!V46","v":0},{"$f":"'15-Min SU-Truck'!W46+'15-Min Semi-Truck'!W46","v":8},{"$f":"'15-Min SU-Truck'!X46+'15-Min Semi-Truck'!X46","v":32},null,{"$f":"IF(OR('15-Min All Vehicle'!X46=0,'15-Min All Vehicle'!X47=0, '15-Min All Vehicle'!X48=0,'15-Min All Vehicle'!X49=0)=TRUE,\"\",X46+X47+X48+X49)","v":114}]
[null,null,"14:15:00",{"$f":"'15-Min SU-Truck'!D47+'15-Min Semi-Truck'!D47","v":0},{"$f":"'15-Min SU-Truck'!E47+'15-Min Semi-Truck'!E47","v":0},{"$f":"'15-Min SU-Truck'!F47+'15-Min Semi-Truck'!F47","v":0},{"$f":"'15-Min SU-Truck'!G47+'15-Min Semi-Truck'!G47","v":0},{"$f":"'15-Min SU-Truck'!H47+'15-Min Semi-Truck'!H47","v":0},{"$f":"'15-Min SU-Truck'!I47+'15-Min Semi-Truck'!I47","v":3},{"$f":"'15-Min SU-Truck'!J47+'15-Min Semi-Truck'!J47","v":4},{"$f":"'15-Min SU-Truck'!K47+'15-Min Semi-Truck'!K47","v":0},{"$f":"'15-Min SU-Truck'!L47+'15-Min Semi-Truck'!L47","v":0},{"$f":"'15-Min SU-Truck'!M47+'15-Min Semi-Truck'!M47","v":7},{"$f":"'15-Min SU-Truck'!N47+'15-Min Semi-Truck'!N47","v":2},{"$f":"'15-Min SU-Truck'!O47+'15-Min Semi-Truck'!O47","v":0},{"$f":"'15-Min SU-Truck'!P47+'15-Min Semi-Truck'!P47","v":7},{"$f":"'15-Min SU-Truck'!Q47+'15-Min Semi-Truck'!Q47","v":0},{"$f":"'15-Min SU-Truck'!R47+'15-Min Semi-Truck'!R47","v":9},{"$f":"'15-Min SU-Truck'!S47+'15-Min Semi-Truck'!S47","v":0},{"$f":"'15-Min SU-Truck'!T47+'15-Min Semi-Truck'!T47","v":8},{"$f":"'15-Min SU-Truck'!U47+'15-Min Semi-Truck'!U47","v":1},{"$f":"'15-Min SU-Truck'!V47+'15-Min Semi-Truck'!V47","v":0},{"$f":"'15-Min SU-Truck'!W47+'15-Min Semi-Truck'!W47","v":9},{"$f":"'15-Min SU-Truck'!X47+'15-Min Semi-Truck'!X47","v":25},null,{"$f":"IF(OR('15-Min All Vehicle'!X47=0,'15-Min All Vehicle'!X48=0, '15-Min All Vehicle'!X49=0,'15-Min All Vehicle'!X50=0)=TRUE,\"\",X47+X48+X49+X50)","v":111}]
[null,null,"14:29:59.942",{"$f":"'15-Min SU-Truck'!D48+'15-Min Semi-Truck'!D48","v":0},{"$f":"'15-Min SU-Truck'!E48+'15-Min Semi-Truck'!E48","v":0},{"$f":"'15-Min SU-Truck'!F48+'15-Min Semi-Truck'!F48","v":0},{"$f":"'15-Min SU-Truck'!G48+'15-Min Semi-Truck'!G48","v":0},{"$f":"'15-Min SU-Truck'!H48+'15-Min Semi-Truck'!H48","v":0},{"$f":"'15-Min SU-Truck'!I48+'15-Min Semi-Truck'!I48","v":1},{"$f":"'15-Min SU-Truck'!J48+'15-Min Semi-Truck'!J48","v":2},{"$f":"'15-Min SU-Truck'!K48+'15-Min Semi-Truck'!K48","v":0},{"$f":"'15-Min SU-Truck'!L48+'15-Min Semi-Truck'!L48","v":0},{"$f":"'15-Min SU-Truck'!M48+'15-Min Semi-Truck'!M48","v":3},{"$f":"'15-Min SU-Truck'!N48+'15-Min Semi-Truck'!N48","v":5},{"$f":"'15-Min SU-Truck'!O48+'15-Min Semi-Truck'!O48","v":0},{"$f":"'15-Min SU-Truck'!P48+'15-Min Semi-Truck'!P48","v":6},{"$f":"'15-Min SU-Truck'!Q48+'15-Min Semi-Truck'!Q48","v":0},{"$f":"'15-Min SU-Truck'!R48+'15-Min Semi-Truck'!R48","v":11},{"$f":"'15-Min SU-Truck'!S48+'15-Min Semi-Truck'!S48","v":0},{"$f":"'15-Min SU-Truck'!T48+'15-Min Semi-Truck'!T48","v":8},{"$f":"'15-Min SU-Truck'!U48+'15-Min Semi-Truck'!U48","v":4},{"$f":"'15-Min SU-Truck'!V48+'15-Min Semi-Truck'!V48","v":0},{"$f":"'15-Min SU-Truck'!W48+'15-Min Semi-Truck'!W48","v":12},{"$f":"'15-Min SU-Truck'!X48+'15-Min Semi-Truck'!X48","v":26},null,{"$f":"IF(OR('15-Min All Vehicle'!X48=0,'15-Min All Vehicle'!X49=0, '15-Min All Vehicle'!X50=0,'15-Min All Vehicle'!X51=0)=TRUE,\"\",X48+X49+X50+X51)","v":105}]
[null,null,"14:44:59.971",{"$f":"'15-Min SU-Truck'!D49+'15-Min Semi-Truck'!D49","v":0},{"$f":"'15-Min SU-Truck'!E49+'15-Min Semi-Truck'!E49","v":0},{"$f":"'15-Min SU-Truck'!F49+'15-Min Semi-Truck'!F49","v":0},{"$f":"'15-Min SU-Truck'!G49+'15-Min Semi-Truck'!G49","v":0},{"$f":"'15-Min SU-Truck'!H49+'15-Min Semi-Truck'!H49","v":0},{"$f":"'15-Min SU-Truck'!I49+'15-Min Semi-Truck'!I49","v":6},{"$f":"'15-Min SU-Truck'!J49+'15-Min Semi-Truck'!J49","v":6},{"$f":"'15-Min SU-Truck'!K49+'15-Min Semi-Truck'!K49","v":0},{"$f":"'15-Min SU-Truck'!L49+'15-Min Semi-Truck'!L49","v":0},{"$f":"'15-Min SU-Truck'!M49+'15-Min Semi-Truck'!M49","v":12},{"$f":"'15-Min SU-Truck'!N49+'15-Min Semi-Truck'!N49","v":5},{"$f":"'15-Min SU-Truck'!O49+'15-Min Semi-Truck'!O49","v":0},{"$f":"'15-Min SU-Truck'!P49+'15-Min Semi-Truck'!P49","v":3},{"$f":"'15-Min SU-Truck'!Q49+'15-Min Semi-Truck'!Q49","v":0},{"$f":"'15-Min SU-Truck'!R49+'15-Min Semi-Truck'!R49","v":8},{"$f":"'15-Min SU-Truck'!S49+'15-Min Semi-Truck'!S49","v":0},{"$f":"'15-Min SU-Truck'!T49+'15-Min Semi-Truck'!T49","v":10},{"$f":"'15-Min SU-Truck'!U49+'15-Min Semi-Truck'!U49","v":1},{"$f":"'15-Min SU-Truck'!V49+'15-Min Semi-Truck'!V49","v":0},{"$f":"'15-Min SU-Truck'!W49+'15-Min Semi-Truck'!W49","v":11},{"$f":"'15-Min SU-Truck'!X49+'15-Min Semi-Truck'!X49","v":31},null,{"$f":"IF(OR('15-Min All Vehicle'!X49=0,'15-Min All Vehicle'!X50=0, '15-Min All Vehicle'!X51=0,'15-Min All Vehicle'!X52=0)=TRUE,\"\",X49+X50+X51+X52)","v":101}]
[null,null,"15:00:00",{"$f":"'15-Min SU-Truck'!D50+'15-Min Semi-Truck'!D50","v":0},{"$f":"'15-Min SU-Truck'!E50+'15-Min Semi-Truck'!E50","v":0},{"$f":"'15-Min SU-Truck'!F50+'15-Min Semi-Truck'!F50","v":0},{"$f":"'15-Min SU-Truck'!G50+'15-Min Semi-Truck'!G50","v":0},{"$f":"'15-Min SU-Truck'!H50+'15-Min Semi-Truck'!H50","v":0},{"$f":"'15-Min SU-Truck'!I50+'15-Min Semi-Truck'!I50","v":4},{"$f":"'15-Min SU-Truck'!J50+'15-Min Semi-Truck'!J50","v":5},{"$f":"'15-Min SU-Truck'!K50+'15-Min Semi-Truck'!K50","v":0},{"$f":"'15-Min SU-Truck'!L50+'15-Min Semi-Truck'!L50","v":0},{"$f":"'15-Min SU-Truck'!M50+'15-Min Semi-Truck'!M50","v":9},{"$f":"'15-Min SU-Truck'!N50+'15-Min Semi-Truck'!N50","v":3},{"$f":"'15-Min SU-Truck'!O50+'15-Min Semi-Truck'!O50","v":0},{"$f":"'15-Min SU-Truck'!P50+'15-Min Semi-Truck'!P50","v":11},{"$f":"'15-Min SU-Truck'!Q50+'15-Min Semi-Truck'!Q50","v":0},{"$f":"'15-Min SU-Truck'!R50+'15-Min Semi-Truck'!R50","v":14},{"$f":"'15-Min SU-Truck'!S50+'15-Min Semi-Truck'!S50","v":0},{"$f":"'15-Min SU-Truck'!T50+'15-Min Semi-Truck'!T50","v":6},{"$f":"'15-Min SU-Truck'!U50+'15-Min Semi-Truck'!U50","v":0},{"$f":"'15-Min SU-Truck'!V50+'15-Min Semi-Truck'!V50","v":0},{"$f":"'15-Min SU-Truck'!W50+'15-Min Semi-Truck'!W50","v":6},{"$f":"'15-Min SU-Truck'!X50+'15-Min Semi-Truck'!X50","v":29},null,{"$f":"IF(OR('15-Min All Vehicle'!X50=0,'15-Min All Vehicle'!X51=0, '15-Min All Vehicle'!X52=0,'15-Min All Vehicle'!X53=0)=TRUE,\"\",X50+X51+X52+X53)","v":87}]
[null,null,"15:14:59.942",{"$f":"'15-Min SU-Truck'!D51+'15-Min Semi-Truck'!D51","v":0},{"$f":"'15-Min SU-Truck'!E51+'15-Min Semi-Truck'!E51","v":0},{"$f":"'15-Min SU-Truck'!F51+'15-Min Semi-Truck'!F51","v":0},{"$f":"'15-Min SU-Truck'!G51+'15-Min Semi-Truck'!G51","v":0},{"$f":"'15-Min SU-Truck'!H51+'15-Min Semi-Truck'!H51","v":0},{"$f":"'15-Min SU-Truck'!I51+'15-Min Semi-Truck'!I51","v":6},{"$f":"'15-Min SU-Truck'!J51+'15-Min Semi-Truck'!J51","v":5},{"$f":"'15-Min SU-Truck'!K51+'15-Min Semi-Truck'!K51","v":0},{"$f":"'15-Min SU-Truck'!L51+'15-Min Semi-Truck'!L51","v":0},{"$f":"'15-Min SU-Truck'!M51+'15-Min Semi-Truck'!M51","v":11},{"$f":"'15-Min SU-Truck'!N51+'15-Min Semi-Truck'!N51","v":2},{"$f":"'15-Min SU-Truck'!O51+'15-Min Semi-Truck'!O51","v":0},{"$f":"'15-Min SU-Truck'!P51+'15-Min Semi-Truck'!P51","v":3},{"$f":"'15-Min SU-Truck'!Q51+'15-Min Semi-Truck'!Q51","v":0},{"$f":"'15-Min SU-Truck'!R51+'15-Min Semi-Truck'!R51","v":5},{"$f":"'15-Min SU-Truck'!S51+'15-Min Semi-Truck'!S51","v":0},{"$f":"'15-Min SU-Truck'!T51+'15-Min Semi-Truck'!T51","v":3},{"$f":"'15-Min SU-Truck'!U51+'15-Min Semi-Truck'!U51","v":0},{"$f":"'15-Min SU-Truck'!V51+'15-Min Semi-Truck'!V51","v":0},{"$f":"'15-Min SU-Truck'!W51+'15-Min Semi-Truck'!W51","v":3},{"$f":"'15-Min SU-Truck'!X51+'15-Min Semi-Truck'!X51","v":19},null,{"$f":"IF(OR('15-Min All Vehicle'!X51=0,'15-Min All Vehicle'!X52=0, '15-Min All Vehicle'!X53=0,'15-Min All Vehicle'!X54=0)=TRUE,\"\",X51+X52+X53+X54)","v":76}]
[null,null,"15:29:59.971",{"$f":"'15-Min SU-Truck'!D52+'15-Min Semi-Truck'!D52","v":0},{"$f":"'15-Min SU-Truck'!E52+'15-Min Semi-Truck'!E52","v":0},{"$f":"'15-Min SU-Truck'!F52+'15-Min Semi-Truck'!F52","v":0},{"$f":"'15-Min SU-Truck'!G52+'15-Min Semi-Truck'!G52","v":0},{"$f":"'15-Min SU-Truck'!H52+'15-Min Semi-Truck'!H52","v":0},{"$f":"'15-Min SU-Truck'!I52+'15-Min Semi-Truck'!I52","v":3},{"$f":"'15-Min SU-Truck'!J52+'15-Min Semi-Truck'!J52","v":5},{"$f":"'15-Min SU-Truck'!K52+'15-Min Semi-Truck'!K52","v":0},{"$f":"'15-Min SU-Truck'!L52+'15-Min Semi-Truck'!L52","v":0},{"$f":"'15-Min SU-Truck'!M52+'15-Min Semi-Truck'!M52","v":8},{"$f":"'15-Min SU-Truck'!N52+'15-Min Semi-Truck'!N52","v":2},{"$f":"'15-Min SU-Truck'!O52+'15-Min Semi-Truck'!O52","v":0},{"$f":"'15-Min SU-Truck'!P52+'15-Min Semi-Truck'!P52","v":8},{"$f":"'15-Min SU-Truck'!Q52+'15-Min Semi-Truck'!Q52","v":0},{"$f":"'15-Min SU-Truck'!R52+'15-Min Semi-Truck'!R52","v":10},{"$f":"'15-Min SU-Truck'!S52+'15-Min Semi-Truck'!S52","v":0},{"$f":"'15-Min SU-Truck'!T52+'15-Min Semi-Truck'!T52","v":4},{"$f":"'15-Min SU-Truck'!U52+'15-Min Semi-Truck'!U52","v":0},{"$f":"'15-Min SU-Truck'!V52+'15-Min Semi-Truck'!V52","v":0},{"$f":"'15-Min SU-Truck'!W52+'15-Min Semi-Truck'!W52","v":4},{"$f":"'15-Min SU-Truck'!X52+'15-Min Semi-Truck'!X52","v":22},null,{"$f":"IF(OR('15-Min All Vehicle'!X52=0,'15-Min All Vehicle'!X53=0, '15-Min All Vehicle'!X54=0,'15-Min All Vehicle'!X55=0)=TRUE,\"\",X52+X53+X54+X55)","v":71}]
[null,null,"15:45:00",{"$f":"'15-Min SU-Truck'!D53+'15-Min Semi-Truck'!D53","v":0},{"$f":"'15-Min SU-Truck'!E53+'15-Min Semi-Truck'!E53","v":0},{"$f":"'15-Min SU-Truck'!F53+'15-Min Semi-Truck'!F53","v":0},{"$f":"'15-Min SU-Truck'!G53+'15-Min Semi-Truck'!G53","v":0},{"$f":"'15-Min SU-Truck'!H53+'15-Min Semi-Truck'!H53","v":0},{"$f":"'15-Min SU-Truck'!I53+'15-Min Semi-Truck'!I53","v":3},{"$f":"'15-Min SU-Truck'!J53+'15-Min Semi-Truck'!J53","v":4},{"$f":"'15-Min SU-Truck'!K53+'15-Min Semi-Truck'!K53","v":0},{"$f":"'15-Min SU-Truck'!L53+'15-Min Semi-Truck'!L53","v":0},{"$f":"'15-Min SU-Truck'!M53+'15-Min Semi-Truck'!M53","v":7},{"$f":"'15-Min SU-Truck'!N53+'15-Min Semi-Truck'!N53","v":3},{"$f":"'15-Min SU-Truck'!O53+'15-Min Semi-Truck'!O53","v":0},{"$f":"'15-Min SU-Truck'!P53+'15-Min Semi-Truck'!P53","v":3},{"$f":"'15-Min SU-Truck'!Q53+'15-Min Semi-Truck'!Q53","v":0},{"$f":"'15-Min SU-Truck'!R53+'15-Min Semi-Truck'!R53","v":6},{"$f":"'15-Min SU-Truck'!S53+'15-Min Semi-Truck'!S53","v":0},{"$f":"'15-Min SU-Truck'!T53+'15-Min Semi-Truck'!T53","v":3},{"$f":"'15-Min SU-Truck'!U53+'15-Min Semi-Truck'!U53","v":1},{"$f":"'15-Min SU-Truck'!V53+'15-Min Semi-Truck'!V53","v":0},{"$f":"'15-Min SU-Truck'!W53+'15-Min Semi-Truck'!W53","v":4},{"$f":"'15-Min SU-Truck'!X53+'15-Min Semi-Truck'!X53","v":17},null,{"$f":"IF(OR('15-Min All Vehicle'!X53=0,'15-Min All Vehicle'!X54=0, '15-Min All Vehicle'!X55=0,'15-Min All Vehicle'!X56=0)=TRUE,\"\",X53+X54+X55+X56)","v":67}]
[null,null,"15:59:59.942",{"$f":"'15-Min SU-Truck'!D54+'15-Min Semi-Truck'!D54","v":0},{"$f":"'15-Min SU-Truck'!E54+'15-Min Semi-Truck'!E54","v":0},{"$f":"'15-Min SU-Truck'!F54+'15-Min Semi-Truck'!F54","v":0},{"$f":"'15-Min SU-Truck'!G54+'15-Min Semi-Truck'!G54","v":0},{"$f":"'15-Min SU-Truck'!H54+'15-Min Semi-Truck'!H54","v":0},{"$f":"'15-Min SU-Truck'!I54+'15-Min Semi-Truck'!I54","v":2},{"$f":"'15-Min SU-Truck'!J54+'15-Min Semi-Truck'!J54","v":4},{"$f":"'15-Min SU-Truck'!K54+'15-Min Semi-Truck'!K54","v":0},{"$f":"'15-Min SU-Truck'!L54+'15-Min Semi-Truck'!L54","v":0},{"$f":"'15-Min SU-Truck'!M54+'15-Min Semi-Truck'!M54","v":6},{"$f":"'15-Min SU-Truck'!N54+'15-Min Semi-Truck'!N54","v":5},{"$f":"'15-Min SU-Truck'!O54+'15-Min Semi-Truck'!O54","v":0},{"$f":"'15-Min SU-Truck'!P54+'15-Min Semi-Truck'!P54","v":3},{"$f":"'15-Min SU-Truck'!Q54+'15-Min Semi-Truck'!Q54","v":0},{"$f":"'15-Min SU-Truck'!R54+'15-Min Semi-Truck'!R54","v":8},{"$f":"'15-Min SU-Truck'!S54+'15-Min Semi-Truck'!S54","v":0},{"$f":"'15-Min SU-Truck'!T54+'15-Min Semi-Truck'!T54","v":1},{"$f":"'15-Min SU-Truck'!U54+'15-Min Semi-Truck'!U54","v":3},{"$f":"'15-Min SU-Truck'!V54+'15-Min Semi-Truck'!V54","v":0},{"$f":"'15-Min SU-Truck'!W54+'15-Min Semi-Truck'!W54","v":4},{"$f":"'15-Min SU-Truck'!X54+'15-Min Semi-Truck'!X54","v":18},null,{"$f":"IF(OR('15-Min All Vehicle'!X54=0,'15-Min All Vehicle'!X55=0, '15-Min All Vehicle'!X56=0,'15-Min All Vehicle'!X57=0)=TRUE,\"\",X54+X55+X56+X57)","v":56}]
[null,null,"16:14:59.971",{"$f":"'15-Min SU-Truck'!D55+'15-Min Semi-Truck'!D55","v":0},{"$f":"'15-Min SU-Truck'!E55+'15-Min Semi-Truck'!E55","v":0},{"$f":"'15-Min SU-Truck'!F55+'15-Min Semi-Truck'!F55","v":0},{"$f":"'15-Min SU-Truck'!G55+'15-Min Semi-Truck'!G55","v":0},{"$f":"'15-Min SU-Truck'!H55+'15-Min Semi-Truck'!H55","v":0},{"$f":"'15-Min SU-Truck'!I55+'15-Min Semi-Truck'!I55","v":0},{"$f":"'15-Min SU-Truck'!J55+'15-Min Semi-Truck'!J55","v":1},{"$f":"'15-Min SU-Truck'!K55+'15-Min Semi-Truck'!K55","v":0},{"$f":"'15-Min SU-Truck'!L55+'15-Min Semi-Truck'!L55","v":0},{"$f":"'15-Min SU-Truck'!M55+'15-Min Semi-Truck'!M55","v":1},{"$f":"'15-Min SU-Truck'!N55+'15-Min Semi-Truck'!N55","v":5},{"$f":"'15-Min SU-Truck'!O55+'15-Min Semi-Truck'!O55","v":0},{"$f":"'15-Min SU-Truck'!P55+'15-Min Semi-Truck'!P55","v":7},{"$f":"'15-Min SU-Truck'!Q55+'15-Min Semi-Truck'!Q55","v":0},{"$f":"'15-Min SU-Truck'!R55+'15-Min Semi-Truck'!R55","v":12},{"$f":"'15-Min SU-Truck'!S55+'15-Min Semi-Truck'!S55","v":0},{"$f":"'15-Min SU-Truck'!T55+'15-Min Semi-Truck'!T55","v":1},{"$f":"'15-Min SU-Truck'!U55+'15-Min Semi-Truck'!U55","v":0},{"$f":"'15-Min SU-Truck'!V55+'15-Min Semi-Truck'!V55","v":0},{"$f":"'15-Min SU-Truck'!W55+'15-Min Semi-Truck'!W55","v":1},{"$f":"'15-Min SU-Truck'!X55+'15-Min Semi-Truck'!X55","v":14},null,{"$f":"IF(OR('15-Min All Vehicle'!X55=0,'15-Min All Vehicle'!X56=0, '15-Min All Vehicle'!X57=0,'15-Min All Vehicle'!X58=0)=TRUE,\"\",X55+X56+X57+X58)","v":42}]
[null,null,"16:30:00",{"$f":"'15-Min SU-Truck'!D56+'15-Min Semi-Truck'!D56","v":0},{"$f":"'15-Min SU-Truck'!E56+'15-Min Semi-Truck'!E56","v":0},{"$f":"'15-Min SU-Truck'!F56+'15-Min Semi-Truck'!F56","v":0},{"$f":"'15-Min SU-Truck'!G56+'15-Min Semi-Truck'!G56","v":0},{"$f":"'15-Min SU-Truck'!H56+'15-Min Semi-Truck'!H56","v":0},{"$f":"'15-Min SU-Truck'!I56+'15-Min Semi-Truck'!I56","v":2},{"$f":"'15-Min SU-Truck'!J56+'15-Min Semi-Truck'!J56","v":2},{"$f":"'15-Min SU-Truck'!K56+'15-Min Semi-Truck'!K56","v":0},{"$f":"'15-Min SU-Truck'!L56+'15-Min Semi-Truck'!L56","v":0},{"$f":"'15-Min SU-Truck'!M56+'15-Min Semi-Truck'!M56","v":4},{"$f":"'15-Min SU-Truck'!N56+'15-Min Semi-Truck'!N56","v":4},{"$f":"'15-Min SU-Truck'!O56+'15-Min Semi-Truck'!O56","v":0},{"$f":"'15-Min SU-Truck'!P56+'15-Min Semi-Truck'!P56","v":3},{"$f":"'15-Min SU-Truck'!Q56+'15-Min Semi-Truck'!Q56","v":0},{"$f":"'15-Min SU-Truck'!R56+'15-Min Semi-Truck'!R56","v":7},{"$f":"'15-Min SU-Truck'!S56+'15-Min Semi-Truck'!S56","v":0},{"$f":"'15-Min SU-Truck'!T56+'15-Min Semi-Truck'!T56","v":5},{"$f":"'15-Min SU-Truck'!U56+'15-Min Semi-Truck'!U56","v":2},{"$f":"'15-Min SU-Truck'!V56+'15-Min Semi-Truck'!V56","v":0},{"$f":"'15-Min SU-Truck'!W56+'15-Min Semi-Truck'!W56","v":7},{"$f":"'15-Min SU-Truck'!X56+'15-Min Semi-Truck'!X56","v":18},null,{"$f":"IF(OR('15-Min All Vehicle'!X56=0,'15-Min All Vehicle'!X57=0, '15-Min All Vehicle'!X58=0,'15-Min All Vehicle'!X59=0)=TRUE,\"\",X56+X57+X58+X59)","v":41}]
[null,null,"16:44:59.942",{"$f":"'15-Min SU-Truck'!D57+'15-Min Semi-Truck'!D57","v":0},{"$f":"'15-Min SU-Truck'!E57+'15-Min Semi-Truck'!E57","v":0},{"$f":"'15-Min SU-Truck'!F57+'15-Min Semi-Truck'!F57","v":0},{"$f":"'15-Min SU-Truck'!G57+'15-Min Semi-Truck'!G57","v":0},{"$f":"'15-Min SU-Truck'!H57+'15-Min Semi-Truck'!H57","v":0},{"$f":"'15-Min SU-Truck'!I57+'15-Min Semi-Truck'!I57","v":0},{"$f":"'15-Min SU-Truck'!J57+'15-Min Semi-Truck'!J57","v":0},{"$f":"'15-Min SU-Truck'!K57+'15-Min Semi-Truck'!K57","v":0},{"$f":"'15-Min SU-Truck'!L57+'15-Min Semi-Truck'!L57","v":0},{"$f":"'15-Min SU-Truck'!M57+'15-Min Semi-Truck'!M57","v":0},{"$f":"'15-Min SU-Truck'!N57+'15-Min Semi-Truck'!N57","v":5},{"$f":"'15-Min SU-Truck'!O57+'15-Min Semi-Truck'!O57","v":0},{"$f":"'15-Min SU-Truck'!P57+'15-Min Semi-Truck'!P57","v":0},{"$f":"'15-Min SU-Truck'!Q57+'15-Min Semi-Truck'!Q57","v":0},{"$f":"'15-Min SU-Truck'!R57+'15-Min Semi-Truck'!R57","v":5},{"$f":"'15-Min SU-Truck'!S57+'15-Min Semi-Truck'!S57","v":0},{"$f":"'15-Min SU-Truck'!T57+'15-Min Semi-Truck'!T57","v":1},{"$f":"'15-Min SU-Truck'!U57+'15-Min Semi-Truck'!U57","v":0},{"$f":"'15-Min SU-Truck'!V57+'15-Min Semi-Truck'!V57","v":0},{"$f":"'15-Min SU-Truck'!W57+'15-Min Semi-Truck'!W57","v":1},{"$f":"'15-Min SU-Truck'!X57+'15-Min Semi-Truck'!X57","v":6},null,{"$f":"IF(OR('15-Min All Vehicle'!X57=0,'15-Min All Vehicle'!X58=0, '15-Min All Vehicle'!X59=0,'15-Min All Vehicle'!X60=0)=TRUE,\"\",X57+X58+X59+X60)","v":28}]
[null,null,"16:59:59.971",{"$f":"'15-Min SU-Truck'!D58+'15-Min Semi-Truck'!D58","v":0},{"$f":"'15-Min SU-Truck'!E58+'15-Min Semi-Truck'!E58","v":0},{"$f":"'15-Min SU-Truck'!F58+'15-Min Semi-Truck'!F58","v":0},{"$f":"'15-Min SU-Truck'!G58+'15-Min Semi-Truck'!G58","v":0},{"$f":"'15-Min SU-Truck'!H58+'15-Min Semi-Truck'!H58","v":0},{"$f":"'15-Min SU-Truck'!I58+'15-Min Semi-Truck'!I58","v":0},{"$f":"'15-Min SU-Truck'!J58+'15-Min Semi-Truck'!J58","v":1},{"$f":"'15-Min SU-Truck'!K58+'15-Min Semi-Truck'!K58","v":0},{"$f":"'15-Min SU-Truck'!L58+'15-Min Semi-Truck'!L58","v":0},{"$f":"'15-Min SU-Truck'!M58+'15-Min Semi-Truck'!M58","v":1},{"$f":"'15-Min SU-Truck'!N58+'15-Min Semi-Truck'!N58","v":1},{"$f":"'15-Min SU-Truck'!O58+'15-Min Semi-Truck'!O58","v":0},{"$f":"'15-Min SU-Truck'!P58+'15-Min Semi-Truck'!P58","v":2},{"$f":"'15-Min SU-Truck'!Q58+'15-Min Semi-Truck'!Q58","v":0},{"$f":"'15-Min SU-Truck'!R58+'15-Min Semi-Truck'!R58","v":3},{"$f":"'15-Min SU-Truck'!S58+'15-Min Semi-Truck'!S58","v":0},{"$f":"'15-Min SU-Truck'!T58+'15-Min Semi-Truck'!T58","v":0},{"$f":"'15-Min SU-Truck'!U58+'15-Min Semi-Truck'!U58","v":0},{"$f":"'15-Min SU-Truck'!V58+'15-Min Semi-Truck'!V58","v":0},{"$f":"'15-Min SU-Truck'!W58+'15-Min Semi-Truck'!W58","v":0},{"$f":"'15-Min SU-Truck'!X58+'15-Min Semi-Truck'!X58","v":4},null,{"$f":"IF(OR('15-Min All Vehicle'!X58=0,'15-Min All Vehicle'!X59=0, '15-Min All Vehicle'!X60=0,'15-Min All Vehicle'!X61=0)=TRUE,\"\",X58+X59+X60+X61)","v":27}]
[null,null,"17:15:00",{"$f":"'15-Min SU-Truck'!D59+'15-Min Semi-Truck'!D59","v":0},{"$f":"'15-Min SU-Truck'!E59+'15-Min Semi-Truck'!E59","v":0},{"$f":"'15-Min SU-Truck'!F59+'15-Min Semi-Truck'!F59","v":0},{"$f":"'15-Min SU-Truck'!G59+'15-Min Semi-Truck'!G59","v":0},{"$f":"'15-Min SU-Truck'!H59+'15-Min Semi-Truck'!H59","v":0},{"$f":"'15-Min SU-Truck'!I59+'15-Min Semi-Truck'!I59","v":1},{"$f":"'15-Min SU-Truck'!J59+'15-Min Semi-Truck'!J59","v":5},{"$f":"'15-Min SU-Truck'!K59+'15-Min Semi-Truck'!K59","v":0},{"$f":"'15-Min SU-Truck'!L59+'15-Min Semi-Truck'!L59","v":0},{"$f":"'15-Min SU-Truck'!M59+'15-Min Semi-Truck'!M59","v":6},{"$f":"'15-Min SU-Truck'!N59+'15-Min Semi-Truck'!N59","v":5},{"$f":"'15-Min SU-Truck'!O59+'15-Min Semi-Truck'!O59","v":0},{"$f":"'15-Min SU-Truck'!P59+'15-Min Semi-Truck'!P59","v":1},{"$f":"'15-Min SU-Truck'!Q59+'15-Min Semi-Truck'!Q59","v":0},{"$f":"'15-Min SU-Truck'!R59+'15-Min Semi-Truck'!R59","v":6},{"$f":"'15-Min SU-Truck'!S59+'15-Min Semi-Truck'!S59","v":0},{"$f":"'15-Min SU-Truck'!T59+'15-Min Semi-Truck'!T59","v":0},{"$f":"'15-Min SU-Truck'!U59+'15-Min Semi-Truck'!U59","v":1},{"$f":"'15-Min SU-Truck'!V59+'15-Min Semi-Truck'!V59","v":0},{"$f":"'15-Min SU-Truck'!W59+'15-Min Semi-Truck'!W59","v":1},{"$f":"'15-Min SU-Truck'!X59+'15-Min Semi-Truck'!X59","v":13},null,{"$f":"IF(OR('15-Min All Vehicle'!X59=0,'15-Min All Vehicle'!X60=0, '15-Min All Vehicle'!X61=0,'15-Min All Vehicle'!X62=0)=TRUE,\"\",X59+X60+X61+X62)","v":""}]
[null,null,"17:29:59.942",{"$f":"'15-Min SU-Truck'!D60+'15-Min Semi-Truck'!D60","v":0},{"$f":"'15-Min SU-Truck'!E60+'15-Min Semi-Truck'!E60","v":0},{"$f":"'15-Min SU-Truck'!F60+'15-Min Semi-Truck'!F60","v":0},{"$f":"'15-Min SU-Truck'!G60+'15-Min Semi-Truck'!G60","v":0},{"$f":"'15-Min SU-Truck'!H60+'15-Min Semi-Truck'!H60","v":0},{"$f":"'15-Min SU-Truck'!I60+'15-Min Semi-Truck'!I60","v":1},{"$f":"'15-Min SU-Truck'!J60+'15-Min Semi-Truck'!J60","v":3},{"$f":"'15-Min SU-Truck'!K60+'15-Min Semi-Truck'!K60","v":0},{"$f":"'15-Min SU-Truck'!L60+'15-Min Semi-Truck'!L60","v":0},{"$f":"'15-Min SU-Truck'!M60+'15-Min Semi-Truck'!M60","v":4},{"$f":"'15-Min SU-Truck'!N60+'15-Min Semi-Truck'!N60","v":0},{"$f":"'15-Min SU-Truck'!O60+'15-Min Semi-Truck'!O60","v":0},{"$f":"'15-Min SU-Truck'!P60+'15-Min Semi-Truck'!P60","v":0},{"$f":"'15-Min SU-Truck'!Q60+'15-Min Semi-Truck'!Q60","v":0},{"$f":"'15-Min SU-Truck'!R60+'15-Min Semi-Truck'!R60","v":0},{"$f":"'15-Min SU-Truck'!S60+'15-Min Semi-Truck'!S60","v":0},{"$f":"'15-Min SU-Truck'!T60+'15-Min Semi-Truck'!T60","v":0},{"$f":"'15-Min SU-Truck'!U60+'15-Min Semi-Truck'!U60","v":1},{"$f":"'15-Min SU-Truck'!V60+'15-Min Semi-Truck'!V60","v":0},{"$f":"'15-Min SU-Truck'!W60+'15-Min Semi-Truck'!W60","v":1},{"$f":"'15-Min SU-Truck'!X60+'15-Min Semi-Truck'!X60","v":5},null,{"$f":"IF(OR('15-Min All Vehicle'!X60=0,'15-Min All Vehicle'!X61=0, '15-Min All Vehicle'!X62=0,'15-Min All Vehicle'!X63=0)=TRUE,\"\",X60+X61+X62+X63)","v":""}]
[null,null,"17:44:59.971",{"$f":"'15-Min SU-Truck'!D61+'15-Min Semi-Truck'!D61","v":0},{"$f":"'15-Min SU-Truck'!E61+'15-Min Semi-Truck'!E61","v":0},{"$f":"'15-Min SU-Truck'!F61+'15-Min Semi-Truck'!F61","v":0},{"$f":"'15-Min SU-Truck'!G61+'15-Min Semi-Truck'!G61","v":0},{"$f":"'15-Min SU-Truck'!H61+'15-Min Semi-Truck'!H61","v":0},{"$f":"'15-Min SU-Truck'!I61+'15-Min Semi-Truck'!I61","v":1},{"$f":"'15-Min SU-Truck'!J61+'15-Min Semi-Truck'!J61","v":1},{"$f":"'15-Min SU-Truck'!K61+'15-Min Semi-Truck'!K61","v":0},{"$f":"'15-Min SU-Truck'!L61+'15-Min Semi-Truck'!L61","v":0},{"$f":"'15-Min SU-Truck'!M61+'15-Min Semi-Truck'!M61","v":2},{"$f":"'15-Min SU-Truck'!N61+'15-Min Semi-Truck'!N61","v":2},{"$f":"'15-Min SU-Truck'!O61+'15-Min Semi-Truck'!O61","v":0},{"$f":"'15-Min SU-Truck'!P61+'15-Min Semi-Truck'!P61","v":0},{"$f":"'15-Min SU-Truck'!Q61+'15-Min Semi-Truck'!Q61","v":0},{"$f":"'15-Min SU-Truck'!R61+'15-Min Semi-Truck'!R61","v":2},{"$f":"'15-Min SU-Truck'!S61+'15-Min Semi-Truck'!S61","v":0},{"$f":"'15-Min SU-Truck'!T61+'15-Min Semi-Truck'!T61","v":1},{"$f":"'15-Min SU-Truck'!U61+'15-Min Semi-Truck'!U61","v":0},{"$f":"'15-Min SU-Truck'!V61+'15-Min Semi-Truck'!V61","v":0},{"$f":"'15-Min SU-Truck'!W61+'15-Min Semi-Truck'!W61","v":1},{"$f":"'15-Min SU-Truck'!X61+'15-Min Semi-Truck'!X61","v":5},null,{"$f":"IF(OR('15-Min All Vehicle'!X61=0,'15-Min All Vehicle'!X62=0, '15-Min All Vehicle'!X63=0,'15-Min All Vehicle'!X64=0)=TRUE,\"\",X61+X62+X63+X64)","v":""}]
[null,null,"18:00:00",{"$f":"'15-Min SU-Truck'!D62+'15-Min Semi-Truck'!D62","v":0},{"$f":"'15-Min SU-Truck'!E62+'15-Min Semi-Truck'!E62","v":0},{"$f":"'15-Min SU-Truck'!F62+'15-Min Semi-Truck'!F62","v":0},{"$f":"'15-Min SU-Truck'!G62+'15-Min Semi-Truck'!G62","v":0},{"$f":"'15-Min SU-Truck'!H62+'15-Min Semi-Truck'!H62","v":0},{"$f":"'15-Min SU-Truck'!I62+'15-Min Semi-Truck'!I62","v":0},{"$f":"'15-Min SU-Truck'!J62+'15-Min Semi-Truck'!J62","v":0},{"$f":"'15-Min SU-Truck'!K62+'15-Min Semi-Truck'!K62","v":0},{"$f":"'15-Min SU-Truck'!L62+'15-Min Semi-Truck'!L62","v":0},{"$f":"'15-Min SU-Truck'!M62+'15-Min Semi-Truck'!M62","v":0},{"$f":"'15-Min SU-Truck'!N62+'15-Min Semi-Truck'!N62","v":0},{"$f":"'15-Min SU-Truck'!O62+'15-Min Semi-Truck'!O62","v":0},{"$f":"'15-Min SU-Truck'!P62+'15-Min Semi-Truck'!P62","v":0},{"$f":"'15-Min SU-Truck'!Q62+'15-Min Semi-Truck'!Q62","v":0},{"$f":"'15-Min SU-Truck'!R62+'15-Min Semi-Truck'!R62","v":0},{"$f":"'15-Min SU-Truck'!S62+'15-Min Semi-Truck'!S62","v":0},{"$f":"'15-Min SU-Truck'!T62+'15-Min Semi-Truck'!T62","v":0},{"$f":"'15-Min SU-Truck'!U62+'15-Min Semi-Truck'!U62","v":0},{"$f":"'15-Min SU-Truck'!V62+'15-Min Semi-Truck'!V62","v":0},{"$f":"'15-Min SU-Truck'!W62+'15-Min Semi-Truck'!W62","v":0},{"$f":"'15-Min SU-Truck'!X62+'15-Min Semi-Truck'!X62","v":0},null,{"$f":"IF(OR('15-Min All Vehicle'!X62=0,'15-Min All Vehicle'!X63=0, '15-Min All Vehicle'!X64=0,'15-Min All Vehicle'!X65=0)=TRUE,\"\",X62+X63+X64+X65)","v":""}]
[null,null,"18:14:59.942",{"$f":"'15-Min SU-Truck'!D63+'15-Min Semi-Truck'!D63","v":0},{"$f":"'15-Min SU-Truck'!E63+'15-Min Semi-Truck'!E63","v":0},{"$f":"'15-Min SU-Truck'!F63+'15-Min Semi-Truck'!F63","v":0},{"$f":"'15-Min SU-Truck'!G63+'15-Min Semi-Truck'!G63","v":0},{"$f":"'15-Min SU-Truck'!H63+'15-Min Semi-Truck'!H63","v":0},{"$f":"'15-Min SU-Truck'!I63+'15-Min Semi-Truck'!I63","v":0},{"$f":"'15-Min SU-Truck'!J63+'15-Min Semi-Truck'!J63","v":0},{"$f":"'15-Min SU-Truck'!K63+'15-Min Semi-Truck'!K63","v":0},{"$f":"'15-Min SU-Truck'!L63+'15-Min Semi-Truck'!L63","v":0},{"$f":"'15-Min SU-Truck'!M63+'15-Min Semi-Truck'!M63","v":0},{"$f":"'15-Min SU-Truck'!N63+'15-Min Semi-Truck'!N63","v":0},{"$f":"'15-Min SU-Truck'!O63+'15-Min Semi-Truck'!O63","v":0},{"$f":"'15-Min SU-Truck'!P63+'15-Min Semi-Truck'!P63","v":0},{"$f":"'15-Min SU-Truck'!Q63+'15-Min Semi-Truck'!Q63","v":0},{"$f":"'15-Min SU-Truck'!R63+'15-Min Semi-Truck'!R63","v":0},{"$f":"'15-Min SU-Truck'!S63+'15-Min Semi-Truck'!S63","v":0},{"$f":"'15-Min SU-Truck'!T63+'15-Min Semi-Truck'!T63","v":0},{"$f":"'15-Min SU-Truck'!U63+'15-Min Semi-Truck'!U63","v":0},{"$f":"'15-Min SU-Truck'!V63+'15-Min Semi-Truck'!V63","v":0},{"$f":"'15-Min SU-Truck'!W63+'15-Min Semi-Truck'!W63","v":0},{"$f":"'15-Min SU-Truck'!X63+'15-Min Semi-Truck'!X63","v":0},null,{"$f":"IF(OR('15-Min All Vehicle'!X63=0,'15-Min All Vehicle'!X64=0, '15-Min All Vehicle'!X65=0,'15-Min All Vehicle'!X66=0)=TRUE,\"\",X63+X64+X65+X66)","v":""}]
[null,null,"18:29:59.971",{"$f":"'15-Min SU-Truck'!D64+'15-Min Semi-Truck'!D64","v":0},{"$f":"'15-Min SU-Truck'!E64+'15-Min Semi-Truck'!E64","v":0},{"$f":"'15-Min SU-Truck'!F64+'15-Min Semi-Truck'!F64","v":0},{"$f":"'15-Min SU-Truck'!G64+'15-Min Semi-Truck'!G64","v":0},{"$f":"'15-Min SU-Truck'!H64+'15-Min Semi-Truck'!H64","v":0},{"$f":"'15-Min SU-Truck'!I64+'15-Min Semi-Truck'!I64","v":0},{"$f":"'15-Min SU-Truck'!J64+'15-Min Semi-Truck'!J64","v":0},{"$f":"'15-Min SU-Truck'!K64+'15-Min Semi-Truck'!K64","v":0},{"$f":"'15-Min SU-Truck'!L64+'15-Min Semi-Truck'!L64","v":0},{"$f":"'15-Min SU-Truck'!M64+'15-Min Semi-Truck'!M64","v":0},{"$f":"'15-Min SU-Truck'!N64+'15-Min Semi-Truck'!N64","v":0},{"$f":"'15-Min SU-Truck'!O64+'15-Min Semi-Truck'!O64","v":0},{"$f":"'15-Min SU-Truck'!P64+'15-Min Semi-Truck'!P64","v":0},{"$f":"'15-Min SU-Truck'!Q64+'15-Min Semi-Truck'!Q64","v":0},{"$f":"'15-Min SU-Truck'!R64+'15-Min Semi-Truck'!R64","v":0},{"$f":"'15-Min SU-Truck'!S64+'15-Min Semi-Truck'!S64","v":0},{"$f":"'15-Min SU-Truck'!T64+'15-Min Semi-Truck'!T64","v":0},{"$f":"'15-Min SU-Truck'!U64+'15-Min Semi-Truck'!U64","v":0},{"$f":"'15-Min SU-Truck'!V64+'15-Min Semi-Truck'!V64","v":0},{"$f":"'15-Min SU-Truck'!W64+'15-Min Semi-Truck'!W64","v":0},{"$f":"'15-Min SU-Truck'!X64+'15-Min Semi-Truck'!X64","v":0},null,{"$f":"IF(OR('15-Min All Vehicle'!X64=0,'15-Min All Vehicle'!X65=0, '15-Min All Vehicle'!X66=0,'15-Min All Vehicle'!X67=0)=TRUE,\"\",X64+X65+X66+X67)","v":""}]
[null,null,"18:45:00",{"$f":"'15-Min SU-Truck'!D65+'15-Min Semi-Truck'!D65","v":0},{"$f":"'15-Min SU-Truck'!E65+'15-Min Semi-Truck'!E65","v":0},{"$f":"'15-Min SU-Truck'!F65+'15-Min Semi-Truck'!F65","v":0},{"$f":"'15-Min SU-Truck'!G65+'15-Min Semi-Truck'!G65","v":0},{"$f":"'15-Min SU-Truck'!H65+'15-Min Semi-Truck'!H65","v":0},{"$f":"'15-Min SU-Truck'!I65+'15-Min Semi-Truck'!I65","v":0},{"$f":"'15-Min SU-Truck'!J65+'15-Min Semi-Truck'!J65","v":0},{"$f":"'15-Min SU-Truck'!K65+'15-Min Semi-Truck'!K65","v":0},{"$f":"'15-Min SU-Truck'!L65+'15-Min Semi-Truck'!L65","v":0},{"$f":"'15-Min SU-Truck'!M65+'15-Min Semi-Truck'!M65","v":0},{"$f":"'15-Min SU-Truck'!N65+'15-Min Semi-Truck'!N65","v":0},{"$f":"'15-Min SU-Truck'!O65+'15-Min Semi-Truck'!O65","v":0},{"$f":"'15-Min SU-Truck'!P65+'15-Min Semi-Truck'!P65","v":0},{"$f":"'15-Min SU-Truck'!Q65+'15-Min Semi-Truck'!Q65","v":0},{"$f":"'15-Min SU-Truck'!R65+'15-Min Semi-Truck'!R65","v":0},{"$f":"'15-Min SU-Truck'!S65+'15-Min Semi-Truck'!S65","v":0},{"$f":"'15-Min SU-Truck'!T65+'15-Min Semi-Truck'!T65","v":0},{"$f":"'15-Min SU-Truck'!U65+'15-Min Semi-Truck'!U65","v":0},{"$f":"'15-Min SU-Truck'!V65+'15-Min Semi-Truck'!V65","v":0},{"$f":"'15-Min SU-Truck'!W65+'15-Min Semi-Truck'!W65","v":0},{"$f":"'15-Min SU-Truck'!X65+'15-Min Semi-Truck'!X65","v":0},null,{"$f":"IF(OR('15-Min All Vehicle'!X65=0,'15-Min All Vehicle'!X66=0, '15-Min All Vehicle'!X67=0,'15-Min All Vehicle'!X68=0)=TRUE,\"\",X65+X66+X67+X68)","v":""}]
[null,null,"18:59:59.942",{"$f":"'15-Min SU-Truck'!D66+'15-Min Semi-Truck'!D66","v":0},{"$f":"'15-Min SU-Truck'!E66+'15-Min Semi-Truck'!E66","v":0},{"$f":"'15-Min SU-Truck'!F66+'15-Min Semi-Truck'!F66","v":0},{"$f":"'15-Min SU-Truck'!G66+'15-Min Semi-Truck'!G66","v":0},{"$f":"'15-Min SU-Truck'!H66+'15-Min Semi-Truck'!H66","v":0},{"$f":"'15-Min SU-Truck'!I66+'15-Min Semi-Truck'!I66","v":0},{"$f":"'15-Min SU-Truck'!J66+'15-Min Semi-Truck'!J66","v":0},{"$f":"'15-Min SU-Truck'!K66+'15-Min Semi-Truck'!K66","v":0},{"$f":"'15-Min SU-Truck'!L66+'15-Min Semi-Truck'!L66","v":0},{"$f":"'15-Min SU-Truck'!M66+'15-Min Semi-Truck'!M66","v":0},{"$f":"'15-Min SU-Truck'!N66+'15-Min Semi-Truck'!N66","v":0},{"$f":"'15-Min SU-Truck'!O66+'15-Min Semi-Truck'!O66","v":0},{"$f":"'15-Min SU-Truck'!P66+'15-Min Semi-Truck'!P66","v":0},{"$f":"'15-Min SU-Truck'!Q66+'15-Min Semi-Truck'!Q66","v":0},{"$f":"'15-Min SU-Truck'!R66+'15-Min Semi-Truck'!R66","v":0},{"$f":"'15-Min SU-Truck'!S66+'15-Min Semi-Truck'!S66","v":0},{"$f":"'15-Min SU-Truck'!T66+'15-Min Semi-Truck'!T66","v":0},{"$f":"'15-Min SU-Truck'!U66+'15-Min Semi-Truck'!U66","v":0},{"$f":"'15-Min SU-Truck'!V66+'15-Min Semi-Truck'!V66","v":0},{"$f":"'15-Min SU-Truck'!W66+'15-Min Semi-Truck'!W66","v":0},{"$f":"'15-Min SU-Truck'!X66+'15-Min Semi-Truck'!X66","v":0},null,{"$f":"IF(OR('15-Min All Vehicle'!X66=0,'15-Min All Vehicle'!X67=0, '15-Min All Vehicle'!X68=0,'15-Min All Vehicle'!X69=0)=TRUE,\"\",X66+X67+X68+X69)","v":""}]
[null,null,"19:14:59.971",{"$f":"'15-Min SU-Truck'!D67+'15-Min Semi-Truck'!D67","v":0},{"$f":"'15-Min SU-Truck'!E67+'15-Min Semi-Truck'!E67","v":0},{"$f":"'15-Min SU-Truck'!F67+'15-Min Semi-Truck'!F67","v":0},{"$f":"'15-Min SU-Truck'!G67+'15-Min Semi-Truck'!G67","v":0},{"$f":"'15-Min SU-Truck'!H67+'15-Min Semi-Truck'!H67","v":0},{"$f":"'15-Min SU-Truck'!I67+'15-Min Semi-Truck'!I67","v":0},{"$f":"'15-Min SU-Truck'!J67+'15-Min Semi-Truck'!J67","v":0},{"$f":"'15-Min SU-Truck'!K67+'15-Min Semi-Truck'!K67","v":0},{"$f":"'15-Min SU-Truck'!L67+'15-Min Semi-Truck'!L67","v":0},{"$f":"'15-Min SU-Truck'!M67+'15-Min Semi-Truck'!M67","v":0},{"$f":"'15-Min SU-Truck'!N67+'15-Min Semi-Truck'!N67","v":0},{"$f":"'15-Min SU-Truck'!O67+'15-Min Semi-Truck'!O67","v":0},{"$f":"'15-Min SU-Truck'!P67+'15-Min Semi-Truck'!P67","v":0},{"$f":"'15-Min SU-Truck'!Q67+'15-Min Semi-Truck'!Q67","v":0},{"$f":"'15-Min SU-Truck'!R67+'15-Min Semi-Truck'!R67","v":0},{"$f":"'15-Min SU-Truck'!S67+'15-Min Semi-Truck'!S67","v":0},{"$f":"'15-Min SU-Truck'!T67+'15-Min Semi-Truck'!T67","v":0},{"$f":"'15-Min SU-Truck'!U67+'15-Min Semi-Truck'!U67","v":0},{"$f":"'15-Min SU-Truck'!V67+'15-Min Semi-Truck'!V67","v":0},{"$f":"'15-Min SU-Truck'!W67+'15-Min Semi-Truck'!W67","v":0},{"$f":"'15-Min SU-Truck'!X67+'15-Min Semi-Truck'!X67","v":0},null,{"$f":"IF(OR('15-Min All Vehicle'!X67=0,'15-Min All Vehicle'!X68=0, '15-Min All Vehicle'!X69=0,'15-Min All Vehicle'!X70=0)=TRUE,\"\",X67+X68+X69+X70)","v":""}]
[null,null,"19:30:00",{"$f":"'15-Min SU-Truck'!D68+'15-Min Semi-Truck'!D68","v":0},{"$f":"'15-Min SU-Truck'!E68+'15-Min Semi-Truck'!E68","v":0},{"$f":"'15-Min SU-Truck'!F68+'15-Min Semi-Truck'!F68","v":0},{"$f":"'15-Min SU-Truck'!G68+'15-Min Semi-Truck'!G68","v":0},{"$f":"'15-Min SU-Truck'!H68+'15-Min Semi-Truck'!H68","v":0},{"$f":"'15-Min SU-Truck'!I68+'15-Min Semi-Truck'!I68","v":0},{"$f":"'15-Min SU-Truck'!J68+'15-Min Semi-Truck'!J68","v":0},{"$f":"'15-Min SU-Truck'!K68+'15-Min Semi-Truck'!K68","v":0},{"$f":"'15-Min SU-Truck'!L68+'15-Min Semi-Truck'!L68","v":0},{"$f":"'15-Min SU-Truck'!M68+'15-Min Semi-Truck'!M68","v":0},{"$f":"'15-Min SU-Truck'!N68+'15-Min Semi-Truck'!N68","v":0},{"$f":"'15-Min SU-Truck'!O68+'15-Min Semi-Truck'!O68","v":0},{"$f":"'15-Min SU-Truck'!P68+'15-Min Semi-Truck'!P68","v":0},{"$f":"'15-Min SU-Truck'!Q68+'15-Min Semi-Truck'!Q68","v":0},{"$f":"'15-Min SU-Truck'!R68+'15-Min Semi-Truck'!R68","v":0},{"$f":"'15-Min SU-Truck'!S68+'15-Min Semi-Truck'!S68","v":0},{"$f":"'15-Min SU-Truck'!T68+'15-Min Semi-Truck'!T68","v":0},{"$f":"'15-Min SU-Truck'!U68+'15-Min Semi-Truck'!U68","v":0},{"$f":"'15-Min SU-Truck'!V68+'15-Min Semi-Truck'!V68","v":0},{"$f":"'15-Min SU-Truck'!W68+'15-Min Semi-Truck'!W68","v":0},{"$f":"'15-Min SU-Truck'!X68+'15-Min Semi-Truck'!X68","v":0},null,{"$f":"IF(OR('15-Min All Vehicle'!X68=0,'15-Min All Vehicle'!X69=0, '15-Min All Vehicle'!X70=0,'15-Min All Vehicle'!X71=0)=TRUE,\"\",X68+X69+X70+X71)","v":""}]
[null,null,"19:44:59.942",{"$f":"'15-Min SU-Truck'!D69+'15-Min Semi-Truck'!D69","v":0},{"$f":"'15-Min SU-Truck'!E69+'15-Min Semi-Truck'!E69","v":0},{"$f":"'15-Min SU-Truck'!F69+'15-Min Semi-Truck'!F69","v":0},{"$f":"'15-Min SU-Truck'!G69+'15-Min Semi-Truck'!G69","v":0},{"$f":"'15-Min SU-Truck'!H69+'15-Min Semi-Truck'!H69","v":0},{"$f":"'15-Min SU-Truck'!I69+'15-Min Semi-Truck'!I69","v":0},{"$f":"'15-Min SU-Truck'!J69+'15-Min Semi-Truck'!J69","v":0},{"$f":"'15-Min SU-Truck'!K69+'15-Min Semi-Truck'!K69","v":0},{"$f":"'15-Min SU-Truck'!L69+'15-Min Semi-Truck'!L69","v":0},{"$f":"'15-Min SU-Truck'!M69+'15-Min Semi-Truck'!M69","v":0},{"$f":"'15-Min SU-Truck'!N69+'15-Min Semi-Truck'!N69","v":0},{"$f":"'15-Min SU-Truck'!O69+'15-Min Semi-Truck'!O69","v":0},{"$f":"'15-Min SU-Truck'!P69+'15-Min Semi-Truck'!P69","v":0},{"$f":"'15-Min SU-Truck'!Q69+'15-Min Semi-Truck'!Q69","v":0},{"$f":"'15-Min SU-Truck'!R69+'15-Min Semi-Truck'!R69","v":0},{"$f":"'15-Min SU-Truck'!S69+'15-Min Semi-Truck'!S69","v":0},{"$f":"'15-Min SU-Truck'!T69+'15-Min Semi-Truck'!T69","v":0},{"$f":"'15-Min SU-Truck'!U69+'15-Min Semi-Truck'!U69","v":0},{"$f":"'15-Min SU-Truck'!V69+'15-Min Semi-Truck'!V69","v":0},{"$f":"'15-Min SU-Truck'!W69+'15-Min Semi-Truck'!W69","v":0},{"$f":"'15-Min SU-Truck'!X69+'15-Min Semi-Truck'!X69","v":0},null,{"$f":"IF(OR('15-Min All Vehicle'!X69=0,'15-Min All Vehicle'!X70=0, '15-Min All Vehicle'!X71=0,'15-Min All Vehicle'!X72=0)=TRUE,\"\",X69+X70+X71+X72)","v":""}]
[null,null,"19:59:59.971",{"$f":"'15-Min SU-Truck'!D70+'15-Min Semi-Truck'!D70","v":0},{"$f":"'15-Min SU-Truck'!E70+'15-Min Semi-Truck'!E70","v":0},{"$f":"'15-Min SU-Truck'!F70+'15-Min Semi-Truck'!F70","v":0},{"$f":"'15-Min SU-Truck'!G70+'15-Min Semi-Truck'!G70","v":0},{"$f":"'15-Min SU-Truck'!H70+'15-Min Semi-Truck'!H70","v":0},{"$f":"'15-Min SU-Truck'!I70+'15-Min Semi-Truck'!I70","v":0},{"$f":"'15-Min SU-Truck'!J70+'15-Min Semi-Truck'!J70","v":0},{"$f":"'15-Min SU-Truck'!K70+'15-Min Semi-Truck'!K70","v":0},{"$f":"'15-Min SU-Truck'!L70+'15-Min Semi-Truck'!L70","v":0},{"$f":"'15-Min SU-Truck'!M70+'15-Min Semi-Truck'!M70","v":0},{"$f":"'15-Min SU-Truck'!N70+'15-Min Semi-Truck'!N70","v":0},{"$f":"'15-Min SU-Truck'!O70+'15-Min Semi-Truck'!O70","v":0},{"$f":"'15-Min SU-Truck'!P70+'15-Min Semi-Truck'!P70","v":0},{"$f":"'15-Min SU-Truck'!Q70+'15-Min Semi-Truck'!Q70","v":0},{"$f":"'15-Min SU-Truck'!R70+'15-Min Semi-Truck'!R70","v":0},{"$f":"'15-Min SU-Truck'!S70+'15-Min Semi-Truck'!S70","v":0},{"$f":"'15-Min SU-Truck'!T70+'15-Min Semi-Truck'!T70","v":0},{"$f":"'15-Min SU-Truck'!U70+'15-Min Semi-Truck'!U70","v":0},{"$f":"'15-Min SU-Truck'!V70+'15-Min Semi-Truck'!V70","v":0},{"$f":"'15-Min SU-Truck'!W70+'15-Min Semi-Truck'!W70","v":0},{"$f":"'15-Min SU-Truck'!X70+'15-Min Semi-Truck'!X70","v":0},null,{"$f":"IF(OR('15-Min All Vehicle'!X70=0,'15-Min All Vehicle'!X71=0, '15-Min All Vehicle'!X72=0,'15-Min All Vehicle'!X73=0)=TRUE,\"\",X70+X71+X72+X73)","v":""}]
[null,null,"20:15:00",{"$f":"'15-Min SU-Truck'!D71+'15-Min Semi-Truck'!D71","v":0},{"$f":"'15-Min SU-Truck'!E71+'15-Min Semi-Truck'!E71","v":0},{"$f":"'15-Min SU-Truck'!F71+'15-Min Semi-Truck'!F71","v":0},{"$f":"'15-Min SU-Truck'!G71+'15-Min Semi-Truck'!G71","v":0},{"$f":"'15-Min SU-Truck'!H71+'15-Min Semi-Truck'!H71","v":0},{"$f":"'15-Min SU-Truck'!I71+'15-Min Semi-Truck'!I71","v":0},{"$f":"'15-Min SU-Truck'!J71+'15-Min Semi-Truck'!J71","v":0},{"$f":"'15-Min SU-Truck'!K71+'15-Min Semi-Truck'!K71","v":0},{"$f":"'15-Min SU-Truck'!L71+'15-Min Semi-Truck'!L71","v":0},{"$f":"'15-Min SU-Truck'!M71+'15-Min Semi-Truck'!M71","v":0},{"$f":"'15-Min SU-Truck'!N71+'15-Min Semi-Truck'!N71","v":0},{"$f":"'15-Min SU-Truck'!O71+'15-Min Semi-Truck'!O71","v":0},{"$f":"'15-Min SU-Truck'!P71+'15-Min Semi-Truck'!P71","v":0},{"$f":"'15-Min SU-Truck'!Q71+'15-Min Semi-Truck'!Q71","v":0},{"$f":"'15-Min SU-Truck'!R71+'15-Min Semi-Truck'!R71","v":0},{"$f":"'15-Min SU-Truck'!S71+'15-Min Semi-Truck'!S71","v":0},{"$f":"'15-Min SU-Truck'!T71+'15-Min Semi-Truck'!T71","v":0},{"$f":"'15-Min SU-Truck'!U71+'15-Min Semi-Truck'!U71","v":0},{"$f":"'15-Min SU-Truck'!V71+'15-Min Semi-Truck'!V71","v":0},{"$f":"'15-Min SU-Truck'!W71+'15-Min Semi-Truck'!W71","v":0},{"$f":"'15-Min SU-Truck'!X71+'15-Min Semi-Truck'!X71","v":0},null,{"$f":"IF(OR('15-Min All Vehicle'!X71=0,'15-Min All Vehicle'!X72=0, '15-Min All Vehicle'!X73=0,'15-Min All Vehicle'!X74=0)=TRUE,\"\",X71+X72+X73+X74)","v":""}]
[null,null,"20:29:59.942",{"$f":"'15-Min SU-Truck'!D72+'15-Min Semi-Truck'!D72","v":0},{"$f":"'15-Min SU-Truck'!E72+'15-Min Semi-Truck'!E72","v":0},{"$f":"'15-Min SU-Truck'!F72+'15-Min Semi-Truck'!F72","v":0},{"$f":"'15-Min SU-Truck'!G72+'15-Min Semi-Truck'!G72","v":0},{"$f":"'15-Min SU-Truck'!H72+'15-Min Semi-Truck'!H72","v":0},{"$f":"'15-Min SU-Truck'!I72+'15-Min Semi-Truck'!I72","v":0},{"$f":"'15-Min SU-Truck'!J72+'15-Min Semi-Truck'!J72","v":0},{"$f":"'15-Min SU-Truck'!K72+'15-Min Semi-Truck'!K72","v":0},{"$f":"'15-Min SU-Truck'!L72+'15-Min Semi-Truck'!L72","v":0},{"$f":"'15-Min SU-Truck'!M72+'15-Min Semi-Truck'!M72","v":0},{"$f":"'15-Min SU-Truck'!N72+'15-Min Semi-Truck'!N72","v":0},{"$f":"'15-Min SU-Truck'!O72+'15-Min Semi-Truck'!O72","v":0},{"$f":"'15-Min SU-Truck'!P72+'15-Min Semi-Truck'!P72","v":0},{"$f":"'15-Min SU-Truck'!Q72+'15-Min Semi-Truck'!Q72","v":0},{"$f":"'15-Min SU-Truck'!R72+'15-Min Semi-Truck'!R72","v":0},{"$f":"'15-Min SU-Truck'!S72+'15-Min Semi-Truck'!S72","v":0},{"$f":"'15-Min SU-Truck'!T72+'15-Min Semi-Truck'!T72","v":0},{"$f":"'15-Min SU-Truck'!U72+'15-Min Semi-Truck'!U72","v":0},{"$f":"'15-Min SU-Truck'!V72+'15-Min Semi-Truck'!V72","v":0},{"$f":"'15-Min SU-Truck'!W72+'15-Min Semi-Truck'!W72","v":0},{"$f":"'15-Min SU-Truck'!X72+'15-Min Semi-Truck'!X72","v":0},null,{"$f":"IF(OR('15-Min All Vehicle'!X72=0,'15-Min All Vehicle'!X73=0, '15-Min All Vehicle'!X74=0,'15-Min All Vehicle'!X75=0)=TRUE,\"\",X72+X73+X74+X75)","v":""}]
[null,null,"20:44:59.971",{"$f":"'15-Min SU-Truck'!D73+'15-Min Semi-Truck'!D73","v":0},{"$f":"'15-Min SU-Truck'!E73+'15-Min Semi-Truck'!E73","v":0},{"$f":"'15-Min SU-Truck'!F73+'15-Min Semi-Truck'!F73","v":0},{"$f":"'15-Min SU-Truck'!G73+'15-Min Semi-Truck'!G73","v":0},{"$f":"'15-Min SU-Truck'!H73+'15-Min Semi-Truck'!H73","v":0},{"$f":"'15-Min SU-Truck'!I73+'15-Min Semi-Truck'!I73","v":0},{"$f":"'15-Min SU-Truck'!J73+'15-Min Semi-Truck'!J73","v":0},{"$f":"'15-Min SU-Truck'!K73+'15-Min Semi-Truck'!K73","v":0},{"$f":"'15-Min SU-Truck'!L73+'15-Min Semi-Truck'!L73","v":0},{"$f":"'15-Min SU-Truck'!M73+'15-Min Semi-Truck'!M73","v":0},{"$f":"'15-Min SU-Truck'!N73+'15-Min Semi-Truck'!N73","v":0},{"$f":"'15-Min SU-Truck'!O73+'15-Min Semi-Truck'!O73","v":0},{"$f":"'15-Min SU-Truck'!P73+'15-Min Semi-Truck'!P73","v":0},{"$f":"'15-Min SU-Truck'!Q73+'15-Min Semi-Truck'!Q73","v":0},{"$f":"'15-Min SU-Truck'!R73+'15-Min Semi-Truck'!R73","v":0},{"$f":"'15-Min SU-Truck'!S73+'15-Min Semi-Truck'!S73","v":0},{"$f":"'15-Min SU-Truck'!T73+'15-Min Semi-Truck'!T73","v":0},{"$f":"'15-Min SU-Truck'!U73+'15-Min Semi-Truck'!U73","v":0},{"$f":"'15-Min SU-Truck'!V73+'15-Min Semi-Truck'!V73","v":0},{"$f":"'15-Min SU-Truck'!W73+'15-Min Semi-Truck'!W73","v":0},{"$f":"'15-Min SU-Truck'!X73+'15-Min Semi-Truck'!X73","v":0},null,{"$f":"IF(OR('15-Min All Vehicle'!X73=0,'15-Min All Vehicle'!X74=0, '15-Min All Vehicle'!X75=0,'15-Min All Vehicle'!X76=0)=TRUE,\"\",X73+X74+X75+X76)","v":""}]
[null,null,"21:00:00",{"$f":"'15-Min SU-Truck'!D74+'15-Min Semi-Truck'!D74","v":0},{"$f":"'15-Min SU-Truck'!E74+'15-Min Semi-Truck'!E74","v":0},{"$f":"'15-Min SU-Truck'!F74+'15-Min Semi-Truck'!F74","v":0},{"$f":"'15-Min SU-Truck'!G74+'15-Min Semi-Truck'!G74","v":0},{"$f":"'15-Min SU-Truck'!H74+'15-Min Semi-Truck'!H74","v":0},{"$f":"'15-Min SU-Truck'!I74+'15-Min Semi-Truck'!I74","v":0},{"$f":"'15-Min SU-Truck'!J74+'15-Min Semi-Truck'!J74","v":0},{"$f":"'15-Min SU-Truck'!K74+'15-Min Semi-Truck'!K74","v":0},{"$f":"'15-Min SU-Truck'!L74+'15-Min Semi-Truck'!L74","v":0},{"$f":"'15-Min SU-Truck'!M74+'15-Min Semi-Truck'!M74","v":0},{"$f":"'15-Min SU-Truck'!N74+'15-Min Semi-Truck'!N74","v":0},{"$f":"'15-Min SU-Truck'!O74+'15-Min Semi-Truck'!O74","v":0},{"$f":"'15-Min SU-Truck'!P74+'15-Min Semi-Truck'!P74","v":0},{"$f":"'15-Min SU-Truck'!Q74+'15-Min Semi-Truck'!Q74","v":0},{"$f":"'15-Min SU-Truck'!R74+'15-Min Semi-Truck'!R74","v":0},{"$f":"'15-Min SU-Truck'!S74+'15-Min Semi-Truck'!S74","v":0},{"$f":"'15-Min SU-Truck'!T74+'15-Min Semi-Truck'!T74","v":0},{"$f":"'15-Min SU-Truck'!U74+'15-Min Semi-Truck'!U74","v":0},{"$f":"'15-Min SU-Truck'!V74+'15-Min Semi-Truck'!V74","v":0},{"$f":"'15-Min SU-Truck'!W74+'15-Min Semi-Truck'!W74","v":0},{"$f":"'15-Min SU-Truck'!X74+'15-Min Semi-Truck'!X74","v":0},null,{"$f":"IF(OR('15-Min All Vehicle'!X74=0,'15-Min All Vehicle'!X75=0, '15-Min All Vehicle'!X76=0,'15-Min All Vehicle'!X77=0)=TRUE,\"\",X74+X75+X76+X77)","v":""}]
[null,null,"21:14:59.942",{"$f":"'15-Min SU-Truck'!D75+'15-Min Semi-Truck'!D75","v":0},{"$f":"'15-Min SU-Truck'!E75+'15-Min Semi-Truck'!E75","v":0},{"$f":"'15-Min SU-Truck'!F75+'15-Min Semi-Truck'!F75","v":0},{"$f":"'15-Min SU-Truck'!G75+'15-Min Semi-Truck'!G75","v":0},{"$f":"'15-Min SU-Truck'!H75+'15-Min Semi-Truck'!H75","v":0},{"$f":"'15-Min SU-Truck'!I75+'15-Min Semi-Truck'!I75","v":0},{"$f":"'15-Min SU-Truck'!J75+'15-Min Semi-Truck'!J75","v":0},{"$f":"'15-Min SU-Truck'!K75+'15-Min Semi-Truck'!K75","v":0},{"$f":"'15-Min SU-Truck'!L75+'15-Min Semi-Truck'!L75","v":0},{"$f":"'15-Min SU-Truck'!M75+'15-Min Semi-Truck'!M75","v":0},{"$f":"'15-Min SU-Truck'!N75+'15-Min Semi-Truck'!N75","v":0},{"$f":"'15-Min SU-Truck'!O75+'15-Min Semi-Truck'!O75","v":0},{"$f":"'15-Min SU-Truck'!P75+'15-Min Semi-Truck'!P75","v":0},{"$f":"'15-Min SU-Truck'!Q75+'15-Min Semi-Truck'!Q75","v":0},{"$f":"'15-Min SU-Truck'!R75+'15-Min Semi-Truck'!R75","v":0},{"$f":"'15-Min SU-Truck'!S75+'15-Min Semi-Truck'!S75","v":0},{"$f":"'15-Min SU-Truck'!T75+'15-Min Semi-Truck'!T75","v":0},{"$f":"'15-Min SU-Truck'!U75+'15-Min Semi-Truck'!U75","v":0},{"$f":"'15-Min SU-Truck'!V75+'15-Min Semi-Truck'!V75","v":0},{"$f":"'15-Min SU-Truck'!W75+'15-Min Semi-Truck'!W75","v":0},{"$f":"'15-Min SU-Truck'!X75+'15-Min Semi-Truck'!X75","v":0}]
[null,null,"21:29:59.971",{"$f":"'15-Min SU-Truck'!D76+'15-Min Semi-Truck'!D76","v":0},{"$f":"'15-Min SU-Truck'!E76+'15-Min Semi-Truck'!E76","v":0},{"$f":"'15-Min SU-Truck'!F76+'15-Min Semi-Truck'!F76","v":0},{"$f":"'15-Min SU-Truck'!G76+'15-Min Semi-Truck'!G76","v":0},{"$f":"'15-Min SU-Truck'!H76+'15-Min Semi-Truck'!H76","v":0},{"$f":"'15-Min SU-Truck'!I76+'15-Min Semi-Truck'!I76","v":0},{"$f":"'15-Min SU-Truck'!J76+'15-Min Semi-Truck'!J76","v":0},{"$f":"'15-Min SU-Truck'!K76+'15-Min Semi-Truck'!K76","v":0},{"$f":"'15-Min SU-Truck'!L76+'15-Min Semi-Truck'!L76","v":0},{"$f":"'15-Min SU-Truck'!M76+'15-Min Semi-Truck'!M76","v":0},{"$f":"'15-Min SU-Truck'!N76+'15-Min Semi-Truck'!N76","v":0},{"$f":"'15-Min SU-Truck'!O76+'15-Min Semi-Truck'!O76","v":0},{"$f":"'15-Min SU-Truck'!P76+'15-Min Semi-Truck'!P76","v":0},{"$f":"'15-Min SU-Truck'!Q76+'15-Min Semi-Truck'!Q76","v":0},{"$f":"'15-Min SU-Truck'!R76+'15-Min Semi-Truck'!R76","v":0},{"$f":"'15-Min SU-Truck'!S76+'15-Min Semi-Truck'!S76","v":0},{"$f":"'15-Min SU-Truck'!T76+'15-Min Semi-Truck'!T76","v":0},{"$f":"'15-Min SU-Truck'!U76+'15-Min Semi-Truck'!U76","v":0},{"$f":"'15-Min SU-Truck'!V76+'15-Min Semi-Truck'!V76","v":0},{"$f":"'15-Min SU-Truck'!W76+'15-Min Semi-Truck'!W76","v":0},{"$f":"'15-Min SU-Truck'!X76+'15-Min Semi-Truck'!X76","v":0}]
[null,null,"21:45:00",{"$f":"'15-Min SU-Truck'!D77+'15-Min Semi-Truck'!D77","v":0},{"$f":"'15-Min SU-Truck'!E77+'15-Min Semi-Truck'!E77","v":0},{"$f":"'15-Min SU-Truck'!F77+'15-Min Semi-Truck'!F77","v":0},{"$f":"'15-Min SU-Truck'!G77+'15-Min Semi-Truck'!G77","v":0},{"$f":"'15-Min SU-Truck'!H77+'15-Min Semi-Truck'!H77","v":0},{"$f":"'15-Min SU-Truck'!I77+'15-Min Semi-Truck'!I77","v":0},{"$f":"'15-Min SU-Truck'!J77+'15-Min Semi-Truck'!J77","v":0},{"$f":"'15-Min SU-Truck'!K77+'15-Min Semi-Truck'!K77","v":0},{"$f":"'15-Min SU-Truck'!L77+'15-Min Semi-Truck'!L77","v":0},{"$f":"'15-Min SU-Truck'!M77+'15-Min Semi-Truck'!M77","v":0},{"$f":"'15-Min SU-Truck'!N77+'15-Min Semi-Truck'!N77","v":0},{"$f":"'15-Min SU-Truck'!O77+'15-Min Semi-Truck'!O77","v":0},{"$f":"'15-Min SU-Truck'!P77+'15-Min Semi-Truck'!P77","v":0},{"$f":"'15-Min SU-Truck'!Q77+'15-Min Semi-Truck'!Q77","v":0},{"$f":"'15-Min SU-Truck'!R77+'15-Min Semi-Truck'!R77","v":0},{"$f":"'15-Min SU-Truck'!S77+'15-Min Semi-Truck'!S77","v":0},{"$f":"'15-Min SU-Truck'!T77+'15-Min Semi-Truck'!T77","v":0},{"$f":"'15-Min SU-Truck'!U77+'15-Min Semi-Truck'!U77","v":0},{"$f":"'15-Min SU-Truck'!V77+'15-Min Semi-Truck'!V77","v":0},{"$f":"'15-Min SU-Truck'!W77+'15-Min Semi-Truck'!W77","v":0},{"$f":"'15-Min SU-Truck'!X77+'15-Min Semi-Truck'!X77","v":0}]
[null,"Totals",null,{"$f":"'15-Min SU-Truck'!D78+'15-Min Semi-Truck'!D78","v":0},{"$f":"'15-Min SU-Truck'!E78+'15-Min Semi-Truck'!E78","v":0},{"$f":"'15-Min SU-Truck'!F78+'15-Min Semi-Truck'!F78","v":0},{"$f":"'15-Min SU-Truck'!G78+'15-Min Semi-Truck'!G78","v":0},{"$f":"'15-Min SU-Truck'!H78+'15-Min Semi-Truck'!H78","v":0},{"$f":"'15-Min SU-Truck'!I78+'15-Min Semi-Truck'!I78","v":126},{"$f":"'15-Min SU-Truck'!J78+'15-Min Semi-Truck'!J78","v":251},{"$f":"'15-Min SU-Truck'!K78+'15-Min Semi-Truck'!K78","v":0},{"$f":"'15-Min SU-Truck'!L78+'15-Min Semi-Truck'!L78","v":0},{"$f":"'15-Min SU-Truck'!M78+'15-Min Semi-Truck'!M78","v":377},{"$f":"'15-Min SU-Truck'!N78+'15-Min Semi-Truck'!N78","v":175},{"$f":"'15-Min SU-Truck'!O78+'15-Min Semi-Truck'!O78","v":1},{"$f":"'15-Min SU-Truck'!P78+'15-Min Semi-Truck'!P78","v":203},{"$f":"'15-Min SU-Truck'!Q78+'15-Min Semi-Truck'!Q78","v":0},{"$f":"'15-Min SU-Truck'!R78+'15-Min Semi-Truck'!R78","v":379},{"$f":"'15-Min SU-Truck'!S78+'15-Min Semi-Truck'!S78","v":0},{"$f":"'15-Min SU-Truck'!T78+'15-Min Semi-Truck'!T78","v":245},{"$f":"'15-Min SU-Truck'!U78+'15-Min Semi-Truck'!U78","v":67},{"$f":"'15-Min SU-Truck'!V78+'15-Min Semi-Truck'!V78","v":0},{"$f":"'15-Min SU-Truck'!W78+'15-Min Semi-Truck'!W78","v":312},{"$f":"'15-Min SU-Truck'!X78+'15-Min Semi-Truck'!X78","v":1068}]
[]
[null,"Peak Hour Heavy Vehicle Volume Summary"]
[null,null,null,null,null,"ê",null,null,null,null,"ç",null,null,null,null,"é",null,null,null,null,"è"]
[null,"Hourly",null,"From North",null,null,null,null,"From East",null,null,null,null,"From South",null,null,null,null,"From West",null,null,null,null,"Total"]
[null,"Time Period",null,{"$f":"'Base Information'!$D$14:$D$14","v":"441 NB ON RAMP"},null,null,null,null,{"$f":"'Base Information'!$D$15:$D$15","v":"CTH OO (Northland Ave)"},null,null,null,null,{"$f":"'Base Information'!$D$16:$D$16","v":"441 NB OFF RAMP"},null,null,null,null,{"$f":"'Base Information'!$D$17:$D$17","v":"CTH OO (Northland Ave)"},null,null,null,null,"Hourly"]
[null,"Start Time",null,"Right ","Thru ","Left ","U-Tn","Total","Right ","Thru ","Left ","U-Tn","Total","Right ","Thru ","Left ","U-Tn","Total","Right ","Thru ","Left ","U-Tn","Total","Volume"]
[null,"AM",{"$f":"'15-Min All Vehicle'!$C$85","v":"07:14:59.971"},{"$f":"VLOOKUP(VLOOKUP($C85,'Base Information'!$D$91:$G$152,1,FALSE),$C$14:$X$77,2,FALSE)+VLOOKUP(VLOOKUP($C85,'Base Information'!$D$91:$G$152,2,FALSE),$C$14:$X$77,2,FALSE)+VLOOKUP(VLOOKUP($C85,'Base Information'!$D$91:$G$152,3,FALSE),$C$14:$X$77,2,FALSE)+VLOOKUP(VLOOKUP($C85,'Base Information'!$D$91:$G$152,4,FALSE),$C$14:$X$77,2,FALSE)","v":0},{"$f":"VLOOKUP(VLOOKUP($C85,'Base Information'!$D$91:$G$152,1,FALSE),$C$14:$X$77,3,FALSE)+VLOOKUP(VLOOKUP($C85,'Base Information'!$D$91:$G$152,2,FALSE),$C$14:$X$77,3,FALSE)+VLOOKUP(VLOOKUP($C85,'Base Information'!$D$91:$G$152,3,FALSE),$C$14:$X$77,3,FALSE)+VLOOKUP(VLOOKUP($C85,'Base Information'!$D$91:$G$152,4,FALSE),$C$14:$X$77,3,FALSE)","v":0},{"$f":"VLOOKUP(VLOOKUP($C85,'Base Information'!$D$91:$G$152,1,FALSE),$C$14:$X$77,4,FALSE)+VLOOKUP(VLOOKUP($C85,'Base Information'!$D$91:$G$152,2,FALSE),$C$14:$X$77,4,FALSE)+VLOOKUP(VLOOKUP($C85,'Base Information'!$D$91:$G$152,3,FALSE),$C$14:$X$77,4,FALSE)+VLOOKUP(VLOOKUP($C85,'Base Information'!$D$91:$G$152,4,FALSE),$C$14:$X$77,4,FALSE)","v":0},{"$f":"VLOOKUP(VLOOKUP($C85,'Base Information'!$D$91:$G$152,1,FALSE),$C$14:$X$77,5,FALSE)+VLOOKUP(VLOOKUP($C85,'Base Information'!$D$91:$G$152,2,FALSE),$C$14:$X$77,5,FALSE)+VLOOKUP(VLOOKUP($C85,'Base Information'!$D$91:$G$152,3,FALSE),$C$14:$X$77,5,FALSE)+VLOOKUP(VLOOKUP($C85,'Base Information'!$D$91:$G$152,4,FALSE),$C$14:$X$77,5,FALSE)","v":0},{"$f":"SUM(D85:G85)","v":0},{"$f":"VLOOKUP(VLOOKUP($C85,'Base Information'!$D$91:$G$152,1,FALSE),$C$14:$X$77,7,FALSE)+VLOOKUP(VLOOKUP($C85,'Base Information'!$D$91:$G$152,2,FALSE),$C$14:$X$77,7,FALSE)+VLOOKUP(VLOOKUP($C85,'Base Information'!$D$91:$G$152,3,FALSE),$C$14:$X$77,7,FALSE)+VLOOKUP(VLOOKUP($C85,'Base Information'!$D$91:$G$152,4,FALSE),$C$14:$X$77,7,FALSE)","v":11},{"$f":"VLOOKUP(VLOOKUP($C85,'Base Information'!$D$91:$G$152,1,FALSE),$C$14:$X$77,8,FALSE)+VLOOKUP(VLOOKUP($C85,'Base Information'!$D$91:$G$152,2,FALSE),$C$14:$X$77,8,FALSE)+VLOOKUP(VLOOKUP($C85,'Base Information'!$D$91:$G$152,3,FALSE),$C$14:$X$77,8,FALSE)+VLOOKUP(VLOOKUP($C85,'Base Information'!$D$91:$G$152,4,FALSE),$C$14:$X$77,8,FALSE)","v":26},{"$f":"VLOOKUP(VLOOKUP($C85,'Base Information'!$D$91:$G$152,1,FALSE),$C$14:$X$77,9,FALSE)+VLOOKUP(VLOOKUP($C85,'Base Information'!$D$91:$G$152,2,FALSE),$C$14:$X$77,9,FALSE)+VLOOKUP(VLOOKUP($C85,'Base Information'!$D$91:$G$152,3,FALSE),$C$14:$X$77,9,FALSE)+VLOOKUP(VLOOKUP($C85,'Base Information'!$D$91:$G$152,4,FALSE),$C$14:$X$77,9,FALSE)","v":0},{"$f":"VLOOKUP(VLOOKUP($C85,'Base Information'!$D$91:$G$152,1,FALSE),$C$14:$X$77,10,FALSE)+VLOOKUP(VLOOKUP($C85,'Base Information'!$D$91:$G$152,2,FALSE),$C$14:$X$77,10,FALSE)+VLOOKUP(VLOOKUP($C85,'Base Information'!$D$91:$G$152,3,FALSE),$C$14:$X$77,10,FALSE)+VLOOKUP(VLOOKUP($C85,'Base Information'!$D$91:$G$152,4,FALSE),$C$14:$X$77,10,FALSE)","v":0},{"$f":"SUM(I85:L85)","v":37},{"$f":"VLOOKUP(VLOOKUP($C85,'Base Information'!$D$91:$G$152,1,FALSE),$C$14:$X$77,12,FALSE)+VLOOKUP(VLOOKUP($C85,'Base Information'!$D$91:$G$152,2,FALSE),$C$14:$X$77,12,FALSE)+VLOOKUP(VLOOKUP($C85,'Base Information'!$D$91:$G$152,3,FALSE),$C$14:$X$77,12,FALSE)+VLOOKUP(VLOOKUP($C85,'Base Information'!$D$91:$G$152,4,FALSE),$C$14:$X$77,12,FALSE)","v":13},{"$f":"VLOOKUP(VLOOKUP($C85,'Base Information'!$D$91:$G$152,1,FALSE),$C$14:$X$77,13,FALSE)+VLOOKUP(VLOOKUP($C85,'Base Information'!$D$91:$G$152,2,FALSE),$C$14:$X$77,13,FALSE)+VLOOKUP(VLOOKUP($C85,'Base Information'!$D$91:$G$152,3,FALSE),$C$14:$X$77,13,FALSE)+VLOOKUP(VLOOKUP($C85,'Base Information'!$D$91:$G$152,4,FALSE),$C$14:$X$77,13,FALSE)","v":1},{"$f":"VLOOKUP(VLOOKUP($C85,'Base Information'!$D$91:$G$152,1,FALSE),$C$14:$X$77,14,FALSE)+VLOOKUP(VLOOKUP($C85,'Base Information'!$D$91:$G$152,2,FALSE),$C$14:$X$77,14,FALSE)+VLOOKUP(VLOOKUP($C85,'Base Information'!$D$91:$G$152,3,FALSE),$C$14:$X$77,14,FALSE)+VLOOKUP(VLOOKUP($C85,'Base Information'!$D$91:$G$152,4,FALSE),$C$14:$X$77,14,FALSE)","v":16},{"$f":"VLOOKUP(VLOOKUP($C85,'Base Information'!$D$91:$G$152,1,FALSE),$C$14:$X$77,15,FALSE)+VLOOKUP(VLOOKUP($C85,'Base Information'!$D$91:$G$152,2,FALSE),$C$14:$X$77,15,FALSE)+VLOOKUP(VLOOKUP($C85,'Base Information'!$D$91:$G$152,3,FALSE),$C$14:$X$77,15,FALSE)+VLOOKUP(VLOOKUP($C85,'Base Information'!$D$91:$G$152,4,FALSE),$C$14:$X$77,15,FALSE)","v":0},{"$f":"SUM(N85:Q85)","v":30},{"$f":"VLOOKUP(VLOOKUP($C85,'Base Information'!$D$91:$G$152,1,FALSE),$C$14:$X$77,17,FALSE)+VLOOKUP(VLOOKUP($C85,'Base Information'!$D$91:$G$152,2,FALSE),$C$14:$X$77,17,FALSE)+VLOOKUP(VLOOKUP($C85,'Base Information'!$D$91:$G$152,3,FALSE),$C$14:$X$77,17,FALSE)+VLOOKUP(VLOOKUP($C85,'Base Information'!$D$91:$G$152,4,FALSE),$C$14:$X$77,17,FALSE)","v":0},{"$f":"VLOOKUP(VLOOKUP($C85,'Base Information'!$D$91:$G$152,1,FALSE),$C$14:$X$77,18,FALSE)+VLOOKUP(VLOOKUP($C85,'Base Information'!$D$91:$G$152,2,FALSE),$C$14:$X$77,18,FALSE)+VLOOKUP(VLOOKUP($C85,'Base Information'!$D$91:$G$152,3,FALSE),$C$14:$X$77,18,FALSE)+VLOOKUP(VLOOKUP($C85,'Base Information'!$D$91:$G$152,4,FALSE),$C$14:$X$77,18,FALSE)","v":28},{"$f":"VLOOKUP(VLOOKUP($C85,'Base Information'!$D$91:$G$152,1,FALSE),$C$14:$X$77,19,FALSE)+VLOOKUP(VLOOKUP($C85,'Base Information'!$D$91:$G$152,2,FALSE),$C$14:$X$77,19,FALSE)+VLOOKUP(VLOOKUP($C85,'Base Information'!$D$91:$G$152,3,FALSE),$C$14:$X$77,19,FALSE)+VLOOKUP(VLOOKUP($C85,'Base Information'!$D$91:$G$152,4,FALSE),$C$14:$X$77,19,FALSE)","v":3},{"$f":"VLOOKUP(VLOOKUP($C85,'Base Information'!$D$91:$G$152,1,FALSE),$C$14:$X$77,20,FALSE)+VLOOKUP(VLOOKUP($C85,'Base Information'!$D$91:$G$152,2,FALSE),$C$14:$X$77,20,FALSE)+VLOOKUP(VLOOKUP($C85,'Base Information'!$D$91:$G$152,3,FALSE),$C$14:$X$77,20,FALSE)+VLOOKUP(VLOOKUP($C85,'Base Information'!$D$91:$G$152,4,FALSE),$C$14:$X$77,20,FALSE)","v":0},{"$f":"SUM(S85:V85)","v":31},{"$f":"H85+M85+R85+W85","v":98}]
[null,"MD",{"$f":"'15-Min All Vehicle'!$C$86","v":"12:59:59.942"},{"$f":"VLOOKUP(VLOOKUP($C86,'Base Information'!$D$91:$G$152,1,FALSE),$C$14:$X$77,2,FALSE)+VLOOKUP(VLOOKUP($C86,'Base Information'!$D$91:$G$152,2,FALSE),$C$14:$X$77,2,FALSE)+VLOOKUP(VLOOKUP($C86,'Base Information'!$D$91:$G$152,3,FALSE),$C$14:$X$77,2,FALSE)+VLOOKUP(VLOOKUP($C86,'Base Information'!$D$91:$G$152,4,FALSE),$C$14:$X$77,2,FALSE)","v":0},{"$f":"VLOOKUP(VLOOKUP($C86,'Base Information'!$D$91:$G$152,1,FALSE),$C$14:$X$77,3,FALSE)+VLOOKUP(VLOOKUP($C86,'Base Information'!$D$91:$G$152,2,FALSE),$C$14:$X$77,3,FALSE)+VLOOKUP(VLOOKUP($C86,'Base Information'!$D$91:$G$152,3,FALSE),$C$14:$X$77,3,FALSE)+VLOOKUP(VLOOKUP($C86,'Base Information'!$D$91:$G$152,4,FALSE),$C$14:$X$77,3,FALSE)","v":0},{"$f":"VLOOKUP(VLOOKUP($C86,'Base Information'!$D$91:$G$152,1,FALSE),$C$14:$X$77,4,FALSE)+VLOOKUP(VLOOKUP($C86,'Base Information'!$D$91:$G$152,2,FALSE),$C$14:$X$77,4,FALSE)+VLOOKUP(VLOOKUP($C86,'Base Information'!$D$91:$G$152,3,FALSE),$C$14:$X$77,4,FALSE)+VLOOKUP(VLOOKUP($C86,'Base Information'!$D$91:$G$152,4,FALSE),$C$14:$X$77,4,FALSE)","v":0},{"$f":"VLOOKUP(VLOOKUP($C86,'Base Information'!$D$91:$G$152,1,FALSE),$C$14:$X$77,5,FALSE)+VLOOKUP(VLOOKUP($C86,'Base Information'!$D$91:$G$152,2,FALSE),$C$14:$X$77,5,FALSE)+VLOOKUP(VLOOKUP($C86,'Base Information'!$D$91:$G$152,3,FALSE),$C$14:$X$77,5,FALSE)+VLOOKUP(VLOOKUP($C86,'Base Information'!$D$91:$G$152,4,FALSE),$C$14:$X$77,5,FALSE)","v":0},{"$f":"SUM(D86:G86)","v":0},{"$f":"VLOOKUP(VLOOKUP($C86,'Base Information'!$D$91:$G$152,1,FALSE),$C$14:$X$77,7,FALSE)+VLOOKUP(VLOOKUP($C86,'Base Information'!$D$91:$G$152,2,FALSE),$C$14:$X$77,7,FALSE)+VLOOKUP(VLOOKUP($C86,'Base Information'!$D$91:$G$152,3,FALSE),$C$14:$X$77,7,FALSE)+VLOOKUP(VLOOKUP($C86,'Base Information'!$D$91:$G$152,4,FALSE),$C$14:$X$77,7,FALSE)","v":7},{"$f":"VLOOKUP(VLOOKUP($C86,'Base Information'!$D$91:$G$152,1,FALSE),$C$14:$X$77,8,FALSE)+VLOOKUP(VLOOKUP($C86,'Base Information'!$D$91:$G$152,2,FALSE),$C$14:$X$77,8,FALSE)+VLOOKUP(VLOOKUP($C86,'Base Information'!$D$91:$G$152,3,FALSE),$C$14:$X$77,8,FALSE)+VLOOKUP(VLOOKUP($C86,'Base Information'!$D$91:$G$152,4,FALSE),$C$14:$X$77,8,FALSE)","v":29},{"$f":"VLOOKUP(VLOOKUP($C86,'Base Information'!$D$91:$G$152,1,FALSE),$C$14:$X$77,9,FALSE)+VLOOKUP(VLOOKUP($C86,'Base Information'!$D$91:$G$152,2,FALSE),$C$14:$X$77,9,FALSE)+VLOOKUP(VLOOKUP($C86,'Base Information'!$D$91:$G$152,3,FALSE),$C$14:$X$77,9,FALSE)+VLOOKUP(VLOOKUP($C86,'Base Information'!$D$91:$G$152,4,FALSE),$C$14:$X$77,9,FALSE)","v":0},{"$f":"VLOOKUP(VLOOKUP($C86,'Base Information'!$D$91:$G$152,1,FALSE),$C$14:$X$77,10,FALSE)+VLOOKUP(VLOOKUP($C86,'Base Information'!$D$91:$G$152,2,FALSE),$C$14:$X$77,10,FALSE)+VLOOKUP(VLOOKUP($C86,'Base Information'!$D$91:$G$152,3,FALSE),$C$14:$X$77,10,FALSE)+VLOOKUP(VLOOKUP($C86,'Base Information'!$D$91:$G$152,4,FALSE),$C$14:$X$77,10,FALSE)","v":0},{"$f":"SUM(I86:L86)","v":36},{"$f":"VLOOKUP(VLOOKUP($C86,'Base Information'!$D$91:$G$152,1,FALSE),$C$14:$X$77,12,FALSE)+VLOOKUP(VLOOKUP($C86,'Base Information'!$D$91:$G$152,2,FALSE),$C$14:$X$77,12,FALSE)+VLOOKUP(VLOOKUP($C86,'Base Information'!$D$91:$G$152,3,FALSE),$C$14:$X$77,12,FALSE)+VLOOKUP(VLOOKUP($C86,'Base Information'!$D$91:$G$152,4,FALSE),$C$14:$X$77,12,FALSE)","v":19},{"$f":"VLOOKUP(VLOOKUP($C86,'Base Information'!$D$91:$G$152,1,FALSE),$C$14:$X$77,13,FALSE)+VLOOKUP(VLOOKUP($C86,'Base Information'!$D$91:$G$152,2,FALSE),$C$14:$X$77,13,FALSE)+VLOOKUP(VLOOKUP($C86,'Base Information'!$D$91:$G$152,3,FALSE),$C$14:$X$77,13,FALSE)+VLOOKUP(VLOOKUP($C86,'Base Information'!$D$91:$G$152,4,FALSE),$C$14:$X$77,13,FALSE)","v":0},{"$f":"VLOOKUP(VLOOKUP($C86,'Base Information'!$D$91:$G$152,1,FALSE),$C$14:$X$77,14,FALSE)+VLOOKUP(VLOOKUP($C86,'Base Information'!$D$91:$G$152,2,FALSE),$C$14:$X$77,14,FALSE)+VLOOKUP(VLOOKUP($C86,'Base Information'!$D$91:$G$152,3,FALSE),$C$14:$X$77,14,FALSE)+VLOOKUP(VLOOKUP($C86,'Base Information'!$D$91:$G$152,4,FALSE),$C$14:$X$77,14,FALSE)","v":22},{"$f":"VLOOKUP(VLOOKUP($C86,'Base Information'!$D$91:$G$152,1,FALSE),$C$14:$X$77,15,FALSE)+VLOOKUP(VLOOKUP($C86,'Base Information'!$D$91:$G$152,2,FALSE),$C$14:$X$77,15,FALSE)+VLOOKUP(VLOOKUP($C86,'Base Information'!$D$91:$G$152,3,FALSE),$C$14:$X$77,15,FALSE)+VLOOKUP(VLOOKUP($C86,'Base Information'!$D$91:$G$152,4,FALSE),$C$14:$X$77,15,FALSE)","v":0},{"$f":"SUM(N86:Q86)","v":41},{"$f":"VLOOKUP(VLOOKUP($C86,'Base Information'!$D$91:$G$152,1,FALSE),$C$14:$X$77,17,FALSE)+VLOOKUP(VLOOKUP($C86,'Base Information'!$D$91:$G$152,2,FALSE),$C$14:$X$77,17,FALSE)+VLOOKUP(VLOOKUP($C86,'Base Information'!$D$91:$G$152,3,FALSE),$C$14:$X$77,17,FALSE)+VLOOKUP(VLOOKUP($C86,'Base Information'!$D$91:$G$152,4,FALSE),$C$14:$X$77,17,FALSE)","v":0},{"$f":"VLOOKUP(VLOOKUP($C86,'Base Information'!$D$91:$G$152,1,FALSE),$C$14:$X$77,18,FALSE)+VLOOKUP(VLOOKUP($C86,'Base Information'!$D$91:$G$152,2,FALSE),$C$14:$X$77,18,FALSE)+VLOOKUP(VLOOKUP($C86,'Base Information'!$D$91:$G$152,3,FALSE),$C$14:$X$77,18,FALSE)+VLOOKUP(VLOOKUP($C86,'Base Information'!$D$91:$G$152,4,FALSE),$C$14:$X$77,18,FALSE)","v":28},{"$f":"VLOOKUP(VLOOKUP($C86,'Base Information'!$D$91:$G$152,1,FALSE),$C$14:$X$77,19,FALSE)+VLOOKUP(VLOOKUP($C86,'Base Information'!$D$91:$G$152,2,FALSE),$C$14:$X$77,19,FALSE)+VLOOKUP(VLOOKUP($C86,'Base Information'!$D$91:$G$152,3,FALSE),$C$14:$X$77,19,FALSE)+VLOOKUP(VLOOKUP($C86,'Base Information'!$D$91:$G$152,4,FALSE),$C$14:$X$77,19,FALSE)","v":8},{"$f":"VLOOKUP(VLOOKUP($C86,'Base Information'!$D$91:$G$152,1,FALSE),$C$14:$X$77,20,FALSE)+VLOOKUP(VLOOKUP($C86,'Base Information'!$D$91:$G$152,2,FALSE),$C$14:$X$77,20,FALSE)+VLOOKUP(VLOOKUP($C86,'Base Information'!$D$91:$G$152,3,FALSE),$C$14:$X$77,20,FALSE)+VLOOKUP(VLOOKUP($C86,'Base Information'!$D$91:$G$152,4,FALSE),$C$14:$X$77,20,FALSE)","v":0},{"$f":"SUM(S86:V86)","v":36},{"$f":"H86+M86+R86+W86","v":113}]
[null,"PM",{"$f":"'15-Min All Vehicle'!$C$87","v":"16:30:00"},{"$f":"VLOOKUP(VLOOKUP($C87,'Base Information'!$D$91:$G$152,1,FALSE),$C$14:$X$77,2,FALSE)+VLOOKUP(VLOOKUP($C87,'Base Information'!$D$91:$G$152,2,FALSE),$C$14:$X$77,2,FALSE)+VLOOKUP(VLOOKUP($C87,'Base Information'!$D$91:$G$152,3,FALSE),$C$14:$X$77,2,FALSE)+VLOOKUP(VLOOKUP($C87,'Base Information'!$D$91:$G$152,4,FALSE),$C$14:$X$77,2,FALSE)","v":0},{"$f":"VLOOKUP(VLOOKUP($C87,'Base Information'!$D$91:$G$152,1,FALSE),$C$14:$X$77,3,FALSE)+VLOOKUP(VLOOKUP($C87,'Base Information'!$D$91:$G$152,2,FALSE),$C$14:$X$77,3,FALSE)+VLOOKUP(VLOOKUP($C87,'Base Information'!$D$91:$G$152,3,FALSE),$C$14:$X$77,3,FALSE)+VLOOKUP(VLOOKUP($C87,'Base Information'!$D$91:$G$152,4,FALSE),$C$14:$X$77,3,FALSE)","v":0},{"$f":"VLOOKUP(VLOOKUP($C87,'Base Information'!$D$91:$G$152,1,FALSE),$C$14:$X$77,4,FALSE)+VLOOKUP(VLOOKUP($C87,'Base Information'!$D$91:$G$152,2,FALSE),$C$14:$X$77,4,FALSE)+VLOOKUP(VLOOKUP($C87,'Base Information'!$D$91:$G$152,3,FALSE),$C$14:$X$77,4,FALSE)+VLOOKUP(VLOOKUP($C87,'Base Information'!$D$91:$G$152,4,FALSE),$C$14:$X$77,4,FALSE)","v":0},{"$f":"VLOOKUP(VLOOKUP($C87,'Base Information'!$D$91:$G$152,1,FALSE),$C$14:$X$77,5,FALSE)+VLOOKUP(VLOOKUP($C87,'Base Information'!$D$91:$G$152,2,FALSE),$C$14:$X$77,5,FALSE)+VLOOKUP(VLOOKUP($C87,'Base Information'!$D$91:$G$152,3,FALSE),$C$14:$X$77,5,FALSE)+VLOOKUP(VLOOKUP($C87,'Base Information'!$D$91:$G$152,4,FALSE),$C$14:$X$77,5,FALSE)","v":0},{"$f":"SUM(D87:G87)","v":0},{"$f":"VLOOKUP(VLOOKUP($C87,'Base Information'!$D$91:$G$152,1,FALSE),$C$14:$X$77,7,FALSE)+VLOOKUP(VLOOKUP($C87,'Base Information'!$D$91:$G$152,2,FALSE),$C$14:$X$77,7,FALSE)+VLOOKUP(VLOOKUP($C87,'Base Information'!$D$91:$G$152,3,FALSE),$C$14:$X$77,7,FALSE)+VLOOKUP(VLOOKUP($C87,'Base Information'!$D$91:$G$152,4,FALSE),$C$14:$X$77,7,FALSE)","v":3},{"$f":"VLOOKUP(VLOOKUP($C87,'Base Information'!$D$91:$G$152,1,FALSE),$C$14:$X$77,8,FALSE)+VLOOKUP(VLOOKUP($C87,'Base Information'!$D$91:$G$152,2,FALSE),$C$14:$X$77,8,FALSE)+VLOOKUP(VLOOKUP($C87,'Base Information'!$D$91:$G$152,3,FALSE),$C$14:$X$77,8,FALSE)+VLOOKUP(VLOOKUP($C87,'Base Information'!$D$91:$G$152,4,FALSE),$C$14:$X$77,8,FALSE)","v":8},{"$f":"VLOOKUP(VLOOKUP($C87,'Base Information'!$D$91:$G$152,1,FALSE),$C$14:$X$77,9,FALSE)+VLOOKUP(VLOOKUP($C87,'Base Information'!$D$91:$G$152,2,FALSE),$C$14:$X$77,9,FALSE)+VLOOKUP(VLOOKUP($C87,'Base Information'!$D$91:$G$152,3,FALSE),$C$14:$X$77,9,FALSE)+VLOOKUP(VLOOKUP($C87,'Base Information'!$D$91:$G$152,4,FALSE),$C$14:$X$77,9,FALSE)","v":0},{"$f":"VLOOKUP(VLOOKUP($C87,'Base Information'!$D$91:$G$152,1,FALSE),$C$14:$X$77,10,FALSE)+VLOOKUP(VLOOKUP($C87,'Base Information'!$D$91:$G$152,2,FALSE),$C$14:$X$77,10,FALSE)+VLOOKUP(VLOOKUP($C87,'Base Information'!$D$91:$G$152,3,FALSE),$C$14:$X$77,10,FALSE)+VLOOKUP(VLOOKUP($C87,'Base Information'!$D$91:$G$152,4,FALSE),$C$14:$X$77,10,FALSE)","v":0},{"$f":"SUM(I87:L87)","v":11},{"$f":"VLOOKUP(VLOOKUP($C87,'Base Information'!$D$91:$G$152,1,FALSE),$C$14:$X$77,12,FALSE)+VLOOKUP(VLOOKUP($C87,'Base Information'!$D$91:$G$152,2,FALSE),$C$14:$X$77,12,FALSE)+VLOOKUP(VLOOKUP($C87,'Base Information'!$D$91:$G$152,3,FALSE),$C$14:$X$77,12,FALSE)+VLOOKUP(VLOOKUP($C87,'Base Information'!$D$91:$G$152,4,FALSE),$C$14:$X$77,12,FALSE)","v":15},{"$f":"VLOOKUP(VLOOKUP($C87,'Base Information'!$D$91:$G$152,1,FALSE),$C$14:$X$77,13,FALSE)+VLOOKUP(VLOOKUP($C87,'Base Information'!$D$91:$G$152,2,FALSE),$C$14:$X$77,13,FALSE)+VLOOKUP(VLOOKUP($C87,'Base Information'!$D$91:$G$152,3,FALSE),$C$14:$X$77,13,FALSE)+VLOOKUP(VLOOKUP($C87,'Base Information'!$D$91:$G$152,4,FALSE),$C$14:$X$77,13,FALSE)","v":0},{"$f":"VLOOKUP(VLOOKUP($C87,'Base Information'!$D$91:$G$152,1,FALSE),$C$14:$X$77,14,FALSE)+VLOOKUP(VLOOKUP($C87,'Base Information'!$D$91:$G$152,2,FALSE),$C$14:$X$77,14,FALSE)+VLOOKUP(VLOOKUP($C87,'Base Information'!$D$91:$G$152,3,FALSE),$C$14:$X$77,14,FALSE)+VLOOKUP(VLOOKUP($C87,'Base Information'!$D$91:$G$152,4,FALSE),$C$14:$X$77,14,FALSE)","v":6},{"$f":"VLOOKUP(VLOOKUP($C87,'Base Information'!$D$91:$G$152,1,FALSE),$C$14:$X$77,15,FALSE)+VLOOKUP(VLOOKUP($C87,'Base Information'!$D$91:$G$152,2,FALSE),$C$14:$X$77,15,FALSE)+VLOOKUP(VLOOKUP($C87,'Base Information'!$D$91:$G$152,3,FALSE),$C$14:$X$77,15,FALSE)+VLOOKUP(VLOOKUP($C87,'Base Information'!$D$91:$G$152,4,FALSE),$C$14:$X$77,15,FALSE)","v":0},{"$f":"SUM(N87:Q87)","v":21},{"$f":"VLOOKUP(VLOOKUP($C87,'Base Information'!$D$91:$G$152,1,FALSE),$C$14:$X$77,17,FALSE)+VLOOKUP(VLOOKUP($C87,'Base Information'!$D$91:$G$152,2,FALSE),$C$14:$X$77,17,FALSE)+VLOOKUP(VLOOKUP($C87,'Base Information'!$D$91:$G$152,3,FALSE),$C$14:$X$77,17,FALSE)+VLOOKUP(VLOOKUP($C87,'Base Information'!$D$91:$G$152,4,FALSE),$C$14:$X$77,17,FALSE)","v":0},{"$f":"VLOOKUP(VLOOKUP($C87,'Base Information'!$D$91:$G$152,1,FALSE),$C$14:$X$77,18,FALSE)+VLOOKUP(VLOOKUP($C87,'Base Information'!$D$91:$G$152,2,FALSE),$C$14:$X$77,18,FALSE)+VLOOKUP(VLOOKUP($C87,'Base Information'!$D$91:$G$152,3,FALSE),$C$14:$X$77,18,FALSE)+VLOOKUP(VLOOKUP($C87,'Base Information'!$D$91:$G$152,4,FALSE),$C$14:$X$77,18,FALSE)","v":6},{"$f":"VLOOKUP(VLOOKUP($C87,'Base Information'!$D$91:$G$152,1,FALSE),$C$14:$X$77,19,FALSE)+VLOOKUP(VLOOKUP($C87,'Base Information'!$D$91:$G$152,2,FALSE),$C$14:$X$77,19,FALSE)+VLOOKUP(VLOOKUP($C87,'Base Information'!$D$91:$G$152,3,FALSE),$C$14:$X$77,19,FALSE)+VLOOKUP(VLOOKUP($C87,'Base Information'!$D$91:$G$152,4,FALSE),$C$14:$X$77,19,FALSE)","v":3},{"$f":"VLOOKUP(VLOOKUP($C87,'Base Information'!$D$91:$G$152,1,FALSE),$C$14:$X$77,20,FALSE)+VLOOKUP(VLOOKUP($C87,'Base Information'!$D$91:$G$152,2,FALSE),$C$14:$X$77,20,FALSE)+VLOOKUP(VLOOKUP($C87,'Base Information'!$D$91:$G$152,3,FALSE),$C$14:$X$77,20,FALSE)+VLOOKUP(VLOOKUP($C87,'Base Information'!$D$91:$G$152,4,FALSE),$C$14:$X$77,20,FALSE)","v":0},{"$f":"SUM(S87:V87)","v":9},{"$f":"H87+M87+R87+W87","v":41}]

{"sheet":"15-Min Hvy Veh Percentages","index":10,"n_rows":87,"n_cols":26,"rows_kept":87,"cut":false,"hidden":false,"merged":[[2,14,2,15],[9,6,9,7],[2,16,2,19],[3,14,3,19],[0,1,3,12],[9,8,9,9],[9,11,9,12],[5,16,5,23],[6,16,7,23],[9,13,9,14],[9,16,9,17],[9,18,9,19],[9,21,9,22],[5,14,7,15],[2,20,2,22],[2,23,2,25],[3,20,3,22],[3,23,3,25],[45,1,76,1],[77,1,77,2],[13,1,28,1],[29,1,44,1],[9,3,9,4],[10,3,10,7],[81,3,81,7],[81,8,81,12],[81,13,81,17],[81,18,81,22],[10,13,10,17],[10,18,10,22],[80,3,80,4],[80,6,80,7],[80,8,80,9],[80,11,80,12],[80,13,80,14],[80,16,80,17],[80,18,80,19],[80,21,80,22],[10,8,10,12]]}
[null,"Intersection Traffic Volume Report"]
[null,null,null,null,null,null,null,null,null,null,null,null,null,null,"Count Basics",null,null,null,null,null,null,null,null,null,null,"Page 10 of 11"]
[null,null,null,null,null,null,null,null,null,null,null,null,null,null,{"$f":"'Base Information'!$L$3","v":"Start Date:"},null,{"$f":"'Base Information'!$N$3","v":"2011-12-06"},null,null,null,{"$f":"'Base Information'!R3","v":"Weekday"},null,null,{"$f":"'Base Information'!U3","v":"Schools in Session"}]
[null,null,null,null,null,null,null,null,null,null,null,null,null,null,{"$f":"'Base Information'!$L$4","v":"Total Number of Hours Counted: 12"},null,null,null,null,null,{"$f":"'Base Information'!R4","v":"Non-Holiday"},null,null,{"$f":"'Base Information'!U4","v":"No Special Events"}]
[null,"15-Minute Heavy Vehicle Percentages"]
[null,null,null,null,null,null,null,null,null,null,null,null,null,null,"%",null,"Heavy Vehicles (Single-Unit Trucks, Buses & Semi-Trucks)"]
[null,{"$f":"'Base Information'!E7","v":"441 NB ON RAMP and CTH OO (Northland Ave)"}]
[]
[null,"15-Minute Heavy Vehicle Percentages"]
[null,null,null,null,null,"ê",null,null,null,null,"ç",null,null,null,null,"é",null,null,null,null,"è",null,null,"Total",null,"Hourly"]
[null,"15-Minute",null,"From North",null,null,null,null,"From East",null,null,null,null,"From South",null,null,null,null,"From West",null,null,null,null,"Heavy",null,"Heavy"]
[null,"Time Period",null,{"$f":"'Base Information'!$D$14:$D$14","v":"441 NB ON RAMP"},null,null,null,null,{"$f":"'Base Information'!$D$15:$D$15","v":"CTH OO (Northland Ave)"},null,null,null,null,{"$f":"'Base Information'!$D$16:$D$16","v":"441 NB OFF RAMP"},null,null,null,null,{"$f":"'Base Information'!$D$17:$D$17","v":"CTH OO (Northland Ave)"},null,null,null,null,"Vehicle",null,"Vehicle"]
[null,"Start Time",null,"Right ","Thru ","Left ","U-Tn","Total","Right ","Thru ","Left ","U-Tn","Total","Right ","Thru ","Left ","U-Tn","Total","Right ","Thru ","Left ","U-Tn","Total","Percent",null,"Percent"]
[null,"AM Peak Period","06:00:00",{"$f":"100*'15-Min Heavy Vehicle'!D14/('15-Min All Vehicle'!D14+0.00001)","v":0},{"$f":"100*'15-Min Heavy Vehicle'!E14/('15-Min All Vehicle'!E14+0.00001)","v":0},{"$f":"100*'15-Min Heavy Vehicle'!F14/('15-Min All Vehicle'!F14+0.00001)","v":0},{"$f":"100*'15-Min Heavy Vehicle'!G14/('15-Min All Vehicle'!G14+0.00001)","v":0},{"$f":"100*'15-Min Heavy Vehicle'!H14/('15-Min All Vehicle'!H14+0.00001)","v":0},{"$f":"100*'15-Min Heavy Vehicle'!I14/('15-Min All Vehicle'!I14+0.00001)","v":0},{"$f":"100*'15-Min Heavy Vehicle'!J14/('15-Min All Vehicle'!J14+0.00001)","v":0.884955673897728},{"$f":"100*'15-Min Heavy Vehicle'!K14/('15-Min All Vehicle'!K14+0.00001)","v":0},{"$f":"100*'15-Min Heavy Vehicle'!L14/('15-Min All Vehicle'!L14+0.00001)","v":0},{"$f":"100*'15-Min Heavy Vehicle'!M14/('15-Min All Vehicle'!M14+0.00001)","v":0.78124993896484851},{"$f":"100*'15-Min Heavy Vehicle'!N14/('15-Min All Vehicle'!N14+0.00001)","v":3.8461523668644744},{"$f":"100*'15-Min Heavy Vehicle'!O14/('15-Min All Vehicle'!O14+0.00001)","v":0},{"$f":"100*'15-Min Heavy Vehicle'!P14/('15-Min All Vehicle'!P14+0.00001)","v":0},{"$f":"100*'15-Min Heavy Vehicle'!Q14/('15-Min All Vehicle'!Q14+0.00001)","v":0},{"$f":"100*'15-Min Heavy Vehicle'!R14/('15-Min All Vehicle'!R14+0.00001)","v":0.92592584019205182},{"$f":"100*'15-Min Heavy Vehicle'!S14/('15-Min All Vehicle'!S14+0.00001)","v":0},{"$f":"100*'15-Min Heavy Vehicle'!T14/('15-Min All Vehicle'!T14+0.00001)","v":4.1666649305562791},{"$f":"100*'15-Min Heavy Vehicle'!U14/('15-Min All Vehicle'!U14+0.00001)","v":0},{"$f":"100*'15-Min Heavy Vehicle'!V14/('15-Min All Vehicle'!V14+0.00001)","v":0},{"$f":"100*'15-Min Heavy Vehicle'!W14/('15-Min All Vehicle'!W14+0.00001)","v":3.8461523668644744},{"$f":"100*'15-Min Heavy Vehicle'!X14/('15-Min All Vehicle'!X14+0.00001)","v":1.1450381242351861},null,{"$f":"IF(OR('15-Min All Vehicle'!X14=0,'15-Min All Vehicle'!X15=0, '15-Min All Vehicle'!X16=0,'15-Min All Vehicle'!X17=0)=TRUE,\"\",100*SUM('15-Min Heavy Vehicle'!X14:X17)/(SUM('15-Min All Vehicle'!X14:X17)+0.00001))","v":2.9389600381389598}]
[null,null,"06:14:59.942",{"$f":"100*'15-Min Heavy Vehicle'!D15/('15-Min All Vehicle'!D15+0.00001)","v":0},{"$f":"100*'15-Min Heavy Vehicle'!E15/('15-Min All Vehicle'!E15+0.00001)","v":0},{"$f":"100*'15-Min Heavy Vehicle'!F15/('15-Min All Vehicle'!F15+0.00001)","v":0},{"$f":"100*'15-Min Heavy Vehicle'!G15/('15-Min All Vehicle'!G15+0.00001)","v":0},{"$f":"100*'15-Min Heavy Vehicle'!H15/('15-Min All Vehicle'!H15+0.00001)","v":0},{"$f":"100*'15-Min Heavy Vehicle'!I15/('15-Min All Vehicle'!I15+0.00001)","v":0},{"$f":"100*'15-Min Heavy Vehicle'!J15/('15-Min All Vehicle'!J15+0.00001)","v":0},{"$f":"100*'15-Min Heavy Vehicle'!K15/('15-Min All Vehicle'!K15+0.00001)","v":0},{"$f":"100*'15-Min Heavy Vehicle'!L15/('15-Min All Vehicle'!L15+0.00001)","v":0},{"$f":"100*'15-Min Heavy Vehicle'!M15/('15-Min All Vehicle'!M15+0.00001)","v":0},{"$f":"100*'15-Min Heavy Vehicle'!N15/('15-Min All Vehicle'!N15+0.00001)","v":3.2258054110305125},{"$f":"100*'15-Min Heavy Vehicle'!O15/('15-Min All Vehicle'!O15+0.00001)","v":0},{"$f":"100*'15-Min Heavy Vehicle'!P15/('15-Min All Vehicle'!P15+0.00001)","v":2.6315787165281828},{"$f":"100*'15-Min Heavy Vehicle'!Q15/('15-Min All Vehicle'!Q15+0.00001)","v":0},{"$f":"100*'15-Min Heavy Vehicle'!R15/('15-Min All Vehicle'!R15+0.00001)","v":2.7586204994054828},{"$f":"100*'15-Min Heavy Vehicle'!S15/('15-Min All Vehicle'!S15+0.00001)","v":0},{"$f":"100*'15-Min Heavy Vehicle'!T15/('15-Min All Vehicle'!T15+0.00001)","v":11.111108024692214},{"$f":"100*'15-Min Heavy Vehicle'!U15/('15-Min All Vehicle'!U15+0.00001)","v":12.499984375019531},{"$f":"100*'15-Min Heavy Vehicle'!V15/('15-Min All Vehicle'!V15+0.00001)","v":0},{"$f":"100*'15-Min Heavy Vehicle'!W15/('15-Min All Vehicle'!W15+0.00001)","v":11.363633780992322},{"$f":"100*'15-Min Heavy Vehicle'!X15/('15-Min All Vehicle'!X15+0.00001)","v":2.9605262184037429},null,{"$f":"IF(OR('15-Min All Vehicle'!X15=0,'15-Min All Vehicle'!X16=0, '15-Min All Vehicle'!X17=0,'15-Min All Vehicle'!X18=0)=TRUE,\"\",100*SUM('15-Min Heavy Vehicle'!X15:X18)/(SUM('15-Min All Vehicle'!X15:X18)+0.00001))","v":3.4576270952025281}]
[null,null,"06:29:59.971",{"$f":"100*'15-Min Heavy Vehicle'!D16/('15-Min All Vehicle'!D16+0.00001)","v":0},{"$f":"100*'15-Min Heavy Vehicle'!E16/('15-Min All Vehicle'!E16+0.00001)","v":0},{"$f":"100*'15-Min Heavy Vehicle'!F16/('15-Min All Vehicle'!F16+0.00001)","v":0},{"$f":"100*'15-Min Heavy Vehicle'!G16/('15-Min All Vehicle'!G16+0.00001)","v":0},{"$f":"100*'15-Min Heavy Vehicle'!H16/('15-Min All Vehicle'!H16+0.00001)","v":0},{"$f":"100*'15-Min Heavy Vehicle'!I16/('15-Min All Vehicle'!I16+0.00001)","v":18.749988281257323},{"$f":"100*'15-Min Heavy Vehicle'!J16/('15-Min All Vehicle'!J16+0.00001)","v":0},{"$f":"100*'15-Min Heavy Vehicle'!K16/('15-Min All Vehicle'!K16+0.00001)","v":0},{"$f":"100*'15-Min Heavy Vehicle'!L16/('15-Min All Vehicle'!L16+0.00001)","v":0},{"$f":"100*'15-Min Heavy Vehicle'!M16/('15-Min All Vehicle'!M16+0.00001)","v":2.5641023449485174},{"$f":"100*'15-Min Heavy Vehicle'!N16/('15-Min All Vehicle'!N16+0.00001)","v":3.1249990234378049},{"$f":"100*'15-Min Heavy Vehicle'!O16/('15-Min All Vehicle'!O16+0.00001)","v":0},{"$f":"100*'15-Min Heavy Vehicle'!P16/('15-Min All Vehicle'!P16+0.00001)","v":2.1052629362881121},{"$f":"100*'15-Min Heavy Vehicle'!Q16/('15-Min All Vehicle'!Q16+0.00001)","v":0},{"$f":"100*'15-Min Heavy Vehicle'!R16/('15-Min All Vehicle'!R16+0.00001)","v":2.3622045384090913},{"$f":"100*'15-Min Heavy Vehicle'!S16/('15-Min All Vehicle'!S16+0.00001)","v":0},{"$f":"100*'15-Min Heavy Vehicle'!T16/('15-Min All Vehicle'!T16+0.00001)","v":2.7777770061730536},{"$f":"100*'15-Min Heavy Vehicle'!U16/('15-Min All Vehicle'!U16+0.00001)","v":39.999920000160003},{"$f":"100*'15-Min Heavy Vehicle'!V16/('15-Min All Vehicle'!V16+0.00001)","v":0},{"$f":"100*'15-Min Heavy Vehicle'!W16/('15-Min All Vehicle'!W16+0.00001)","v":7.3170713860801495},{"$f":"100*'15-Min Heavy Vehicle'!X16/('15-Min All Vehicle'!X16+0.00001)","v":3.1578946260387855},null,{"$f":"IF(OR('15-Min All Vehicle'!X16=0,'15-Min All Vehicle'!X17=0, '15-Min All Vehicle'!X18=0,'15-Min All Vehicle'!X19=0)=TRUE,\"\",100*SUM('15-Min Heavy Vehicle'!X16:X19)/(SUM('15-Min All Vehicle'!X16:X19)+0.00001))","v":3.5566093446555462}]
[null,null,"06:45:00",{"$f":"100*'15-Min Heavy Vehicle'!D17/('15-Min All Vehicle'!D17+0.00001)","v":0},{"$f":"100*'15-Min Heavy Vehicle'!E17/('15-Min All Vehicle'!E17+0.00001)","v":0},{"$f":"100*'15-Min Heavy Vehicle'!F17/('15-Min All Vehicle'!F17+0.00001)","v":0},{"$f":"100*'15-Min Heavy Vehicle'!G17/('15-Min All Vehicle'!G17+0.00001)","v":0},{"$f":"100*'15-Min Heavy Vehicle'!H17/('15-Min All Vehicle'!H17+0.00001)","v":0},{"$f":"100*'15-Min Heavy Vehicle'!I17/('15-Min All Vehicle'!I17+0.00001)","v":11.111104938275034},{"$f":"100*'15-Min Heavy Vehicle'!J17/('15-Min All Vehicle'!J17+0.00001)","v":1.3986013007971119},{"$f":"100*'15-Min Heavy Vehicle'!K17/('15-Min All Vehicle'!K17+0.00001)","v":0},{"$f":"100*'15-Min Heavy Vehicle'!L17/('15-Min All Vehicle'!L17+0.00001)","v":0},{"$f":"100*'15-Min Heavy Vehicle'!M17/('15-Min All Vehicle'!M17+0.00001)","v":2.4844718953744165},{"$f":"100*'15-Min Heavy Vehicle'!N17/('15-Min All Vehicle'!N17+0.00001)","v":6.3492053413959768},{"$f":"100*'15-Min Heavy Vehicle'!O17/('15-Min All Vehicle'!O17+0.00001)","v":0},{"$f":"100*'15-Min Heavy Vehicle'!P17/('15-Min All Vehicle'!P17+0.00001)","v":1.5873015033173807},{"$f":"100*'15-Min Heavy Vehicle'!Q17/('15-Min All Vehicle'!Q17+0.00001)","v":0},{"$f":"100*'15-Min Heavy Vehicle'!R17/('15-Min All Vehicle'!R17+0.00001)","v":2.7777776675485053},{"$f":"100*'15-Min Heavy Vehicle'!S17/('15-Min All Vehicle'!S17+0.00001)","v":0},{"$f":"100*'15-Min Heavy Vehicle'!T17/('15-Min All Vehicle'!T17+0.00001)","v":10.169489801781388},{"$f":"100*'15-Min Heavy Vehicle'!U17/('15-Min All Vehicle'!U17+0.00001)","v":24.999937500156253},{"$f":"100*'15-Min Heavy Vehicle'!V17/('15-Min All Vehicle'!V17+0.00001)","v":0},{"$f":"100*'15-Min Heavy Vehicle'!W17/('15-Min All Vehicle'!W17+0.00001)","v":11.111109347442961},{"$f":"100*'15-Min Heavy Vehicle'!X17/('15-Min All Vehicle'!X17+0.00001)","v":3.7815125255984765},null,{"$f":"IF(OR('15-Min All Vehicle'!X17=0,'15-Min All Vehicle'!X18=0, '15-Min All Vehicle'!X19=0,'15-Min All Vehicle'!X20=0)=TRUE,\"\",100*SUM('15-Min Heavy Vehicle'!X17:X20)/(SUM('15-Min All Vehicle'!X17:X20)+0.00001))","v":3.571428553463639}]
[null,null,"06:59:59.942",{"$f":"100*'15-Min Heavy Vehicle'!D18/('15-Min All Vehicle'!D18+0.00001)","v":0},{"$f":"100*'15-Min Heavy Vehicle'!E18/('15-Min All Vehicle'!E18+0.00001)","v":0},{"$f":"100*'15-Min Heavy Vehicle'!F18/('15-Min All Vehicle'!F18+0.00001)","v":0},{"$f":"100*'15-Min Heavy Vehicle'!G18/('15-Min All Vehicle'!G18+0.00001)","v":0},{"$f":"100*'15-Min Heavy Vehicle'!H18/('15-Min All Vehicle'!H18+0.00001)","v":0},{"$f":"100*'15-Min Heavy Vehicle'!I18/('15-Min All Vehicle'!I18+0.00001)","v":16.666652777789352},{"$f":"100*'15-Min Heavy Vehicle'!J18/('15-Min All Vehicle'!J18+0.00001)","v":3.1645567617369137},{"$f":"100*'15-Min Heavy Vehicle'!K18/('15-Min All Vehicle'!K18+0.00001)","v":0},{"$f":"100*'15-Min Heavy Vehicle'!L18/('15-Min All Vehicle'!L18+0.00001)","v":0},{"$f":"100*'15-Min Heavy Vehicle'!M18/('15-Min All Vehicle'!M18+0.00001)","v":4.1176468166090103},{"$f":"100*'15-Min Heavy Vehicle'!N18/('15-Min All Vehicle'!N18+0.00001)","v":7.2727259504134629},{"$f":"100*'15-Min Heavy Vehicle'!O18/('15-Min All Vehicle'!O18+0.00001)","v":0},{"$f":"100*'15-Min Heavy Vehicle'!P18/('15-Min All Vehicle'!P18+0.00001)","v":1.4084506050386898},{"$f":"100*'15-Min Heavy Vehicle'!Q18/('15-Min All Vehicle'!Q18+0.00001)","v":0},{"$f":"100*'15-Min Heavy Vehicle'!R18/('15-Min All Vehicle'!R18+0.00001)","v":3.0456851245845113},{"$f":"100*'15-Min Heavy Vehicle'!S18/('15-Min All Vehicle'!S18+0.00001)","v":0},{"$f":"100*'15-Min Heavy Vehicle'!T18/('15-Min All Vehicle'!T18+0.00001)","v":5.5555540123461071},{"$f":"100*'15-Min Heavy Vehicle'!U18/('15-Min All Vehicle'!U18+0.00001)","v":0},{"$f":"100*'15-Min Heavy Vehicle'!V18/('15-Min All Vehicle'!V18+0.00001)","v":0},{"$f":"100*'15-Min Heavy Vehicle'!W18/('15-Min All Vehicle'!W18+0.00001)","v":4.6511617090321602},{"$f":"100*'15-Min Heavy Vehicle'!X18/('15-Min All Vehicle'!X18+0.00001)","v":3.6585364961332565},null,{"$f":"IF(OR('15-Min All Vehicle'!X18=0,'15-Min All Vehicle'!X19=0, '15-Min All Vehicle'!X20=0,'15-Min All Vehicle'!X21=0)=TRUE,\"\",100*SUM('15-Min Heavy Vehicle'!X18:X21)/(SUM('15-Min All Vehicle'!X18:X21)+0.00001))","v":3.8251365946032028}]
[null,null,"07:14:59.971",{"$f":"100*'15-Min Heavy Vehicle'!D19/('15-Min All Vehicle'!D19+0.00001)","v":0},{"$f":"100*'15-Min Heavy Vehicle'!E19/('15-Min All Vehicle'!E19+0.00001)","v":0},{"$f":"100*'15-Min Heavy Vehicle'!F19/('15-Min All Vehicle'!F19+0.00001)","v":0},{"$f":"100*'15-Min Heavy Vehicle'!G19/('15-Min All Vehicle'!G19+0.00001)","v":0},{"$f":"100*'15-Min Heavy Vehicle'!H19/('15-Min All Vehicle'!H19+0.00001)","v":0},{"$f":"100*'15-Min Heavy Vehicle'!I19/('15-Min All Vehicle'!I19+0.00001)","v":14.285709183675293},{"$f":"100*'15-Min Heavy Vehicle'!J19/('15-Min All Vehicle'!J19+0.00001)","v":3.9735096706284985},{"$f":"100*'15-Min Heavy Vehicle'!K19/('15-Min All Vehicle'!K19+0.00001)","v":0},{"$f":"100*'15-Min Heavy Vehicle'!L19/('15-Min All Vehicle'!L19+0.00001)","v":0},{"$f":"100*'15-Min Heavy Vehicle'!M19/('15-Min All Vehicle'!M19+0.00001)","v":5.5865918666708456},{"$f":"100*'15-Min Heavy Vehicle'!N19/('15-Min All Vehicle'!N19+0.00001)","v":1.3513511687363284},{"$f":"100*'15-Min Heavy Vehicle'!O19/('15-Min All Vehicle'!O19+0.00001)","v":0},{"$f":"100*'15-Min Heavy Vehicle'!P19/('15-Min All Vehicle'!P19+0.00001)","v":1.8518517661179739},{"$f":"100*'15-Min Heavy Vehicle'!Q19/('15-Min All Vehicle'!Q19+0.00001)","v":0},{"$f":"100*'15-Min Heavy Vehicle'!R19/('15-Min All Vehicle'!R19+0.00001)","v":1.7241378715814528},{"$f":"100*'15-Min Heavy Vehicle'!S19/('15-Min All Vehicle'!S19+0.00001)","v":0},{"$f":"100*'15-Min Heavy Vehicle'!T19/('15-Min All Vehicle'!T19+0.00001)","v":8.5714261224496777},{"$f":"100*'15-Min Heavy Vehicle'!U19/('15-Min All Vehicle'!U19+0.00001)","v":0},{"$f":"100*'15-Min Heavy Vehicle'!V19/('15-Min All Vehicle'!V19+0.00001)","v":0},{"$f":"100*'15-Min Heavy Vehicle'!W19/('15-Min All Vehicle'!W19+0.00001)","v":6.3829773653239643},{"$f":"100*'15-Min Heavy Vehicle'!X19/('15-Min All Vehicle'!X19+0.00001)","v":3.4883720254191468},null,{"$f":"IF(OR('15-Min All Vehicle'!X19=0,'15-Min All Vehicle'!X20=0, '15-Min All Vehicle'!X21=0,'15-Min All Vehicle'!X22=0)=TRUE,\"\",100*SUM('15-Min Heavy Vehicle'!X19:X22)/(SUM('15-Min All Vehicle'!X19:X22)+0.00001))","v":4.408457020204871}]
[null,null,"07:30:00",{"$f":"100*'15-Min Heavy Vehicle'!D20/('15-Min All Vehicle'!D20+0.00001)","v":0},{"$f":"100*'15-Min Heavy Vehicle'!E20/('15-Min All Vehicle'!E20+0.00001)","v":0},{"$f":"100*'15-Min Heavy Vehicle'!F20/('15-Min All Vehicle'!F20+0.00001)","v":0},{"$f":"100*'15-Min Heavy Vehicle'!G20/('15-Min All Vehicle'!G20+0.00001)","v":0},{"$f":"100*'15-Min Heavy Vehicle'!H20/('15-Min All Vehicle'!H20+0.00001)","v":0},{"$f":"100*'15-Min Heavy Vehicle'!I20/('15-Min All Vehicle'!I20+0.00001)","v":21.05262049862079},{"$f":"100*'15-Min Heavy Vehicle'!J20/('15-Min All Vehicle'!J20+0.00001)","v":1.3392856544961762},{"$f":"100*'15-Min Heavy Vehicle'!K20/('15-Min All Vehicle'!K20+0.00001)","v":0},{"$f":"100*'15-Min Heavy Vehicle'!L20/('15-Min All Vehicle'!L20+0.00001)","v":0},{"$f":"100*'15-Min Heavy Vehicle'!M20/('15-Min All Vehicle'!M20+0.00001)","v":2.8806583176683818},{"$f":"100*'15-Min Heavy Vehicle'!N20/('15-Min All Vehicle'!N20+0.00001)","v":4.5454538567494156},{"$f":"100*'15-Min Heavy Vehicle'!O20/('15-Min All Vehicle'!O20+0.00001)","v":99.999000009999889},{"$f":"100*'15-Min Heavy Vehicle'!P20/('15-Min All Vehicle'!P20+0.00001)","v":1.7167381237451449},{"$f":"100*'15-Min Heavy Vehicle'!Q20/('15-Min All Vehicle'!Q20+0.00001)","v":0},{"$f":"100*'15-Min Heavy Vehicle'!R20/('15-Min All Vehicle'!R20+0.00001)","v":2.6666665777777809},{"$f":"100*'15-Min Heavy Vehicle'!S20/('15-Min All Vehicle'!S20+0.00001)","v":0},{"$f":"100*'15-Min Heavy Vehicle'!T20/('15-Min All Vehicle'!T20+0.00001)","v":12.820509533202683},{"$f":"100*'15-Min Heavy Vehicle'!U20/('15-Min All Vehicle'!U20+0.00001)","v":0},{"$f":"100*'15-Min Heavy Vehicle'!V20/('15-Min All Vehicle'!V20+0.00001)","v":0},{"$f":"100*'15-Min Heavy Vehicle'!W20/('15-Min All Vehicle'!W20+0.00001)","v":11.6279042725804},{"$f":"100*'15-Min Heavy Vehicle'!X20/('15-Min All Vehicle'!X20+0.00001)","v":3.4129692250346548},null,{"$f":"IF(OR('15-Min All Vehicle'!X20=0,'15-Min All Vehicle'!X21=0, '15-Min All Vehicle'!X22=0,'15-Min All Vehicle'!X23=0)=TRUE,\"\",100*SUM('15-Min Heavy Vehicle'!X20:X23)/(SUM('15-Min All Vehicle'!X20:X23)+0.00001))","v":5.1077787951837914}]
[null,null,"07:44:59.942",{"$f":"100*'15-Min Heavy Vehicle'!D21/('15-Min All Vehicle'!D21+0.00001)","v":0},{"$f":"100*'15-Min Heavy Vehicle'!E21/('15-Min All Vehicle'!E21+0.00001)","v":0},{"$f":"100*'15-Min Heavy Vehicle'!F21/('15-Min All Vehicle'!F21+0.00001)","v":0},{"$f":"100*'15-Min Heavy Vehicle'!G21/('15-Min All Vehicle'!G21+0.00001)","v":0},{"$f":"100*'15-Min Heavy Vehicle'!H21/('15-Min All Vehicle'!H21+0.00001)","v":0},{"$f":"100*'15-Min Heavy Vehicle'!I21/('15-Min All Vehicle'!I21+0.00001)","v":6.8965493460174674},{"$f":"100*'15-Min Heavy Vehicle'!J21/('15-Min All Vehicle'!J21+0.00001)","v":3.2490973556282547},{"$f":"100*'15-Min Heavy Vehicle'!K21/('15-Min All Vehicle'!K21+0.00001)","v":0},{"$f":"100*'15-Min Heavy Vehicle'!L21/('15-Min All Vehicle'!L21+0.00001)","v":0},{"$f":"100*'15-Min Heavy Vehicle'!M21/('15-Min All Vehicle'!M21+0.00001)","v":3.5947711243538851},{"$f":"100*'15-Min Heavy Vehicle'!N21/('15-Min All Vehicle'!N21+0.00001)","v":4.6874992675782394},{"$f":"100*'15-Min Heavy Vehicle'!O21/('15-Min All Vehicle'!O21+0.00001)","v":0},{"$f":"100*'15-Min Heavy Vehicle'!P21/('15-Min All Vehicle'!P21+0.00001)","v":1.6528924936821283},{"$f":"100*'15-Min Heavy Vehicle'!Q21/('15-Min All Vehicle'!Q21+0.00001)","v":0},{"$f":"100*'15-Min Heavy Vehicle'!R21/('15-Min All Vehicle'!R21+0.00001)","v":2.2875816245888361},{"$f":"100*'15-Min Heavy Vehicle'!S21/('15-Min All Vehicle'!S21+0.00001)","v":0},{"$f":"100*'15-Min Heavy Vehicle'!T21/('15-Min All Vehicle'!T21+0.00001)","v":20.634917359536924},{"$f":"100*'15-Min Heavy Vehicle'!U21/('15-Min All Vehicle'!U21+0.00001)","v":0},{"$f":"100*'15-Min Heavy Vehicle'!V21/('15-Min All Vehicle'!V21+0.00001)","v":0},{"$f":"100*'15-Min Heavy Vehicle'!W21/('15-Min All Vehicle'!W21+0.00001)","v":18.055553047839854},{"$f":"100*'15-Min Heavy Vehicle'!X21/('15-Min All Vehicle'!X21+0.00001)","v":4.5321636764303559},null,{"$f":"IF(OR('15-Min All Vehicle'!X21=0,'15-Min All Vehicle'!X22=0, '15-Min All Vehicle'!X23=0,'15-Min All Vehicle'!X24=0)=TRUE,\"\",100*SUM('15-Min Heavy Vehicle'!X21:X24)/(SUM('15-Min All Vehicle'!X21:X24)+0.00001))","v":6.5420560407992934}]
[null,null,"07:59:59.971",{"$f":"100*'15-Min Heavy Vehicle'!D22/('15-Min All Vehicle'!D22+0.00001)","v":0},{"$f":"100*'15-Min Heavy Vehicle'!E22/('15-Min All Vehicle'!E22+0.00001)","v":0},{"$f":"100*'15-Min Heavy Vehicle'!F22/('15-Min All Vehicle'!F22+0.00001)","v":0},{"$f":"100*'15-Min Heavy Vehicle'!G22/('15-Min All Vehicle'!G22+0.00001)","v":0},{"$f":"100*'15-Min Heavy Vehicle'!H22/('15-Min All Vehicle'!H22+0.00001)","v":0},{"$f":"100*'15-Min Heavy Vehicle'!I22/('15-Min All Vehicle'!I22+0.00001)","v":8.333326388894676},{"$f":"100*'15-Min Heavy Vehicle'!J22/('15-Min All Vehicle'!J22+0.00001)","v":4.7058820761245839},{"$f":"100*'15-Min Heavy Vehicle'!K22/('15-Min All Vehicle'!K22+0.00001)","v":0},{"$f":"100*'15-Min Heavy Vehicle'!L22/('15-Min All Vehicle'!L22+0.00001)","v":0},{"$f":"100*'15-Min Heavy Vehicle'!M22/('15-Min All Vehicle'!M22+0.00001)","v":4.9450546733486442},{"$f":"100*'15-Min Heavy Vehicle'!N22/('15-Min All Vehicle'!N22+0.00001)","v":14.28571088435455},{"$f":"100*'15-Min Heavy Vehicle'!O22/('15-Min All Vehicle'!O22+0.00001)","v":0},{"$f":"100*'15-Min Heavy Vehicle'!P22/('15-Min All Vehicle'!P22+0.00001)","v":2.4390242415229122},{"$f":"100*'15-Min Heavy Vehicle'!Q22/('15-Min All Vehicle'!Q22+0.00001)","v":0},{"$f":"100*'15-Min Heavy Vehicle'!R22/('15-Min All Vehicle'!R22+0.00001)","v":4.8543686963898693},{"$f":"100*'15-Min Heavy Vehicle'!S22/('15-Min All Vehicle'!S22+0.00001)","v":0},{"$f":"100*'15-Min Heavy Vehicle'!T22/('15-Min All Vehicle'!T22+0.00001)","v":17.073166567520349},{"$f":"100*'15-Min Heavy Vehicle'!U22/('15-Min All Vehicle'!U22+0.00001)","v":37.499953125058596},{"$f":"100*'15-Min Heavy Vehicle'!V22/('15-Min All Vehicle'!V22+0.00001)","v":0},{"$f":"100*'15-Min Heavy Vehicle'!W22/('15-Min All Vehicle'!W22+0.00001)","v":20.408159100375691},{"$f":"100*'15-Min Heavy Vehicle'!X22/('15-Min All Vehicle'!X22+0.00001)","v":6.6361554545502184},null,{"$f":"IF(OR('15-Min All Vehicle'!X22=0,'15-Min All Vehicle'!X23=0, '15-Min All Vehicle'!X24=0,'15-Min All Vehicle'!X25=0)=TRUE,\"\",100*SUM('15-Min Heavy Vehicle'!X22:X25)/(SUM('15-Min All Vehicle'!X22:X25)+0.00001))","v":7.4233128378937865}]
[null,null,"08:15:00",{"$f":"100*'15-Min Heavy Vehicle'!D23/('15-Min All Vehicle'!D23+0.00001)","v":0},{"$f":"100*'15-Min Heavy Vehicle'!E23/('15-Min All Vehicle'!E23+0.00001)","v":0},{"$f":"100*'15-Min Heavy Vehicle'!F23/('15-Min All Vehicle'!F23+0.00001)","v":0},{"$f":"100*'15-Min Heavy Vehicle'!G23/('15-Min All Vehicle'!G23+0.00001)","v":0},{"$f":"100*'15-Min Heavy Vehicle'!H23/('15-Min All Vehicle'!H23+0.00001)","v":0},{"$f":"100*'15-Min Heavy Vehicle'!I23/('15-Min All Vehicle'!I23+0.00001)","v":18.181809917359129},{"$f":"100*'15-Min Heavy Vehicle'!J23/('15-Min All Vehicle'!J23+0.00001)","v":3.2051279996712818},{"$f":"100*'15-Min Heavy Vehicle'!K23/('15-Min All Vehicle'!K23+0.00001)","v":0},{"$f":"100*'15-Min Heavy Vehicle'!L23/('15-Min All Vehicle'!L23+0.00001)","v":0},{"$f":"100*'15-Min Heavy Vehicle'!M23/('15-Min All Vehicle'!M23+0.00001)","v":5.0561794912258708},{"$f":"100*'15-Min Heavy Vehicle'!N23/('15-Min All Vehicle'!N23+0.00001)","v":9.9999983333336111},{"$f":"100*'15-Min Heavy Vehicle'!O23/('15-Min All Vehicle'!O23+0.00001)","v":0},{"$f":"100*'15-Min Heavy Vehicle'!P23/('15-Min All Vehicle'!P23+0.00001)","v":7.1999994240000458},{"$f":"100*'15-Min Heavy Vehicle'!Q23/('15-Min All Vehicle'!Q23+0.00001)","v":0},{"$f":"100*'15-Min Heavy Vehicle'!R23/('15-Min All Vehicle'!R23+0.00001)","v":8.1081076698320178},{"$f":"100*'15-Min Heavy Vehicle'!S23/('15-Min All Vehicle'!S23+0.00001)","v":0},{"$f":"100*'15-Min Heavy Vehicle'!T23/('15-Min All Vehicle'!T23+0.00001)","v":7.6923062130180355},{"$f":"100*'15-Min Heavy Vehicle'!U23/('15-Min All Vehicle'!U23+0.00001)","v":8.333326388894676},{"$f":"100*'15-Min Heavy Vehicle'!V23/('15-Min All Vehicle'!V23+0.00001)","v":0},{"$f":"100*'15-Min Heavy Vehicle'!W23/('15-Min All Vehicle'!W23+0.00001)","v":7.8124987792970657},{"$f":"100*'15-Min Heavy Vehicle'!X23/('15-Min All Vehicle'!X23+0.00001)","v":6.7915689275979174},null,{"$f":"IF(OR('15-Min All Vehicle'!X23=0,'15-Min All Vehicle'!X24=0, '15-Min All Vehicle'!X25=0,'15-Min All Vehicle'!X26=0)=TRUE,\"\",100*SUM('15-Min Heavy Vehicle'!X23:X26)/(SUM('15-Min All Vehicle'!X23:X26)+0.00001))","v":6.2162161742147557}]
[null,null,"08:29:59.942",{"$f":"100*'15-Min Heavy Vehicle'!D24/('15-Min All Vehicle'!D24+0.00001)","v":0},{"$f":"100*'15-Min Heavy Vehicle'!E24/('15-Min All Vehicle'!E24+0.00001)","v":0},{"$f":"100*'15-Min Heavy Vehicle'!F24/('15-Min All Vehicle'!F24+0.00001)","v":0},{"$f":"100*'15-Min Heavy Vehicle'!G24/('15-Min All Vehicle'!G24+0.00001)","v":0},{"$f":"100*'15-Min Heavy Vehicle'!H24/('15-Min All Vehicle'!H24+0.00001)","v":0},{"$f":"100*'15-Min Heavy Vehicle'!I24/('15-Min All Vehicle'!I24+0.00001)","v":34.999982500008748},{"$f":"100*'15-Min Heavy Vehicle'!J24/('15-Min All Vehicle'!J24+0.00001)","v":8.6614166408333357},{"$f":"100*'15-Min Heavy Vehicle'!K24/('15-Min All Vehicle'!K24+0.00001)","v":0},{"$f":"100*'15-Min Heavy Vehicle'!L24/('15-Min All Vehicle'!L24+0.00001)","v":0},{"$f":"100*'15-Min Heavy Vehicle'!M24/('15-Min All Vehicle'!M24+0.00001)","v":12.244897126197474},{"$f":"100*'15-Min Heavy Vehicle'!N24/('15-Min All Vehicle'!N24+0.00001)","v":10.204079550187846},{"$f":"100*'15-Min Heavy Vehicle'!O24/('15-Min All Vehicle'!O24+0.00001)","v":0},{"$f":"100*'15-Min Heavy Vehicle'!P24/('15-Min All Vehicle'!P24+0.00001)","v":3.124999755859394},{"$f":"100*'15-Min Heavy Vehicle'!Q24/('15-Min All Vehicle'!Q24+0.00001)","v":0},{"$f":"100*'15-Min Heavy Vehicle'!R24/('15-Min All Vehicle'!R24+0.00001)","v":5.0847454754381083},{"$f":"100*'15-Min Heavy Vehicle'!S24/('15-Min All Vehicle'!S24+0.00001)","v":0},{"$f":"100*'15-Min Heavy Vehicle'!T24/('15-Min All Vehicle'!T24+0.00001)","v":16.326527280300553},{"$f":"100*'15-Min Heavy Vehicle'!U24/('15-Min All Vehicle'!U24+0.00001)","v":39.999920000160003},{"$f":"100*'15-Min Heavy Vehicle'!V24/('15-Min All Vehicle'!V24+0.00001)","v":0},{"$f":"100*'15-Min Heavy Vehicle'!W24/('15-Min All Vehicle'!W24+0.00001)","v":18.51851508916387},{"$f":"100*'15-Min Heavy Vehicle'!X24/('15-Min All Vehicle'!X24+0.00001)","v":9.7883595294084795},null,{"$f":"IF(OR('15-Min All Vehicle'!X24=0,'15-Min All Vehicle'!X25=0, '15-Min All Vehicle'!X26=0,'15-Min All Vehicle'!X27=0)=TRUE,\"\",100*SUM('15-Min Heavy Vehicle'!X24:X27)/(SUM('15-Min All Vehicle'!X24:X27)+0.00001))","v":7.0836472714118521}]
[null,null,"08:44:59.971",{"$f":"100*'15-Min Heavy Vehicle'!D25/('15-Min All Vehicle'!D25+0.00001)","v":0},{"$f":"100*'15-Min Heavy Vehicle'!E25/('15-Min All Vehicle'!E25+0.00001)","v":0},{"$f":"100*'15-Min Heavy Vehicle'!F25/('15-Min All Vehicle'!F25+0.00001)","v":0},{"$f":"100*'15-Min Heavy Vehicle'!G25/('15-Min All Vehicle'!G25+0.00001)","v":0},{"$f":"100*'15-Min Heavy Vehicle'!H25/('15-Min All Vehicle'!H25+0.00001)","v":0},{"$f":"100*'15-Min Heavy Vehicle'!I25/('15-Min All Vehicle'!I25+0.00001)","v":21.05262049862079},{"$f":"100*'15-Min Heavy Vehicle'!J25/('15-Min All Vehicle'!J25+0.00001)","v":3.0534348814171843},{"$f":"100*'15-Min Heavy Vehicle'!K25/('15-Min All Vehicle'!K25+0.00001)","v":0},{"$f":"100*'15-Min Heavy Vehicle'!L25/('15-Min All Vehicle'!L25+0.00001)","v":0},{"$f":"100*'15-Min Heavy Vehicle'!M25/('15-Min All Vehicle'!M25+0.00001)","v":5.3333329777778014},{"$f":"100*'15-Min Heavy Vehicle'!N25/('15-Min All Vehicle'!N25+0.00001)","v":6.3829773653239643},{"$f":"100*'15-Min Heavy Vehicle'!O25/('15-Min All Vehicle'!O25+0.00001)","v":0},{"$f":"100*'15-Min Heavy Vehicle'!P25/('15-Min All Vehicle'!P25+0.00001)","v":3.0769228402367044},{"$f":"100*'15-Min Heavy Vehicle'!Q25/('15-Min All Vehicle'!Q25+0.00001)","v":0},{"$f":"100*'15-Min Heavy Vehicle'!R25/('15-Min All Vehicle'!R25+0.00001)","v":3.9548020364518623},{"$f":"100*'15-Min Heavy Vehicle'!S25/('15-Min All Vehicle'!S25+0.00001)","v":0},{"$f":"100*'15-Min Heavy Vehicle'!T25/('15-Min All Vehicle'!T25+0.00001)","v":14.58333029513952},{"$f":"100*'15-Min Heavy Vehicle'!U25/('15-Min All Vehicle'!U25+0.00001)","v":30.769207100609922},{"$f":"100*'15-Min Heavy Vehicle'!V25/('15-Min All Vehicle'!V25+0.00001)","v":0},{"$f":"100*'15-Min Heavy Vehicle'!W25/('15-Min All Vehicle'!W25+0.00001)","v":18.032783929051813},{"$f":"100*'15-Min Heavy Vehicle'!X25/('15-Min All Vehicle'!X25+0.00001)","v":6.7010307551280741},null,{"$f":"IF(OR('15-Min All Vehicle'!X25=0,'15-Min All Vehicle'!X26=0, '15-Min All Vehicle'!X27=0,'15-Min All Vehicle'!X28=0)=TRUE,\"\",100*SUM('15-Min Heavy Vehicle'!X25:X28)/(SUM('15-Min All Vehicle'!X25:X28)+0.00001))","v":7.0032572719604458}]
[null,null,"09:00:00",{"$f":"100*'15-Min Heavy Vehicle'!D26/('15-Min All Vehicle'!D26+0.00001)","v":0},{"$f":"100*'15-Min Heavy Vehicle'!E26/('15-Min All Vehicle'!E26+0.00001)","v":0},{"$f":"100*'15-Min Heavy Vehicle'!F26/('15-Min All Vehicle'!F26+0.00001)","v":0},{"$f":"100*'15-Min Heavy Vehicle'!G26/('15-Min All Vehicle'!G26+0.00001)","v":0},{"$f":"100*'15-Min Heavy Vehicle'!H26/('15-Min All Vehicle'!H26+0.00001)","v":0},{"$f":"100*'15-Min Heavy Vehicle'!I26/('15-Min All Vehicle'!I26+0.00001)","v":0},{"$f":"100*'15-Min Heavy Vehicle'!J26/('15-Min All Vehicle'!J26+0.00001)","v":0},{"$f":"100*'15-Min Heavy Vehicle'!K26/('15-Min All Vehicle'!K26+0.00001)","v":0},{"$f":"100*'15-Min Heavy Vehicle'!L26/('15-Min All Vehicle'!L26+0.00001)","v":0},{"$f":"100*'15-Min Heavy Vehicle'!M26/('15-Min All Vehicle'!M26+0.00001)","v":0},{"$f":"100*'15-Min Heavy Vehicle'!N26/('15-Min All Vehicle'!N26+0.00001)","v":0},{"$f":"100*'15-Min Heavy Vehicle'!O26/('15-Min All Vehicle'!O26+0.00001)","v":0},{"$f":"100*'15-Min Heavy Vehicle'!P26/('15-Min All Vehicle'!P26+0.00001)","v":0},{"$f":"100*'15-Min Heavy Vehicle'!Q26/('15-Min All Vehicle'!Q26+0.00001)","v":0},{"$f":"100*'15-Min Heavy Vehicle'!R26/('15-Min All Vehicle'!R26+0.00001)","v":0},{"$f":"100*'15-Min Heavy Vehicle'!S26/('15-Min All Vehicle'!S26+0.00001)","v":0},{"$f":"100*'15-Min Heavy Vehicle'!T26/('15-Min All Vehicle'!T26+0.00001)","v":0},{"$f":"100*'15-Min Heavy Vehicle'!U26/('15-Min All Vehicle'!U26+0.00001)","v":0},{"$f":"100*'15-Min Heavy Vehicle'!V26/('15-Min All Vehicle'!V26+0.00001)","v":0},{"$f":"100*'15-Min Heavy Vehicle'!W26/('15-Min All Vehicle'!W26+0.00001)","v":0},{"$f":"100*'15-Min Heavy Vehicle'!X26/('15-Min All Vehicle'!X26+0.00001)","v":0},null,{"$f":"IF(OR('15-Min All Vehicle'!X26=0,'15-Min All Vehicle'!X27=0, '15-Min All Vehicle'!X28=0,'15-Min All Vehicle'!X29=0)=TRUE,\"\",100*SUM('15-Min Heavy Vehicle'!X26:X29)/(SUM('15-Min All Vehicle'!X26:X29)+0.00001))","v":8.0960853372234407}]
[null,null,"09:14:59.942",{"$f":"100*'15-Min Heavy Vehicle'!D27/('15-Min All Vehicle'!D27+0.00001)","v":0},{"$f":"100*'15-Min Heavy Vehicle'!E27/('15-Min All Vehicle'!E27+0.00001)","v":0},{"$f":"100*'15-Min Heavy Vehicle'!F27/('15-Min All Vehicle'!F27+0.00001)","v":0},{"$f":"100*'15-Min Heavy Vehicle'!G27/('15-Min All Vehicle'!G27+0.00001)","v":0},{"$f":"100*'15-Min Heavy Vehicle'!H27/('15-Min All Vehicle'!H27+0.00001)","v":0},{"$f":"100*'15-Min Heavy Vehicle'!I27/('15-Min All Vehicle'!I27+0.00001)","v":42.857112244919826},{"$f":"100*'15-Min Heavy Vehicle'!J27/('15-Min All Vehicle'!J27+0.00001)","v":4.2553186962426919},{"$f":"100*'15-Min Heavy Vehicle'!K27/('15-Min All Vehicle'!K27+0.00001)","v":0},{"$f":"100*'15-Min Heavy Vehicle'!L27/('15-Min All Vehicle'!L27+0.00001)","v":0},{"$f":"100*'15-Min Heavy Vehicle'!M27/('15-Min All Vehicle'!M27+0.00001)","v":9.2592584019205173},{"$f":"100*'15-Min Heavy Vehicle'!N27/('15-Min All Vehicle'!N27+0.00001)","v":13.513509861213549},{"$f":"100*'15-Min Heavy Vehicle'!O27/('15-Min All Vehicle'!O27+0.00001)","v":0},{"$f":"100*'15-Min Heavy Vehicle'!P27/('15-Min All Vehicle'!P27+0.00001)","v":10.76922911242629},{"$f":"100*'15-Min Heavy Vehicle'!Q27/('15-Min All Vehicle'!Q27+0.00001)","v":0},{"$f":"100*'15-Min Heavy Vehicle'!R27/('15-Min All Vehicle'!R27+0.00001)","v":11.764704728950516},{"$f":"100*'15-Min Heavy Vehicle'!S27/('15-Min All Vehicle'!S27+0.00001)","v":0},{"$f":"100*'15-Min Heavy Vehicle'!T27/('15-Min All Vehicle'!T27+0.00001)","v":14.814812071331097},{"$f":"100*'15-Min Heavy Vehicle'!U27/('15-Min All Vehicle'!U27+0.00001)","v":9.9999900000099995},{"$f":"100*'15-Min Heavy Vehicle'!V27/('15-Min All Vehicle'!V27+0.00001)","v":0},{"$f":"100*'15-Min Heavy Vehicle'!W27/('15-Min All Vehicle'!W27+0.00001)","v":14.062497802734718},{"$f":"100*'15-Min Heavy Vehicle'!X27/('15-Min All Vehicle'!X27+0.00001)","v":11.313868200223789},null,{"$f":"IF(OR('15-Min All Vehicle'!X27=0,'15-Min All Vehicle'!X28=0, '15-Min All Vehicle'!X29=0,'15-Min All Vehicle'!X30=0)=TRUE,\"\",100*SUM('15-Min Heavy Vehicle'!X27:X30)/(SUM('15-Min All Vehicle'!X27:X30)+0.00001))","v":10.240427335347931}]
[null,null,"09:29:59.971",{"$f":"100*'15-Min Heavy Vehicle'!D28/('15-Min All Vehicle'!D28+0.00001)","v":0},{"$f":"100*'15-Min Heavy Vehicle'!E28/('15-Min All Vehicle'!E28+0.00001)","v":0},{"$f":"100*'15-Min Heavy Vehicle'!F28/('15-Min All Vehicle'!F28+0.00001)","v":0},{"$f":"100*'15-Min Heavy Vehicle'!G28/('15-Min All Vehicle'!G28+0.00001)","v":0},{"$f":"100*'15-Min Heavy Vehicle'!H28/('15-Min All Vehicle'!H28+0.00001)","v":0},{"$f":"100*'15-Min Heavy Vehicle'!I28/('15-Min All Vehicle'!I28+0.00001)","v":9.9999900000099995},{"$f":"100*'15-Min Heavy Vehicle'!J28/('15-Min All Vehicle'!J28+0.00001)","v":7.6923069526627925},{"$f":"100*'15-Min Heavy Vehicle'!K28/('15-Min All Vehicle'!K28+0.00001)","v":0},{"$f":"100*'15-Min Heavy Vehicle'!L28/('15-Min All Vehicle'!L28+0.00001)","v":0},{"$f":"100*'15-Min Heavy Vehicle'!M28/('15-Min All Vehicle'!M28+0.00001)","v":7.8947361495845483},{"$f":"100*'15-Min Heavy Vehicle'!N28/('15-Min All Vehicle'!N28+0.00001)","v":10.714281887756469},{"$f":"100*'15-Min Heavy Vehicle'!O28/('15-Min All Vehicle'!O28+0.00001)","v":0},{"$f":"100*'15-Min Heavy Vehicle'!P28/('15-Min All Vehicle'!P28+0.00001)","v":8.974357823800279},{"$f":"100*'15-Min Heavy Vehicle'!Q28/('15-Min All Vehicle'!Q28+0.00001)","v":0},{"$f":"100*'15-Min Heavy Vehicle'!R28/('15-Min All Vehicle'!R28+0.00001)","v":9.4339613741545865},{"$f":"100*'15-Min Heavy Vehicle'!S28/('15-Min All Vehicle'!S28+0.00001)","v":0},{"$f":"100*'15-Min Heavy Vehicle'!T28/('15-Min All Vehicle'!T28+0.00001)","v":15.555552098766199},{"$f":"100*'15-Min Heavy Vehicle'!U28/('15-Min All Vehicle'!U28+0.00001)","v":21.428556122459913},{"$f":"100*'15-Min Heavy Vehicle'!V28/('15-Min All Vehicle'!V28+0.00001)","v":0},{"$f":"100*'15-Min Heavy Vehicle'!W28/('15-Min All Vehicle'!W28+0.00001)","v":16.949149669635649},{"$f":"100*'15-Min Heavy Vehicle'!X28/('15-Min All Vehicle'!X28+0.00001)","v":10.394264860420614},null,{"$f":"IF(OR('15-Min All Vehicle'!X28=0,'15-Min All Vehicle'!X29=0, '15-Min All Vehicle'!X30=0,'15-Min All Vehicle'!X31=0)=TRUE,\"\",100*SUM('15-Min Heavy Vehicle'!X28:X31)/(SUM('15-Min All Vehicle'!X28:X31)+0.00001))","v":10.418521723788764}]
[null,null,"09:45:00",{"$f":"100*'15-Min Heavy Vehicle'!D29/('15-Min All Vehicle'!D29+0.00001)","v":0},{"$f":"100*'15-Min Heavy Vehicle'!E29/('15-Min All Vehicle'!E29+0.00001)","v":0},{"$f":"100*'15-Min Heavy Vehicle'!F29/('15-Min All Vehicle'!F29+0.00001)","v":0},{"$f":"100*'15-Min Heavy Vehicle'!G29/('15-Min All Vehicle'!G29+0.00001)","v":0},{"$f":"100*'15-Min Heavy Vehicle'!H29/('15-Min All Vehicle'!H29+0.00001)","v":0},{"$f":"100*'15-Min Heavy Vehicle'!I29/('15-Min All Vehicle'!I29+0.00001)","v":24.999984375009767},{"$f":"100*'15-Min Heavy Vehicle'!J29/('15-Min All Vehicle'!J29+0.00001)","v":8.4210517451524485},{"$f":"100*'15-Min Heavy Vehicle'!K29/('15-Min All Vehicle'!K29+0.00001)","v":0},{"$f":"100*'15-Min Heavy Vehicle'!L29/('15-Min All Vehicle'!L29+0.00001)","v":0},{"$f":"100*'15-Min Heavy Vehicle'!M29/('15-Min All Vehicle'!M29+0.00001)","v":10.810809836863978},{"$f":"100*'15-Min Heavy Vehicle'!N29/('15-Min All Vehicle'!N29+0.00001)","v":15.384611439843219},{"$f":"100*'15-Min Heavy Vehicle'!O29/('15-Min All Vehicle'!O29+0.00001)","v":0},{"$f":"100*'15-Min Heavy Vehicle'!P29/('15-Min All Vehicle'!P29+0.00001)","v":8.4507030351122481},{"$f":"100*'15-Min Heavy Vehicle'!Q29/('15-Min All Vehicle'!Q29+0.00001)","v":0},{"$f":"100*'15-Min Heavy Vehicle'!R29/('15-Min All Vehicle'!R29+0.00001)","v":10.909089917355463},{"$f":"100*'15-Min Heavy Vehicle'!S29/('15-Min All Vehicle'!S29+0.00001)","v":0},{"$f":"100*'15-Min Heavy Vehicle'!T29/('15-Min All Vehicle'!T29+0.00001)","v":10.526313942751939},{"$f":"100*'15-Min Heavy Vehicle'!U29/('15-Min All Vehicle'!U29+0.00001)","v":16.666638888935186},{"$f":"100*'15-Min Heavy Vehicle'!V29/('15-Min All Vehicle'!V29+0.00001)","v":0},{"$f":"100*'15-Min Heavy Vehicle'!W29/('15-Min All Vehicle'!W29+0.00001)","v":11.111109347442961},{"$f":"100*'15-Min Heavy Vehicle'!X29/('15-Min All Vehicle'!X29+0.00001)","v":10.915492573398149},null,{"$f":"IF(OR('15-Min All Vehicle'!X29=0,'15-Min All Vehicle'!X30=0, '15-Min All Vehicle'!X31=0,'15-Min All Vehicle'!X32=0)=TRUE,\"\",100*SUM('15-Min Heavy Vehicle'!X29:X32)/(SUM('15-Min All Vehicle'!X29:X32)+0.00001))","v":10.676156488646296}]
[null,"Midday Peak Period","09:59:59.942",{"$f":"100*'15-Min Heavy Vehicle'!D30/('15-Min All Vehicle'!D30+0.00001)","v":0},{"$f":"100*'15-Min Heavy Vehicle'!E30/('15-Min All Vehicle'!E30+0.00001)","v":0},{"$f":"100*'15-Min Heavy Vehicle'!F30/('15-Min All Vehicle'!F30+0.00001)","v":0},{"$f":"100*'15-Min Heavy Vehicle'!G30/('15-Min All Vehicle'!G30+0.00001)","v":0},{"$f":"100*'15-Min Heavy Vehicle'!H30/('15-Min All Vehicle'!H30+0.00001)","v":0},{"$f":"100*'15-Min Heavy Vehicle'!I30/('15-Min All Vehicle'!I30+0.00001)","v":36.842085872586381},{"$f":"100*'15-Min Heavy Vehicle'!J30/('15-Min All Vehicle'!J30+0.00001)","v":3.8461534763313963},{"$f":"100*'15-Min Heavy Vehicle'!K30/('15-Min All Vehicle'!K30+0.00001)","v":0},{"$f":"100*'15-Min Heavy Vehicle'!L30/('15-Min All Vehicle'!L30+0.00001)","v":0},{"$f":"100*'15-Min Heavy Vehicle'!M30/('15-Min All Vehicle'!M30+0.00001)","v":8.9430887038139257},{"$f":"100*'15-Min Heavy Vehicle'!N30/('15-Min All Vehicle'!N30+0.00001)","v":7.8947347645434824},{"$f":"100*'15-Min Heavy Vehicle'!O30/('15-Min All Vehicle'!O30+0.00001)","v":0},{"$f":"100*'15-Min Heavy Vehicle'!P30/('15-Min All Vehicle'!P30+0.00001)","v":3.2786879871003296},{"$f":"100*'15-Min Heavy Vehicle'!Q30/('15-Min All Vehicle'!Q30+0.00001)","v":0},{"$f":"100*'15-Min Heavy Vehicle'!R30/('15-Min All Vehicle'!R30+0.00001)","v":5.0505045403530762},{"$f":"100*'15-Min Heavy Vehicle'!S30/('15-Min All Vehicle'!S30+0.00001)","v":0},{"$f":"100*'15-Min Heavy Vehicle'!T30/('15-Min All Vehicle'!T30+0.00001)","v":10.909088925620194},{"$f":"100*'15-Min Heavy Vehicle'!U30/('15-Min All Vehicle'!U30+0.00001)","v":22.222197530891634},{"$f":"100*'15-Min Heavy Vehicle'!V30/('15-Min All Vehicle'!V30+0.00001)","v":0},{"$f":"100*'15-Min Heavy Vehicle'!W30/('15-Min All Vehicle'!W30+0.00001)","v":12.499998046875305},{"$f":"100*'15-Min Heavy Vehicle'!X30/('15-Min All Vehicle'!X30+0.00001)","v":8.3916080981955226},null,{"$f":"IF(OR('15-Min All Vehicle'!X30=0,'15-Min All Vehicle'!X31=0, '15-Min All Vehicle'!X32=0,'15-Min All Vehicle'!X33=0)=TRUE,\"\",100*SUM('15-Min Heavy Vehicle'!X30:X33)/(SUM('15-Min All Vehicle'!X30:X33)+0.00001))","v":10.485268539989008}]
[null,null,"10:14:59.971",{"$f":"100*'15-Min Heavy Vehicle'!D31/('15-Min All Vehicle'!D31+0.00001)","v":0},{"$f":"100*'15-Min Heavy Vehicle'!E31/('15-Min All Vehicle'!E31+0.00001)","v":0},{"$f":"100*'15-Min Heavy Vehicle'!F31/('15-Min All Vehicle'!F31+0.00001)","v":0},{"$f":"100*'15-Min Heavy Vehicle'!G31/('15-Min All Vehicle'!G31+0.00001)","v":0},{"$f":"100*'15-Min Heavy Vehicle'!H31/('15-Min All Vehicle'!H31+0.00001)","v":0},{"$f":"100*'15-Min Heavy Vehicle'!I31/('15-Min All Vehicle'!I31+0.00001)","v":26.666648888900742},{"$f":"100*'15-Min Heavy Vehicle'!J31/('15-Min All Vehicle'!J31+0.00001)","v":13.186811737712995},{"$f":"100*'15-Min Heavy Vehicle'!K31/('15-Min All Vehicle'!K31+0.00001)","v":0},{"$f":"100*'15-Min Heavy Vehicle'!L31/('15-Min All Vehicle'!L31+0.00001)","v":0},{"$f":"100*'15-Min Heavy Vehicle'!M31/('15-Min All Vehicle'!M31+0.00001)","v":15.094338198647339},{"$f":"100*'15-Min Heavy Vehicle'!N31/('15-Min All Vehicle'!N31+0.00001)","v":5.1282038132810728},{"$f":"100*'15-Min Heavy Vehicle'!O31/('15-Min All Vehicle'!O31+0.00001)","v":0},{"$f":"100*'15-Min Heavy Vehicle'!P31/('15-Min All Vehicle'!P31+0.00001)","v":12.857141020408426},{"$f":"100*'15-Min Heavy Vehicle'!Q31/('15-Min All Vehicle'!Q31+0.00001)","v":0},{"$f":"100*'15-Min Heavy Vehicle'!R31/('15-Min All Vehicle'!R31+0.00001)","v":10.091742193418147},{"$f":"100*'15-Min Heavy Vehicle'!S31/('15-Min All Vehicle'!S31+0.00001)","v":0},{"$f":"100*'15-Min Heavy Vehicle'!T31/('15-Min All Vehicle'!T31+0.00001)","v":11.111109053498323},{"$f":"100*'15-Min Heavy Vehicle'!U31/('15-Min All Vehicle'!U31+0.00001)","v":0},{"$f":"100*'15-Min Heavy Vehicle'!V31/('15-Min All Vehicle'!V31+0.00001)","v":0},{"$f":"100*'15-Min Heavy Vehicle'!W31/('15-Min All Vehicle'!W31+0.00001)","v":10.169489801781388},{"$f":"100*'15-Min Heavy Vehicle'!X31/('15-Min All Vehicle'!X31+0.00001)","v":12.043795180883389},null,{"$f":"IF(OR('15-Min All Vehicle'!X31=0,'15-Min All Vehicle'!X32=0, '15-Min All Vehicle'!X33=0,'15-Min All Vehicle'!X34=0)=TRUE,\"\",100*SUM('15-Min Heavy Vehicle'!X31:X34)/(SUM('15-Min All Vehicle'!X31:X34)+0.00001))","v":11.440677869146798}]
[null,null,"10:30:00",{"$f":"100*'15-Min Heavy Vehicle'!D32/('15-Min All Vehicle'!D32+0.00001)","v":0},{"$f":"100*'15-Min Heavy Vehicle'!E32/('15-Min All Vehicle'!E32+0.00001)","v":0},{"$f":"100*'15-Min Heavy Vehicle'!F32/('15-Min All Vehicle'!F32+0.00001)","v":0},{"$f":"100*'15-Min Heavy Vehicle'!G32/('15-Min All Vehicle'!G32+0.00001)","v":0},{"$f":"100*'15-Min Heavy Vehicle'!H32/('15-Min All Vehicle'!H32+0.00001)","v":0},{"$f":"100*'15-Min Heavy Vehicle'!I32/('15-Min All Vehicle'!I32+0.00001)","v":26.666648888900742},{"$f":"100*'15-Min Heavy Vehicle'!J32/('15-Min All Vehicle'!J32+0.00001)","v":7.9999992000000795},{"$f":"100*'15-Min Heavy Vehicle'!K32/('15-Min All Vehicle'!K32+0.00001)","v":0},{"$f":"100*'15-Min Heavy Vehicle'!L32/('15-Min All Vehicle'!L32+0.00001)","v":0},{"$f":"100*'15-Min Heavy Vehicle'!M32/('15-Min All Vehicle'!M32+0.00001)","v":10.434781701323329},{"$f":"100*'15-Min Heavy Vehicle'!N32/('15-Min All Vehicle'!N32+0.00001)","v":7.4999981250004684},{"$f":"100*'15-Min Heavy Vehicle'!O32/('15-Min All Vehicle'!O32+0.00001)","v":0},{"$f":"100*'15-Min Heavy Vehicle'!P32/('15-Min All Vehicle'!P32+0.00001)","v":9.2307678106511055},{"$f":"100*'15-Min Heavy Vehicle'!Q32/('15-Min All Vehicle'!Q32+0.00001)","v":0},{"$f":"100*'15-Min Heavy Vehicle'!R32/('15-Min All Vehicle'!R32+0.00001)","v":8.5714277551021176},{"$f":"100*'15-Min Heavy Vehicle'!S32/('15-Min All Vehicle'!S32+0.00001)","v":0},{"$f":"100*'15-Min Heavy Vehicle'!T32/('15-Min All Vehicle'!T32+0.00001)","v":20.37036659808026},{"$f":"100*'15-Min Heavy Vehicle'!U32/('15-Min All Vehicle'!U32+0.00001)","v":0},{"$f":"100*'15-Min Heavy Vehicle'!V32/('15-Min All Vehicle'!V32+0.00001)","v":0},{"$f":"100*'15-Min Heavy Vehicle'!W32/('15-Min All Vehicle'!W32+0.00001)","v":18.333330277778288},{"$f":"100*'15-Min Heavy Vehicle'!X32/('15-Min All Vehicle'!X32+0.00001)","v":11.428571020408178},null,{"$f":"IF(OR('15-Min All Vehicle'!X32=0,'15-Min All Vehicle'!X33=0, '15-Min All Vehicle'!X34=0,'15-Min All Vehicle'!X35=0)=TRUE,\"\",100*SUM('15-Min Heavy Vehicle'!X32:X35)/(SUM('15-Min All Vehicle'!X32:X35)+0.00001))","v":9.7714735242594681}]
[null,null,"10:44:59.942",{"$f":"100*'15-Min Heavy Vehicle'!D33/('15-Min All Vehicle'!D33+0.00001)","v":0},{"$f":"100*'15-Min Heavy Vehicle'!E33/('15-Min All Vehicle'!E33+0.00001)","v":0},{"$f":"100*'15-Min Heavy Vehicle'!F33/('15-Min All Vehicle'!F33+0.00001)","v":0},{"$f":"100*'15-Min Heavy Vehicle'!G33/('15-Min All Vehicle'!G33+0.00001)","v":0},{"$f":"100*'15-Min Heavy Vehicle'!H33/('15-Min All Vehicle'!H33+0.00001)","v":0},{"$f":"100*'15-Min Heavy Vehicle'!I33/('15-Min All Vehicle'!I33+0.00001)","v":18.749988281257323},{"$f":"100*'15-Min Heavy Vehicle'!J33/('15-Min All Vehicle'!J33+0.00001)","v":9.0909082644628842},{"$f":"100*'15-Min Heavy Vehicle'!K33/('15-Min All Vehicle'!K33+0.00001)","v":0},{"$f":"100*'15-Min Heavy Vehicle'!L33/('15-Min All Vehicle'!L33+0.00001)","v":0},{"$f":"100*'15-Min Heavy Vehicle'!M33/('15-Min All Vehicle'!M33+0.00001)","v":10.317459498614324},{"$f":"100*'15-Min Heavy Vehicle'!N33/('15-Min All Vehicle'!N33+0.00001)","v":8.3333315972225837},{"$f":"100*'15-Min Heavy Vehicle'!O33/('15-Min All Vehicle'!O33+0.00001)","v":0},{"$f":"100*'15-Min Heavy Vehicle'!P33/('15-Min All Vehicle'!P33+0.00001)","v":4.225351517556124},{"$f":"100*'15-Min Heavy Vehicle'!Q33/('15-Min All Vehicle'!Q33+0.00001)","v":0},{"$f":"100*'15-Min Heavy Vehicle'!R33/('15-Min All Vehicle'!R33+0.00001)","v":5.8823524468611383},{"$f":"100*'15-Min Heavy Vehicle'!S33/('15-Min All Vehicle'!S33+0.00001)","v":0},{"$f":"100*'15-Min Heavy Vehicle'!T33/('15-Min All Vehicle'!T33+0.00001)","v":14.516126690947306},{"$f":"100*'15-Min Heavy Vehicle'!U33/('15-Min All Vehicle'!U33+0.00001)","v":42.857081632740524},{"$f":"100*'15-Min Heavy Vehicle'!V33/('15-Min All Vehicle'!V33+0.00001)","v":0},{"$f":"100*'15-Min Heavy Vehicle'!W33/('15-Min All Vehicle'!W33+0.00001)","v":17.391301827347561},{"$f":"100*'15-Min Heavy Vehicle'!X33/('15-Min All Vehicle'!X33+0.00001)","v":10.191082477991005},null,{"$f":"IF(OR('15-Min All Vehicle'!X33=0,'15-Min All Vehicle'!X34=0, '15-Min All Vehicle'!X35=0,'15-Min All Vehicle'!X36=0)=TRUE,\"\",100*SUM('15-Min Heavy Vehicle'!X33:X36)/(SUM('15-Min All Vehicle'!X33:X36)+0.00001))","v":8.7509348634933826}]
[null,null,"10:59:59.971",{"$f":"100*'15-Min Heavy Vehicle'!D34/('15-Min All Vehicle'!D34+0.00001)","v":0},{"$f":"100*'15-Min Heavy Vehicle'!E34/('15-Min All Vehicle'!E34+0.00001)","v":0},{"$f":"100*'15-Min Heavy Vehicle'!F34/('15-Min All Vehicle'!F34+0.00001)","v":0},{"$f":"100*'15-Min Heavy Vehicle'!G34/('15-Min All Vehicle'!G34+0.00001)","v":0},{"$f":"100*'15-Min Heavy Vehicle'!H34/('15-Min All Vehicle'!H34+0.00001)","v":0},{"$f":"100*'15-Min Heavy Vehicle'!I34/('15-Min All Vehicle'!I34+0.00001)","v":22.222197530891634},{"$f":"100*'15-Min Heavy Vehicle'!J34/('15-Min All Vehicle'!J34+0.00001)","v":7.1428564139942434},{"$f":"100*'15-Min Heavy Vehicle'!K34/('15-Min All Vehicle'!K34+0.00001)","v":0},{"$f":"100*'15-Min Heavy Vehicle'!L34/('15-Min All Vehicle'!L34+0.00001)","v":0},{"$f":"100*'15-Min Heavy Vehicle'!M34/('15-Min All Vehicle'!M34+0.00001)","v":8.4112141671762455},{"$f":"100*'15-Min Heavy Vehicle'!N34/('15-Min All Vehicle'!N34+0.00001)","v":18.918913805698971},{"$f":"100*'15-Min Heavy Vehicle'!O34/('15-Min All Vehicle'!O34+0.00001)","v":0},{"$f":"100*'15-Min Heavy Vehicle'!P34/('15-Min All Vehicle'!P34+0.00001)","v":10.52631468144056},{"$f":"100*'15-Min Heavy Vehicle'!Q34/('15-Min All Vehicle'!Q34+0.00001)","v":0},{"$f":"100*'15-Min Heavy Vehicle'!R34/('15-Min All Vehicle'!R34+0.00001)","v":12.878786903122204},{"$f":"100*'15-Min Heavy Vehicle'!S34/('15-Min All Vehicle'!S34+0.00001)","v":0},{"$f":"100*'15-Min Heavy Vehicle'!T34/('15-Min All Vehicle'!T34+0.00001)","v":13.114751948401318},{"$f":"100*'15-Min Heavy Vehicle'!U34/('15-Min All Vehicle'!U34+0.00001)","v":33.333305555578704},{"$f":"100*'15-Min Heavy Vehicle'!V34/('15-Min All Vehicle'!V34+0.00001)","v":0},{"$f":"100*'15-Min Heavy Vehicle'!W34/('15-Min All Vehicle'!W34+0.00001)","v":16.438353912554259},{"$f":"100*'15-Min Heavy Vehicle'!X34/('15-Min All Vehicle'!X34+0.00001)","v":12.179486789119014},null,{"$f":"IF(OR('15-Min All Vehicle'!X34=0,'15-Min All Vehicle'!X35=0, '15-Min All Vehicle'!X36=0,'15-Min All Vehicle'!X37=0)=TRUE,\"\",100*SUM('15-Min Heavy Vehicle'!X34:X37)/(SUM('15-Min All Vehicle'!X34:X37)+0.00001))","v":8.2608695053560179}]
[null,null,"11:15:00",{"$f":"100*'15-Min Heavy Vehicle'!D35/('15-Min All Vehicle'!D35+0.00001)","v":0},{"$f":"100*'15-Min Heavy Vehicle'!E35/('15-Min All Vehicle'!E35+0.00001)","v":0},{"$f":"100*'15-Min Heavy Vehicle'!F35/('15-Min All Vehicle'!F35+0.00001)","v":0},{"$f":"100*'15-Min Heavy Vehicle'!G35/('15-Min All Vehicle'!G35+0.00001)","v":0},{"$f":"100*'15-Min Heavy Vehicle'!H35/('15-Min All Vehicle'!H35+0.00001)","v":0},{"$f":"100*'15-Min Heavy Vehicle'!I35/('15-Min All Vehicle'!I35+0.00001)","v":0},{"$f":"100*'15-Min Heavy Vehicle'!J35/('15-Min All Vehicle'!J35+0.00001)","v":7.3394488679404706},{"$f":"100*'15-Min Heavy Vehicle'!K35/('15-Min All Vehicle'!K35+0.00001)","v":0},{"$f":"100*'15-Min Heavy Vehicle'!L35/('15-Min All Vehicle'!L35+0.00001)","v":0},{"$f":"100*'15-Min Heavy Vehicle'!M35/('15-Min All Vehicle'!M35+0.00001)","v":6.7796604424016573},{"$f":"100*'15-Min Heavy Vehicle'!N35/('15-Min All Vehicle'!N35+0.00001)","v":5.5555545267491615},{"$f":"100*'15-Min Heavy Vehicle'!O35/('15-Min All Vehicle'!O35+0.00001)","v":0},{"$f":"100*'15-Min Heavy Vehicle'!P35/('15-Min All Vehicle'!P35+0.00001)","v":4.0404036322824615},{"$f":"100*'15-Min Heavy Vehicle'!Q35/('15-Min All Vehicle'!Q35+0.00001)","v":0},{"$f":"100*'15-Min Heavy Vehicle'!R35/('15-Min All Vehicle'!R35+0.00001)","v":4.4585984421274878},{"$f":"100*'15-Min Heavy Vehicle'!S35/('15-Min All Vehicle'!S35+0.00001)","v":0},{"$f":"100*'15-Min Heavy Vehicle'!T35/('15-Min All Vehicle'!T35+0.00001)","v":7.2289147916970125},{"$f":"100*'15-Min Heavy Vehicle'!U35/('15-Min All Vehicle'!U35+0.00001)","v":19.999960000080002},{"$f":"100*'15-Min Heavy Vehicle'!V35/('15-Min All Vehicle'!V35+0.00001)","v":0},{"$f":"100*'15-Min Heavy Vehicle'!W35/('15-Min All Vehicle'!W35+0.00001)","v":7.9545445506199375},{"$f":"100*'15-Min Heavy Vehicle'!X35/('15-Min All Vehicle'!X35+0.00001)","v":6.0606058936472209},null,{"$f":"IF(OR('15-Min All Vehicle'!X35=0,'15-Min All Vehicle'!X36=0, '15-Min All Vehicle'!X37=0,'15-Min All Vehicle'!X38=0)=TRUE,\"\",100*SUM('15-Min Heavy Vehicle'!X35:X38)/(SUM('15-Min All Vehicle'!X35:X38)+0.00001))","v":7.3571428045918372}]
[null,null,"11:29:59.942",{"$f":"100*'15-Min Heavy Vehicle'!D36/('15-Min All Vehicle'!D36+0.00001)","v":0},{"$f":"100*'15-Min Heavy Vehicle'!E36/('15-Min All Vehicle'!E36+0.00001)","v":0},{"$f":"100*'15-Min Heavy Vehicle'!F36/('15-Min All Vehicle'!F36+0.00001)","v":0},{"$f":"100*'15-Min Heavy Vehicle'!G36/('15-Min All Vehicle'!G36+0.00001)","v":0},{"$f":"100*'15-Min Heavy Vehicle'!H36/('15-Min All Vehicle'!H36+0.00001)","v":0},{"$f":"100*'15-Min Heavy Vehicle'!I36/('15-Min All Vehicle'!I36+0.00001)","v":19.999986666675557},{"$f":"100*'15-Min Heavy Vehicle'!J36/('15-Min All Vehicle'!J36+0.00001)","v":5.4545449586777313},{"$f":"100*'15-Min Heavy Vehicle'!K36/('15-Min All Vehicle'!K36+0.00001)","v":0},{"$f":"100*'15-Min Heavy Vehicle'!L36/('15-Min All Vehicle'!L36+0.00001)","v":0},{"$f":"100*'15-Min Heavy Vehicle'!M36/('15-Min All Vehicle'!M36+0.00001)","v":7.1999994240000458},{"$f":"100*'15-Min Heavy Vehicle'!N36/('15-Min All Vehicle'!N36+0.00001)","v":12.244895460225415},{"$f":"100*'15-Min Heavy Vehicle'!O36/('15-Min All Vehicle'!O36+0.00001)","v":0},{"$f":"100*'15-Min Heavy Vehicle'!P36/('15-Min All Vehicle'!P36+0.00001)","v":3.6144573958485062},{"$f":"100*'15-Min Heavy Vehicle'!Q36/('15-Min All Vehicle'!Q36+0.00001)","v":0},{"$f":"100*'15-Min Heavy Vehicle'!R36/('15-Min All Vehicle'!R36+0.00001)","v":6.8181813016529311},{"$f":"100*'15-Min Heavy Vehicle'!S36/('15-Min All Vehicle'!S36+0.00001)","v":0},{"$f":"100*'15-Min Heavy Vehicle'!T36/('15-Min All Vehicle'!T36+0.00001)","v":5.8139528123310678},{"$f":"100*'15-Min Heavy Vehicle'!U36/('15-Min All Vehicle'!U36+0.00001)","v":39.999920000160003},{"$f":"100*'15-Min Heavy Vehicle'!V36/('15-Min All Vehicle'!V36+0.00001)","v":0},{"$f":"100*'15-Min Heavy Vehicle'!W36/('15-Min All Vehicle'!W36+0.00001)","v":7.692306846999247},{"$f":"100*'15-Min Heavy Vehicle'!X36/('15-Min All Vehicle'!X36+0.00001)","v":7.1839078395428784},null,{"$f":"IF(OR('15-Min All Vehicle'!X36=0,'15-Min All Vehicle'!X37=0, '15-Min All Vehicle'!X38=0,'15-Min All Vehicle'!X39=0)=TRUE,\"\",100*SUM('15-Min Heavy Vehicle'!X36:X39)/(SUM('15-Min All Vehicle'!X36:X39)+0.00001))","v":7.6644974138503441}]
[null,null,"11:44:59.971",{"$f":"100*'15-Min Heavy Vehicle'!D37/('15-Min All Vehicle'!D37+0.00001)","v":0},{"$f":"100*'15-Min Heavy Vehicle'!E37/('15-Min All Vehicle'!E37+0.00001)","v":0},{"$f":"100*'15-Min Heavy Vehicle'!F37/('15-Min All Vehicle'!F37+0.00001)","v":0},{"$f":"100*'15-Min Heavy Vehicle'!G37/('15-Min All Vehicle'!G37+0.00001)","v":0},{"$f":"100*'15-Min Heavy Vehicle'!H37/('15-Min All Vehicle'!H37+0.00001)","v":0},{"$f":"100*'15-Min Heavy Vehicle'!I37/('15-Min All Vehicle'!I37+0.00001)","v":18.181801652907588},{"$f":"100*'15-Min Heavy Vehicle'!J37/('15-Min All Vehicle'!J37+0.00001)","v":5.405404918431989},{"$f":"100*'15-Min Heavy Vehicle'!K37/('15-Min All Vehicle'!K37+0.00001)","v":0},{"$f":"100*'15-Min Heavy Vehicle'!L37/('15-Min All Vehicle'!L37+0.00001)","v":0},{"$f":"100*'15-Min Heavy Vehicle'!M37/('15-Min All Vehicle'!M37+0.00001)","v":6.5573765116904497},{"$f":"100*'15-Min Heavy Vehicle'!N37/('15-Min All Vehicle'!N37+0.00001)","v":12.307690414201474},{"$f":"100*'15-Min Heavy Vehicle'!O37/('15-Min All Vehicle'!O37+0.00001)","v":0},{"$f":"100*'15-Min Heavy Vehicle'!P37/('15-Min All Vehicle'!P37+0.00001)","v":4.7619043083900658},{"$f":"100*'15-Min Heavy Vehicle'!Q37/('15-Min All Vehicle'!Q37+0.00001)","v":0},{"$f":"100*'15-Min Heavy Vehicle'!R37/('15-Min All Vehicle'!R37+0.00001)","v":7.6470583737024489},{"$f":"100*'15-Min Heavy Vehicle'!S37/('15-Min All Vehicle'!S37+0.00001)","v":0},{"$f":"100*'15-Min Heavy Vehicle'!T37/('15-Min All Vehicle'!T37+0.00001)","v":8.6206881688468666},{"$f":"100*'15-Min Heavy Vehicle'!U37/('15-Min All Vehicle'!U37+0.00001)","v":42.857081632740524},{"$f":"100*'15-Min Heavy Vehicle'!V37/('15-Min All Vehicle'!V37+0.00001)","v":0},{"$f":"100*'15-Min Heavy Vehicle'!W37/('15-Min All Vehicle'!W37+0.00001)","v":12.307690414201474},{"$f":"100*'15-Min Heavy Vehicle'!X37/('15-Min All Vehicle'!X37+0.00001)","v":8.1232490721778969},null,{"$f":"IF(OR('15-Min All Vehicle'!X37=0,'15-Min All Vehicle'!X38=0, '15-Min All Vehicle'!X39=0,'15-Min All Vehicle'!X40=0)=TRUE,\"\",100*SUM('15-Min Heavy Vehicle'!X37:X40)/(SUM('15-Min All Vehicle'!X37:X40)+0.00001))","v":7.6040171620945687}]
[null,null,"12:00:00",{"$f":"100*'15-Min Heavy Vehicle'!D38/('15-Min All Vehicle'!D38+0.00001)","v":0},{"$f":"100*'15-Min Heavy Vehicle'!E38/('15-Min All Vehicle'!E38+0.00001)","v":0},{"$f":"100*'15-Min Heavy Vehicle'!F38/('15-Min All Vehicle'!F38+0.00001)","v":0},{"$f":"100*'15-Min Heavy Vehicle'!G38/('15-Min All Vehicle'!G38+0.00001)","v":0},{"$f":"100*'15-Min Heavy Vehicle'!H38/('15-Min All Vehicle'!H38+0.00001)","v":0},{"$f":"100*'15-Min Heavy Vehicle'!I38/('15-Min All Vehicle'!I38+0.00001)","v":27.272702479361385},{"$f":"100*'15-Min Heavy Vehicle'!J38/('15-Min All Vehicle'!J38+0.00001)","v":9.2783495589330354},{"$f":"100*'15-Min Heavy Vehicle'!K38/('15-Min All Vehicle'!K38+0.00001)","v":0},{"$f":"100*'15-Min Heavy Vehicle'!L38/('15-Min All Vehicle'!L38+0.00001)","v":0},{"$f":"100*'15-Min Heavy Vehicle'!M38/('15-Min All Vehicle'!M38+0.00001)","v":11.111110082304622},{"$f":"100*'15-Min Heavy Vehicle'!N38/('15-Min All Vehicle'!N38+0.00001)","v":7.1428554421772752},{"$f":"100*'15-Min Heavy Vehicle'!O38/('15-Min All Vehicle'!O38+0.00001)","v":0},{"$f":"100*'15-Min Heavy Vehicle'!P38/('15-Min All Vehicle'!P38+0.00001)","v":4.0816322365681392},{"$f":"100*'15-Min Heavy Vehicle'!Q38/('15-Min All Vehicle'!Q38+0.00001)","v":0},{"$f":"100*'15-Min Heavy Vehicle'!R38/('15-Min All Vehicle'!R38+0.00001)","v":4.9999996428571682},{"$f":"100*'15-Min Heavy Vehicle'!S38/('15-Min All Vehicle'!S38+0.00001)","v":0},{"$f":"100*'15-Min Heavy Vehicle'!T38/('15-Min All Vehicle'!T38+0.00001)","v":7.1428561224491247},{"$f":"100*'15-Min Heavy Vehicle'!U38/('15-Min All Vehicle'!U38+0.00001)","v":21.428556122459913},{"$f":"100*'15-Min Heavy Vehicle'!V38/('15-Min All Vehicle'!V38+0.00001)","v":0},{"$f":"100*'15-Min Heavy Vehicle'!W38/('15-Min All Vehicle'!W38+0.00001)","v":9.5238083900228112},{"$f":"100*'15-Min Heavy Vehicle'!X38/('15-Min All Vehicle'!X38+0.00001)","v":8.1325298755262097},null,{"$f":"IF(OR('15-Min All Vehicle'!X38=0,'15-Min All Vehicle'!X39=0, '15-Min All Vehicle'!X40=0,'15-Min All Vehicle'!X41=0)=TRUE,\"\",100*SUM('15-Min Heavy Vehicle'!X38:X41)/(SUM('15-Min All Vehicle'!X38:X41)+0.00001))","v":7.1682043494094794}]
[null,null,"12:14:59.942",{"$f":"100*'15-Min Heavy Vehicle'!D39/('15-Min All Vehicle'!D39+0.00001)","v":0},{"$f":"100*'15-Min Heavy Vehicle'!E39/('15-Min All Vehicle'!E39+0.00001)","v":0},{"$f":"100*'15-Min Heavy Vehicle'!F39/('15-Min All Vehicle'!F39+0.00001)","v":0},{"$f":"100*'15-Min Heavy Vehicle'!G39/('15-Min All Vehicle'!G39+0.00001)","v":0},{"$f":"100*'15-Min Heavy Vehicle'!H39/('15-Min All Vehicle'!H39+0.00001)","v":0},{"$f":"100*'15-Min Heavy Vehicle'!I39/('15-Min All Vehicle'!I39+0.00001)","v":27.777762345687588},{"$f":"100*'15-Min Heavy Vehicle'!J39/('15-Min All Vehicle'!J39+0.00001)","v":5.6074761114508309},{"$f":"100*'15-Min Heavy Vehicle'!K39/('15-Min All Vehicle'!K39+0.00001)","v":0},{"$f":"100*'15-Min Heavy Vehicle'!L39/('15-Min All Vehicle'!L39+0.00001)","v":0},{"$f":"100*'15-Min Heavy Vehicle'!M39/('15-Min All Vehicle'!M39+0.00001)","v":8.7999992960000561},{"$f":"100*'15-Min Heavy Vehicle'!N39/('15-Min All Vehicle'!N39+0.00001)","v":9.5238072562363669},{"$f":"100*'15-Min Heavy Vehicle'!O39/('15-Min All Vehicle'!O39+0.00001)","v":0},{"$f":"100*'15-Min Heavy Vehicle'!P39/('15-Min All Vehicle'!P39+0.00001)","v":4.3478256143667808},{"$f":"100*'15-Min Heavy Vehicle'!Q39/('15-Min All Vehicle'!Q39+0.00001)","v":0},{"$f":"100*'15-Min Heavy Vehicle'!R39/('15-Min All Vehicle'!R39+0.00001)","v":5.97014880819785},{"$f":"100*'15-Min Heavy Vehicle'!S39/('15-Min All Vehicle'!S39+0.00001)","v":0},{"$f":"100*'15-Min Heavy Vehicle'!T39/('15-Min All Vehicle'!T39+0.00001)","v":5.1948045201552571},{"$f":"100*'15-Min Heavy Vehicle'!U39/('15-Min All Vehicle'!U39+0.00001)","v":19.999980000019999},{"$f":"100*'15-Min Heavy Vehicle'!V39/('15-Min All Vehicle'!V39+0.00001)","v":0},{"$f":"100*'15-Min Heavy Vehicle'!W39/('15-Min All Vehicle'!W39+0.00001)","v":6.8965509314309275},{"$f":"100*'15-Min Heavy Vehicle'!X39/('15-Min All Vehicle'!X39+0.00001)","v":7.2254333171840086},null,{"$f":"IF(OR('15-Min All Vehicle'!X39=0,'15-Min All Vehicle'!X40=0, '15-Min All Vehicle'!X41=0,'15-Min All Vehicle'!X42=0)=TRUE,\"\",100*SUM('15-Min Heavy Vehicle'!X39:X42)/(SUM('15-Min All Vehicle'!X39:X42)+0.00001))","v":6.62116036436068}]
[null,null,"12:29:59.971",{"$f":"100*'15-Min Heavy Vehicle'!D40/('15-Min All Vehicle'!D40+0.00001)","v":0},{"$f":"100*'15-Min Heavy Vehicle'!E40/('15-Min All Vehicle'!E40+0.00001)","v":0},{"$f":"100*'15-Min Heavy Vehicle'!F40/('15-Min All Vehicle'!F40+0.00001)","v":0},{"$f":"100*'15-Min Heavy Vehicle'!G40/('15-Min All Vehicle'!G40+0.00001)","v":0},{"$f":"100*'15-Min Heavy Vehicle'!H40/('15-Min All Vehicle'!H40+0.00001)","v":0},{"$f":"100*'15-Min Heavy Vehicle'!I40/('15-Min All Vehicle'!I40+0.00001)","v":21.428556122459913},{"$f":"100*'15-Min Heavy Vehicle'!J40/('15-Min All Vehicle'!J40+0.00001)","v":8.181817438016596},{"$f":"100*'15-Min Heavy Vehicle'!K40/('15-Min All Vehicle'!K40+0.00001)","v":0},{"$f":"100*'15-Min Heavy Vehicle'!L40/('15-Min All Vehicle'!L40+0.00001)","v":0},{"$f":"100*'15-Min Heavy Vehicle'!M40/('15-Min All Vehicle'!M40+0.00001)","v":9.6774185744017274},{"$f":"100*'15-Min Heavy Vehicle'!N40/('15-Min All Vehicle'!N40+0.00001)","v":3.9999992000001598},{"$f":"100*'15-Min Heavy Vehicle'!O40/('15-Min All Vehicle'!O40+0.00001)","v":0},{"$f":"100*'15-Min Heavy Vehicle'!P40/('15-Min All Vehicle'!P40+0.00001)","v":1.769911347795456},{"$f":"100*'15-Min Heavy Vehicle'!Q40/('15-Min All Vehicle'!Q40+0.00001)","v":0},{"$f":"100*'15-Min Heavy Vehicle'!R40/('15-Min All Vehicle'!R40+0.00001)","v":2.4539875795099646},{"$f":"100*'15-Min Heavy Vehicle'!S40/('15-Min All Vehicle'!S40+0.00001)","v":0},{"$f":"100*'15-Min Heavy Vehicle'!T40/('15-Min All Vehicle'!T40+0.00001)","v":14.062497802734718},{"$f":"100*'15-Min Heavy Vehicle'!U40/('15-Min All Vehicle'!U40+0.00001)","v":0},{"$f":"100*'15-Min Heavy Vehicle'!V40/('15-Min All Vehicle'!V40+0.00001)","v":0},{"$f":"100*'15-Min Heavy Vehicle'!W40/('15-Min All Vehicle'!W40+0.00001)","v":12.499998263889129},{"$f":"100*'15-Min Heavy Vehicle'!X40/('15-Min All Vehicle'!X40+0.00001)","v":6.9637881068582708},null,{"$f":"IF(OR('15-Min All Vehicle'!X40=0,'15-Min All Vehicle'!X41=0, '15-Min All Vehicle'!X42=0,'15-Min All Vehicle'!X43=0)=TRUE,\"\",100*SUM('15-Min Heavy Vehicle'!X40:X43)/(SUM('15-Min All Vehicle'!X40:X43)+0.00001))","v":6.5743944181702814}]
[null,null,"12:45:00",{"$f":"100*'15-Min Heavy Vehicle'!D41/('15-Min All Vehicle'!D41+0.00001)","v":0},{"$f":"100*'15-Min Heavy Vehicle'!E41/('15-Min All Vehicle'!E41+0.00001)","v":0},{"$f":"100*'15-Min Heavy Vehicle'!F41/('15-Min All Vehicle'!F41+0.00001)","v":0},{"$f":"100*'15-Min Heavy Vehicle'!G41/('15-Min All Vehicle'!G41+0.00001)","v":0},{"$f":"100*'15-Min Heavy Vehicle'!H41/('15-Min All Vehicle'!H41+0.00001)","v":0},{"$f":"100*'15-Min Heavy Vehicle'!I41/('15-Min All Vehicle'!I41+0.00001)","v":16.666652777789352},{"$f":"100*'15-Min Heavy Vehicle'!J41/('15-Min All Vehicle'!J41+0.00001)","v":4.7169806870772932},{"$f":"100*'15-Min Heavy Vehicle'!K41/('15-Min All Vehicle'!K41+0.00001)","v":0},{"$f":"100*'15-Min Heavy Vehicle'!L41/('15-Min All Vehicle'!L41+0.00001)","v":0},{"$f":"100*'15-Min Heavy Vehicle'!M41/('15-Min All Vehicle'!M41+0.00001)","v":5.9322028871014503},{"$f":"100*'15-Min Heavy Vehicle'!N41/('15-Min All Vehicle'!N41+0.00001)","v":12.499998046875305},{"$f":"100*'15-Min Heavy Vehicle'!O41/('15-Min All Vehicle'!O41+0.00001)","v":0},{"$f":"100*'15-Min Heavy Vehicle'!P41/('15-Min All Vehicle'!P41+0.00001)","v":0.9708736921481852},{"$f":"100*'15-Min Heavy Vehicle'!Q41/('15-Min All Vehicle'!Q41+0.00001)","v":0},{"$f":"100*'15-Min Heavy Vehicle'!R41/('15-Min All Vehicle'!R41+0.00001)","v":5.3892212341783692},{"$f":"100*'15-Min Heavy Vehicle'!S41/('15-Min All Vehicle'!S41+0.00001)","v":0},{"$f":"100*'15-Min Heavy Vehicle'!T41/('15-Min All Vehicle'!T41+0.00001)","v":5.8823520761246941},{"$f":"100*'15-Min Heavy Vehicle'!U41/('15-Min All Vehicle'!U41+0.00001)","v":21.05262049862079},{"$f":"100*'15-Min Heavy Vehicle'!V41/('15-Min All Vehicle'!V41+0.00001)","v":0},{"$f":"100*'15-Min Heavy Vehicle'!W41/('15-Min All Vehicle'!W41+0.00001)","v":9.1954012419079021},{"$f":"100*'15-Min Heavy Vehicle'!X41/('15-Min All Vehicle'!X41+0.00001)","v":6.4516127297953574},null,{"$f":"IF(OR('15-Min All Vehicle'!X41=0,'15-Min All Vehicle'!X42=0, '15-Min All Vehicle'!X43=0,'15-Min All Vehicle'!X44=0)=TRUE,\"\",100*SUM('15-Min Heavy Vehicle'!X41:X44)/(SUM('15-Min All Vehicle'!X41:X44)+0.00001))","v":7.4074073575258765}]
[null,null,"12:59:59.942",{"$f":"100*'15-Min Heavy Vehicle'!D42/('15-Min All Vehicle'!D42+0.00001)","v":0},{"$f":"100*'15-Min Heavy Vehicle'!E42/('15-Min All Vehicle'!E42+0.00001)","v":0},{"$f":"100*'15-Min Heavy Vehicle'!F42/('15-Min All Vehicle'!F42+0.00001)","v":0},{"$f":"100*'15-Min Heavy Vehicle'!G42/('15-Min All Vehicle'!G42+0.00001)","v":0},{"$f":"100*'15-Min Heavy Vehicle'!H42/('15-Min All Vehicle'!H42+0.00001)","v":0},{"$f":"100*'15-Min Heavy Vehicle'!I42/('15-Min All Vehicle'!I42+0.00001)","v":0},{"$f":"100*'15-Min Heavy Vehicle'!J42/('15-Min All Vehicle'!J42+0.00001)","v":4.0322577393340531},{"$f":"100*'15-Min Heavy Vehicle'!K42/('15-Min All Vehicle'!K42+0.00001)","v":0},{"$f":"100*'15-Min Heavy Vehicle'!L42/('15-Min All Vehicle'!L42+0.00001)","v":0},{"$f":"100*'15-Min Heavy Vehicle'!M42/('15-Min All Vehicle'!M42+0.00001)","v":3.6496347700996519},{"$f":"100*'15-Min Heavy Vehicle'!N42/('15-Min All Vehicle'!N42+0.00001)","v":7.6923062130180355},{"$f":"100*'15-Min Heavy Vehicle'!O42/('15-Min All Vehicle'!O42+0.00001)","v":0},{"$f":"100*'15-Min Heavy Vehicle'!P42/('15-Min All Vehicle'!P42+0.00001)","v":5.0420163830238334},{"$f":"100*'15-Min Heavy Vehicle'!Q42/('15-Min All Vehicle'!Q42+0.00001)","v":0},{"$f":"100*'15-Min Heavy Vehicle'!R42/('15-Min All Vehicle'!R42+0.00001)","v":5.8479528743887208},{"$f":"100*'15-Min Heavy Vehicle'!S42/('15-Min All Vehicle'!S42+0.00001)","v":0},{"$f":"100*'15-Min Heavy Vehicle'!T42/('15-Min All Vehicle'!T42+0.00001)","v":11.111109567901448},{"$f":"100*'15-Min Heavy Vehicle'!U42/('15-Min All Vehicle'!U42+0.00001)","v":0},{"$f":"100*'15-Min Heavy Vehicle'!V42/('15-Min All Vehicle'!V42+0.00001)","v":0},{"$f":"100*'15-Min Heavy Vehicle'!W42/('15-Min All Vehicle'!W42+0.00001)","v":9.9999987500001559},{"$f":"100*'15-Min Heavy Vehicle'!X42/('15-Min All Vehicle'!X42+0.00001)","v":5.9278348987671423},null,{"$f":"IF(OR('15-Min All Vehicle'!X42=0,'15-Min All Vehicle'!X43=0, '15-Min All Vehicle'!X44=0,'15-Min All Vehicle'!X45=0)=TRUE,\"\",100*SUM('15-Min Heavy Vehicle'!X42:X45)/(SUM('15-Min All Vehicle'!X42:X45)+0.00001))","v":7.5940859704698527}]
[null,null,"13:14:59.971",{"$f":"100*'15-Min Heavy Vehicle'!D43/('15-Min All Vehicle'!D43+0.00001)","v":0},{"$f":"100*'15-Min Heavy Vehicle'!E43/('15-Min All Vehicle'!E43+0.00001)","v":0},{"$f":"100*'15-Min Heavy Vehicle'!F43/('15-Min All Vehicle'!F43+0.00001)","v":0},{"$f":"100*'15-Min Heavy Vehicle'!G43/('15-Min All Vehicle'!G43+0.00001)","v":0},{"$f":"100*'15-Min Heavy Vehicle'!H43/('15-Min All Vehicle'!H43+0.00001)","v":0},{"$f":"100*'15-Min Heavy Vehicle'!I43/('15-Min All Vehicle'!I43+0.00001)","v":8.333326388894676},{"$f":"100*'15-Min Heavy Vehicle'!J43/('15-Min All Vehicle'!J43+0.00001)","v":3.2608692107750858},{"$f":"100*'15-Min Heavy Vehicle'!K43/('15-Min All Vehicle'!K43+0.00001)","v":0},{"$f":"100*'15-Min Heavy Vehicle'!L43/('15-Min All Vehicle'!L43+0.00001)","v":0},{"$f":"100*'15-Min Heavy Vehicle'!M43/('15-Min All Vehicle'!M43+0.00001)","v":3.8461534763313963},{"$f":"100*'15-Min Heavy Vehicle'!N43/('15-Min All Vehicle'!N43+0.00001)","v":11.475407954851155},{"$f":"100*'15-Min Heavy Vehicle'!O43/('15-Min All Vehicle'!O43+0.00001)","v":0},{"$f":"100*'15-Min Heavy Vehicle'!P43/('15-Min All Vehicle'!P43+0.00001)","v":4.999999375000078},{"$f":"100*'15-Min Heavy Vehicle'!Q43/('15-Min All Vehicle'!Q43+0.00001)","v":0},{"$f":"100*'15-Min Heavy Vehicle'!R43/('15-Min All Vehicle'!R43+0.00001)","v":7.8014178864242636},{"$f":"100*'15-Min Heavy Vehicle'!S43/('15-Min All Vehicle'!S43+0.00001)","v":0},{"$f":"100*'15-Min Heavy Vehicle'!T43/('15-Min All Vehicle'!T43+0.00001)","v":8.2191769562771295},{"$f":"100*'15-Min Heavy Vehicle'!U43/('15-Min All Vehicle'!U43+0.00001)","v":24.999968750039063},{"$f":"100*'15-Min Heavy Vehicle'!V43/('15-Min All Vehicle'!V43+0.00001)","v":0},{"$f":"100*'15-Min Heavy Vehicle'!W43/('15-Min All Vehicle'!W43+0.00001)","v":9.876541990550372},{"$f":"100*'15-Min Heavy Vehicle'!X43/('15-Min All Vehicle'!X43+0.00001)","v":7.055214507508758},null,{"$f":"IF(OR('15-Min All Vehicle'!X43=0,'15-Min All Vehicle'!X44=0, '15-Min All Vehicle'!X45=0,'15-Min All Vehicle'!X46=0)=TRUE,\"\",100*SUM('15-Min Heavy Vehicle'!X43:X46)/(SUM('15-Min All Vehicle'!X43:X46)+0.00001))","v":8.2376771894822607}]
[null,null,"13:30:00",{"$f":"100*'15-Min Heavy Vehicle'!D44/('15-Min All Vehicle'!D44+0.00001)","v":0},{"$f":"100*'15-Min Heavy Vehicle'!E44/('15-Min All Vehicle'!E44+0.00001)","v":0},{"$f":"100*'15-Min Heavy Vehicle'!F44/('15-Min All Vehicle'!F44+0.00001)","v":0},{"$f":"100*'15-Min Heavy Vehicle'!G44/('15-Min All Vehicle'!G44+0.00001)","v":0},{"$f":"100*'15-Min Heavy Vehicle'!H44/('15-Min All Vehicle'!H44+0.00001)","v":0},{"$f":"100*'15-Min Heavy Vehicle'!I44/('15-Min All Vehicle'!I44+0.00001)","v":24.999979166684028},{"$f":"100*'15-Min Heavy Vehicle'!J44/('15-Min All Vehicle'!J44+0.00001)","v":6.0869559924386092},{"$f":"100*'15-Min Heavy Vehicle'!K44/('15-Min All Vehicle'!K44+0.00001)","v":0},{"$f":"100*'15-Min Heavy Vehicle'!L44/('15-Min All Vehicle'!L44+0.00001)","v":0},{"$f":"100*'15-Min Heavy Vehicle'!M44/('15-Min All Vehicle'!M44+0.00001)","v":7.8740151280303046},{"$f":"100*'15-Min Heavy Vehicle'!N44/('15-Min All Vehicle'!N44+0.00001)","v":11.764703575548317},{"$f":"100*'15-Min Heavy Vehicle'!O44/('15-Min All Vehicle'!O44+0.00001)","v":0},{"$f":"100*'15-Min Heavy Vehicle'!P44/('15-Min All Vehicle'!P44+0.00001)","v":8.8495567389772791},{"$f":"100*'15-Min Heavy Vehicle'!Q44/('15-Min All Vehicle'!Q44+0.00001)","v":0},{"$f":"100*'15-Min Heavy Vehicle'!R44/('15-Min All Vehicle'!R44+0.00001)","v":9.7560969660916488},{"$f":"100*'15-Min Heavy Vehicle'!S44/('15-Min All Vehicle'!S44+0.00001)","v":0},{"$f":"100*'15-Min Heavy Vehicle'!T44/('15-Min All Vehicle'!T44+0.00001)","v":9.9999990000001002},{"$f":"100*'15-Min Heavy Vehicle'!U44/('15-Min All Vehicle'!U44+0.00001)","v":49.999937500078126},{"$f":"100*'15-Min Heavy Vehicle'!V44/('15-Min All Vehicle'!V44+0.00001)","v":0},{"$f":"100*'15-Min Heavy Vehicle'!W44/('15-Min All Vehicle'!W44+0.00001)","v":12.962961762688725},{"$f":"100*'15-Min Heavy Vehicle'!X44/('15-Min All Vehicle'!X44+0.00001)","v":10.025062405386908},null,{"$f":"IF(OR('15-Min All Vehicle'!X44=0,'15-Min All Vehicle'!X45=0, '15-Min All Vehicle'!X46=0,'15-Min All Vehicle'!X47=0)=TRUE,\"\",100*SUM('15-Min Heavy Vehicle'!X44:X47)/(SUM('15-Min All Vehicle'!X44:X47)+0.00001))","v":7.8580481124331554}]
[null,null,"13:44:59.942",{"$f":"100*'15-Min Heavy Vehicle'!D45/('15-Min All Vehicle'!D45+0.00001)","v":0},{"$f":"100*'15-Min Heavy Vehicle'!E45/('15-Min All Vehicle'!E45+0.00001)","v":0},{"$f":"100*'15-Min Heavy Vehicle'!F45/('15-Min All Vehicle'!F45+0.00001)","v":0},{"$f":"100*'15-Min Heavy Vehicle'!G45/('15-Min All Vehicle'!G45+0.00001)","v":0},{"$f":"100*'15-Min Heavy Vehicle'!H45/('15-Min All Vehicle'!H45+0.00001)","v":0},{"$f":"100*'15-Min Heavy Vehicle'!I45/('15-Min All Vehicle'!I45+0.00001)","v":23.076905325457442},{"$f":"100*'15-Min Heavy Vehicle'!J45/('15-Min All Vehicle'!J45+0.00001)","v":12.727271570248039},{"$f":"100*'15-Min Heavy Vehicle'!K45/('15-Min All Vehicle'!K45+0.00001)","v":0},{"$f":"100*'15-Min Heavy Vehicle'!L45/('15-Min All Vehicle'!L45+0.00001)","v":0},{"$f":"100*'15-Min Heavy Vehicle'!M45/('15-Min All Vehicle'!M45+0.00001)","v":13.821137087712431},{"$f":"100*'15-Min Heavy Vehicle'!N45/('15-Min All Vehicle'!N45+0.00001)","v":3.8461531065090178},{"$f":"100*'15-Min Heavy Vehicle'!O45/('15-Min All Vehicle'!O45+0.00001)","v":0},{"$f":"100*'15-Min Heavy Vehicle'!P45/('15-Min All Vehicle'!P45+0.00001)","v":1.9047617233560263},{"$f":"100*'15-Min Heavy Vehicle'!Q45/('15-Min All Vehicle'!Q45+0.00001)","v":0},{"$f":"100*'15-Min Heavy Vehicle'!R45/('15-Min All Vehicle'!R45+0.00001)","v":2.5477705383585643},{"$f":"100*'15-Min Heavy Vehicle'!S45/('15-Min All Vehicle'!S45+0.00001)","v":0},{"$f":"100*'15-Min Heavy Vehicle'!T45/('15-Min All Vehicle'!T45+0.00001)","v":4.8192765277980083},{"$f":"100*'15-Min Heavy Vehicle'!U45/('15-Min All Vehicle'!U45+0.00001)","v":16.666652777789352},{"$f":"100*'15-Min Heavy Vehicle'!V45/('15-Min All Vehicle'!V45+0.00001)","v":0},{"$f":"100*'15-Min Heavy Vehicle'!W45/('15-Min All Vehicle'!W45+0.00001)","v":6.3157888088643359},{"$f":"100*'15-Min Heavy Vehicle'!X45/('15-Min All Vehicle'!X45+0.00001)","v":7.1999998080000056},null,{"$f":"IF(OR('15-Min All Vehicle'!X45=0,'15-Min All Vehicle'!X46=0, '15-Min All Vehicle'!X47=0,'15-Min All Vehicle'!X48=0)=TRUE,\"\",100*SUM('15-Min Heavy Vehicle'!X45:X48)/(SUM('15-Min All Vehicle'!X45:X48)+0.00001))","v":6.8153655091984788}]
[null,"PM Peak Period","13:59:59.971",{"$f":"100*'15-Min Heavy Vehicle'!D46/('15-Min All Vehicle'!D46+0.00001)","v":0},{"$f":"100*'15-Min Heavy Vehicle'!E46/('15-Min All Vehicle'!E46+0.00001)","v":0},{"$f":"100*'15-Min Heavy Vehicle'!F46/('15-Min All Vehicle'!F46+0.00001)","v":0},{"$f":"100*'15-Min Heavy Vehicle'!G46/('15-Min All Vehicle'!G46+0.00001)","v":0},{"$f":"100*'15-Min Heavy Vehicle'!H46/('15-Min All Vehicle'!H46+0.00001)","v":0},{"$f":"100*'15-Min Heavy Vehicle'!I46/('15-Min All Vehicle'!I46+0.00001)","v":22.222209876550068},{"$f":"100*'15-Min Heavy Vehicle'!J46/('15-Min All Vehicle'!J46+0.00001)","v":7.8740151280303046},{"$f":"100*'15-Min Heavy Vehicle'!K46/('15-Min All Vehicle'!K46+0.00001)","v":0},{"$f":"100*'15-Min Heavy Vehicle'!L46/('15-Min All Vehicle'!L46+0.00001)","v":0},{"$f":"100*'15-Min Heavy Vehicle'!M46/('15-Min All Vehicle'!M46+0.00001)","v":9.655171747919189},{"$f":"100*'15-Min Heavy Vehicle'!N46/('15-Min All Vehicle'!N46+0.00001)","v":3.9215678585161058},{"$f":"100*'15-Min Heavy Vehicle'!O46/('15-Min All Vehicle'!O46+0.00001)","v":0},{"$f":"100*'15-Min Heavy Vehicle'!P46/('15-Min All Vehicle'!P46+0.00001)","v":8.6021496126720844},{"$f":"100*'15-Min Heavy Vehicle'!Q46/('15-Min All Vehicle'!Q46+0.00001)","v":0},{"$f":"100*'15-Min Heavy Vehicle'!R46/('15-Min All Vehicle'!R46+0.00001)","v":6.896551248513707},{"$f":"100*'15-Min Heavy Vehicle'!S46/('15-Min All Vehicle'!S46+0.00001)","v":0},{"$f":"100*'15-Min Heavy Vehicle'!T46/('15-Min All Vehicle'!T46+0.00001)","v":7.7922067802328856},{"$f":"100*'15-Min Heavy Vehicle'!U46/('15-Min All Vehicle'!U46+0.00001)","v":14.285704081639942},{"$f":"100*'15-Min Heavy Vehicle'!V46/('15-Min All Vehicle'!V46+0.00001)","v":0},{"$f":"100*'15-Min Heavy Vehicle'!W46/('15-Min All Vehicle'!W46+0.00001)","v":8.7912078251419974},{"$f":"100*'15-Min Heavy Vehicle'!X46/('15-Min All Vehicle'!X46+0.00001)","v":8.3989499107887173},null,{"$f":"IF(OR('15-Min All Vehicle'!X46=0,'15-Min All Vehicle'!X47=0, '15-Min All Vehicle'!X48=0,'15-Min All Vehicle'!X49=0)=TRUE,\"\",100*SUM('15-Min Heavy Vehicle'!X46:X49)/(SUM('15-Min All Vehicle'!X46:X49)+0.00001))","v":6.701939995873369}]
[null,null,"14:15:00",{"$f":"100*'15-Min Heavy Vehicle'!D47/('15-Min All Vehicle'!D47+0.00001)","v":0},{"$f":"100*'15-Min Heavy Vehicle'!E47/('15-Min All Vehicle'!E47+0.00001)","v":0},{"$f":"100*'15-Min Heavy Vehicle'!F47/('15-Min All Vehicle'!F47+0.00001)","v":0},{"$f":"100*'15-Min Heavy Vehicle'!G47/('15-Min All Vehicle'!G47+0.00001)","v":0},{"$f":"100*'15-Min Heavy Vehicle'!H47/('15-Min All Vehicle'!H47+0.00001)","v":0},{"$f":"100*'15-Min Heavy Vehicle'!I47/('15-Min All Vehicle'!I47+0.00001)","v":24.999979166684028},{"$f":"100*'15-Min Heavy Vehicle'!J47/('15-Min All Vehicle'!J47+0.00001)","v":3.5087716220375769},{"$f":"100*'15-Min Heavy Vehicle'!K47/('15-Min All Vehicle'!K47+0.00001)","v":0},{"$f":"100*'15-Min Heavy Vehicle'!L47/('15-Min All Vehicle'!L47+0.00001)","v":0},{"$f":"100*'15-Min Heavy Vehicle'!M47/('15-Min All Vehicle'!M47+0.00001)","v":5.5555551146384827},{"$f":"100*'15-Min Heavy Vehicle'!N47/('15-Min All Vehicle'!N47+0.00001)","v":2.5316452491588293},{"$f":"100*'15-Min Heavy Vehicle'!O47/('15-Min All Vehicle'!O47+0.00001)","v":0},{"$f":"100*'15-Min Heavy Vehicle'!P47/('15-Min All Vehicle'!P47+0.00001)","v":5.8823524468611383},{"$f":"100*'15-Min Heavy Vehicle'!Q47/('15-Min All Vehicle'!Q47+0.00001)","v":0},{"$f":"100*'15-Min Heavy Vehicle'!R47/('15-Min All Vehicle'!R47+0.00001)","v":4.545454315886146},{"$f":"100*'15-Min Heavy Vehicle'!S47/('15-Min All Vehicle'!S47+0.00001)","v":0},{"$f":"100*'15-Min Heavy Vehicle'!T47/('15-Min All Vehicle'!T47+0.00001)","v":8.8888879012346766},{"$f":"100*'15-Min Heavy Vehicle'!U47/('15-Min All Vehicle'!U47+0.00001)","v":11.111098765445817},{"$f":"100*'15-Min Heavy Vehicle'!V47/('15-Min All Vehicle'!V47+0.00001)","v":0},{"$f":"100*'15-Min Heavy Vehicle'!W47/('15-Min All Vehicle'!W47+0.00001)","v":9.0909081726355385},{"$f":"100*'15-Min Heavy Vehicle'!X47/('15-Min All Vehicle'!X47+0.00001)","v":5.9101653449133495},null,{"$f":"IF(OR('15-Min All Vehicle'!X47=0,'15-Min All Vehicle'!X48=0, '15-Min All Vehicle'!X49=0,'15-Min All Vehicle'!X50=0)=TRUE,\"\",100*SUM('15-Min Heavy Vehicle'!X47:X50)/(SUM('15-Min All Vehicle'!X47:X50)+0.00001))","v":6.3464836686879149}]
[null,null,"14:29:59.942",{"$f":"100*'15-Min Heavy Vehicle'!D48/('15-Min All Vehicle'!D48+0.00001)","v":0},{"$f":"100*'15-Min Heavy Vehicle'!E48/('15-Min All Vehicle'!E48+0.00001)","v":0},{"$f":"100*'15-Min Heavy Vehicle'!F48/('15-Min All Vehicle'!F48+0.00001)","v":0},{"$f":"100*'15-Min Heavy Vehicle'!G48/('15-Min All Vehicle'!G48+0.00001)","v":0},{"$f":"100*'15-Min Heavy Vehicle'!H48/('15-Min All Vehicle'!H48+0.00001)","v":0},{"$f":"100*'15-Min Heavy Vehicle'!I48/('15-Min All Vehicle'!I48+0.00001)","v":7.1428520408199709},{"$f":"100*'15-Min Heavy Vehicle'!J48/('15-Min All Vehicle'!J48+0.00001)","v":1.9607841214917527},{"$f":"100*'15-Min Heavy Vehicle'!K48/('15-Min All Vehicle'!K48+0.00001)","v":0},{"$f":"100*'15-Min Heavy Vehicle'!L48/('15-Min All Vehicle'!L48+0.00001)","v":0},{"$f":"100*'15-Min Heavy Vehicle'!M48/('15-Min All Vehicle'!M48+0.00001)","v":2.5862066736028728},{"$f":"100*'15-Min Heavy Vehicle'!N48/('15-Min All Vehicle'!N48+0.00001)","v":6.6666657777778964},{"$f":"100*'15-Min Heavy Vehicle'!O48/('15-Min All Vehicle'!O48+0.00001)","v":0},{"$f":"100*'15-Min Heavy Vehicle'!P48/('15-Min All Vehicle'!P48+0.00001)","v":6.5934058688564976},{"$f":"100*'15-Min Heavy Vehicle'!Q48/('15-Min All Vehicle'!Q48+0.00001)","v":0},{"$f":"100*'15-Min Heavy Vehicle'!R48/('15-Min All Vehicle'!R48+0.00001)","v":6.6265056249092993},{"$f":"100*'15-Min Heavy Vehicle'!S48/('15-Min All Vehicle'!S48+0.00001)","v":0},{"$f":"100*'15-Min Heavy Vehicle'!T48/('15-Min All Vehicle'!T48+0.00001)","v":6.6666661111111569},{"$f":"100*'15-Min Heavy Vehicle'!U48/('15-Min All Vehicle'!U48+0.00001)","v":12.121208448118651},{"$f":"100*'15-Min Heavy Vehicle'!V48/('15-Min All Vehicle'!V48+0.00001)","v":0},{"$f":"100*'15-Min Heavy Vehicle'!W48/('15-Min All Vehicle'!W48+0.00001)","v":7.8431367422786442},{"$f":"100*'15-Min Heavy Vehicle'!X48/('15-Min All Vehicle'!X48+0.00001)","v":5.9770113568503138},null,{"$f":"IF(OR('15-Min All Vehicle'!X48=0,'15-Min All Vehicle'!X49=0, '15-Min All Vehicle'!X50=0,'15-Min All Vehicle'!X51=0)=TRUE,\"\",100*SUM('15-Min Heavy Vehicle'!X48:X51)/(SUM('15-Min All Vehicle'!X48:X51)+0.00001))","v":5.8561070504400057}]
[null,null,"14:44:59.971",{"$f":"100*'15-Min Heavy Vehicle'!D49/('15-Min All Vehicle'!D49+0.00001)","v":0},{"$f":"100*'15-Min Heavy Vehicle'!E49/('15-Min All Vehicle'!E49+0.00001)","v":0},{"$f":"100*'15-Min Heavy Vehicle'!F49/('15-Min All Vehicle'!F49+0.00001)","v":0},{"$f":"100*'15-Min Heavy Vehicle'!G49/('15-Min All Vehicle'!G49+0.00001)","v":0},{"$f":"100*'15-Min Heavy Vehicle'!H49/('15-Min All Vehicle'!H49+0.00001)","v":0},{"$f":"100*'15-Min Heavy Vehicle'!I49/('15-Min All Vehicle'!I49+0.00001)","v":26.086945179589051},{"$f":"100*'15-Min Heavy Vehicle'!J49/('15-Min All Vehicle'!J49+0.00001)","v":5.4545449586777313},{"$f":"100*'15-Min Heavy Vehicle'!K49/('15-Min All Vehicle'!K49+0.00001)","v":0},{"$f":"100*'15-Min Heavy Vehicle'!L49/('15-Min All Vehicle'!L49+0.00001)","v":0},{"$f":"100*'15-Min Heavy Vehicle'!M49/('15-Min All Vehicle'!M49+0.00001)","v":9.0225557125897957},{"$f":"100*'15-Min Heavy Vehicle'!N49/('15-Min All Vehicle'!N49+0.00001)","v":6.249999218750097},{"$f":"100*'15-Min Heavy Vehicle'!O49/('15-Min All Vehicle'!O49+0.00001)","v":0},{"$f":"100*'15-Min Heavy Vehicle'!P49/('15-Min All Vehicle'!P49+0.00001)","v":2.7522933254776767},{"$f":"100*'15-Min Heavy Vehicle'!Q49/('15-Min All Vehicle'!Q49+0.00001)","v":0},{"$f":"100*'15-Min Heavy Vehicle'!R49/('15-Min All Vehicle'!R49+0.00001)","v":4.2328040088463483},{"$f":"100*'15-Min Heavy Vehicle'!S49/('15-Min All Vehicle'!S49+0.00001)","v":0},{"$f":"100*'15-Min Heavy Vehicle'!T49/('15-Min All Vehicle'!T49+0.00001)","v":9.1743110849255878},{"$f":"100*'15-Min Heavy Vehicle'!U49/('15-Min All Vehicle'!U49+0.00001)","v":3.2258054110305125},{"$f":"100*'15-Min Heavy Vehicle'!V49/('15-Min All Vehicle'!V49+0.00001)","v":0},{"$f":"100*'15-Min Heavy Vehicle'!W49/('15-Min All Vehicle'!W49+0.00001)","v":7.8571422959184076},{"$f":"100*'15-Min Heavy Vehicle'!X49/('15-Min All Vehicle'!X49+0.00001)","v":6.7099565647195556},null,{"$f":"IF(OR('15-Min All Vehicle'!X49=0,'15-Min All Vehicle'!X50=0, '15-Min All Vehicle'!X51=0,'15-Min All Vehicle'!X52=0)=TRUE,\"\",100*SUM('15-Min Heavy Vehicle'!X49:X52)/(SUM('15-Min All Vehicle'!X49:X52)+0.00001))","v":5.3609341541351689}]
[null,null,"15:00:00",{"$f":"100*'15-Min Heavy Vehicle'!D50/('15-Min All Vehicle'!D50+0.00001)","v":0},{"$f":"100*'15-Min Heavy Vehicle'!E50/('15-Min All Vehicle'!E50+0.00001)","v":0},{"$f":"100*'15-Min Heavy Vehicle'!F50/('15-Min All Vehicle'!F50+0.00001)","v":0},{"$f":"100*'15-Min Heavy Vehicle'!G50/('15-Min All Vehicle'!G50+0.00001)","v":0},{"$f":"100*'15-Min Heavy Vehicle'!H50/('15-Min All Vehicle'!H50+0.00001)","v":0},{"$f":"100*'15-Min Heavy Vehicle'!I50/('15-Min All Vehicle'!I50+0.00001)","v":24.999984375009767},{"$f":"100*'15-Min Heavy Vehicle'!J50/('15-Min All Vehicle'!J50+0.00001)","v":4.2735039082475295},{"$f":"100*'15-Min Heavy Vehicle'!K50/('15-Min All Vehicle'!K50+0.00001)","v":0},{"$f":"100*'15-Min Heavy Vehicle'!L50/('15-Min All Vehicle'!L50+0.00001)","v":0},{"$f":"100*'15-Min Heavy Vehicle'!M50/('15-Min All Vehicle'!M50+0.00001)","v":6.7669167844423468},{"$f":"100*'15-Min Heavy Vehicle'!N50/('15-Min All Vehicle'!N50+0.00001)","v":4.3478254568368904},{"$f":"100*'15-Min Heavy Vehicle'!O50/('15-Min All Vehicle'!O50+0.00001)","v":0},{"$f":"100*'15-Min Heavy Vehicle'!P50/('15-Min All Vehicle'!P50+0.00001)","v":9.0909083395943515},{"$f":"100*'15-Min Heavy Vehicle'!Q50/('15-Min All Vehicle'!Q50+0.00001)","v":0},{"$f":"100*'15-Min Heavy Vehicle'!R50/('15-Min All Vehicle'!R50+0.00001)","v":7.3684206648199648},{"$f":"100*'15-Min Heavy Vehicle'!S50/('15-Min All Vehicle'!S50+0.00001)","v":0},{"$f":"100*'15-Min Heavy Vehicle'!T50/('15-Min All Vehicle'!T50+0.00001)","v":6.5934058688564976},{"$f":"100*'15-Min Heavy Vehicle'!U50/('15-Min All Vehicle'!U50+0.00001)","v":0},{"$f":"100*'15-Min Heavy Vehicle'!V50/('15-Min All Vehicle'!V50+0.00001)","v":0},{"$f":"100*'15-Min Heavy Vehicle'!W50/('15-Min All Vehicle'!W50+0.00001)","v":5.6603768244927526},{"$f":"100*'15-Min Heavy Vehicle'!X50/('15-Min All Vehicle'!X50+0.00001)","v":6.7599066023331797},null,{"$f":"IF(OR('15-Min All Vehicle'!X50=0,'15-Min All Vehicle'!X51=0, '15-Min All Vehicle'!X52=0,'15-Min All Vehicle'!X53=0)=TRUE,\"\",100*SUM('15-Min Heavy Vehicle'!X50:X53)/(SUM('15-Min All Vehicle'!X50:X53)+0.00001))","v":4.566929109884887}]
[null,null,"15:14:59.942",{"$f":"100*'15-Min Heavy Vehicle'!D51/('15-Min All Vehicle'!D51+0.00001)","v":0},{"$f":"100*'15-Min Heavy Vehicle'!E51/('15-Min All Vehicle'!E51+0.00001)","v":0},{"$f":"100*'15-Min Heavy Vehicle'!F51/('15-Min All Vehicle'!F51+0.00001)","v":0},{"$f":"100*'15-Min Heavy Vehicle'!G51/('15-Min All Vehicle'!G51+0.00001)","v":0},{"$f":"100*'15-Min Heavy Vehicle'!H51/('15-Min All Vehicle'!H51+0.00001)","v":0},{"$f":"100*'15-Min Heavy Vehicle'!I51/('15-Min All Vehicle'!I51+0.00001)","v":31.578930747931185},{"$f":"100*'15-Min Heavy Vehicle'!J51/('15-Min All Vehicle'!J51+0.00001)","v":3.2467530359251273},{"$f":"100*'15-Min Heavy Vehicle'!K51/('15-Min All Vehicle'!K51+0.00001)","v":0},{"$f":"100*'15-Min Heavy Vehicle'!L51/('15-Min All Vehicle'!L51+0.00001)","v":0},{"$f":"100*'15-Min Heavy Vehicle'!M51/('15-Min All Vehicle'!M51+0.00001)","v":6.3583811353536914},{"$f":"100*'15-Min Heavy Vehicle'!N51/('15-Min All Vehicle'!N51+0.00001)","v":2.6315786011080786},{"$f":"100*'15-Min Heavy Vehicle'!O51/('15-Min All Vehicle'!O51+0.00001)","v":0},{"$f":"100*'15-Min Heavy Vehicle'!P51/('15-Min All Vehicle'!P51+0.00001)","v":3.1914890221820187},{"$f":"100*'15-Min Heavy Vehicle'!Q51/('15-Min All Vehicle'!Q51+0.00001)","v":0},{"$f":"100*'15-Min Heavy Vehicle'!R51/('15-Min All Vehicle'!R51+0.00001)","v":2.9411762975778646},{"$f":"100*'15-Min Heavy Vehicle'!S51/('15-Min All Vehicle'!S51+0.00001)","v":0},{"$f":"100*'15-Min Heavy Vehicle'!T51/('15-Min All Vehicle'!T51+0.00001)","v":2.6785711894132866},{"$f":"100*'15-Min Heavy Vehicle'!U51/('15-Min All Vehicle'!U51+0.00001)","v":0},{"$f":"100*'15-Min Heavy Vehicle'!V51/('15-Min All Vehicle'!V51+0.00001)","v":0},{"$f":"100*'15-Min Heavy Vehicle'!W51/('15-Min All Vehicle'!W51+0.00001)","v":2.4193546436004318},{"$f":"100*'15-Min Heavy Vehicle'!X51/('15-Min All Vehicle'!X51+0.00001)","v":4.0685223968196489},null,{"$f":"IF(OR('15-Min All Vehicle'!X51=0,'15-Min All Vehicle'!X52=0, '15-Min All Vehicle'!X53=0,'15-Min All Vehicle'!X54=0)=TRUE,\"\",100*SUM('15-Min Heavy Vehicle'!X51:X54)/(SUM('15-Min All Vehicle'!X51:X54)+0.00001))","v":3.893442603004905}]
[null,null,"15:29:59.971",{"$f":"100*'15-Min Heavy Vehicle'!D52/('15-Min All Vehicle'!D52+0.00001)","v":0},{"$f":"100*'15-Min Heavy Vehicle'!E52/('15-Min All Vehicle'!E52+0.00001)","v":0},{"$f":"100*'15-Min Heavy Vehicle'!F52/('15-Min All Vehicle'!F52+0.00001)","v":0},{"$f":"100*'15-Min Heavy Vehicle'!G52/('15-Min All Vehicle'!G52+0.00001)","v":0},{"$f":"100*'15-Min Heavy Vehicle'!H52/('15-Min All Vehicle'!H52+0.00001)","v":0},{"$f":"100*'15-Min Heavy Vehicle'!I52/('15-Min All Vehicle'!I52+0.00001)","v":18.749988281257323},{"$f":"100*'15-Min Heavy Vehicle'!J52/('15-Min All Vehicle'!J52+0.00001)","v":3.2258062434963715},{"$f":"100*'15-Min Heavy Vehicle'!K52/('15-Min All Vehicle'!K52+0.00001)","v":0},{"$f":"100*'15-Min Heavy Vehicle'!L52/('15-Min All Vehicle'!L52+0.00001)","v":0},{"$f":"100*'15-Min Heavy Vehicle'!M52/('15-Min All Vehicle'!M52+0.00001)","v":4.6783622995109768},{"$f":"100*'15-Min Heavy Vehicle'!N52/('15-Min All Vehicle'!N52+0.00001)","v":2.1978019562854993},{"$f":"100*'15-Min Heavy Vehicle'!O52/('15-Min All Vehicle'!O52+0.00001)","v":0},{"$f":"100*'15-Min Heavy Vehicle'!P52/('15-Min All Vehicle'!P52+0.00001)","v":6.5573765116904497},{"$f":"100*'15-Min Heavy Vehicle'!Q52/('15-Min All Vehicle'!Q52+0.00001)","v":0},{"$f":"100*'15-Min Heavy Vehicle'!R52/('15-Min All Vehicle'!R52+0.00001)","v":4.6948354603363631},{"$f":"100*'15-Min Heavy Vehicle'!S52/('15-Min All Vehicle'!S52+0.00001)","v":0},{"$f":"100*'15-Min Heavy Vehicle'!T52/('15-Min All Vehicle'!T52+0.00001)","v":3.1999997440000203},{"$f":"100*'15-Min Heavy Vehicle'!U52/('15-Min All Vehicle'!U52+0.00001)","v":0},{"$f":"100*'15-Min Heavy Vehicle'!V52/('15-Min All Vehicle'!V52+0.00001)","v":0},{"$f":"100*'15-Min Heavy Vehicle'!W52/('15-Min All Vehicle'!W52+0.00001)","v":2.8169012100773796},{"$f":"100*'15-Min Heavy Vehicle'!X52/('15-Min All Vehicle'!X52+0.00001)","v":4.1825094261880338},null,{"$f":"IF(OR('15-Min All Vehicle'!X52=0,'15-Min All Vehicle'!X53=0, '15-Min All Vehicle'!X54=0,'15-Min All Vehicle'!X55=0)=TRUE,\"\",100*SUM('15-Min Heavy Vehicle'!X52:X55)/(SUM('15-Min All Vehicle'!X52:X55)+0.00001))","v":3.5200793082792301}]
[null,null,"15:45:00",{"$f":"100*'15-Min Heavy Vehicle'!D53/('15-Min All Vehicle'!D53+0.00001)","v":0},{"$f":"100*'15-Min Heavy Vehicle'!E53/('15-Min All Vehicle'!E53+0.00001)","v":0},{"$f":"100*'15-Min Heavy Vehicle'!F53/('15-Min All Vehicle'!F53+0.00001)","v":0},{"$f":"100*'15-Min Heavy Vehicle'!G53/('15-Min All Vehicle'!G53+0.00001)","v":0},{"$f":"100*'15-Min Heavy Vehicle'!H53/('15-Min All Vehicle'!H53+0.00001)","v":0},{"$f":"100*'15-Min Heavy Vehicle'!I53/('15-Min All Vehicle'!I53+0.00001)","v":11.999995200001921},{"$f":"100*'15-Min Heavy Vehicle'!J53/('15-Min All Vehicle'!J53+0.00001)","v":3.6697244339702353},{"$f":"100*'15-Min Heavy Vehicle'!K53/('15-Min All Vehicle'!K53+0.00001)","v":0},{"$f":"100*'15-Min Heavy Vehicle'!L53/('15-Min All Vehicle'!L53+0.00001)","v":0},{"$f":"100*'15-Min Heavy Vehicle'!M53/('15-Min All Vehicle'!M53+0.00001)","v":5.223880207173119},{"$f":"100*'15-Min Heavy Vehicle'!N53/('15-Min All Vehicle'!N53+0.00001)","v":2.7777775205761555},{"$f":"100*'15-Min Heavy Vehicle'!O53/('15-Min All Vehicle'!O53+0.00001)","v":0},{"$f":"100*'15-Min Heavy Vehicle'!P53/('15-Min All Vehicle'!P53+0.00001)","v":2.8571425850340395},{"$f":"100*'15-Min Heavy Vehicle'!Q53/('15-Min All Vehicle'!Q53+0.00001)","v":0},{"$f":"100*'15-Min Heavy Vehicle'!R53/('15-Min All Vehicle'!R53+0.00001)","v":2.816901276201818},{"$f":"100*'15-Min Heavy Vehicle'!S53/('15-Min All Vehicle'!S53+0.00001)","v":0},{"$f":"100*'15-Min Heavy Vehicle'!T53/('15-Min All Vehicle'!T53+0.00001)","v":2.4999997916666841},{"$f":"100*'15-Min Heavy Vehicle'!U53/('15-Min All Vehicle'!U53+0.00001)","v":6.2499960937524417},{"$f":"100*'15-Min Heavy Vehicle'!V53/('15-Min All Vehicle'!V53+0.00001)","v":0},{"$f":"100*'15-Min Heavy Vehicle'!W53/('15-Min All Vehicle'!W53+0.00001)","v":2.9411762543252755},{"$f":"100*'15-Min Heavy Vehicle'!X53/('15-Min All Vehicle'!X53+0.00001)","v":3.5196686641890547},null,{"$f":"IF(OR('15-Min All Vehicle'!X53=0,'15-Min All Vehicle'!X54=0, '15-Min All Vehicle'!X55=0,'15-Min All Vehicle'!X56=0)=TRUE,\"\",100*SUM('15-Min Heavy Vehicle'!X53:X56)/(SUM('15-Min All Vehicle'!X53:X56)+0.00001))","v":3.2682926669839381}]
[null,null,"15:59:59.942",{"$f":"100*'15-Min Heavy Vehicle'!D54/('15-Min All Vehicle'!D54+0.00001)","v":0},{"$f":"100*'15-Min Heavy Vehicle'!E54/('15-Min All Vehicle'!E54+0.00001)","v":0},{"$f":"100*'15-Min Heavy Vehicle'!F54/('15-Min All Vehicle'!F54+0.00001)","v":0},{"$f":"100*'15-Min Heavy Vehicle'!G54/('15-Min All Vehicle'!G54+0.00001)","v":0},{"$f":"100*'15-Min Heavy Vehicle'!H54/('15-Min All Vehicle'!H54+0.00001)","v":0},{"$f":"100*'15-Min Heavy Vehicle'!I54/('15-Min All Vehicle'!I54+0.00001)","v":14.285704081639942},{"$f":"100*'15-Min Heavy Vehicle'!J54/('15-Min All Vehicle'!J54+0.00001)","v":3.0075185708632652},{"$f":"100*'15-Min Heavy Vehicle'!K54/('15-Min All Vehicle'!K54+0.00001)","v":0},{"$f":"100*'15-Min Heavy Vehicle'!L54/('15-Min All Vehicle'!L54+0.00001)","v":0},{"$f":"100*'15-Min Heavy Vehicle'!M54/('15-Min All Vehicle'!M54+0.00001)","v":4.0816323753991579},{"$f":"100*'15-Min Heavy Vehicle'!N54/('15-Min All Vehicle'!N54+0.00001)","v":6.1728387440939816},{"$f":"100*'15-Min Heavy Vehicle'!O54/('15-Min All Vehicle'!O54+0.00001)","v":0},{"$f":"100*'15-Min Heavy Vehicle'!P54/('15-Min All Vehicle'!P54+0.00001)","v":3.333332962963004},{"$f":"100*'15-Min Heavy Vehicle'!Q54/('15-Min All Vehicle'!Q54+0.00001)","v":0},{"$f":"100*'15-Min Heavy Vehicle'!R54/('15-Min All Vehicle'!R54+0.00001)","v":4.6783622995109768},{"$f":"100*'15-Min Heavy Vehicle'!S54/('15-Min All Vehicle'!S54+0.00001)","v":0},{"$f":"100*'15-Min Heavy Vehicle'!T54/('15-Min All Vehicle'!T54+0.00001)","v":0.84745755530020717},{"$f":"100*'15-Min Heavy Vehicle'!U54/('15-Min All Vehicle'!U54+0.00001)","v":7.4999981250004684},{"$f":"100*'15-Min Heavy Vehicle'!V54/('15-Min All Vehicle'!V54+0.00001)","v":0},{"$f":"100*'15-Min Heavy Vehicle'!W54/('15-Min All Vehicle'!W54+0.00001)","v":2.5316454093895309},{"$f":"100*'15-Min Heavy Vehicle'!X54/('15-Min All Vehicle'!X54+0.00001)","v":3.7815125255984765},null,{"$f":"IF(OR('15-Min All Vehicle'!X54=0,'15-Min All Vehicle'!X55=0, '15-Min All Vehicle'!X56=0,'15-Min All Vehicle'!X57=0)=TRUE,\"\",100*SUM('15-Min Heavy Vehicle'!X54:X57)/(SUM('15-Min All Vehicle'!X54:X57)+0.00001))","v":2.5782688647409349}]
[null,null,"16:14:59.971",{"$f":"100*'15-Min Heavy Vehicle'!D55/('15-Min All Vehicle'!D55+0.00001)","v":0},{"$f":"100*'15-Min Heavy Vehicle'!E55/('15-Min All Vehicle'!E55+0.00001)","v":0},{"$f":"100*'15-Min Heavy Vehicle'!F55/('15-Min All Vehicle'!F55+0.00001)","v":0},{"$f":"100*'15-Min Heavy Vehicle'!G55/('15-Min All Vehicle'!G55+0.00001)","v":0},{"$f":"100*'15-Min Heavy Vehicle'!H55/('15-Min All Vehicle'!H55+0.00001)","v":0},{"$f":"100*'15-Min Heavy Vehicle'!I55/('15-Min All Vehicle'!I55+0.00001)","v":0},{"$f":"100*'15-Min Heavy Vehicle'!J55/('15-Min All Vehicle'!J55+0.00001)","v":0.79999993600000507},{"$f":"100*'15-Min Heavy Vehicle'!K55/('15-Min All Vehicle'!K55+0.00001)","v":0},{"$f":"100*'15-Min Heavy Vehicle'!L55/('15-Min All Vehicle'!L55+0.00001)","v":0},{"$f":"100*'15-Min Heavy Vehicle'!M55/('15-Min All Vehicle'!M55+0.00001)","v":0.74074068587106023},{"$f":"100*'15-Min Heavy Vehicle'!N55/('15-Min All Vehicle'!N55+0.00001)","v":3.8759686917853728},{"$f":"100*'15-Min Heavy Vehicle'!O55/('15-Min All Vehicle'!O55+0.00001)","v":0},{"$f":"100*'15-Min Heavy Vehicle'!P55/('15-Min All Vehicle'!P55+0.00001)","v":6.0869559924386092},{"$f":"100*'15-Min Heavy Vehicle'!Q55/('15-Min All Vehicle'!Q55+0.00001)","v":0},{"$f":"100*'15-Min Heavy Vehicle'!R55/('15-Min All Vehicle'!R55+0.00001)","v":4.9180325853265332},{"$f":"100*'15-Min Heavy Vehicle'!S55/('15-Min All Vehicle'!S55+0.00001)","v":0},{"$f":"100*'15-Min Heavy Vehicle'!T55/('15-Min All Vehicle'!T55+0.00001)","v":0.79365073066264036},{"$f":"100*'15-Min Heavy Vehicle'!U55/('15-Min All Vehicle'!U55+0.00001)","v":0},{"$f":"100*'15-Min Heavy Vehicle'!V55/('15-Min All Vehicle'!V55+0.00001)","v":0},{"$f":"100*'15-Min Heavy Vehicle'!W55/('15-Min All Vehicle'!W55+0.00001)","v":0.65359472852322031},{"$f":"100*'15-Min Heavy Vehicle'!X55/('15-Min All Vehicle'!X55+0.00001)","v":2.6315788979026524},null,{"$f":"IF(OR('15-Min All Vehicle'!X55=0,'15-Min All Vehicle'!X56=0, '15-Min All Vehicle'!X57=0,'15-Min All Vehicle'!X58=0)=TRUE,\"\",100*SUM('15-Min Heavy Vehicle'!X55:X58)/(SUM('15-Min All Vehicle'!X55:X58)+0.00001))","v":1.9047618961235286}]
[null,null,"16:30:00",{"$f":"100*'15-Min Heavy Vehicle'!D56/('15-Min All Vehicle'!D56+0.00001)","v":0},{"$f":"100*'15-Min Heavy Vehicle'!E56/('15-Min All Vehicle'!E56+0.00001)","v":0},{"$f":"100*'15-Min Heavy Vehicle'!F56/('15-Min All Vehicle'!F56+0.00001)","v":0},{"$f":"100*'15-Min Heavy Vehicle'!G56/('15-Min All Vehicle'!G56+0.00001)","v":0},{"$f":"100*'15-Min Heavy Vehicle'!H56/('15-Min All Vehicle'!H56+0.00001)","v":0},{"$f":"100*'15-Min Heavy Vehicle'!I56/('15-Min All Vehicle'!I56+0.00001)","v":12.499992187504883},{"$f":"100*'15-Min Heavy Vehicle'!J56/('15-Min All Vehicle'!J56+0.00001)","v":1.3888887924382782},{"$f":"100*'15-Min Heavy Vehicle'!K56/('15-Min All Vehicle'!K56+0.00001)","v":0},{"$f":"100*'15-Min Heavy Vehicle'!L56/('15-Min All Vehicle'!L56+0.00001)","v":0},{"$f":"100*'15-Min Heavy Vehicle'!M56/('15-Min All Vehicle'!M56+0.00001)","v":2.4999998437500097},{"$f":"100*'15-Min Heavy Vehicle'!N56/('15-Min All Vehicle'!N56+0.00001)","v":3.124999755859394},{"$f":"100*'15-Min Heavy Vehicle'!O56/('15-Min All Vehicle'!O56+0.00001)","v":0},{"$f":"100*'15-Min Heavy Vehicle'!P56/('15-Min All Vehicle'!P56+0.00001)","v":3.2608692107750858},{"$f":"100*'15-Min Heavy Vehicle'!Q56/('15-Min All Vehicle'!Q56+0.00001)","v":0},{"$f":"100*'15-Min Heavy Vehicle'!R56/('15-Min All Vehicle'!R56+0.00001)","v":3.181818037190089},{"$f":"100*'15-Min Heavy Vehicle'!S56/('15-Min All Vehicle'!S56+0.00001)","v":0},{"$f":"100*'15-Min Heavy Vehicle'!T56/('15-Min All Vehicle'!T56+0.00001)","v":3.3783781501095844},{"$f":"100*'15-Min Heavy Vehicle'!U56/('15-Min All Vehicle'!U56+0.00001)","v":6.4516108220610251},{"$f":"100*'15-Min Heavy Vehicle'!V56/('15-Min All Vehicle'!V56+0.00001)","v":0},{"$f":"100*'15-Min Heavy Vehicle'!W56/('15-Min All Vehicle'!W56+0.00001)","v":3.9106143066695918},{"$f":"100*'15-Min Heavy Vehicle'!X56/('15-Min All Vehicle'!X56+0.00001)","v":3.2200357205718118},null,{"$f":"IF(OR('15-Min All Vehicle'!X56=0,'15-Min All Vehicle'!X57=0, '15-Min All Vehicle'!X58=0,'15-Min All Vehicle'!X59=0)=TRUE,\"\",100*SUM('15-Min Heavy Vehicle'!X56:X59)/(SUM('15-Min All Vehicle'!X56:X59)+0.00001))","v":1.8295403755933046}]
[null,null,"16:44:59.942",{"$f":"100*'15-Min Heavy Vehicle'!D57/('15-Min All Vehicle'!D57+0.00001)","v":0},{"$f":"100*'15-Min Heavy Vehicle'!E57/('15-Min All Vehicle'!E57+0.00001)","v":0},{"$f":"100*'15-Min Heavy Vehicle'!F57/('15-Min All Vehicle'!F57+0.00001)","v":0},{"$f":"100*'15-Min Heavy Vehicle'!G57/('15-Min All Vehicle'!G57+0.00001)","v":0},{"$f":"100*'15-Min Heavy Vehicle'!H57/('15-Min All Vehicle'!H57+0.00001)","v":0},{"$f":"100*'15-Min Heavy Vehicle'!I57/('15-Min All Vehicle'!I57+0.00001)","v":0},{"$f":"100*'15-Min Heavy Vehicle'!J57/('15-Min All Vehicle'!J57+0.00001)","v":0},{"$f":"100*'15-Min Heavy Vehicle'!K57/('15-Min All Vehicle'!K57+0.00001)","v":0},{"$f":"100*'15-Min Heavy Vehicle'!L57/('15-Min All Vehicle'!L57+0.00001)","v":0},{"$f":"100*'15-Min Heavy Vehicle'!M57/('15-Min All Vehicle'!M57+0.00001)","v":0},{"$f":"100*'15-Min Heavy Vehicle'!N57/('15-Min All Vehicle'!N57+0.00001)","v":3.2894734677977979},{"$f":"100*'15-Min Heavy Vehicle'!O57/('15-Min All Vehicle'!O57+0.00001)","v":0},{"$f":"100*'15-Min Heavy Vehicle'!P57/('15-Min All Vehicle'!P57+0.00001)","v":0},{"$f":"100*'15-Min Heavy Vehicle'!Q57/('15-Min All Vehicle'!Q57+0.00001)","v":0},{"$f":"100*'15-Min Heavy Vehicle'!R57/('15-Min All Vehicle'!R57+0.00001)","v":1.8587359903815619},{"$f":"100*'15-Min Heavy Vehicle'!S57/('15-Min All Vehicle'!S57+0.00001)","v":0},{"$f":"100*'15-Min Heavy Vehicle'!T57/('15-Min All Vehicle'!T57+0.00001)","v":0.78124993896484851},{"$f":"100*'15-Min Heavy Vehicle'!U57/('15-Min All Vehicle'!U57+0.00001)","v":0},{"$f":"100*'15-Min Heavy Vehicle'!V57/('15-Min All Vehicle'!V57+0.00001)","v":0},{"$f":"100*'15-Min Heavy Vehicle'!W57/('15-Min All Vehicle'!W57+0.00001)","v":0.61349689487749115},{"$f":"100*'15-Min Heavy Vehicle'!X57/('15-Min All Vehicle'!X57+0.00001)","v":0.99173552079776006},null,{"$f":"IF(OR('15-Min All Vehicle'!X57=0,'15-Min All Vehicle'!X58=0, '15-Min All Vehicle'!X59=0,'15-Min All Vehicle'!X60=0)=TRUE,\"\",100*SUM('15-Min Heavy Vehicle'!X57:X60)/(SUM('15-Min All Vehicle'!X57:X60)+0.00001))","v":1.32200188233238}]
[null,null,"16:59:59.971",{"$f":"100*'15-Min Heavy Vehicle'!D58/('15-Min All Vehicle'!D58+0.00001)","v":0},{"$f":"100*'15-Min Heavy Vehicle'!E58/('15-Min All Vehicle'!E58+0.00001)","v":0},{"$f":"100*'15-Min Heavy Vehicle'!F58/('15-Min All Vehicle'!F58+0.00001)","v":0},{"$f":"100*'15-Min Heavy Vehicle'!G58/('15-Min All Vehicle'!G58+0.00001)","v":0},{"$f":"100*'15-Min Heavy Vehicle'!H58/('15-Min All Vehicle'!H58+0.00001)","v":0},{"$f":"100*'15-Min Heavy Vehicle'!I58/('15-Min All Vehicle'!I58+0.00001)","v":0},{"$f":"100*'15-Min Heavy Vehicle'!J58/('15-Min All Vehicle'!J58+0.00001)","v":0.71942440867450297},{"$f":"100*'15-Min Heavy Vehicle'!K58/('15-Min All Vehicle'!K58+0.00001)","v":0},{"$f":"100*'15-Min Heavy Vehicle'!L58/('15-Min All Vehicle'!L58+0.00001)","v":0},{"$f":"100*'15-Min Heavy Vehicle'!M58/('15-Min All Vehicle'!M58+0.00001)","v":0.62893077805466802},{"$f":"100*'15-Min Heavy Vehicle'!N58/('15-Min All Vehicle'!N58+0.00001)","v":0.96153836908284906},{"$f":"100*'15-Min Heavy Vehicle'!O58/('15-Min All Vehicle'!O58+0.00001)","v":0},{"$f":"100*'15-Min Heavy Vehicle'!P58/('15-Min All Vehicle'!P58+0.00001)","v":2.083333116319467},{"$f":"100*'15-Min Heavy Vehicle'!Q58/('15-Min All Vehicle'!Q58+0.00001)","v":0},{"$f":"100*'15-Min Heavy Vehicle'!R58/('15-Min All Vehicle'!R58+0.00001)","v":1.4999999250000038},{"$f":"100*'15-Min Heavy Vehicle'!S58/('15-Min All Vehicle'!S58+0.00001)","v":0},{"$f":"100*'15-Min Heavy Vehicle'!T58/('15-Min All Vehicle'!T58+0.00001)","v":0},{"$f":"100*'15-Min Heavy Vehicle'!U58/('15-Min All Vehicle'!U58+0.00001)","v":0},{"$f":"100*'15-Min Heavy Vehicle'!V58/('15-Min All Vehicle'!V58+0.00001)","v":0},{"$f":"100*'15-Min Heavy Vehicle'!W58/('15-Min All Vehicle'!W58+0.00001)","v":0},{"$f":"100*'15-Min Heavy Vehicle'!X58/('15-Min All Vehicle'!X58+0.00001)","v":0.78585460145668762},null,{"$f":"IF(OR('15-Min All Vehicle'!X58=0,'15-Min All Vehicle'!X59=0, '15-Min All Vehicle'!X60=0,'15-Min All Vehicle'!X61=0)=TRUE,\"\",100*SUM('15-Min Heavy Vehicle'!X58:X61)/(SUM('15-Min All Vehicle'!X58:X61)+0.00001))","v":1.4040561549451058}]
[null,null,"17:15:00",{"$f":"100*'15-Min Heavy Vehicle'!D59/('15-Min All Vehicle'!D59+0.00001)","v":0},{"$f":"100*'15-Min Heavy Vehicle'!E59/('15-Min All Vehicle'!E59+0.00001)","v":0},{"$f":"100*'15-Min Heavy Vehicle'!F59/('15-Min All Vehicle'!F59+0.00001)","v":0},{"$f":"100*'15-Min Heavy Vehicle'!G59/('15-Min All Vehicle'!G59+0.00001)","v":0},{"$f":"100*'15-Min Heavy Vehicle'!H59/('15-Min All Vehicle'!H59+0.00001)","v":0},{"$f":"100*'15-Min Heavy Vehicle'!I59/('15-Min All Vehicle'!I59+0.00001)","v":8.333326388894676},{"$f":"100*'15-Min Heavy Vehicle'!J59/('15-Min All Vehicle'!J59+0.00001)","v":3.3333331111111257},{"$f":"100*'15-Min Heavy Vehicle'!K59/('15-Min All Vehicle'!K59+0.00001)","v":0},{"$f":"100*'15-Min Heavy Vehicle'!L59/('15-Min All Vehicle'!L59+0.00001)","v":0},{"$f":"100*'15-Min Heavy Vehicle'!M59/('15-Min All Vehicle'!M59+0.00001)","v":3.7037034750800322},{"$f":"100*'15-Min Heavy Vehicle'!N59/('15-Min All Vehicle'!N59+0.00001)","v":3.6496347700996519},{"$f":"100*'15-Min Heavy Vehicle'!O59/('15-Min All Vehicle'!O59+0.00001)","v":0},{"$f":"100*'15-Min Heavy Vehicle'!P59/('15-Min All Vehicle'!P59+0.00001)","v":0.92592584019205182},{"$f":"100*'15-Min Heavy Vehicle'!Q59/('15-Min All Vehicle'!Q59+0.00001)","v":0},{"$f":"100*'15-Min Heavy Vehicle'!R59/('15-Min All Vehicle'!R59+0.00001)","v":2.4489794918783883},{"$f":"100*'15-Min Heavy Vehicle'!S59/('15-Min All Vehicle'!S59+0.00001)","v":0},{"$f":"100*'15-Min Heavy Vehicle'!T59/('15-Min All Vehicle'!T59+0.00001)","v":0},{"$f":"100*'15-Min Heavy Vehicle'!U59/('15-Min All Vehicle'!U59+0.00001)","v":5.2631551246551975},{"$f":"100*'15-Min Heavy Vehicle'!V59/('15-Min All Vehicle'!V59+0.00001)","v":0},{"$f":"100*'15-Min Heavy Vehicle'!W59/('15-Min All Vehicle'!W59+0.00001)","v":0.62111797384360412},{"$f":"100*'15-Min Heavy Vehicle'!X59/('15-Min All Vehicle'!X59+0.00001)","v":2.2887323540716138},null,{"$f":"IF(OR('15-Min All Vehicle'!X59=0,'15-Min All Vehicle'!X60=0, '15-Min All Vehicle'!X61=0,'15-Min All Vehicle'!X62=0)=TRUE,\"\",100*SUM('15-Min Heavy Vehicle'!X59:X62)/(SUM('15-Min All Vehicle'!X59:X62)+0.00001))","v":""}]
[null,null,"17:29:59.942",{"$f":"100*'15-Min Heavy Vehicle'!D60/('15-Min All Vehicle'!D60+0.00001)","v":0},{"$f":"100*'15-Min Heavy Vehicle'!E60/('15-Min All Vehicle'!E60+0.00001)","v":0},{"$f":"100*'15-Min Heavy Vehicle'!F60/('15-Min All Vehicle'!F60+0.00001)","v":0},{"$f":"100*'15-Min Heavy Vehicle'!G60/('15-Min All Vehicle'!G60+0.00001)","v":0},{"$f":"100*'15-Min Heavy Vehicle'!H60/('15-Min All Vehicle'!H60+0.00001)","v":0},{"$f":"100*'15-Min Heavy Vehicle'!I60/('15-Min All Vehicle'!I60+0.00001)","v":4.9999975000012498},{"$f":"100*'15-Min Heavy Vehicle'!J60/('15-Min All Vehicle'!J60+0.00001)","v":2.4590161918839186},{"$f":"100*'15-Min Heavy Vehicle'!K60/('15-Min All Vehicle'!K60+0.00001)","v":0},{"$f":"100*'15-Min Heavy Vehicle'!L60/('15-Min All Vehicle'!L60+0.00001)","v":0},{"$f":"100*'15-Min Heavy Vehicle'!M60/('15-Min All Vehicle'!M60+0.00001)","v":2.8169012100773796},{"$f":"100*'15-Min Heavy Vehicle'!N60/('15-Min All Vehicle'!N60+0.00001)","v":0},{"$f":"100*'15-Min Heavy Vehicle'!O60/('15-Min All Vehicle'!O60+0.00001)","v":0},{"$f":"100*'15-Min Heavy Vehicle'!P60/('15-Min All Vehicle'!P60+0.00001)","v":0},{"$f":"100*'15-Min Heavy Vehicle'!Q60/('15-Min All Vehicle'!Q60+0.00001)","v":0},{"$f":"100*'15-Min Heavy Vehicle'!R60/('15-Min All Vehicle'!R60+0.00001)","v":0},{"$f":"100*'15-Min Heavy Vehicle'!S60/('15-Min All Vehicle'!S60+0.00001)","v":0},{"$f":"100*'15-Min Heavy Vehicle'!T60/('15-Min All Vehicle'!T60+0.00001)","v":0},{"$f":"100*'15-Min Heavy Vehicle'!U60/('15-Min All Vehicle'!U60+0.00001)","v":5.2631551246551975},{"$f":"100*'15-Min Heavy Vehicle'!V60/('15-Min All Vehicle'!V60+0.00001)","v":0},{"$f":"100*'15-Min Heavy Vehicle'!W60/('15-Min All Vehicle'!W60+0.00001)","v":0.884955673897728},{"$f":"100*'15-Min Heavy Vehicle'!X60/('15-Min All Vehicle'!X60+0.00001)","v":1.146788964523189},null,{"$f":"IF(OR('15-Min All Vehicle'!X60=0,'15-Min All Vehicle'!X61=0, '15-Min All Vehicle'!X62=0,'15-Min All Vehicle'!X63=0)=TRUE,\"\",100*SUM('15-Min Heavy Vehicle'!X60:X63)/(SUM('15-Min All Vehicle'!X60:X63)+0.00001))","v":""}]
[null,null,"17:44:59.971",{"$f":"100*'15-Min Heavy Vehicle'!D61/('15-Min All Vehicle'!D61+0.00001)","v":0},{"$f":"100*'15-Min Heavy Vehicle'!E61/('15-Min All Vehicle'!E61+0.00001)","v":0},{"$f":"100*'15-Min Heavy Vehicle'!F61/('15-Min All Vehicle'!F61+0.00001)","v":0},{"$f":"100*'15-Min Heavy Vehicle'!G61/('15-Min All Vehicle'!G61+0.00001)","v":0},{"$f":"100*'15-Min Heavy Vehicle'!H61/('15-Min All Vehicle'!H61+0.00001)","v":0},{"$f":"100*'15-Min Heavy Vehicle'!I61/('15-Min All Vehicle'!I61+0.00001)","v":24.999937500156253},{"$f":"100*'15-Min Heavy Vehicle'!J61/('15-Min All Vehicle'!J61+0.00001)","v":0.86956514177694422},{"$f":"100*'15-Min Heavy Vehicle'!K61/('15-Min All Vehicle'!K61+0.00001)","v":0},{"$f":"100*'15-Min Heavy Vehicle'!L61/('15-Min All Vehicle'!L61+0.00001)","v":0},{"$f":"100*'15-Min Heavy Vehicle'!M61/('15-Min All Vehicle'!M61+0.00001)","v":1.680672127674611},{"$f":"100*'15-Min Heavy Vehicle'!N61/('15-Min All Vehicle'!N61+0.00001)","v":2.083333116319467},{"$f":"100*'15-Min Heavy Vehicle'!O61/('15-Min All Vehicle'!O61+0.00001)","v":0},{"$f":"100*'15-Min Heavy Vehicle'!P61/('15-Min All Vehicle'!P61+0.00001)","v":0},{"$f":"100*'15-Min Heavy Vehicle'!Q61/('15-Min All Vehicle'!Q61+0.00001)","v":0},{"$f":"100*'15-Min Heavy Vehicle'!R61/('15-Min All Vehicle'!R61+0.00001)","v":1.0810810226442691},{"$f":"100*'15-Min Heavy Vehicle'!S61/('15-Min All Vehicle'!S61+0.00001)","v":0},{"$f":"100*'15-Min Heavy Vehicle'!T61/('15-Min All Vehicle'!T61+0.00001)","v":1.0309277287703371},{"$f":"100*'15-Min Heavy Vehicle'!U61/('15-Min All Vehicle'!U61+0.00001)","v":0},{"$f":"100*'15-Min Heavy Vehicle'!V61/('15-Min All Vehicle'!V61+0.00001)","v":0},{"$f":"100*'15-Min Heavy Vehicle'!W61/('15-Min All Vehicle'!W61+0.00001)","v":0.94339613741545869},{"$f":"100*'15-Min Heavy Vehicle'!X61/('15-Min All Vehicle'!X61+0.00001)","v":1.2195121653777521},null,{"$f":"IF(OR('15-Min All Vehicle'!X61=0,'15-Min All Vehicle'!X62=0, '15-Min All Vehicle'!X63=0,'15-Min All Vehicle'!X64=0)=TRUE,\"\",100*SUM('15-Min Heavy Vehicle'!X61:X64)/(SUM('15-Min All Vehicle'!X61:X64)+0.00001))","v":""}]
[null,null,"18:00:00",{"$f":"100*'15-Min Heavy Vehicle'!D62/('15-Min All Vehicle'!D62+0.00001)","v":0},{"$f":"100*'15-Min Heavy Vehicle'!E62/('15-Min All Vehicle'!E62+0.00001)","v":0},{"$f":"100*'15-Min Heavy Vehicle'!F62/('15-Min All Vehicle'!F62+0.00001)","v":0},{"$f":"100*'15-Min Heavy Vehicle'!G62/('15-Min All Vehicle'!G62+0.00001)","v":0},{"$f":"100*'15-Min Heavy Vehicle'!H62/('15-Min All Vehicle'!H62+0.00001)","v":0},{"$f":"100*'15-Min Heavy Vehicle'!I62/('15-Min All Vehicle'!I62+0.00001)","v":0},{"$f":"100*'15-Min Heavy Vehicle'!J62/('15-Min All Vehicle'!J62+0.00001)","v":0},{"$f":"100*'15-Min Heavy Vehicle'!K62/('15-Min All Vehicle'!K62+0.00001)","v":0},{"$f":"100*'15-Min Heavy Vehicle'!L62/('15-Min All Vehicle'!L62+0.00001)","v":0},{"$f":"100*'15-Min Heavy Vehicle'!M62/('15-Min All Vehicle'!M62+0.00001)","v":0},{"$f":"100*'15-Min Heavy Vehicle'!N62/('15-Min All Vehicle'!N62+0.00001)","v":0},{"$f":"100*'15-Min Heavy Vehicle'!O62/('15-Min All Vehicle'!O62+0.00001)","v":0},{"$f":"100*'15-Min Heavy Vehicle'!P62/('15-Min All Vehicle'!P62+0.00001)","v":0},{"$f":"100*'15-Min Heavy Vehicle'!Q62/('15-Min All Vehicle'!Q62+0.00001)","v":0},{"$f":"100*'15-Min Heavy Vehicle'!R62/('15-Min All Vehicle'!R62+0.00001)","v":0},{"$f":"100*'15-Min Heavy Vehicle'!S62/('15-Min All Vehicle'!S62+0.00001)","v":0},{"$f":"100*'15-Min Heavy Vehicle'!T62/('15-Min All Vehicle'!T62+0.00001)","v":0},{"$f":"100*'15-Min Heavy Vehicle'!U62/('15-Min All Vehicle'!U62+0.00001)","v":0},{"$f":"100*'15-Min Heavy Vehicle'!V62/('15-Min All Vehicle'!V62+0.00001)","v":0},{"$f":"100*'15-Min Heavy Vehicle'!W62/('15-Min All Vehicle'!W62+0.00001)","v":0},{"$f":"100*'15-Min Heavy Vehicle'!X62/('15-Min All Vehicle'!X62+0.00001)","v":0},null,{"$f":"IF(OR('15-Min All Vehicle'!X62=0,'15-Min All Vehicle'!X63=0, '15-Min All Vehicle'!X64=0,'15-Min All Vehicle'!X65=0)=TRUE,\"\",100*SUM('15-Min Heavy Vehicle'!X62:X65)/(SUM('15-Min All Vehicle'!X62:X65)+0.00001))","v":""}]
[null,null,"18:14:59.942",{"$f":"100*'15-Min Heavy Vehicle'!D63/('15-Min All Vehicle'!D63+0.00001)","v":0},{"$f":"100*'15-Min Heavy Vehicle'!E63/('15-Min All Vehicle'!E63+0.00001)","v":0},{"$f":"100*'15-Min Heavy Vehicle'!F63/('15-Min All Vehicle'!F63+0.00001)","v":0},{"$f":"100*'15-Min Heavy Vehicle'!G63/('15-Min All Vehicle'!G63+0.00001)","v":0},{"$f":"100*'15-Min Heavy Vehicle'!H63/('15-Min All Vehicle'!H63+0.00001)","v":0},{"$f":"100*'15-Min Heavy Vehicle'!I63/('15-Min All Vehicle'!I63+0.00001)","v":0},{"$f":"100*'15-Min Heavy Vehicle'!J63/('15-Min All Vehicle'!J63+0.00001)","v":0},{"$f":"100*'15-Min Heavy Vehicle'!K63/('15-Min All Vehicle'!K63+0.00001)","v":0},{"$f":"100*'15-Min Heavy Vehicle'!L63/('15-Min All Vehicle'!L63+0.00001)","v":0},{"$f":"100*'15-Min Heavy Vehicle'!M63/('15-Min All Vehicle'!M63+0.00001)","v":0},{"$f":"100*'15-Min Heavy Vehicle'!N63/('15-Min All Vehicle'!N63+0.00001)","v":0},{"$f":"100*'15-Min Heavy Vehicle'!O63/('15-Min All Vehicle'!O63+0.00001)","v":0},{"$f":"100*'15-Min Heavy Vehicle'!P63/('15-Min All Vehicle'!P63+0.00001)","v":0},{"$f":"100*'15-Min Heavy Vehicle'!Q63/('15-Min All Vehicle'!Q63+0.00001)","v":0},{"$f":"100*'15-Min Heavy Vehicle'!R63/('15-Min All Vehicle'!R63+0.00001)","v":0},{"$f":"100*'15-Min Heavy Vehicle'!S63/('15-Min All Vehicle'!S63+0.00001)","v":0},{"$f":"100*'15-Min Heavy Vehicle'!T63/('15-Min All Vehicle'!T63+0.00001)","v":0},{"$f":"100*'15-Min Heavy Vehicle'!U63/('15-Min All Vehicle'!U63+0.00001)","v":0},{"$f":"100*'15-Min Heavy Vehicle'!V63/('15-Min All Vehicle'!V63+0.00001)","v":0},{"$f":"100*'15-Min Heavy Vehicle'!W63/('15-Min All Vehicle'!W63+0.00001)","v":0},{"$f":"100*'15-Min Heavy Vehicle'!X63/('15-Min All Vehicle'!X63+0.00001)","v":0},null,{"$f":"IF(OR('15-Min All Vehicle'!X63=0,'15-Min All Vehicle'!X64=0, '15-Min All Vehicle'!X65=0,'15-Min All Vehicle'!X66=0)=TRUE,\"\",100*SUM('15-Min Heavy Vehicle'!X63:X66)/(SUM('15-Min All Vehicle'!X63:X66)+0.00001))","v":""}]
[null,null,"18:29:59.971",{"$f":"100*'15-Min Heavy Vehicle'!D64/('15-Min All Vehicle'!D64+0.00001)","v":0},{"$f":"100*'15-Min Heavy Vehicle'!E64/('15-Min All Vehicle'!E64+0.00001)","v":0},{"$f":"100*'15-Min Heavy Vehicle'!F64/('15-Min All Vehicle'!F64+0.00001)","v":0},{"$f":"100*'15-Min Heavy Vehicle'!G64/('15-Min All Vehicle'!G64+0.00001)","v":0},{"$f":"100*'15-Min Heavy Vehicle'!H64/('15-Min All Vehicle'!H64+0.00001)","v":0},{"$f":"100*'15-Min Heavy Vehicle'!I64/('15-Min All Vehicle'!I64+0.00001)","v":0},{"$f":"100*'15-Min Heavy Vehicle'!J64/('15-Min All Vehicle'!J64+0.00001)","v":0},{"$f":"100*'15-Min Heavy Vehicle'!K64/('15-Min All Vehicle'!K64+0.00001)","v":0},{"$f":"100*'15-Min Heavy Vehicle'!L64/('15-Min All Vehicle'!L64+0.00001)","v":0},{"$f":"100*'15-Min Heavy Vehicle'!M64/('15-Min All Vehicle'!M64+0.00001)","v":0},{"$f":"100*'15-Min Heavy Vehicle'!N64/('15-Min All Vehicle'!N64+0.00001)","v":0},{"$f":"100*'15-Min Heavy Vehicle'!O64/('15-Min All Vehicle'!O64+0.00001)","v":0},{"$f":"100*'15-Min Heavy Vehicle'!P64/('15-Min All Vehicle'!P64+0.00001)","v":0},{"$f":"100*'15-Min Heavy Vehicle'!Q64/('15-Min All Vehicle'!Q64+0.00001)","v":0},{"$f":"100*'15-Min Heavy Vehicle'!R64/('15-Min All Vehicle'!R64+0.00001)","v":0},{"$f":"100*'15-Min Heavy Vehicle'!S64/('15-Min All Vehicle'!S64+0.00001)","v":0},{"$f":"100*'15-Min Heavy Vehicle'!T64/('15-Min All Vehicle'!T64+0.00001)","v":0},{"$f":"100*'15-Min Heavy Vehicle'!U64/('15-Min All Vehicle'!U64+0.00001)","v":0},{"$f":"100*'15-Min Heavy Vehicle'!V64/('15-Min All Vehicle'!V64+0.00001)","v":0},{"$f":"100*'15-Min Heavy Vehicle'!W64/('15-Min All Vehicle'!W64+0.00001)","v":0},{"$f":"100*'15-Min Heavy Vehicle'!X64/('15-Min All Vehicle'!X64+0.00001)","v":0},null,{"$f":"IF(OR('15-Min All Vehicle'!X64=0,'15-Min All Vehicle'!X65=0, '15-Min All Vehicle'!X66=0,'15-Min All Vehicle'!X67=0)=TRUE,\"\",100*SUM('15-Min Heavy Vehicle'!X64:X67)/(SUM('15-Min All Vehicle'!X64:X67)+0.00001))","v":""}]
[null,null,"18:45:00",{"$f":"100*'15-Min Heavy Vehicle'!D65/('15-Min All Vehicle'!D65+0.00001)","v":0},{"$f":"100*'15-Min Heavy Vehicle'!E65/('15-Min All Vehicle'!E65+0.00001)","v":0},{"$f":"100*'15-Min Heavy Vehicle'!F65/('15-Min All Vehicle'!F65+0.00001)","v":0},{"$f":"100*'15-Min Heavy Vehicle'!G65/('15-Min All Vehicle'!G65+0.00001)","v":0},{"$f":"100*'15-Min Heavy Vehicle'!H65/('15-Min All Vehicle'!H65+0.00001)","v":0},{"$f":"100*'15-Min Heavy Vehicle'!I65/('15-Min All Vehicle'!I65+0.00001)","v":0},{"$f":"100*'15-Min Heavy Vehicle'!J65/('15-Min All Vehicle'!J65+0.00001)","v":0},{"$f":"100*'15-Min Heavy Vehicle'!K65/('15-Min All Vehicle'!K65+0.00001)","v":0},{"$f":"100*'15-Min Heavy Vehicle'!L65/('15-Min All Vehicle'!L65+0.00001)","v":0},{"$f":"100*'15-Min Heavy Vehicle'!M65/('15-Min All Vehicle'!M65+0.00001)","v":0},{"$f":"100*'15-Min Heavy Vehicle'!N65/('15-Min All Vehicle'!N65+0.00001)","v":0},{"$f":"100*'15-Min Heavy Vehicle'!O65/('15-Min All Vehicle'!O65+0.00001)","v":0},{"$f":"100*'15-Min Heavy Vehicle'!P65/('15-Min All Vehicle'!P65+0.00001)","v":0},{"$f":"100*'15-Min Heavy Vehicle'!Q65/('15-Min All Vehicle'!Q65+0.00001)","v":0},{"$f":"100*'15-Min Heavy Vehicle'!R65/('15-Min All Vehicle'!R65+0.00001)","v":0},{"$f":"100*'15-Min Heavy Vehicle'!S65/('15-Min All Vehicle'!S65+0.00001)","v":0},{"$f":"100*'15-Min Heavy Vehicle'!T65/('15-Min All Vehicle'!T65+0.00001)","v":0},{"$f":"100*'15-Min Heavy Vehicle'!U65/('15-Min All Vehicle'!U65+0.00001)","v":0},{"$f":"100*'15-Min Heavy Vehicle'!V65/('15-Min All Vehicle'!V65+0.00001)","v":0},{"$f":"100*'15-Min Heavy Vehicle'!W65/('15-Min All Vehicle'!W65+0.00001)","v":0},{"$f":"100*'15-Min Heavy Vehicle'!X65/('15-Min All Vehicle'!X65+0.00001)","v":0},null,{"$f":"IF(OR('15-Min All Vehicle'!X65=0,'15-Min All Vehicle'!X66=0, '15-Min All Vehicle'!X67=0,'15-Min All Vehicle'!X68=0)=TRUE,\"\",100*SUM('15-Min Heavy Vehicle'!X65:X68)/(SUM('15-Min All Vehicle'!X65:X68)+0.00001))","v":""}]
[null,null,"18:59:59.942",{"$f":"100*'15-Min Heavy Vehicle'!D66/('15-Min All Vehicle'!D66+0.00001)","v":0},{"$f":"100*'15-Min Heavy Vehicle'!E66/('15-Min All Vehicle'!E66+0.00001)","v":0},{"$f":"100*'15-Min Heavy Vehicle'!F66/('15-Min All Vehicle'!F66+0.00001)","v":0},{"$f":"100*'15-Min Heavy Vehicle'!G66/('15-Min All Vehicle'!G66+0.00001)","v":0},{"$f":"100*'15-Min Heavy Vehicle'!H66/('15-Min All Vehicle'!H66+0.00001)","v":0},{"$f":"100*'15-Min Heavy Vehicle'!I66/('15-Min All Vehicle'!I66+0.00001)","v":0},{"$f":"100*'15-Min Heavy Vehicle'!J66/('15-Min All Vehicle'!J66+0.00001)","v":0},{"$f":"100*'15-Min Heavy Vehicle'!K66/('15-Min All Vehicle'!K66+0.00001)","v":0},{"$f":"100*'15-Min Heavy Vehicle'!L66/('15-Min All Vehicle'!L66+0.00001)","v":0},{"$f":"100*'15-Min Heavy Vehicle'!M66/('15-Min All Vehicle'!M66+0.00001)","v":0},{"$f":"100*'15-Min Heavy Vehicle'!N66/('15-Min All Vehicle'!N66+0.00001)","v":0},{"$f":"100*'15-Min Heavy Vehicle'!O66/('15-Min All Vehicle'!O66+0.00001)","v":0},{"$f":"100*'15-Min Heavy Vehicle'!P66/('15-Min All Vehicle'!P66+0.00001)","v":0},{"$f":"100*'15-Min Heavy Vehicle'!Q66/('15-Min All Vehicle'!Q66+0.00001)","v":0},{"$f":"100*'15-Min Heavy Vehicle'!R66/('15-Min All Vehicle'!R66+0.00001)","v":0},{"$f":"100*'15-Min Heavy Vehicle'!S66/('15-Min All Vehicle'!S66+0.00001)","v":0},{"$f":"100*'15-Min Heavy Vehicle'!T66/('15-Min All Vehicle'!T66+0.00001)","v":0},{"$f":"100*'15-Min Heavy Vehicle'!U66/('15-Min All Vehicle'!U66+0.00001)","v":0},{"$f":"100*'15-Min Heavy Vehicle'!V66/('15-Min All Vehicle'!V66+0.00001)","v":0},{"$f":"100*'15-Min Heavy Vehicle'!W66/('15-Min All Vehicle'!W66+0.00001)","v":0},{"$f":"100*'15-Min Heavy Vehicle'!X66/('15-Min All Vehicle'!X66+0.00001)","v":0},null,{"$f":"IF(OR('15-Min All Vehicle'!X66=0,'15-Min All Vehicle'!X67=0, '15-Min All Vehicle'!X68=0,'15-Min All Vehicle'!X69=0)=TRUE,\"\",100*SUM('15-Min Heavy Vehicle'!X66:X69)/(SUM('15-Min All Vehicle'!X66:X69)+0.00001))","v":""}]
[null,null,"19:14:59.971",{"$f":"100*'15-Min Heavy Vehicle'!D67/('15-Min All Vehicle'!D67+0.00001)","v":0},{"$f":"100*'15-Min Heavy Vehicle'!E67/('15-Min All Vehicle'!E67+0.00001)","v":0},{"$f":"100*'15-Min Heavy Vehicle'!F67/('15-Min All Vehicle'!F67+0.00001)","v":0},{"$f":"100*'15-Min Heavy Vehicle'!G67/('15-Min All Vehicle'!G67+0.00001)","v":0},{"$f":"100*'15-Min Heavy Vehicle'!H67/('15-Min All Vehicle'!H67+0.00001)","v":0},{"$f":"100*'15-Min Heavy Vehicle'!I67/('15-Min All Vehicle'!I67+0.00001)","v":0},{"$f":"100*'15-Min Heavy Vehicle'!J67/('15-Min All Vehicle'!J67+0.00001)","v":0},{"$f":"100*'15-Min Heavy Vehicle'!K67/('15-Min All Vehicle'!K67+0.00001)","v":0},{"$f":"100*'15-Min Heavy Vehicle'!L67/('15-Min All Vehicle'!L67+0.00001)","v":0},{"$f":"100*'15-Min Heavy Vehicle'!M67/('15-Min All Vehicle'!M67+0.00001)","v":0},{"$f":"100*'15-Min Heavy Vehicle'!N67/('15-Min All Vehicle'!N67+0.00001)","v":0},{"$f":"100*'15-Min Heavy Vehicle'!O67/('15-Min All Vehicle'!O67+0.00001)","v":0},{"$f":"100*'15-Min Heavy Vehicle'!P67/('15-Min All Vehicle'!P67+0.00001)","v":0},{"$f":"100*'15-Min Heavy Vehicle'!Q67/('15-Min All Vehicle'!Q67+0.00001)","v":0},{"$f":"100*'15-Min Heavy Vehicle'!R67/('15-Min All Vehicle'!R67+0.00001)","v":0},{"$f":"100*'15-Min Heavy Vehicle'!S67/('15-Min All Vehicle'!S67+0.00001)","v":0},{"$f":"100*'15-Min Heavy Vehicle'!T67/('15-Min All Vehicle'!T67+0.00001)","v":0},{"$f":"100*'15-Min Heavy Vehicle'!U67/('15-Min All Vehicle'!U67+0.00001)","v":0},{"$f":"100*'15-Min Heavy Vehicle'!V67/('15-Min All Vehicle'!V67+0.00001)","v":0},{"$f":"100*'15-Min Heavy Vehicle'!W67/('15-Min All Vehicle'!W67+0.00001)","v":0},{"$f":"100*'15-Min Heavy Vehicle'!X67/('15-Min All Vehicle'!X67+0.00001)","v":0},null,{"$f":"IF(OR('15-Min All Vehicle'!X67=0,'15-Min All Vehicle'!X68=0, '15-Min All Vehicle'!X69=0,'15-Min All Vehicle'!X70=0)=TRUE,\"\",100*SUM('15-Min Heavy Vehicle'!X67:X70)/(SUM('15-Min All Vehicle'!X67:X70)+0.00001))","v":""}]
[null,null,"19:30:00",{"$f":"100*'15-Min Heavy Vehicle'!D68/('15-Min All Vehicle'!D68+0.00001)","v":0},{"$f":"100*'15-Min Heavy Vehicle'!E68/('15-Min All Vehicle'!E68+0.00001)","v":0},{"$f":"100*'15-Min Heavy Vehicle'!F68/('15-Min All Vehicle'!F68+0.00001)","v":0},{"$f":"100*'15-Min Heavy Vehicle'!G68/('15-Min All Vehicle'!G68+0.00001)","v":0},{"$f":"100*'15-Min Heavy Vehicle'!H68/('15-Min All Vehicle'!H68+0.00001)","v":0},{"$f":"100*'15-Min Heavy Vehicle'!I68/('15-Min All Vehicle'!I68+0.00001)","v":0},{"$f":"100*'15-Min Heavy Vehicle'!J68/('15-Min All Vehicle'!J68+0.00001)","v":0},{"$f":"100*'15-Min Heavy Vehicle'!K68/('15-Min All Vehicle'!K68+0.00001)","v":0},{"$f":"100*'15-Min Heavy Vehicle'!L68/('15-Min All Vehicle'!L68+0.00001)","v":0},{"$f":"100*'15-Min Heavy Vehicle'!M68/('15-Min All Vehicle'!M68+0.00001)","v":0},{"$f":"100*'15-Min Heavy Vehicle'!N68/('15-Min All Vehicle'!N68+0.00001)","v":0},{"$f":"100*'15-Min Heavy Vehicle'!O68/('15-Min All Vehicle'!O68+0.00001)","v":0},{"$f":"100*'15-Min Heavy Vehicle'!P68/('15-Min All Vehicle'!P68+0.00001)","v":0},{"$f":"100*'15-Min Heavy Vehicle'!Q68/('15-Min All Vehicle'!Q68+0.00001)","v":0},{"$f":"100*'15-Min Heavy Vehicle'!R68/('15-Min All Vehicle'!R68+0.00001)","v":0},{"$f":"100*'15-Min Heavy Vehicle'!S68/('15-Min All Vehicle'!S68+0.00001)","v":0},{"$f":"100*'15-Min Heavy Vehicle'!T68/('15-Min All Vehicle'!T68+0.00001)","v":0},{"$f":"100*'15-Min Heavy Vehicle'!U68/('15-Min All Vehicle'!U68+0.00001)","v":0},{"$f":"100*'15-Min Heavy Vehicle'!V68/('15-Min All Vehicle'!V68+0.00001)","v":0},{"$f":"100*'15-Min Heavy Vehicle'!W68/('15-Min All Vehicle'!W68+0.00001)","v":0},{"$f":"100*'15-Min Heavy Vehicle'!X68/('15-Min All Vehicle'!X68+0.00001)","v":0},null,{"$f":"IF(OR('15-Min All Vehicle'!X68=0,'15-Min All Vehicle'!X69=0, '15-Min All Vehicle'!X70=0,'15-Min All Vehicle'!X71=0)=TRUE,\"\",100*SUM('15-Min Heavy Vehicle'!X68:X71)/(SUM('15-Min All Vehicle'!X68:X71)+0.00001))","v":""}]
[null,null,"19:44:59.942",{"$f":"100*'15-Min Heavy Vehicle'!D69/('15-Min All Vehicle'!D69+0.00001)","v":0},{"$f":"100*'15-Min Heavy Vehicle'!E69/('15-Min All Vehicle'!E69+0.00001)","v":0},{"$f":"100*'15-Min Heavy Vehicle'!F69/('15-Min All Vehicle'!F69+0.00001)","v":0},{"$f":"100*'15-Min Heavy Vehicle'!G69/('15-Min All Vehicle'!G69+0.00001)","v":0},{"$f":"100*'15-Min Heavy Vehicle'!H69/('15-Min All Vehicle'!H69+0.00001)","v":0},{"$f":"100*'15-Min Heavy Vehicle'!I69/('15-Min All Vehicle'!I69+0.00001)","v":0},{"$f":"100*'15-Min Heavy Vehicle'!J69/('15-Min All Vehicle'!J69+0.00001)","v":0},{"$f":"100*'15-Min Heavy Vehicle'!K69/('15-Min All Vehicle'!K69+0.00001)","v":0},{"$f":"100*'15-Min Heavy Vehicle'!L69/('15-Min All Vehicle'!L69+0.00001)","v":0},{"$f":"100*'15-Min Heavy Vehicle'!M69/('15-Min All Vehicle'!M69+0.00001)","v":0},{"$f":"100*'15-Min Heavy Vehicle'!N69/('15-Min All Vehicle'!N69+0.00001)","v":0},{"$f":"100*'15-Min Heavy Vehicle'!O69/('15-Min All Vehicle'!O69+0.00001)","v":0},{"$f":"100*'15-Min Heavy Vehicle'!P69/('15-Min All Vehicle'!P69+0.00001)","v":0},{"$f":"100*'15-Min Heavy Vehicle'!Q69/('15-Min All Vehicle'!Q69+0.00001)","v":0},{"$f":"100*'15-Min Heavy Vehicle'!R69/('15-Min All Vehicle'!R69+0.00001)","v":0},{"$f":"100*'15-Min Heavy Vehicle'!S69/('15-Min All Vehicle'!S69+0.00001)","v":0},{"$f":"100*'15-Min Heavy Vehicle'!T69/('15-Min All Vehicle'!T69+0.00001)","v":0},{"$f":"100*'15-Min Heavy Vehicle'!U69/('15-Min All Vehicle'!U69+0.00001)","v":0},{"$f":"100*'15-Min Heavy Vehicle'!V69/('15-Min All Vehicle'!V69+0.00001)","v":0},{"$f":"100*'15-Min Heavy Vehicle'!W69/('15-Min All Vehicle'!W69+0.00001)","v":0},{"$f":"100*'15-Min Heavy Vehicle'!X69/('15-Min All Vehicle'!X69+0.00001)","v":0},null,{"$f":"IF(OR('15-Min All Vehicle'!X69=0,'15-Min All Vehicle'!X70=0, '15-Min All Vehicle'!X71=0,'15-Min All Vehicle'!X72=0)=TRUE,\"\",100*SUM('15-Min Heavy Vehicle'!X69:X72)/(SUM('15-Min All Vehicle'!X69:X72)+0.00001))","v":""}]
[null,null,"19:59:59.971",{"$f":"100*'15-Min Heavy Vehicle'!D70/('15-Min All Vehicle'!D70+0.00001)","v":0},{"$f":"100*'15-Min Heavy Vehicle'!E70/('15-Min All Vehicle'!E70+0.00001)","v":0},{"$f":"100*'15-Min Heavy Vehicle'!F70/('15-Min All Vehicle'!F70+0.00001)","v":0},{"$f":"100*'15-Min Heavy Vehicle'!G70/('15-Min All Vehicle'!G70+0.00001)","v":0},{"$f":"100*'15-Min Heavy Vehicle'!H70/('15-Min All Vehicle'!H70+0.00001)","v":0},{"$f":"100*'15-Min Heavy Vehicle'!I70/('15-Min All Vehicle'!I70+0.00001)","v":0},{"$f":"100*'15-Min Heavy Vehicle'!J70/('15-Min All Vehicle'!J70+0.00001)","v":0},{"$f":"100*'15-Min Heavy Vehicle'!K70/('15-Min All Vehicle'!K70+0.00001)","v":0},{"$f":"100*'15-Min Heavy Vehicle'!L70/('15-Min All Vehicle'!L70+0.00001)","v":0},{"$f":"100*'15-Min Heavy Vehicle'!M70/('15-Min All Vehicle'!M70+0.00001)","v":0},{"$f":"100*'15-Min Heavy Vehicle'!N70/('15-Min All Vehicle'!N70+0.00001)","v":0},{"$f":"100*'15-Min Heavy Vehicle'!O70/('15-Min All Vehicle'!O70+0.00001)","v":0},{"$f":"100*'15-Min Heavy Vehicle'!P70/('15-Min All Vehicle'!P70+0.00001)","v":0},{"$f":"100*'15-Min Heavy Vehicle'!Q70/('15-Min All Vehicle'!Q70+0.00001)","v":0},{"$f":"100*'15-Min Heavy Vehicle'!R70/('15-Min All Vehicle'!R70+0.00001)","v":0},{"$f":"100*'15-Min Heavy Vehicle'!S70/('15-Min All Vehicle'!S70+0.00001)","v":0},{"$f":"100*'15-Min Heavy Vehicle'!T70/('15-Min All Vehicle'!T70+0.00001)","v":0},{"$f":"100*'15-Min Heavy Vehicle'!U70/('15-Min All Vehicle'!U70+0.00001)","v":0},{"$f":"100*'15-Min Heavy Vehicle'!V70/('15-Min All Vehicle'!V70+0.00001)","v":0},{"$f":"100*'15-Min Heavy Vehicle'!W70/('15-Min All Vehicle'!W70+0.00001)","v":0},{"$f":"100*'15-Min Heavy Vehicle'!X70/('15-Min All Vehicle'!X70+0.00001)","v":0},null,{"$f":"IF(OR('15-Min All Vehicle'!X70=0,'15-Min All Vehicle'!X71=0, '15-Min All Vehicle'!X72=0,'15-Min All Vehicle'!X73=0)=TRUE,\"\",100*SUM('15-Min Heavy Vehicle'!X70:X73)/(SUM('15-Min All Vehicle'!X70:X73)+0.00001))","v":""}]
[null,null,"20:15:00",{"$f":"100*'15-Min Heavy Vehicle'!D71/('15-Min All Vehicle'!D71+0.00001)","v":0},{"$f":"100*'15-Min Heavy Vehicle'!E71/('15-Min All Vehicle'!E71+0.00001)","v":0},{"$f":"100*'15-Min Heavy Vehicle'!F71/('15-Min All Vehicle'!F71+0.00001)","v":0},{"$f":"100*'15-Min Heavy Vehicle'!G71/('15-Min All Vehicle'!G71+0.00001)","v":0},{"$f":"100*'15-Min Heavy Vehicle'!H71/('15-Min All Vehicle'!H71+0.00001)","v":0},{"$f":"100*'15-Min Heavy Vehicle'!I71/('15-Min All Vehicle'!I71+0.00001)","v":0},{"$f":"100*'15-Min Heavy Vehicle'!J71/('15-Min All Vehicle'!J71+0.00001)","v":0},{"$f":"100*'15-Min Heavy Vehicle'!K71/('15-Min All Vehicle'!K71+0.00001)","v":0},{"$f":"100*'15-Min Heavy Vehicle'!L71/('15-Min All Vehicle'!L71+0.00001)","v":0},{"$f":"100*'15-Min Heavy Vehicle'!M71/('15-Min All Vehicle'!M71+0.00001)","v":0},{"$f":"100*'15-Min Heavy Vehicle'!N71/('15-Min All Vehicle'!N71+0.00001)","v":0},{"$f":"100*'15-Min Heavy Vehicle'!O71/('15-Min All Vehicle'!O71+0.00001)","v":0},{"$f":"100*'15-Min Heavy Vehicle'!P71/('15-Min All Vehicle'!P71+0.00001)","v":0},{"$f":"100*'15-Min Heavy Vehicle'!Q71/('15-Min All Vehicle'!Q71+0.00001)","v":0},{"$f":"100*'15-Min Heavy Vehicle'!R71/('15-Min All Vehicle'!R71+0.00001)","v":0},{"$f":"100*'15-Min Heavy Vehicle'!S71/('15-Min All Vehicle'!S71+0.00001)","v":0},{"$f":"100*'15-Min Heavy Vehicle'!T71/('15-Min All Vehicle'!T71+0.00001)","v":0},{"$f":"100*'15-Min Heavy Vehicle'!U71/('15-Min All Vehicle'!U71+0.00001)","v":0},{"$f":"100*'15-Min Heavy Vehicle'!V71/('15-Min All Vehicle'!V71+0.00001)","v":0},{"$f":"100*'15-Min Heavy Vehicle'!W71/('15-Min All Vehicle'!W71+0.00001)","v":0},{"$f":"100*'15-Min Heavy Vehicle'!X71/('15-Min All Vehicle'!X71+0.00001)","v":0},null,{"$f":"IF(OR('15-Min All Vehicle'!X71=0,'15-Min All Vehicle'!X72=0, '15-Min All Vehicle'!X73=0,'15-Min All Vehicle'!X74=0)=TRUE,\"\",100*SUM('15-Min Heavy Vehicle'!X71:X74)/(SUM('15-Min All Vehicle'!X71:X74)+0.00001))","v":""}]
[null,null,"20:29:59.942",{"$f":"100*'15-Min Heavy Vehicle'!D72/('15-Min All Vehicle'!D72+0.00001)","v":0},{"$f":"100*'15-Min Heavy Vehicle'!E72/('15-Min All Vehicle'!E72+0.00001)","v":0},{"$f":"100*'15-Min Heavy Vehicle'!F72/('15-Min All Vehicle'!F72+0.00001)","v":0},{"$f":"100*'15-Min Heavy Vehicle'!G72/('15-Min All Vehicle'!G72+0.00001)","v":0},{"$f":"100*'15-Min Heavy Vehicle'!H72/('15-Min All Vehicle'!H72+0.00001)","v":0},{"$f":"100*'15-Min Heavy Vehicle'!I72/('15-Min All Vehicle'!I72+0.00001)","v":0},{"$f":"100*'15-Min Heavy Vehicle'!J72/('15-Min All Vehicle'!J72+0.00001)","v":0},{"$f":"100*'15-Min Heavy Vehicle'!K72/('15-Min All Vehicle'!K72+0.00001)","v":0},{"$f":"100*'15-Min Heavy Vehicle'!L72/('15-Min All Vehicle'!L72+0.00001)","v":0},{"$f":"100*'15-Min Heavy Vehicle'!M72/('15-Min All Vehicle'!M72+0.00001)","v":0},{"$f":"100*'15-Min Heavy Vehicle'!N72/('15-Min All Vehicle'!N72+0.00001)","v":0},{"$f":"100*'15-Min Heavy Vehicle'!O72/('15-Min All Vehicle'!O72+0.00001)","v":0},{"$f":"100*'15-Min Heavy Vehicle'!P72/('15-Min All Vehicle'!P72+0.00001)","v":0},{"$f":"100*'15-Min Heavy Vehicle'!Q72/('15-Min All Vehicle'!Q72+0.00001)","v":0},{"$f":"100*'15-Min Heavy Vehicle'!R72/('15-Min All Vehicle'!R72+0.00001)","v":0},{"$f":"100*'15-Min Heavy Vehicle'!S72/('15-Min All Vehicle'!S72+0.00001)","v":0},{"$f":"100*'15-Min Heavy Vehicle'!T72/('15-Min All Vehicle'!T72+0.00001)","v":0},{"$f":"100*'15-Min Heavy Vehicle'!U72/('15-Min All Vehicle'!U72+0.00001)","v":0},{"$f":"100*'15-Min Heavy Vehicle'!V72/('15-Min All Vehicle'!V72+0.00001)","v":0},{"$f":"100*'15-Min Heavy Vehicle'!W72/('15-Min All Vehicle'!W72+0.00001)","v":0},{"$f":"100*'15-Min Heavy Vehicle'!X72/('15-Min All Vehicle'!X72+0.00001)","v":0},null,{"$f":"IF(OR('15-Min All Vehicle'!X72=0,'15-Min All Vehicle'!X73=0, '15-Min All Vehicle'!X74=0,'15-Min All Vehicle'!X75=0)=TRUE,\"\",100*SUM('15-Min Heavy Vehicle'!X72:X75)/(SUM('15-Min All Vehicle'!X72:X75)+0.00001))","v":""}]
[null,null,"20:44:59.971",{"$f":"100*'15-Min Heavy Vehicle'!D73/('15-Min All Vehicle'!D73+0.00001)","v":0},{"$f":"100*'15-Min Heavy Vehicle'!E73/('15-Min All Vehicle'!E73+0.00001)","v":0},{"$f":"100*'15-Min Heavy Vehicle'!F73/('15-Min All Vehicle'!F73+0.00001)","v":0},{"$f":"100*'15-Min Heavy Vehicle'!G73/('15-Min All Vehicle'!G73+0.00001)","v":0},{"$f":"100*'15-Min Heavy Vehicle'!H73/('15-Min All Vehicle'!H73+0.00001)","v":0},{"$f":"100*'15-Min Heavy Vehicle'!I73/('15-Min All Vehicle'!I73+0.00001)","v":0},{"$f":"100*'15-Min Heavy Vehicle'!J73/('15-Min All Vehicle'!J73+0.00001)","v":0},{"$f":"100*'15-Min Heavy Vehicle'!K73/('15-Min All Vehicle'!K73+0.00001)","v":0},{"$f":"100*'15-Min Heavy Vehicle'!L73/('15-Min All Vehicle'!L73+0.00001)","v":0},{"$f":"100*'15-Min Heavy Vehicle'!M73/('15-Min All Vehicle'!M73+0.00001)","v":0},{"$f":"100*'15-Min Heavy Vehicle'!N73/('15-Min All Vehicle'!N73+0.00001)","v":0},{"$f":"100*'15-Min Heavy Vehicle'!O73/('15-Min All Vehicle'!O73+0.00001)","v":0},{"$f":"100*'15-Min Heavy Vehicle'!P73/('15-Min All Vehicle'!P73+0.00001)","v":0},{"$f":"100*'15-Min Heavy Vehicle'!Q73/('15-Min All Vehicle'!Q73+0.00001)","v":0},{"$f":"100*'15-Min Heavy Vehicle'!R73/('15-Min All Vehicle'!R73+0.00001)","v":0},{"$f":"100*'15-Min Heavy Vehicle'!S73/('15-Min All Vehicle'!S73+0.00001)","v":0},{"$f":"100*'15-Min Heavy Vehicle'!T73/('15-Min All Vehicle'!T73+0.00001)","v":0},{"$f":"100*'15-Min Heavy Vehicle'!U73/('15-Min All Vehicle'!U73+0.00001)","v":0},{"$f":"100*'15-Min Heavy Vehicle'!V73/('15-Min All Vehicle'!V73+0.00001)","v":0},{"$f":"100*'15-Min Heavy Vehicle'!W73/('15-Min All Vehicle'!W73+0.00001)","v":0},{"$f":"100*'15-Min Heavy Vehicle'!X73/('15-Min All Vehicle'!X73+0.00001)","v":0},null,{"$f":"IF(OR('15-Min All Vehicle'!X73=0,'15-Min All Vehicle'!X74=0, '15-Min All Vehicle'!X75=0,'15-Min All Vehicle'!X76=0)=TRUE,\"\",100*SUM('15-Min Heavy Vehicle'!X73:X76)/(SUM('15-Min All Vehicle'!X73:X76)+0.00001))","v":""}]
[null,null,"21:00:00",{"$f":"100*'15-Min Heavy Vehicle'!D74/('15-Min All Vehicle'!D74+0.00001)","v":0},{"$f":"100*'15-Min Heavy Vehicle'!E74/('15-Min All Vehicle'!E74+0.00001)","v":0},{"$f":"100*'15-Min Heavy Vehicle'!F74/('15-Min All Vehicle'!F74+0.00001)","v":0},{"$f":"100*'15-Min Heavy Vehicle'!G74/('15-Min All Vehicle'!G74+0.00001)","v":0},{"$f":"100*'15-Min Heavy Vehicle'!H74/('15-Min All Vehicle'!H74+0.00001)","v":0},{"$f":"100*'15-Min Heavy Vehicle'!I74/('15-Min All Vehicle'!I74+0.00001)","v":0},{"$f":"100*'15-Min Heavy Vehicle'!J74/('15-Min All Vehicle'!J74+0.00001)","v":0},{"$f":"100*'15-Min Heavy Vehicle'!K74/('15-Min All Vehicle'!K74+0.00001)","v":0},{"$f":"100*'15-Min Heavy Vehicle'!L74/('15-Min All Vehicle'!L74+0.00001)","v":0},{"$f":"100*'15-Min Heavy Vehicle'!M74/('15-Min All Vehicle'!M74+0.00001)","v":0},{"$f":"100*'15-Min Heavy Vehicle'!N74/('15-Min All Vehicle'!N74+0.00001)","v":0},{"$f":"100*'15-Min Heavy Vehicle'!O74/('15-Min All Vehicle'!O74+0.00001)","v":0},{"$f":"100*'15-Min Heavy Vehicle'!P74/('15-Min All Vehicle'!P74+0.00001)","v":0},{"$f":"100*'15-Min Heavy Vehicle'!Q74/('15-Min All Vehicle'!Q74+0.00001)","v":0},{"$f":"100*'15-Min Heavy Vehicle'!R74/('15-Min All Vehicle'!R74+0.00001)","v":0},{"$f":"100*'15-Min Heavy Vehicle'!S74/('15-Min All Vehicle'!S74+0.00001)","v":0},{"$f":"100*'15-Min Heavy Vehicle'!T74/('15-Min All Vehicle'!T74+0.00001)","v":0},{"$f":"100*'15-Min Heavy Vehicle'!U74/('15-Min All Vehicle'!U74+0.00001)","v":0},{"$f":"100*'15-Min Heavy Vehicle'!V74/('15-Min All Vehicle'!V74+0.00001)","v":0},{"$f":"100*'15-Min Heavy Vehicle'!W74/('15-Min All Vehicle'!W74+0.00001)","v":0},{"$f":"100*'15-Min Heavy Vehicle'!X74/('15-Min All Vehicle'!X74+0.00001)","v":0},null,{"$f":"IF(OR('15-Min All Vehicle'!X74=0,'15-Min All Vehicle'!X75=0, '15-Min All Vehicle'!X76=0,'15-Min All Vehicle'!X77=0)=TRUE,\"\",100*SUM('15-Min Heavy Vehicle'!X74:X77)/(SUM('15-Min All Vehicle'!X74:X77)+0.00001))","v":""}]
[null,null,"21:14:59.942",{"$f":"100*'15-Min Heavy Vehicle'!D75/('15-Min All Vehicle'!D75+0.00001)","v":0},{"$f":"100*'15-Min Heavy Vehicle'!E75/('15-Min All Vehicle'!E75+0.00001)","v":0},{"$f":"100*'15-Min Heavy Vehicle'!F75/('15-Min All Vehicle'!F75+0.00001)","v":0},{"$f":"100*'15-Min Heavy Vehicle'!G75/('15-Min All Vehicle'!G75+0.00001)","v":0},{"$f":"100*'15-Min Heavy Vehicle'!H75/('15-Min All Vehicle'!H75+0.00001)","v":0},{"$f":"100*'15-Min Heavy Vehicle'!I75/('15-Min All Vehicle'!I75+0.00001)","v":0},{"$f":"100*'15-Min Heavy Vehicle'!J75/('15-Min All Vehicle'!J75+0.00001)","v":0},{"$f":"100*'15-Min Heavy Vehicle'!K75/('15-Min All Vehicle'!K75+0.00001)","v":0},{"$f":"100*'15-Min Heavy Vehicle'!L75/('15-Min All Vehicle'!L75+0.00001)","v":0},{"$f":"100*'15-Min Heavy Vehicle'!M75/('15-Min All Vehicle'!M75+0.00001)","v":0},{"$f":"100*'15-Min Heavy Vehicle'!N75/('15-Min All Vehicle'!N75+0.00001)","v":0},{"$f":"100*'15-Min Heavy Vehicle'!O75/('15-Min All Vehicle'!O75+0.00001)","v":0},{"$f":"100*'15-Min Heavy Vehicle'!P75/('15-Min All Vehicle'!P75+0.00001)","v":0},{"$f":"100*'15-Min Heavy Vehicle'!Q75/('15-Min All Vehicle'!Q75+0.00001)","v":0},{"$f":"100*'15-Min Heavy Vehicle'!R75/('15-Min All Vehicle'!R75+0.00001)","v":0},{"$f":"100*'15-Min Heavy Vehicle'!S75/('15-Min All Vehicle'!S75+0.00001)","v":0},{"$f":"100*'15-Min Heavy Vehicle'!T75/('15-Min All Vehicle'!T75+0.00001)","v":0},{"$f":"100*'15-Min Heavy Vehicle'!U75/('15-Min All Vehicle'!U75+0.00001)","v":0},{"$f":"100*'15-Min Heavy Vehicle'!V75/('15-Min All Vehicle'!V75+0.00001)","v":0},{"$f":"100*'15-Min Heavy Vehicle'!W75/('15-Min All Vehicle'!W75+0.00001)","v":0},{"$f":"100*'15-Min Heavy Vehicle'!X75/('15-Min All Vehicle'!X75+0.00001)","v":0}]
[null,null,"21:29:59.971",{"$f":"100*'15-Min Heavy Vehicle'!D76/('15-Min All Vehicle'!D76+0.00001)","v":0},{"$f":"100*'15-Min Heavy Vehicle'!E76/('15-Min All Vehicle'!E76+0.00001)","v":0},{"$f":"100*'15-Min Heavy Vehicle'!F76/('15-Min All Vehicle'!F76+0.00001)","v":0},{"$f":"100*'15-Min Heavy Vehicle'!G76/('15-Min All Vehicle'!G76+0.00001)","v":0},{"$f":"100*'15-Min Heavy Vehicle'!H76/('15-Min All Vehicle'!H76+0.00001)","v":0},{"$f":"100*'15-Min Heavy Vehicle'!I76/('15-Min All Vehicle'!I76+0.00001)","v":0},{"$f":"100*'15-Min Heavy Vehicle'!J76/('15-Min All Vehicle'!J76+0.00001)","v":0},{"$f":"100*'15-Min Heavy Vehicle'!K76/('15-Min All Vehicle'!K76+0.00001)","v":0},{"$f":"100*'15-Min Heavy Vehicle'!L76/('15-Min All Vehicle'!L76+0.00001)","v":0},{"$f":"100*'15-Min Heavy Vehicle'!M76/('15-Min All Vehicle'!M76+0.00001)","v":0},{"$f":"100*'15-Min Heavy Vehicle'!N76/('15-Min All Vehicle'!N76+0.00001)","v":0},{"$f":"100*'15-Min Heavy Vehicle'!O76/('15-Min All Vehicle'!O76+0.00001)","v":0},{"$f":"100*'15-Min Heavy Vehicle'!P76/('15-Min All Vehicle'!P76+0.00001)","v":0},{"$f":"100*'15-Min Heavy Vehicle'!Q76/('15-Min All Vehicle'!Q76+0.00001)","v":0},{"$f":"100*'15-Min Heavy Vehicle'!R76/('15-Min All Vehicle'!R76+0.00001)","v":0},{"$f":"100*'15-Min Heavy Vehicle'!S76/('15-Min All Vehicle'!S76+0.00001)","v":0},{"$f":"100*'15-Min Heavy Vehicle'!T76/('15-Min All Vehicle'!T76+0.00001)","v":0},{"$f":"100*'15-Min Heavy Vehicle'!U76/('15-Min All Vehicle'!U76+0.00001)","v":0},{"$f":"100*'15-Min Heavy Vehicle'!V76/('15-Min All Vehicle'!V76+0.00001)","v":0},{"$f":"100*'15-Min Heavy Vehicle'!W76/('15-Min All Vehicle'!W76+0.00001)","v":0},{"$f":"100*'15-Min Heavy Vehicle'!X76/('15-Min All Vehicle'!X76+0.00001)","v":0}]
[null,null,"21:45:00",{"$f":"100*'15-Min Heavy Vehicle'!D77/('15-Min All Vehicle'!D77+0.00001)","v":0},{"$f":"100*'15-Min Heavy Vehicle'!E77/('15-Min All Vehicle'!E77+0.00001)","v":0},{"$f":"100*'15-Min Heavy Vehicle'!F77/('15-Min All Vehicle'!F77+0.00001)","v":0},{"$f":"100*'15-Min Heavy Vehicle'!G77/('15-Min All Vehicle'!G77+0.00001)","v":0},{"$f":"100*'15-Min Heavy Vehicle'!H77/('15-Min All Vehicle'!H77+0.00001)","v":0},{"$f":"100*'15-Min Heavy Vehicle'!I77/('15-Min All Vehicle'!I77+0.00001)","v":0},{"$f":"100*'15-Min Heavy Vehicle'!J77/('15-Min All Vehicle'!J77+0.00001)","v":0},{"$f":"100*'15-Min Heavy Vehicle'!K77/('15-Min All Vehicle'!K77+0.00001)","v":0},{"$f":"100*'15-Min Heavy Vehicle'!L77/('15-Min All Vehicle'!L77+0.00001)","v":0},{"$f":"100*'15-Min Heavy Vehicle'!M77/('15-Min All Vehicle'!M77+0.00001)","v":0},{"$f":"100*'15-Min Heavy Vehicle'!N77/('15-Min All Vehicle'!N77+0.00001)","v":0},{"$f":"100*'15-Min Heavy Vehicle'!O77/('15-Min All Vehicle'!O77+0.00001)","v":0},{"$f":"100*'15-Min Heavy Vehicle'!P77/('15-Min All Vehicle'!P77+0.00001)","v":0},{"$f":"100*'15-Min Heavy Vehicle'!Q77/('15-Min All Vehicle'!Q77+0.00001)","v":0},{"$f":"100*'15-Min Heavy Vehicle'!R77/('15-Min All Vehicle'!R77+0.00001)","v":0},{"$f":"100*'15-Min Heavy Vehicle'!S77/('15-Min All Vehicle'!S77+0.00001)","v":0},{"$f":"100*'15-Min Heavy Vehicle'!T77/('15-Min All Vehicle'!T77+0.00001)","v":0},{"$f":"100*'15-Min Heavy Vehicle'!U77/('15-Min All Vehicle'!U77+0.00001)","v":0},{"$f":"100*'15-Min Heavy Vehicle'!V77/('15-Min All Vehicle'!V77+0.00001)","v":0},{"$f":"100*'15-Min Heavy Vehicle'!W77/('15-Min All Vehicle'!W77+0.00001)","v":0},{"$f":"100*'15-Min Heavy Vehicle'!X77/('15-Min All Vehicle'!X77+0.00001)","v":0}]
[null,"Totals",null,{"$f":"100*'15-Min Heavy Vehicle'!D78/('15-Min All Vehicle'!D78+0.00001)","v":0},{"$f":"100*'15-Min Heavy Vehicle'!E78/('15-Min All Vehicle'!E78+0.00001)","v":0},{"$f":"100*'15-Min Heavy Vehicle'!F78/('15-Min All Vehicle'!F78+0.00001)","v":0},{"$f":"100*'15-Min Heavy Vehicle'!G78/('15-Min All Vehicle'!G78+0.00001)","v":0},{"$f":"100*'15-Min Heavy Vehicle'!H78/('15-Min All Vehicle'!H78+0.00001)","v":0},{"$f":"100*'15-Min Heavy Vehicle'!I78/('15-Min All Vehicle'!I78+0.00001)","v":17.050067428280549},{"$f":"100*'15-Min Heavy Vehicle'!J78/('15-Min All Vehicle'!J78+0.00001)","v":4.1639017847314168},{"$f":"100*'15-Min Heavy Vehicle'!K78/('15-Min All Vehicle'!K78+0.00001)","v":0},{"$f":"100*'15-Min Heavy Vehicle'!L78/('15-Min All Vehicle'!L78+0.00001)","v":0},{"$f":"100*'15-Min Heavy Vehicle'!M78/('15-Min All Vehicle'!M78+0.00001)","v":5.5711541221055798},{"$f":"100*'15-Min Heavy Vehicle'!N78/('15-Min All Vehicle'!N78+0.00001)","v":5.6488056628508527},{"$f":"100*'15-Min Heavy Vehicle'!O78/('15-Min All Vehicle'!O78+0.00001)","v":16.666638888935186},{"$f":"100*'15-Min Heavy Vehicle'!P78/('15-Min All Vehicle'!P78+0.00001)","v":3.862252656274253},{"$f":"100*'15-Min Heavy Vehicle'!Q78/('15-Min All Vehicle'!Q78+0.00001)","v":0},{"$f":"100*'15-Min Heavy Vehicle'!R78/('15-Min All Vehicle'!R78+0.00001)","v":4.5334928175436691},{"$f":"100*'15-Min Heavy Vehicle'!S78/('15-Min All Vehicle'!S78+0.00001)","v":0},{"$f":"100*'15-Min Heavy Vehicle'!T78/('15-Min All Vehicle'!T78+0.00001)","v":6.6939890527486634},{"$f":"100*'15-Min Heavy Vehicle'!U78/('15-Min All Vehicle'!U78+0.00001)","v":10.771704006885788},{"$f":"100*'15-Min Heavy Vehicle'!V78/('15-Min All Vehicle'!V78+0.00001)","v":0},{"$f":"100*'15-Min Heavy Vehicle'!W78/('15-Min All Vehicle'!W78+0.00001)","v":7.2863147891491948},{"$f":"100*'15-Min Heavy Vehicle'!X78/('15-Min All Vehicle'!X78+0.00001)","v":5.5026018828880403}]
[]
[null,"Peak Hour Heavy Vehicle Percentages Summary"]
[null,null,null,null,null,"ê",null,null,null,null,"ç",null,null,null,null,"é",null,null,null,null,"è",null,null,"Hourly"]
[null,"Hourly",null,"From North",null,null,null,null,"From East",null,null,null,null,"From South",null,null,null,null,"From West",null,null,null,null,"Heavy"]
[null,"Time Period",null,{"$f":"'Base Information'!$D$14:$D$14","v":"441 NB ON RAMP"},null,null,null,null,{"$f":"'Base Information'!$D$15:$D$15","v":"CTH OO (Northland Ave)"},null,null,null,null,{"$f":"'Base Information'!$D$16:$D$16","v":"441 NB OFF RAMP"},null,null,null,null,{"$f":"'Base Information'!$D$17:$D$17","v":"CTH OO (Northland Ave)"},null,null,null,null,"Vehicle"]
[null,"Start Time",null,"Right ","Thru ","Left ","U-Tn","Total","Right ","Thru ","Left ","U-Tn","Total","Right ","Thru ","Left ","U-Tn","Total","Right ","Thru ","Left ","U-Tn","Total","Percent"]
[null,"AM",{"$f":"'15-Min All Vehicle'!$C$85","v":"07:14:59.971"},{"$f":"100*'15-Min Heavy Vehicle'!D85/('15-Min All Vehicle'!D85+0.00001)","v":0},{"$f":"100*'15-Min Heavy Vehicle'!E85/('15-Min All Vehicle'!E85+0.00001)","v":0},{"$f":"100*'15-Min Heavy Vehicle'!F85/('15-Min All Vehicle'!F85+0.00001)","v":0},{"$f":"100*'15-Min Heavy Vehicle'!G85/('15-Min All Vehicle'!G85+0.00001)","v":0},{"$f":"100*'15-Min Heavy Vehicle'!H85/('15-Min All Vehicle'!H85+0.00001)","v":0},{"$f":"100*'15-Min Heavy Vehicle'!I85/('15-Min All Vehicle'!I85+0.00001)","v":12.499998579545615},{"$f":"100*'15-Min Heavy Vehicle'!J85/('15-Min All Vehicle'!J85+0.00001)","v":3.1630169931506451},{"$f":"100*'15-Min Heavy Vehicle'!K85/('15-Min All Vehicle'!K85+0.00001)","v":0},{"$f":"100*'15-Min Heavy Vehicle'!L85/('15-Min All Vehicle'!L85+0.00001)","v":0},{"$f":"100*'15-Min Heavy Vehicle'!M85/('15-Min All Vehicle'!M85+0.00001)","v":4.0659340212534723},{"$f":"100*'15-Min Heavy Vehicle'!N85/('15-Min All Vehicle'!N85+0.00001)","v":5.2845526307092427},{"$f":"100*'15-Min Heavy Vehicle'!O85/('15-Min All Vehicle'!O85+0.00001)","v":99.999000009999889},{"$f":"100*'15-Min Heavy Vehicle'!P85/('15-Min All Vehicle'!P85+0.00001)","v":1.87134500735269},{"$f":"100*'15-Min Heavy Vehicle'!Q85/('15-Min All Vehicle'!Q85+0.00001)","v":0},{"$f":"100*'15-Min Heavy Vehicle'!R85/('15-Min All Vehicle'!R85+0.00001)","v":2.7223230242983392},{"$f":"100*'15-Min Heavy Vehicle'!S85/('15-Min All Vehicle'!S85+0.00001)","v":0},{"$f":"100*'15-Min Heavy Vehicle'!T85/('15-Min All Vehicle'!T85+0.00001)","v":15.730336194924933},{"$f":"100*'15-Min Heavy Vehicle'!U85/('15-Min All Vehicle'!U85+0.00001)","v":9.0909063360889881},{"$f":"100*'15-Min Heavy Vehicle'!V85/('15-Min All Vehicle'!V85+0.00001)","v":0},{"$f":"100*'15-Min Heavy Vehicle'!W85/('15-Min All Vehicle'!W85+0.00001)","v":14.691942431661495},{"$f":"100*'15-Min Heavy Vehicle'!X85/('15-Min All Vehicle'!X85+0.00001)","v":4.408457020204871}]
[null,"MD",{"$f":"'15-Min All Vehicle'!$C$86","v":"12:59:59.942"},{"$f":"100*'15-Min Heavy Vehicle'!D86/('15-Min All Vehicle'!D86+0.00001)","v":0},{"$f":"100*'15-Min Heavy Vehicle'!E86/('15-Min All Vehicle'!E86+0.00001)","v":0},{"$f":"100*'15-Min Heavy Vehicle'!F86/('15-Min All Vehicle'!F86+0.00001)","v":0},{"$f":"100*'15-Min Heavy Vehicle'!G86/('15-Min All Vehicle'!G86+0.00001)","v":0},{"$f":"100*'15-Min Heavy Vehicle'!H86/('15-Min All Vehicle'!H86+0.00001)","v":0},{"$f":"100*'15-Min Heavy Vehicle'!I86/('15-Min All Vehicle'!I86+0.00001)","v":13.999997200000559},{"$f":"100*'15-Min Heavy Vehicle'!J86/('15-Min All Vehicle'!J86+0.00001)","v":6.5759635697060421},{"$f":"100*'15-Min Heavy Vehicle'!K86/('15-Min All Vehicle'!K86+0.00001)","v":0},{"$f":"100*'15-Min Heavy Vehicle'!L86/('15-Min All Vehicle'!L86+0.00001)","v":0},{"$f":"100*'15-Min Heavy Vehicle'!M86/('15-Min All Vehicle'!M86+0.00001)","v":7.3319754107540653},{"$f":"100*'15-Min Heavy Vehicle'!N86/('15-Min All Vehicle'!N86+0.00001)","v":8.7962958890603762},{"$f":"100*'15-Min Heavy Vehicle'!O86/('15-Min All Vehicle'!O86+0.00001)","v":0},{"$f":"100*'15-Min Heavy Vehicle'!P86/('15-Min All Vehicle'!P86+0.00001)","v":5.275779249981313},{"$f":"100*'15-Min Heavy Vehicle'!Q86/('15-Min All Vehicle'!Q86+0.00001)","v":0},{"$f":"100*'15-Min Heavy Vehicle'!R86/('15-Min All Vehicle'!R86+0.00001)","v":6.4770931046272811},{"$f":"100*'15-Min Heavy Vehicle'!S86/('15-Min All Vehicle'!S86+0.00001)","v":0},{"$f":"100*'15-Min Heavy Vehicle'!T86/('15-Min All Vehicle'!T86+0.00001)","v":8.536585105591918},{"$f":"100*'15-Min Heavy Vehicle'!U86/('15-Min All Vehicle'!U86+0.00001)","v":22.222216049384429},{"$f":"100*'15-Min Heavy Vehicle'!V86/('15-Min All Vehicle'!V86+0.00001)","v":0},{"$f":"100*'15-Min Heavy Vehicle'!W86/('15-Min All Vehicle'!W86+0.00001)","v":9.8901096184035833},{"$f":"100*'15-Min Heavy Vehicle'!X86/('15-Min All Vehicle'!X86+0.00001)","v":7.5940859704698527}]
[null,"PM",{"$f":"'15-Min All Vehicle'!$C$87","v":"16:30:00"},{"$f":"100*'15-Min Heavy Vehicle'!D87/('15-Min All Vehicle'!D87+0.00001)","v":0},{"$f":"100*'15-Min Heavy Vehicle'!E87/('15-Min All Vehicle'!E87+0.00001)","v":0},{"$f":"100*'15-Min Heavy Vehicle'!F87/('15-Min All Vehicle'!F87+0.00001)","v":0},{"$f":"100*'15-Min Heavy Vehicle'!G87/('15-Min All Vehicle'!G87+0.00001)","v":0},{"$f":"100*'15-Min Heavy Vehicle'!H87/('15-Min All Vehicle'!H87+0.00001)","v":0},{"$f":"100*'15-Min Heavy Vehicle'!I87/('15-Min All Vehicle'!I87+0.00001)","v":4.6874992675782394},{"$f":"100*'15-Min Heavy Vehicle'!J87/('15-Min All Vehicle'!J87+0.00001)","v":1.3559321804079292},{"$f":"100*'15-Min Heavy Vehicle'!K87/('15-Min All Vehicle'!K87+0.00001)","v":0},{"$f":"100*'15-Min Heavy Vehicle'!L87/('15-Min All Vehicle'!L87+0.00001)","v":0},{"$f":"100*'15-Min Heavy Vehicle'!M87/('15-Min All Vehicle'!M87+0.00001)","v":1.6819571608263433},{"$f":"100*'15-Min Heavy Vehicle'!N87/('15-Min All Vehicle'!N87+0.00001)","v":2.879078639557032},{"$f":"100*'15-Min Heavy Vehicle'!O87/('15-Min All Vehicle'!O87+0.00001)","v":0},{"$f":"100*'15-Min Heavy Vehicle'!P87/('15-Min All Vehicle'!P87+0.00001)","v":1.452784468455582},{"$f":"100*'15-Min Heavy Vehicle'!Q87/('15-Min All Vehicle'!Q87+0.00001)","v":0},{"$f":"100*'15-Min Heavy Vehicle'!R87/('15-Min All Vehicle'!R87+0.00001)","v":2.2483939802099147},{"$f":"100*'15-Min Heavy Vehicle'!S87/('15-Min All Vehicle'!S87+0.00001)","v":0},{"$f":"100*'15-Min Heavy Vehicle'!T87/('15-Min All Vehicle'!T87+0.00001)","v":1.1029411561959346},{"$f":"100*'15-Min Heavy Vehicle'!U87/('15-Min All Vehicle'!U87+0.00001)","v":2.7522933254776767},{"$f":"100*'15-Min Heavy Vehicle'!V87/('15-Min All Vehicle'!V87+0.00001)","v":0},{"$f":"100*'15-Min Heavy Vehicle'!W87/('15-Min All Vehicle'!W87+0.00001)","v":1.3782541902258165},{"$f":"100*'15-Min Heavy Vehicle'!X87/('15-Min All Vehicle'!X87+0.00001)","v":1.8295403755933046}]

{"sheet":"Ped & Bicycle","index":11,"n_rows":88,"n_cols":26,"rows_kept":88,"cut":false,"hidden":false,"merged":[[0,1,3,12],[2,20,2,22],[2,23,2,25],[3,20,3,22],[3,23,3,25],[84,16,84,18],[77,1,77,2],[77,3,77,4],[77,5,77,6],[77,8,77,9],[81,4,81,6],[81,7,81,9],[82,1,82,6],[83,1,83,6],[84,1,84,6],[77,18,77,19],[77,20,77,21],[12,13,12,14],[12,15,12,16],[39,13,39,14],[39,15,39,16],[77,13,77,14],[17,3,17,4],[77,10,77,11],[85,19,85,21],[86,19,86,21],[87,19,87,21],[81,10,81,12],[81,13,81,15],[81,16,81,18],[82,16,82,18],[81,19,81,21],[82,19,82,21],[85,16,85,18],[83,19,83,21],[84,19,84,21],[86,16,86,18],[87,16,87,18],[83,16,83,18],[84,10,84,12],[85,10,85,12],[86,10,86,12],[87,10,87,12],[82,13,82,15],[83,13,83,15],[84,13,84,15],[85,13,85,15],[86,13,86,15],[87,13,87,15],[82,10,82,12],[83,10,83,12],[85,1,85,6],[86,1,86,6],[85,7,85,9],[87,3,87,6],[86,7,86,9],[87,7,87,9],[82,7,82,9],[83,7,83,9],[84,7,84,9],[27,5,27,6],[21,3,21,4],[77,15,77,16],[17,15,17,16],[19,13,19,14],[19,15,19,16],[22,15,22,16],[25,13,25,14],[25,15,25,16],[23,13,23,14],[28,8,28,9],[28,10,28,11],[28,13,28,14],[28,15,28,16],[26,3,26,4],[26,5,26,6],[26,8,26,9],[41,3,41,4],[41,5,41,6],[41,8,41,9],[41,10,41,11],[41,13,41,14],[41,15,41,16],[57,3,57,4],[12,18,12,19],[12,20,12,21],[13,13,13,14],[13,20,13,21],[14,18,14,19],[14,20,14,21],[15,18,15,19],[15,20,15,21],[16,20,16,21],[13,15,13,16],[14,13,14,14],[14,15,14,16],[15,13,15,14],[15,15,15,16],[13,18,13,19],[16,18,16,19],[16,13,16,14],[16,15,16,16],[12,10,12,11],[16,5,16,6],[15,5,15,6],[14,5,14,6],[13,5,13,6],[13,1,28,1],[29,1,44,1],[16,3,16,4],[15,3,15,4],[14,3,14,4],[13,10,13,11],[14,10,14,11],[15,10,15,11],[16,10,16,11],[24,10,24,11],[23,5,23,6],[23,8,23,9],[25,3,25,4],[25,5,25,6],[25,8,25,9],[23,10,23,11],[25,10,25,11],[28,3,28,4],[28,5,28,6],[9,3,9,5],[9,6,10,7],[39,3,39,4],[39,5,39,6],[39,8,39,9],[17,8,17,9],[20,3,20,4],[20,5,20,6],[20,8,20,9],[27,3,27,4],[12,3,12,4],[12,5,12,6],[12,8,12,9],[13,3,13,4],[13,8,13,9],[14,8,14,9],[15,8,15,9],[16,8,16,9],[17,5,17,6],[24,3,24,4],[24,5,24,6],[24,8,24,9],[27,8,27,9],[23,3,23,4],[17,18,17,19],[17,20,17,21],[18,3,18,4],[18,5,18,6],[18,8,18,9],[18,10,18,11],[18,13,18,14],[18,15,18,16],[17,10,17,11],[17,13,17,14],[18,20,18,21],[19,18,19,19],[19,20,19,21],[20,20,20,21],[18,18,18,19],[19,3,19,4],[19,5,19,6],[19,8,19,9],[19,10,19,11],[21,20,21,21],[20,10,20,11],[20,13,20,14],[20,15,20,16],[20,18,20,19],[22,18,22,19],[22,20,22,21],[22,3,22,4],[22,5,22,6],[22,8,22,9],[22,10,22,11],[21,5,21,6],[21,8,21,9],[21,10,21,11],[21,13,21,14],[21,15,21,16],[21,18,21,19],[22,13,22,14],[27,20,27,21],[27,10,27,11],[27,13,27,14],[27,15,27,16],[27,18,27,19],[23,20,23,21],[24,13,24,14],[24,15,24,16],[24,18,24,19],[24,20,24,21],[25,20,25,21],[23,15,23,16],[23,18,23,19],[25,18,25,19],[26,13,26,14],[26,15,26,16],[26,18,26,19],[26,20,26,21],[26,10,26,11],[28,18,28,19],[28,20,28,21],[29,3,29,4],[29,5,29,6],[29,8,29,9],[29,10,29,11],[29,13,29,14],[29,15,29,16],[29,18,29,19],[29,20,29,21],[30,18,30,19],[30,20,30,21],[31,3,31,4],[31,5,31,6],[31,8,31,9],[31,10,31,11],[31,13,31,14],[31,15,31,16],[31,18,31,19],[31,20,31,21],[30,3,30,4],[30,5,30,6],[30,8,30,9],[30,10,30,11],[30,13,30,14],[30,15,30,16],[32,18,32,19],[32,20,32,21],[33,3,33,4],[33,5,33,6],[33,8,33,9],[33,10,33,11],[33,13,33,14],[33,15,33,16],[33,18,33,19],[33,20,33,21],[32,3,32,4],[32,5,32,6],[32,8,32,9],[32,10,32,11],[32,13,32,14],[32,15,32,16],[34,18,34,19],[34,20,34,21],[35,3,35,4],[35,5,35,6],[35,8,35,9],[35,10,35,11],[35,13,35,14],[35,15,35,16],[35,18,35,19],[35,20,35,21],[34,3,34,4],[34,5,34,6],[34,8,34,9],[34,10,34,11],[34,13,34,14],[34,15,34,16],[36,18,36,19],[36,20,36,21],[37,3,37,4],[37,5,37,6],[37,8,37,9],[37,10,37,11],[37,13,37,14],[37,15,37,16],[37,18,37,19],[37,20,37,21],[36,3,36,4],[36,5,36,6],[36,8,36,9],[36,10,36,11],[36,13,36,14],[36,15,36,16],[38,18,38,19],[38,20,38,21],[39,18,39,19],[39,20,39,21],[40,3,40,4],[40,5,40,6],[40,8,40,9],[40,10,40,11],[40,13,40,14],[40,15,40,16],[38,3,38,4],[38,5,38,6],[38,8,38,9],[38,10,38,11],[38,13,38,14],[38,15,38,16],[39,10,39,11],[40,18,40,19],[40,20,40,21],[41,18,41,19],[41,20,41,21],[42,18,42,19],[42,20,42,21],[43,3,43,4],[43,5,43,6],[43,8,43,9],[43,10,43,11],[43,13,43,14],[43,15,43,16],[43,18,43,19],[43,20,43,21],[42,3,42,4],[42,5,42,6],[42,8,42,9],[42,10,42,11],[42,13,42,14],[42,15,42,16],[44,18,44,19],[44,20,44,21],[45,3,45,4],[45,5,45,6],[45,8,45,9],[45,10,45,11],[45,13,45,14],[45,15,45,16],[45,18,45,19],[45,20,45,21],[44,3,44,4],[44,5,44,6],[44,8,44,9],[44,10,44,11],[44,13,44,14],[44,15,44,16],[46,18,46,19],[46,20,46,21],[47,3,47,4],[47,5,47,6],[47,8,47,9],[47,10,47,11],[47,13,47,14],[47,15,47,16],[47,18,47,19],[47,20,47,21],[46,3,46,4],[46,5,46,6],[46,8,46,9],[46,10,46,11],[46,13,46,14],[46,15,46,16],[48,18,48,19],[48,20,48,21],[49,3,49,4],[49,5,49,6],[49,8,49,9],[49,10,49,11],[49,13,49,14],[49,15,49,16],[49,18,49,19],[49,20,49,21],[48,3,48,4],[48,5,48,6],[48,8,48,9],[48,10,48,11],[48,13,48,14],[48,15,48,16],[50,18,50,19],[50,20,50,21],[51,3,51,4],[51,5,51,6],[51,8,51,9],[51,10,51,11],[51,13,51,14],[51,15,51,16],[51,18,51,19],[51,20,51,21],[50,3,50,4],[50,5,50,6],[50,8,50,9],[50,10,50,11],[50,13,50,14],[50,15,50,16],[52,18,52,19],[52,20,52,21],[53,3,53,4],[53,5,53,6],[53,8,53,9],[53,10,53,11],[53,13,53,14],[53,15,53,16],[53,18,53,19],[53,20,53,21],[52,3,52,4],[52,5,52,6],[52,8,52,9],[52,10,52,11],[52,13,52,14],[52,15,52,16],[54,20,54,21],[55,3,55,4],[55,5,55,6],[55,8,55,9],[55,10,55,11],[55,13,55,14],[55,15,55,16],[55,18,55,19],[55,20,55,21],[54,3,54,4],[54,5,54,6],[54,8,54,9],[54,10,54,11],[54,13,54,14],[54,15,54,16],[57,5,57,6],[57,8,57,9],[57,10,57,11],[57,13,57,14],[57,15,57,16],[57,18,57,19],[57,20,57,21],[56,3,56,4],[56,5,56,6],[56,8,56,9],[56,10,56,11],[56,13,56,14],[56,15,56,16],[59,3,59,4],[59,5,59,6],[59,8,59,9],[59,10,59,11],[59,13,59,14],[59,15,59,16],[59,18,59,19],[59,20,59,21],[58,3,58,4],[58,5,58,6],[58,8,58,9],[58,10,58,11],[58,13,58,14],[58,15,58,16],[61,3,61,4],[61,5,61,6],[61,8,61,9],[61,10,61,11],[61,13,61,14],[61,15,61,16],[61,18,61,19],[61,20,61,21],[60,3,60,4],[60,5,60,6],[60,8,60,9],[60,10,60,11],[60,13,60,14],[60,15,60,16],[63,3,63,4],[63,5,63,6],[63,8,63,9],[63,10,63,11],[63,13,63,14],[63,15,63,16],[63,18,63,19],[63,20,63,21],[62,3,62,4],[62,5,62,6],[62,8,62,9],[62,10,62,11],[62,13,62,14],[62,15,62,16],[65,3,65,4],[65,5,65,6],[65,8,65,9],[65,10,65,11],[65,13,65,14],[65,15,65,16],[65,18,65,19],[65,20,65,21],[64,3,64,4],[64,5,64,6],[64,8,64,9],[64,10,64,11],[64,13,64,14],[64,15,64,16],[67,5,67,6],[67,8,67,9],[67,10,67,11],[67,13,67,14],[67,15,67,16],[67,18,67,19],[67,20,67,21],[66,3,66,4],[66,5,66,6],[66,8,66,9],[66,10,66,11],[66,13,66,14],[66,15,66,16],[45,1,76,1],[6,19,7,23],[9,21,10,22],[10,3,10,5],[10,8,10,10],[10,13,10,15],[74,18,74,19],[74,20,74,21],[75,20,75,21],[75,3,75,4],[75,10,75,11],[74,3,74,4],[74,5,74,6],[74,8,74,9],[74,10,74,11],[74,13,74,14],[74,15,74,16],[72,18,72,19],[72,20,72,21],[73,3,73,4],[73,5,73,6],[73,8,73,9],[73,10,73,11],[73,13,73,14],[75,8,75,9],[76,3,76,4],[76,5,76,6],[76,8,76,9],[9,16,10,17],[9,18,9,20],[76,10,76,11],[75,13,75,14],[75,15,75,16],[75,18,75,19],[75,5,75,6],[73,15,73,16],[73,18,73,19],[73,20,73,21],[72,3,72,4],[72,5,72,6],[72,8,72,9],[72,10,72,11],[72,13,72,14],[68,8,68,9],[68,10,68,11],[68,13,68,14],[68,15,68,16],[67,3,67,4],[68,3,68,4],[68,5,68,6],[9,8,9,10],[9,11,10,12],[9,13,9,15],[72,15,72,16],[70,18,70,19],[70,20,70,21],[68,18,68,19],[68,20,68,21],[66,18,66,19],[66,20,66,21],[64,18,64,19],[64,20,64,21],[62,18,62,19],[62,20,62,21],[60,18,60,19],[60,20,60,21],[71,8,71,9],[71,10,71,11],[71,13,71,14],[71,15,71,16],[71,18,71,19],[71,20,71,21],[71,3,71,4],[71,5,71,6],[70,3,70,4],[70,5,70,6],[70,13,70,14],[70,15,70,16],[69,3,69,4],[69,5,69,6],[69,8,69,9],[69,10,69,11],[69,13,69,14],[69,15,69,16],[70,8,70,9],[70,10,70,11],[2,15,2,19],[3,13,3,19],[2,13,2,14],[1,13,1,14],[85,22,85,24],[86,22,86,24],[87,22,87,24],[81,22,81,24],[82,22,82,24],[83,22,83,24],[84,22,84,24],[10,18,10,20],[69,18,69,19],[69,20,69,21],[5,19,5,23],[76,13,76,14],[76,15,76,16],[76,18,76,19],[76,20,76,21],[58,18,58,19],[58,20,58,21],[56,18,56,19],[56,20,56,21],[54,18,54,19]]}
[null,"Intersection Traffic Volume Report"]
[null,null,null,null,null,null,null,null,null,null,null,null,null,"Count Basics",null,null,null,null,null,null,null,null,null,null,null,"Page 11 of 11"]
[null,null,null,null,null,null,null,null,null,null,null,null,null,{"$f":"'Base Information'!$L$3","v":"Start Date:"},null,{"$f":"'Base Information'!$N$3","v":"2011-12-06"},null,null,null,null,{"$f":"'Base Information'!R3","v":"Weekday"},null,null,{"$f":"'Base Information'!U3","v":"Schools in Session"}]
[null,null,null,null,null,null,null,null,null,null,null,null,null,{"$f":"'Base Information'!$L$4","v":"Total Number of Hours Counted: 12"},null,null,null,null,null,null,{"$f":"'Base Information'!R4","v":"Non-Holiday"},null,null,{"$f":"'Base Information'!U4","v":"No Special Events"}]
[null,"15-Minute Pedestrian and Bicyclist Data"]
[null,null,null,null,null,null,null,null,null,null,null,null,null,null,null,null,null,null,null,"Pedestrians and Bicyclists"]
[null,{"$f":"'Base Information'!E7","v":"441 NB ON RAMP and CTH OO (Northland Ave)"}]
[]
[null,"15-Minute Pedestrian and Bicyclist Data"]
[null,null,null,"Crossing",null,null,null,null,"Crossing",null,null,null,null,"Crossing",null,null,null,null,"Crossing"]
[null,"15-Minute",null,"North Approach",null,null,null,null,"East Approach",null,null,null,null,"South Approach",null,null,null,null,"West Approach"]
[null,"Time Period",null,{"$f":"'Base Information'!$D$14:$D$14","v":"441 NB ON RAMP"},null,null,null,null,{"$f":"'Base Information'!$D$15:$D$15","v":"CTH OO (Northland Ave)"},null,null,null,null,{"$f":"'Base Information'!$D$16:$D$16","v":"441 NB OFF RAMP"},null,null,null,null,{"$f":"'Base Information'!$D$17:$D$17","v":"CTH OO (Northland Ave)"},null,null,null,null,"15-Min",null,"Hourly"]
[null,"Start Time",null,"Pedestrian",null,"Bicyclist",null,"Total","Pedestrian",null,"Bicyclist",null,"Total","Pedestrian",null,"Bicyclist",null,"Total","Pedestrian",null,"Bicyclist",null,"Total","Totals",null,"Sum"]
[null,"AM Peak Period","06:00:00",{"$f":"Calculations!$AU$6","v":0},null,{"$f":"Calculations!$BL$6","v":0},null,{"$f":"SUM(D14:G14)","v":0},{"$f":"Calculations!$AY$6","v":0},null,{"$f":"Calculations!$BP$6","v":0},null,{"$f":"SUM(I14:L14)","v":0},{"$f":"Calculations!$BC$6","v":0},null,{"$f":"Calculations!$BT$6","v":0},null,{"$f":"SUM(N14:Q14)","v":0},{"$f":"Calculations!$BG$6","v":0},null,{"$f":"Calculations!$BX$6","v":0},null,{"$f":"SUM(S14:V14)","v":0},{"$f":"H14+M14+R14+W14","v":0},null,{"$f":"IF(OR('15-Min All Vehicle'!X14=0,'15-Min All Vehicle'!X15=0, '15-Min All Vehicle'!X16=0,'15-Min All Vehicle'!X17=0)=TRUE,\"\",X14+X15+X16+X17)","v":1}]
[null,null,"06:14:59.942",{"$f":"Calculations!$AU$9","v":0},null,{"$f":"Calculations!$BL$9","v":0},null,{"$f":"SUM(D15:G15)","v":0},{"$f":"Calculations!$AY$9","v":1},null,{"$f":"Calculations!$BP$9","v":0},null,{"$f":"SUM(I15:L15)","v":1},{"$f":"Calculations!$BC$9","v":0},null,{"$f":"Calculations!$BT$9","v":0},null,{"$f":"SUM(N15:Q15)","v":0},{"$f":"Calculations!$BG$9","v":0},null,{"$f":"Calculations!$BX$9","v":0},null,{"$f":"SUM(S15:V15)","v":0},{"$f":"H15+M15+R15+W15","v":1},null,{"$f":"IF(OR('15-Min All Vehicle'!X15=0,'15-Min All Vehicle'!X16=0, '15-Min All Vehicle'!X17=0,'15-Min All Vehicle'!X18=0)=TRUE,\"\",X15+X16+X17+X18)","v":1}]
[null,null,"06:29:59.971",{"$f":"Calculations!$AU$12","v":0},null,{"$f":"Calculations!$BL$12","v":0},null,{"$f":"SUM(D16:G16)","v":0},{"$f":"Calculations!$AY$12","v":0},null,{"$f":"Calculations!$BP$12","v":0},null,{"$f":"SUM(I16:L16)","v":0},{"$f":"Calculations!$BC$12","v":0},null,{"$f":"Calculations!$BT$12","v":0},null,{"$f":"SUM(N16:Q16)","v":0},{"$f":"Calculations!$BG$12","v":0},null,{"$f":"Calculations!$BX$12","v":0},null,{"$f":"SUM(S16:V16)","v":0},{"$f":"H16+M16+R16+W16","v":0},null,{"$f":"IF(OR('15-Min All Vehicle'!X16=0,'15-Min All Vehicle'!X17=0, '15-Min All Vehicle'!X18=0,'15-Min All Vehicle'!X19=0)=TRUE,\"\",X16+X17+X18+X19)","v":0}]
[null,null,"06:45:00",{"$f":"Calculations!$AU$15","v":0},null,{"$f":"Calculations!$BL$15","v":0},null,{"$f":"SUM(D17:G17)","v":0},{"$f":"Calculations!$AY$15","v":0},null,{"$f":"Calculations!$BP$15","v":0},null,{"$f":"SUM(I17:L17)","v":0},{"$f":"Calculations!$BC$15","v":0},null,{"$f":"Calculations!$BT$15","v":0},null,{"$f":"SUM(N17:Q17)","v":0},{"$f":"Calculations!$BG$15","v":0},null,{"$f":"Calculations!$BX$15","v":0},null,{"$f":"SUM(S17:V17)","v":0},{"$f":"H17+M17+R17+W17","v":0},null,{"$f":"IF(OR('15-Min All Vehicle'!X17=0,'15-Min All Vehicle'!X18=0, '15-Min All Vehicle'!X19=0,'15-Min All Vehicle'!X20=0)=TRUE,\"\",X17+X18+X19+X20)","v":0}]
[null,null,"06:59:59.942",{"$f":"Calculations!$AU$18","v":0},null,{"$f":"Calculations!$BL$18","v":0},null,{"$f":"SUM(D18:G18)","v":0},{"$f":"Calculations!$AY$18","v":0},null,{"$f":"Calculations!$BP$18","v":0},null,{"$f":"SUM(I18:L18)","v":0},{"$f":"Calculations!$BC$18","v":0},null,{"$f":"Calculations!$BT$18","v":0},null,{"$f":"SUM(N18:Q18)","v":0},{"$f":"Calculations!$BG$18","v":0},null,{"$f":"Calculations!$BX$18","v":0},null,{"$f":"SUM(S18:V18)","v":0},{"$f":"H18+M18+R18+W18","v":0},null,{"$f":"IF(OR('15-Min All Vehicle'!X18=0,'15-Min All Vehicle'!X19=0, '15-Min All Vehicle'!X20=0,'15-Min All Vehicle'!X21=0)=TRUE,\"\",X18+X19+X20+X21)","v":0}]
[null,null,"07:14:59.971",{"$f":"Calculations!$AU$21","v":0},null,{"$f":"Calculations!$BL$21","v":0},null,0,{"$f":"Calculations!$AY$21","v":0},null,{"$f":"Calculations!$BP$21","v":0},null,0,{"$f":"Calculations!$BC$21","v":0},null,{"$f":"Calculations!$BT$21","v":0},null,0,{"$f":"Calculations!$BG$21","v":0},null,{"$f":"Calculations!$BX$21","v":0},null,0,0,null,{"$f":"IF(OR('15-Min All Vehicle'!X19=0,'15-Min All Vehicle'!X20=0, '15-Min All Vehicle'!X21=0,'15-Min All Vehicle'!X22=0)=TRUE,\"\",X19+X20+X21+X22)","v":0}]
[null,null,"07:30:00",{"$f":"Calculations!$AU$24","v":0},null,{"$f":"Calculations!$BL$24","v":0},null,0,{"$f":"Calculations!$AY$24","v":0},null,{"$f":"Calculations!$BP$24","v":0},null,0,{"$f":"Calculations!$BC$24","v":0},null,{"$f":"Calculations!$BT$24","v":0},null,0,{"$f":"Calculations!$BG$24","v":0},null,{"$f":"Calculations!$BX$24","v":0},null,0,0,null,{"$f":"IF(OR('15-Min All Vehicle'!X20=0,'15-Min All Vehicle'!X21=0, '15-Min All Vehicle'!X22=0,'15-Min All Vehicle'!X23=0)=TRUE,\"\",X20+X21+X22+X23)","v":0}]
[null,null,"07:44:59.942",{"$f":"Calculations!$AU$27","v":0},null,{"$f":"Calculations!$BL$27","v":0},null,0,{"$f":"Calculations!$AY$27","v":0},null,{"$f":"Calculations!$BP$27","v":0},null,0,{"$f":"Calculations!$BC$27","v":0},null,{"$f":"Calculations!$BT$27","v":0},null,0,{"$f":"Calculations!$BG$27","v":0},null,{"$f":"Calculations!$BX$27","v":0},null,0,0,null,{"$f":"IF(OR('15-Min All Vehicle'!X21=0,'15-Min All Vehicle'!X22=0, '15-Min All Vehicle'!X23=0,'15-Min All Vehicle'!X24=0)=TRUE,\"\",X21+X22+X23+X24)","v":0}]
[null,null,"07:59:59.971",{"$f":"Calculations!$AU$30","v":0},null,{"$f":"Calculations!$BL$30","v":0},null,0,{"$f":"Calculations!$AY$30","v":0},null,{"$f":"Calculations!$BP$30","v":0},null,0,{"$f":"Calculations!$BC$30","v":0},null,{"$f":"Calculations!$BT$30","v":0},null,0,{"$f":"Calculations!$BG$30","v":0},null,{"$f":"Calculations!$BX$30","v":0},null,0,0,null,{"$f":"IF(OR('15-Min All Vehicle'!X22=0,'15-Min All Vehicle'!X23=0, '15-Min All Vehicle'!X24=0,'15-Min All Vehicle'!X25=0)=TRUE,\"\",X22+X23+X24+X25)","v":0}]
[null,null,"08:15:00",{"$f":"Calculations!$AU$33","v":0},null,{"$f":"Calculations!$BL$33","v":0},null,0,{"$f":"Calculations!$AY$33","v":0},null,{"$f":"Calculations!$BP$33","v":0},null,0,{"$f":"Calculations!$BC$33","v":0},null,{"$f":"Calculations!$BT$33","v":0},null,0,{"$f":"Calculations!$BG$33","v":0},null,{"$f":"Calculations!$BX$33","v":0},null,0,0,null,{"$f":"IF(OR('15-Min All Vehicle'!X23=0,'15-Min All Vehicle'!X24=0, '15-Min All Vehicle'!X25=0,'15-Min All Vehicle'!X26=0)=TRUE,\"\",X23+X24+X25+X26)","v":0}]
[null,null,"08:29:59.942",{"$f":"Calculations!$AU$36","v":0},null,{"$f":"Calculations!$BL$36","v":0},null,0,{"$f":"Calculations!$AY$36","v":0},null,{"$f":"Calculations!$BP$36","v":0},null,0,{"$f":"Calculations!$BC$36","v":0},null,{"$f":"Calculations!$BT$36","v":0},null,0,{"$f":"Calculations!$BG$36","v":0},null,{"$f":"Calculations!$BX$36","v":0},null,0,0,null,{"$f":"IF(OR('15-Min All Vehicle'!X24=0,'15-Min All Vehicle'!X25=0, '15-Min All Vehicle'!X26=0,'15-Min All Vehicle'!X27=0)=TRUE,\"\",X24+X25+X26+X27)","v":0}]
[null,null,"08:44:59.971",{"$f":"Calculations!$AU$39","v":0},null,{"$f":"Calculations!$BL$39","v":0},null,0,{"$f":"Calculations!$AY$39","v":0},null,{"$f":"Calculations!$BP$39","v":0},null,0,{"$f":"Calculations!$BC$39","v":0},null,{"$f":"Calculations!$BT$39","v":0},null,0,{"$f":"Calculations!$BG$39","v":0},null,{"$f":"Calculations!$BX$39","v":0},null,0,0,null,{"$f":"IF(OR('15-Min All Vehicle'!X25=0,'15-Min All Vehicle'!X26=0, '15-Min All Vehicle'!X27=0,'15-Min All Vehicle'!X28=0)=TRUE,\"\",X25+X26+X27+X28)","v":0}]
[null,null,"09:00:00",{"$f":"Calculations!$AU$42","v":0},null,{"$f":"Calculations!$BL$42","v":0},null,0,{"$f":"Calculations!$AY$42","v":0},null,{"$f":"Calculations!$BP$42","v":0},null,0,{"$f":"Calculations!$BC$42","v":0},null,{"$f":"Calculations!$BT$42","v":0},null,0,{"$f":"Calculations!$BG$42","v":0},null,{"$f":"Calculations!$BX$42","v":0},null,0,0,null,{"$f":"IF(OR('15-Min All Vehicle'!X26=0,'15-Min All Vehicle'!X27=0, '15-Min All Vehicle'!X28=0,'15-Min All Vehicle'!X29=0)=TRUE,\"\",X26+X27+X28+X29)","v":0}]
[null,null,"09:14:59.942",{"$f":"Calculations!$AU$45","v":0},null,{"$f":"Calculations!$BL$45","v":0},null,0,{"$f":"Calculations!$AY$45","v":0},null,{"$f":"Calculations!$BP$45","v":0},null,0,{"$f":"Calculations!$BC$45","v":0},null,{"$f":"Calculations!$BT$45","v":0},null,0,{"$f":"Calculations!$BG$45","v":0},null,{"$f":"Calculations!$BX$45","v":0},null,0,0,null,{"$f":"IF(OR('15-Min All Vehicle'!X27=0,'15-Min All Vehicle'!X28=0, '15-Min All Vehicle'!X29=0,'15-Min All Vehicle'!X30=0)=TRUE,\"\",X27+X28+X29+X30)","v":0}]
[null,null,"09:29:59.971",{"$f":"Calculations!$AU$48","v":0},null,{"$f":"Calculations!$BL$48","v":0},null,0,{"$f":"Calculations!$AY$48","v":0},null,{"$f":"Calculations!$BP$48","v":0},null,0,{"$f":"Calculations!$BC$48","v":0},null,{"$f":"Calculations!$BT$48","v":0},null,0,{"$f":"Calculations!$BG$48","v":0},null,{"$f":"Calculations!$BX$48","v":0},null,0,0,null,{"$f":"IF(OR('15-Min All Vehicle'!X28=0,'15-Min All Vehicle'!X29=0, '15-Min All Vehicle'!X30=0,'15-Min All Vehicle'!X31=0)=TRUE,\"\",X28+X29+X30+X31)","v":0}]
[null,null,"09:45:00",{"$f":"Calculations!$AU$51","v":0},null,{"$f":"Calculations!$BL$51","v":0},null,0,{"$f":"Calculations!$AY$51","v":0},null,{"$f":"Calculations!$BP$51","v":0},null,0,{"$f":"Calculations!$BC$51","v":0},null,{"$f":"Calculations!$BT$51","v":0},null,0,{"$f":"Calculations!$BG$51","v":0},null,{"$f":"Calculations!$BX$51","v":0},null,0,0,null,{"$f":"IF(OR('15-Min All Vehicle'!X29=0,'15-Min All Vehicle'!X30=0, '15-Min All Vehicle'!X31=0,'15-Min All Vehicle'!X32=0)=TRUE,\"\",X29+X30+X31+X32)","v":0}]
[null,"Midday Peak Period","09:59:59.942",{"$f":"Calculations!$AU$54","v":0},null,{"$f":"Calculations!$BL$54","v":0},null,0,{"$f":"Calculations!$AY$54","v":0},null,{"$f":"Calculations!$BP$54","v":0},null,0,{"$f":"Calculations!$BC$54","v":0},null,{"$f":"Calculations!$BT$54","v":0},null,0,{"$f":"Calculations!$BG$54","v":0},null,{"$f":"Calculations!$BX$54","v":0},null,0,0,null,{"$f":"IF(OR('15-Min All Vehicle'!X30=0,'15-Min All Vehicle'!X31=0, '15-Min All Vehicle'!X32=0,'15-Min All Vehicle'!X33=0)=TRUE,\"\",X30+X31+X32+X33)","v":0}]
[null,null,"10:14:59.971",{"$f":"Calculations!$AU$57","v":0},null,{"$f":"Calculations!$BL$57","v":0},null,0,{"$f":"Calculations!$AY$57","v":0},null,{"$f":"Calculations!$BP$57","v":0},null,0,{"$f":"Calculations!$BC$57","v":0},null,{"$f":"Calculations!$BT$57","v":0},null,0,{"$f":"Calculations!$BG$57","v":0},null,{"$f":"Calculations!$BX$57","v":0},null,0,0,null,{"$f":"IF(OR('15-Min All Vehicle'!X31=0,'15-Min All Vehicle'!X32=0, '15-Min All Vehicle'!X33=0,'15-Min All Vehicle'!X34=0)=TRUE,\"\",X31+X32+X33+X34)","v":0}]
[null,null,"10:30:00",{"$f":"Calculations!$AU$60","v":0},null,{"$f":"Calculations!$BL$60","v":0},null,0,{"$f":"Calculations!$AY$60","v":0},null,{"$f":"Calculations!$BP$60","v":0},null,0,{"$f":"Calculations!$BC$60","v":0},null,{"$f":"Calculations!$BT$60","v":0},null,0,{"$f":"Calculations!$BG$60","v":0},null,{"$f":"Calculations!$BX$60","v":0},null,0,0,null,{"$f":"IF(OR('15-Min All Vehicle'!X32=0,'15-Min All Vehicle'!X33=0, '15-Min All Vehicle'!X34=0,'15-Min All Vehicle'!X35=0)=TRUE,\"\",X32+X33+X34+X35)","v":0}]
[null,null,"10:44:59.942",{"$f":"Calculations!$AU$63","v":0},null,{"$f":"Calculations!$BL$63","v":0},null,0,{"$f":"Calculations!$AY$63","v":0},null,{"$f":"Calculations!$BP$63","v":0},null,0,{"$f":"Calculations!$BC$63","v":0},null,{"$f":"Calculations!$BT$63","v":0},null,0,{"$f":"Calculations!$BG$63","v":0},null,{"$f":"Calculations!$BX$63","v":0},null,0,0,null,{"$f":"IF(OR('15-Min All Vehicle'!X33=0,'15-Min All Vehicle'!X34=0, '15-Min All Vehicle'!X35=0,'15-Min All Vehicle'!X36=0)=TRUE,\"\",X33+X34+X35+X36)","v":0}]
[null,null,"10:59:59.971",{"$f":"Calculations!$AU$66","v":0},null,{"$f":"Calculations!$BL$66","v":0},null,0,{"$f":"Calculations!$AY$66","v":0},null,{"$f":"Calculations!$BP$66","v":0},null,0,{"$f":"Calculations!$BC$66","v":0},null,{"$f":"Calculations!$BT$66","v":0},null,0,{"$f":"Calculations!$BG$66","v":0},null,{"$f":"Calculations!$BX$66","v":0},null,0,0,null,{"$f":"IF(OR('15-Min All Vehicle'!X34=0,'15-Min All Vehicle'!X35=0, '15-Min All Vehicle'!X36=0,'15-Min All Vehicle'!X37=0)=TRUE,\"\",X34+X35+X36+X37)","v":0}]
[null,null,"11:15:00",{"$f":"Calculations!$AU$69","v":0},null,{"$f":"Calculations!$BL$69","v":0},null,0,{"$f":"Calculations!$AY$69","v":0},null,{"$f":"Calculations!$BP$69","v":0},null,0,{"$f":"Calculations!$BC$69","v":0},null,{"$f":"Calculations!$BT$69","v":0},null,0,{"$f":"Calculations!$BG$69","v":0},null,{"$f":"Calculations!$BX$69","v":0},null,0,0,null,{"$f":"IF(OR('15-Min All Vehicle'!X35=0,'15-Min All Vehicle'!X36=0, '15-Min All Vehicle'!X37=0,'15-Min All Vehicle'!X38=0)=TRUE,\"\",X35+X36+X37+X38)","v":0}]
[null,null,"11:29:59.942",{"$f":"Calculations!$AU$72","v":0},null,{"$f":"Calculations!$BL$72","v":0},null,0,{"$f":"Calculations!$AY$72","v":0},null,{"$f":"Calculations!$BP$72","v":0},null,0,{"$f":"Calculations!$BC$72","v":0},null,{"$f":"Calculations!$BT$72","v":0},null,0,{"$f":"Calculations!$BG$72","v":0},null,{"$f":"Calculations!$BX$72","v":0},null,0,0,null,{"$f":"IF(OR('15-Min All Vehicle'!X36=0,'15-Min All Vehicle'!X37=0, '15-Min All Vehicle'!X38=0,'15-Min All Vehicle'!X39=0)=TRUE,\"\",X36+X37+X38+X39)","v":0}]
[null,null,"11:44:59.971",{"$f":"Calculations!$AU$75","v":0},null,{"$f":"Calculations!$BL$75","v":0},null,0,{"$f":"Calculations!$AY$75","v":0},null,{"$f":"Calculations!$BP$75","v":0},null,0,{"$f":"Calculations!$BC$75","v":0},null,{"$f":"Calculations!$BT$75","v":0},null,0,{"$f":"Calculations!$BG$75","v":0},null,{"$f":"Calculations!$BX$75","v":0},null,0,0,null,{"$f":"IF(OR('15-Min All Vehicle'!X37=0,'15-Min All Vehicle'!X38=0, '15-Min All Vehicle'!X39=0,'15-Min All Vehicle'!X40=0)=TRUE,\"\",X37+X38+X39+X40)","v":0}]
[null,null,"12:00:00",{"$f":"Calculations!$AU$78","v":0},null,{"$f":"Calculations!$BL$78","v":0},null,0,{"$f":"Calculations!$AY$78","v":0},null,{"$f":"Calculations!$BP$78","v":0},null,0,{"$f":"Calculations!$BC$78","v":0},null,{"$f":"Calculations!$BT$78","v":0},null,0,{"$f":"Calculations!$BG$78","v":0},null,{"$f":"Calculations!$BX$78","v":0},null,0,0,null,{"$f":"IF(OR('15-Min All Vehicle'!X38=0,'15-Min All Vehicle'!X39=0, '15-Min All Vehicle'!X40=0,'15-Min All Vehicle'!X41=0)=TRUE,\"\",X38+X39+X40+X41)","v":0}]
[null,null,"12:14:59.942",{"$f":"Calculations!$AU$81","v":0},null,{"$f":"Calculations!$BL$81","v":0},null,0,{"$f":"Calculations!$AY$81","v":0},null,{"$f":"Calculations!$BP$81","v":0},null,0,{"$f":"Calculations!$BC$81","v":0},null,{"$f":"Calculations!$BT$81","v":0},null,0,{"$f":"Calculations!$BG$81","v":0},null,{"$f":"Calculations!$BX$81","v":0},null,0,0,null,{"$f":"IF(OR('15-Min All Vehicle'!X39=0,'15-Min All Vehicle'!X40=0, '15-Min All Vehicle'!X41=0,'15-Min All Vehicle'!X42=0)=TRUE,\"\",X39+X40+X41+X42)","v":0}]
[null,null,"12:29:59.971",{"$f":"Calculations!$AU$84","v":0},null,{"$f":"Calculations!$BL$84","v":0},null,0,{"$f":"Calculations!$AY$84","v":0},null,{"$f":"Calculations!$BP$84","v":0},null,0,{"$f":"Calculations!$BC$84","v":0},null,{"$f":"Calculations!$BT$84","v":0},null,0,{"$f":"Calculations!$BG$84","v":0},null,{"$f":"Calculations!$BX$84","v":0},null,0,0,null,{"$f":"IF(OR('15-Min All Vehicle'!X40=0,'15-Min All Vehicle'!X41=0, '15-Min All Vehicle'!X42=0,'15-Min All Vehicle'!X43=0)=TRUE,\"\",X40+X41+X42+X43)","v":0}]
[null,null,"12:45:00",{"$f":"Calculations!$AU$87","v":0},null,{"$f":"Calculations!$BL$87","v":0},null,0,{"$f":"Calculations!$AY$87","v":0},null,{"$f":"Calculations!$BP$87","v":0},null,0,{"$f":"Calculations!$BC$87","v":0},null,{"$f":"Calculations!$BT$87","v":0},null,0,{"$f":"Calculations!$BG$87","v":0},null,{"$f":"Calculations!$BX$87","v":0},null,0,0,null,{"$f":"IF(OR('15-Min All Vehicle'!X41=0,'15-Min All Vehicle'!X42=0, '15-Min All Vehicle'!X43=0,'15-Min All Vehicle'!X44=0)=TRUE,\"\",X41+X42+X43+X44)","v":0}]
[null,null,"12:59:59.942",{"$f":"Calculations!$AU$90","v":0},null,{"$f":"Calculations!$BL$90","v":0},null,{"$f":"SUM(D42:G42)","v":0},{"$f":"Calculations!$AY$90","v":0},null,{"$f":"Calculations!$BP$90","v":0},null,0,{"$f":"Calculations!$BC$90","v":0},null,{"$f":"Calculations!$BT$90","v":0},null,0,{"$f":"Calculations!$BG$90","v":0},null,{"$f":"Calculations!$BX$90","v":0},null,0,0,null,{"$f":"IF(OR('15-Min All Vehicle'!X42=0,'15-Min All Vehicle'!X43=0, '15-Min All Vehicle'!X44=0,'15-Min All Vehicle'!X45=0)=TRUE,\"\",X42+X43+X44+X45)","v":0}]
[null,null,"13:14:59.971",{"$f":"Calculations!$AU$93","v":0},null,{"$f":"Calculations!$BL$93","v":0},null,0,{"$f":"Calculations!$AY$93","v":0},null,{"$f":"Calculations!$BP$93","v":0},null,0,{"$f":"Calculations!$BC$93","v":0},null,{"$f":"Calculations!$BT$93","v":0},null,0,{"$f":"Calculations!$BG$93","v":0},null,{"$f":"Calculations!$BX$93","v":0},null,0,0,null,{"$f":"IF(OR('15-Min All Vehicle'!X43=0,'15-Min All Vehicle'!X44=0, '15-Min All Vehicle'!X45=0,'15-Min All Vehicle'!X46=0)=TRUE,\"\",X43+X44+X45+X46)","v":0}]
[null,null,"13:30:00",{"$f":"Calculations!$AU$96","v":0},null,{"$f":"Calculations!$BL$96","v":0},null,0,{"$f":"Calculations!$AY$96","v":0},null,{"$f":"Calculations!$BP$96","v":0},null,0,{"$f":"Calculations!$BC$96","v":0},null,{"$f":"Calculations!$BT$96","v":0},null,0,{"$f":"Calculations!$BG$96","v":0},null,{"$f":"Calculations!$BX$96","v":0},null,0,0,null,{"$f":"IF(OR('15-Min All Vehicle'!X44=0,'15-Min All Vehicle'!X45=0, '15-Min All Vehicle'!X46=0,'15-Min All Vehicle'!X47=0)=TRUE,\"\",X44+X45+X46+X47)","v":0}]
[null,null,"13:44:59.942",{"$f":"Calculations!$AU$99","v":0},null,{"$f":"Calculations!$BL$99","v":0},null,0,{"$f":"Calculations!$AY$99","v":0},null,{"$f":"Calculations!$BP$99","v":0},null,0,{"$f":"Calculations!$BC$99","v":0},null,{"$f":"Calculations!$BT$99","v":0},null,0,{"$f":"Calculations!$BG$99","v":0},null,{"$f":"Calculations!$BX$99","v":0},null,0,0,null,{"$f":"IF(OR('15-Min All Vehicle'!X45=0,'15-Min All Vehicle'!X46=0, '15-Min All Vehicle'!X47=0,'15-Min All Vehicle'!X48=0)=TRUE,\"\",X45+X46+X47+X48)","v":0}]
[null,"PM Peak Period","13:59:59.971",{"$f":"Calculations!$AU$102","v":0},null,{"$f":"Calculations!$BL$102","v":0},null,0,{"$f":"Calculations!$AY$102","v":0},null,{"$f":"Calculations!$BP$102","v":0},null,0,{"$f":"Calculations!$BC$102","v":0},null,{"$f":"Calculations!$BT$102","v":0},null,0,{"$f":"Calculations!$BG$102","v":0},null,{"$f":"Calculations!$BX$102","v":0},null,0,0,null,{"$f":"IF(OR('15-Min All Vehicle'!X46=0,'15-Min All Vehicle'!X47=0, '15-Min All Vehicle'!X48=0,'15-Min All Vehicle'!X49=0)=TRUE,\"\",X46+X47+X48+X49)","v":2}]
[null,null,"14:15:00",{"$f":"Calculations!$AU$105","v":0},null,{"$f":"Calculations!$BL$105","v":0},null,0,{"$f":"Calculations!$AY$105","v":0},null,{"$f":"Calculations!$BP$105","v":0},null,0,{"$f":"Calculations!$BC$105","v":0},null,{"$f":"Calculations!$BT$105","v":0},null,0,{"$f":"Calculations!$BG$105","v":0},null,{"$f":"Calculations!$BX$105","v":0},null,0,0,null,{"$f":"IF(OR('15-Min All Vehicle'!X47=0,'15-Min All Vehicle'!X48=0, '15-Min All Vehicle'!X49=0,'15-Min All Vehicle'!X50=0)=TRUE,\"\",X47+X48+X49+X50)","v":3}]
[null,null,"14:29:59.942",{"$f":"Calculations!$AU$108","v":0},null,{"$f":"Calculations!$BL$108","v":0},null,0,{"$f":"Calculations!$AY$108","v":0},null,{"$f":"Calculations!$BP$108","v":0},null,0,{"$f":"Calculations!$BC$108","v":0},null,{"$f":"Calculations!$BT$108","v":0},null,0,{"$f":"Calculations!$BG$108","v":0},null,{"$f":"Calculations!$BX$108","v":0},null,0,0,null,{"$f":"IF(OR('15-Min All Vehicle'!X48=0,'15-Min All Vehicle'!X49=0, '15-Min All Vehicle'!X50=0,'15-Min All Vehicle'!X51=0)=TRUE,\"\",X48+X49+X50+X51)","v":4}]
[null,null,"14:44:59.971",{"$f":"Calculations!$AU$111","v":0},null,{"$f":"Calculations!$BL$111","v":0},null,0,{"$f":"Calculations!$AY$111","v":1},null,{"$f":"Calculations!$BP$111","v":0},null,1,{"$f":"Calculations!$BC$111","v":1},null,{"$f":"Calculations!$BT$111","v":0},null,1,{"$f":"Calculations!$BG$111","v":0},null,{"$f":"Calculations!$BX$111","v":0},null,0,2,null,{"$f":"IF(OR('15-Min All Vehicle'!X49=0,'15-Min All Vehicle'!X50=0, '15-Min All Vehicle'!X51=0,'15-Min All Vehicle'!X52=0)=TRUE,\"\",X49+X50+X51+X52)","v":6}]
[null,null,"15:00:00",{"$f":"Calculations!$AU$114","v":0},null,{"$f":"Calculations!$BL$114","v":0},null,0,{"$f":"Calculations!$AY$114","v":1},null,{"$f":"Calculations!$BP$114","v":0},null,1,{"$f":"Calculations!$BC$114","v":0},null,{"$f":"Calculations!$BT$114","v":0},null,0,{"$f":"Calculations!$BG$114","v":0},null,{"$f":"Calculations!$BX$114","v":0},null,0,1,null,{"$f":"IF(OR('15-Min All Vehicle'!X50=0,'15-Min All Vehicle'!X51=0, '15-Min All Vehicle'!X52=0,'15-Min All Vehicle'!X53=0)=TRUE,\"\",X50+X51+X52+X53)","v":4}]
[null,null,"15:14:59.942",{"$f":"Calculations!$AU$117","v":0},null,{"$f":"Calculations!$BL$117","v":0},null,0,{"$f":"Calculations!$AY$117","v":0},null,{"$f":"Calculations!$BP$117","v":1},null,1,{"$f":"Calculations!$BC$117","v":0},null,{"$f":"Calculations!$BT$117","v":0},null,0,{"$f":"Calculations!$BG$117","v":0},null,{"$f":"Calculations!$BX$117","v":0},null,0,1,null,{"$f":"IF(OR('15-Min All Vehicle'!X51=0,'15-Min All Vehicle'!X52=0, '15-Min All Vehicle'!X53=0,'15-Min All Vehicle'!X54=0)=TRUE,\"\",X51+X52+X53+X54)","v":6}]
[null,null,"15:29:59.971",{"$f":"Calculations!$AU$120","v":0},null,{"$f":"Calculations!$BL$120","v":0},null,0,{"$f":"Calculations!$AY$120","v":2},null,{"$f":"Calculations!$BP$120","v":0},null,2,{"$f":"Calculations!$BC$120","v":0},null,{"$f":"Calculations!$BT$120","v":0},null,0,{"$f":"Calculations!$BG$120","v":0},null,{"$f":"Calculations!$BX$120","v":0},null,0,2,null,{"$f":"IF(OR('15-Min All Vehicle'!X52=0,'15-Min All Vehicle'!X53=0, '15-Min All Vehicle'!X54=0,'15-Min All Vehicle'!X55=0)=TRUE,\"\",X52+X53+X54+X55)","v":5}]
[null,null,"15:45:00",{"$f":"Calculations!$AU$123","v":0},null,{"$f":"Calculations!$BL$123","v":0},null,0,{"$f":"Calculations!$AY$123","v":0},null,{"$f":"Calculations!$BP$123","v":0},null,0,{"$f":"Calculations!$BC$123","v":0},null,{"$f":"Calculations!$BT$123","v":0},null,0,{"$f":"Calculations!$BG$123","v":0},null,{"$f":"Calculations!$BX$123","v":0},null,0,0,null,{"$f":"IF(OR('15-Min All Vehicle'!X53=0,'15-Min All Vehicle'!X54=0, '15-Min All Vehicle'!X55=0,'15-Min All Vehicle'!X56=0)=TRUE,\"\",X53+X54+X55+X56)","v":3}]
[null,null,"15:59:59.942",{"$f":"Calculations!$AU$126","v":0},null,{"$f":"Calculations!$BL$126","v":0},null,0,{"$f":"Calculations!$AY$126","v":0},null,{"$f":"Calculations!$BP$126","v":0},null,0,{"$f":"Calculations!$BC$126","v":3},null,{"$f":"Calculations!$BT$126","v":0},null,3,{"$f":"Calculations!$BG$126","v":0},null,{"$f":"Calculations!$BX$126","v":0},null,0,3,null,{"$f":"IF(OR('15-Min All Vehicle'!X54=0,'15-Min All Vehicle'!X55=0, '15-Min All Vehicle'!X56=0,'15-Min All Vehicle'!X57=0)=TRUE,\"\",X54+X55+X56+X57)","v":4}]
[null,null,"16:14:59.971",{"$f":"Calculations!$AU$129","v":0},null,{"$f":"Calculations!$BL$129","v":0},null,0,{"$f":"Calculations!$AY$129","v":0},null,{"$f":"Calculations!$BP$129","v":0},null,0,{"$f":"Calculations!$BC$129","v":0},null,{"$f":"Calculations!$BT$129","v":0},null,0,{"$f":"Calculations!$BG$129","v":0},null,{"$f":"Calculations!$BX$129","v":0},null,0,0,null,{"$f":"IF(OR('15-Min All Vehicle'!X55=0,'15-Min All Vehicle'!X56=0, '15-Min All Vehicle'!X57=0,'15-Min All Vehicle'!X58=0)=TRUE,\"\",X55+X56+X57+X58)","v":1}]
[null,null,"16:30:00",{"$f":"Calculations!$AU$132","v":0},null,{"$f":"Calculations!$BL$132","v":0},null,0,{"$f":"Calculations!$AY$132","v":0},null,{"$f":"Calculations!$BP$132","v":0},null,0,{"$f":"Calculations!$BC$132","v":0},null,{"$f":"Calculations!$BT$132","v":0},null,0,{"$f":"Calculations!$BG$132","v":0},null,{"$f":"Calculations!$BX$132","v":0},null,0,0,null,{"$f":"IF(OR('15-Min All Vehicle'!X56=0,'15-Min All Vehicle'!X57=0, '15-Min All Vehicle'!X58=0,'15-Min All Vehicle'!X59=0)=TRUE,\"\",X56+X57+X58+X59)","v":3}]
[null,null,"16:44:59.942",{"$f":"Calculations!$AU$135","v":0},null,{"$f":"Calculations!$BL$135","v":0},null,0,{"$f":"Calculations!$AY$135","v":0},null,{"$f":"Calculations!$BP$135","v":0},null,0,{"$f":"Calculations!$BC$135","v":1},null,{"$f":"Calculations!$BT$135","v":0},null,1,{"$f":"Calculations!$BG$135","v":0},null,{"$f":"Calculations!$BX$135","v":0},null,0,1,null,{"$f":"IF(OR('15-Min All Vehicle'!X57=0,'15-Min All Vehicle'!X58=0, '15-Min All Vehicle'!X59=0,'15-Min All Vehicle'!X60=0)=TRUE,\"\",X57+X58+X59+X60)","v":3}]
[null,null,"16:59:59.971",{"$f":"Calculations!$AU$138","v":0},null,{"$f":"Calculations!$BL$138","v":0},null,0,{"$f":"Calculations!$AY$138","v":0},null,{"$f":"Calculations!$BP$138","v":0},null,0,{"$f":"Calculations!$BC$138","v":0},null,{"$f":"Calculations!$BT$138","v":0},null,0,{"$f":"Calculations!$BG$138","v":0},null,{"$f":"Calculations!$BX$138","v":0},null,0,0,null,{"$f":"IF(OR('15-Min All Vehicle'!X58=0,'15-Min All Vehicle'!X59=0, '15-Min All Vehicle'!X60=0,'15-Min All Vehicle'!X61=0)=TRUE,\"\",X58+X59+X60+X61)","v":2}]
[null,null,"17:15:00",{"$f":"Calculations!$AU$141","v":0},null,{"$f":"Calculations!$BL$141","v":0},null,0,{"$f":"Calculations!$AY$141","v":0},null,{"$f":"Calculations!$BP$141","v":0},null,0,{"$f":"Calculations!$BC$141","v":2},null,{"$f":"Calculations!$BT$141","v":0},null,2,{"$f":"Calculations!$BG$141","v":0},null,{"$f":"Calculations!$BX$141","v":0},null,0,2,null,{"$f":"IF(OR('15-Min All Vehicle'!X59=0,'15-Min All Vehicle'!X60=0, '15-Min All Vehicle'!X61=0,'15-Min All Vehicle'!X62=0)=TRUE,\"\",X59+X60+X61+X62)","v":""}]
[null,null,"17:29:59.942",{"$f":"Calculations!$AU$144","v":0},null,{"$f":"Calculations!$BL$144","v":0},null,0,{"$f":"Calculations!$AY$144","v":0},null,{"$f":"Calculations!$BP$144","v":0},null,0,{"$f":"Calculations!$BC$144","v":0},null,{"$f":"Calculations!$BT$144","v":0},null,0,{"$f":"Calculations!$BG$144","v":0},null,{"$f":"Calculations!$BX$144","v":0},null,0,0,null,{"$f":"IF(OR('15-Min All Vehicle'!X60=0,'15-Min All Vehicle'!X61=0, '15-Min All Vehicle'!X62=0,'15-Min All Vehicle'!X63=0)=TRUE,\"\",X60+X61+X62+X63)","v":""}]
[null,null,"17:44:59.971",{"$f":"Calculations!$AU$147","v":0},null,{"$f":"Calculations!$BL$147","v":0},null,0,{"$f":"Calculations!$AY$147","v":0},null,{"$f":"Calculations!$BP$147","v":0},null,0,{"$f":"Calculations!$BC$147","v":0},null,{"$f":"Calculations!$BT$147","v":0},null,0,{"$f":"Calculations!$BG$147","v":0},null,{"$f":"Calculations!$BX$147","v":0},null,0,0,null,{"$f":"IF(OR('15-Min All Vehicle'!X61=0,'15-Min All Vehicle'!X62=0, '15-Min All Vehicle'!X63=0,'15-Min All Vehicle'!X64=0)=TRUE,\"\",X61+X62+X63+X64)","v":""}]
[null,null,"18:00:00",{"$f":"Calculations!$AU$150","v":0},null,{"$f":"Calculations!$BL$150","v":0},null,0,{"$f":"Calculations!$AY$150","v":0},null,{"$f":"Calculations!$BP$150","v":0},null,0,{"$f":"Calculations!$BC$150","v":0},null,{"$f":"Calculations!$BT$150","v":0},null,0,{"$f":"Calculations!$BG$150","v":0},null,{"$f":"Calculations!$BX$150","v":0},null,0,0,null,{"$f":"IF(OR('15-Min All Vehicle'!X62=0,'15-Min All Vehicle'!X63=0, '15-Min All Vehicle'!X64=0,'15-Min All Vehicle'!X65=0)=TRUE,\"\",X62+X63+X64+X65)","v":""}]
[null,null,"18:14:59.942",{"$f":"Calculations!$AU$153","v":0},null,{"$f":"Calculations!$BL$153","v":0},null,0,{"$f":"Calculations!$AY$153","v":0},null,{"$f":"Calculations!$BP$153","v":0},null,0,{"$f":"Calculations!$BC$153","v":0},null,{"$f":"Calculations!$BT$153","v":0},null,0,{"$f":"Calculations!$BG$153","v":0},null,{"$f":"Calculations!$BX$153","v":0},null,0,0,null,{"$f":"IF(OR('15-Min All Vehicle'!X63=0,'15-Min All Vehicle'!X64=0, '15-Min All Vehicle'!X65=0,'15-Min All Vehicle'!X66=0)=TRUE,\"\",X63+X64+X65+X66)","v":""}]
[null,null,"18:29:59.971",{"$f":"Calculations!$AU$156","v":0},null,{"$f":"Calculations!$BL$156","v":0},null,0,{"$f":"Calculations!$AY$156","v":0},null,{"$f":"Calculations!$BP$156","v":0},null,0,{"$f":"Calculations!$BC$156","v":0},null,{"$f":"Calculations!$BT$156","v":0},null,0,{"$f":"Calculations!$BG$156","v":0},null,{"$f":"Calculations!$BX$156","v":0},null,0,0,null,{"$f":"IF(OR('15-Min All Vehicle'!X64=0,'15-Min All Vehicle'!X65=0, '15-Min All Vehicle'!X66=0,'15-Min All Vehicle'!X67=0)=TRUE,\"\",X64+X65+X66+X67)","v":""}]
[null,null,"18:45:00",{"$f":"Calculations!$AU$159","v":0},null,{"$f":"Calculations!$BL$159","v":0},null,0,{"$f":"Calculations!$AY$159","v":0},null,{"$f":"Calculations!$BP$159","v":0},null,0,{"$f":"Calculations!$BC$159","v":0},null,{"$f":"Calculations!$BT$159","v":0},null,0,{"$f":"Calculations!$BG$159","v":0},null,{"$f":"Calculations!$BX$159","v":0},null,0,0,null,{"$f":"IF(OR('15-Min All Vehicle'!X65=0,'15-Min All Vehicle'!X66=0, '15-Min All Vehicle'!X67=0,'15-Min All Vehicle'!X68=0)=TRUE,\"\",X65+X66+X67+X68)","v":""}]
[null,null,"18:59:59.942",{"$f":"Calculations!$AU$162","v":0},null,{"$f":"Calculations!$BL$162","v":0},null,0,{"$f":"Calculations!$AY$162","v":0},null,{"$f":"Calculations!$BP$162","v":0},null,0,{"$f":"Calculations!$BC$162","v":0},null,{"$f":"Calculations!$BT$162","v":0},null,0,{"$f":"Calculations!$BG$162","v":0},null,{"$f":"Calculations!$BX$162","v":0},null,0,0,null,{"$f":"IF(OR('15-Min All Vehicle'!X66=0,'15-Min All Vehicle'!X67=0, '15-Min All Vehicle'!X68=0,'15-Min All Vehicle'!X69=0)=TRUE,\"\",X66+X67+X68+X69)","v":""}]
[null,null,"19:14:59.971",{"$f":"Calculations!$AU$165","v":0},null,{"$f":"Calculations!$BL$165","v":0},null,0,{"$f":"Calculations!$AY$165","v":0},null,{"$f":"Calculations!$BP$165","v":0},null,0,{"$f":"Calculations!$BC$165","v":0},null,{"$f":"Calculations!$BT$165","v":0},null,0,{"$f":"Calculations!$BG$165","v":0},null,{"$f":"Calculations!$BX$165","v":0},null,0,0,null,{"$f":"IF(OR('15-Min All Vehicle'!X67=0,'15-Min All Vehicle'!X68=0, '15-Min All Vehicle'!X69=0,'15-Min All Vehicle'!X70=0)=TRUE,\"\",X67+X68+X69+X70)","v":""}]
[null,null,"19:30:00",{"$f":"Calculations!$AU$168","v":0},null,{"$f":"Calculations!$BL$168","v":0},null,0,{"$f":"Calculations!$AY$168","v":0},null,{"$f":"Calculations!$BP$168","v":0},null,0,{"$f":"Calculations!$BC$168","v":0},null,{"$f":"Calculations!$BT$168","v":0},null,0,{"$f":"Calculations!$BG$168","v":0},null,{"$f":"Calculations!$BX$168","v":0},null,0,0,null,{"$f":"IF(OR('15-Min All Vehicle'!X68=0,'15-Min All Vehicle'!X69=0, '15-Min All Vehicle'!X70=0,'15-Min All Vehicle'!X71=0)=TRUE,\"\",X68+X69+X70+X71)","v":""}]
[null,null,"19:44:59.942",{"$f":"Calculations!$AU$171","v":0},null,{"$f":"Calculations!$BL$171","v":0},null,0,{"$f":"Calculations!$AY$171","v":0},null,{"$f":"Calculations!$BP$171","v":0},null,0,{"$f":"Calculations!$BC$171","v":0},null,{"$f":"Calculations!$BT$171","v":0},null,0,{"$f":"Calculations!$BG$171","v":0},null,{"$f":"Calculations!$BX$171","v":0},null,0,0,null,{"$f":"IF(OR('15-Min All Vehicle'!X69=0,'15-Min All Vehicle'!X70=0, '15-Min All Vehicle'!X71=0,'15-Min All Vehicle'!X72=0)=TRUE,\"\",X69+X70+X71+X72)","v":""}]
[null,null,"19:59:59.971",{"$f":"Calculations!$AU$174","v":0},null,{"$f":"Calculations!$BL$174","v":0},null,0,{"$f":"Calculations!$AY$174","v":0},null,{"$f":"Calculations!$BP$174","v":0},null,0,{"$f":"Calculations!$BC$174","v":0},null,{"$f":"Calculations!$BT$174","v":0},null,0,{"$f":"Calculations!$BG$174","v":0},null,{"$f":"Calculations!$BX$174","v":0},null,0,0,null,{"$f":"IF(OR('15-Min All Vehicle'!X70=0,'15-Min All Vehicle'!X71=0, '15-Min All Vehicle'!X72=0,'15-Min All Vehicle'!X73=0)=TRUE,\"\",X70+X71+X72+X73)","v":""}]
[null,null,"20:15:00",{"$f":"Calculations!$AU$177","v":0},null,{"$f":"Calculations!$BL$177","v":0},null,0,{"$f":"Calculations!$AY$177","v":0},null,{"$f":"Calculations!$BP$177","v":0},null,0,{"$f":"Calculations!$BC$177","v":0},null,{"$f":"Calculations!$BT$177","v":0},null,0,{"$f":"Calculations!$BG$177","v":0},null,{"$f":"Calculations!$BX$177","v":0},null,0,0,null,{"$f":"IF(OR('15-Min All Vehicle'!X71=0,'15-Min All Vehicle'!X72=0, '15-Min All Vehicle'!X73=0,'15-Min All Vehicle'!X74=0)=TRUE,\"\",X71+X72+X73+X74)","v":""}]
[null,null,"20:29:59.942",{"$f":"Calculations!$AU$180","v":0},null,{"$f":"Calculations!$BL$180","v":0},null,0,{"$f":"Calculations!$AY$180","v":0},null,{"$f":"Calculations!$BP$180","v":0},null,0,{"$f":"Calculations!$BC$180","v":0},null,{"$f":"Calculations!$BT$180","v":0},null,0,{"$f":"Calculations!$BG$180","v":0},null,{"$f":"Calculations!$BX$180","v":0},null,0,0,null,{"$f":"IF(OR('15-Min All Vehicle'!X72=0,'15-Min All Vehicle'!X73=0, '15-Min All Vehicle'!X74=0,'15-Min All Vehicle'!X75=0)=TRUE,\"\",X72+X73+X74+X75)","v":""}]
[null,null,"20:44:59.971",{"$f":"Calculations!$AU$183","v":0},null,{"$f":"Calculations!$BL$183","v":0},null,0,{"$f":"Calculations!$AY$183","v":0},null,{"$f":"Calculations!$BP$183","v":0},null,0,{"$f":"Calculations!$BC$183","v":0},null,{"$f":"Calculations!$BT$183","v":0},null,0,{"$f":"Calculations!$BG$183","v":0},null,{"$f":"Calculations!$BX$183","v":0},null,0,0,null,{"$f":"IF(OR('15-Min All Vehicle'!X73=0,'15-Min All Vehicle'!X74=0, '15-Min All Vehicle'!X75=0,'15-Min All Vehicle'!X76=0)=TRUE,\"\",X73+X74+X75+X76)","v":""}]
[null,null,"21:00:00",{"$f":"Calculations!$AU$186","v":0},null,{"$f":"Calculations!$BL$186","v":0},null,0,{"$f":"Calculations!$AY$186","v":0},null,{"$f":"Calculations!$BP$186","v":0},null,0,{"$f":"Calculations!$BC$186","v":0},null,{"$f":"Calculations!$BT$186","v":0},null,0,{"$f":"Calculations!$BG$186","v":0},null,{"$f":"Calculations!$BX$186","v":0},null,0,0,null,{"$f":"IF(OR('15-Min All Vehicle'!X74=0,'15-Min All Vehicle'!X75=0, '15-Min All Vehicle'!X76=0,'15-Min All Vehicle'!X77=0)=TRUE,\"\",X74+X75+X76+X77)","v":""}]
[null,null,"21:14:59.942",{"$f":"Calculations!$AU$189","v":0},null,{"$f":"Calculations!$BL$189","v":0},null,0,{"$f":"Calculations!$AY$189","v":0},null,{"$f":"Calculations!$BP$189","v":0},null,0,{"$f":"Calculations!$BC$189","v":0},null,{"$f":"Calculations!$BT$189","v":0},null,0,{"$f":"Calculations!$BG$189","v":0},null,{"$f":"Calculations!$BX$189","v":0},null,0,0]
[null,null,"21:29:59.971",{"$f":"Calculations!$AU$192","v":0},null,{"$f":"Calculations!$BL$192","v":0},null,0,{"$f":"Calculations!$AY$192","v":0},null,{"$f":"Calculations!$BP$192","v":0},null,0,{"$f":"Calculations!$BC$192","v":0},null,{"$f":"Calculations!$BT$192","v":0},null,0,{"$f":"Calculations!$BG$192","v":0},null,{"$f":"Calculations!$BX$192","v":0},null,0,0]
[null,null,"21:45:00",{"$f":"Calculations!$AU$195","v":0},null,{"$f":"Calculations!$BL$195","v":0},null,0,{"$f":"Calculations!$AY$195","v":0},null,{"$f":"Calculations!$BP$195","v":0},null,0,{"$f":"Calculations!$BC$195","v":0},null,{"$f":"Calculations!$BT$195","v":0},null,0,{"$f":"Calculations!$BG$195","v":0},null,{"$f":"Calculations!$BX$195","v":0},null,0,0]
[null,"Totals",null,{"$f":"SUM(D14:E77)","v":0},null,{"$f":"SUM(F14:G77)","v":0},null,{"$f":"SUM(H14:H77)","v":0},{"$f":"SUM(I14:J77)","v":5},null,{"$f":"SUM(K14:L77)","v":1},null,{"$f":"SUM(M14:M77)","v":6},{"$f":"SUM(N14:O77)","v":7},null,{"$f":"SUM(P14:Q77)","v":0},null,{"$f":"SUM(R14:R77)","v":7},{"$f":"SUM(S14:T77)","v":0},null,{"$f":"SUM(U14:V77)","v":0},null,{"$f":"SUM(W14:W77)","v":0},{"$f":"SUM(X14:X77)","v":13}]
[]
[]
[null,"Special Pedestrians"]
[null,"Pedestrian Type",null,null,null,null,null,"None",null,null,"1 or 2",null,null,"A Few",null,null,"Several",null,null,"Many",null,null,"Unknown"]
[null,"Pre-school Children",null,null,null,null,null,{"$f":"IF('Base Information'!$I23=\"None\", \"x\",\"\")","v":"x"},null,null,{"$f":"IF('Base Information'!$I23=\"1 or 2\", \"x\",\"\")","v":""},null,null,{"$f":"IF('Base Information'!$I23=\"A Few\", \"x\",\"\")","v":""},null,null,{"$f":"IF('Base Information'!$I23=\"Several\", \"x\",\"\")","v":""},null,null,{"$f":"IF('Base Information'!$I23=\"Many\", \"x\",\"\")","v":""},null,null,{"$f":"IF('Base Information'!$I23=\"Unknown\", \"x\",\"\")","v":""}]
[null,"Elementry School Age Children",null,null,null,null,null,{"$f":"IF('Base Information'!$I24=\"None\", \"x\",\"\")","v":"x"},null,null,{"$f":"IF('Base Information'!$I24=\"1 or 2\", \"x\",\"\")","v":""},null,null,{"$f":"IF('Base Information'!$I24=\"A Few\", \"x\",\"\")","v":""},null,null,{"$f":"IF('Base Information'!$I24=\"Several\", \"x\",\"\")","v":""},null,null,{"$f":"IF('Base Information'!$I24=\"Many\", \"x\",\"\")","v":""},null,null,{"$f":"IF('Base Information'!$I24=\"Unknown\", \"x\",\"\")","v":""}]
[null,"Visually Impaired (white cane/helper dog)",null,null,null,null,null,{"$f":"IF('Base Information'!$I25=\"None\", \"x\",\"\")","v":"x"},null,null,{"$f":"IF('Base Information'!$I25=\"1 or 2\", \"x\",\"\")","v":""},null,null,{"$f":"IF('Base Information'!$I25=\"A Few\", \"x\",\"\")","v":""},null,null,{"$f":"IF('Base Information'!$I25=\"Several\", \"x\",\"\")","v":""},null,null,{"$f":"IF('Base Information'!$I25=\"Many\", \"x\",\"\")","v":""},null,null,{"$f":"IF('Base Information'!$I25=\"Unknown\", \"x\",\"\")","v":""}]
[null,"Elderly/Disabled (except wheelchairs)",null,null,null,null,null,{"$f":"IF('Base Information'!$I26=\"None\", \"x\",\"\")","v":"x"},null,null,{"$f":"IF('Base Information'!$I26=\"1 or 2\", \"x\",\"\")","v":""},null,null,{"$f":"IF('Base Information'!$I26=\"A Few\", \"x\",\"\")","v":""},null,null,{"$f":"IF('Base Information'!$I26=\"Several\", \"x\",\"\")","v":""},null,null,{"$f":"IF('Base Information'!$I26=\"Many\", \"x\",\"\")","v":""},null,null,{"$f":"IF('Base Information'!$I26=\"Unknown\", \"x\",\"\")","v":""}]
[null,"Wheelchairs/Electric Scooters",null,null,null,null,null,{"$f":"IF('Base Information'!$I27=\"None\", \"x\",\"\")","v":"x"},null,null,{"$f":"IF('Base Information'!$I27=\"1 or 2\", \"x\",\"\")","v":""},null,null,{"$f":"IF('Base Information'!$I27=\"A Few\", \"x\",\"\")","v":""},null,null,{"$f":"IF('Base Information'!$I27=\"Several\", \"x\",\"\")","v":""},null,null,{"$f":"IF('Base Information'!$I27=\"Many\", \"x\",\"\")","v":""},null,null,{"$f":"IF('Base Information'!$I27=\"Unknown\", \"x\",\"\")","v":""}]
[null,{"$f":"CONCATENATE(\"Other (\",'Base Information'!$E$28,\")\")","v":"Other (None)"},null,null,null,null,null,{"$f":"IF('Base Information'!$I28=\"None\", \"x\",\"\")","v":"x"},null,null,{"$f":"IF('Base Information'!$I28=\"1 or 2\", \"x\",\"\")","v":""},null,null,{"$f":"IF('Base Information'!$I28=\"A Few\", \"x\",\"\")","v":""},null,null,{"$f":"IF('Base Information'!$I28=\"Several\", \"x\",\"\")","v":""},null,null,{"$f":"IF('Base Information'!$I28=\"Many\", \"x\",\"\")","v":""},null,null,{"$f":"IF('Base Information'!$I28=\"Unknown\", \"x\",\"\")","v":""}]

{"sheet":"UTDF","index":12,"n_rows":64,"n_cols":19,"rows_kept":64,"cut":false,"hidden":false,"merged":[]}
["Turning Movement Count"]
["60 Minute Counts"]
["DATE","TIME","INTID","NBL","NBT","NBR","NBU","SBL","SBT","SBR","SBU","EBL","EBT","EBR","EBU","WBL","WBT","WBR","WBU"]
[{"$f":"'Base Information'!$O$12","v":"2011-12-06"},600,100,{"$f":"Calculations!DE6","v":480},{"$f":"Calculations!DD6","v":0},{"$f":"Calculations!DC6","v":152},{"$f":"Calculations!DH6","v":0},{"$f":"Calculations!CS6","v":0},{"$f":"Calculations!CR6","v":0},{"$f":"Calculations!CQ6","v":0},{"$f":"Calculations!CV6","v":0},{"$f":"Calculations!DK6","v":19},{"$f":"Calculations!DJ6","v":155},{"$f":"Calculations!DI6","v":0},{"$f":"Calculations!DN6","v":0},{"$f":"Calculations!CY6","v":0},{"$f":"Calculations!CX6","v":459},{"$f":"Calculations!CW6","v":62},{"$f":"Calculations!DB6","v":0}]
[{"$f":"'Base Information'!$O$12","v":"2011-12-06"},615,{"$f":"$C$4","v":100},{"$f":"Calculations!DE9","v":540},{"$f":"Calculations!DD9","v":0},{"$f":"Calculations!DC9","v":181},{"$f":"Calculations!DH9","v":0},{"$f":"Calculations!CS9","v":0},{"$f":"Calculations!CR9","v":0},{"$f":"Calculations!CQ9","v":0},{"$f":"Calculations!CV9","v":0},{"$f":"Calculations!DK9","v":24},{"$f":"Calculations!DJ9","v":167},{"$f":"Calculations!DI9","v":0},{"$f":"Calculations!DN9","v":0},{"$f":"Calculations!CY9","v":0},{"$f":"Calculations!CX9","v":504},{"$f":"Calculations!CW9","v":59},{"$f":"Calculations!DB9","v":0}]
[{"$f":"'Base Information'!$O$12","v":"2011-12-06"},630,{"$f":"$C$4","v":100},{"$f":"Calculations!DE12","v":642},{"$f":"Calculations!DD12","v":0},{"$f":"Calculations!DC12","v":224},{"$f":"Calculations!DH12","v":0},{"$f":"Calculations!CS12","v":0},{"$f":"Calculations!CR12","v":0},{"$f":"Calculations!CQ12","v":0},{"$f":"Calculations!CV12","v":0},{"$f":"Calculations!DK12","v":28},{"$f":"Calculations!DJ12","v":166},{"$f":"Calculations!DI12","v":0},{"$f":"Calculations!DN12","v":0},{"$f":"Calculations!CY12","v":0},{"$f":"Calculations!CX12","v":553},{"$f":"Calculations!CW12","v":74},{"$f":"Calculations!DB12","v":0}]
[{"$f":"'Base Information'!$O$12","v":"2011-12-06"},645,100,{"$f":"Calculations!DE15","v":780},{"$f":"Calculations!DD15","v":1},{"$f":"Calculations!DC15","v":258},{"$f":"Calculations!DH15","v":0},{"$f":"Calculations!CS15","v":0},{"$f":"Calculations!CR15","v":0},{"$f":"Calculations!CQ15","v":0},{"$f":"Calculations!CV15","v":0},{"$f":"Calculations!DK15","v":27},{"$f":"Calculations!DJ15","v":169},{"$f":"Calculations!DI15","v":0},{"$f":"Calculations!DN15","v":0},{"$f":"Calculations!CY15","v":0},{"$f":"Calculations!CX15","v":676},{"$f":"Calculations!CW15","v":77},{"$f":"Calculations!DB15","v":0}]
[{"$f":"'Base Information'!$O$12","v":"2011-12-06"},700,100,{"$f":"Calculations!DE18","v":833},{"$f":"Calculations!DD18","v":1},{"$f":"Calculations!DC18","v":259},{"$f":"Calculations!DH18","v":0},{"$f":"Calculations!CS18","v":0},{"$f":"Calculations!CR18","v":0},{"$f":"Calculations!CQ18","v":0},{"$f":"Calculations!CV18","v":0},{"$f":"Calculations!DK18","v":32},{"$f":"Calculations!DJ18","v":173},{"$f":"Calculations!DI18","v":0},{"$f":"Calculations!DN18","v":0},{"$f":"Calculations!CY18","v":0},{"$f":"Calculations!CX18","v":810},{"$f":"Calculations!CW18","v":88},{"$f":"Calculations!DB18","v":0}]
[{"$f":"'Base Information'!$O$12","v":"2011-12-06"},715,100,{"$f":"Calculations!DE21","v":855},{"$f":"Calculations!DD21","v":1},{"$f":"Calculations!DC21","v":246},{"$f":"Calculations!DH21","v":0},{"$f":"Calculations!CS21","v":0},{"$f":"Calculations!CR21","v":0},{"$f":"Calculations!CQ21","v":0},{"$f":"Calculations!CV21","v":0},{"$f":"Calculations!DK21","v":33},{"$f":"Calculations!DJ21","v":178},{"$f":"Calculations!DI21","v":0},{"$f":"Calculations!DN21","v":0},{"$f":"Calculations!CY21","v":0},{"$f":"Calculations!CX21","v":822},{"$f":"Calculations!CW21","v":88},{"$f":"Calculations!DB21","v":0}]
[{"$f":"'Base Information'!$O$12","v":"2011-12-06"},730,100,{"$f":"Calculations!DE24","v":764},{"$f":"Calculations!DD24","v":1},{"$f":"Calculations!DC24","v":232},{"$f":"Calculations!DH24","v":0},{"$f":"Calculations!CS24","v":0},{"$f":"Calculations!CR24","v":0},{"$f":"Calculations!CQ24","v":0},{"$f":"Calculations!CV24","v":0},{"$f":"Calculations!DK24","v":33},{"$f":"Calculations!DJ24","v":195},{"$f":"Calculations!DI24","v":0},{"$f":"Calculations!DN24","v":0},{"$f":"Calculations!CY24","v":0},{"$f":"Calculations!CX24","v":827},{"$f":"Calculations!CW24","v":82},{"$f":"Calculations!DB24","v":0}]
[{"$f":"'Base Information'!$O$12","v":"2011-12-06"},745,100,{"$f":"Calculations!DE27","v":659},{"$f":"Calculations!DD27","v":0},{"$f":"Calculations!DC27","v":215},{"$f":"Calculations!DH27","v":0},{"$f":"Calculations!CS27","v":0},{"$f":"Calculations!CR27","v":0},{"$f":"Calculations!CQ27","v":0},{"$f":"Calculations!CV27","v":0},{"$f":"Calculations!DK27","v":34},{"$f":"Calculations!DJ27","v":205},{"$f":"Calculations!DI27","v":0},{"$f":"Calculations!DN27","v":0},{"$f":"Calculations!CY27","v":0},{"$f":"Calculations!CX27","v":730},{"$f":"Calculations!CW27","v":83},{"$f":"Calculations!DB27","v":0}]
[{"$f":"'Base Information'!$O$12","v":"2011-12-06"},800,100,{"$f":"Calculations!DE30","v":547},{"$f":"Calculations!DD30","v":0},{"$f":"Calculations!DC30","v":198},{"$f":"Calculations!DH30","v":0},{"$f":"Calculations!CS30","v":0},{"$f":"Calculations!CR30","v":0},{"$f":"Calculations!CQ30","v":0},{"$f":"Calculations!CV30","v":0},{"$f":"Calculations!DK30","v":38},{"$f":"Calculations!DJ30","v":190},{"$f":"Calculations!DI30","v":0},{"$f":"Calculations!DN30","v":0},{"$f":"Calculations!CY30","v":0},{"$f":"Calculations!CX30","v":584},{"$f":"Calculations!CW30","v":73},{"$f":"Calculations!DB30","v":0}]
[{"$f":"'Base Information'!$O$12","v":"2011-12-06"},815,100,{"$f":"Calculations!DE33","v":458},{"$f":"Calculations!DD33","v":0},{"$f":"Calculations!DC33","v":194},{"$f":"Calculations!DH33","v":0},{"$f":"Calculations!CS33","v":0},{"$f":"Calculations!CR33","v":0},{"$f":"Calculations!CQ33","v":0},{"$f":"Calculations!CV33","v":0},{"$f":"Calculations!DK33","v":39},{"$f":"Calculations!DJ33","v":192},{"$f":"Calculations!DI33","v":0},{"$f":"Calculations!DN33","v":0},{"$f":"Calculations!CY33","v":0},{"$f":"Calculations!CX33","v":529},{"$f":"Calculations!CW33","v":68},{"$f":"Calculations!DB33","v":0}]
[{"$f":"'Base Information'!$O$12","v":"2011-12-06"},830,100,{"$f":"Calculations!DE36","v":398},{"$f":"Calculations!DD36","v":0},{"$f":"Calculations!DC36","v":171},{"$f":"Calculations!DH36","v":0},{"$f":"Calculations!CS36","v":0},{"$f":"Calculations!CR36","v":0},{"$f":"Calculations!CQ36","v":0},{"$f":"Calculations!CV36","v":0},{"$f":"Calculations!DK36","v":37},{"$f":"Calculations!DJ36","v":194},{"$f":"Calculations!DI36","v":0},{"$f":"Calculations!DN36","v":0},{"$f":"Calculations!CY36","v":0},{"$f":"Calculations!CX36","v":467},{"$f":"Calculations!CW36","v":60},{"$f":"Calculations!DB36","v":0}]
[{"$f":"'Base Information'!$O$12","v":"2011-12-06"},845,100,{"$f":"Calculations!DE39","v":348},{"$f":"Calculations!DD39","v":0},{"$f":"Calculations!DC39","v":150},{"$f":"Calculations!DH39","v":0},{"$f":"Calculations!CS39","v":0},{"$f":"Calculations!CR39","v":0},{"$f":"Calculations!CQ39","v":0},{"$f":"Calculations!CV39","v":0},{"$f":"Calculations!DK39","v":46},{"$f":"Calculations!DJ39","v":190},{"$f":"Calculations!DI39","v":0},{"$f":"Calculations!DN39","v":0},{"$f":"Calculations!CY39","v":0},{"$f":"Calculations!CX39","v":444},{"$f":"Calculations!CW39","v":50},{"$f":"Calculations!DB39","v":0}]
[{"$f":"'Base Information'!$O$12","v":"2011-12-06"},900,100,{"$f":"Calculations!DE42","v":289},{"$f":"Calculations!DD42","v":0},{"$f":"Calculations!DC42","v":142},{"$f":"Calculations!DH42","v":0},{"$f":"Calculations!CS42","v":0},{"$f":"Calculations!CR42","v":0},{"$f":"Calculations!CQ42","v":0},{"$f":"Calculations!CV42","v":0},{"$f":"Calculations!DK42","v":39},{"$f":"Calculations!DJ42","v":199},{"$f":"Calculations!DI42","v":0},{"$f":"Calculations!DN42","v":0},{"$f":"Calculations!CY42","v":0},{"$f":"Calculations!CX42","v":408},{"$f":"Calculations!CW42","v":47},{"$f":"Calculations!DB42","v":0}]
[{"$f":"'Base Information'!$O$12","v":"2011-12-06"},915,100,{"$f":"Calculations!DE45","v":275},{"$f":"Calculations!DD45","v":0},{"$f":"Calculations!DC45","v":142},{"$f":"Calculations!DH45","v":0},{"$f":"Calculations!CS45","v":0},{"$f":"Calculations!CR45","v":0},{"$f":"Calculations!CQ45","v":0},{"$f":"Calculations!CV45","v":0},{"$f":"Calculations!DK45","v":39},{"$f":"Calculations!DJ45","v":211},{"$f":"Calculations!DI45","v":0},{"$f":"Calculations!DN45","v":0},{"$f":"Calculations!CY45","v":0},{"$f":"Calculations!CX45","v":397},{"$f":"Calculations!CW45","v":59},{"$f":"Calculations!DB45","v":0}]
[{"$f":"'Base Information'!$O$12","v":"2011-12-06"},930,100,{"$f":"Calculations!DE48","v":280},{"$f":"Calculations!DD48","v":0},{"$f":"Calculations!DC48","v":144},{"$f":"Calculations!DH48","v":0},{"$f":"Calculations!CS48","v":0},{"$f":"Calculations!CR48","v":0},{"$f":"Calculations!CQ48","v":0},{"$f":"Calculations!CV48","v":0},{"$f":"Calculations!DK48","v":34},{"$f":"Calculations!DJ48","v":211},{"$f":"Calculations!DI48","v":0},{"$f":"Calculations!DN48","v":0},{"$f":"Calculations!CY48","v":0},{"$f":"Calculations!CX48","v":394},{"$f":"Calculations!CW48","v":60},{"$f":"Calculations!DB48","v":0}]
[{"$f":"'Base Information'!$O$12","v":"2011-12-06"},945,100,{"$f":"Calculations!DE51","v":267},{"$f":"Calculations!DD51","v":0},{"$f":"Calculations!DC51","v":156},{"$f":"Calculations!DH51","v":0},{"$f":"Calculations!CS51","v":0},{"$f":"Calculations!CR51","v":0},{"$f":"Calculations!CQ51","v":0},{"$f":"Calculations!CV51","v":0},{"$f":"Calculations!DK51","v":26},{"$f":"Calculations!DJ51","v":220},{"$f":"Calculations!DI51","v":0},{"$f":"Calculations!DN51","v":0},{"$f":"Calculations!CY51","v":0},{"$f":"Calculations!CX51","v":390},{"$f":"Calculations!CW51","v":65},{"$f":"Calculations!DB51","v":0}]
[{"$f":"'Base Information'!$O$13","v":"2011-12-06"},1000,100,{"$f":"Calculations!DE54","v":267},{"$f":"Calculations!DD54","v":0},{"$f":"Calculations!DC54","v":165},{"$f":"Calculations!DH54","v":0},{"$f":"Calculations!CS54","v":0},{"$f":"Calculations!CR54","v":0},{"$f":"Calculations!CQ54","v":0},{"$f":"Calculations!CV54","v":0},{"$f":"Calculations!DK54","v":27},{"$f":"Calculations!DJ54","v":225},{"$f":"Calculations!DI54","v":0},{"$f":"Calculations!DN54","v":0},{"$f":"Calculations!CY54","v":0},{"$f":"Calculations!CX54","v":405},{"$f":"Calculations!CW54","v":65},{"$f":"Calculations!DB54","v":0}]
[{"$f":"'Base Information'!$O$13","v":"2011-12-06"},1015,100,{"$f":"Calculations!DE57","v":301},{"$f":"Calculations!DD57","v":0},{"$f":"Calculations!DC57","v":164},{"$f":"Calculations!DH57","v":0},{"$f":"Calculations!CS57","v":0},{"$f":"Calculations!CR57","v":0},{"$f":"Calculations!CQ57","v":0},{"$f":"Calculations!CV57","v":0},{"$f":"Calculations!DK57","v":30},{"$f":"Calculations!DJ57","v":231},{"$f":"Calculations!DI57","v":0},{"$f":"Calculations!DN57","v":0},{"$f":"Calculations!CY57","v":0},{"$f":"Calculations!CX57","v":399},{"$f":"Calculations!CW57","v":55},{"$f":"Calculations!DB57","v":0}]
[{"$f":"'Base Information'!$O$13","v":"2011-12-06"},1030,100,{"$f":"Calculations!DE60","v":330},{"$f":"Calculations!DD60","v":4},{"$f":"Calculations!DC60","v":179},{"$f":"Calculations!DH60","v":0},{"$f":"Calculations!CS60","v":0},{"$f":"Calculations!CR60","v":0},{"$f":"Calculations!CQ60","v":0},{"$f":"Calculations!CV60","v":0},{"$f":"Calculations!DK60","v":30},{"$f":"Calculations!DJ60","v":260},{"$f":"Calculations!DI60","v":0},{"$f":"Calculations!DN60","v":0},{"$f":"Calculations!CY60","v":0},{"$f":"Calculations!CX60","v":417},{"$f":"Calculations!CW60","v":49},{"$f":"Calculations!DB60","v":0}]
[{"$f":"'Base Information'!$O$13","v":"2011-12-06"},1045,100,{"$f":"Calculations!DE63","v":348},{"$f":"Calculations!DD63","v":4},{"$f":"Calculations!DC63","v":188},{"$f":"Calculations!DH63","v":0},{"$f":"Calculations!CS63","v":0},{"$f":"Calculations!CR63","v":0},{"$f":"Calculations!CQ63","v":0},{"$f":"Calculations!CV63","v":0},{"$f":"Calculations!DK63","v":29},{"$f":"Calculations!DJ63","v":292},{"$f":"Calculations!DI63","v":0},{"$f":"Calculations!DN63","v":0},{"$f":"Calculations!CY63","v":0},{"$f":"Calculations!CX63","v":427},{"$f":"Calculations!CW63","v":49},{"$f":"Calculations!DB63","v":0}]
[{"$f":"'Base Information'!$O$13","v":"2011-12-06"},1100,100,{"$f":"Calculations!DE66","v":382},{"$f":"Calculations!DD66","v":4},{"$f":"Calculations!DC66","v":205},{"$f":"Calculations!DH66","v":0},{"$f":"Calculations!CS66","v":0},{"$f":"Calculations!CR66","v":0},{"$f":"Calculations!CQ66","v":0},{"$f":"Calculations!CV66","v":0},{"$f":"Calculations!DK66","v":29},{"$f":"Calculations!DJ66","v":288},{"$f":"Calculations!DI66","v":0},{"$f":"Calculations!DN66","v":0},{"$f":"Calculations!CY66","v":0},{"$f":"Calculations!CX66","v":428},{"$f":"Calculations!CW66","v":44},{"$f":"Calculations!DB66","v":0}]
[{"$f":"'Base Information'!$O$13","v":"2011-12-06"},1115,100,{"$f":"Calculations!DE69","v":385},{"$f":"Calculations!DD69","v":4},{"$f":"Calculations!DC69","v":210},{"$f":"Calculations!DH69","v":0},{"$f":"Calculations!CS69","v":0},{"$f":"Calculations!CR69","v":0},{"$f":"Calculations!CQ69","v":0},{"$f":"Calculations!CV69","v":0},{"$f":"Calculations!DK69","v":31},{"$f":"Calculations!DJ69","v":297},{"$f":"Calculations!DI69","v":0},{"$f":"Calculations!DN69","v":0},{"$f":"Calculations!CY69","v":0},{"$f":"Calculations!CX69","v":427},{"$f":"Calculations!CW69","v":46},{"$f":"Calculations!DB69","v":0}]
[{"$f":"'Base Information'!$O$13","v":"2011-12-06"},1130,100,{"$f":"Calculations!DE72","v":378},{"$f":"Calculations!DD72","v":0},{"$f":"Calculations!DC72","v":198},{"$f":"Calculations!DH72","v":0},{"$f":"Calculations!CS72","v":0},{"$f":"Calculations!CR72","v":0},{"$f":"Calculations!CQ72","v":0},{"$f":"Calculations!CV72","v":0},{"$f":"Calculations!DK72","v":36},{"$f":"Calculations!DJ72","v":291},{"$f":"Calculations!DI72","v":0},{"$f":"Calculations!DN72","v":0},{"$f":"Calculations!CY72","v":0},{"$f":"Calculations!CX72","v":425},{"$f":"Calculations!CW72","v":55},{"$f":"Calculations!DB72","v":0}]
[{"$f":"'Base Information'!$O$13","v":"2011-12-06"},1145,100,{"$f":"Calculations!DE75","v":408},{"$f":"Calculations!DD75","v":0},{"$f":"Calculations!DC75","v":199},{"$f":"Calculations!DH75","v":0},{"$f":"Calculations!CS75","v":0},{"$f":"Calculations!CR75","v":0},{"$f":"Calculations!CQ75","v":0},{"$f":"Calculations!CV75","v":0},{"$f":"Calculations!DK75","v":39},{"$f":"Calculations!DJ75","v":269},{"$f":"Calculations!DI75","v":0},{"$f":"Calculations!DN75","v":0},{"$f":"Calculations!CY75","v":0},{"$f":"Calculations!CX75","v":425},{"$f":"Calculations!CW75","v":54},{"$f":"Calculations!DB75","v":0}]
[{"$f":"'Base Information'!$O$13","v":"2011-12-06"},1200,100,{"$f":"Calculations!DE78","v":406},{"$f":"Calculations!DD78","v":0},{"$f":"Calculations!DC78","v":198},{"$f":"Calculations!DH78","v":0},{"$f":"Calculations!CS78","v":0},{"$f":"Calculations!CR78","v":0},{"$f":"Calculations!CQ78","v":0},{"$f":"Calculations!CV78","v":0},{"$f":"Calculations!DK78","v":51},{"$f":"Calculations!DJ78","v":279},{"$f":"Calculations!DI78","v":0},{"$f":"Calculations!DN78","v":0},{"$f":"Calculations!CY78","v":0},{"$f":"Calculations!CX78","v":420},{"$f":"Calculations!CW78","v":55},{"$f":"Calculations!DB78","v":0}]
[{"$f":"'Base Information'!$O$13","v":"2011-12-06"},1215,100,{"$f":"Calculations!DE81","v":427},{"$f":"Calculations!DD81","v":0},{"$f":"Calculations!DC81","v":208},{"$f":"Calculations!DH81","v":0},{"$f":"Calculations!CS81","v":0},{"$f":"Calculations!CR81","v":0},{"$f":"Calculations!CQ81","v":0},{"$f":"Calculations!CV81","v":0},{"$f":"Calculations!DK81","v":45},{"$f":"Calculations!DJ81","v":281},{"$f":"Calculations!DI81","v":0},{"$f":"Calculations!DN81","v":0},{"$f":"Calculations!CY81","v":0},{"$f":"Calculations!CX81","v":447},{"$f":"Calculations!CW81","v":57},{"$f":"Calculations!DB81","v":0}]
[{"$f":"'Base Information'!$O$13","v":"2011-12-06"},1230,100,{"$f":"Calculations!DE84","v":415},{"$f":"Calculations!DD84","v":0},{"$f":"Calculations!DC84","v":227},{"$f":"Calculations!DH84","v":0},{"$f":"Calculations!CS84","v":0},{"$f":"Calculations!CR84","v":0},{"$f":"Calculations!CQ84","v":0},{"$f":"Calculations!CV84","v":0},{"$f":"Calculations!DK84","v":43},{"$f":"Calculations!DJ84","v":277},{"$f":"Calculations!DI84","v":0},{"$f":"Calculations!DN84","v":0},{"$f":"Calculations!CY84","v":0},{"$f":"Calculations!CX84","v":432},{"$f":"Calculations!CW84","v":51},{"$f":"Calculations!DB84","v":0}]
[{"$f":"'Base Information'!$O$13","v":"2011-12-06"},1245,100,{"$f":"Calculations!DE87","v":415},{"$f":"Calculations!DD87","v":0},{"$f":"Calculations!DC87","v":228},{"$f":"Calculations!DH87","v":0},{"$f":"Calculations!CS87","v":0},{"$f":"Calculations!CR87","v":0},{"$f":"Calculations!CQ87","v":0},{"$f":"Calculations!CV87","v":0},{"$f":"Calculations!DK87","v":43},{"$f":"Calculations!DJ87","v":313},{"$f":"Calculations!DI87","v":0},{"$f":"Calculations!DN87","v":0},{"$f":"Calculations!CY87","v":0},{"$f":"Calculations!CX87","v":437},{"$f":"Calculations!CW87","v":49},{"$f":"Calculations!DB87","v":0}]
[{"$f":"'Base Information'!$O$13","v":"2011-12-06"},1300,100,{"$f":"Calculations!DE90","v":417},{"$f":"Calculations!DD90","v":0},{"$f":"Calculations!DC90","v":216},{"$f":"Calculations!DH90","v":0},{"$f":"Calculations!CS90","v":0},{"$f":"Calculations!CR90","v":0},{"$f":"Calculations!CQ90","v":0},{"$f":"Calculations!CV90","v":0},{"$f":"Calculations!DK90","v":36},{"$f":"Calculations!DJ90","v":328},{"$f":"Calculations!DI90","v":0},{"$f":"Calculations!DN90","v":0},{"$f":"Calculations!CY90","v":0},{"$f":"Calculations!CX90","v":441},{"$f":"Calculations!CW90","v":50},{"$f":"Calculations!DB90","v":0}]
[{"$f":"'Base Information'!$O$13","v":"2011-12-06"},1315,100,{"$f":"Calculations!DE93","v":391},{"$f":"Calculations!DD93","v":1},{"$f":"Calculations!DC93","v":215},{"$f":"Calculations!DH93","v":0},{"$f":"Calculations!CS93","v":0},{"$f":"Calculations!CR93","v":0},{"$f":"Calculations!CQ93","v":0},{"$f":"Calculations!CV93","v":0},{"$f":"Calculations!DK93","v":42},{"$f":"Calculations!DJ93","v":333},{"$f":"Calculations!DI93","v":0},{"$f":"Calculations!DN93","v":0},{"$f":"Calculations!CY93","v":0},{"$f":"Calculations!CX93","v":444},{"$f":"Calculations!CW93","v":55},{"$f":"Calculations!DB93","v":0}]
[{"$f":"'Base Information'!$O$13","v":"2011-12-06"},1330,100,{"$f":"Calculations!DE96","v":430},{"$f":"Calculations!DD96","v":1},{"$f":"Calculations!DC96","v":233},{"$f":"Calculations!DH96","v":0},{"$f":"Calculations!CS96","v":0},{"$f":"Calculations!CR96","v":0},{"$f":"Calculations!CQ96","v":0},{"$f":"Calculations!CV96","v":0},{"$f":"Calculations!DK96","v":43},{"$f":"Calculations!DJ96","v":350},{"$f":"Calculations!DI96","v":0},{"$f":"Calculations!DN96","v":0},{"$f":"Calculations!CY96","v":0},{"$f":"Calculations!CX96","v":466},{"$f":"Calculations!CW96","v":55},{"$f":"Calculations!DB96","v":0}]
[{"$f":"'Base Information'!$O$13","v":"2011-12-06"},1345,100,{"$f":"Calculations!DE99","v":408},{"$f":"Calculations!DD99","v":1},{"$f":"Calculations!DC99","v":257},{"$f":"Calculations!DH99","v":0},{"$f":"Calculations!CS99","v":0},{"$f":"Calculations!CR99","v":0},{"$f":"Calculations!CQ99","v":0},{"$f":"Calculations!CV99","v":0},{"$f":"Calculations!DK99","v":68},{"$f":"Calculations!DJ99","v":370},{"$f":"Calculations!DI99","v":0},{"$f":"Calculations!DN99","v":0},{"$f":"Calculations!CY99","v":0},{"$f":"Calculations!CX99","v":453},{"$f":"Calculations!CW99","v":57},{"$f":"Calculations!DB99","v":0}]
[{"$f":"'Base Information'!$O$14","v":"2011-12-06"},1400,100,{"$f":"Calculations!DE102","v":412},{"$f":"Calculations!DD102","v":1},{"$f":"Calculations!DC102","v":285},{"$f":"Calculations!DH102","v":0},{"$f":"Calculations!CS102","v":0},{"$f":"Calculations!CR102","v":0},{"$f":"Calculations!CQ102","v":0},{"$f":"Calculations!CV102","v":0},{"$f":"Calculations!DK102","v":87},{"$f":"Calculations!DJ102","v":396},{"$f":"Calculations!DI102","v":0},{"$f":"Calculations!DN102","v":0},{"$f":"Calculations!CY102","v":0},{"$f":"Calculations!CX102","v":453},{"$f":"Calculations!CW102","v":67},{"$f":"Calculations!DB102","v":0}]
[{"$f":"'Base Information'!$O$14","v":"2011-12-06"},1415,100,{"$f":"Calculations!DE105","v":440},{"$f":"Calculations!DD105","v":0},{"$f":"Calculations!DC105","v":303},{"$f":"Calculations!DH105","v":0},{"$f":"Calculations!CS105","v":0},{"$f":"Calculations!CR105","v":0},{"$f":"Calculations!CQ105","v":0},{"$f":"Calculations!CV105","v":0},{"$f":"Calculations!DK105","v":88},{"$f":"Calculations!DJ105","v":410},{"$f":"Calculations!DI105","v":0},{"$f":"Calculations!DN105","v":0},{"$f":"Calculations!CY105","v":0},{"$f":"Calculations!CX105","v":443},{"$f":"Calculations!CW105","v":65},{"$f":"Calculations!DB105","v":0}]
[{"$f":"'Base Information'!$O$14","v":"2011-12-06"},1430,100,{"$f":"Calculations!DE108","v":415},{"$f":"Calculations!DD108","v":0},{"$f":"Calculations!DC108","v":300},{"$f":"Calculations!DH108","v":0},{"$f":"Calculations!CS108","v":0},{"$f":"Calculations!CR108","v":0},{"$f":"Calculations!CQ108","v":0},{"$f":"Calculations!CV108","v":0},{"$f":"Calculations!DK108","v":91},{"$f":"Calculations!DJ108","v":432},{"$f":"Calculations!DI108","v":0},{"$f":"Calculations!DN108","v":0},{"$f":"Calculations!CY108","v":0},{"$f":"Calculations!CX108","v":483},{"$f":"Calculations!CW108","v":72},{"$f":"Calculations!DB108","v":0}]
[{"$f":"'Base Information'!$O$14","v":"2011-12-06"},1445,100,{"$f":"Calculations!DE111","v":446},{"$f":"Calculations!DD111","v":0},{"$f":"Calculations!DC111","v":316},{"$f":"Calculations!DH111","v":0},{"$f":"Calculations!CS111","v":0},{"$f":"Calculations!CR111","v":0},{"$f":"Calculations!CQ111","v":0},{"$f":"Calculations!CV111","v":0},{"$f":"Calculations!DK111","v":75},{"$f":"Calculations!DJ111","v":437},{"$f":"Calculations!DI111","v":0},{"$f":"Calculations!DN111","v":0},{"$f":"Calculations!CY111","v":0},{"$f":"Calculations!CX111","v":536},{"$f":"Calculations!CW111","v":74},{"$f":"Calculations!DB111","v":0}]
[{"$f":"'Base Information'!$O$14","v":"2011-12-06"},1500,100,{"$f":"Calculations!DE114","v":442},{"$f":"Calculations!DD114","v":0},{"$f":"Calculations!DC114","v":344},{"$f":"Calculations!DH114","v":0},{"$f":"Calculations!CS114","v":0},{"$f":"Calculations!CR114","v":0},{"$f":"Calculations!CQ114","v":0},{"$f":"Calculations!CV114","v":0},{"$f":"Calculations!DK114","v":60},{"$f":"Calculations!DJ114","v":448},{"$f":"Calculations!DI114","v":0},{"$f":"Calculations!DN114","v":0},{"$f":"Calculations!CY114","v":0},{"$f":"Calculations!CX114","v":535},{"$f":"Calculations!CW114","v":76},{"$f":"Calculations!DB114","v":0}]
[{"$f":"'Base Information'!$O$14","v":"2011-12-06"},1515,100,{"$f":"Calculations!DE117","v":411},{"$f":"Calculations!DD117","v":0},{"$f":"Calculations!DC117","v":356},{"$f":"Calculations!DH117","v":0},{"$f":"Calculations!CS117","v":0},{"$f":"Calculations!CR117","v":0},{"$f":"Calculations!CQ117","v":0},{"$f":"Calculations!CV117","v":0},{"$f":"Calculations!DK117","v":85},{"$f":"Calculations!DJ117","v":475},{"$f":"Calculations!DI117","v":0},{"$f":"Calculations!DN117","v":0},{"$f":"Calculations!CY117","v":0},{"$f":"Calculations!CX117","v":551},{"$f":"Calculations!CW117","v":74},{"$f":"Calculations!DB117","v":0}]
[{"$f":"'Base Information'!$O$14","v":"2011-12-06"},1530,100,{"$f":"Calculations!DE120","v":432},{"$f":"Calculations!DD120","v":0},{"$f":"Calculations!DC120","v":409},{"$f":"Calculations!DH120","v":0},{"$f":"Calculations!CS120","v":0},{"$f":"Calculations!CR120","v":0},{"$f":"Calculations!CQ120","v":0},{"$f":"Calculations!CV120","v":0},{"$f":"Calculations!DK120","v":100},{"$f":"Calculations!DJ120","v":489},{"$f":"Calculations!DI120","v":0},{"$f":"Calculations!DN120","v":0},{"$f":"Calculations!CY120","v":0},{"$f":"Calculations!CX120","v":522},{"$f":"Calculations!CW120","v":65},{"$f":"Calculations!DB120","v":0}]
[{"$f":"'Base Information'!$O$14","v":"2011-12-06"},1545,100,{"$f":"Calculations!DE123","v":402},{"$f":"Calculations!DD123","v":0},{"$f":"Calculations!DC123","v":446},{"$f":"Calculations!DH123","v":0},{"$f":"Calculations!CS123","v":0},{"$f":"Calculations!CR123","v":0},{"$f":"Calculations!CQ123","v":0},{"$f":"Calculations!CV123","v":0},{"$f":"Calculations!DK123","v":114},{"$f":"Calculations!DJ123","v":512},{"$f":"Calculations!DI123","v":0},{"$f":"Calculations!DN123","v":0},{"$f":"Calculations!CY123","v":0},{"$f":"Calculations!CX123","v":511},{"$f":"Calculations!CW123","v":65},{"$f":"Calculations!DB123","v":0}]
[{"$f":"'Base Information'!$O$14","v":"2011-12-06"},1600,100,{"$f":"Calculations!DE126","v":414},{"$f":"Calculations!DD126","v":0},{"$f":"Calculations!DC126","v":490},{"$f":"Calculations!DH126","v":0},{"$f":"Calculations!CS126","v":0},{"$f":"Calculations!CR126","v":0},{"$f":"Calculations!CQ126","v":0},{"$f":"Calculations!CV126","v":0},{"$f":"Calculations!DK126","v":133},{"$f":"Calculations!DJ126","v":520},{"$f":"Calculations!DI126","v":0},{"$f":"Calculations!DN126","v":0},{"$f":"Calculations!CY126","v":0},{"$f":"Calculations!CX126","v":559},{"$f":"Calculations!CW126","v":56},{"$f":"Calculations!DB126","v":0}]
[{"$f":"'Base Information'!$O$14","v":"2011-12-06"},1615,100,{"$f":"Calculations!DE129","v":420},{"$f":"Calculations!DD129","v":0},{"$f":"Calculations!DC129","v":513},{"$f":"Calculations!DH129","v":0},{"$f":"Calculations!CS129","v":0},{"$f":"Calculations!CR129","v":0},{"$f":"Calculations!CQ129","v":0},{"$f":"Calculations!CV129","v":0},{"$f":"Calculations!DK129","v":117},{"$f":"Calculations!DJ129","v":528},{"$f":"Calculations!DI129","v":0},{"$f":"Calculations!DN129","v":0},{"$f":"Calculations!CY129","v":0},{"$f":"Calculations!CX129","v":565},{"$f":"Calculations!CW129","v":62},{"$f":"Calculations!DB129","v":0}]
[{"$f":"'Base Information'!$O$14","v":"2011-12-06"},1630,100,{"$f":"Calculations!DE132","v":413},{"$f":"Calculations!DD132","v":0},{"$f":"Calculations!DC132","v":521},{"$f":"Calculations!DH132","v":0},{"$f":"Calculations!CS132","v":0},{"$f":"Calculations!CR132","v":0},{"$f":"Calculations!CQ132","v":0},{"$f":"Calculations!CV132","v":0},{"$f":"Calculations!DK132","v":109},{"$f":"Calculations!DJ132","v":544},{"$f":"Calculations!DI132","v":0},{"$f":"Calculations!DN132","v":0},{"$f":"Calculations!CY132","v":0},{"$f":"Calculations!CX132","v":590},{"$f":"Calculations!CW132","v":64},{"$f":"Calculations!DB132","v":0}]
[{"$f":"'Base Information'!$O$14","v":"2011-12-06"},1645,100,{"$f":"Calculations!DE135","v":395},{"$f":"Calculations!DD135","v":0},{"$f":"Calculations!DC135","v":500},{"$f":"Calculations!DH135","v":0},{"$f":"Calculations!CS135","v":0},{"$f":"Calculations!CR135","v":0},{"$f":"Calculations!CQ135","v":0},{"$f":"Calculations!CV135","v":0},{"$f":"Calculations!DK135","v":97},{"$f":"Calculations!DJ135","v":490},{"$f":"Calculations!DI135","v":0},{"$f":"Calculations!DN135","v":0},{"$f":"Calculations!CY135","v":0},{"$f":"Calculations!CX135","v":568},{"$f":"Calculations!CW135","v":68},{"$f":"Calculations!DB135","v":0}]
[{"$f":"'Base Information'!$O$14","v":"2011-12-06"},1700,100,{"$f":"Calculations!DE138","v":367},{"$f":"Calculations!DD138","v":0},{"$f":"Calculations!DC138","v":444},{"$f":"Calculations!DH138","v":0},{"$f":"Calculations!CS138","v":0},{"$f":"Calculations!CR138","v":0},{"$f":"Calculations!CQ138","v":0},{"$f":"Calculations!CV138","v":0},{"$f":"Calculations!DK138","v":71},{"$f":"Calculations!DJ138","v":459},{"$f":"Calculations!DI138","v":0},{"$f":"Calculations!DN138","v":0},{"$f":"Calculations!CY138","v":0},{"$f":"Calculations!CX138","v":526},{"$f":"Calculations!CW138","v":56},{"$f":"Calculations!DB138","v":0}]
[{"$f":"'Base Information'!$O$14","v":"2011-12-06"},1715,100,{"$f":"Calculations!DE141","v":271},{"$f":"Calculations!DD141","v":0},{"$f":"Calculations!DC141","v":340},{"$f":"Calculations!DH141","v":0},{"$f":"Calculations!CS141","v":0},{"$f":"Calculations!CR141","v":0},{"$f":"Calculations!CQ141","v":0},{"$f":"Calculations!CV141","v":0},{"$f":"Calculations!DK141","v":47},{"$f":"Calculations!DJ141","v":333},{"$f":"Calculations!DI141","v":0},{"$f":"Calculations!DN141","v":0},{"$f":"Calculations!CY141","v":0},{"$f":"Calculations!CX141","v":387},{"$f":"Calculations!CW141","v":36},{"$f":"Calculations!DB141","v":0}]
[{"$f":"'Base Information'!$O$14","v":"2011-12-06"},1730,100,{"$f":"Calculations!DE144","v":163},{"$f":"Calculations!DD144","v":0},{"$f":"Calculations!DC144","v":203},{"$f":"Calculations!DH144","v":0},{"$f":"Calculations!CS144","v":0},{"$f":"Calculations!CR144","v":0},{"$f":"Calculations!CQ144","v":0},{"$f":"Calculations!CV144","v":0},{"$f":"Calculations!DK144","v":28},{"$f":"Calculations!DJ144","v":191},{"$f":"Calculations!DI144","v":0},{"$f":"Calculations!DN144","v":0},{"$f":"Calculations!CY144","v":0},{"$f":"Calculations!CX144","v":237},{"$f":"Calculations!CW144","v":24},{"$f":"Calculations!DB144","v":0}]
[{"$f":"'Base Information'!$O$14","v":"2011-12-06"},1745,100,{"$f":"Calculations!DE147","v":89},{"$f":"Calculations!DD147","v":0},{"$f":"Calculations!DC147","v":96},{"$f":"Calculations!DH147","v":0},{"$f":"Calculations!CS147","v":0},{"$f":"Calculations!CR147","v":0},{"$f":"Calculations!CQ147","v":0},{"$f":"Calculations!CV147","v":0},{"$f":"Calculations!DK147","v":9},{"$f":"Calculations!DJ147","v":97},{"$f":"Calculations!DI147","v":0},{"$f":"Calculations!DN147","v":0},{"$f":"Calculations!CY147","v":0},{"$f":"Calculations!CX147","v":115},{"$f":"Calculations!CW147","v":4},{"$f":"Calculations!DB147","v":0}]
[{"$f":"'Base Information'!$O$14","v":"2011-12-06"},1800,100,{"$f":"Calculations!DE150","v":0},{"$f":"Calculations!DD150","v":0},{"$f":"Calculations!DC150","v":0},{"$f":"Calculations!DH150","v":0},{"$f":"Calculations!CS150","v":0},{"$f":"Calculations!CR150","v":0},{"$f":"Calculations!CQ150","v":0},{"$f":"Calculations!CV150","v":0},{"$f":"Calculations!DK150","v":0},{"$f":"Calculations!DJ150","v":0},{"$f":"Calculations!DI150","v":0},{"$f":"Calculations!DN150","v":0},{"$f":"Calculations!CY150","v":0},{"$f":"Calculations!CX150","v":0},{"$f":"Calculations!CW150","v":0},{"$f":"Calculations!DB150","v":0}]
[{"$f":"'Base Information'!$O$14","v":"2011-12-06"},1815,100,{"$f":"Calculations!DE153","v":0},{"$f":"Calculations!DD153","v":0},{"$f":"Calculations!DC153","v":0},{"$f":"Calculations!DH153","v":0},{"$f":"Calculations!CS153","v":0},{"$f":"Calculations!CR153","v":0},{"$f":"Calculations!CQ153","v":0},{"$f":"Calculations!CV153","v":0},{"$f":"Calculations!DK153","v":0},{"$f":"Calculations!DJ153","v":0},{"$f":"Calculations!DI153","v":0},{"$f":"Calculations!DN153","v":0},{"$f":"Calculations!CY153","v":0},{"$f":"Calculations!CX153","v":0},{"$f":"Calculations!CW153","v":0},{"$f":"Calculations!DB153","v":0}]
[{"$f":"'Base Information'!$O$14","v":"2011-12-06"},1830,100,{"$f":"Calculations!DE156","v":0},{"$f":"Calculations!DD156","v":0},{"$f":"Calculations!DC156","v":0},{"$f":"Calculations!DH156","v":0},{"$f":"Calculations!CS156","v":0},{"$f":"Calculations!CR156","v":0},{"$f":"Calculations!CQ156","v":0},{"$f":"Calculations!CV156","v":0},{"$f":"Calculations!DK156","v":0},{"$f":"Calculations!DJ156","v":0},{"$f":"Calculations!DI156","v":0},{"$f":"Calculations!DN156","v":0},{"$f":"Calculations!CY156","v":0},{"$f":"Calculations!CX156","v":0},{"$f":"Calculations!CW156","v":0},{"$f":"Calculations!DB156","v":0}]
[{"$f":"'Base Information'!$O$14","v":"2011-12-06"},1845,100,{"$f":"Calculations!DE159","v":0},{"$f":"Calculations!DD159","v":0},{"$f":"Calculations!DC159","v":0},{"$f":"Calculations!DH159","v":0},{"$f":"Calculations!CS159","v":0},{"$f":"Calculations!CR159","v":0},{"$f":"Calculations!CQ159","v":0},{"$f":"Calculations!CV159","v":0},{"$f":"Calculations!DK159","v":0},{"$f":"Calculations!DJ159","v":0},{"$f":"Calculations!DI159","v":0},{"$f":"Calculations!DN159","v":0},{"$f":"Calculations!CY159","v":0},{"$f":"Calculations!CX159","v":0},{"$f":"Calculations!CW159","v":0},{"$f":"Calculations!DB159","v":0}]
[{"$f":"'Base Information'!$O$14","v":"2011-12-06"},1900,100,{"$f":"Calculations!DE162","v":0},{"$f":"Calculations!DD162","v":0},{"$f":"Calculations!DC162","v":0},{"$f":"Calculations!DH162","v":0},{"$f":"Calculations!CS162","v":0},{"$f":"Calculations!CR162","v":0},{"$f":"Calculations!CQ162","v":0},{"$f":"Calculations!CV162","v":0},{"$f":"Calculations!DK162","v":0},{"$f":"Calculations!DJ162","v":0},{"$f":"Calculations!DI162","v":0},{"$f":"Calculations!DN162","v":0},{"$f":"Calculations!CY162","v":0},{"$f":"Calculations!CX162","v":0},{"$f":"Calculations!CW162","v":0},{"$f":"Calculations!DB162","v":0}]
[{"$f":"'Base Information'!$O$14","v":"2011-12-06"},1915,100,{"$f":"Calculations!DE165","v":0},{"$f":"Calculations!DD165","v":0},{"$f":"Calculations!DC165","v":0},{"$f":"Calculations!DH165","v":0},{"$f":"Calculations!CS165","v":0},{"$f":"Calculations!CR165","v":0},{"$f":"Calculations!CQ165","v":0},{"$f":"Calculations!CV165","v":0},{"$f":"Calculations!DK165","v":0},{"$f":"Calculations!DJ165","v":0},{"$f":"Calculations!DI165","v":0},{"$f":"Calculations!DN165","v":0},{"$f":"Calculations!CY165","v":0},{"$f":"Calculations!CX165","v":0},{"$f":"Calculations!CW165","v":0},{"$f":"Calculations!DB165","v":0}]
[{"$f":"'Base Information'!$O$14","v":"2011-12-06"},1930,100,{"$f":"Calculations!DE168","v":0},{"$f":"Calculations!DD168","v":0},{"$f":"Calculations!DC168","v":0},{"$f":"Calculations!DH168","v":0},{"$f":"Calculations!CS168","v":0},{"$f":"Calculations!CR168","v":0},{"$f":"Calculations!CQ168","v":0},{"$f":"Calculations!CV168","v":0},{"$f":"Calculations!DK168","v":0},{"$f":"Calculations!DJ168","v":0},{"$f":"Calculations!DI168","v":0},{"$f":"Calculations!DN168","v":0},{"$f":"Calculations!CY168","v":0},{"$f":"Calculations!CX168","v":0},{"$f":"Calculations!CW168","v":0},{"$f":"Calculations!DB168","v":0}]
[{"$f":"'Base Information'!$O$14","v":"2011-12-06"},1945,100,{"$f":"Calculations!DE171","v":0},{"$f":"Calculations!DD171","v":0},{"$f":"Calculations!DC171","v":0},{"$f":"Calculations!DH171","v":0},{"$f":"Calculations!CS171","v":0},{"$f":"Calculations!CR171","v":0},{"$f":"Calculations!CQ171","v":0},{"$f":"Calculations!CV171","v":0},{"$f":"Calculations!DK171","v":0},{"$f":"Calculations!DJ171","v":0},{"$f":"Calculations!DI171","v":0},{"$f":"Calculations!DN171","v":0},{"$f":"Calculations!CY171","v":0},{"$f":"Calculations!CX171","v":0},{"$f":"Calculations!CW171","v":0},{"$f":"Calculations!DB171","v":0}]
[{"$f":"'Base Information'!$O$14","v":"2011-12-06"},2000,100,{"$f":"Calculations!DE174","v":0},{"$f":"Calculations!DD174","v":0},{"$f":"Calculations!DC174","v":0},{"$f":"Calculations!DH174","v":0},{"$f":"Calculations!CS174","v":0},{"$f":"Calculations!CR174","v":0},{"$f":"Calculations!CQ174","v":0},{"$f":"Calculations!CV174","v":0},{"$f":"Calculations!DK174","v":0},{"$f":"Calculations!DJ174","v":0},{"$f":"Calculations!DI174","v":0},{"$f":"Calculations!DN174","v":0},{"$f":"Calculations!CY174","v":0},{"$f":"Calculations!CX174","v":0},{"$f":"Calculations!CW174","v":0},{"$f":"Calculations!DB174","v":0}]
[{"$f":"'Base Information'!$O$14","v":"2011-12-06"},2015,100,{"$f":"Calculations!DE177","v":0},{"$f":"Calculations!DD177","v":0},{"$f":"Calculations!DC177","v":0},{"$f":"Calculations!DH177","v":0},{"$f":"Calculations!CS177","v":0},{"$f":"Calculations!CR177","v":0},{"$f":"Calculations!CQ177","v":0},{"$f":"Calculations!CV177","v":0},{"$f":"Calculations!DK177","v":0},{"$f":"Calculations!DJ177","v":0},{"$f":"Calculations!DI177","v":0},{"$f":"Calculations!DN177","v":0},{"$f":"Calculations!CY177","v":0},{"$f":"Calculations!CX177","v":0},{"$f":"Calculations!CW177","v":0},{"$f":"Calculations!DB177","v":0}]
[{"$f":"'Base Information'!$O$14","v":"2011-12-06"},2030,100,{"$f":"Calculations!DE180","v":0},{"$f":"Calculations!DD180","v":0},{"$f":"Calculations!DC180","v":0},{"$f":"Calculations!DH180","v":0},{"$f":"Calculations!CS180","v":0},{"$f":"Calculations!CR180","v":0},{"$f":"Calculations!CQ180","v":0},{"$f":"Calculations!CV180","v":0},{"$f":"Calculations!DK180","v":0},{"$f":"Calculations!DJ180","v":0},{"$f":"Calculations!DI180","v":0},{"$f":"Calculations!DN180","v":0},{"$f":"Calculations!CY180","v":0},{"$f":"Calculations!CX180","v":0},{"$f":"Calculations!CW180","v":0},{"$f":"Calculations!DB180","v":0}]
[{"$f":"'Base Information'!$O$14","v":"2011-12-06"},2045,100,{"$f":"Calculations!DE183","v":0},{"$f":"Calculations!DD183","v":0},{"$f":"Calculations!DC183","v":0},{"$f":"Calculations!DH183","v":0},{"$f":"Calculations!CS183","v":0},{"$f":"Calculations!CR183","v":0},{"$f":"Calculations!CQ183","v":0},{"$f":"Calculations!CV183","v":0},{"$f":"Calculations!DK183","v":0},{"$f":"Calculations!DJ183","v":0},{"$f":"Calculations!DI183","v":0},{"$f":"Calculations!DN183","v":0},{"$f":"Calculations!CY183","v":0},{"$f":"Calculations!CX183","v":0},{"$f":"Calculations!CW183","v":0},{"$f":"Calculations!DB183","v":0}]
[{"$f":"'Base Information'!$O$14","v":"2011-12-06"},2100,100,{"$f":"Calculations!DE186","v":0},{"$f":"Calculations!DD186","v":0},{"$f":"Calculations!DC186","v":0},{"$f":"Calculations!DH186","v":0},{"$f":"Calculations!CS186","v":0},{"$f":"Calculations!CR186","v":0},{"$f":"Calculations!CQ186","v":0},{"$f":"Calculations!CV186","v":0},{"$f":"Calculations!DK186","v":0},{"$f":"Calculations!DJ186","v":0},{"$f":"Calculations!DI186","v":0},{"$f":"Calculations!DN186","v":0},{"$f":"Calculations!CY186","v":0},{"$f":"Calculations!CX186","v":0},{"$f":"Calculations!CW186","v":0},{"$f":"Calculations!DB186","v":0}]

{"sheet":"Daily & Seasonally Adj 15 min","index":13,"n_rows":87,"n_cols":27,"rows_kept":87,"cut":false,"hidden":false,"merged":[[80,13,80,14],[80,16,80,17],[80,18,80,19],[80,21,80,22],[81,3,81,7],[81,8,81,12],[81,13,81,17],[81,18,81,22],[80,11,80,12],[45,1,76,1],[77,1,77,2],[80,3,80,4],[80,6,80,7],[80,8,80,9],[29,1,44,1],[5,15,5,26],[6,15,7,26],[9,3,9,4],[9,6,9,7],[9,8,9,9],[9,11,9,12],[9,13,9,14],[9,16,9,17],[9,18,9,19],[9,21,9,22],[10,3,10,7],[10,8,10,12],[10,13,10,17],[10,18,10,22],[13,1,28,1],[0,1,3,12],[2,15,2,16],[2,17,2,20],[2,21,2,23],[2,24,2,26],[3,15,3,20],[3,21,3,23],[3,24,3,26]]}
[null,"Intersection Traffic Volume Report"]
[null,null,null,null,null,null,null,null,null,null,null,null,null,null,null,"Count Basics",null,null,null,null,null,null,null,null,null,null,"Special Report"]
[null,null,null,null,null,null,null,null,null,null,null,null,null,null,null,{"$f":"'Base Information'!$L$3","v":"Start Date:"},null,{"$f":"'Base Information'!$N$3","v":"2011-12-06"},null,null,null,{"$f":"'Base Information'!R3","v":"Weekday"},null,null,{"$f":"'Base Information'!U3","v":"Schools in Session"}]
[null,null,null,null,null,null,null,null,null,null,null,null,null,null,null,{"$f":"'Base Information'!$L$4","v":"Total Number of Hours Counted: 12"},null,null,null,null,null,{"$f":"'Base Information'!R4","v":"Non-Holiday"},null,null,{"$f":"'Base Information'!U4","v":"No Special Events"}]
[null,"15-Minute Motor Vehicle Data (Daily & Seasonally Adjusted)"]
[null,null,null,null,null,null,null,null,null,null,null,null,null,null,null,"All Motor Vehicles"]
[null,{"$f":"'Base Information'!E7","v":"441 NB ON RAMP and CTH OO (Northland Ave)"}]
[]
[null,"15-Minute Motor Vehicle Data"]
[null,null,null,null,null,"ê",null,null,null,null,"ç",null,null,null,null,"é",null,null,null,null,"è"]
[null,"15-Minute",null,"From North",null,null,null,null,"From East",null,null,null,null,"From South",null,null,null,null,"From West"]
[null,"Time Period",null,{"$f":"'Base Information'!$D$14:$D$14","v":"441 NB ON RAMP"},null,null,null,null,{"$f":"'Base Information'!$D$15:$D$15","v":"CTH OO (Northland Ave)"},null,null,null,null,{"$f":"'Base Information'!$D$16:$D$16","v":"441 NB OFF RAMP"},null,null,null,null,{"$f":"'Base Information'!$D$17:$D$17","v":"CTH OO (Northland Ave)"},null,null,null,null,"15-Min",null,"Hourly"]
[null,"Start Time",null,"Right ","Thru ","Left ","U-Tn","Total","Right ","Thru ","Left ","U-Tn","Total","Right ","Thru ","Left ","U-Tn","Total","Right ","Thru ","Left ","U-Tn","Total","Totals",null,"Sum","PHF"]
[null,"AM Peak Period","06:00:00",{"$f":"ROUND('15-Min All Vehicle'!D14*'Base Information'!$Q$21,0)","v":0},{"$f":"ROUND('15-Min All Vehicle'!E14*'Base Information'!$Q$21,0)","v":0},{"$f":"ROUND('15-Min All Vehicle'!F14*'Base Information'!$Q$21,0)","v":0},{"$f":"ROUND('15-Min All Vehicle'!G14*'Base Information'!$Q$21,0)","v":0},{"$f":"SUM(D14:G14)","v":0},{"$f":"ROUND('15-Min All Vehicle'!I14*'Base Information'!$Q$21,0)","v":15},{"$f":"ROUND('15-Min All Vehicle'!J14*'Base Information'!$Q$21,0)","v":113},{"$f":"ROUND('15-Min All Vehicle'!K14*'Base Information'!$Q$21,0)","v":0},{"$f":"ROUND('15-Min All Vehicle'!L14*'Base Information'!$Q$21,0)","v":0},{"$f":"SUM(I14:L14)","v":128},{"$f":"ROUND('15-Min All Vehicle'!N14*'Base Information'!$Q$21,0)","v":26},{"$f":"ROUND('15-Min All Vehicle'!O14*'Base Information'!$Q$21,0)","v":0},{"$f":"ROUND('15-Min All Vehicle'!P14*'Base Information'!$Q$21,0)","v":82},{"$f":"ROUND('15-Min All Vehicle'!Q14*'Base Information'!$Q$21,0)","v":0},{"$f":"SUM(N14:Q14)","v":108},{"$f":"ROUND('15-Min All Vehicle'!S14*'Base Information'!$Q$21,0)","v":0},{"$f":"ROUND('15-Min All Vehicle'!T14*'Base Information'!$Q$21,0)","v":24},{"$f":"ROUND('15-Min All Vehicle'!U14*'Base Information'!$Q$21,0)","v":2},{"$f":"ROUND('15-Min All Vehicle'!V14*'Base Information'!$Q$21,0)","v":0},{"$f":"SUM(S14:V14)","v":26},{"$f":"H14+M14+R14+W14","v":262},null,{"$f":"X14+X15+X16+X17","v":1328},{"$f":"IF(X17=0, \"\",(Z14/(4*MAX(X14:X17))))","v":0.69601677148846963}]
[null,null,"06:14:59.942",{"$f":"ROUND('15-Min All Vehicle'!D15*'Base Information'!$Q$21,0)","v":0},{"$f":"ROUND('15-Min All Vehicle'!E15*'Base Information'!$Q$21,0)","v":0},{"$f":"ROUND('15-Min All Vehicle'!F15*'Base Information'!$Q$21,0)","v":0},{"$f":"ROUND('15-Min All Vehicle'!G15*'Base Information'!$Q$21,0)","v":0},{"$f":"SUM(D15:G15)","v":0},{"$f":"ROUND('15-Min All Vehicle'!I15*'Base Information'!$Q$21,0)","v":13},{"$f":"ROUND('15-Min All Vehicle'!J15*'Base Information'!$Q$21,0)","v":102},{"$f":"ROUND('15-Min All Vehicle'!K15*'Base Information'!$Q$21,0)","v":0},{"$f":"ROUND('15-Min All Vehicle'!L15*'Base Information'!$Q$21,0)","v":0},{"$f":"SUM(I15:L15)","v":115},{"$f":"ROUND('15-Min All Vehicle'!N15*'Base Information'!$Q$21,0)","v":31},{"$f":"ROUND('15-Min All Vehicle'!O15*'Base Information'!$Q$21,0)","v":0},{"$f":"ROUND('15-Min All Vehicle'!P15*'Base Information'!$Q$21,0)","v":114},{"$f":"ROUND('15-Min All Vehicle'!Q15*'Base Information'!$Q$21,0)","v":0},{"$f":"SUM(N15:Q15)","v":145},{"$f":"ROUND('15-Min All Vehicle'!S15*'Base Information'!$Q$21,0)","v":0},{"$f":"ROUND('15-Min All Vehicle'!T15*'Base Information'!$Q$21,0)","v":36},{"$f":"ROUND('15-Min All Vehicle'!U15*'Base Information'!$Q$21,0)","v":8},{"$f":"ROUND('15-Min All Vehicle'!V15*'Base Information'!$Q$21,0)","v":0},{"$f":"SUM(S15:V15)","v":44},{"$f":"H15+M15+R15+W15","v":304},null,{"$f":"X15+X16+X17+X18","v":1477},{"$f":"IF(X18=0, \"\",(Z15/(4*MAX(X15:X18))))","v":0.77410901467505244}]
[null,null,"06:29:59.971",{"$f":"ROUND('15-Min All Vehicle'!D16*'Base Information'!$Q$21,0)","v":0},{"$f":"ROUND('15-Min All Vehicle'!E16*'Base Information'!$Q$21,0)","v":0},{"$f":"ROUND('15-Min All Vehicle'!F16*'Base Information'!$Q$21,0)","v":0},{"$f":"ROUND('15-Min All Vehicle'!G16*'Base Information'!$Q$21,0)","v":0},0,{"$f":"ROUND('15-Min All Vehicle'!I16*'Base Information'!$Q$21,0)","v":16},{"$f":"ROUND('15-Min All Vehicle'!J16*'Base Information'!$Q$21,0)","v":101},{"$f":"ROUND('15-Min All Vehicle'!K16*'Base Information'!$Q$21,0)","v":0},{"$f":"ROUND('15-Min All Vehicle'!L16*'Base Information'!$Q$21,0)","v":0},117,{"$f":"ROUND('15-Min All Vehicle'!N16*'Base Information'!$Q$21,0)","v":32},{"$f":"ROUND('15-Min All Vehicle'!O16*'Base Information'!$Q$21,0)","v":0},{"$f":"ROUND('15-Min All Vehicle'!P16*'Base Information'!$Q$21,0)","v":95},{"$f":"ROUND('15-Min All Vehicle'!Q16*'Base Information'!$Q$21,0)","v":0},127,{"$f":"ROUND('15-Min All Vehicle'!S16*'Base Information'!$Q$21,0)","v":0},{"$f":"ROUND('15-Min All Vehicle'!T16*'Base Information'!$Q$21,0)","v":36},{"$f":"ROUND('15-Min All Vehicle'!U16*'Base Information'!$Q$21,0)","v":5},{"$f":"ROUND('15-Min All Vehicle'!V16*'Base Information'!$Q$21,0)","v":0},41,285,null,1691,0.81611969111969107]
[null,null,"06:45:00",{"$f":"ROUND('15-Min All Vehicle'!D17*'Base Information'!$Q$21,0)","v":0},{"$f":"ROUND('15-Min All Vehicle'!E17*'Base Information'!$Q$21,0)","v":0},{"$f":"ROUND('15-Min All Vehicle'!F17*'Base Information'!$Q$21,0)","v":0},{"$f":"ROUND('15-Min All Vehicle'!G17*'Base Information'!$Q$21,0)","v":0},0,{"$f":"ROUND('15-Min All Vehicle'!I17*'Base Information'!$Q$21,0)","v":18},{"$f":"ROUND('15-Min All Vehicle'!J17*'Base Information'!$Q$21,0)","v":143},{"$f":"ROUND('15-Min All Vehicle'!K17*'Base Information'!$Q$21,0)","v":0},{"$f":"ROUND('15-Min All Vehicle'!L17*'Base Information'!$Q$21,0)","v":0},161,{"$f":"ROUND('15-Min All Vehicle'!N17*'Base Information'!$Q$21,0)","v":63},{"$f":"ROUND('15-Min All Vehicle'!O17*'Base Information'!$Q$21,0)","v":0},{"$f":"ROUND('15-Min All Vehicle'!P17*'Base Information'!$Q$21,0)","v":190},{"$f":"ROUND('15-Min All Vehicle'!Q17*'Base Information'!$Q$21,0)","v":0},253,{"$f":"ROUND('15-Min All Vehicle'!S17*'Base Information'!$Q$21,0)","v":0},{"$f":"ROUND('15-Min All Vehicle'!T17*'Base Information'!$Q$21,0)","v":59},{"$f":"ROUND('15-Min All Vehicle'!U17*'Base Information'!$Q$21,0)","v":4},{"$f":"ROUND('15-Min All Vehicle'!V17*'Base Information'!$Q$21,0)","v":0},63,477,null,1994,0.84778911564625847]
[null,null,"06:59:59.942",{"$f":"ROUND('15-Min All Vehicle'!D18*'Base Information'!$Q$21,0)","v":0},{"$f":"ROUND('15-Min All Vehicle'!E18*'Base Information'!$Q$21,0)","v":0},{"$f":"ROUND('15-Min All Vehicle'!F18*'Base Information'!$Q$21,0)","v":0},{"$f":"ROUND('15-Min All Vehicle'!G18*'Base Information'!$Q$21,0)","v":0},0,{"$f":"ROUND('15-Min All Vehicle'!I18*'Base Information'!$Q$21,0)","v":12},{"$f":"ROUND('15-Min All Vehicle'!J18*'Base Information'!$Q$21,0)","v":159},{"$f":"ROUND('15-Min All Vehicle'!K18*'Base Information'!$Q$21,0)","v":0},{"$f":"ROUND('15-Min All Vehicle'!L18*'Base Information'!$Q$21,0)","v":0},171,{"$f":"ROUND('15-Min All Vehicle'!N18*'Base Information'!$Q$21,0)","v":55},{"$f":"ROUND('15-Min All Vehicle'!O18*'Base Information'!$Q$21,0)","v":0},{"$f":"ROUND('15-Min All Vehicle'!P18*'Base Information'!$Q$21,0)","v":142},{"$f":"ROUND('15-Min All Vehicle'!Q18*'Base Information'!$Q$21,0)","v":0},197,{"$f":"ROUND('15-Min All Vehicle'!S18*'Base Information'!$Q$21,0)","v":0},{"$f":"ROUND('15-Min All Vehicle'!T18*'Base Information'!$Q$21,0)","v":36},{"$f":"ROUND('15-Min All Vehicle'!U18*'Base Information'!$Q$21,0)","v":7},{"$f":"ROUND('15-Min All Vehicle'!V18*'Base Information'!$Q$21,0)","v":0},43,411,null,2203,0.80284256559766765]
[null,null,"07:14:59.971",{"$f":"ROUND('15-Min All Vehicle'!D19*'Base Information'!$Q$21,0)","v":0},{"$f":"ROUND('15-Min All Vehicle'!E19*'Base Information'!$Q$21,0)","v":0},{"$f":"ROUND('15-Min All Vehicle'!F19*'Base Information'!$Q$21,0)","v":0},{"$f":"ROUND('15-Min All Vehicle'!G19*'Base Information'!$Q$21,0)","v":0},0,{"$f":"ROUND('15-Min All Vehicle'!I19*'Base Information'!$Q$21,0)","v":28},{"$f":"ROUND('15-Min All Vehicle'!J19*'Base Information'!$Q$21,0)","v":152},{"$f":"ROUND('15-Min All Vehicle'!K19*'Base Information'!$Q$21,0)","v":0},{"$f":"ROUND('15-Min All Vehicle'!L19*'Base Information'!$Q$21,0)","v":0},180,{"$f":"ROUND('15-Min All Vehicle'!N19*'Base Information'!$Q$21,0)","v":74},{"$f":"ROUND('15-Min All Vehicle'!O19*'Base Information'!$Q$21,0)","v":0},{"$f":"ROUND('15-Min All Vehicle'!P19*'Base Information'!$Q$21,0)","v":217},{"$f":"ROUND('15-Min All Vehicle'!Q19*'Base Information'!$Q$21,0)","v":0},291,{"$f":"ROUND('15-Min All Vehicle'!S19*'Base Information'!$Q$21,0)","v":0},{"$f":"ROUND('15-Min All Vehicle'!T19*'Base Information'!$Q$21,0)","v":35},{"$f":"ROUND('15-Min All Vehicle'!U19*'Base Information'!$Q$21,0)","v":12},{"$f":"ROUND('15-Min All Vehicle'!V19*'Base Information'!$Q$21,0)","v":0},47,518,null,2231,0.81304664723032072]
[null,null,"07:30:00",{"$f":"ROUND('15-Min All Vehicle'!D20*'Base Information'!$Q$21,0)","v":0},{"$f":"ROUND('15-Min All Vehicle'!E20*'Base Information'!$Q$21,0)","v":0},{"$f":"ROUND('15-Min All Vehicle'!F20*'Base Information'!$Q$21,0)","v":0},{"$f":"ROUND('15-Min All Vehicle'!G20*'Base Information'!$Q$21,0)","v":0},0,{"$f":"ROUND('15-Min All Vehicle'!I20*'Base Information'!$Q$21,0)","v":19},{"$f":"ROUND('15-Min All Vehicle'!J20*'Base Information'!$Q$21,0)","v":225},{"$f":"ROUND('15-Min All Vehicle'!K20*'Base Information'!$Q$21,0)","v":0},{"$f":"ROUND('15-Min All Vehicle'!L20*'Base Information'!$Q$21,0)","v":0},244,{"$f":"ROUND('15-Min All Vehicle'!N20*'Base Information'!$Q$21,0)","v":66},{"$f":"ROUND('15-Min All Vehicle'!O20*'Base Information'!$Q$21,0)","v":1},{"$f":"ROUND('15-Min All Vehicle'!P20*'Base Information'!$Q$21,0)","v":234},{"$f":"ROUND('15-Min All Vehicle'!Q20*'Base Information'!$Q$21,0)","v":0},301,{"$f":"ROUND('15-Min All Vehicle'!S20*'Base Information'!$Q$21,0)","v":0},{"$f":"ROUND('15-Min All Vehicle'!T20*'Base Information'!$Q$21,0)","v":39},{"$f":"ROUND('15-Min All Vehicle'!U20*'Base Information'!$Q$21,0)","v":4},{"$f":"ROUND('15-Min All Vehicle'!V20*'Base Information'!$Q$21,0)","v":0},43,588,null,2141,0.78024781341107874]
[null,null,"07:44:59.942",{"$f":"ROUND('15-Min All Vehicle'!D21*'Base Information'!$Q$21,0)","v":0},{"$f":"ROUND('15-Min All Vehicle'!E21*'Base Information'!$Q$21,0)","v":0},{"$f":"ROUND('15-Min All Vehicle'!F21*'Base Information'!$Q$21,0)","v":0},{"$f":"ROUND('15-Min All Vehicle'!G21*'Base Information'!$Q$21,0)","v":0},0,{"$f":"ROUND('15-Min All Vehicle'!I21*'Base Information'!$Q$21,0)","v":29},{"$f":"ROUND('15-Min All Vehicle'!J21*'Base Information'!$Q$21,0)","v":278},{"$f":"ROUND('15-Min All Vehicle'!K21*'Base Information'!$Q$21,0)","v":0},{"$f":"ROUND('15-Min All Vehicle'!L21*'Base Information'!$Q$21,0)","v":0},307,{"$f":"ROUND('15-Min All Vehicle'!N21*'Base Information'!$Q$21,0)","v":64},{"$f":"ROUND('15-Min All Vehicle'!O21*'Base Information'!$Q$21,0)","v":0},{"$f":"ROUND('15-Min All Vehicle'!P21*'Base Information'!$Q$21,0)","v":243},{"$f":"ROUND('15-Min All Vehicle'!Q21*'Base Information'!$Q$21,0)","v":0},307,{"$f":"ROUND('15-Min All Vehicle'!S21*'Base Information'!$Q$21,0)","v":0},{"$f":"ROUND('15-Min All Vehicle'!T21*'Base Information'!$Q$21,0)","v":63},{"$f":"ROUND('15-Min All Vehicle'!U21*'Base Information'!$Q$21,0)","v":9},{"$f":"ROUND('15-Min All Vehicle'!V21*'Base Information'!$Q$21,0)","v":0},72,686,null,1931,0.70371720116618075]
[null,null,"07:59:59.971",{"$f":"ROUND('15-Min All Vehicle'!D22*'Base Information'!$Q$21,0)","v":0},{"$f":"ROUND('15-Min All Vehicle'!E22*'Base Information'!$Q$21,0)","v":0},{"$f":"ROUND('15-Min All Vehicle'!F22*'Base Information'!$Q$21,0)","v":0},{"$f":"ROUND('15-Min All Vehicle'!G22*'Base Information'!$Q$21,0)","v":0},0,{"$f":"ROUND('15-Min All Vehicle'!I22*'Base Information'!$Q$21,0)","v":12},{"$f":"ROUND('15-Min All Vehicle'!J22*'Base Information'!$Q$21,0)","v":171},{"$f":"ROUND('15-Min All Vehicle'!K22*'Base Information'!$Q$21,0)","v":0},{"$f":"ROUND('15-Min All Vehicle'!L22*'Base Information'!$Q$21,0)","v":0},183,{"$f":"ROUND('15-Min All Vehicle'!N22*'Base Information'!$Q$21,0)","v":42},{"$f":"ROUND('15-Min All Vehicle'!O22*'Base Information'!$Q$21,0)","v":0},{"$f":"ROUND('15-Min All Vehicle'!P22*'Base Information'!$Q$21,0)","v":165},{"$f":"ROUND('15-Min All Vehicle'!Q22*'Base Information'!$Q$21,0)","v":0},207,{"$f":"ROUND('15-Min All Vehicle'!S22*'Base Information'!$Q$21,0)","v":0},{"$f":"ROUND('15-Min All Vehicle'!T22*'Base Information'!$Q$21,0)","v":41},{"$f":"ROUND('15-Min All Vehicle'!U22*'Base Information'!$Q$21,0)","v":8},{"$f":"ROUND('15-Min All Vehicle'!V22*'Base Information'!$Q$21,0)","v":0},49,439,null,1633,0.92995444191343968]
[null,null,"08:15:00",{"$f":"ROUND('15-Min All Vehicle'!D23*'Base Information'!$Q$21,0)","v":0},{"$f":"ROUND('15-Min All Vehicle'!E23*'Base Information'!$Q$21,0)","v":0},{"$f":"ROUND('15-Min All Vehicle'!F23*'Base Information'!$Q$21,0)","v":0},{"$f":"ROUND('15-Min All Vehicle'!G23*'Base Information'!$Q$21,0)","v":0},0,{"$f":"ROUND('15-Min All Vehicle'!I23*'Base Information'!$Q$21,0)","v":22},{"$f":"ROUND('15-Min All Vehicle'!J23*'Base Information'!$Q$21,0)","v":157},{"$f":"ROUND('15-Min All Vehicle'!K23*'Base Information'!$Q$21,0)","v":0},{"$f":"ROUND('15-Min All Vehicle'!L23*'Base Information'!$Q$21,0)","v":0},179,{"$f":"ROUND('15-Min All Vehicle'!N23*'Base Information'!$Q$21,0)","v":60},{"$f":"ROUND('15-Min All Vehicle'!O23*'Base Information'!$Q$21,0)","v":0},{"$f":"ROUND('15-Min All Vehicle'!P23*'Base Information'!$Q$21,0)","v":125},{"$f":"ROUND('15-Min All Vehicle'!Q23*'Base Information'!$Q$21,0)","v":0},185,{"$f":"ROUND('15-Min All Vehicle'!S23*'Base Information'!$Q$21,0)","v":0},{"$f":"ROUND('15-Min All Vehicle'!T23*'Base Information'!$Q$21,0)","v":52},{"$f":"ROUND('15-Min All Vehicle'!U23*'Base Information'!$Q$21,0)","v":12},{"$f":"ROUND('15-Min All Vehicle'!V23*'Base Information'!$Q$21,0)","v":0},64,428,null,1481,0.86507009345794394]
[null,null,"08:29:59.942",{"$f":"ROUND('15-Min All Vehicle'!D24*'Base Information'!$Q$21,0)","v":0},{"$f":"ROUND('15-Min All Vehicle'!E24*'Base Information'!$Q$21,0)","v":0},{"$f":"ROUND('15-Min All Vehicle'!F24*'Base Information'!$Q$21,0)","v":0},{"$f":"ROUND('15-Min All Vehicle'!G24*'Base Information'!$Q$21,0)","v":0},0,{"$f":"ROUND('15-Min All Vehicle'!I24*'Base Information'!$Q$21,0)","v":20},{"$f":"ROUND('15-Min All Vehicle'!J24*'Base Information'!$Q$21,0)","v":127},{"$f":"ROUND('15-Min All Vehicle'!K24*'Base Information'!$Q$21,0)","v":0},{"$f":"ROUND('15-Min All Vehicle'!L24*'Base Information'!$Q$21,0)","v":0},147,{"$f":"ROUND('15-Min All Vehicle'!N24*'Base Information'!$Q$21,0)","v":49},{"$f":"ROUND('15-Min All Vehicle'!O24*'Base Information'!$Q$21,0)","v":0},{"$f":"ROUND('15-Min All Vehicle'!P24*'Base Information'!$Q$21,0)","v":128},{"$f":"ROUND('15-Min All Vehicle'!Q24*'Base Information'!$Q$21,0)","v":0},177,{"$f":"ROUND('15-Min All Vehicle'!S24*'Base Information'!$Q$21,0)","v":0},{"$f":"ROUND('15-Min All Vehicle'!T24*'Base Information'!$Q$21,0)","v":49},{"$f":"ROUND('15-Min All Vehicle'!U24*'Base Information'!$Q$21,0)","v":5},{"$f":"ROUND('15-Min All Vehicle'!V24*'Base Information'!$Q$21,0)","v":0},54,378,null,1327,0.85502577319587625]
[null,null,"08:44:59.971",{"$f":"ROUND('15-Min All Vehicle'!D25*'Base Information'!$Q$21,0)","v":0},{"$f":"ROUND('15-Min All Vehicle'!E25*'Base Information'!$Q$21,0)","v":0},{"$f":"ROUND('15-Min All Vehicle'!F25*'Base Information'!$Q$21,0)","v":0},{"$f":"ROUND('15-Min All Vehicle'!G25*'Base Information'!$Q$21,0)","v":0},0,{"$f":"ROUND('15-Min All Vehicle'!I25*'Base Information'!$Q$21,0)","v":19},{"$f":"ROUND('15-Min All Vehicle'!J25*'Base Information'!$Q$21,0)","v":131},{"$f":"ROUND('15-Min All Vehicle'!K25*'Base Information'!$Q$21,0)","v":0},{"$f":"ROUND('15-Min All Vehicle'!L25*'Base Information'!$Q$21,0)","v":0},150,{"$f":"ROUND('15-Min All Vehicle'!N25*'Base Information'!$Q$21,0)","v":47},{"$f":"ROUND('15-Min All Vehicle'!O25*'Base Information'!$Q$21,0)","v":0},{"$f":"ROUND('15-Min All Vehicle'!P25*'Base Information'!$Q$21,0)","v":130},{"$f":"ROUND('15-Min All Vehicle'!Q25*'Base Information'!$Q$21,0)","v":0},177,{"$f":"ROUND('15-Min All Vehicle'!S25*'Base Information'!$Q$21,0)","v":0},{"$f":"ROUND('15-Min All Vehicle'!T25*'Base Information'!$Q$21,0)","v":48},{"$f":"ROUND('15-Min All Vehicle'!U25*'Base Information'!$Q$21,0)","v":13},{"$f":"ROUND('15-Min All Vehicle'!V25*'Base Information'!$Q$21,0)","v":0},61,388,null,1228,0.79123711340206182]
[null,null,"09:00:00",{"$f":"ROUND('15-Min All Vehicle'!D26*'Base Information'!$Q$21,0)","v":0},{"$f":"ROUND('15-Min All Vehicle'!E26*'Base Information'!$Q$21,0)","v":0},{"$f":"ROUND('15-Min All Vehicle'!F26*'Base Information'!$Q$21,0)","v":0},{"$f":"ROUND('15-Min All Vehicle'!G26*'Base Information'!$Q$21,0)","v":0},0,{"$f":"ROUND('15-Min All Vehicle'!I26*'Base Information'!$Q$21,0)","v":7},{"$f":"ROUND('15-Min All Vehicle'!J26*'Base Information'!$Q$21,0)","v":115},{"$f":"ROUND('15-Min All Vehicle'!K26*'Base Information'!$Q$21,0)","v":0},{"$f":"ROUND('15-Min All Vehicle'!L26*'Base Information'!$Q$21,0)","v":0},122,{"$f":"ROUND('15-Min All Vehicle'!N26*'Base Information'!$Q$21,0)","v":38},{"$f":"ROUND('15-Min All Vehicle'!O26*'Base Information'!$Q$21,0)","v":0},{"$f":"ROUND('15-Min All Vehicle'!P26*'Base Information'!$Q$21,0)","v":75},{"$f":"ROUND('15-Min All Vehicle'!Q26*'Base Information'!$Q$21,0)","v":0},113,{"$f":"ROUND('15-Min All Vehicle'!S26*'Base Information'!$Q$21,0)","v":0},{"$f":"ROUND('15-Min All Vehicle'!T26*'Base Information'!$Q$21,0)","v":43},{"$f":"ROUND('15-Min All Vehicle'!U26*'Base Information'!$Q$21,0)","v":9},{"$f":"ROUND('15-Min All Vehicle'!V26*'Base Information'!$Q$21,0)","v":0},52,287,null,1124,0.97909407665505221]
[null,null,"09:14:59.942",{"$f":"ROUND('15-Min All Vehicle'!D27*'Base Information'!$Q$21,0)","v":0},{"$f":"ROUND('15-Min All Vehicle'!E27*'Base Information'!$Q$21,0)","v":0},{"$f":"ROUND('15-Min All Vehicle'!F27*'Base Information'!$Q$21,0)","v":0},{"$f":"ROUND('15-Min All Vehicle'!G27*'Base Information'!$Q$21,0)","v":0},0,{"$f":"ROUND('15-Min All Vehicle'!I27*'Base Information'!$Q$21,0)","v":14},{"$f":"ROUND('15-Min All Vehicle'!J27*'Base Information'!$Q$21,0)","v":94},{"$f":"ROUND('15-Min All Vehicle'!K27*'Base Information'!$Q$21,0)","v":0},{"$f":"ROUND('15-Min All Vehicle'!L27*'Base Information'!$Q$21,0)","v":0},108,{"$f":"ROUND('15-Min All Vehicle'!N27*'Base Information'!$Q$21,0)","v":37},{"$f":"ROUND('15-Min All Vehicle'!O27*'Base Information'!$Q$21,0)","v":0},{"$f":"ROUND('15-Min All Vehicle'!P27*'Base Information'!$Q$21,0)","v":65},{"$f":"ROUND('15-Min All Vehicle'!Q27*'Base Information'!$Q$21,0)","v":0},102,{"$f":"ROUND('15-Min All Vehicle'!S27*'Base Information'!$Q$21,0)","v":0},{"$f":"ROUND('15-Min All Vehicle'!T27*'Base Information'!$Q$21,0)","v":54},{"$f":"ROUND('15-Min All Vehicle'!U27*'Base Information'!$Q$21,0)","v":10},{"$f":"ROUND('15-Min All Vehicle'!V27*'Base Information'!$Q$21,0)","v":0},64,274,null,1123,0.98164335664335667]
[null,null,"09:29:59.971",{"$f":"ROUND('15-Min All Vehicle'!D28*'Base Information'!$Q$21,0)","v":0},{"$f":"ROUND('15-Min All Vehicle'!E28*'Base Information'!$Q$21,0)","v":0},{"$f":"ROUND('15-Min All Vehicle'!F28*'Base Information'!$Q$21,0)","v":0},{"$f":"ROUND('15-Min All Vehicle'!G28*'Base Information'!$Q$21,0)","v":0},0,{"$f":"ROUND('15-Min All Vehicle'!I28*'Base Information'!$Q$21,0)","v":10},{"$f":"ROUND('15-Min All Vehicle'!J28*'Base Information'!$Q$21,0)","v":104},{"$f":"ROUND('15-Min All Vehicle'!K28*'Base Information'!$Q$21,0)","v":0},{"$f":"ROUND('15-Min All Vehicle'!L28*'Base Information'!$Q$21,0)","v":0},114,{"$f":"ROUND('15-Min All Vehicle'!N28*'Base Information'!$Q$21,0)","v":28},{"$f":"ROUND('15-Min All Vehicle'!O28*'Base Information'!$Q$21,0)","v":0},{"$f":"ROUND('15-Min All Vehicle'!P28*'Base Information'!$Q$21,0)","v":78},{"$f":"ROUND('15-Min All Vehicle'!Q28*'Base Information'!$Q$21,0)","v":0},106,{"$f":"ROUND('15-Min All Vehicle'!S28*'Base Information'!$Q$21,0)","v":0},{"$f":"ROUND('15-Min All Vehicle'!T28*'Base Information'!$Q$21,0)","v":45},{"$f":"ROUND('15-Min All Vehicle'!U28*'Base Information'!$Q$21,0)","v":14},{"$f":"ROUND('15-Min All Vehicle'!V28*'Base Information'!$Q$21,0)","v":0},59,279,null,1123,0.98164335664335667]
[null,null,"09:45:00",{"$f":"ROUND('15-Min All Vehicle'!D29*'Base Information'!$Q$21,0)","v":0},{"$f":"ROUND('15-Min All Vehicle'!E29*'Base Information'!$Q$21,0)","v":0},{"$f":"ROUND('15-Min All Vehicle'!F29*'Base Information'!$Q$21,0)","v":0},{"$f":"ROUND('15-Min All Vehicle'!G29*'Base Information'!$Q$21,0)","v":0},0,{"$f":"ROUND('15-Min All Vehicle'!I29*'Base Information'!$Q$21,0)","v":16},{"$f":"ROUND('15-Min All Vehicle'!J29*'Base Information'!$Q$21,0)","v":95},{"$f":"ROUND('15-Min All Vehicle'!K29*'Base Information'!$Q$21,0)","v":0},{"$f":"ROUND('15-Min All Vehicle'!L29*'Base Information'!$Q$21,0)","v":0},111,{"$f":"ROUND('15-Min All Vehicle'!N29*'Base Information'!$Q$21,0)","v":39},{"$f":"ROUND('15-Min All Vehicle'!O29*'Base Information'!$Q$21,0)","v":0},{"$f":"ROUND('15-Min All Vehicle'!P29*'Base Information'!$Q$21,0)","v":71},{"$f":"ROUND('15-Min All Vehicle'!Q29*'Base Information'!$Q$21,0)","v":0},110,{"$f":"ROUND('15-Min All Vehicle'!S29*'Base Information'!$Q$21,0)","v":0},{"$f":"ROUND('15-Min All Vehicle'!T29*'Base Information'!$Q$21,0)","v":57},{"$f":"ROUND('15-Min All Vehicle'!U29*'Base Information'!$Q$21,0)","v":6},{"$f":"ROUND('15-Min All Vehicle'!V29*'Base Information'!$Q$21,0)","v":0},63,284,null,1124,0.9825174825174825]
[null,"Midday Peak Period","09:59:59.942",{"$f":"ROUND('15-Min All Vehicle'!D30*'Base Information'!$Q$21,0)","v":0},{"$f":"ROUND('15-Min All Vehicle'!E30*'Base Information'!$Q$21,0)","v":0},{"$f":"ROUND('15-Min All Vehicle'!F30*'Base Information'!$Q$21,0)","v":0},{"$f":"ROUND('15-Min All Vehicle'!G30*'Base Information'!$Q$21,0)","v":0},0,{"$f":"ROUND('15-Min All Vehicle'!I30*'Base Information'!$Q$21,0)","v":19},{"$f":"ROUND('15-Min All Vehicle'!J30*'Base Information'!$Q$21,0)","v":104},{"$f":"ROUND('15-Min All Vehicle'!K30*'Base Information'!$Q$21,0)","v":0},{"$f":"ROUND('15-Min All Vehicle'!L30*'Base Information'!$Q$21,0)","v":0},123,{"$f":"ROUND('15-Min All Vehicle'!N30*'Base Information'!$Q$21,0)","v":38},{"$f":"ROUND('15-Min All Vehicle'!O30*'Base Information'!$Q$21,0)","v":0},{"$f":"ROUND('15-Min All Vehicle'!P30*'Base Information'!$Q$21,0)","v":61},{"$f":"ROUND('15-Min All Vehicle'!Q30*'Base Information'!$Q$21,0)","v":0},99,{"$f":"ROUND('15-Min All Vehicle'!S30*'Base Information'!$Q$21,0)","v":0},{"$f":"ROUND('15-Min All Vehicle'!T30*'Base Information'!$Q$21,0)","v":55},{"$f":"ROUND('15-Min All Vehicle'!U30*'Base Information'!$Q$21,0)","v":9},{"$f":"ROUND('15-Min All Vehicle'!V30*'Base Information'!$Q$21,0)","v":0},64,286,null,1154,0.91878980891719741]
[null,null,"10:14:59.971",{"$f":"ROUND('15-Min All Vehicle'!D31*'Base Information'!$Q$21,0)","v":0},{"$f":"ROUND('15-Min All Vehicle'!E31*'Base Information'!$Q$21,0)","v":0},{"$f":"ROUND('15-Min All Vehicle'!F31*'Base Information'!$Q$21,0)","v":0},{"$f":"ROUND('15-Min All Vehicle'!G31*'Base Information'!$Q$21,0)","v":0},0,{"$f":"ROUND('15-Min All Vehicle'!I31*'Base Information'!$Q$21,0)","v":15},{"$f":"ROUND('15-Min All Vehicle'!J31*'Base Information'!$Q$21,0)","v":91},{"$f":"ROUND('15-Min All Vehicle'!K31*'Base Information'!$Q$21,0)","v":0},{"$f":"ROUND('15-Min All Vehicle'!L31*'Base Information'!$Q$21,0)","v":0},106,{"$f":"ROUND('15-Min All Vehicle'!N31*'Base Information'!$Q$21,0)","v":39},{"$f":"ROUND('15-Min All Vehicle'!O31*'Base Information'!$Q$21,0)","v":0},{"$f":"ROUND('15-Min All Vehicle'!P31*'Base Information'!$Q$21,0)","v":70},{"$f":"ROUND('15-Min All Vehicle'!Q31*'Base Information'!$Q$21,0)","v":0},109,{"$f":"ROUND('15-Min All Vehicle'!S31*'Base Information'!$Q$21,0)","v":0},{"$f":"ROUND('15-Min All Vehicle'!T31*'Base Information'!$Q$21,0)","v":54},{"$f":"ROUND('15-Min All Vehicle'!U31*'Base Information'!$Q$21,0)","v":5},{"$f":"ROUND('15-Min All Vehicle'!V31*'Base Information'!$Q$21,0)","v":0},59,274,null,1180,0.93949044585987262]
[null,null,"10:30:00",{"$f":"ROUND('15-Min All Vehicle'!D32*'Base Information'!$Q$21,0)","v":0},{"$f":"ROUND('15-Min All Vehicle'!E32*'Base Information'!$Q$21,0)","v":0},{"$f":"ROUND('15-Min All Vehicle'!F32*'Base Information'!$Q$21,0)","v":0},{"$f":"ROUND('15-Min All Vehicle'!G32*'Base Information'!$Q$21,0)","v":0},0,{"$f":"ROUND('15-Min All Vehicle'!I32*'Base Information'!$Q$21,0)","v":15},{"$f":"ROUND('15-Min All Vehicle'!J32*'Base Information'!$Q$21,0)","v":100},{"$f":"ROUND('15-Min All Vehicle'!K32*'Base Information'!$Q$21,0)","v":0},{"$f":"ROUND('15-Min All Vehicle'!L32*'Base Information'!$Q$21,0)","v":0},115,{"$f":"ROUND('15-Min All Vehicle'!N32*'Base Information'!$Q$21,0)","v":40},{"$f":"ROUND('15-Min All Vehicle'!O32*'Base Information'!$Q$21,0)","v":0},{"$f":"ROUND('15-Min All Vehicle'!P32*'Base Information'!$Q$21,0)","v":65},{"$f":"ROUND('15-Min All Vehicle'!Q32*'Base Information'!$Q$21,0)","v":0},105,{"$f":"ROUND('15-Min All Vehicle'!S32*'Base Information'!$Q$21,0)","v":0},{"$f":"ROUND('15-Min All Vehicle'!T32*'Base Information'!$Q$21,0)","v":54},{"$f":"ROUND('15-Min All Vehicle'!U32*'Base Information'!$Q$21,0)","v":6},{"$f":"ROUND('15-Min All Vehicle'!V32*'Base Information'!$Q$21,0)","v":0},60,280,null,1269,0.87396694214876036]
[null,null,"10:44:59.942",{"$f":"ROUND('15-Min All Vehicle'!D33*'Base Information'!$Q$21,0)","v":0},{"$f":"ROUND('15-Min All Vehicle'!E33*'Base Information'!$Q$21,0)","v":0},{"$f":"ROUND('15-Min All Vehicle'!F33*'Base Information'!$Q$21,0)","v":0},{"$f":"ROUND('15-Min All Vehicle'!G33*'Base Information'!$Q$21,0)","v":0},0,{"$f":"ROUND('15-Min All Vehicle'!I33*'Base Information'!$Q$21,0)","v":16},{"$f":"ROUND('15-Min All Vehicle'!J33*'Base Information'!$Q$21,0)","v":110},{"$f":"ROUND('15-Min All Vehicle'!K33*'Base Information'!$Q$21,0)","v":0},{"$f":"ROUND('15-Min All Vehicle'!L33*'Base Information'!$Q$21,0)","v":0},126,{"$f":"ROUND('15-Min All Vehicle'!N33*'Base Information'!$Q$21,0)","v":48},{"$f":"ROUND('15-Min All Vehicle'!O33*'Base Information'!$Q$21,0)","v":0},{"$f":"ROUND('15-Min All Vehicle'!P33*'Base Information'!$Q$21,0)","v":71},{"$f":"ROUND('15-Min All Vehicle'!Q33*'Base Information'!$Q$21,0)","v":0},119,{"$f":"ROUND('15-Min All Vehicle'!S33*'Base Information'!$Q$21,0)","v":0},{"$f":"ROUND('15-Min All Vehicle'!T33*'Base Information'!$Q$21,0)","v":62},{"$f":"ROUND('15-Min All Vehicle'!U33*'Base Information'!$Q$21,0)","v":7},{"$f":"ROUND('15-Min All Vehicle'!V33*'Base Information'!$Q$21,0)","v":0},69,314,null,1337,0.92079889807162529]
[null,null,"10:59:59.971",{"$f":"ROUND('15-Min All Vehicle'!D34*'Base Information'!$Q$21,0)","v":0},{"$f":"ROUND('15-Min All Vehicle'!E34*'Base Information'!$Q$21,0)","v":0},{"$f":"ROUND('15-Min All Vehicle'!F34*'Base Information'!$Q$21,0)","v":0},{"$f":"ROUND('15-Min All Vehicle'!G34*'Base Information'!$Q$21,0)","v":0},0,{"$f":"ROUND('15-Min All Vehicle'!I34*'Base Information'!$Q$21,0)","v":9},{"$f":"ROUND('15-Min All Vehicle'!J34*'Base Information'!$Q$21,0)","v":98},{"$f":"ROUND('15-Min All Vehicle'!K34*'Base Information'!$Q$21,0)","v":0},{"$f":"ROUND('15-Min All Vehicle'!L34*'Base Information'!$Q$21,0)","v":0},107,{"$f":"ROUND('15-Min All Vehicle'!N34*'Base Information'!$Q$21,0)","v":37},{"$f":"ROUND('15-Min All Vehicle'!O34*'Base Information'!$Q$21,0)","v":0},{"$f":"ROUND('15-Min All Vehicle'!P34*'Base Information'!$Q$21,0)","v":95},{"$f":"ROUND('15-Min All Vehicle'!Q34*'Base Information'!$Q$21,0)","v":0},132,{"$f":"ROUND('15-Min All Vehicle'!S34*'Base Information'!$Q$21,0)","v":0},{"$f":"ROUND('15-Min All Vehicle'!T34*'Base Information'!$Q$21,0)","v":61},{"$f":"ROUND('15-Min All Vehicle'!U34*'Base Information'!$Q$21,0)","v":12},{"$f":"ROUND('15-Min All Vehicle'!V34*'Base Information'!$Q$21,0)","v":0},73,312,null,1380,0.95041322314049592]
[null,null,"11:15:00",{"$f":"ROUND('15-Min All Vehicle'!D35*'Base Information'!$Q$21,0)","v":0},{"$f":"ROUND('15-Min All Vehicle'!E35*'Base Information'!$Q$21,0)","v":0},{"$f":"ROUND('15-Min All Vehicle'!F35*'Base Information'!$Q$21,0)","v":0},{"$f":"ROUND('15-Min All Vehicle'!G35*'Base Information'!$Q$21,0)","v":0},0,{"$f":"ROUND('15-Min All Vehicle'!I35*'Base Information'!$Q$21,0)","v":9},{"$f":"ROUND('15-Min All Vehicle'!J35*'Base Information'!$Q$21,0)","v":109},{"$f":"ROUND('15-Min All Vehicle'!K35*'Base Information'!$Q$21,0)","v":0},{"$f":"ROUND('15-Min All Vehicle'!L35*'Base Information'!$Q$21,0)","v":0},118,{"$f":"ROUND('15-Min All Vehicle'!N35*'Base Information'!$Q$21,0)","v":54},{"$f":"ROUND('15-Min All Vehicle'!O35*'Base Information'!$Q$21,0)","v":4},{"$f":"ROUND('15-Min All Vehicle'!P35*'Base Information'!$Q$21,0)","v":99},{"$f":"ROUND('15-Min All Vehicle'!Q35*'Base Information'!$Q$21,0)","v":0},157,{"$f":"ROUND('15-Min All Vehicle'!S35*'Base Information'!$Q$21,0)","v":0},{"$f":"ROUND('15-Min All Vehicle'!T35*'Base Information'!$Q$21,0)","v":83},{"$f":"ROUND('15-Min All Vehicle'!U35*'Base Information'!$Q$21,0)","v":5},{"$f":"ROUND('15-Min All Vehicle'!V35*'Base Information'!$Q$21,0)","v":0},88,363,null,1400,0.96418732782369143]
[null,null,"11:29:59.942",{"$f":"ROUND('15-Min All Vehicle'!D36*'Base Information'!$Q$21,0)","v":0},{"$f":"ROUND('15-Min All Vehicle'!E36*'Base Information'!$Q$21,0)","v":0},{"$f":"ROUND('15-Min All Vehicle'!F36*'Base Information'!$Q$21,0)","v":0},{"$f":"ROUND('15-Min All Vehicle'!G36*'Base Information'!$Q$21,0)","v":0},0,{"$f":"ROUND('15-Min All Vehicle'!I36*'Base Information'!$Q$21,0)","v":15},{"$f":"ROUND('15-Min All Vehicle'!J36*'Base Information'!$Q$21,0)","v":110},{"$f":"ROUND('15-Min All Vehicle'!K36*'Base Information'!$Q$21,0)","v":0},{"$f":"ROUND('15-Min All Vehicle'!L36*'Base Information'!$Q$21,0)","v":0},125,{"$f":"ROUND('15-Min All Vehicle'!N36*'Base Information'!$Q$21,0)","v":49},{"$f":"ROUND('15-Min All Vehicle'!O36*'Base Information'!$Q$21,0)","v":0},{"$f":"ROUND('15-Min All Vehicle'!P36*'Base Information'!$Q$21,0)","v":83},{"$f":"ROUND('15-Min All Vehicle'!Q36*'Base Information'!$Q$21,0)","v":0},132,{"$f":"ROUND('15-Min All Vehicle'!S36*'Base Information'!$Q$21,0)","v":0},{"$f":"ROUND('15-Min All Vehicle'!T36*'Base Information'!$Q$21,0)","v":86},{"$f":"ROUND('15-Min All Vehicle'!U36*'Base Information'!$Q$21,0)","v":5},{"$f":"ROUND('15-Min All Vehicle'!V36*'Base Information'!$Q$21,0)","v":0},91,348,null,1383,0.96848739495798319]
[null,null,"11:44:59.971",{"$f":"ROUND('15-Min All Vehicle'!D37*'Base Information'!$Q$21,0)","v":0},{"$f":"ROUND('15-Min All Vehicle'!E37*'Base Information'!$Q$21,0)","v":0},{"$f":"ROUND('15-Min All Vehicle'!F37*'Base Information'!$Q$21,0)","v":0},{"$f":"ROUND('15-Min All Vehicle'!G37*'Base Information'!$Q$21,0)","v":0},0,{"$f":"ROUND('15-Min All Vehicle'!I37*'Base Information'!$Q$21,0)","v":11},{"$f":"ROUND('15-Min All Vehicle'!J37*'Base Information'!$Q$21,0)","v":111},{"$f":"ROUND('15-Min All Vehicle'!K37*'Base Information'!$Q$21,0)","v":0},{"$f":"ROUND('15-Min All Vehicle'!L37*'Base Information'!$Q$21,0)","v":0},122,{"$f":"ROUND('15-Min All Vehicle'!N37*'Base Information'!$Q$21,0)","v":65},{"$f":"ROUND('15-Min All Vehicle'!O37*'Base Information'!$Q$21,0)","v":0},{"$f":"ROUND('15-Min All Vehicle'!P37*'Base Information'!$Q$21,0)","v":105},{"$f":"ROUND('15-Min All Vehicle'!Q37*'Base Information'!$Q$21,0)","v":0},170,{"$f":"ROUND('15-Min All Vehicle'!S37*'Base Information'!$Q$21,0)","v":0},{"$f":"ROUND('15-Min All Vehicle'!T37*'Base Information'!$Q$21,0)","v":58},{"$f":"ROUND('15-Min All Vehicle'!U37*'Base Information'!$Q$21,0)","v":7},{"$f":"ROUND('15-Min All Vehicle'!V37*'Base Information'!$Q$21,0)","v":0},65,357,null,1394,0.97075208913649025]
[null,null,"12:00:00",{"$f":"ROUND('15-Min All Vehicle'!D38*'Base Information'!$Q$21,0)","v":0},{"$f":"ROUND('15-Min All Vehicle'!E38*'Base Information'!$Q$21,0)","v":0},{"$f":"ROUND('15-Min All Vehicle'!F38*'Base Information'!$Q$21,0)","v":0},{"$f":"ROUND('15-Min All Vehicle'!G38*'Base Information'!$Q$21,0)","v":0},0,{"$f":"ROUND('15-Min All Vehicle'!I38*'Base Information'!$Q$21,0)","v":11},{"$f":"ROUND('15-Min All Vehicle'!J38*'Base Information'!$Q$21,0)","v":97},{"$f":"ROUND('15-Min All Vehicle'!K38*'Base Information'!$Q$21,0)","v":0},{"$f":"ROUND('15-Min All Vehicle'!L38*'Base Information'!$Q$21,0)","v":0},108,{"$f":"ROUND('15-Min All Vehicle'!N38*'Base Information'!$Q$21,0)","v":42},{"$f":"ROUND('15-Min All Vehicle'!O38*'Base Information'!$Q$21,0)","v":0},{"$f":"ROUND('15-Min All Vehicle'!P38*'Base Information'!$Q$21,0)","v":98},{"$f":"ROUND('15-Min All Vehicle'!Q38*'Base Information'!$Q$21,0)","v":0},140,{"$f":"ROUND('15-Min All Vehicle'!S38*'Base Information'!$Q$21,0)","v":0},{"$f":"ROUND('15-Min All Vehicle'!T38*'Base Information'!$Q$21,0)","v":70},{"$f":"ROUND('15-Min All Vehicle'!U38*'Base Information'!$Q$21,0)","v":14},{"$f":"ROUND('15-Min All Vehicle'!V38*'Base Information'!$Q$21,0)","v":0},84,332,null,1409,0.94690860215053763]
[null,null,"12:14:59.942",{"$f":"ROUND('15-Min All Vehicle'!D39*'Base Information'!$Q$21,0)","v":0},{"$f":"ROUND('15-Min All Vehicle'!E39*'Base Information'!$Q$21,0)","v":0},{"$f":"ROUND('15-Min All Vehicle'!F39*'Base Information'!$Q$21,0)","v":0},{"$f":"ROUND('15-Min All Vehicle'!G39*'Base Information'!$Q$21,0)","v":0},0,{"$f":"ROUND('15-Min All Vehicle'!I39*'Base Information'!$Q$21,0)","v":18},{"$f":"ROUND('15-Min All Vehicle'!J39*'Base Information'!$Q$21,0)","v":107},{"$f":"ROUND('15-Min All Vehicle'!K39*'Base Information'!$Q$21,0)","v":0},{"$f":"ROUND('15-Min All Vehicle'!L39*'Base Information'!$Q$21,0)","v":0},125,{"$f":"ROUND('15-Min All Vehicle'!N39*'Base Information'!$Q$21,0)","v":42},{"$f":"ROUND('15-Min All Vehicle'!O39*'Base Information'!$Q$21,0)","v":0},{"$f":"ROUND('15-Min All Vehicle'!P39*'Base Information'!$Q$21,0)","v":92},{"$f":"ROUND('15-Min All Vehicle'!Q39*'Base Information'!$Q$21,0)","v":0},134,{"$f":"ROUND('15-Min All Vehicle'!S39*'Base Information'!$Q$21,0)","v":0},{"$f":"ROUND('15-Min All Vehicle'!T39*'Base Information'!$Q$21,0)","v":77},{"$f":"ROUND('15-Min All Vehicle'!U39*'Base Information'!$Q$21,0)","v":10},{"$f":"ROUND('15-Min All Vehicle'!V39*'Base Information'!$Q$21,0)","v":0},87,346,null,1465,0.94394329896907214]
[null,null,"12:29:59.971",{"$f":"ROUND('15-Min All Vehicle'!D40*'Base Information'!$Q$21,0)","v":0},{"$f":"ROUND('15-Min All Vehicle'!E40*'Base Information'!$Q$21,0)","v":0},{"$f":"ROUND('15-Min All Vehicle'!F40*'Base Information'!$Q$21,0)","v":0},{"$f":"ROUND('15-Min All Vehicle'!G40*'Base Information'!$Q$21,0)","v":0},0,{"$f":"ROUND('15-Min All Vehicle'!I40*'Base Information'!$Q$21,0)","v":14},{"$f":"ROUND('15-Min All Vehicle'!J40*'Base Information'!$Q$21,0)","v":110},{"$f":"ROUND('15-Min All Vehicle'!K40*'Base Information'!$Q$21,0)","v":0},{"$f":"ROUND('15-Min All Vehicle'!L40*'Base Information'!$Q$21,0)","v":0},124,{"$f":"ROUND('15-Min All Vehicle'!N40*'Base Information'!$Q$21,0)","v":50},{"$f":"ROUND('15-Min All Vehicle'!O40*'Base Information'!$Q$21,0)","v":0},{"$f":"ROUND('15-Min All Vehicle'!P40*'Base Information'!$Q$21,0)","v":113},{"$f":"ROUND('15-Min All Vehicle'!Q40*'Base Information'!$Q$21,0)","v":0},163,{"$f":"ROUND('15-Min All Vehicle'!S40*'Base Information'!$Q$21,0)","v":0},{"$f":"ROUND('15-Min All Vehicle'!T40*'Base Information'!$Q$21,0)","v":64},{"$f":"ROUND('15-Min All Vehicle'!U40*'Base Information'!$Q$21,0)","v":8},{"$f":"ROUND('15-Min All Vehicle'!V40*'Base Information'!$Q$21,0)","v":0},72,359,null,1445,0.93105670103092786]
[null,null,"12:45:00",{"$f":"ROUND('15-Min All Vehicle'!D41*'Base Information'!$Q$21,0)","v":0},{"$f":"ROUND('15-Min All Vehicle'!E41*'Base Information'!$Q$21,0)","v":0},{"$f":"ROUND('15-Min All Vehicle'!F41*'Base Information'!$Q$21,0)","v":0},{"$f":"ROUND('15-Min All Vehicle'!G41*'Base Information'!$Q$21,0)","v":0},0,{"$f":"ROUND('15-Min All Vehicle'!I41*'Base Information'!$Q$21,0)","v":12},{"$f":"ROUND('15-Min All Vehicle'!J41*'Base Information'!$Q$21,0)","v":106},{"$f":"ROUND('15-Min All Vehicle'!K41*'Base Information'!$Q$21,0)","v":0},{"$f":"ROUND('15-Min All Vehicle'!L41*'Base Information'!$Q$21,0)","v":0},118,{"$f":"ROUND('15-Min All Vehicle'!N41*'Base Information'!$Q$21,0)","v":64},{"$f":"ROUND('15-Min All Vehicle'!O41*'Base Information'!$Q$21,0)","v":0},{"$f":"ROUND('15-Min All Vehicle'!P41*'Base Information'!$Q$21,0)","v":103},{"$f":"ROUND('15-Min All Vehicle'!Q41*'Base Information'!$Q$21,0)","v":0},167,{"$f":"ROUND('15-Min All Vehicle'!S41*'Base Information'!$Q$21,0)","v":0},{"$f":"ROUND('15-Min All Vehicle'!T41*'Base Information'!$Q$21,0)","v":68},{"$f":"ROUND('15-Min All Vehicle'!U41*'Base Information'!$Q$21,0)","v":19},{"$f":"ROUND('15-Min All Vehicle'!V41*'Base Information'!$Q$21,0)","v":0},87,372,null,1485,0.93045112781954886]
[null,null,"12:59:59.942",{"$f":"ROUND('15-Min All Vehicle'!D42*'Base Information'!$Q$21,0)","v":0},{"$f":"ROUND('15-Min All Vehicle'!E42*'Base Information'!$Q$21,0)","v":0},{"$f":"ROUND('15-Min All Vehicle'!F42*'Base Information'!$Q$21,0)","v":0},{"$f":"ROUND('15-Min All Vehicle'!G42*'Base Information'!$Q$21,0)","v":0},0,{"$f":"ROUND('15-Min All Vehicle'!I42*'Base Information'!$Q$21,0)","v":13},{"$f":"ROUND('15-Min All Vehicle'!J42*'Base Information'!$Q$21,0)","v":124},{"$f":"ROUND('15-Min All Vehicle'!K42*'Base Information'!$Q$21,0)","v":0},{"$f":"ROUND('15-Min All Vehicle'!L42*'Base Information'!$Q$21,0)","v":0},137,{"$f":"ROUND('15-Min All Vehicle'!N42*'Base Information'!$Q$21,0)","v":52},{"$f":"ROUND('15-Min All Vehicle'!O42*'Base Information'!$Q$21,0)","v":0},{"$f":"ROUND('15-Min All Vehicle'!P42*'Base Information'!$Q$21,0)","v":119},{"$f":"ROUND('15-Min All Vehicle'!Q42*'Base Information'!$Q$21,0)","v":0},171,{"$f":"ROUND('15-Min All Vehicle'!S42*'Base Information'!$Q$21,0)","v":0},{"$f":"ROUND('15-Min All Vehicle'!T42*'Base Information'!$Q$21,0)","v":72},{"$f":"ROUND('15-Min All Vehicle'!U42*'Base Information'!$Q$21,0)","v":8},{"$f":"ROUND('15-Min All Vehicle'!V42*'Base Information'!$Q$21,0)","v":0},80,388,null,1488,0.93233082706766912]
[null,null,"13:14:59.971",{"$f":"ROUND('15-Min All Vehicle'!D43*'Base Information'!$Q$21,0)","v":0},{"$f":"ROUND('15-Min All Vehicle'!E43*'Base Information'!$Q$21,0)","v":0},{"$f":"ROUND('15-Min All Vehicle'!F43*'Base Information'!$Q$21,0)","v":0},{"$f":"ROUND('15-Min All Vehicle'!G43*'Base Information'!$Q$21,0)","v":0},0,{"$f":"ROUND('15-Min All Vehicle'!I43*'Base Information'!$Q$21,0)","v":12},{"$f":"ROUND('15-Min All Vehicle'!J43*'Base Information'!$Q$21,0)","v":92},{"$f":"ROUND('15-Min All Vehicle'!K43*'Base Information'!$Q$21,0)","v":0},{"$f":"ROUND('15-Min All Vehicle'!L43*'Base Information'!$Q$21,0)","v":0},104,{"$f":"ROUND('15-Min All Vehicle'!N43*'Base Information'!$Q$21,0)","v":61},{"$f":"ROUND('15-Min All Vehicle'!O43*'Base Information'!$Q$21,0)","v":0},{"$f":"ROUND('15-Min All Vehicle'!P43*'Base Information'!$Q$21,0)","v":80},{"$f":"ROUND('15-Min All Vehicle'!Q43*'Base Information'!$Q$21,0)","v":0},141,{"$f":"ROUND('15-Min All Vehicle'!S43*'Base Information'!$Q$21,0)","v":0},{"$f":"ROUND('15-Min All Vehicle'!T43*'Base Information'!$Q$21,0)","v":73},{"$f":"ROUND('15-Min All Vehicle'!U43*'Base Information'!$Q$21,0)","v":8},{"$f":"ROUND('15-Min All Vehicle'!V43*'Base Information'!$Q$21,0)","v":0},81,326,null,1481,0.92794486215538852]
[null,null,"13:30:00",{"$f":"ROUND('15-Min All Vehicle'!D44*'Base Information'!$Q$21,0)","v":0},{"$f":"ROUND('15-Min All Vehicle'!E44*'Base Information'!$Q$21,0)","v":0},{"$f":"ROUND('15-Min All Vehicle'!F44*'Base Information'!$Q$21,0)","v":0},{"$f":"ROUND('15-Min All Vehicle'!G44*'Base Information'!$Q$21,0)","v":0},0,{"$f":"ROUND('15-Min All Vehicle'!I44*'Base Information'!$Q$21,0)","v":12},{"$f":"ROUND('15-Min All Vehicle'!J44*'Base Information'!$Q$21,0)","v":115},{"$f":"ROUND('15-Min All Vehicle'!K44*'Base Information'!$Q$21,0)","v":0},{"$f":"ROUND('15-Min All Vehicle'!L44*'Base Information'!$Q$21,0)","v":0},127,{"$f":"ROUND('15-Min All Vehicle'!N44*'Base Information'!$Q$21,0)","v":51},{"$f":"ROUND('15-Min All Vehicle'!O44*'Base Information'!$Q$21,0)","v":0},{"$f":"ROUND('15-Min All Vehicle'!P44*'Base Information'!$Q$21,0)","v":113},{"$f":"ROUND('15-Min All Vehicle'!Q44*'Base Information'!$Q$21,0)","v":0},164,{"$f":"ROUND('15-Min All Vehicle'!S44*'Base Information'!$Q$21,0)","v":0},{"$f":"ROUND('15-Min All Vehicle'!T44*'Base Information'!$Q$21,0)","v":100},{"$f":"ROUND('15-Min All Vehicle'!U44*'Base Information'!$Q$21,0)","v":8},{"$f":"ROUND('15-Min All Vehicle'!V44*'Base Information'!$Q$21,0)","v":0},108,399,null,1578,0.93262411347517726]
[null,null,"13:44:59.942",{"$f":"ROUND('15-Min All Vehicle'!D45*'Base Information'!$Q$21,0)","v":0},{"$f":"ROUND('15-Min All Vehicle'!E45*'Base Information'!$Q$21,0)","v":0},{"$f":"ROUND('15-Min All Vehicle'!F45*'Base Information'!$Q$21,0)","v":0},{"$f":"ROUND('15-Min All Vehicle'!G45*'Base Information'!$Q$21,0)","v":0},0,{"$f":"ROUND('15-Min All Vehicle'!I45*'Base Information'!$Q$21,0)","v":13},{"$f":"ROUND('15-Min All Vehicle'!J45*'Base Information'!$Q$21,0)","v":110},{"$f":"ROUND('15-Min All Vehicle'!K45*'Base Information'!$Q$21,0)","v":0},{"$f":"ROUND('15-Min All Vehicle'!L45*'Base Information'!$Q$21,0)","v":0},123,{"$f":"ROUND('15-Min All Vehicle'!N45*'Base Information'!$Q$21,0)","v":52},{"$f":"ROUND('15-Min All Vehicle'!O45*'Base Information'!$Q$21,0)","v":0},{"$f":"ROUND('15-Min All Vehicle'!P45*'Base Information'!$Q$21,0)","v":105},{"$f":"ROUND('15-Min All Vehicle'!Q45*'Base Information'!$Q$21,0)","v":0},157,{"$f":"ROUND('15-Min All Vehicle'!S45*'Base Information'!$Q$21,0)","v":0},{"$f":"ROUND('15-Min All Vehicle'!T45*'Base Information'!$Q$21,0)","v":83},{"$f":"ROUND('15-Min All Vehicle'!U45*'Base Information'!$Q$21,0)","v":12},{"$f":"ROUND('15-Min All Vehicle'!V45*'Base Information'!$Q$21,0)","v":0},95,375,null,1614,0.92758620689655169]
[null,"PM Peak Period","13:59:59.971",{"$f":"ROUND('15-Min All Vehicle'!D46*'Base Information'!$Q$21,0)","v":0},{"$f":"ROUND('15-Min All Vehicle'!E46*'Base Information'!$Q$21,0)","v":0},{"$f":"ROUND('15-Min All Vehicle'!F46*'Base Information'!$Q$21,0)","v":0},{"$f":"ROUND('15-Min All Vehicle'!G46*'Base Information'!$Q$21,0)","v":0},0,{"$f":"ROUND('15-Min All Vehicle'!I46*'Base Information'!$Q$21,0)","v":18},{"$f":"ROUND('15-Min All Vehicle'!J46*'Base Information'!$Q$21,0)","v":127},{"$f":"ROUND('15-Min All Vehicle'!K46*'Base Information'!$Q$21,0)","v":0},{"$f":"ROUND('15-Min All Vehicle'!L46*'Base Information'!$Q$21,0)","v":0},145,{"$f":"ROUND('15-Min All Vehicle'!N46*'Base Information'!$Q$21,0)","v":51},{"$f":"ROUND('15-Min All Vehicle'!O46*'Base Information'!$Q$21,0)","v":1},{"$f":"ROUND('15-Min All Vehicle'!P46*'Base Information'!$Q$21,0)","v":93},{"$f":"ROUND('15-Min All Vehicle'!Q46*'Base Information'!$Q$21,0)","v":0},145,{"$f":"ROUND('15-Min All Vehicle'!S46*'Base Information'!$Q$21,0)","v":0},{"$f":"ROUND('15-Min All Vehicle'!T46*'Base Information'!$Q$21,0)","v":77},{"$f":"ROUND('15-Min All Vehicle'!U46*'Base Information'!$Q$21,0)","v":14},{"$f":"ROUND('15-Min All Vehicle'!V46*'Base Information'!$Q$21,0)","v":0},91,381,null,1701,0.92045454545454541]
[null,null,"14:15:00",{"$f":"ROUND('15-Min All Vehicle'!D47*'Base Information'!$Q$21,0)","v":0},{"$f":"ROUND('15-Min All Vehicle'!E47*'Base Information'!$Q$21,0)","v":0},{"$f":"ROUND('15-Min All Vehicle'!F47*'Base Information'!$Q$21,0)","v":0},{"$f":"ROUND('15-Min All Vehicle'!G47*'Base Information'!$Q$21,0)","v":0},0,{"$f":"ROUND('15-Min All Vehicle'!I47*'Base Information'!$Q$21,0)","v":12},{"$f":"ROUND('15-Min All Vehicle'!J47*'Base Information'!$Q$21,0)","v":114},{"$f":"ROUND('15-Min All Vehicle'!K47*'Base Information'!$Q$21,0)","v":0},{"$f":"ROUND('15-Min All Vehicle'!L47*'Base Information'!$Q$21,0)","v":0},126,{"$f":"ROUND('15-Min All Vehicle'!N47*'Base Information'!$Q$21,0)","v":79},{"$f":"ROUND('15-Min All Vehicle'!O47*'Base Information'!$Q$21,0)","v":0},{"$f":"ROUND('15-Min All Vehicle'!P47*'Base Information'!$Q$21,0)","v":119},{"$f":"ROUND('15-Min All Vehicle'!Q47*'Base Information'!$Q$21,0)","v":0},198,{"$f":"ROUND('15-Min All Vehicle'!S47*'Base Information'!$Q$21,0)","v":0},{"$f":"ROUND('15-Min All Vehicle'!T47*'Base Information'!$Q$21,0)","v":90},{"$f":"ROUND('15-Min All Vehicle'!U47*'Base Information'!$Q$21,0)","v":9},{"$f":"ROUND('15-Min All Vehicle'!V47*'Base Information'!$Q$21,0)","v":0},99,423,null,1749,0.9464285714285714]
[null,null,"14:29:59.942",{"$f":"ROUND('15-Min All Vehicle'!D48*'Base Information'!$Q$21,0)","v":0},{"$f":"ROUND('15-Min All Vehicle'!E48*'Base Information'!$Q$21,0)","v":0},{"$f":"ROUND('15-Min All Vehicle'!F48*'Base Information'!$Q$21,0)","v":0},{"$f":"ROUND('15-Min All Vehicle'!G48*'Base Information'!$Q$21,0)","v":0},0,{"$f":"ROUND('15-Min All Vehicle'!I48*'Base Information'!$Q$21,0)","v":14},{"$f":"ROUND('15-Min All Vehicle'!J48*'Base Information'!$Q$21,0)","v":102},{"$f":"ROUND('15-Min All Vehicle'!K48*'Base Information'!$Q$21,0)","v":0},{"$f":"ROUND('15-Min All Vehicle'!L48*'Base Information'!$Q$21,0)","v":0},116,{"$f":"ROUND('15-Min All Vehicle'!N48*'Base Information'!$Q$21,0)","v":75},{"$f":"ROUND('15-Min All Vehicle'!O48*'Base Information'!$Q$21,0)","v":0},{"$f":"ROUND('15-Min All Vehicle'!P48*'Base Information'!$Q$21,0)","v":91},{"$f":"ROUND('15-Min All Vehicle'!Q48*'Base Information'!$Q$21,0)","v":0},166,{"$f":"ROUND('15-Min All Vehicle'!S48*'Base Information'!$Q$21,0)","v":0},{"$f":"ROUND('15-Min All Vehicle'!T48*'Base Information'!$Q$21,0)","v":120},{"$f":"ROUND('15-Min All Vehicle'!U48*'Base Information'!$Q$21,0)","v":33},{"$f":"ROUND('15-Min All Vehicle'!V48*'Base Information'!$Q$21,0)","v":0},153,435,null,1794,0.95833333333333337]
[null,null,"14:44:59.971",{"$f":"ROUND('15-Min All Vehicle'!D49*'Base Information'!$Q$21,0)","v":0},{"$f":"ROUND('15-Min All Vehicle'!E49*'Base Information'!$Q$21,0)","v":0},{"$f":"ROUND('15-Min All Vehicle'!F49*'Base Information'!$Q$21,0)","v":0},{"$f":"ROUND('15-Min All Vehicle'!G49*'Base Information'!$Q$21,0)","v":0},0,{"$f":"ROUND('15-Min All Vehicle'!I49*'Base Information'!$Q$21,0)","v":23},{"$f":"ROUND('15-Min All Vehicle'!J49*'Base Information'!$Q$21,0)","v":110},{"$f":"ROUND('15-Min All Vehicle'!K49*'Base Information'!$Q$21,0)","v":0},{"$f":"ROUND('15-Min All Vehicle'!L49*'Base Information'!$Q$21,0)","v":0},133,{"$f":"ROUND('15-Min All Vehicle'!N49*'Base Information'!$Q$21,0)","v":80},{"$f":"ROUND('15-Min All Vehicle'!O49*'Base Information'!$Q$21,0)","v":0},{"$f":"ROUND('15-Min All Vehicle'!P49*'Base Information'!$Q$21,0)","v":109},{"$f":"ROUND('15-Min All Vehicle'!Q49*'Base Information'!$Q$21,0)","v":0},189,{"$f":"ROUND('15-Min All Vehicle'!S49*'Base Information'!$Q$21,0)","v":0},{"$f":"ROUND('15-Min All Vehicle'!T49*'Base Information'!$Q$21,0)","v":109},{"$f":"ROUND('15-Min All Vehicle'!U49*'Base Information'!$Q$21,0)","v":31},{"$f":"ROUND('15-Min All Vehicle'!V49*'Base Information'!$Q$21,0)","v":0},140,462,null,1886,0.89468690702087283]
[null,null,"15:00:00",{"$f":"ROUND('15-Min All Vehicle'!D50*'Base Information'!$Q$21,0)","v":0},{"$f":"ROUND('15-Min All Vehicle'!E50*'Base Information'!$Q$21,0)","v":0},{"$f":"ROUND('15-Min All Vehicle'!F50*'Base Information'!$Q$21,0)","v":0},{"$f":"ROUND('15-Min All Vehicle'!G50*'Base Information'!$Q$21,0)","v":0},0,{"$f":"ROUND('15-Min All Vehicle'!I50*'Base Information'!$Q$21,0)","v":16},{"$f":"ROUND('15-Min All Vehicle'!J50*'Base Information'!$Q$21,0)","v":117},{"$f":"ROUND('15-Min All Vehicle'!K50*'Base Information'!$Q$21,0)","v":0},{"$f":"ROUND('15-Min All Vehicle'!L50*'Base Information'!$Q$21,0)","v":0},133,{"$f":"ROUND('15-Min All Vehicle'!N50*'Base Information'!$Q$21,0)","v":69},{"$f":"ROUND('15-Min All Vehicle'!O50*'Base Information'!$Q$21,0)","v":0},{"$f":"ROUND('15-Min All Vehicle'!P50*'Base Information'!$Q$21,0)","v":121},{"$f":"ROUND('15-Min All Vehicle'!Q50*'Base Information'!$Q$21,0)","v":0},190,{"$f":"ROUND('15-Min All Vehicle'!S50*'Base Information'!$Q$21,0)","v":0},{"$f":"ROUND('15-Min All Vehicle'!T50*'Base Information'!$Q$21,0)","v":91},{"$f":"ROUND('15-Min All Vehicle'!U50*'Base Information'!$Q$21,0)","v":15},{"$f":"ROUND('15-Min All Vehicle'!V50*'Base Information'!$Q$21,0)","v":0},106,429,null,1907,0.90464895635673626]
[null,null,"15:14:59.942",{"$f":"ROUND('15-Min All Vehicle'!D51*'Base Information'!$Q$21,0)","v":0},{"$f":"ROUND('15-Min All Vehicle'!E51*'Base Information'!$Q$21,0)","v":0},{"$f":"ROUND('15-Min All Vehicle'!F51*'Base Information'!$Q$21,0)","v":0},{"$f":"ROUND('15-Min All Vehicle'!G51*'Base Information'!$Q$21,0)","v":0},0,{"$f":"ROUND('15-Min All Vehicle'!I51*'Base Information'!$Q$21,0)","v":19},{"$f":"ROUND('15-Min All Vehicle'!J51*'Base Information'!$Q$21,0)","v":155},{"$f":"ROUND('15-Min All Vehicle'!K51*'Base Information'!$Q$21,0)","v":0},{"$f":"ROUND('15-Min All Vehicle'!L51*'Base Information'!$Q$21,0)","v":0},174,{"$f":"ROUND('15-Min All Vehicle'!N51*'Base Information'!$Q$21,0)","v":76},{"$f":"ROUND('15-Min All Vehicle'!O51*'Base Information'!$Q$21,0)","v":0},{"$f":"ROUND('15-Min All Vehicle'!P51*'Base Information'!$Q$21,0)","v":94},{"$f":"ROUND('15-Min All Vehicle'!Q51*'Base Information'!$Q$21,0)","v":0},170,{"$f":"ROUND('15-Min All Vehicle'!S51*'Base Information'!$Q$21,0)","v":0},{"$f":"ROUND('15-Min All Vehicle'!T51*'Base Information'!$Q$21,0)","v":112},{"$f":"ROUND('15-Min All Vehicle'!U51*'Base Information'!$Q$21,0)","v":12},{"$f":"ROUND('15-Min All Vehicle'!V51*'Base Information'!$Q$21,0)","v":0},124,468,null,1954,0.92694497153700195]
[null,null,"15:29:59.971",{"$f":"ROUND('15-Min All Vehicle'!D52*'Base Information'!$Q$21,0)","v":0},{"$f":"ROUND('15-Min All Vehicle'!E52*'Base Information'!$Q$21,0)","v":0},{"$f":"ROUND('15-Min All Vehicle'!F52*'Base Information'!$Q$21,0)","v":0},{"$f":"ROUND('15-Min All Vehicle'!G52*'Base Information'!$Q$21,0)","v":0},0,{"$f":"ROUND('15-Min All Vehicle'!I52*'Base Information'!$Q$21,0)","v":16},{"$f":"ROUND('15-Min All Vehicle'!J52*'Base Information'!$Q$21,0)","v":156},{"$f":"ROUND('15-Min All Vehicle'!K52*'Base Information'!$Q$21,0)","v":0},{"$f":"ROUND('15-Min All Vehicle'!L52*'Base Information'!$Q$21,0)","v":0},172,{"$f":"ROUND('15-Min All Vehicle'!N52*'Base Information'!$Q$21,0)","v":91},{"$f":"ROUND('15-Min All Vehicle'!O52*'Base Information'!$Q$21,0)","v":0},{"$f":"ROUND('15-Min All Vehicle'!P52*'Base Information'!$Q$21,0)","v":122},{"$f":"ROUND('15-Min All Vehicle'!Q52*'Base Information'!$Q$21,0)","v":0},213,{"$f":"ROUND('15-Min All Vehicle'!S52*'Base Information'!$Q$21,0)","v":0},{"$f":"ROUND('15-Min All Vehicle'!T52*'Base Information'!$Q$21,0)","v":125},{"$f":"ROUND('15-Min All Vehicle'!U52*'Base Information'!$Q$21,0)","v":17},{"$f":"ROUND('15-Min All Vehicle'!V52*'Base Information'!$Q$21,0)","v":0},142,527,null,2018,0.94830827067669177]
[null,null,"15:45:00",{"$f":"ROUND('15-Min All Vehicle'!D53*'Base Information'!$Q$21,0)","v":0},{"$f":"ROUND('15-Min All Vehicle'!E53*'Base Information'!$Q$21,0)","v":0},{"$f":"ROUND('15-Min All Vehicle'!F53*'Base Information'!$Q$21,0)","v":0},{"$f":"ROUND('15-Min All Vehicle'!G53*'Base Information'!$Q$21,0)","v":0},0,{"$f":"ROUND('15-Min All Vehicle'!I53*'Base Information'!$Q$21,0)","v":25},{"$f":"ROUND('15-Min All Vehicle'!J53*'Base Information'!$Q$21,0)","v":109},{"$f":"ROUND('15-Min All Vehicle'!K53*'Base Information'!$Q$21,0)","v":0},{"$f":"ROUND('15-Min All Vehicle'!L53*'Base Information'!$Q$21,0)","v":0},134,{"$f":"ROUND('15-Min All Vehicle'!N53*'Base Information'!$Q$21,0)","v":108},{"$f":"ROUND('15-Min All Vehicle'!O53*'Base Information'!$Q$21,0)","v":0},{"$f":"ROUND('15-Min All Vehicle'!P53*'Base Information'!$Q$21,0)","v":105},{"$f":"ROUND('15-Min All Vehicle'!Q53*'Base Information'!$Q$21,0)","v":0},213,{"$f":"ROUND('15-Min All Vehicle'!S53*'Base Information'!$Q$21,0)","v":0},{"$f":"ROUND('15-Min All Vehicle'!T53*'Base Information'!$Q$21,0)","v":120},{"$f":"ROUND('15-Min All Vehicle'!U53*'Base Information'!$Q$21,0)","v":16},{"$f":"ROUND('15-Min All Vehicle'!V53*'Base Information'!$Q$21,0)","v":0},136,483,null,2050,0.9168157423971377]
[null,null,"15:59:59.942",{"$f":"ROUND('15-Min All Vehicle'!D54*'Base Information'!$Q$21,0)","v":0},{"$f":"ROUND('15-Min All Vehicle'!E54*'Base Information'!$Q$21,0)","v":0},{"$f":"ROUND('15-Min All Vehicle'!F54*'Base Information'!$Q$21,0)","v":0},{"$f":"ROUND('15-Min All Vehicle'!G54*'Base Information'!$Q$21,0)","v":0},0,{"$f":"ROUND('15-Min All Vehicle'!I54*'Base Information'!$Q$21,0)","v":14},{"$f":"ROUND('15-Min All Vehicle'!J54*'Base Information'!$Q$21,0)","v":133},{"$f":"ROUND('15-Min All Vehicle'!K54*'Base Information'!$Q$21,0)","v":0},{"$f":"ROUND('15-Min All Vehicle'!L54*'Base Information'!$Q$21,0)","v":0},147,{"$f":"ROUND('15-Min All Vehicle'!N54*'Base Information'!$Q$21,0)","v":81},{"$f":"ROUND('15-Min All Vehicle'!O54*'Base Information'!$Q$21,0)","v":0},{"$f":"ROUND('15-Min All Vehicle'!P54*'Base Information'!$Q$21,0)","v":90},{"$f":"ROUND('15-Min All Vehicle'!Q54*'Base Information'!$Q$21,0)","v":0},171,{"$f":"ROUND('15-Min All Vehicle'!S54*'Base Information'!$Q$21,0)","v":0},{"$f":"ROUND('15-Min All Vehicle'!T54*'Base Information'!$Q$21,0)","v":118},{"$f":"ROUND('15-Min All Vehicle'!U54*'Base Information'!$Q$21,0)","v":40},{"$f":"ROUND('15-Min All Vehicle'!V54*'Base Information'!$Q$21,0)","v":0},158,476,null,2174,0.89538714991762769]
[null,null,"16:14:59.971",{"$f":"ROUND('15-Min All Vehicle'!D55*'Base Information'!$Q$21,0)","v":0},{"$f":"ROUND('15-Min All Vehicle'!E55*'Base Information'!$Q$21,0)","v":0},{"$f":"ROUND('15-Min All Vehicle'!F55*'Base Information'!$Q$21,0)","v":0},{"$f":"ROUND('15-Min All Vehicle'!G55*'Base Information'!$Q$21,0)","v":0},0,{"$f":"ROUND('15-Min All Vehicle'!I55*'Base Information'!$Q$21,0)","v":10},{"$f":"ROUND('15-Min All Vehicle'!J55*'Base Information'!$Q$21,0)","v":125},{"$f":"ROUND('15-Min All Vehicle'!K55*'Base Information'!$Q$21,0)","v":0},{"$f":"ROUND('15-Min All Vehicle'!L55*'Base Information'!$Q$21,0)","v":0},135,{"$f":"ROUND('15-Min All Vehicle'!N55*'Base Information'!$Q$21,0)","v":129},{"$f":"ROUND('15-Min All Vehicle'!O55*'Base Information'!$Q$21,0)","v":0},{"$f":"ROUND('15-Min All Vehicle'!P55*'Base Information'!$Q$21,0)","v":115},{"$f":"ROUND('15-Min All Vehicle'!Q55*'Base Information'!$Q$21,0)","v":0},244,{"$f":"ROUND('15-Min All Vehicle'!S55*'Base Information'!$Q$21,0)","v":0},{"$f":"ROUND('15-Min All Vehicle'!T55*'Base Information'!$Q$21,0)","v":126},{"$f":"ROUND('15-Min All Vehicle'!U55*'Base Information'!$Q$21,0)","v":27},{"$f":"ROUND('15-Min All Vehicle'!V55*'Base Information'!$Q$21,0)","v":0},153,532,null,2207,0.90897858319604607]
[null,null,"16:30:00",{"$f":"ROUND('15-Min All Vehicle'!D56*'Base Information'!$Q$21,0)","v":0},{"$f":"ROUND('15-Min All Vehicle'!E56*'Base Information'!$Q$21,0)","v":0},{"$f":"ROUND('15-Min All Vehicle'!F56*'Base Information'!$Q$21,0)","v":0},{"$f":"ROUND('15-Min All Vehicle'!G56*'Base Information'!$Q$21,0)","v":0},0,{"$f":"ROUND('15-Min All Vehicle'!I56*'Base Information'!$Q$21,0)","v":16},{"$f":"ROUND('15-Min All Vehicle'!J56*'Base Information'!$Q$21,0)","v":144},{"$f":"ROUND('15-Min All Vehicle'!K56*'Base Information'!$Q$21,0)","v":0},{"$f":"ROUND('15-Min All Vehicle'!L56*'Base Information'!$Q$21,0)","v":0},160,{"$f":"ROUND('15-Min All Vehicle'!N56*'Base Information'!$Q$21,0)","v":128},{"$f":"ROUND('15-Min All Vehicle'!O56*'Base Information'!$Q$21,0)","v":0},{"$f":"ROUND('15-Min All Vehicle'!P56*'Base Information'!$Q$21,0)","v":92},{"$f":"ROUND('15-Min All Vehicle'!Q56*'Base Information'!$Q$21,0)","v":0},220,{"$f":"ROUND('15-Min All Vehicle'!S56*'Base Information'!$Q$21,0)","v":0},{"$f":"ROUND('15-Min All Vehicle'!T56*'Base Information'!$Q$21,0)","v":148},{"$f":"ROUND('15-Min All Vehicle'!U56*'Base Information'!$Q$21,0)","v":31},{"$f":"ROUND('15-Min All Vehicle'!V56*'Base Information'!$Q$21,0)","v":0},179,559,null,2244,0.92421746293245466]
[null,null,"16:44:59.942",{"$f":"ROUND('15-Min All Vehicle'!D57*'Base Information'!$Q$21,0)","v":0},{"$f":"ROUND('15-Min All Vehicle'!E57*'Base Information'!$Q$21,0)","v":0},{"$f":"ROUND('15-Min All Vehicle'!F57*'Base Information'!$Q$21,0)","v":0},{"$f":"ROUND('15-Min All Vehicle'!G57*'Base Information'!$Q$21,0)","v":0},0,{"$f":"ROUND('15-Min All Vehicle'!I57*'Base Information'!$Q$21,0)","v":16},{"$f":"ROUND('15-Min All Vehicle'!J57*'Base Information'!$Q$21,0)","v":158},{"$f":"ROUND('15-Min All Vehicle'!K57*'Base Information'!$Q$21,0)","v":0},{"$f":"ROUND('15-Min All Vehicle'!L57*'Base Information'!$Q$21,0)","v":0},174,{"$f":"ROUND('15-Min All Vehicle'!N57*'Base Information'!$Q$21,0)","v":153},{"$f":"ROUND('15-Min All Vehicle'!O57*'Base Information'!$Q$21,0)","v":0},{"$f":"ROUND('15-Min All Vehicle'!P57*'Base Information'!$Q$21,0)","v":117},{"$f":"ROUND('15-Min All Vehicle'!Q57*'Base Information'!$Q$21,0)","v":0},270,{"$f":"ROUND('15-Min All Vehicle'!S57*'Base Information'!$Q$21,0)","v":0},{"$f":"ROUND('15-Min All Vehicle'!T57*'Base Information'!$Q$21,0)","v":128},{"$f":"ROUND('15-Min All Vehicle'!U57*'Base Information'!$Q$21,0)","v":35},{"$f":"ROUND('15-Min All Vehicle'!V57*'Base Information'!$Q$21,0)","v":0},163,607,null,2121,0.87355848434925865]
[null,null,"16:59:59.971",{"$f":"ROUND('15-Min All Vehicle'!D58*'Base Information'!$Q$21,0)","v":0},{"$f":"ROUND('15-Min All Vehicle'!E58*'Base Information'!$Q$21,0)","v":0},{"$f":"ROUND('15-Min All Vehicle'!F58*'Base Information'!$Q$21,0)","v":0},{"$f":"ROUND('15-Min All Vehicle'!G58*'Base Information'!$Q$21,0)","v":0},0,{"$f":"ROUND('15-Min All Vehicle'!I58*'Base Information'!$Q$21,0)","v":20},{"$f":"ROUND('15-Min All Vehicle'!J58*'Base Information'!$Q$21,0)","v":139},{"$f":"ROUND('15-Min All Vehicle'!K58*'Base Information'!$Q$21,0)","v":0},{"$f":"ROUND('15-Min All Vehicle'!L58*'Base Information'!$Q$21,0)","v":0},159,{"$f":"ROUND('15-Min All Vehicle'!N58*'Base Information'!$Q$21,0)","v":104},{"$f":"ROUND('15-Min All Vehicle'!O58*'Base Information'!$Q$21,0)","v":0},{"$f":"ROUND('15-Min All Vehicle'!P58*'Base Information'!$Q$21,0)","v":96},{"$f":"ROUND('15-Min All Vehicle'!Q58*'Base Information'!$Q$21,0)","v":0},200,{"$f":"ROUND('15-Min All Vehicle'!S58*'Base Information'!$Q$21,0)","v":0},{"$f":"ROUND('15-Min All Vehicle'!T58*'Base Information'!$Q$21,0)","v":126},{"$f":"ROUND('15-Min All Vehicle'!U58*'Base Information'!$Q$21,0)","v":24},{"$f":"ROUND('15-Min All Vehicle'!V58*'Base Information'!$Q$21,0)","v":0},150,509,null,1924,0.84534270650263621]
[null,null,"17:15:00",{"$f":"ROUND('15-Min All Vehicle'!D59*'Base Information'!$Q$21,0)","v":0},{"$f":"ROUND('15-Min All Vehicle'!E59*'Base Information'!$Q$21,0)","v":0},{"$f":"ROUND('15-Min All Vehicle'!F59*'Base Information'!$Q$21,0)","v":0},{"$f":"ROUND('15-Min All Vehicle'!G59*'Base Information'!$Q$21,0)","v":0},0,{"$f":"ROUND('15-Min All Vehicle'!I59*'Base Information'!$Q$21,0)","v":12},{"$f":"ROUND('15-Min All Vehicle'!J59*'Base Information'!$Q$21,0)","v":151},{"$f":"ROUND('15-Min All Vehicle'!K59*'Base Information'!$Q$21,0)","v":0},{"$f":"ROUND('15-Min All Vehicle'!L59*'Base Information'!$Q$21,0)","v":0},163,{"$f":"ROUND('15-Min All Vehicle'!N59*'Base Information'!$Q$21,0)","v":137},{"$f":"ROUND('15-Min All Vehicle'!O59*'Base Information'!$Q$21,0)","v":0},{"$f":"ROUND('15-Min All Vehicle'!P59*'Base Information'!$Q$21,0)","v":108},{"$f":"ROUND('15-Min All Vehicle'!Q59*'Base Information'!$Q$21,0)","v":0},245,{"$f":"ROUND('15-Min All Vehicle'!S59*'Base Information'!$Q$21,0)","v":0},{"$f":"ROUND('15-Min All Vehicle'!T59*'Base Information'!$Q$21,0)","v":142},{"$f":"ROUND('15-Min All Vehicle'!U59*'Base Information'!$Q$21,0)","v":19},{"$f":"ROUND('15-Min All Vehicle'!V59*'Base Information'!$Q$21,0)","v":0},161,569,null,1415,""]
[null,null,"17:29:59.942",{"$f":"ROUND('15-Min All Vehicle'!D60*'Base Information'!$Q$21,0)","v":0},{"$f":"ROUND('15-Min All Vehicle'!E60*'Base Information'!$Q$21,0)","v":0},{"$f":"ROUND('15-Min All Vehicle'!F60*'Base Information'!$Q$21,0)","v":0},{"$f":"ROUND('15-Min All Vehicle'!G60*'Base Information'!$Q$21,0)","v":0},0,{"$f":"ROUND('15-Min All Vehicle'!I60*'Base Information'!$Q$21,0)","v":20},{"$f":"ROUND('15-Min All Vehicle'!J60*'Base Information'!$Q$21,0)","v":122},{"$f":"ROUND('15-Min All Vehicle'!K60*'Base Information'!$Q$21,0)","v":0},{"$f":"ROUND('15-Min All Vehicle'!L60*'Base Information'!$Q$21,0)","v":0},142,{"$f":"ROUND('15-Min All Vehicle'!N60*'Base Information'!$Q$21,0)","v":107},{"$f":"ROUND('15-Min All Vehicle'!O60*'Base Information'!$Q$21,0)","v":0},{"$f":"ROUND('15-Min All Vehicle'!P60*'Base Information'!$Q$21,0)","v":74},{"$f":"ROUND('15-Min All Vehicle'!Q60*'Base Information'!$Q$21,0)","v":0},181,{"$f":"ROUND('15-Min All Vehicle'!S60*'Base Information'!$Q$21,0)","v":0},{"$f":"ROUND('15-Min All Vehicle'!T60*'Base Information'!$Q$21,0)","v":94},{"$f":"ROUND('15-Min All Vehicle'!U60*'Base Information'!$Q$21,0)","v":19},{"$f":"ROUND('15-Min All Vehicle'!V60*'Base Information'!$Q$21,0)","v":0},113,436,null,846,""]
[null,null,"17:44:59.971",{"$f":"ROUND('15-Min All Vehicle'!D61*'Base Information'!$Q$21,0)","v":0},{"$f":"ROUND('15-Min All Vehicle'!E61*'Base Information'!$Q$21,0)","v":0},{"$f":"ROUND('15-Min All Vehicle'!F61*'Base Information'!$Q$21,0)","v":0},{"$f":"ROUND('15-Min All Vehicle'!G61*'Base Information'!$Q$21,0)","v":0},0,{"$f":"ROUND('15-Min All Vehicle'!I61*'Base Information'!$Q$21,0)","v":4},{"$f":"ROUND('15-Min All Vehicle'!J61*'Base Information'!$Q$21,0)","v":115},{"$f":"ROUND('15-Min All Vehicle'!K61*'Base Information'!$Q$21,0)","v":0},{"$f":"ROUND('15-Min All Vehicle'!L61*'Base Information'!$Q$21,0)","v":0},119,{"$f":"ROUND('15-Min All Vehicle'!N61*'Base Information'!$Q$21,0)","v":96},{"$f":"ROUND('15-Min All Vehicle'!O61*'Base Information'!$Q$21,0)","v":0},{"$f":"ROUND('15-Min All Vehicle'!P61*'Base Information'!$Q$21,0)","v":89},{"$f":"ROUND('15-Min All Vehicle'!Q61*'Base Information'!$Q$21,0)","v":0},185,{"$f":"ROUND('15-Min All Vehicle'!S61*'Base Information'!$Q$21,0)","v":0},{"$f":"ROUND('15-Min All Vehicle'!T61*'Base Information'!$Q$21,0)","v":97},{"$f":"ROUND('15-Min All Vehicle'!U61*'Base Information'!$Q$21,0)","v":9},{"$f":"ROUND('15-Min All Vehicle'!V61*'Base Information'!$Q$21,0)","v":0},106,410,null,410,""]
[null,null,"18:00:00",{"$f":"ROUND('15-Min All Vehicle'!D62*'Base Information'!$Q$21,0)","v":0},{"$f":"ROUND('15-Min All Vehicle'!E62*'Base Information'!$Q$21,0)","v":0},{"$f":"ROUND('15-Min All Vehicle'!F62*'Base Information'!$Q$21,0)","v":0},{"$f":"ROUND('15-Min All Vehicle'!G62*'Base Information'!$Q$21,0)","v":0},0,{"$f":"ROUND('15-Min All Vehicle'!I62*'Base Information'!$Q$21,0)","v":0},{"$f":"ROUND('15-Min All Vehicle'!J62*'Base Information'!$Q$21,0)","v":0},{"$f":"ROUND('15-Min All Vehicle'!K62*'Base Information'!$Q$21,0)","v":0},{"$f":"ROUND('15-Min All Vehicle'!L62*'Base Information'!$Q$21,0)","v":0},0,{"$f":"ROUND('15-Min All Vehicle'!N62*'Base Information'!$Q$21,0)","v":0},{"$f":"ROUND('15-Min All Vehicle'!O62*'Base Information'!$Q$21,0)","v":0},{"$f":"ROUND('15-Min All Vehicle'!P62*'Base Information'!$Q$21,0)","v":0},{"$f":"ROUND('15-Min All Vehicle'!Q62*'Base Information'!$Q$21,0)","v":0},0,{"$f":"ROUND('15-Min All Vehicle'!S62*'Base Information'!$Q$21,0)","v":0},{"$f":"ROUND('15-Min All Vehicle'!T62*'Base Information'!$Q$21,0)","v":0},{"$f":"ROUND('15-Min All Vehicle'!U62*'Base Information'!$Q$21,0)","v":0},{"$f":"ROUND('15-Min All Vehicle'!V62*'Base Information'!$Q$21,0)","v":0},0,0,null,0,""]
[null,null,"18:14:59.942",{"$f":"ROUND('15-Min All Vehicle'!D63*'Base Information'!$Q$21,0)","v":0},{"$f":"ROUND('15-Min All Vehicle'!E63*'Base Information'!$Q$21,0)","v":0},{"$f":"ROUND('15-Min All Vehicle'!F63*'Base Information'!$Q$21,0)","v":0},{"$f":"ROUND('15-Min All Vehicle'!G63*'Base Information'!$Q$21,0)","v":0},0,{"$f":"ROUND('15-Min All Vehicle'!I63*'Base Information'!$Q$21,0)","v":0},{"$f":"ROUND('15-Min All Vehicle'!J63*'Base Information'!$Q$21,0)","v":0},{"$f":"ROUND('15-Min All Vehicle'!K63*'Base Information'!$Q$21,0)","v":0},{"$f":"ROUND('15-Min All Vehicle'!L63*'Base Information'!$Q$21,0)","v":0},0,{"$f":"ROUND('15-Min All Vehicle'!N63*'Base Information'!$Q$21,0)","v":0},{"$f":"ROUND('15-Min All Vehicle'!O63*'Base Information'!$Q$21,0)","v":0},{"$f":"ROUND('15-Min All Vehicle'!P63*'Base Information'!$Q$21,0)","v":0},{"$f":"ROUND('15-Min All Vehicle'!Q63*'Base Information'!$Q$21,0)","v":0},0,{"$f":"ROUND('15-Min All Vehicle'!S63*'Base Information'!$Q$21,0)","v":0},{"$f":"ROUND('15-Min All Vehicle'!T63*'Base Information'!$Q$21,0)","v":0},{"$f":"ROUND('15-Min All Vehicle'!U63*'Base Information'!$Q$21,0)","v":0},{"$f":"ROUND('15-Min All Vehicle'!V63*'Base Information'!$Q$21,0)","v":0},0,0,null,0,""]
[null,null,"18:29:59.971",{"$f":"ROUND('15-Min All Vehicle'!D64*'Base Information'!$Q$21,0)","v":0},{"$f":"ROUND('15-Min All Vehicle'!E64*'Base Information'!$Q$21,0)","v":0},{"$f":"ROUND('15-Min All Vehicle'!F64*'Base Information'!$Q$21,0)","v":0},{"$f":"ROUND('15-Min All Vehicle'!G64*'Base Information'!$Q$21,0)","v":0},0,{"$f":"ROUND('15-Min All Vehicle'!I64*'Base Information'!$Q$21,0)","v":0},{"$f":"ROUND('15-Min All Vehicle'!J64*'Base Information'!$Q$21,0)","v":0},{"$f":"ROUND('15-Min All Vehicle'!K64*'Base Information'!$Q$21,0)","v":0},{"$f":"ROUND('15-Min All Vehicle'!L64*'Base Information'!$Q$21,0)","v":0},0,{"$f":"ROUND('15-Min All Vehicle'!N64*'Base Information'!$Q$21,0)","v":0},{"$f":"ROUND('15-Min All Vehicle'!O64*'Base Information'!$Q$21,0)","v":0},{"$f":"ROUND('15-Min All Vehicle'!P64*'Base Information'!$Q$21,0)","v":0},{"$f":"ROUND('15-Min All Vehicle'!Q64*'Base Information'!$Q$21,0)","v":0},0,{"$f":"ROUND('15-Min All Vehicle'!S64*'Base Information'!$Q$21,0)","v":0},{"$f":"ROUND('15-Min All Vehicle'!T64*'Base Information'!$Q$21,0)","v":0},{"$f":"ROUND('15-Min All Vehicle'!U64*'Base Information'!$Q$21,0)","v":0},{"$f":"ROUND('15-Min All Vehicle'!V64*'Base Information'!$Q$21,0)","v":0},0,0,null,0,""]
[null,null,"18:45:00",{"$f":"ROUND('15-Min All Vehicle'!D65*'Base Information'!$Q$21,0)","v":0},{"$f":"ROUND('15-Min All Vehicle'!E65*'Base Information'!$Q$21,0)","v":0},{"$f":"ROUND('15-Min All Vehicle'!F65*'Base Information'!$Q$21,0)","v":0},{"$f":"ROUND('15-Min All Vehicle'!G65*'Base Information'!$Q$21,0)","v":0},0,{"$f":"ROUND('15-Min All Vehicle'!I65*'Base Information'!$Q$21,0)","v":0},{"$f":"ROUND('15-Min All Vehicle'!J65*'Base Information'!$Q$21,0)","v":0},{"$f":"ROUND('15-Min All Vehicle'!K65*'Base Information'!$Q$21,0)","v":0},{"$f":"ROUND('15-Min All Vehicle'!L65*'Base Information'!$Q$21,0)","v":0},0,{"$f":"ROUND('15-Min All Vehicle'!N65*'Base Information'!$Q$21,0)","v":0},{"$f":"ROUND('15-Min All Vehicle'!O65*'Base Information'!$Q$21,0)","v":0},{"$f":"ROUND('15-Min All Vehicle'!P65*'Base Information'!$Q$21,0)","v":0},{"$f":"ROUND('15-Min All Vehicle'!Q65*'Base Information'!$Q$21,0)","v":0},0,{"$f":"ROUND('15-Min All Vehicle'!S65*'Base Information'!$Q$21,0)","v":0},{"$f":"ROUND('15-Min All Vehicle'!T65*'Base Information'!$Q$21,0)","v":0},{"$f":"ROUND('15-Min All Vehicle'!U65*'Base Information'!$Q$21,0)","v":0},{"$f":"ROUND('15-Min All Vehicle'!V65*'Base Information'!$Q$21,0)","v":0},0,0,null,0,""]
[null,null,"18:59:59.942",{"$f":"ROUND('15-Min All Vehicle'!D66*'Base Information'!$Q$21,0)","v":0},{"$f":"ROUND('15-Min All Vehicle'!E66*'Base Information'!$Q$21,0)","v":0},{"$f":"ROUND('15-Min All Vehicle'!F66*'Base Information'!$Q$21,0)","v":0},{"$f":"ROUND('15-Min All Vehicle'!G66*'Base Information'!$Q$21,0)","v":0},0,{"$f":"ROUND('15-Min All Vehicle'!I66*'Base Information'!$Q$21,0)","v":0},{"$f":"ROUND('15-Min All Vehicle'!J66*'Base Information'!$Q$21,0)","v":0},{"$f":"ROUND('15-Min All Vehicle'!K66*'Base Information'!$Q$21,0)","v":0},{"$f":"ROUND('15-Min All Vehicle'!L66*'Base Information'!$Q$21,0)","v":0},0,{"$f":"ROUND('15-Min All Vehicle'!N66*'Base Information'!$Q$21,0)","v":0},{"$f":"ROUND('15-Min All Vehicle'!O66*'Base Information'!$Q$21,0)","v":0},{"$f":"ROUND('15-Min All Vehicle'!P66*'Base Information'!$Q$21,0)","v":0},{"$f":"ROUND('15-Min All Vehicle'!Q66*'Base Information'!$Q$21,0)","v":0},0,{"$f":"ROUND('15-Min All Vehicle'!S66*'Base Information'!$Q$21,0)","v":0},{"$f":"ROUND('15-Min All Vehicle'!T66*'Base Information'!$Q$21,0)","v":0},{"$f":"ROUND('15-Min All Vehicle'!U66*'Base Information'!$Q$21,0)","v":0},{"$f":"ROUND('15-Min All Vehicle'!V66*'Base Information'!$Q$21,0)","v":0},0,0,null,0,""]
[null,null,"19:14:59.971",{"$f":"ROUND('15-Min All Vehicle'!D67*'Base Information'!$Q$21,0)","v":0},{"$f":"ROUND('15-Min All Vehicle'!E67*'Base Information'!$Q$21,0)","v":0},{"$f":"ROUND('15-Min All Vehicle'!F67*'Base Information'!$Q$21,0)","v":0},{"$f":"ROUND('15-Min All Vehicle'!G67*'Base Information'!$Q$21,0)","v":0},0,{"$f":"ROUND('15-Min All Vehicle'!I67*'Base Information'!$Q$21,0)","v":0},{"$f":"ROUND('15-Min All Vehicle'!J67*'Base Information'!$Q$21,0)","v":0},{"$f":"ROUND('15-Min All Vehicle'!K67*'Base Information'!$Q$21,0)","v":0},{"$f":"ROUND('15-Min All Vehicle'!L67*'Base Information'!$Q$21,0)","v":0},0,{"$f":"ROUND('15-Min All Vehicle'!N67*'Base Information'!$Q$21,0)","v":0},{"$f":"ROUND('15-Min All Vehicle'!O67*'Base Information'!$Q$21,0)","v":0},{"$f":"ROUND('15-Min All Vehicle'!P67*'Base Information'!$Q$21,0)","v":0},{"$f":"ROUND('15-Min All Vehicle'!Q67*'Base Information'!$Q$21,0)","v":0},0,{"$f":"ROUND('15-Min All Vehicle'!S67*'Base Information'!$Q$21,0)","v":0},{"$f":"ROUND('15-Min All Vehicle'!T67*'Base Information'!$Q$21,0)","v":0},{"$f":"ROUND('15-Min All Vehicle'!U67*'Base Information'!$Q$21,0)","v":0},{"$f":"ROUND('15-Min All Vehicle'!V67*'Base Information'!$Q$21,0)","v":0},0,0,null,0,""]
[null,null,"19:30:00",{"$f":"ROUND('15-Min All Vehicle'!D68*'Base Information'!$Q$21,0)","v":0},{"$f":"ROUND('15-Min All Vehicle'!E68*'Base Information'!$Q$21,0)","v":0},{"$f":"ROUND('15-Min All Vehicle'!F68*'Base Information'!$Q$21,0)","v":0},{"$f":"ROUND('15-Min All Vehicle'!G68*'Base Information'!$Q$21,0)","v":0},0,{"$f":"ROUND('15-Min All Vehicle'!I68*'Base Information'!$Q$21,0)","v":0},{"$f":"ROUND('15-Min All Vehicle'!J68*'Base Information'!$Q$21,0)","v":0},{"$f":"ROUND('15-Min All Vehicle'!K68*'Base Information'!$Q$21,0)","v":0},{"$f":"ROUND('15-Min All Vehicle'!L68*'Base Information'!$Q$21,0)","v":0},0,{"$f":"ROUND('15-Min All Vehicle'!N68*'Base Information'!$Q$21,0)","v":0},{"$f":"ROUND('15-Min All Vehicle'!O68*'Base Information'!$Q$21,0)","v":0},{"$f":"ROUND('15-Min All Vehicle'!P68*'Base Information'!$Q$21,0)","v":0},{"$f":"ROUND('15-Min All Vehicle'!Q68*'Base Information'!$Q$21,0)","v":0},0,{"$f":"ROUND('15-Min All Vehicle'!S68*'Base Information'!$Q$21,0)","v":0},{"$f":"ROUND('15-Min All Vehicle'!T68*'Base Information'!$Q$21,0)","v":0},{"$f":"ROUND('15-Min All Vehicle'!U68*'Base Information'!$Q$21,0)","v":0},{"$f":"ROUND('15-Min All Vehicle'!V68*'Base Information'!$Q$21,0)","v":0},0,0,null,0,""]
[null,null,"19:44:59.942",{"$f":"ROUND('15-Min All Vehicle'!D69*'Base Information'!$Q$21,0)","v":0},{"$f":"ROUND('15-Min All Vehicle'!E69*'Base Information'!$Q$21,0)","v":0},{"$f":"ROUND('15-Min All Vehicle'!F69*'Base Information'!$Q$21,0)","v":0},{"$f":"ROUND('15-Min All Vehicle'!G69*'Base Information'!$Q$21,0)","v":0},0,{"$f":"ROUND('15-Min All Vehicle'!I69*'Base Information'!$Q$21,0)","v":0},{"$f":"ROUND('15-Min All Vehicle'!J69*'Base Information'!$Q$21,0)","v":0},{"$f":"ROUND('15-Min All Vehicle'!K69*'Base Information'!$Q$21,0)","v":0},{"$f":"ROUND('15-Min All Vehicle'!L69*'Base Information'!$Q$21,0)","v":0},0,{"$f":"ROUND('15-Min All Vehicle'!N69*'Base Information'!$Q$21,0)","v":0},{"$f":"ROUND('15-Min All Vehicle'!O69*'Base Information'!$Q$21,0)","v":0},{"$f":"ROUND('15-Min All Vehicle'!P69*'Base Information'!$Q$21,0)","v":0},{"$f":"ROUND('15-Min All Vehicle'!Q69*'Base Information'!$Q$21,0)","v":0},0,{"$f":"ROUND('15-Min All Vehicle'!S69*'Base Information'!$Q$21,0)","v":0},{"$f":"ROUND('15-Min All Vehicle'!T69*'Base Information'!$Q$21,0)","v":0},{"$f":"ROUND('15-Min All Vehicle'!U69*'Base Information'!$Q$21,0)","v":0},{"$f":"ROUND('15-Min All Vehicle'!V69*'Base Information'!$Q$21,0)","v":0},0,0,null,0,""]
[null,null,"19:59:59.971",{"$f":"ROUND('15-Min All Vehicle'!D70*'Base Information'!$Q$21,0)","v":0},{"$f":"ROUND('15-Min All Vehicle'!E70*'Base Information'!$Q$21,0)","v":0},{"$f":"ROUND('15-Min All Vehicle'!F70*'Base Information'!$Q$21,0)","v":0},{"$f":"ROUND('15-Min All Vehicle'!G70*'Base Information'!$Q$21,0)","v":0},0,{"$f":"ROUND('15-Min All Vehicle'!I70*'Base Information'!$Q$21,0)","v":0},{"$f":"ROUND('15-Min All Vehicle'!J70*'Base Information'!$Q$21,0)","v":0},{"$f":"ROUND('15-Min All Vehicle'!K70*'Base Information'!$Q$21,0)","v":0},{"$f":"ROUND('15-Min All Vehicle'!L70*'Base Information'!$Q$21,0)","v":0},0,{"$f":"ROUND('15-Min All Vehicle'!N70*'Base Information'!$Q$21,0)","v":0},{"$f":"ROUND('15-Min All Vehicle'!O70*'Base Information'!$Q$21,0)","v":0},{"$f":"ROUND('15-Min All Vehicle'!P70*'Base Information'!$Q$21,0)","v":0},{"$f":"ROUND('15-Min All Vehicle'!Q70*'Base Information'!$Q$21,0)","v":0},0,{"$f":"ROUND('15-Min All Vehicle'!S70*'Base Information'!$Q$21,0)","v":0},{"$f":"ROUND('15-Min All Vehicle'!T70*'Base Information'!$Q$21,0)","v":0},{"$f":"ROUND('15-Min All Vehicle'!U70*'Base Information'!$Q$21,0)","v":0},{"$f":"ROUND('15-Min All Vehicle'!V70*'Base Information'!$Q$21,0)","v":0},0,0,null,{"$f":"X70+X71+X72+X73","v":0},""]
[null,null,"20:15:00",{"$f":"ROUND('15-Min All Vehicle'!D71*'Base Information'!$Q$21,0)","v":0},{"$f":"ROUND('15-Min All Vehicle'!E71*'Base Information'!$Q$21,0)","v":0},{"$f":"ROUND('15-Min All Vehicle'!F71*'Base Information'!$Q$21,0)","v":0},{"$f":"ROUND('15-Min All Vehicle'!G71*'Base Information'!$Q$21,0)","v":0},0,{"$f":"ROUND('15-Min All Vehicle'!I71*'Base Information'!$Q$21,0)","v":0},{"$f":"ROUND('15-Min All Vehicle'!J71*'Base Information'!$Q$21,0)","v":0},{"$f":"ROUND('15-Min All Vehicle'!K71*'Base Information'!$Q$21,0)","v":0},{"$f":"ROUND('15-Min All Vehicle'!L71*'Base Information'!$Q$21,0)","v":0},0,{"$f":"ROUND('15-Min All Vehicle'!N71*'Base Information'!$Q$21,0)","v":0},{"$f":"ROUND('15-Min All Vehicle'!O71*'Base Information'!$Q$21,0)","v":0},{"$f":"ROUND('15-Min All Vehicle'!P71*'Base Information'!$Q$21,0)","v":0},{"$f":"ROUND('15-Min All Vehicle'!Q71*'Base Information'!$Q$21,0)","v":0},0,{"$f":"ROUND('15-Min All Vehicle'!S71*'Base Information'!$Q$21,0)","v":0},{"$f":"ROUND('15-Min All Vehicle'!T71*'Base Information'!$Q$21,0)","v":0},{"$f":"ROUND('15-Min All Vehicle'!U71*'Base Information'!$Q$21,0)","v":0},{"$f":"ROUND('15-Min All Vehicle'!V71*'Base Information'!$Q$21,0)","v":0},0,0,null,{"$f":"X71+X72+X73+X74","v":0},""]
[null,null,"20:29:59.942",{"$f":"ROUND('15-Min All Vehicle'!D72*'Base Information'!$Q$21,0)","v":0},{"$f":"ROUND('15-Min All Vehicle'!E72*'Base Information'!$Q$21,0)","v":0},{"$f":"ROUND('15-Min All Vehicle'!F72*'Base Information'!$Q$21,0)","v":0},{"$f":"ROUND('15-Min All Vehicle'!G72*'Base Information'!$Q$21,0)","v":0},0,{"$f":"ROUND('15-Min All Vehicle'!I72*'Base Information'!$Q$21,0)","v":0},{"$f":"ROUND('15-Min All Vehicle'!J72*'Base Information'!$Q$21,0)","v":0},{"$f":"ROUND('15-Min All Vehicle'!K72*'Base Information'!$Q$21,0)","v":0},{"$f":"ROUND('15-Min All Vehicle'!L72*'Base Information'!$Q$21,0)","v":0},0,{"$f":"ROUND('15-Min All Vehicle'!N72*'Base Information'!$Q$21,0)","v":0},{"$f":"ROUND('15-Min All Vehicle'!O72*'Base Information'!$Q$21,0)","v":0},{"$f":"ROUND('15-Min All Vehicle'!P72*'Base Information'!$Q$21,0)","v":0},{"$f":"ROUND('15-Min All Vehicle'!Q72*'Base Information'!$Q$21,0)","v":0},0,{"$f":"ROUND('15-Min All Vehicle'!S72*'Base Information'!$Q$21,0)","v":0},{"$f":"ROUND('15-Min All Vehicle'!T72*'Base Information'!$Q$21,0)","v":0},{"$f":"ROUND('15-Min All Vehicle'!U72*'Base Information'!$Q$21,0)","v":0},{"$f":"ROUND('15-Min All Vehicle'!V72*'Base Information'!$Q$21,0)","v":0},0,0,null,{"$f":"X72+X73+X74+X75","v":0},""]
[null,null,"20:44:59.971",{"$f":"ROUND('15-Min All Vehicle'!D73*'Base Information'!$Q$21,0)","v":0},{"$f":"ROUND('15-Min All Vehicle'!E73*'Base Information'!$Q$21,0)","v":0},{"$f":"ROUND('15-Min All Vehicle'!F73*'Base Information'!$Q$21,0)","v":0},{"$f":"ROUND('15-Min All Vehicle'!G73*'Base Information'!$Q$21,0)","v":0},0,{"$f":"ROUND('15-Min All Vehicle'!I73*'Base Information'!$Q$21,0)","v":0},{"$f":"ROUND('15-Min All Vehicle'!J73*'Base Information'!$Q$21,0)","v":0},{"$f":"ROUND('15-Min All Vehicle'!K73*'Base Information'!$Q$21,0)","v":0},{"$f":"ROUND('15-Min All Vehicle'!L73*'Base Information'!$Q$21,0)","v":0},0,{"$f":"ROUND('15-Min All Vehicle'!N73*'Base Information'!$Q$21,0)","v":0},{"$f":"ROUND('15-Min All Vehicle'!O73*'Base Information'!$Q$21,0)","v":0},{"$f":"ROUND('15-Min All Vehicle'!P73*'Base Information'!$Q$21,0)","v":0},{"$f":"ROUND('15-Min All Vehicle'!Q73*'Base Information'!$Q$21,0)","v":0},0,{"$f":"ROUND('15-Min All Vehicle'!S73*'Base Information'!$Q$21,0)","v":0},{"$f":"ROUND('15-Min All Vehicle'!T73*'Base Information'!$Q$21,0)","v":0},{"$f":"ROUND('15-Min All Vehicle'!U73*'Base Information'!$Q$21,0)","v":0},{"$f":"ROUND('15-Min All Vehicle'!V73*'Base Information'!$Q$21,0)","v":0},0,0,null,{"$f":"X73+X74+X75+X76","v":0},""]
[null,null,"21:00:00",{"$f":"ROUND('15-Min All Vehicle'!D74*'Base Information'!$Q$21,0)","v":0},{"$f":"ROUND('15-Min All Vehicle'!E74*'Base Information'!$Q$21,0)","v":0},{"$f":"ROUND('15-Min All Vehicle'!F74*'Base Information'!$Q$21,0)","v":0},{"$f":"ROUND('15-Min All Vehicle'!G74*'Base Information'!$Q$21,0)","v":0},0,{"$f":"ROUND('15-Min All Vehicle'!I74*'Base Information'!$Q$21,0)","v":0},{"$f":"ROUND('15-Min All Vehicle'!J74*'Base Information'!$Q$21,0)","v":0},{"$f":"ROUND('15-Min All Vehicle'!K74*'Base Information'!$Q$21,0)","v":0},{"$f":"ROUND('15-Min All Vehicle'!L74*'Base Information'!$Q$21,0)","v":0},0,{"$f":"ROUND('15-Min All Vehicle'!N74*'Base Information'!$Q$21,0)","v":0},{"$f":"ROUND('15-Min All Vehicle'!O74*'Base Information'!$Q$21,0)","v":0},{"$f":"ROUND('15-Min All Vehicle'!P74*'Base Information'!$Q$21,0)","v":0},{"$f":"ROUND('15-Min All Vehicle'!Q74*'Base Information'!$Q$21,0)","v":0},0,{"$f":"ROUND('15-Min All Vehicle'!S74*'Base Information'!$Q$21,0)","v":0},{"$f":"ROUND('15-Min All Vehicle'!T74*'Base Information'!$Q$21,0)","v":0},{"$f":"ROUND('15-Min All Vehicle'!U74*'Base Information'!$Q$21,0)","v":0},{"$f":"ROUND('15-Min All Vehicle'!V74*'Base Information'!$Q$21,0)","v":0},0,{"$f":"H74+M74+R74+W74","v":0},null,{"$f":"X74+X75+X76+X77","v":0},""]
[null,null,"21:14:59.942",{"$f":"ROUND('15-Min All Vehicle'!D75*'Base Information'!$Q$21,0)","v":0},{"$f":"ROUND('15-Min All Vehicle'!E75*'Base Information'!$Q$21,0)","v":0},{"$f":"ROUND('15-Min All Vehicle'!F75*'Base Information'!$Q$21,0)","v":0},{"$f":"ROUND('15-Min All Vehicle'!G75*'Base Information'!$Q$21,0)","v":0},0,{"$f":"ROUND('15-Min All Vehicle'!I75*'Base Information'!$Q$21,0)","v":0},{"$f":"ROUND('15-Min All Vehicle'!J75*'Base Information'!$Q$21,0)","v":0},{"$f":"ROUND('15-Min All Vehicle'!K75*'Base Information'!$Q$21,0)","v":0},{"$f":"ROUND('15-Min All Vehicle'!L75*'Base Information'!$Q$21,0)","v":0},0,{"$f":"ROUND('15-Min All Vehicle'!N75*'Base Information'!$Q$21,0)","v":0},{"$f":"ROUND('15-Min All Vehicle'!O75*'Base Information'!$Q$21,0)","v":0},{"$f":"ROUND('15-Min All Vehicle'!P75*'Base Information'!$Q$21,0)","v":0},{"$f":"ROUND('15-Min All Vehicle'!Q75*'Base Information'!$Q$21,0)","v":0},0,{"$f":"ROUND('15-Min All Vehicle'!S75*'Base Information'!$Q$21,0)","v":0},{"$f":"ROUND('15-Min All Vehicle'!T75*'Base Information'!$Q$21,0)","v":0},{"$f":"ROUND('15-Min All Vehicle'!U75*'Base Information'!$Q$21,0)","v":0},{"$f":"ROUND('15-Min All Vehicle'!V75*'Base Information'!$Q$21,0)","v":0},0,{"$f":"H75+M75+R75+W75","v":0}]
[null,null,"21:29:59.971",{"$f":"ROUND('15-Min All Vehicle'!D76*'Base Information'!$Q$21,0)","v":0},{"$f":"ROUND('15-Min All Vehicle'!E76*'Base Information'!$Q$21,0)","v":0},{"$f":"ROUND('15-Min All Vehicle'!F76*'Base Information'!$Q$21,0)","v":0},{"$f":"ROUND('15-Min All Vehicle'!G76*'Base Information'!$Q$21,0)","v":0},0,{"$f":"ROUND('15-Min All Vehicle'!I76*'Base Information'!$Q$21,0)","v":0},{"$f":"ROUND('15-Min All Vehicle'!J76*'Base Information'!$Q$21,0)","v":0},{"$f":"ROUND('15-Min All Vehicle'!K76*'Base Information'!$Q$21,0)","v":0},{"$f":"ROUND('15-Min All Vehicle'!L76*'Base Information'!$Q$21,0)","v":0},0,{"$f":"ROUND('15-Min All Vehicle'!N76*'Base Information'!$Q$21,0)","v":0},{"$f":"ROUND('15-Min All Vehicle'!O76*'Base Information'!$Q$21,0)","v":0},{"$f":"ROUND('15-Min All Vehicle'!P76*'Base Information'!$Q$21,0)","v":0},{"$f":"ROUND('15-Min All Vehicle'!Q76*'Base Information'!$Q$21,0)","v":0},0,{"$f":"ROUND('15-Min All Vehicle'!S76*'Base Information'!$Q$21,0)","v":0},{"$f":"ROUND('15-Min All Vehicle'!T76*'Base Information'!$Q$21,0)","v":0},{"$f":"ROUND('15-Min All Vehicle'!U76*'Base Information'!$Q$21,0)","v":0},{"$f":"ROUND('15-Min All Vehicle'!V76*'Base Information'!$Q$21,0)","v":0},0,{"$f":"H76+M76+R76+W76","v":0}]
[null,null,"21:45:00",{"$f":"ROUND('15-Min All Vehicle'!D77*'Base Information'!$Q$21,0)","v":0},{"$f":"ROUND('15-Min All Vehicle'!E77*'Base Information'!$Q$21,0)","v":0},{"$f":"ROUND('15-Min All Vehicle'!F77*'Base Information'!$Q$21,0)","v":0},{"$f":"ROUND('15-Min All Vehicle'!G77*'Base Information'!$Q$21,0)","v":0},0,{"$f":"ROUND('15-Min All Vehicle'!I77*'Base Information'!$Q$21,0)","v":0},{"$f":"ROUND('15-Min All Vehicle'!J77*'Base Information'!$Q$21,0)","v":0},{"$f":"ROUND('15-Min All Vehicle'!K77*'Base Information'!$Q$21,0)","v":0},{"$f":"ROUND('15-Min All Vehicle'!L77*'Base Information'!$Q$21,0)","v":0},0,{"$f":"ROUND('15-Min All Vehicle'!N77*'Base Information'!$Q$21,0)","v":0},{"$f":"ROUND('15-Min All Vehicle'!O77*'Base Information'!$Q$21,0)","v":0},{"$f":"ROUND('15-Min All Vehicle'!P77*'Base Information'!$Q$21,0)","v":0},{"$f":"ROUND('15-Min All Vehicle'!Q77*'Base Information'!$Q$21,0)","v":0},0,{"$f":"ROUND('15-Min All Vehicle'!S77*'Base Information'!$Q$21,0)","v":0},{"$f":"ROUND('15-Min All Vehicle'!T77*'Base Information'!$Q$21,0)","v":0},{"$f":"ROUND('15-Min All Vehicle'!U77*'Base Information'!$Q$21,0)","v":0},{"$f":"ROUND('15-Min All Vehicle'!V77*'Base Information'!$Q$21,0)","v":0},0,{"$f":"H77+M77+R77+W77","v":0}]
[null,"Totals",null,{"$f":"SUM(D14:D77)","v":0},{"$f":"SUM(E14:E77)","v":0},0,0,{"$f":"SUM(H14:H77)","v":0},739,6038,0,0,6777,3099,6,5261,0,8366,0,3660,622,0,4282,{"$f":"SUM(X14:X77)","v":19425}," "]
[]
[null,"Peak Hour All Vehicle Volume Summary"]
[null,null,null,null,null,"ê",null,null,null,null,"ç",null,null,null,null,"é",null,null,null,null,"è"]
[null,"Hourly",null,"From North",null,null,null,null,"From East",null,null,null,null,"From South",null,null,null,null,"From West",null,null,null,null,"Total"]
[null,"Time Period",null,{"$f":"'Base Information'!$D$14:$D$14","v":"441 NB ON RAMP"},null,null,null,null,{"$f":"'Base Information'!$D$15:$D$15","v":"CTH OO (Northland Ave)"},null,null,null,null,{"$f":"'Base Information'!$D$16:$D$16","v":"441 NB OFF RAMP"},null,null,null,null,{"$f":"'Base Information'!$D$17:$D$17","v":"CTH OO (Northland Ave)"},null,null,null,null,"Hourly"]
[null,"Start Time",null,"Right ","Thru ","Left ","U-Tn","Total","Right ","Thru ","Left ","U-Tn","Total","Right ","Thru ","Left ","U-Tn","Total","Right ","Thru ","Left ","U-Tn","Total","Volume",null,"PHF"]
[null,"AM",{"$f":"'15-Min All Vehicle'!$C$85","v":"07:14:59.971"},{"$f":"VLOOKUP(VLOOKUP($C85,'Base Information'!$D$91:$G$152,1,FALSE),$C$14:$X$77,2,FALSE)+VLOOKUP(VLOOKUP($C85,'Base Information'!$D$91:$G$152,2,FALSE),$C$14:$X$77,2,FALSE)+VLOOKUP(VLOOKUP($C85,'Base Information'!$D$91:$G$152,3,FALSE),$C$14:$X$77,2,FALSE)+VLOOKUP(VLOOKUP($C85,'Base Information'!$D$91:$G$152,4,FALSE),$C$14:$X$77,2,FALSE)","v":0},{"$f":"VLOOKUP(VLOOKUP($C85,'Base Information'!$D$91:$G$152,1,FALSE),$C$14:$X$77,3,FALSE)+VLOOKUP(VLOOKUP($C85,'Base Information'!$D$91:$G$152,2,FALSE),$C$14:$X$77,3,FALSE)+VLOOKUP(VLOOKUP($C85,'Base Information'!$D$91:$G$152,3,FALSE),$C$14:$X$77,3,FALSE)+VLOOKUP(VLOOKUP($C85,'Base Information'!$D$91:$G$152,4,FALSE),$C$14:$X$77,3,FALSE)","v":0},{"$f":"VLOOKUP(VLOOKUP($C85,'Base Information'!$D$91:$G$152,1,FALSE),$C$14:$X$77,4,FALSE)+VLOOKUP(VLOOKUP($C85,'Base Information'!$D$91:$G$152,2,FALSE),$C$14:$X$77,4,FALSE)+VLOOKUP(VLOOKUP($C85,'Base Information'!$D$91:$G$152,3,FALSE),$C$14:$X$77,4,FALSE)+VLOOKUP(VLOOKUP($C85,'Base Information'!$D$91:$G$152,4,FALSE),$C$14:$X$77,4,FALSE)","v":0},{"$f":"VLOOKUP(VLOOKUP($C85,'Base Information'!$D$91:$G$152,1,FALSE),$C$14:$X$77,5,FALSE)+VLOOKUP(VLOOKUP($C85,'Base Information'!$D$91:$G$152,2,FALSE),$C$14:$X$77,5,FALSE)+VLOOKUP(VLOOKUP($C85,'Base Information'!$D$91:$G$152,3,FALSE),$C$14:$X$77,5,FALSE)+VLOOKUP(VLOOKUP($C85,'Base Information'!$D$91:$G$152,4,FALSE),$C$14:$X$77,5,FALSE)","v":0},{"$f":"SUM(D85:G85)","v":0},{"$f":"VLOOKUP(VLOOKUP($C85,'Base Information'!$D$91:$G$152,1,FALSE),$C$14:$X$77,7,FALSE)+VLOOKUP(VLOOKUP($C85,'Base Information'!$D$91:$G$152,2,FALSE),$C$14:$X$77,7,FALSE)+VLOOKUP(VLOOKUP($C85,'Base Information'!$D$91:$G$152,3,FALSE),$C$14:$X$77,7,FALSE)+VLOOKUP(VLOOKUP($C85,'Base Information'!$D$91:$G$152,4,FALSE),$C$14:$X$77,7,FALSE)","v":88},{"$f":"VLOOKUP(VLOOKUP($C85,'Base Information'!$D$91:$G$152,1,FALSE),$C$14:$X$77,8,FALSE)+VLOOKUP(VLOOKUP($C85,'Base Information'!$D$91:$G$152,2,FALSE),$C$14:$X$77,8,FALSE)+VLOOKUP(VLOOKUP($C85,'Base Information'!$D$91:$G$152,3,FALSE),$C$14:$X$77,8,FALSE)+VLOOKUP(VLOOKUP($C85,'Base Information'!$D$91:$G$152,4,FALSE),$C$14:$X$77,8,FALSE)","v":826},{"$f":"VLOOKUP(VLOOKUP($C85,'Base Information'!$D$91:$G$152,1,FALSE),$C$14:$X$77,9,FALSE)+VLOOKUP(VLOOKUP($C85,'Base Information'!$D$91:$G$152,2,FALSE),$C$14:$X$77,9,FALSE)+VLOOKUP(VLOOKUP($C85,'Base Information'!$D$91:$G$152,3,FALSE),$C$14:$X$77,9,FALSE)+VLOOKUP(VLOOKUP($C85,'Base Information'!$D$91:$G$152,4,FALSE),$C$14:$X$77,9,FALSE)","v":0},{"$f":"VLOOKUP(VLOOKUP($C85,'Base Information'!$D$91:$G$152,1,FALSE),$C$14:$X$77,10,FALSE)+VLOOKUP(VLOOKUP($C85,'Base Information'!$D$91:$G$152,2,FALSE),$C$14:$X$77,10,FALSE)+VLOOKUP(VLOOKUP($C85,'Base Information'!$D$91:$G$152,3,FALSE),$C$14:$X$77,10,FALSE)+VLOOKUP(VLOOKUP($C85,'Base Information'!$D$91:$G$152,4,FALSE),$C$14:$X$77,10,FALSE)","v":0},{"$f":"SUM(I85:L85)","v":914},{"$f":"VLOOKUP(VLOOKUP($C85,'Base Information'!$D$91:$G$152,1,FALSE),$C$14:$X$77,12,FALSE)+VLOOKUP(VLOOKUP($C85,'Base Information'!$D$91:$G$152,2,FALSE),$C$14:$X$77,12,FALSE)+VLOOKUP(VLOOKUP($C85,'Base Information'!$D$91:$G$152,3,FALSE),$C$14:$X$77,12,FALSE)+VLOOKUP(VLOOKUP($C85,'Base Information'!$D$91:$G$152,4,FALSE),$C$14:$X$77,12,FALSE)","v":246},{"$f":"VLOOKUP(VLOOKUP($C85,'Base Information'!$D$91:$G$152,1,FALSE),$C$14:$X$77,13,FALSE)+VLOOKUP(VLOOKUP($C85,'Base Information'!$D$91:$G$152,2,FALSE),$C$14:$X$77,13,FALSE)+VLOOKUP(VLOOKUP($C85,'Base Information'!$D$91:$G$152,3,FALSE),$C$14:$X$77,13,FALSE)+VLOOKUP(VLOOKUP($C85,'Base Information'!$D$91:$G$152,4,FALSE),$C$14:$X$77,13,FALSE)","v":1},{"$f":"VLOOKUP(VLOOKUP($C85,'Base Information'!$D$91:$G$152,1,FALSE),$C$14:$X$77,14,FALSE)+VLOOKUP(VLOOKUP($C85,'Base Information'!$D$91:$G$152,2,FALSE),$C$14:$X$77,14,FALSE)+VLOOKUP(VLOOKUP($C85,'Base Information'!$D$91:$G$152,3,FALSE),$C$14:$X$77,14,FALSE)+VLOOKUP(VLOOKUP($C85,'Base Information'!$D$91:$G$152,4,FALSE),$C$14:$X$77,14,FALSE)","v":859},{"$f":"VLOOKUP(VLOOKUP($C85,'Base Information'!$D$91:$G$152,1,FALSE),$C$14:$X$77,15,FALSE)+VLOOKUP(VLOOKUP($C85,'Base Information'!$D$91:$G$152,2,FALSE),$C$14:$X$77,15,FALSE)+VLOOKUP(VLOOKUP($C85,'Base Information'!$D$91:$G$152,3,FALSE),$C$14:$X$77,15,FALSE)+VLOOKUP(VLOOKUP($C85,'Base Information'!$D$91:$G$152,4,FALSE),$C$14:$X$77,15,FALSE)","v":0},{"$f":"SUM(N85:Q85)","v":1106},{"$f":"VLOOKUP(VLOOKUP($C85,'Base Information'!$D$91:$G$152,1,FALSE),$C$14:$X$77,17,FALSE)+VLOOKUP(VLOOKUP($C85,'Base Information'!$D$91:$G$152,2,FALSE),$C$14:$X$77,17,FALSE)+VLOOKUP(VLOOKUP($C85,'Base Information'!$D$91:$G$152,3,FALSE),$C$14:$X$77,17,FALSE)+VLOOKUP(VLOOKUP($C85,'Base Information'!$D$91:$G$152,4,FALSE),$C$14:$X$77,17,FALSE)","v":0},{"$f":"VLOOKUP(VLOOKUP($C85,'Base Information'!$D$91:$G$152,1,FALSE),$C$14:$X$77,18,FALSE)+VLOOKUP(VLOOKUP($C85,'Base Information'!$D$91:$G$152,2,FALSE),$C$14:$X$77,18,FALSE)+VLOOKUP(VLOOKUP($C85,'Base Information'!$D$91:$G$152,3,FALSE),$C$14:$X$77,18,FALSE)+VLOOKUP(VLOOKUP($C85,'Base Information'!$D$91:$G$152,4,FALSE),$C$14:$X$77,18,FALSE)","v":178},{"$f":"VLOOKUP(VLOOKUP($C85,'Base Information'!$D$91:$G$152,1,FALSE),$C$14:$X$77,19,FALSE)+VLOOKUP(VLOOKUP($C85,'Base Information'!$D$91:$G$152,2,FALSE),$C$14:$X$77,19,FALSE)+VLOOKUP(VLOOKUP($C85,'Base Information'!$D$91:$G$152,3,FALSE),$C$14:$X$77,19,FALSE)+VLOOKUP(VLOOKUP($C85,'Base Information'!$D$91:$G$152,4,FALSE),$C$14:$X$77,19,FALSE)","v":33},{"$f":"VLOOKUP(VLOOKUP($C85,'Base Information'!$D$91:$G$152,1,FALSE),$C$14:$X$77,20,FALSE)+VLOOKUP(VLOOKUP($C85,'Base Information'!$D$91:$G$152,2,FALSE),$C$14:$X$77,20,FALSE)+VLOOKUP(VLOOKUP($C85,'Base Information'!$D$91:$G$152,3,FALSE),$C$14:$X$77,20,FALSE)+VLOOKUP(VLOOKUP($C85,'Base Information'!$D$91:$G$152,4,FALSE),$C$14:$X$77,20,FALSE)","v":0},{"$f":"SUM(S85:V85)","v":211},{"$f":"H85+M85+R85+W85","v":2231},null,{"$f":"VLOOKUP($C85,$C$14:$AA$77,25,FALSE)","v":0.81304664723032072}]
[null,"MD",{"$f":"'15-Min All Vehicle'!$C$86","v":"12:59:59.942"},{"$f":"VLOOKUP(VLOOKUP($C86,'Base Information'!$D$91:$G$152,1,FALSE),$C$14:$X$77,2,FALSE)+VLOOKUP(VLOOKUP($C86,'Base Information'!$D$91:$G$152,2,FALSE),$C$14:$X$77,2,FALSE)+VLOOKUP(VLOOKUP($C86,'Base Information'!$D$91:$G$152,3,FALSE),$C$14:$X$77,2,FALSE)+VLOOKUP(VLOOKUP($C86,'Base Information'!$D$91:$G$152,4,FALSE),$C$14:$X$77,2,FALSE)","v":0},{"$f":"VLOOKUP(VLOOKUP($C86,'Base Information'!$D$91:$G$152,1,FALSE),$C$14:$X$77,3,FALSE)+VLOOKUP(VLOOKUP($C86,'Base Information'!$D$91:$G$152,2,FALSE),$C$14:$X$77,3,FALSE)+VLOOKUP(VLOOKUP($C86,'Base Information'!$D$91:$G$152,3,FALSE),$C$14:$X$77,3,FALSE)+VLOOKUP(VLOOKUP($C86,'Base Information'!$D$91:$G$152,4,FALSE),$C$14:$X$77,3,FALSE)","v":0},{"$f":"VLOOKUP(VLOOKUP($C86,'Base Information'!$D$91:$G$152,1,FALSE),$C$14:$X$77,4,FALSE)+VLOOKUP(VLOOKUP($C86,'Base Information'!$D$91:$G$152,2,FALSE),$C$14:$X$77,4,FALSE)+VLOOKUP(VLOOKUP($C86,'Base Information'!$D$91:$G$152,3,FALSE),$C$14:$X$77,4,FALSE)+VLOOKUP(VLOOKUP($C86,'Base Information'!$D$91:$G$152,4,FALSE),$C$14:$X$77,4,FALSE)","v":0},{"$f":"VLOOKUP(VLOOKUP($C86,'Base Information'!$D$91:$G$152,1,FALSE),$C$14:$X$77,5,FALSE)+VLOOKUP(VLOOKUP($C86,'Base Information'!$D$91:$G$152,2,FALSE),$C$14:$X$77,5,FALSE)+VLOOKUP(VLOOKUP($C86,'Base Information'!$D$91:$G$152,3,FALSE),$C$14:$X$77,5,FALSE)+VLOOKUP(VLOOKUP($C86,'Base Information'!$D$91:$G$152,4,FALSE),$C$14:$X$77,5,FALSE)","v":0},{"$f":"SUM(D86:G86)","v":0},{"$f":"VLOOKUP(VLOOKUP($C86,'Base Information'!$D$91:$G$152,1,FALSE),$C$14:$X$77,7,FALSE)+VLOOKUP(VLOOKUP($C86,'Base Information'!$D$91:$G$152,2,FALSE),$C$14:$X$77,7,FALSE)+VLOOKUP(VLOOKUP($C86,'Base Information'!$D$91:$G$152,3,FALSE),$C$14:$X$77,7,FALSE)+VLOOKUP(VLOOKUP($C86,'Base Information'!$D$91:$G$152,4,FALSE),$C$14:$X$77,7,FALSE)","v":50},{"$f":"VLOOKUP(VLOOKUP($C86,'Base Information'!$D$91:$G$152,1,FALSE),$C$14:$X$77,8,FALSE)+VLOOKUP(VLOOKUP($C86,'Base Information'!$D$91:$G$152,2,FALSE),$C$14:$X$77,8,FALSE)+VLOOKUP(VLOOKUP($C86,'Base Information'!$D$91:$G$152,3,FALSE),$C$14:$X$77,8,FALSE)+VLOOKUP(VLOOKUP($C86,'Base Information'!$D$91:$G$152,4,FALSE),$C$14:$X$77,8,FALSE)","v":441},{"$f":"VLOOKUP(VLOOKUP($C86,'Base Information'!$D$91:$G$152,1,FALSE),$C$14:$X$77,9,FALSE)+VLOOKUP(VLOOKUP($C86,'Base Information'!$D$91:$G$152,2,FALSE),$C$14:$X$77,9,FALSE)+VLOOKUP(VLOOKUP($C86,'Base Information'!$D$91:$G$152,3,FALSE),$C$14:$X$77,9,FALSE)+VLOOKUP(VLOOKUP($C86,'Base Information'!$D$91:$G$152,4,FALSE),$C$14:$X$77,9,FALSE)","v":0},{"$f":"VLOOKUP(VLOOKUP($C86,'Base Information'!$D$91:$G$152,1,FALSE),$C$14:$X$77,10,FALSE)+VLOOKUP(VLOOKUP($C86,'Base Information'!$D$91:$G$152,2,FALSE),$C$14:$X$77,10,FALSE)+VLOOKUP(VLOOKUP($C86,'Base Information'!$D$91:$G$152,3,FALSE),$C$14:$X$77,10,FALSE)+VLOOKUP(VLOOKUP($C86,'Base Information'!$D$91:$G$152,4,FALSE),$C$14:$X$77,10,FALSE)","v":0},{"$f":"SUM(I86:L86)","v":491},{"$f":"VLOOKUP(VLOOKUP($C86,'Base Information'!$D$91:$G$152,1,FALSE),$C$14:$X$77,12,FALSE)+VLOOKUP(VLOOKUP($C86,'Base Information'!$D$91:$G$152,2,FALSE),$C$14:$X$77,12,FALSE)+VLOOKUP(VLOOKUP($C86,'Base Information'!$D$91:$G$152,3,FALSE),$C$14:$X$77,12,FALSE)+VLOOKUP(VLOOKUP($C86,'Base Information'!$D$91:$G$152,4,FALSE),$C$14:$X$77,12,FALSE)","v":216},{"$f":"VLOOKUP(VLOOKUP($C86,'Base Information'!$D$91:$G$152,1,FALSE),$C$14:$X$77,13,FALSE)+VLOOKUP(VLOOKUP($C86,'Base Information'!$D$91:$G$152,2,FALSE),$C$14:$X$77,13,FALSE)+VLOOKUP(VLOOKUP($C86,'Base Information'!$D$91:$G$152,3,FALSE),$C$14:$X$77,13,FALSE)+VLOOKUP(VLOOKUP($C86,'Base Information'!$D$91:$G$152,4,FALSE),$C$14:$X$77,13,FALSE)","v":0},{"$f":"VLOOKUP(VLOOKUP($C86,'Base Information'!$D$91:$G$152,1,FALSE),$C$14:$X$77,14,FALSE)+VLOOKUP(VLOOKUP($C86,'Base Information'!$D$91:$G$152,2,FALSE),$C$14:$X$77,14,FALSE)+VLOOKUP(VLOOKUP($C86,'Base Information'!$D$91:$G$152,3,FALSE),$C$14:$X$77,14,FALSE)+VLOOKUP(VLOOKUP($C86,'Base Information'!$D$91:$G$152,4,FALSE),$C$14:$X$77,14,FALSE)","v":417},{"$f":"VLOOKUP(VLOOKUP($C86,'Base Information'!$D$91:$G$152,1,FALSE),$C$14:$X$77,15,FALSE)+VLOOKUP(VLOOKUP($C86,'Base Information'!$D$91:$G$152,2,FALSE),$C$14:$X$77,15,FALSE)+VLOOKUP(VLOOKUP($C86,'Base Information'!$D$91:$G$152,3,FALSE),$C$14:$X$77,15,FALSE)+VLOOKUP(VLOOKUP($C86,'Base Information'!$D$91:$G$152,4,FALSE),$C$14:$X$77,15,FALSE)","v":0},{"$f":"SUM(N86:Q86)","v":633},{"$f":"VLOOKUP(VLOOKUP($C86,'Base Information'!$D$91:$G$152,1,FALSE),$C$14:$X$77,17,FALSE)+VLOOKUP(VLOOKUP($C86,'Base Information'!$D$91:$G$152,2,FALSE),$C$14:$X$77,17,FALSE)+VLOOKUP(VLOOKUP($C86,'Base Information'!$D$91:$G$152,3,FALSE),$C$14:$X$77,17,FALSE)+VLOOKUP(VLOOKUP($C86,'Base Information'!$D$91:$G$152,4,FALSE),$C$14:$X$77,17,FALSE)","v":0},{"$f":"VLOOKUP(VLOOKUP($C86,'Base Information'!$D$91:$G$152,1,FALSE),$C$14:$X$77,18,FALSE)+VLOOKUP(VLOOKUP($C86,'Base Information'!$D$91:$G$152,2,FALSE),$C$14:$X$77,18,FALSE)+VLOOKUP(VLOOKUP($C86,'Base Information'!$D$91:$G$152,3,FALSE),$C$14:$X$77,18,FALSE)+VLOOKUP(VLOOKUP($C86,'Base Information'!$D$91:$G$152,4,FALSE),$C$14:$X$77,18,FALSE)","v":328},{"$f":"VLOOKUP(VLOOKUP($C86,'Base Information'!$D$91:$G$152,1,FALSE),$C$14:$X$77,19,FALSE)+VLOOKUP(VLOOKUP($C86,'Base Information'!$D$91:$G$152,2,FALSE),$C$14:$X$77,19,FALSE)+VLOOKUP(VLOOKUP($C86,'Base Information'!$D$91:$G$152,3,FALSE),$C$14:$X$77,19,FALSE)+VLOOKUP(VLOOKUP($C86,'Base Information'!$D$91:$G$152,4,FALSE),$C$14:$X$77,19,FALSE)","v":36},{"$f":"VLOOKUP(VLOOKUP($C86,'Base Information'!$D$91:$G$152,1,FALSE),$C$14:$X$77,20,FALSE)+VLOOKUP(VLOOKUP($C86,'Base Information'!$D$91:$G$152,2,FALSE),$C$14:$X$77,20,FALSE)+VLOOKUP(VLOOKUP($C86,'Base Information'!$D$91:$G$152,3,FALSE),$C$14:$X$77,20,FALSE)+VLOOKUP(VLOOKUP($C86,'Base Information'!$D$91:$G$152,4,FALSE),$C$14:$X$77,20,FALSE)","v":0},{"$f":"SUM(S86:V86)","v":364},{"$f":"H86+M86+R86+W86","v":1488},null,{"$f":"VLOOKUP($C86,$C$14:$AA$77,25,FALSE)","v":0.93233082706766912}]
[null,"PM",{"$f":"'15-Min All Vehicle'!$C$87","v":"16:30:00"},{"$f":"VLOOKUP(VLOOKUP($C87,'Base Information'!$D$91:$G$152,1,FALSE),$C$14:$X$77,2,FALSE)+VLOOKUP(VLOOKUP($C87,'Base Information'!$D$91:$G$152,2,FALSE),$C$14:$X$77,2,FALSE)+VLOOKUP(VLOOKUP($C87,'Base Information'!$D$91:$G$152,3,FALSE),$C$14:$X$77,2,FALSE)+VLOOKUP(VLOOKUP($C87,'Base Information'!$D$91:$G$152,4,FALSE),$C$14:$X$77,2,FALSE)","v":0},{"$f":"VLOOKUP(VLOOKUP($C87,'Base Information'!$D$91:$G$152,1,FALSE),$C$14:$X$77,3,FALSE)+VLOOKUP(VLOOKUP($C87,'Base Information'!$D$91:$G$152,2,FALSE),$C$14:$X$77,3,FALSE)+VLOOKUP(VLOOKUP($C87,'Base Information'!$D$91:$G$152,3,FALSE),$C$14:$X$77,3,FALSE)+VLOOKUP(VLOOKUP($C87,'Base Information'!$D$91:$G$152,4,FALSE),$C$14:$X$77,3,FALSE)","v":0},{"$f":"VLOOKUP(VLOOKUP($C87,'Base Information'!$D$91:$G$152,1,FALSE),$C$14:$X$77,4,FALSE)+VLOOKUP(VLOOKUP($C87,'Base Information'!$D$91:$G$152,2,FALSE),$C$14:$X$77,4,FALSE)+VLOOKUP(VLOOKUP($C87,'Base Information'!$D$91:$G$152,3,FALSE),$C$14:$X$77,4,FALSE)+VLOOKUP(VLOOKUP($C87,'Base Information'!$D$91:$G$152,4,FALSE),$C$14:$X$77,4,FALSE)","v":0},{"$f":"VLOOKUP(VLOOKUP($C87,'Base Information'!$D$91:$G$152,1,FALSE),$C$14:$X$77,5,FALSE)+VLOOKUP(VLOOKUP($C87,'Base Information'!$D$91:$G$152,2,FALSE),$C$14:$X$77,5,FALSE)+VLOOKUP(VLOOKUP($C87,'Base Information'!$D$91:$G$152,3,FALSE),$C$14:$X$77,5,FALSE)+VLOOKUP(VLOOKUP($C87,'Base Information'!$D$91:$G$152,4,FALSE),$C$14:$X$77,5,FALSE)","v":0},{"$f":"SUM(D87:G87)","v":0},{"$f":"VLOOKUP(VLOOKUP($C87,'Base Information'!$D$91:$G$152,1,FALSE),$C$14:$X$77,7,FALSE)+VLOOKUP(VLOOKUP($C87,'Base Information'!$D$91:$G$152,2,FALSE),$C$14:$X$77,7,FALSE)+VLOOKUP(VLOOKUP($C87,'Base Information'!$D$91:$G$152,3,FALSE),$C$14:$X$77,7,FALSE)+VLOOKUP(VLOOKUP($C87,'Base Information'!$D$91:$G$152,4,FALSE),$C$14:$X$77,7,FALSE)","v":64},{"$f":"VLOOKUP(VLOOKUP($C87,'Base Information'!$D$91:$G$152,1,FALSE),$C$14:$X$77,8,FALSE)+VLOOKUP(VLOOKUP($C87,'Base Information'!$D$91:$G$152,2,FALSE),$C$14:$X$77,8,FALSE)+VLOOKUP(VLOOKUP($C87,'Base Information'!$D$91:$G$152,3,FALSE),$C$14:$X$77,8,FALSE)+VLOOKUP(VLOOKUP($C87,'Base Information'!$D$91:$G$152,4,FALSE),$C$14:$X$77,8,FALSE)","v":592},{"$f":"VLOOKUP(VLOOKUP($C87,'Base Information'!$D$91:$G$152,1,FALSE),$C$14:$X$77,9,FALSE)+VLOOKUP(VLOOKUP($C87,'Base Information'!$D$91:$G$152,2,FALSE),$C$14:$X$77,9,FALSE)+VLOOKUP(VLOOKUP($C87,'Base Information'!$D$91:$G$152,3,FALSE),$C$14:$X$77,9,FALSE)+VLOOKUP(VLOOKUP($C87,'Base Information'!$D$91:$G$152,4,FALSE),$C$14:$X$77,9,FALSE)","v":0},{"$f":"VLOOKUP(VLOOKUP($C87,'Base Information'!$D$91:$G$152,1,FALSE),$C$14:$X$77,10,FALSE)+VLOOKUP(VLOOKUP($C87,'Base Information'!$D$91:$G$152,2,FALSE),$C$14:$X$77,10,FALSE)+VLOOKUP(VLOOKUP($C87,'Base Information'!$D$91:$G$152,3,FALSE),$C$14:$X$77,10,FALSE)+VLOOKUP(VLOOKUP($C87,'Base Information'!$D$91:$G$152,4,FALSE),$C$14:$X$77,10,FALSE)","v":0},{"$f":"SUM(I87:L87)","v":656},{"$f":"VLOOKUP(VLOOKUP($C87,'Base Information'!$D$91:$G$152,1,FALSE),$C$14:$X$77,12,FALSE)+VLOOKUP(VLOOKUP($C87,'Base Information'!$D$91:$G$152,2,FALSE),$C$14:$X$77,12,FALSE)+VLOOKUP(VLOOKUP($C87,'Base Information'!$D$91:$G$152,3,FALSE),$C$14:$X$77,12,FALSE)+VLOOKUP(VLOOKUP($C87,'Base Information'!$D$91:$G$152,4,FALSE),$C$14:$X$77,12,FALSE)","v":522},{"$f":"VLOOKUP(VLOOKUP($C87,'Base Information'!$D$91:$G$152,1,FALSE),$C$14:$X$77,13,FALSE)+VLOOKUP(VLOOKUP($C87,'Base Information'!$D$91:$G$152,2,FALSE),$C$14:$X$77,13,FALSE)+VLOOKUP(VLOOKUP($C87,'Base Information'!$D$91:$G$152,3,FALSE),$C$14:$X$77,13,FALSE)+VLOOKUP(VLOOKUP($C87,'Base Information'!$D$91:$G$152,4,FALSE),$C$14:$X$77,13,FALSE)","v":0},{"$f":"VLOOKUP(VLOOKUP($C87,'Base Information'!$D$91:$G$152,1,FALSE),$C$14:$X$77,14,FALSE)+VLOOKUP(VLOOKUP($C87,'Base Information'!$D$91:$G$152,2,FALSE),$C$14:$X$77,14,FALSE)+VLOOKUP(VLOOKUP($C87,'Base Information'!$D$91:$G$152,3,FALSE),$C$14:$X$77,14,FALSE)+VLOOKUP(VLOOKUP($C87,'Base Information'!$D$91:$G$152,4,FALSE),$C$14:$X$77,14,FALSE)","v":413},{"$f":"VLOOKUP(VLOOKUP($C87,'Base Information'!$D$91:$G$152,1,FALSE),$C$14:$X$77,15,FALSE)+VLOOKUP(VLOOKUP($C87,'Base Information'!$D$91:$G$152,2,FALSE),$C$14:$X$77,15,FALSE)+VLOOKUP(VLOOKUP($C87,'Base Information'!$D$91:$G$152,3,FALSE),$C$14:$X$77,15,FALSE)+VLOOKUP(VLOOKUP($C87,'Base Information'!$D$91:$G$152,4,FALSE),$C$14:$X$77,15,FALSE)","v":0},{"$f":"SUM(N87:Q87)","v":935},{"$f":"VLOOKUP(VLOOKUP($C87,'Base Information'!$D$91:$G$152,1,FALSE),$C$14:$X$77,17,FALSE)+VLOOKUP(VLOOKUP($C87,'Base Information'!$D$91:$G$152,2,FALSE),$C$14:$X$77,17,FALSE)+VLOOKUP(VLOOKUP($C87,'Base Information'!$D$91:$G$152,3,FALSE),$C$14:$X$77,17,FALSE)+VLOOKUP(VLOOKUP($C87,'Base Information'!$D$91:$G$152,4,FALSE),$C$14:$X$77,17,FALSE)","v":0},{"$f":"VLOOKUP(VLOOKUP($C87,'Base Information'!$D$91:$G$152,1,FALSE),$C$14:$X$77,18,FALSE)+VLOOKUP(VLOOKUP($C87,'Base Information'!$D$91:$G$152,2,FALSE),$C$14:$X$77,18,FALSE)+VLOOKUP(VLOOKUP($C87,'Base Information'!$D$91:$G$152,3,FALSE),$C$14:$X$77,18,FALSE)+VLOOKUP(VLOOKUP($C87,'Base Information'!$D$91:$G$152,4,FALSE),$C$14:$X$77,18,FALSE)","v":544},{"$f":"VLOOKUP(VLOOKUP($C87,'Base Information'!$D$91:$G$152,1,FALSE),$C$14:$X$77,19,FALSE)+VLOOKUP(VLOOKUP($C87,'Base Information'!$D$91:$G$152,2,FALSE),$C$14:$X$77,19,FALSE)+VLOOKUP(VLOOKUP($C87,'Base Information'!$D$91:$G$152,3,FALSE),$C$14:$X$77,19,FALSE)+VLOOKUP(VLOOKUP($C87,'Base Information'!$D$91:$G$152,4,FALSE),$C$14:$X$77,19,FALSE)","v":109},{"$f":"VLOOKUP(VLOOKUP($C87,'Base Information'!$D$91:$G$152,1,FALSE),$C$14:$X$77,20,FALSE)+VLOOKUP(VLOOKUP($C87,'Base Information'!$D$91:$G$152,2,FALSE),$C$14:$X$77,20,FALSE)+VLOOKUP(VLOOKUP($C87,'Base Information'!$D$91:$G$152,3,FALSE),$C$14:$X$77,20,FALSE)+VLOOKUP(VLOOKUP($C87,'Base Information'!$D$91:$G$152,4,FALSE),$C$14:$X$77,20,FALSE)","v":0},{"$f":"SUM(S87:V87)","v":653},{"$f":"H87+M87+R87+W87","v":2244},null,{"$f":"VLOOKUP($C87,$C$14:$AA$77,25,FALSE)","v":0.92421746293245466}]

{"sheet":"Daily & Seasonal Factors","index":14,"n_rows":581,"n_cols":24,"rows_kept":581,"cut":false,"hidden":false,"merged":[[15,8,15,11],[4,8,4,11],[6,8,6,11],[7,8,7,11],[8,8,8,11],[9,8,9,11],[10,8,10,11],[11,8,11,11],[12,8,12,11],[13,8,13,11],[30,8,30,11],[17,8,17,11],[18,8,18,11],[19,8,19,11],[20,8,20,11],[21,8,21,11],[22,8,22,11],[23,8,23,11],[24,8,24,11],[26,8,26,11],[28,8,28,11],[29,8,29,11],[44,8,44,11],[31,8,31,11],[32,8,32,11],[33,8,33,11],[34,8,34,11],[35,8,35,11],[37,8,37,11],[39,8,39,11],[40,8,40,11],[41,8,41,11],[42,8,42,11],[43,8,43,11],[57,8,57,11],[59,8,59,11],[45,8,45,11],[46,8,46,11],[48,8,48,11],[50,8,50,11],[51,8,51,11],[52,8,52,11],[67,8,67,11],[68,8,68,11],[72,8,72,12],[72,17,72,18],[1,8,1,23],[2,8,2,23],[61,8,61,11],[62,8,62,11],[63,8,63,11],[64,8,64,11],[65,8,65,11],[66,8,66,11],[53,8,53,11],[54,8,54,11],[55,8,55,11],[56,8,56,11]]}
[]
[null,null,null,null,null,null,null,null,"Wisconsin Department of Transportation"]
[null,null,null,null,null,null,null,null,"Daily and Seasonal Factors for 2010"]
[null,"Seasonal","Daily","Text for","Adjustment"]
["Growth Factor Group","Month","Day","Vlookup","Factor",null,null,null,"1 Urban Interstate",null,null,null,"Jan","Feb","Mar","Apr","May","Jun","Jul","Aug","Sep","Oct","Nov","Dec"]
["(1) Urban Interstate","January","Seasonal",{"$f":"CONCATENATE(A6,B6,C6)","v":"(1) Urban InterstateJanuarySeasonal"},{"$f":"M$7","v":1.151},null,null,null,null,null,null,null,"factor","factor","factor","factor","factor","factor","factor","factor","factor","factor","factor","factor"]
["(1) Urban Interstate","January","Sunday",{"$f":"CONCATENATE(A7,B7,C7)","v":"(1) Urban InterstateJanuarySunday"},{"$f":"M$8","v":1.44},null,null,null,"SEASONAL",null,null,null,1.151,1.0760000000000001,1.0250000000000001,0.9920000000000001,0.97400000000000009,0.93100000000000005,0.93300000000000016,0.91900000000000004,0.97300000000000009,0.97800000000000009,1.0310000000000001,1.089]
["(1) Urban Interstate","January","Monday","(1) Urban InterstateJanuaryMonday",{"$f":"M$9","v":0.94900000000000007},null,null,null,"Sunday",null,null,null,1.44,1.357,1.3630000000000002,1.35,1.325,1.2730000000000001,1.3030000000000002,1.242,1.3130000000000002,1.32,1.3560000000000003,1.3090000000000002]
["(1) Urban Interstate","January","Tuesday","(1) Urban InterstateJanuaryTuesday",{"$f":"M$10","v":0.89900000000000002},null,null,null,"Monday",null,null,null,0.94900000000000007,0.97200000000000009,0.9750000000000002,0.96400000000000008,1.0050000000000001,0.97100000000000009,1.0310000000000001,0.9860000000000001,1.046,0.96800000000000008,0.95200000000000007,0.96800000000000008]
["(1) Urban Interstate","January","Wednesday","(1) Urban InterstateJanuaryWednesday",{"$f":"M$11","v":0.88200000000000001},null,null,null,"Tuesday",null,null,null,0.89900000000000002,1.0390000000000001,0.94500000000000006,0.95100000000000007,0.94900000000000007,0.96800000000000008,0.93800000000000017,0.96,0.93800000000000017,0.98,0.91,0.95200000000000007]
["(1) Urban Interstate","January","Thursday","(1) Urban InterstateJanuaryThursday",{"$f":"M$12","v":0.94800000000000018},null,null,null,"Wednesday",null,null,null,0.88200000000000001,0.95300000000000018,0.93600000000000005,0.93800000000000017,0.92100000000000015,0.93900000000000006,0.92700000000000005,0.94400000000000006,0.93700000000000006,0.95600000000000007,0.89200000000000002,0.94600000000000006]
["(1) Urban Interstate","January","Friday","(1) Urban InterstateJanuaryFriday",{"$f":"M$13","v":0.92900000000000005},null,null,null,"Thursday",null,null,null,0.94800000000000018,0.88400000000000012,0.92,0.91200000000000003,0.90500000000000003,0.93,0.91400000000000003,0.92600000000000016,0.91600000000000015,0.91100000000000014,0.99900000000000011,0.96600000000000008]
["(1) Urban Interstate","January","Saturday","(1) Urban InterstateJanuarySaturday",{"$f":"M$14","v":1.157},null,null,null,"Friday",null,null,null,0.92900000000000005,0.84800000000000009,0.875,0.875,0.876,0.89200000000000002,0.875,0.89900000000000002,0.84800000000000009,0.85600000000000009,0.90900000000000003,0.92900000000000005]
["(1) Urban Interstate","February","Seasonal","(1) Urban InterstateFebruarySeasonal",{"$f":"N$7","v":1.0760000000000001},null,null,null,"Saturday",null,null,null,1.157,1.111,1.1420000000000001,1.167,1.171,1.1320000000000001,1.1500000000000001,1.1400000000000001,1.1599999999999999,1.1520000000000001,1.1440000000000001,1.1380000000000001]
["(1) Urban Interstate","February","Sunday","(1) Urban InterstateFebruarySunday",{"$f":"N$8","v":1.357}]
["(1) Urban Interstate","February","Monday","(1) Urban InterstateFebruaryMonday",{"$f":"N$9","v":0.97200000000000009},null,null,null,"2 Urban Arterials & Collectors",null,null,null,"Jan","Feb","Mar","Apr","May","Jun","Jul","Aug","Sep","Oct","Nov","Dec"]
["(1) Urban Interstate","February","Tuesday","(1) Urban InterstateFebruaryTuesday",{"$f":"N$10","v":1.0390000000000001},null,null,null,null,null,null,null,"factor","factor","factor","factor","factor","factor","factor","factor","factor","factor","factor","factor"]
["(1) Urban Interstate","February","Wednesday","(1) Urban InterstateFebruaryWednesday",{"$f":"N$11","v":0.95300000000000018},null,null,null,"SEASONAL",null,null,null,1.1420000000000001,1.081,1.0250000000000001,0.99,0.96600000000000008,0.93900000000000006,0.94800000000000018,0.93,0.96600000000000008,0.95600000000000007,1.0270000000000001,1.093]
["(1) Urban Interstate","February","Thursday","(1) Urban InterstateFebruaryThursday",{"$f":"N$12","v":0.88400000000000012},null,null,null,"Sunday",null,null,null,1.4910000000000003,1.3940000000000001,1.3880000000000001,1.3880000000000001,1.3360000000000001,1.3460000000000003,1.3680000000000001,1.3320000000000003,1.359,1.401,1.421,1.57]
["(1) Urban Interstate","February","Friday","(1) Urban InterstateFebruaryFriday",{"$f":"N$13","v":0.84800000000000009},null,null,null,"Monday",null,null,null,0.93900000000000006,0.97300000000000009,0.97600000000000009,0.96,1.028,0.97300000000000009,1.0210000000000001,0.96800000000000008,1.0660000000000001,0.96900000000000008,0.94100000000000006,0.93700000000000006]
["(1) Urban Interstate","February","Saturday","(1) Urban InterstateFebruarySaturday",{"$f":"N$14","v":1.111},null,null,null,"Tuesday",null,null,null,0.89300000000000002,1.038,0.95000000000000007,0.95200000000000007,0.95200000000000007,0.95600000000000007,0.93500000000000005,0.95000000000000007,0.93400000000000005,0.96300000000000019,0.91,0.91800000000000004]
["(1) Urban Interstate","March","Seasonal","(1) Urban InterstateMarchSeasonal",{"$f":"O$7","v":1.0250000000000001},null,null,null,"Wednesday",null,null,null,0.88400000000000012,0.93400000000000005,0.93700000000000006,0.93500000000000005,0.92400000000000004,0.93300000000000016,0.92300000000000015,0.93100000000000005,0.92100000000000015,0.94400000000000006,0.89600000000000013,0.88400000000000012]
["(1) Urban Interstate","March","Sunday","(1) Urban InterstateMarchSunday",{"$f":"O$8","v":1.3630000000000002},null,null,null,"Thursday",null,null,null,0.95900000000000007,0.89700000000000002,0.92700000000000005,0.91600000000000015,0.90400000000000003,0.91,0.90400000000000003,0.91200000000000003,0.91100000000000014,0.91500000000000004,1.004,0.89800000000000002]
["(1) Urban Interstate","March","Monday","(1) Urban InterstateMarchMonday",{"$f":"O$9","v":0.9750000000000002},null,null,null,"Friday",null,null,null,0.91600000000000015,0.84200000000000008,0.8640000000000001,0.86699999999999999,0.86599999999999999,0.88200000000000001,0.8620000000000001,0.89600000000000013,0.84800000000000009,0.85300000000000009,0.875,0.89700000000000002]
["(1) Urban Interstate","March","Tuesday","(1) Urban InterstateMarchTuesday",{"$f":"O$10","v":0.94500000000000006},null,null,null,"Saturday",null,null,null,1.17,1.1180000000000001,1.139,1.1760000000000002,1.1580000000000001,1.1640000000000001,1.1850000000000001,1.18,1.1620000000000001,1.153,1.1890000000000001,1.323]
["(1) Urban Interstate","March","Wednesday","(1) Urban InterstateMarchWednesday",{"$f":"O$11","v":0.93600000000000005}]
["(1) Urban Interstate","March","Thursday","(1) Urban InterstateMarchThursday",{"$f":"O$12","v":0.92},null,null,null,"3 Rural Interstate",null,null,null,"Jan","Feb","Mar","Apr","May","Jun","Jul","Aug","Sep","Oct","Nov","Dec"]
["(1) Urban Interstate","March","Friday","(1) Urban InterstateMarchFriday",{"$f":"O$13","v":0.875},null,null,null,null,null,null,null,"factor","factor","factor","factor","factor","factor","factor","factor","factor","factor","factor","factor"]
["(1) Urban Interstate","March","Saturday","(1) Urban InterstateMarchSaturday",{"$f":"O$14","v":1.1420000000000001},null,null,null,"SEASONAL",null,null,null,1.234,1.1620000000000001,1.0760000000000001,1.032,0.97700000000000009,0.90500000000000003,0.86799999999999999,0.84800000000000009,0.94600000000000006,0.95700000000000007,1.026,1.133]
["(1) Urban Interstate","April","Seasonal","(1) Urban InterstateAprilSeasonal",{"$f":"P$7","v":0.9920000000000001},null,null,null,"Sunday",null,null,null,1.171,1.111,1.1060000000000001,1.0629999999999999,1.071,1.016,1.0620000000000001,0.9880000000000001,1.0629999999999999,1.0370000000000001,1.075,1.1560000000000001]
["(1) Urban Interstate","April","Sunday","(1) Urban InterstateAprilSunday",{"$f":"P$8","v":1.35},null,null,null,"Monday",null,null,null,0.9840000000000001,1.042,1.048,1.018,1.0310000000000001,1.0410000000000001,1.02,1.0570000000000002,1.0270000000000001,1.0190000000000001,1.0510000000000002,0.97200000000000009]
["(1) Urban Interstate","April","Monday","(1) Urban InterstateAprilMonday",{"$f":"P$9","v":0.96400000000000008},null,null,null,"Tuesday",null,null,null,0.97,1.129,1.038,1.0490000000000002,1.075,1.0640000000000001,1.073,1.095,1.0649999999999999,1.095,1.0330000000000001,0.9840000000000001]
["(1) Urban Interstate","April","Tuesday","(1) Urban InterstateAprilTuesday",{"$f":"P$10","v":0.95100000000000007},null,null,null,"Wednesday",null,null,null,0.94600000000000006,1.0290000000000001,1.0090000000000001,1.028,1.036,1.0330000000000001,1.0470000000000002,1.0450000000000002,1.056,1.0530000000000002,0.94200000000000006,0.92600000000000016]
["(1) Urban Interstate","April","Wednesday","(1) Urban InterstateAprilWednesday",{"$f":"P$11","v":0.93800000000000017},null,null,null,"Thursday",null,null,null,1.036,0.93100000000000005,0.96300000000000019,0.95100000000000007,0.96,0.97400000000000009,0.96500000000000019,0.96200000000000008,0.9840000000000001,0.96200000000000008,0.9880000000000001,0.91900000000000004]
["(1) Urban Interstate","April","Thursday","(1) Urban InterstateAprilThursday",{"$f":"P$12","v":0.91200000000000003},null,null,null,"Friday",null,null,null,0.9,0.80500000000000005,0.82500000000000007,0.84600000000000009,0.82300000000000018,0.85300000000000009,0.83100000000000007,0.8590000000000001,0.81300000000000017,0.82200000000000006,0.86,0.92100000000000015]
["(1) Urban Interstate","April","Friday","(1) Urban InterstateAprilFriday",{"$f":"P$13","v":0.875},null,null,null,"Saturday",null,null,null,1.0580000000000001,1.046,1.08,1.109,1.0740000000000001,1.0660000000000001,1.0649999999999999,1.0470000000000002,1.0640000000000001,1.0940000000000001,1.113,1.2530000000000001]
["(1) Urban Interstate","April","Saturday","(1) Urban InterstateAprilSaturday",{"$f":"P$14","v":1.167}]
["(1) Urban Interstate","May","Seasonal","(1) Urban InterstateMaySeasonal",{"$f":"Q$7","v":0.97400000000000009},null,null,null,"4 Rural Arterials & Collectors",null,null,null,"Jan","Feb","Mar","Apr","May","Jun","Jul","Aug","Sep","Oct","Nov","Dec"]
["(1) Urban Interstate","May","Sunday","(1) Urban InterstateMaySunday",{"$f":"Q$8","v":1.325},null,null,null,null,null,null,null,"factor","factor","factor","factor","factor","factor","factor","factor","factor","factor","factor","factor"]
["(1) Urban Interstate","May","Monday","(1) Urban InterstateMayMonday",{"$f":"Q$9","v":1.0050000000000001},null,null,null,"SEASONAL",null,null,null,1.2390000000000001,1.171,1.093,1.018,0.94500000000000006,0.91700000000000004,0.875,0.871,0.92900000000000005,0.94500000000000006,1.018,1.165]
["(1) Urban Interstate","May","Tuesday","(1) Urban InterstateMayTuesday",{"$f":"Q$10","v":0.94900000000000007},null,null,null,"Sunday",null,null,null,1.3260000000000001,1.23,1.2190000000000001,1.161,1.1080000000000001,1.1160000000000001,1.135,1.089,1.141,1.1860000000000002,1.258,1.4240000000000002]
["(1) Urban Interstate","May","Wednesday","(1) Urban InterstateMayWednesday",{"$f":"Q$11","v":0.92100000000000015},null,null,null,"Monday",null,null,null,0.97200000000000009,1.016,1.026,1.0050000000000001,1.046,1.0330000000000001,1.0760000000000001,1.05,1.077,1.0270000000000001,1.012,0.96]
["(1) Urban Interstate","May","Thursday","(1) Urban InterstateMayThursday",{"$f":"Q$12","v":0.90500000000000003},null,null,null,"Tuesday",null,null,null,0.93800000000000017,1.129,1.0030000000000001,1.0230000000000001,1.0589999999999999,1.0370000000000001,1.04,1.052,1.04,1.048,0.99299999999999999,0.94800000000000018]
["(1) Urban Interstate","May","Friday","(1) Urban InterstateMayFriday",{"$f":"Q$13","v":0.876},null,null,null,"Wednesday",null,null,null,0.93200000000000005,0.9830000000000001,0.99099999999999999,1.002,1.02,1.0130000000000001,1.0210000000000001,1.014,1.0350000000000001,1.0190000000000001,0.94800000000000018,0.90100000000000013]
["(1) Urban Interstate","May","Saturday","(1) Urban InterstateMaySaturday",{"$f":"Q$14","v":1.171},null,null,null,"Thursday",null,null,null,1.0190000000000001,0.92,0.96100000000000008,0.96600000000000008,0.96500000000000019,0.96300000000000019,0.95900000000000007,0.96800000000000008,0.9840000000000001,0.95400000000000007,0.97300000000000009,0.90100000000000013]
["(1) Urban Interstate","June","Seasonal","(1) Urban InterstateJuneSeasonal",{"$f":"R$7","v":0.93100000000000005},null,null,null,"Friday",null,null,null,0.89100000000000001,0.82300000000000018,0.8450000000000002,0.85100000000000009,0.84400000000000008,0.87,0.84,0.87,0.81900000000000006,0.83400000000000007,0.84800000000000009,0.87900000000000011]
["(1) Urban Interstate","June","Sunday","(1) Urban InterstateJuneSunday",{"$f":"R$8","v":1.2730000000000001},null,null,null,"Saturday",null,null,null,1.075,1.054,1.0640000000000001,1.0920000000000001,1.0589999999999999,1.0490000000000002,1.0450000000000002,1.0510000000000002,1.0470000000000002,1.06,1.1200000000000001,1.2530000000000001]
["(1) Urban Interstate","June","Monday","(1) Urban InterstateJuneMonday",{"$f":"R$9","v":0.97100000000000009}]
["(1) Urban Interstate","June","Tuesday","(1) Urban InterstateJuneTuesday",{"$f":"R$10","v":0.96800000000000008},null,null,null,"5 Tourist/Recreational Interstate",null,null,null,"Jan","Feb","Mar","Apr","May","Jun","Jul","Aug","Sep","Oct","Nov","Dec"]
["(1) Urban Interstate","June","Wednesday","(1) Urban InterstateJuneWednesday",{"$f":"R$11","v":0.93900000000000006},null,null,null,null,null,null,null,"factor","factor","factor","factor","factor","factor","factor","factor","factor","factor","factor","factor"]
["(1) Urban Interstate","June","Thursday","(1) Urban InterstateJuneThursday",{"$f":"R$12","v":0.93},null,null,null,"SEASONAL",null,null,null,1.3480000000000001,1.2730000000000001,1.1360000000000001,1.0740000000000001,0.97400000000000009,0.84800000000000009,0.76700000000000002,0.78200000000000003,0.92300000000000015,0.98700000000000021,1.03,1.2450000000000001]
["(1) Urban Interstate","June","Friday","(1) Urban InterstateJuneFriday",{"$f":"R$13","v":0.89200000000000002},null,null,null,"Sunday",null,null,null,0.89300000000000002,0.85300000000000009,0.872,0.83200000000000007,0.91300000000000003,0.82600000000000007,0.94200000000000006,0.79100000000000015,0.87900000000000011,0.81400000000000006,0.80600000000000005,0.97800000000000009]
["(1) Urban Interstate","June","Saturday","(1) Urban InterstateJuneSaturday",{"$f":"R$14","v":1.1320000000000001},null,null,null,"Monday",null,null,null,1.0660000000000001,1.1420000000000001,1.1580000000000001,1.087,1.0290000000000001,1.1340000000000001,0.998,1.1220000000000001,1.0370000000000001,1.1360000000000001,1.1970000000000001,0.98100000000000009]
["(1) Urban Interstate","July","Seasonal","(1) Urban InterstateJulySeasonal",{"$f":"S$7","v":0.93300000000000016},null,null,null,"Tuesday",null,null,null,1.1100000000000001,1.266,1.1860000000000002,1.2030000000000001,1.266,1.22,1.2450000000000001,1.278,1.2650000000000001,1.264,1.198,1.028]
["(1) Urban Interstate","July","Sunday","(1) Urban InterstateJulySunday",{"$f":"S$8","v":1.3030000000000002},null,null,null,"Wednesday",null,null,null,1.0430000000000001,1.127,1.099,1.1620000000000001,1.1720000000000002,1.1680000000000001,1.216,1.173,1.2210000000000001,1.179,0.9830000000000001,0.92900000000000005]
["(1) Urban Interstate","July","Monday","(1) Urban InterstateJulyMonday",{"$f":"S$9","v":1.0310000000000001},null,null,null,"Thursday",null,null,null,1.0740000000000001,0.97200000000000009,1,0.97800000000000009,0.9880000000000001,1.032,1.0130000000000001,1.038,1.089,0.99900000000000011,1.05,0.89700000000000002]
["(1) Urban Interstate","July","Tuesday","(1) Urban InterstateJulyTuesday",{"$f":"S$10","v":0.93800000000000017},null,null,null,"Friday",null,null,null,0.83700000000000008,0.75400000000000011,0.75800000000000001,0.78200000000000003,0.74299999999999999,0.79600000000000015,0.77400000000000002,0.80900000000000005,0.7340000000000001,0.748,0.82300000000000018,0.92500000000000004]
["(1) Urban Interstate","July","Wednesday","(1) Urban InterstateJulyWednesday",{"$f":"S$11","v":0.92700000000000005},null,null,null,"Saturday",null,null,null,1.0550000000000002,1.1060000000000001,1.0960000000000001,1.143,1.0840000000000001,1.0010000000000001,0.9820000000000001,0.998,1,1.1020000000000001,1.1160000000000001,1.42]
["(1) Urban Interstate","July","Thursday","(1) Urban InterstateJulyThursday",{"$f":"S$12","v":0.91400000000000003}]
["(1) Urban Interstate","July","Friday","(1) Urban InterstateJulyFriday",{"$f":"S$13","v":0.875},null,null,null,"6 Tourist/Rec Arterials/Collectors",null,null,null,"Jan","Feb","Mar","Apr","May","Jun","Jul","Aug","Sep","Oct","Nov","Dec"]
["(1) Urban Interstate","July","Saturday","(1) Urban InterstateJulySaturday",{"$f":"S$14","v":1.1500000000000001},null,null,null,null,null,null,null,"factor","factor","factor","factor","factor","factor","factor","factor","factor","factor","factor","factor"]
["(1) Urban Interstate","August","Seasonal","(1) Urban InterstateAugustSeasonal",{"$f":"T$7","v":0.91900000000000004},null,null,null,"SEASONAL",null,null,null,1.3680000000000001,1.24,1.2370000000000001,1.123,0.93600000000000005,0.877,0.746,0.78400000000000003,0.8620000000000001,0.94200000000000006,1.089,1.33]
["(1) Urban Interstate","August","Sunday","(1) Urban InterstateAugustSunday",{"$f":"T$8","v":1.242},null,null,null,"Sunday",null,null,null,1.1880000000000002,1.07,1.093,1.073,0.96200000000000008,0.97700000000000009,0.96900000000000008,0.91100000000000014,0.97100000000000009,0.99299999999999999,1.109,1.262]
["(1) Urban Interstate","August","Monday","(1) Urban InterstateAugustMonday",{"$f":"T$9","v":0.9860000000000001},null,null,null,"Monday",null,null,null,1.0350000000000001,1.1000000000000001,1.073,1.0570000000000002,1.0010000000000001,1.0840000000000001,1.0350000000000001,1.1200000000000001,1.0170000000000001,1.0980000000000001,1.0880000000000001,0.9750000000000002]
["(1) Urban Interstate","August","Tuesday","(1) Urban InterstateAugustTuesday",{"$f":"T$10","v":0.96},null,null,null,"Tuesday",null,null,null,1.016,1.1740000000000002,1.0580000000000001,1.0760000000000001,1.2290000000000001,1.111,1.179,1.1890000000000001,1.1780000000000002,1.1880000000000002,1.0860000000000001,0.99099999999999999]
["(1) Urban Interstate","August","Wednesday","(1) Urban InterstateAugustWednesday",{"$f":"T$11","v":0.94400000000000006},null,null,null,"Wednesday",null,null,null,0.99900000000000011,1.1060000000000001,1.026,1.0550000000000002,1.17,1.093,1.173,1.1220000000000001,1.1840000000000002,1.151,1.0030000000000001,0.91700000000000004]
["(1) Urban Interstate","August","Thursday","(1) Urban InterstateAugustThursday",{"$f":"T$12","v":0.92600000000000016},null,null,null,"Thursday",null,null,null,1.0070000000000001,0.97600000000000009,0.998,0.998,1.0669999999999999,1.0170000000000001,1.0490000000000002,1.0230000000000001,1.0960000000000001,1.032,0.9880000000000001,0.91200000000000003]
["(1) Urban Interstate","August","Friday","(1) Urban InterstateAugustFriday",{"$f":"T$13","v":0.89900000000000002},null,null,null,"Friday",null,null,null,0.85400000000000009,0.79600000000000015,0.84100000000000008,0.81500000000000006,0.79800000000000015,0.84600000000000009,0.81900000000000006,0.84,0.80400000000000005,0.79500000000000004,0.79400000000000004,0.88400000000000012]
["(1) Urban Interstate","August","Saturday","(1) Urban InterstateAugustSaturday",{"$f":"T$14","v":1.1400000000000001},null,null,null,"Saturday",null,null,null,1.0310000000000001,0.97200000000000009,1.0090000000000001,1.044,0.97100000000000009,0.97900000000000009,0.93300000000000016,0.95500000000000007,0.94100000000000006,0.94600000000000006,1.1120000000000001,1.2390000000000001]
["(1) Urban Interstate","September","Seasonal","(1) Urban InterstateSeptemberSeasonal",{"$f":"U$7","v":0.97300000000000009}]
["(1) Urban Interstate","September","Sunday",{"$f":"CONCATENATE(A71,B71,C71)","v":"(1) Urban InterstateSeptemberSunday"},{"$f":"U$8","v":1.3130000000000002}]
["(1) Urban Interstate","September","Monday","(1) Urban InterstateSeptemberMonday",{"$f":"U$9","v":1.046}]
["(1) Urban Interstate","September","Tuesday","(1) Urban InterstateSeptemberTuesday",{"$f":"U$10","v":0.93800000000000017},null,null,null,"2011-02-10T09:49:52",null,null,null,null,null,null,null,null,"FG03:"]
["(1) Urban Interstate","September","Wednesday","(1) Urban InterstateSeptemberWednesday",{"$f":"U$11","v":0.93700000000000006}]
["(1) Urban Interstate","September","Thursday","(1) Urban InterstateSeptemberThursday",{"$f":"U$12","v":0.91600000000000015}]
["(1) Urban Interstate","September","Friday","(1) Urban InterstateSeptemberFriday",{"$f":"U$13","v":0.84800000000000009}]
["(1) Urban Interstate","September","Saturday","(1) Urban InterstateSeptemberSaturday",{"$f":"U$14","v":1.1599999999999999}]
["(1) Urban Interstate","October","Seasonal","(1) Urban InterstateOctoberSeasonal",{"$f":"V$7","v":0.97800000000000009}]
["(1) Urban Interstate","October","Sunday","(1) Urban InterstateOctoberSunday",{"$f":"V$8","v":1.32}]
["(1) Urban Interstate","October","Monday","(1) Urban InterstateOctoberMonday",{"$f":"V$9","v":0.96800000000000008}]
["(1) Urban Interstate","October","Tuesday","(1) Urban InterstateOctoberTuesday",{"$f":"V$10","v":0.98}]
["(1) Urban Interstate","October","Wednesday","(1) Urban InterstateOctoberWednesday",{"$f":"V$11","v":0.95600000000000007}]
["(1) Urban Interstate","October","Thursday","(1) Urban InterstateOctoberThursday",{"$f":"V$12","v":0.91100000000000014}]
["(1) Urban Interstate","October","Friday","(1) Urban InterstateOctoberFriday",{"$f":"V$13","v":0.85600000000000009}]
["(1) Urban Interstate","October","Saturday","(1) Urban InterstateOctoberSaturday",{"$f":"V$14","v":1.1520000000000001}]
["(1) Urban Interstate","November","Seasonal","(1) Urban InterstateNovemberSeasonal",{"$f":"W$7","v":1.0310000000000001}]
["(1) Urban Interstate","November","Sunday","(1) Urban InterstateNovemberSunday",{"$f":"W$8","v":1.3560000000000003}]
["(1) Urban Interstate","November","Monday","(1) Urban InterstateNovemberMonday",{"$f":"W$9","v":0.95200000000000007}]
["(1) Urban Interstate","November","Tuesday","(1) Urban InterstateNovemberTuesday",{"$f":"W$10","v":0.91}]
["(1) Urban Interstate","November","Wednesday","(1) Urban InterstateNovemberWednesday",{"$f":"W$11","v":0.89200000000000002}]
["(1) Urban Interstate","November","Thursday","(1) Urban InterstateNovemberThursday",{"$f":"W$12","v":0.99900000000000011}]
["(1) Urban Interstate","November","Friday","(1) Urban InterstateNovemberFriday",{"$f":"W$13","v":0.90900000000000003}]
["(1) Urban Interstate","November","Saturday","(1) Urban InterstateNovemberSaturday",{"$f":"W$14","v":1.1440000000000001}]
["(1) Urban Interstate","December","Seasonal","(1) Urban InterstateDecemberSeasonal",{"$f":"X$7","v":1.089}]
["(1) Urban Interstate","December","Sunday","(1) Urban InterstateDecemberSunday",{"$f":"X$8","v":1.3090000000000002}]
["(1) Urban Interstate","December","Monday","(1) Urban InterstateDecemberMonday",{"$f":"X$9","v":0.96800000000000008}]
["(1) Urban Interstate","December","Tuesday","(1) Urban InterstateDecemberTuesday",{"$f":"X$10","v":0.95200000000000007}]
["(1) Urban Interstate","December","Wednesday","(1) Urban InterstateDecemberWednesday",{"$f":"X$11","v":0.94600000000000006}]
["(1) Urban Interstate","December","Thursday","(1) Urban InterstateDecemberThursday",{"$f":"X$12","v":0.96600000000000008}]
["(1) Urban Interstate","December","Friday","(1) Urban InterstateDecemberFriday",{"$f":"X$13","v":0.92900000000000005}]
["(1) Urban Interstate","December","Saturday","(1) Urban InterstateDecemberSaturday",{"$f":"X$14","v":1.1380000000000001}]
["(2) Urban Arterials & Collectors","January","Seasonal","(2) Urban Arterials & CollectorsJanuarySeasonal",{"$f":"M$18","v":1.1420000000000001}]
["(2) Urban Arterials & Collectors","January","Sunday","(2) Urban Arterials & CollectorsJanuarySunday",{"$f":"M$19","v":1.4910000000000003}]
["(2) Urban Arterials & Collectors","January","Monday","(2) Urban Arterials & CollectorsJanuaryMonday",{"$f":"M$20","v":0.93900000000000006}]
["(2) Urban Arterials & Collectors","January","Tuesday","(2) Urban Arterials & CollectorsJanuaryTuesday",{"$f":"M$21","v":0.89300000000000002}]
["(2) Urban Arterials & Collectors","January","Wednesday","(2) Urban Arterials & CollectorsJanuaryWednesday",{"$f":"M$22","v":0.88400000000000012}]
["(2) Urban Arterials & Collectors","January","Thursday","(2) Urban Arterials & CollectorsJanuaryThursday",{"$f":"M$23","v":0.95900000000000007}]
["(2) Urban Arterials & Collectors","January","Friday","(2) Urban Arterials & CollectorsJanuaryFriday",{"$f":"M$24","v":0.91600000000000015}]
["(2) Urban Arterials & Collectors","January","Saturday","(2) Urban Arterials & CollectorsJanuarySaturday",{"$f":"M$25","v":1.17}]
["(2) Urban Arterials & Collectors","February","Seasonal","(2) Urban Arterials & CollectorsFebruarySeasonal",{"$f":"N$18","v":1.081}]
["(2) Urban Arterials & Collectors","February","Sunday","(2) Urban Arterials & CollectorsFebruarySunday",{"$f":"N$19","v":1.3940000000000001}]
["(2) Urban Arterials & Collectors","February","Monday","(2) Urban Arterials & CollectorsFebruaryMonday",{"$f":"N$20","v":0.97300000000000009}]
["(2) Urban Arterials & Collectors","February","Tuesday","(2) Urban Arterials & CollectorsFebruaryTuesday",{"$f":"N$21","v":1.038}]
["(2) Urban Arterials & Collectors","February","Wednesday","(2) Urban Arterials & CollectorsFebruaryWednesday",{"$f":"N$22","v":0.93400000000000005}]
["(2) Urban Arterials & Collectors","February","Thursday","(2) Urban Arterials & CollectorsFebruaryThursday",{"$f":"N$23","v":0.89700000000000002}]
["(2) Urban Arterials & Collectors","February","Friday","(2) Urban Arterials & CollectorsFebruaryFriday",{"$f":"N$24","v":0.84200000000000008}]
["(2) Urban Arterials & Collectors","February","Saturday","(2) Urban Arterials & CollectorsFebruarySaturday",{"$f":"N$25","v":1.1180000000000001}]
["(2) Urban Arterials & Collectors","March","Seasonal","(2) Urban Arterials & CollectorsMarchSeasonal",{"$f":"O$18","v":1.0250000000000001}]
["(2) Urban Arterials & Collectors","March","Sunday","(2) Urban Arterials & CollectorsMarchSunday",{"$f":"O$19","v":1.3880000000000001}]
["(2) Urban Arterials & Collectors","March","Monday","(2) Urban Arterials & CollectorsMarchMonday",{"$f":"O$20","v":0.97600000000000009}]
["(2) Urban Arterials & Collectors","March","Tuesday","(2) Urban Arterials & CollectorsMarchTuesday",{"$f":"O$21","v":0.95000000000000007}]
["(2) Urban Arterials & Collectors","March","Wednesday","(2) Urban Arterials & CollectorsMarchWednesday",{"$f":"O$22","v":0.93700000000000006}]
["(2) Urban Arterials & Collectors","March","Thursday","(2) Urban Arterials & CollectorsMarchThursday",{"$f":"O$23","v":0.92700000000000005}]
["(2) Urban Arterials & Collectors","March","Friday","(2) Urban Arterials & CollectorsMarchFriday",{"$f":"O$24","v":0.8640000000000001}]
["(2) Urban Arterials & Collectors","March","Saturday","(2) Urban Arterials & CollectorsMarchSaturday",{"$f":"O$25","v":1.139}]
["(2) Urban Arterials & Collectors","April","Seasonal","(2) Urban Arterials & CollectorsAprilSeasonal",{"$f":"P$18","v":0.99}]
["(2) Urban Arterials & Collectors","April","Sunday","(2) Urban Arterials & CollectorsAprilSunday",{"$f":"P$19","v":1.3880000000000001}]
["(2) Urban Arterials & Collectors","April","Monday","(2) Urban Arterials & CollectorsAprilMonday",{"$f":"P$20","v":0.96}]
["(2) Urban Arterials & Collectors","April","Tuesday","(2) Urban Arterials & CollectorsAprilTuesday",{"$f":"P$21","v":0.95200000000000007}]
["(2) Urban Arterials & Collectors","April","Wednesday","(2) Urban Arterials & CollectorsAprilWednesday",{"$f":"P$22","v":0.93500000000000005}]
["(2) Urban Arterials & Collectors","April","Thursday","(2) Urban Arterials & CollectorsAprilThursday",{"$f":"P$23","v":0.91600000000000015}]
["(2) Urban Arterials & Collectors","April","Friday","(2) Urban Arterials & CollectorsAprilFriday",{"$f":"P$24","v":0.86699999999999999}]
["(2) Urban Arterials & Collectors","April","Saturday","(2) Urban Arterials & CollectorsAprilSaturday",{"$f":"P$25","v":1.1760000000000002}]
["(2) Urban Arterials & Collectors","May","Seasonal","(2) Urban Arterials & CollectorsMaySeasonal",{"$f":"Q$18","v":0.96600000000000008}]
["(2) Urban Arterials & Collectors","May","Sunday",{"$f":"CONCATENATE(A135,B135,C135)","v":"(2) Urban Arterials & CollectorsMaySunday"},{"$f":"Q$19","v":1.3360000000000001}]
["(2) Urban Arterials & Collectors","May","Monday","(2) Urban Arterials & CollectorsMayMonday",{"$f":"Q$20","v":1.028}]
["(2) Urban Arterials & Collectors","May","Tuesday","(2) Urban Arterials & CollectorsMayTuesday",{"$f":"Q$21","v":0.95200000000000007}]
["(2) Urban Arterials & Collectors","May","Wednesday","(2) Urban Arterials & CollectorsMayWednesday",{"$f":"Q$22","v":0.92400000000000004}]
["(2) Urban Arterials & Collectors","May","Thursday","(2) Urban Arterials & CollectorsMayThursday",{"$f":"Q$23","v":0.90400000000000003}]
["(2) Urban Arterials & Collectors","May","Friday","(2) Urban Arterials & CollectorsMayFriday",{"$f":"Q$24","v":0.86599999999999999}]
["(2) Urban Arterials & Collectors","May","Saturday","(2) Urban Arterials & CollectorsMaySaturday",{"$f":"Q$25","v":1.1580000000000001}]
["(2) Urban Arterials & Collectors","June","Seasonal","(2) Urban Arterials & CollectorsJuneSeasonal",{"$f":"R$18","v":0.93900000000000006}]
["(2) Urban Arterials & Collectors","June","Sunday","(2) Urban Arterials & CollectorsJuneSunday",{"$f":"R$19","v":1.3460000000000003}]
["(2) Urban Arterials & Collectors","June","Monday","(2) Urban Arterials & CollectorsJuneMonday",{"$f":"R$20","v":0.97300000000000009}]
["(2) Urban Arterials & Collectors","June","Tuesday","(2) Urban Arterials & CollectorsJuneTuesday",{"$f":"R$21","v":0.95600000000000007}]
["(2) Urban Arterials & Collectors","June","Wednesday","(2) Urban Arterials & CollectorsJuneWednesday",{"$f":"R$22","v":0.93300000000000016}]
["(2) Urban Arterials & Collectors","June","Thursday","(2) Urban Arterials & CollectorsJuneThursday",{"$f":"R$23","v":0.91}]
["(2) Urban Arterials & Collectors","June","Friday","(2) Urban Arterials & CollectorsJuneFriday",{"$f":"R$24","v":0.88200000000000001}]
["(2) Urban Arterials & Collectors","June","Saturday","(2) Urban Arterials & CollectorsJuneSaturday",{"$f":"R$25","v":1.1640000000000001}]
["(2) Urban Arterials & Collectors","July","Seasonal","(2) Urban Arterials & CollectorsJulySeasonal",{"$f":"S$18","v":0.94800000000000018}]
["(2) Urban Arterials & Collectors","July","Sunday","(2) Urban Arterials & CollectorsJulySunday",{"$f":"S$19","v":1.3680000000000001}]
["(2) Urban Arterials & Collectors","July","Monday","(2) Urban Arterials & CollectorsJulyMonday",{"$f":"S$20","v":1.0210000000000001}]
["(2) Urban Arterials & Collectors","July","Tuesday","(2) Urban Arterials & CollectorsJulyTuesday",{"$f":"S$21","v":0.93500000000000005}]
["(2) Urban Arterials & Collectors","July","Wednesday","(2) Urban Arterials & CollectorsJulyWednesday",{"$f":"S$22","v":0.92300000000000015}]
["(2) Urban Arterials & Collectors","July","Thursday","(2) Urban Arterials & CollectorsJulyThursday",{"$f":"S$23","v":0.90400000000000003}]
["(2) Urban Arterials & Collectors","July","Friday","(2) Urban Arterials & CollectorsJulyFriday",{"$f":"S$24","v":0.8620000000000001}]
["(2) Urban Arterials & Collectors","July","Saturday","(2) Urban Arterials & CollectorsJulySaturday",{"$f":"S$25","v":1.1850000000000001}]
["(2) Urban Arterials & Collectors","August","Seasonal","(2) Urban Arterials & CollectorsAugustSeasonal",{"$f":"T$18","v":0.93}]
["(2) Urban Arterials & Collectors","August","Sunday","(2) Urban Arterials & CollectorsAugustSunday",{"$f":"T$19","v":1.3320000000000003}]
["(2) Urban Arterials & Collectors","August","Monday","(2) Urban Arterials & CollectorsAugustMonday",{"$f":"T$20","v":0.96800000000000008}]
["(2) Urban Arterials & Collectors","August","Tuesday","(2) Urban Arterials & CollectorsAugustTuesday",{"$f":"T$21","v":0.95000000000000007}]
["(2) Urban Arterials & Collectors","August","Wednesday","(2) Urban Arterials & CollectorsAugustWednesday",{"$f":"T$22","v":0.93100000000000005}]
["(2) Urban Arterials & Collectors","August","Thursday","(2) Urban Arterials & CollectorsAugustThursday",{"$f":"T$23","v":0.91200000000000003}]
["(2) Urban Arterials & Collectors","August","Friday","(2) Urban Arterials & CollectorsAugustFriday",{"$f":"T$24","v":0.89600000000000013}]
["(2) Urban Arterials & Collectors","August","Saturday","(2) Urban Arterials & CollectorsAugustSaturday",{"$f":"T$25","v":1.18}]
["(2) Urban Arterials & Collectors","September","Seasonal","(2) Urban Arterials & CollectorsSeptemberSeasonal",{"$f":"U$18","v":0.96600000000000008}]
["(2) Urban Arterials & Collectors","September","Sunday","(2) Urban Arterials & CollectorsSeptemberSunday",{"$f":"U$19","v":1.359}]
["(2) Urban Arterials & Collectors","September","Monday","(2) Urban Arterials & CollectorsSeptemberMonday",{"$f":"U$20","v":1.0660000000000001}]
["(2) Urban Arterials & Collectors","September","Tuesday","(2) Urban Arterials & CollectorsSeptemberTuesday",{"$f":"U$21","v":0.93400000000000005}]
["(2) Urban Arterials & Collectors","September","Wednesday","(2) Urban Arterials & CollectorsSeptemberWednesday",{"$f":"U$22","v":0.92100000000000015}]
["(2) Urban Arterials & Collectors","September","Thursday","(2) Urban Arterials & CollectorsSeptemberThursday",{"$f":"U$23","v":0.91100000000000014}]
["(2) Urban Arterials & Collectors","September","Friday","(2) Urban Arterials & CollectorsSeptemberFriday",{"$f":"U$24","v":0.84800000000000009}]
["(2) Urban Arterials & Collectors","September","Saturday","(2) Urban Arterials & CollectorsSeptemberSaturday",{"$f":"U$25","v":1.1620000000000001}]
["(2) Urban Arterials & Collectors","October","Seasonal","(2) Urban Arterials & CollectorsOctoberSeasonal",{"$f":"V$18","v":0.95600000000000007}]
["(2) Urban Arterials & Collectors","October","Sunday","(2) Urban Arterials & CollectorsOctoberSunday",{"$f":"V$19","v":1.401}]
["(2) Urban Arterials & Collectors","October","Monday","(2) Urban Arterials & CollectorsOctoberMonday",{"$f":"V$20","v":0.96900000000000008}]
["(2) Urban Arterials & Collectors","October","Tuesday","(2) Urban Arterials & CollectorsOctoberTuesday",{"$f":"V$21","v":0.96300000000000019}]
["(2) Urban Arterials & Collectors","October","Wednesday","(2) Urban Arterials & CollectorsOctoberWednesday",{"$f":"V$22","v":0.94400000000000006}]
["(2) Urban Arterials & Collectors","October","Thursday","(2) Urban Arterials & CollectorsOctoberThursday",{"$f":"V$23","v":0.91500000000000004}]
["(2) Urban Arterials & Collectors","October","Friday","(2) Urban Arterials & CollectorsOctoberFriday",{"$f":"V$24","v":0.85300000000000009}]
["(2) Urban Arterials & Collectors","October","Saturday","(2) Urban Arterials & CollectorsOctoberSaturday",{"$f":"V$25","v":1.153}]
["(2) Urban Arterials & Collectors","November","Seasonal","(2) Urban Arterials & CollectorsNovemberSeasonal",{"$f":"W$18","v":1.0270000000000001}]
["(2) Urban Arterials & Collectors","November","Sunday","(2) Urban Arterials & CollectorsNovemberSunday",{"$f":"W$19","v":1.421}]
["(2) Urban Arterials & Collectors","November","Monday","(2) Urban Arterials & CollectorsNovemberMonday",{"$f":"W$20","v":0.94100000000000006}]
["(2) Urban Arterials & Collectors","November","Tuesday","(2) Urban Arterials & CollectorsNovemberTuesday",{"$f":"W$21","v":0.91}]
["(2) Urban Arterials & Collectors","November","Wednesday","(2) Urban Arterials & CollectorsNovemberWednesday",{"$f":"W$22","v":0.89600000000000013}]
["(2) Urban Arterials & Collectors","November","Thursday","(2) Urban Arterials & CollectorsNovemberThursday",{"$f":"W$23","v":1.004}]
["(2) Urban Arterials & Collectors","November","Friday","(2) Urban Arterials & CollectorsNovemberFriday",{"$f":"W$24","v":0.875}]
["(2) Urban Arterials & Collectors","November","Saturday","(2) Urban Arterials & CollectorsNovemberSaturday",{"$f":"W$25","v":1.1890000000000001}]
["(2) Urban Arterials & Collectors","December","Seasonal","(2) Urban Arterials & CollectorsDecemberSeasonal",{"$f":"X$18","v":1.093}]
["(2) Urban Arterials & Collectors","December","Sunday","(2) Urban Arterials & CollectorsDecemberSunday",{"$f":"X$19","v":1.57}]
["(2) Urban Arterials & Collectors","December","Monday","(2) Urban Arterials & CollectorsDecemberMonday",{"$f":"X$20","v":0.93700000000000006}]
["(2) Urban Arterials & Collectors","December","Tuesday","(2) Urban Arterials & CollectorsDecemberTuesday",{"$f":"X$21","v":0.91800000000000004}]
["(2) Urban Arterials & Collectors","December","Wednesday","(2) Urban Arterials & CollectorsDecemberWednesday",{"$f":"X$22","v":0.88400000000000012}]
["(2) Urban Arterials & Collectors","December","Thursday","(2) Urban Arterials & CollectorsDecemberThursday",{"$f":"X$23","v":0.89800000000000002}]
["(2) Urban Arterials & Collectors","December","Friday","(2) Urban Arterials & CollectorsDecemberFriday",{"$f":"X$24","v":0.89700000000000002}]
["(2) Urban Arterials & Collectors","December","Saturday","(2) Urban Arterials & CollectorsDecemberSaturday",{"$f":"X$25","v":1.323}]
["(3) Rural Interstate","January","Seasonal","(3) Rural InterstateJanuarySeasonal",{"$f":"M$29","v":1.234}]
["(3) Rural Interstate","January","Sunday",{"$f":"CONCATENATE(A199,B199,C199)","v":"(3) Rural InterstateJanuarySunday"},{"$f":"M$30","v":1.171}]
["(3) Rural Interstate","January","Monday","(3) Rural InterstateJanuaryMonday",{"$f":"M$31","v":0.9840000000000001}]
["(3) Rural Interstate","January","Tuesday","(3) Rural InterstateJanuaryTuesday",{"$f":"M$32","v":0.97}]
["(3) Rural Interstate","January","Wednesday","(3) Rural InterstateJanuaryWednesday",{"$f":"M$33","v":0.94600000000000006}]
["(3) Rural Interstate","January","Thursday","(3) Rural InterstateJanuaryThursday",{"$f":"M$34","v":1.036}]
["(3) Rural Interstate","January","Friday","(3) Rural InterstateJanuaryFriday",{"$f":"M$35","v":0.9}]
["(3) Rural Interstate","January","Saturday","(3) Rural InterstateJanuarySaturday",{"$f":"M$36","v":1.0580000000000001}]
["(3) Rural Interstate","February","Seasonal","(3) Rural InterstateFebruarySeasonal",{"$f":"N$29","v":1.1620000000000001}]
["(3) Rural Interstate","February","Sunday","(3) Rural InterstateFebruarySunday",{"$f":"N$30","v":1.111}]
["(3) Rural Interstate","February","Monday","(3) Rural InterstateFebruaryMonday",{"$f":"N$31","v":1.042}]
["(3) Rural Interstate","February","Tuesday","(3) Rural InterstateFebruaryTuesday",{"$f":"N$32","v":1.129}]
["(3) Rural Interstate","February","Wednesday","(3) Rural InterstateFebruaryWednesday",{"$f":"N$33","v":1.0290000000000001}]
["(3) Rural Interstate","February","Thursday","(3) Rural InterstateFebruaryThursday",{"$f":"N$34","v":0.93100000000000005}]
["(3) Rural Interstate","February","Friday","(3) Rural InterstateFebruaryFriday",{"$f":"N$35","v":0.80500000000000005}]
["(3) Rural Interstate","February","Saturday","(3) Rural InterstateFebruarySaturday",{"$f":"N$36","v":1.046}]
["(3) Rural Interstate","March","Seasonal","(3) Rural InterstateMarchSeasonal",{"$f":"O$29","v":1.0760000000000001}]
["(3) Rural Interstate","March","Sunday","(3) Rural InterstateMarchSunday",{"$f":"O$30","v":1.1060000000000001}]
["(3) Rural Interstate","March","Monday","(3) Rural InterstateMarchMonday",{"$f":"O$31","v":1.048}]
["(3) Rural Interstate","March","Tuesday","(3) Rural InterstateMarchTuesday",{"$f":"O$32","v":1.038}]
["(3) Rural Interstate","March","Wednesday","(3) Rural InterstateMarchWednesday",{"$f":"O$33","v":1.0090000000000001}]
["(3) Rural Interstate","March","Thursday","(3) Rural InterstateMarchThursday",{"$f":"O$34","v":0.96300000000000019}]
["(3) Rural Interstate","March","Friday","(3) Rural InterstateMarchFriday",{"$f":"O$35","v":0.82500000000000007}]
["(3) Rural Interstate","March","Saturday","(3) Rural InterstateMarchSaturday",{"$f":"O$36","v":1.08}]
["(3) Rural Interstate","April","Seasonal","(3) Rural InterstateAprilSeasonal",{"$f":"P$29","v":1.032}]
["(3) Rural Interstate","April","Sunday","(3) Rural InterstateAprilSunday",{"$f":"P$30","v":1.0629999999999999}]
["(3) Rural Interstate","April","Monday","(3) Rural InterstateAprilMonday",{"$f":"P$31","v":1.018}]
["(3) Rural Interstate","April","Tuesday","(3) Rural InterstateAprilTuesday",{"$f":"P$32","v":1.0490000000000002}]
["(3) Rural Interstate","April","Wednesday","(3) Rural InterstateAprilWednesday",{"$f":"P$33","v":1.028}]
["(3) Rural Interstate","April","Thursday","(3) Rural InterstateAprilThursday",{"$f":"P$34","v":0.95100000000000007}]
["(3) Rural Interstate","April","Friday","(3) Rural InterstateAprilFriday",{"$f":"P$35","v":0.84600000000000009}]
["(3) Rural Interstate","April","Saturday","(3) Rural InterstateAprilSaturday",{"$f":"P$36","v":1.109}]
["(3) Rural Interstate","May","Seasonal","(3) Rural InterstateMaySeasonal",{"$f":"Q$29","v":0.97700000000000009}]
["(3) Rural Interstate","May","Sunday","(3) Rural InterstateMaySunday",{"$f":"Q$30","v":1.071}]
["(3) Rural Interstate","May","Monday","(3) Rural InterstateMayMonday",{"$f":"Q$31","v":1.0310000000000001}]
["(3) Rural Interstate","May","Tuesday","(3) Rural InterstateMayTuesday",{"$f":"Q$32","v":1.075}]
["(3) Rural Interstate","May","Wednesday","(3) Rural InterstateMayWednesday",{"$f":"Q$33","v":1.036}]
["(3) Rural Interstate","May","Thursday","(3) Rural InterstateMayThursday",{"$f":"Q$34","v":0.96}]
["(3) Rural Interstate","May","Friday","(3) Rural InterstateMayFriday",{"$f":"Q$35","v":0.82300000000000018}]
["(3) Rural Interstate","May","Saturday","(3) Rural InterstateMaySaturday",{"$f":"Q$36","v":1.0740000000000001}]
["(3) Rural Interstate","June","Seasonal","(3) Rural InterstateJuneSeasonal",{"$f":"R$29","v":0.90500000000000003}]
["(3) Rural Interstate","June","Sunday","(3) Rural InterstateJuneSunday",{"$f":"R$30","v":1.016}]
["(3) Rural Interstate","June","Monday","(3) Rural InterstateJuneMonday",{"$f":"R$31","v":1.0410000000000001}]
["(3) Rural Interstate","June","Tuesday","(3) Rural InterstateJuneTuesday",{"$f":"R$32","v":1.0640000000000001}]
["(3) Rural Interstate","June","Wednesday","(3) Rural InterstateJuneWednesday",{"$f":"R$33","v":1.0330000000000001}]
["(3) Rural Interstate","June","Thursday","(3) Rural InterstateJuneThursday",{"$f":"R$34","v":0.97400000000000009}]
["(3) Rural Interstate","June","Friday","(3) Rural InterstateJuneFriday",{"$f":"R$35","v":0.85300000000000009}]
["(3) Rural Interstate","June","Saturday","(3) Rural InterstateJuneSaturday",{"$f":"R$36","v":1.0660000000000001}]
["(3) Rural Interstate","July","Seasonal","(3) Rural InterstateJulySeasonal",{"$f":"S$29","v":0.86799999999999999}]
["(3) Rural Interstate","July","Sunday","(3) Rural InterstateJulySunday",{"$f":"S$30","v":1.0620000000000001}]
["(3) Rural Interstate","July","Monday","(3) Rural InterstateJulyMonday",{"$f":"S$31","v":1.02}]
["(3) Rural Interstate","July","Tuesday","(3) Rural InterstateJulyTuesday",{"$f":"S$32","v":1.073}]
["(3) Rural Interstate","July","Wednesday","(3) Rural InterstateJulyWednesday",{"$f":"S$33","v":1.0470000000000002}]
["(3) Rural Interstate","July","Thursday","(3) Rural InterstateJulyThursday",{"$f":"S$34","v":0.96500000000000019}]
["(3) Rural Interstate","July","Friday","(3) Rural InterstateJulyFriday",{"$f":"S$35","v":0.83100000000000007}]
["(3) Rural Interstate","July","Saturday","(3) Rural InterstateJulySaturday",{"$f":"S$36","v":1.0649999999999999}]
["(3) Rural Interstate","August","Seasonal","(3) Rural InterstateAugustSeasonal",{"$f":"T$29","v":0.84800000000000009}]
["(3) Rural Interstate","August","Sunday","(3) Rural InterstateAugustSunday",{"$f":"T$30","v":0.9880000000000001}]
["(3) Rural Interstate","August","Monday","(3) Rural InterstateAugustMonday",{"$f":"T$31","v":1.0570000000000002}]
["(3) Rural Interstate","August","Tuesday","(3) Rural InterstateAugustTuesday",{"$f":"T$32","v":1.095}]
["(3) Rural Interstate","August","Wednesday","(3) Rural InterstateAugustWednesday",{"$f":"T$33","v":1.0450000000000002}]
["(3) Rural Interstate","August","Thursday","(3) Rural InterstateAugustThursday",{"$f":"T$34","v":0.96200000000000008}]
["(3) Rural Interstate","August","Friday","(3) Rural InterstateAugustFriday",{"$f":"T$35","v":0.8590000000000001}]
["(3) Rural Interstate","August","Saturday","(3) Rural InterstateAugustSaturday",{"$f":"T$36","v":1.0470000000000002}]
["(3) Rural Interstate","September","Seasonal","(3) Rural InterstateSeptemberSeasonal",{"$f":"U$29","v":0.94600000000000006}]
["(3) Rural Interstate","September","Sunday",{"$f":"CONCATENATE(A263,B263,C263)","v":"(3) Rural InterstateSeptemberSunday"},{"$f":"U$30","v":1.0629999999999999}]
["(3) Rural Interstate","September","Monday","(3) Rural InterstateSeptemberMonday",{"$f":"U$31","v":1.0270000000000001}]
["(3) Rural Interstate","September","Tuesday","(3) Rural InterstateSeptemberTuesday",{"$f":"U$32","v":1.0649999999999999}]
["(3) Rural Interstate","September","Wednesday","(3) Rural InterstateSeptemberWednesday",{"$f":"U$33","v":1.056}]
["(3) Rural Interstate","September","Thursday","(3) Rural InterstateSeptemberThursday",{"$f":"U$34","v":0.9840000000000001}]
["(3) Rural Interstate","September","Friday","(3) Rural InterstateSeptemberFriday",{"$f":"U$35","v":0.81300000000000017}]
["(3) Rural Interstate","September","Saturday","(3) Rural InterstateSeptemberSaturday",{"$f":"U$36","v":1.0640000000000001}]
["(3) Rural Interstate","October","Seasonal","(3) Rural InterstateOctoberSeasonal",{"$f":"V$29","v":0.95700000000000007}]
["(3) Rural Interstate","October","Sunday","(3) Rural InterstateOctoberSunday",{"$f":"V$30","v":1.0370000000000001}]
["(3) Rural Interstate","October","Monday","(3) Rural InterstateOctoberMonday",{"$f":"V$31","v":1.0190000000000001}]
["(3) Rural Interstate","October","Tuesday","(3) Rural InterstateOctoberTuesday",{"$f":"V$32","v":1.095}]
["(3) Rural Interstate","October","Wednesday","(3) Rural InterstateOctoberWednesday",{"$f":"V$33","v":1.0530000000000002}]
["(3) Rural Interstate","October","Thursday","(3) Rural InterstateOctoberThursday",{"$f":"V$34","v":0.96200000000000008}]
["(3) Rural Interstate","October","Friday","(3) Rural InterstateOctoberFriday",{"$f":"V$35","v":0.82200000000000006}]
["(3) Rural Interstate","October","Saturday","(3) Rural InterstateOctoberSaturday",{"$f":"V$36","v":1.0940000000000001}]
["(3) Rural Interstate","November","Seasonal","(3) Rural InterstateNovemberSeasonal",{"$f":"W$29","v":1.026}]
["(3) Rural Interstate","November","Sunday","(3) Rural InterstateNovemberSunday",{"$f":"W$30","v":1.075}]
["(3) Rural Interstate","November","Monday","(3) Rural InterstateNovemberMonday",{"$f":"W$31","v":1.0510000000000002}]
["(3) Rural Interstate","November","Tuesday","(3) Rural InterstateNovemberTuesday",{"$f":"W$32","v":1.0330000000000001}]
["(3) Rural Interstate","November","Wednesday","(3) Rural InterstateNovemberWednesday",{"$f":"W$33","v":0.94200000000000006}]
["(3) Rural Interstate","November","Thursday","(3) Rural InterstateNovemberThursday",{"$f":"W$34","v":0.9880000000000001}]
["(3) Rural Interstate","November","Friday","(3) Rural InterstateNovemberFriday",{"$f":"W$35","v":0.86}]
["(3) Rural Interstate","November","Saturday","(3) Rural InterstateNovemberSaturday",{"$f":"W$36","v":1.113}]
["(3) Rural Interstate","December","Seasonal","(3) Rural InterstateDecemberSeasonal",{"$f":"X$29","v":1.133}]
["(3) Rural Interstate","December","Sunday","(3) Rural InterstateDecemberSunday",{"$f":"X$30","v":1.1560000000000001}]
["(3) Rural Interstate","December","Monday","(3) Rural InterstateDecemberMonday",{"$f":"X$31","v":0.97200000000000009}]
["(3) Rural Interstate","December","Tuesday","(3) Rural InterstateDecemberTuesday",{"$f":"X$32","v":0.9840000000000001}]
["(3) Rural Interstate","December","Wednesday","(3) Rural InterstateDecemberWednesday",{"$f":"X$33","v":0.92600000000000016}]
["(3) Rural Interstate","December","Thursday","(3) Rural InterstateDecemberThursday",{"$f":"X$34","v":0.91900000000000004}]
["(3) Rural Interstate","December","Friday","(3) Rural InterstateDecemberFriday",{"$f":"X$35","v":0.92100000000000015}]
["(3) Rural Interstate","December","Saturday","(3) Rural InterstateDecemberSaturday",{"$f":"X$36","v":1.2530000000000001}]
["(4) Rural Arterials & Collectors","January","Seasonal","(4) Rural Arterials & CollectorsJanuarySeasonal",{"$f":"M$40","v":1.2390000000000001}]
["(4) Rural Arterials & Collectors","January","Sunday","(4) Rural Arterials & CollectorsJanuarySunday",{"$f":"M$41","v":1.3260000000000001}]
["(4) Rural Arterials & Collectors","January","Monday","(4) Rural Arterials & CollectorsJanuaryMonday",{"$f":"M$42","v":0.97200000000000009}]
["(4) Rural Arterials & Collectors","January","Tuesday","(4) Rural Arterials & CollectorsJanuaryTuesday",{"$f":"M$43","v":0.93800000000000017}]
["(4) Rural Arterials & Collectors","January","Wednesday","(4) Rural Arterials & CollectorsJanuaryWednesday",{"$f":"M$44","v":0.93200000000000005}]
["(4) Rural Arterials & Collectors","January","Thursday","(4) Rural Arterials & CollectorsJanuaryThursday",{"$f":"M$45","v":1.0190000000000001}]
["(4) Rural Arterials & Collectors","January","Friday","(4) Rural Arterials & CollectorsJanuaryFriday",{"$f":"M$46","v":0.89100000000000001}]
["(4) Rural Arterials & Collectors","January","Saturday","(4) Rural Arterials & CollectorsJanuarySaturday",{"$f":"M$47","v":1.075}]
["(4) Rural Arterials & Collectors","February","Seasonal","(4) Rural Arterials & CollectorsFebruarySeasonal",{"$f":"N$40","v":1.171}]
["(4) Rural Arterials & Collectors","February","Sunday","(4) Rural Arterials & CollectorsFebruarySunday",{"$f":"N$41","v":1.23}]
["(4) Rural Arterials & Collectors","February","Monday","(4) Rural Arterials & CollectorsFebruaryMonday",{"$f":"N$42","v":1.016}]
["(4) Rural Arterials & Collectors","February","Tuesday","(4) Rural Arterials & CollectorsFebruaryTuesday",{"$f":"N$43","v":1.129}]
["(4) Rural Arterials & Collectors","February","Wednesday","(4) Rural Arterials & CollectorsFebruaryWednesday",{"$f":"N$44","v":0.9830000000000001}]
["(4) Rural Arterials & Collectors","February","Thursday","(4) Rural Arterials & CollectorsFebruaryThursday",{"$f":"N$45","v":0.92}]
["(4) Rural Arterials & Collectors","February","Friday","(4) Rural Arterials & CollectorsFebruaryFriday",{"$f":"N$46","v":0.82300000000000018}]
["(4) Rural Arterials & Collectors","February","Saturday","(4) Rural Arterials & CollectorsFebruarySaturday",{"$f":"N$47","v":1.054}]
["(4) Rural Arterials & Collectors","March","Seasonal","(4) Rural Arterials & CollectorsMarchSeasonal",{"$f":"O$40","v":1.093}]
["(4) Rural Arterials & Collectors","March","Sunday","(4) Rural Arterials & CollectorsMarchSunday",{"$f":"O$41","v":1.2190000000000001}]
["(4) Rural Arterials & Collectors","March","Monday","(4) Rural Arterials & CollectorsMarchMonday",{"$f":"O$42","v":1.026}]
["(4) Rural Arterials & Collectors","March","Tuesday","(4) Rural Arterials & CollectorsMarchTuesday",{"$f":"O$43","v":1.0030000000000001}]
["(4) Rural Arterials & Collectors","March","Wednesday","(4) Rural Arterials & CollectorsMarchWednesday",{"$f":"O$44","v":0.99099999999999999}]
["(4) Rural Arterials & Collectors","March","Thursday","(4) Rural Arterials & CollectorsMarchThursday",{"$f":"O$45","v":0.96100000000000008}]
["(4) Rural Arterials & Collectors","March","Friday","(4) Rural Arterials & CollectorsMarchFriday",{"$f":"O$46","v":0.8450000000000002}]
["(4) Rural Arterials & Collectors","March","Saturday","(4) Rural Arterials & CollectorsMarchSaturday",{"$f":"O$47","v":1.0640000000000001}]
["(4) Rural Arterials & Collectors","April","Seasonal","(4) Rural Arterials & CollectorsAprilSeasonal",{"$f":"P$40","v":1.018}]
["(4) Rural Arterials & Collectors","April","Sunday","(4) Rural Arterials & CollectorsAprilSunday",{"$f":"P$41","v":1.161}]
["(4) Rural Arterials & Collectors","April","Monday","(4) Rural Arterials & CollectorsAprilMonday",{"$f":"P$42","v":1.0050000000000001}]
["(4) Rural Arterials & Collectors","April","Tuesday","(4) Rural Arterials & CollectorsAprilTuesday",{"$f":"P$43","v":1.0230000000000001}]
["(4) Rural Arterials & Collectors","April","Wednesday","(4) Rural Arterials & CollectorsAprilWednesday",{"$f":"P$44","v":1.002}]
["(4) Rural Arterials & Collectors","April","Thursday","(4) Rural Arterials & CollectorsAprilThursday",{"$f":"P$45","v":0.96600000000000008}]
["(4) Rural Arterials & Collectors","April","Friday","(4) Rural Arterials & CollectorsAprilFriday",{"$f":"P$46","v":0.85100000000000009}]
["(4) Rural Arterials & Collectors","April","Saturday","(4) Rural Arterials & CollectorsAprilSaturday",{"$f":"P$47","v":1.0920000000000001}]
["(4) Rural Arterials & Collectors","May","Seasonal","(4) Rural Arterials & CollectorsMaySeasonal",{"$f":"Q$40","v":0.94500000000000006}]
["(4) Rural Arterials & Collectors","May","Sunday",{"$f":"CONCATENATE(A327,B327,C327)","v":"(4) Rural Arterials & CollectorsMaySunday"},{"$f":"Q$41","v":1.1080000000000001}]
["(4) Rural Arterials & Collectors","May","Monday","(4) Rural Arterials & CollectorsMayMonday",{"$f":"Q$42","v":1.046}]
["(4) Rural Arterials & Collectors","May","Tuesday","(4) Rural Arterials & CollectorsMayTuesday",{"$f":"Q$43","v":1.0589999999999999}]
["(4) Rural Arterials & Collectors","May","Wednesday","(4) Rural Arterials & CollectorsMayWednesday",{"$f":"Q$44","v":1.02}]
["(4) Rural Arterials & Collectors","May","Thursday","(4) Rural Arterials & CollectorsMayThursday",{"$f":"Q$45","v":0.96500000000000019}]
["(4) Rural Arterials & Collectors","May","Friday","(4) Rural Arterials & CollectorsMayFriday",{"$f":"Q$46","v":0.84400000000000008}]
["(4) Rural Arterials & Collectors","May","Saturday","(4) Rural Arterials & CollectorsMaySaturday",{"$f":"Q$47","v":1.0589999999999999}]
["(4) Rural Arterials & Collectors","June","Seasonal","(4) Rural Arterials & CollectorsJuneSeasonal",{"$f":"R$40","v":0.91700000000000004}]
["(4) Rural Arterials & Collectors","June","Sunday","(4) Rural Arterials & CollectorsJuneSunday",{"$f":"R$41","v":1.1160000000000001}]
["(4) Rural Arterials & Collectors","June","Monday","(4) Rural Arterials & CollectorsJuneMonday",{"$f":"R$42","v":1.0330000000000001}]
["(4) Rural Arterials & Collectors","June","Tuesday","(4) Rural Arterials & CollectorsJuneTuesday",{"$f":"R$43","v":1.0370000000000001}]
["(4) Rural Arterials & Collectors","June","Wednesday","(4) Rural Arterials & CollectorsJuneWednesday",{"$f":"R$44","v":1.0130000000000001}]
["(4) Rural Arterials & Collectors","June","Thursday","(4) Rural Arterials & CollectorsJuneThursday",{"$f":"R$45","v":0.96300000000000019}]
["(4) Rural Arterials & Collectors","June","Friday","(4) Rural Arterials & CollectorsJuneFriday",{"$f":"R$46","v":0.87}]
["(4) Rural Arterials & Collectors","June","Saturday","(4) Rural Arterials & CollectorsJuneSaturday",{"$f":"R$47","v":1.0490000000000002}]
["(4) Rural Arterials & Collectors","July","Seasonal","(4) Rural Arterials & CollectorsJulySeasonal",{"$f":"S$40","v":0.875}]
["(4) Rural Arterials & Collectors","July","Sunday","(4) Rural Arterials & CollectorsJulySunday",{"$f":"S$41","v":1.135}]
["(4) Rural Arterials & Collectors","July","Monday","(4) Rural Arterials & CollectorsJulyMonday",{"$f":"S$42","v":1.0760000000000001}]
["(4) Rural Arterials & Collectors","July","Tuesday","(4) Rural Arterials & CollectorsJulyTuesday",{"$f":"S$43","v":1.04}]
["(4) Rural Arterials & Collectors","July","Wednesday","(4) Rural Arterials & CollectorsJulyWednesday",{"$f":"S$44","v":1.0210000000000001}]
["(4) Rural Arterials & Collectors","July","Thursday","(4) Rural Arterials & CollectorsJulyThursday",{"$f":"S$45","v":0.95900000000000007}]
["(4) Rural Arterials & Collectors","July","Friday","(4) Rural Arterials & CollectorsJulyFriday",{"$f":"S$46","v":0.84}]
["(4) Rural Arterials & Collectors","July","Saturday","(4) Rural Arterials & CollectorsJulySaturday",{"$f":"S$47","v":1.0450000000000002}]
["(4) Rural Arterials & Collectors","August","Seasonal","(4) Rural Arterials & CollectorsAugustSeasonal",{"$f":"T$40","v":0.871}]
["(4) Rural Arterials & Collectors","August","Sunday","(4) Rural Arterials & CollectorsAugustSunday",{"$f":"T$41","v":1.089}]
["(4) Rural Arterials & Collectors","August","Monday","(4) Rural Arterials & CollectorsAugustMonday",{"$f":"T$42","v":1.05}]
["(4) Rural Arterials & Collectors","August","Tuesday","(4) Rural Arterials & CollectorsAugustTuesday",{"$f":"T$43","v":1.052}]
["(4) Rural Arterials & Collectors","August","Wednesday","(4) Rural Arterials & CollectorsAugustWednesday",{"$f":"T$44","v":1.014}]
["(4) Rural Arterials & Collectors","August","Thursday","(4) Rural Arterials & CollectorsAugustThursday",{"$f":"T$45","v":0.96800000000000008}]
["(4) Rural Arterials & Collectors","August","Friday","(4) Rural Arterials & CollectorsAugustFriday",{"$f":"T$46","v":0.87}]
["(4) Rural Arterials & Collectors","August","Saturday","(4) Rural Arterials & CollectorsAugustSaturday",{"$f":"T$47","v":1.0510000000000002}]
["(4) Rural Arterials & Collectors","September","Seasonal","(4) Rural Arterials & CollectorsSeptemberSeasonal",{"$f":"U$40","v":0.92900000000000005}]
["(4) Rural Arterials & Collectors","September","Sunday","(4) Rural Arterials & CollectorsSeptemberSunday",{"$f":"U$41","v":1.141}]
["(4) Rural Arterials & Collectors","September","Monday","(4) Rural Arterials & CollectorsSeptemberMonday",{"$f":"U$42","v":1.077}]
["(4) Rural Arterials & Collectors","September","Tuesday","(4) Rural Arterials & CollectorsSeptemberTuesday",{"$f":"U$43","v":1.04}]
["(4) Rural Arterials & Collectors","September","Wednesday","(4) Rural Arterials & CollectorsSeptemberWednesday",{"$f":"U$44","v":1.0350000000000001}]
["(4) Rural Arterials & Collectors","September","Thursday","(4) Rural Arterials & CollectorsSeptemberThursday",{"$f":"U$45","v":0.9840000000000001}]
["(4) Rural Arterials & Collectors","September","Friday","(4) Rural Arterials & CollectorsSeptemberFriday",{"$f":"U$46","v":0.81900000000000006}]
["(4) Rural Arterials & Collectors","September","Saturday","(4) Rural Arterials & CollectorsSeptemberSaturday",{"$f":"U$47","v":1.0470000000000002}]
["(4) Rural Arterials & Collectors","October","Seasonal","(4) Rural Arterials & CollectorsOctoberSeasonal",{"$f":"V$40","v":0.94500000000000006}]
["(4) Rural Arterials & Collectors","October","Sunday","(4) Rural Arterials & CollectorsOctoberSunday",{"$f":"V$41","v":1.1860000000000002}]
["(4) Rural Arterials & Collectors","October","Monday","(4) Rural Arterials & CollectorsOctoberMonday",{"$f":"V$42","v":1.0270000000000001}]
["(4) Rural Arterials & Collectors","October","Tuesday","(4) Rural Arterials & CollectorsOctoberTuesday",{"$f":"V$43","v":1.048}]
["(4) Rural Arterials & Collectors","October","Wednesday","(4) Rural Arterials & CollectorsOctoberWednesday",{"$f":"V$44","v":1.0190000000000001}]
["(4) Rural Arterials & Collectors","October","Thursday","(4) Rural Arterials & CollectorsOctoberThursday",{"$f":"V$45","v":0.95400000000000007}]
["(4) Rural Arterials & Collectors","October","Friday","(4) Rural Arterials & CollectorsOctoberFriday",{"$f":"V$46","v":0.83400000000000007}]
["(4) Rural Arterials & Collectors","October","Saturday","(4) Rural Arterials & CollectorsOctoberSaturday",{"$f":"V$47","v":1.06}]
["(4) Rural Arterials & Collectors","November","Seasonal","(4) Rural Arterials & CollectorsNovemberSeasonal",{"$f":"W$40","v":1.018}]
["(4) Rural Arterials & Collectors","November","Sunday","(4) Rural Arterials & CollectorsNovemberSunday",{"$f":"W$41","v":1.258}]
["(4) Rural Arterials & Collectors","November","Monday","(4) Rural Arterials & CollectorsNovemberMonday",{"$f":"W$42","v":1.012}]
["(4) Rural Arterials & Collectors","November","Tuesday","(4) Rural Arterials & CollectorsNovemberTuesday",{"$f":"W$43","v":0.99299999999999999}]
["(4) Rural Arterials & Collectors","November","Wednesday","(4) Rural Arterials & CollectorsNovemberWednesday",{"$f":"W$44","v":0.94800000000000018}]
["(4) Rural Arterials & Collectors","November","Thursday","(4) Rural Arterials & CollectorsNovemberThursday",{"$f":"W$45","v":0.97300000000000009}]
["(4) Rural Arterials & Collectors","November","Friday","(4) Rural Arterials & CollectorsNovemberFriday",{"$f":"W$46","v":0.84800000000000009}]
["(4) Rural Arterials & Collectors","November","Saturday","(4) Rural Arterials & CollectorsNovemberSaturday",{"$f":"W$47","v":1.1200000000000001}]
["(4) Rural Arterials & Collectors","December","Seasonal","(4) Rural Arterials & CollectorsDecemberSeasonal",{"$f":"X$40","v":1.165}]
["(4) Rural Arterials & Collectors","December","Sunday","(4) Rural Arterials & CollectorsDecemberSunday",{"$f":"X$41","v":1.4240000000000002}]
["(4) Rural Arterials & Collectors","December","Monday","(4) Rural Arterials & CollectorsDecemberMonday",{"$f":"X$42","v":0.96}]
["(4) Rural Arterials & Collectors","December","Tuesday","(4) Rural Arterials & CollectorsDecemberTuesday",{"$f":"X$43","v":0.94800000000000018}]
["(4) Rural Arterials & Collectors","December","Wednesday","(4) Rural Arterials & CollectorsDecemberWednesday",{"$f":"X$44","v":0.90100000000000013}]
["(4) Rural Arterials & Collectors","December","Thursday","(4) Rural Arterials & CollectorsDecemberThursday",{"$f":"X$45","v":0.90100000000000013}]
["(4) Rural Arterials & Collectors","December","Friday","(4) Rural Arterials & CollectorsDecemberFriday",{"$f":"X$46","v":0.87900000000000011}]
["(4) Rural Arterials & Collectors","December","Saturday","(4) Rural Arterials & CollectorsDecemberSaturday",{"$f":"X$47","v":1.2530000000000001}]
["(5) Tourist/Recreational Interstate","January","Seasonal","(5) Tourist/Recreational InterstateJanuarySeasonal",{"$f":"M$51","v":1.3480000000000001}]
["(5) Tourist/Recreational Interstate","January","Sunday",{"$f":"CONCATENATE(A391,B391,C391)","v":"(5) Tourist/Recreational InterstateJanuarySunday"},{"$f":"M$52","v":0.89300000000000002}]
["(5) Tourist/Recreational Interstate","January","Monday","(5) Tourist/Recreational InterstateJanuaryMonday",{"$f":"M$53","v":1.0660000000000001}]
["(5) Tourist/Recreational Interstate","January","Tuesday","(5) Tourist/Recreational InterstateJanuaryTuesday",{"$f":"M$54","v":1.1100000000000001}]
["(5) Tourist/Recreational Interstate","January","Wednesday","(5) Tourist/Recreational InterstateJanuaryWednesday",{"$f":"M$55","v":1.0430000000000001}]
["(5) Tourist/Recreational Interstate","January","Thursday","(5) Tourist/Recreational InterstateJanuaryThursday",{"$f":"M$56","v":1.0740000000000001}]
["(5) Tourist/Recreational Interstate","January","Friday","(5) Tourist/Recreational InterstateJanuaryFriday",{"$f":"M$57","v":0.83700000000000008}]
["(5) Tourist/Recreational Interstate","January","Saturday","(5) Tourist/Recreational InterstateJanuarySaturday",{"$f":"M$58","v":1.0550000000000002}]
["(5) Tourist/Recreational Interstate","February","Seasonal","(5) Tourist/Recreational InterstateFebruarySeasonal",{"$f":"N$51","v":1.2730000000000001}]
["(5) Tourist/Recreational Interstate","February","Sunday","(5) Tourist/Recreational InterstateFebruarySunday",{"$f":"N$52","v":0.85300000000000009}]
["(5) Tourist/Recreational Interstate","February","Monday","(5) Tourist/Recreational InterstateFebruaryMonday",{"$f":"N$53","v":1.1420000000000001}]
["(5) Tourist/Recreational Interstate","February","Tuesday","(5) Tourist/Recreational InterstateFebruaryTuesday",{"$f":"N$54","v":1.266}]
["(5) Tourist/Recreational Interstate","February","Wednesday","(5) Tourist/Recreational InterstateFebruaryWednesday",{"$f":"N$55","v":1.127}]
["(5) Tourist/Recreational Interstate","February","Thursday","(5) Tourist/Recreational InterstateFebruaryThursday",{"$f":"N$56","v":0.97200000000000009}]
["(5) Tourist/Recreational Interstate","February","Friday","(5) Tourist/Recreational InterstateFebruaryFriday",{"$f":"N$57","v":0.75400000000000011}]
["(5) Tourist/Recreational Interstate","February","Saturday","(5) Tourist/Recreational InterstateFebruarySaturday",{"$f":"N$58","v":1.1060000000000001}]
["(5) Tourist/Recreational Interstate","March","Seasonal","(5) Tourist/Recreational InterstateMarchSeasonal",{"$f":"O$51","v":1.1360000000000001}]
["(5) Tourist/Recreational Interstate","March","Sunday","(5) Tourist/Recreational InterstateMarchSunday",{"$f":"O$52","v":0.872}]
["(5) Tourist/Recreational Interstate","March","Monday","(5) Tourist/Recreational InterstateMarchMonday",{"$f":"O$53","v":1.1580000000000001}]
["(5) Tourist/Recreational Interstate","March","Tuesday","(5) Tourist/Recreational InterstateMarchTuesday",{"$f":"O$54","v":1.1860000000000002}]
["(5) Tourist/Recreational Interstate","March","Wednesday","(5) Tourist/Recreational InterstateMarchWednesday",{"$f":"O$55","v":1.099}]
["(5) Tourist/Recreational Interstate","March","Thursday","(5) Tourist/Recreational InterstateMarchThursday",{"$f":"O$56","v":1}]
["(5) Tourist/Recreational Interstate","March","Friday","(5) Tourist/Recreational InterstateMarchFriday",{"$f":"O$57","v":0.75800000000000001}]
["(5) Tourist/Recreational Interstate","March","Saturday","(5) Tourist/Recreational InterstateMarchSaturday",{"$f":"O$58","v":1.0960000000000001}]
["(5) Tourist/Recreational Interstate","April","Seasonal","(5) Tourist/Recreational InterstateAprilSeasonal",{"$f":"P$51","v":1.0740000000000001}]
["(5) Tourist/Recreational Interstate","April","Sunday","(5) Tourist/Recreational InterstateAprilSunday",{"$f":"P$52","v":0.83200000000000007}]
["(5) Tourist/Recreational Interstate","April","Monday","(5) Tourist/Recreational InterstateAprilMonday",{"$f":"P$53","v":1.087}]
["(5) Tourist/Recreational Interstate","April","Tuesday","(5) Tourist/Recreational InterstateAprilTuesday",{"$f":"P$54","v":1.2030000000000001}]
["(5) Tourist/Recreational Interstate","April","Wednesday","(5) Tourist/Recreational InterstateAprilWednesday",{"$f":"P$55","v":1.1620000000000001}]
["(5) Tourist/Recreational Interstate","April","Thursday","(5) Tourist/Recreational InterstateAprilThursday",{"$f":"P$56","v":0.97800000000000009}]
["(5) Tourist/Recreational Interstate","April","Friday","(5) Tourist/Recreational InterstateAprilFriday",{"$f":"P$57","v":0.78200000000000003}]
["(5) Tourist/Recreational Interstate","April","Saturday","(5) Tourist/Recreational InterstateAprilSaturday",{"$f":"P$58","v":1.143}]
["(5) Tourist/Recreational Interstate","May","Seasonal","(5) Tourist/Recreational InterstateMaySeasonal",{"$f":"Q$51","v":0.97400000000000009}]
["(5) Tourist/Recreational Interstate","May","Sunday","(5) Tourist/Recreational InterstateMaySunday",{"$f":"Q$52","v":0.91300000000000003}]
["(5) Tourist/Recreational Interstate","May","Monday","(5) Tourist/Recreational InterstateMayMonday",{"$f":"Q$53","v":1.0290000000000001}]
["(5) Tourist/Recreational Interstate","May","Tuesday","(5) Tourist/Recreational InterstateMayTuesday",{"$f":"Q$54","v":1.266}]
["(5) Tourist/Recreational Interstate","May","Wednesday","(5) Tourist/Recreational InterstateMayWednesday",{"$f":"Q$55","v":1.1720000000000002}]
["(5) Tourist/Recreational Interstate","May","Thursday","(5) Tourist/Recreational InterstateMayThursday",{"$f":"Q$56","v":0.9880000000000001}]
["(5) Tourist/Recreational Interstate","May","Friday","(5) Tourist/Recreational InterstateMayFriday",{"$f":"Q$57","v":0.74299999999999999}]
["(5) Tourist/Recreational Interstate","May","Saturday","(5) Tourist/Recreational InterstateMaySaturday",{"$f":"Q$58","v":1.0840000000000001}]
["(5) Tourist/Recreational Interstate","June","Seasonal","(5) Tourist/Recreational InterstateJuneSeasonal",{"$f":"R$51","v":0.84800000000000009}]
["(5) Tourist/Recreational Interstate","June","Sunday","(5) Tourist/Recreational InterstateJuneSunday",{"$f":"R$52","v":0.82600000000000007}]
["(5) Tourist/Recreational Interstate","June","Monday","(5) Tourist/Recreational InterstateJuneMonday",{"$f":"R$53","v":1.1340000000000001}]
["(5) Tourist/Recreational Interstate","June","Tuesday","(5) Tourist/Recreational InterstateJuneTuesday",{"$f":"R$54","v":1.22}]
["(5) Tourist/Recreational Interstate","June","Wednesday","(5) Tourist/Recreational InterstateJuneWednesday",{"$f":"R$55","v":1.1680000000000001}]
["(5) Tourist/Recreational Interstate","June","Thursday","(5) Tourist/Recreational InterstateJuneThursday",{"$f":"R$56","v":1.032}]
["(5) Tourist/Recreational Interstate","June","Friday","(5) Tourist/Recreational InterstateJuneFriday",{"$f":"R$57","v":0.79600000000000015}]
["(5) Tourist/Recreational Interstate","June","Saturday","(5) Tourist/Recreational InterstateJuneSaturday",{"$f":"R$58","v":1.0010000000000001}]
["(5) Tourist/Recreational Interstate","July","Seasonal","(5) Tourist/Recreational InterstateJulySeasonal",{"$f":"S$51","v":0.76700000000000002}]
["(5) Tourist/Recreational Interstate","July","Sunday","(5) Tourist/Recreational InterstateJulySunday",{"$f":"S$52","v":0.94200000000000006}]
["(5) Tourist/Recreational Interstate","July","Monday","(5) Tourist/Recreational InterstateJulyMonday",{"$f":"S$53","v":0.998}]
["(5) Tourist/Recreational Interstate","July","Tuesday","(5) Tourist/Recreational InterstateJulyTuesday",{"$f":"S$54","v":1.2450000000000001}]
["(5) Tourist/Recreational Interstate","July","Wednesday","(5) Tourist/Recreational InterstateJulyWednesday",{"$f":"S$55","v":1.216}]
["(5) Tourist/Recreational Interstate","July","Thursday","(5) Tourist/Recreational InterstateJulyThursday",{"$f":"S$56","v":1.0130000000000001}]
["(5) Tourist/Recreational Interstate","July","Friday","(5) Tourist/Recreational InterstateJulyFriday",{"$f":"S$57","v":0.77400000000000002}]
["(5) Tourist/Recreational Interstate","July","Saturday","(5) Tourist/Recreational InterstateJulySaturday",{"$f":"S$58","v":0.9820000000000001}]
["(5) Tourist/Recreational Interstate","August","Seasonal","(5) Tourist/Recreational InterstateAugustSeasonal",{"$f":"T$51","v":0.78200000000000003}]
["(5) Tourist/Recreational Interstate","August","Sunday","(5) Tourist/Recreational InterstateAugustSunday",{"$f":"T$52","v":0.79100000000000015}]
["(5) Tourist/Recreational Interstate","August","Monday","(5) Tourist/Recreational InterstateAugustMonday",{"$f":"T$53","v":1.1220000000000001}]
["(5) Tourist/Recreational Interstate","August","Tuesday","(5) Tourist/Recreational InterstateAugustTuesday",{"$f":"T$54","v":1.278}]
["(5) Tourist/Recreational Interstate","August","Wednesday","(5) Tourist/Recreational InterstateAugustWednesday",{"$f":"T$55","v":1.173}]
["(5) Tourist/Recreational Interstate","August","Thursday","(5) Tourist/Recreational InterstateAugustThursday",{"$f":"T$56","v":1.038}]
["(5) Tourist/Recreational Interstate","August","Friday","(5) Tourist/Recreational InterstateAugustFriday",{"$f":"T$57","v":0.80900000000000005}]
["(5) Tourist/Recreational Interstate","August","Saturday","(5) Tourist/Recreational InterstateAugustSaturday",{"$f":"T$58","v":0.998}]
["(5) Tourist/Recreational Interstate","September","Seasonal","(5) Tourist/Recreational InterstateSeptemberSeasonal",{"$f":"U$51","v":0.92300000000000015}]
["(5) Tourist/Recreational Interstate","September","Sunday",{"$f":"CONCATENATE(A455,B455,C455)","v":"(5) Tourist/Recreational InterstateSeptemberSunday"},{"$f":"U$52","v":0.87900000000000011}]
["(5) Tourist/Recreational Interstate","September","Monday","(5) Tourist/Recreational InterstateSeptemberMonday",{"$f":"U$53","v":1.0370000000000001}]
["(5) Tourist/Recreational Interstate","September","Tuesday","(5) Tourist/Recreational InterstateSeptemberTuesday",{"$f":"U$54","v":1.2650000000000001}]
["(5) Tourist/Recreational Interstate","September","Wednesday","(5) Tourist/Recreational InterstateSeptemberWednesday",{"$f":"U$55","v":1.2210000000000001}]
["(5) Tourist/Recreational Interstate","September","Thursday","(5) Tourist/Recreational InterstateSeptemberThursday",{"$f":"U$56","v":1.089}]
["(5) Tourist/Recreational Interstate","September","Friday","(5) Tourist/Recreational InterstateSeptemberFriday",{"$f":"U$57","v":0.7340000000000001}]
["(5) Tourist/Recreational Interstate","September","Saturday","(5) Tourist/Recreational InterstateSeptemberSaturday",{"$f":"U$58","v":1}]
["(5) Tourist/Recreational Interstate","October","Seasonal","(5) Tourist/Recreational InterstateOctoberSeasonal",{"$f":"V$51","v":0.98700000000000021}]
["(5) Tourist/Recreational Interstate","October","Sunday","(5) Tourist/Recreational InterstateOctoberSunday",{"$f":"V$52","v":0.81400000000000006}]
["(5) Tourist/Recreational Interstate","October","Monday","(5) Tourist/Recreational InterstateOctoberMonday",{"$f":"V$53","v":1.1360000000000001}]
["(5) Tourist/Recreational Interstate","October","Tuesday","(5) Tourist/Recreational InterstateOctoberTuesday",{"$f":"V$54","v":1.264}]
["(5) Tourist/Recreational Interstate","October","Wednesday","(5) Tourist/Recreational InterstateOctoberWednesday",{"$f":"V$55","v":1.179}]
["(5) Tourist/Recreational Interstate","October","Thursday","(5) Tourist/Recreational InterstateOctoberThursday",{"$f":"V$56","v":0.99900000000000011}]
["(5) Tourist/Recreational Interstate","October","Friday","(5) Tourist/Recreational InterstateOctoberFriday",{"$f":"V$57","v":0.748}]
["(5) Tourist/Recreational Interstate","October","Saturday","(5) Tourist/Recreational InterstateOctoberSaturday",{"$f":"V$58","v":1.1020000000000001}]
["(5) Tourist/Recreational Interstate","November","Seasonal","(5) Tourist/Recreational InterstateNovemberSeasonal",{"$f":"W$51","v":1.03}]
["(5) Tourist/Recreational Interstate","November","Sunday","(5) Tourist/Recreational InterstateNovemberSunday",{"$f":"W$52","v":0.80600000000000005}]
["(5) Tourist/Recreational Interstate","November","Monday","(5) Tourist/Recreational InterstateNovemberMonday",{"$f":"W$53","v":1.1970000000000001}]
["(5) Tourist/Recreational Interstate","November","Tuesday","(5) Tourist/Recreational InterstateNovemberTuesday",{"$f":"W$54","v":1.198}]
["(5) Tourist/Recreational Interstate","November","Wednesday","(5) Tourist/Recreational InterstateNovemberWednesday",{"$f":"W$55","v":0.9830000000000001}]
["(5) Tourist/Recreational Interstate","November","Thursday","(5) Tourist/Recreational InterstateNovemberThursday",{"$f":"W$56","v":1.05}]
["(5) Tourist/Recreational Interstate","November","Friday","(5) Tourist/Recreational InterstateNovemberFriday",{"$f":"W$57","v":0.82300000000000018}]
["(5) Tourist/Recreational Interstate","November","Saturday","(5) Tourist/Recreational InterstateNovemberSaturday",{"$f":"W$58","v":1.1160000000000001}]
["(5) Tourist/Recreational Interstate","December","Seasonal","(5) Tourist/Recreational InterstateDecemberSeasonal",{"$f":"X$51","v":1.2450000000000001}]
["(5) Tourist/Recreational Interstate","December","Sunday","(5) Tourist/Recreational InterstateDecemberSunday",{"$f":"X$52","v":0.97800000000000009}]
["(5) Tourist/Recreational Interstate","December","Monday","(5) Tourist/Recreational InterstateDecemberMonday",{"$f":"X$53","v":0.98100000000000009}]
["(5) Tourist/Recreational Interstate","December","Tuesday","(5) Tourist/Recreational InterstateDecemberTuesday",{"$f":"X$54","v":1.028}]
["(5) Tourist/Recreational Interstate","December","Wednesday","(5) Tourist/Recreational InterstateDecemberWednesday",{"$f":"X$55","v":0.92900000000000005}]
["(5) Tourist/Recreational Interstate","December","Thursday","(5) Tourist/Recreational InterstateDecemberThursday",{"$f":"X$56","v":0.89700000000000002}]
["(5) Tourist/Recreational Interstate","December","Friday","(5) Tourist/Recreational InterstateDecemberFriday",{"$f":"X$57","v":0.92500000000000004}]
["(5) Tourist/Recreational Interstate","December","Saturday","(5) Tourist/Recreational InterstateDecemberSaturday",{"$f":"X$58","v":1.42}]
["(6) Tourist/Recreational Other","January","Seasonal","(6) Tourist/Recreational OtherJanuarySeasonal",{"$f":"M$62","v":1.3680000000000001}]
["(6) Tourist/Recreational Other","January","Sunday","(6) Tourist/Recreational OtherJanuarySunday",{"$f":"M$63","v":1.1880000000000002}]
["(6) Tourist/Recreational Other","January","Monday","(6) Tourist/Recreational OtherJanuaryMonday",{"$f":"M$64","v":1.0350000000000001}]
["(6) Tourist/Recreational Other","January","Tuesday","(6) Tourist/Recreational OtherJanuaryTuesday",{"$f":"M$65","v":1.016}]
["(6) Tourist/Recreational Other","January","Wednesday","(6) Tourist/Recreational OtherJanuaryWednesday",{"$f":"M$66","v":0.99900000000000011}]
["(6) Tourist/Recreational Other","January","Thursday","(6) Tourist/Recreational OtherJanuaryThursday",{"$f":"M$67","v":1.0070000000000001}]
["(6) Tourist/Recreational Other","January","Friday","(6) Tourist/Recreational OtherJanuaryFriday",{"$f":"M$68","v":0.85400000000000009}]
["(6) Tourist/Recreational Other","January","Saturday","(6) Tourist/Recreational OtherJanuarySaturday",{"$f":"M$69","v":1.0310000000000001}]
["(6) Tourist/Recreational Other","February","Seasonal","(6) Tourist/Recreational OtherFebruarySeasonal",{"$f":"N$62","v":1.24}]
["(6) Tourist/Recreational Other","February","Sunday","(6) Tourist/Recreational OtherFebruarySunday",{"$f":"N$63","v":1.07}]
["(6) Tourist/Recreational Other","February","Monday","(6) Tourist/Recreational OtherFebruaryMonday",{"$f":"N$64","v":1.1000000000000001}]
["(6) Tourist/Recreational Other","February","Tuesday","(6) Tourist/Recreational OtherFebruaryTuesday",{"$f":"N$65","v":1.1740000000000002}]
["(6) Tourist/Recreational Other","February","Wednesday","(6) Tourist/Recreational OtherFebruaryWednesday",{"$f":"N$66","v":1.1060000000000001}]
["(6) Tourist/Recreational Other","February","Thursday","(6) Tourist/Recreational OtherFebruaryThursday",{"$f":"N$67","v":0.97600000000000009}]
["(6) Tourist/Recreational Other","February","Friday","(6) Tourist/Recreational OtherFebruaryFriday",{"$f":"N$68","v":0.79600000000000015}]
["(6) Tourist/Recreational Other","February","Saturday","(6) Tourist/Recreational OtherFebruarySaturday",{"$f":"N$69","v":0.97200000000000009}]
["(6) Tourist/Recreational Other","March","Seasonal","(6) Tourist/Recreational OtherMarchSeasonal",{"$f":"O$62","v":1.2370000000000001}]
["(6) Tourist/Recreational Other","March","Sunday","(6) Tourist/Recreational OtherMarchSunday",{"$f":"O$63","v":1.093}]
["(6) Tourist/Recreational Other","March","Monday","(6) Tourist/Recreational OtherMarchMonday",{"$f":"O$64","v":1.073}]
["(6) Tourist/Recreational Other","March","Tuesday","(6) Tourist/Recreational OtherMarchTuesday",{"$f":"O$65","v":1.0580000000000001}]
["(6) Tourist/Recreational Other","March","Wednesday","(6) Tourist/Recreational OtherMarchWednesday",{"$f":"O$66","v":1.026}]
["(6) Tourist/Recreational Other","March","Thursday","(6) Tourist/Recreational OtherMarchThursday",{"$f":"O$67","v":0.998}]
["(6) Tourist/Recreational Other","March","Friday","(6) Tourist/Recreational OtherMarchFriday",{"$f":"O$68","v":0.84100000000000008}]
["(6) Tourist/Recreational Other","March","Saturday","(6) Tourist/Recreational OtherMarchSaturday",{"$f":"O$69","v":1.0090000000000001}]
["(6) Tourist/Recreational Other","April","Seasonal","(6) Tourist/Recreational OtherAprilSeasonal",{"$f":"P$62","v":1.123}]
["(6) Tourist/Recreational Other","April","Sunday","(6) Tourist/Recreational OtherAprilSunday",{"$f":"P$63","v":1.073}]
["(6) Tourist/Recreational Other","April","Monday","(6) Tourist/Recreational OtherAprilMonday",{"$f":"P$64","v":1.0570000000000002}]
["(6) Tourist/Recreational Other","April","Tuesday","(6) Tourist/Recreational OtherAprilTuesday",{"$f":"P$65","v":1.0760000000000001}]
["(6) Tourist/Recreational Other","April","Wednesday","(6) Tourist/Recreational OtherAprilWednesday",{"$f":"P$66","v":1.0550000000000002}]
["(6) Tourist/Recreational Other","April","Thursday","(6) Tourist/Recreational OtherAprilThursday",{"$f":"P$67","v":0.998}]
["(6) Tourist/Recreational Other","April","Friday","(6) Tourist/Recreational OtherAprilFriday",{"$f":"P$68","v":0.81500000000000006}]
["(6) Tourist/Recreational Other","April","Saturday","(6) Tourist/Recreational OtherAprilSaturday",{"$f":"P$69","v":1.044}]
["(6) Tourist/Recreational Other","May","Seasonal","(6) Tourist/Recreational OtherMaySeasonal",{"$f":"Q$62","v":0.93600000000000005}]
["(6) Tourist/Recreational Other","May","Sunday",{"$f":"CONCATENATE(A519,B519,C519)","v":"(6) Tourist/Recreational OtherMaySunday"},{"$f":"Q$63","v":0.96200000000000008}]
["(6) Tourist/Recreational Other","May","Monday","(6) Tourist/Recreational OtherMayMonday",{"$f":"Q$64","v":1.0010000000000001}]
["(6) Tourist/Recreational Other","May","Tuesday","(6) Tourist/Recreational OtherMayTuesday",{"$f":"Q$65","v":1.2290000000000001}]
["(6) Tourist/Recreational Other","May","Wednesday","(6) Tourist/Recreational OtherMayWednesday",{"$f":"Q$66","v":1.17}]
["(6) Tourist/Recreational Other","May","Thursday","(6) Tourist/Recreational OtherMayThursday",{"$f":"Q$67","v":1.0669999999999999}]
["(6) Tourist/Recreational Other","May","Friday","(6) Tourist/Recreational OtherMayFriday",{"$f":"Q$68","v":0.79800000000000015}]
["(6) Tourist/Recreational Other","May","Saturday","(6) Tourist/Recreational OtherMaySaturday",{"$f":"Q$69","v":0.97100000000000009}]
["(6) Tourist/Recreational Other","June","Seasonal","(6) Tourist/Recreational OtherJuneSeasonal",{"$f":"R$62","v":0.877}]
["(6) Tourist/Recreational Other","June","Sunday","(6) Tourist/Recreational OtherJuneSunday",{"$f":"R$63","v":0.97700000000000009}]
["(6) Tourist/Recreational Other","June","Monday","(6) Tourist/Recreational OtherJuneMonday",{"$f":"R$64","v":1.0840000000000001}]
["(6) Tourist/Recreational Other","June","Tuesday","(6) Tourist/Recreational OtherJuneTuesday",{"$f":"R$65","v":1.111}]
["(6) Tourist/Recreational Other","June","Wednesday","(6) Tourist/Recreational OtherJuneWednesday",{"$f":"R$66","v":1.093}]
["(6) Tourist/Recreational Other","June","Thursday","(6) Tourist/Recreational OtherJuneThursday",{"$f":"R$67","v":1.0170000000000001}]
["(6) Tourist/Recreational Other","June","Friday","(6) Tourist/Recreational OtherJuneFriday",{"$f":"R$68","v":0.84600000000000009}]
["(6) Tourist/Recreational Other","June","Saturday","(6) Tourist/Recreational OtherJuneSaturday",{"$f":"R$69","v":0.97900000000000009}]
["(6) Tourist/Recreational Other","July","Seasonal","(6) Tourist/Recreational OtherJulySeasonal",{"$f":"S$62","v":0.746}]
["(6) Tourist/Recreational Other","July","Sunday","(6) Tourist/Recreational OtherJulySunday",{"$f":"S$63","v":0.96900000000000008}]
["(6) Tourist/Recreational Other","July","Monday","(6) Tourist/Recreational OtherJulyMonday",{"$f":"S$64","v":1.0350000000000001}]
["(6) Tourist/Recreational Other","July","Tuesday","(6) Tourist/Recreational OtherJulyTuesday",{"$f":"S$65","v":1.179}]
["(6) Tourist/Recreational Other","July","Wednesday","(6) Tourist/Recreational OtherJulyWednesday",{"$f":"S$66","v":1.173}]
["(6) Tourist/Recreational Other","July","Thursday","(6) Tourist/Recreational OtherJulyThursday",{"$f":"S$67","v":1.0490000000000002}]
["(6) Tourist/Recreational Other","July","Friday","(6) Tourist/Recreational OtherJulyFriday",{"$f":"S$68","v":0.81900000000000006}]
["(6) Tourist/Recreational Other","July","Saturday","(6) Tourist/Recreational OtherJulySaturday",{"$f":"S$69","v":0.93300000000000016}]
["(6) Tourist/Recreational Other","August","Seasonal","(6) Tourist/Recreational OtherAugustSeasonal",{"$f":"T$62","v":0.78400000000000003}]
["(6) Tourist/Recreational Other","August","Sunday","(6) Tourist/Recreational OtherAugustSunday",{"$f":"T$63","v":0.91100000000000014}]
["(6) Tourist/Recreational Other","August","Monday","(6) Tourist/Recreational OtherAugustMonday",{"$f":"T$64","v":1.1200000000000001}]
["(6) Tourist/Recreational Other","August","Tuesday","(6) Tourist/Recreational OtherAugustTuesday",{"$f":"T$65","v":1.1890000000000001}]
["(6) Tourist/Recreational Other","August","Wednesday","(6) Tourist/Recreational OtherAugustWednesday",{"$f":"T$66","v":1.1220000000000001}]
["(6) Tourist/Recreational Other","August","Thursday","(6) Tourist/Recreational OtherAugustThursday",{"$f":"T$67","v":1.0230000000000001}]
["(6) Tourist/Recreational Other","August","Friday","(6) Tourist/Recreational OtherAugustFriday",{"$f":"T$68","v":0.84}]
["(6) Tourist/Recreational Other","August","Saturday","(6) Tourist/Recreational OtherAugustSaturday",{"$f":"T$69","v":0.95500000000000007}]
["(6) Tourist/Recreational Other","September","Seasonal","(6) Tourist/Recreational OtherSeptemberSeasonal",{"$f":"U$62","v":0.8620000000000001}]
["(6) Tourist/Recreational Other","September","Sunday","(6) Tourist/Recreational OtherSeptemberSunday",{"$f":"U$63","v":0.97100000000000009}]
["(6) Tourist/Recreational Other","September","Monday","(6) Tourist/Recreational OtherSeptemberMonday",{"$f":"U$64","v":1.0170000000000001}]
["(6) Tourist/Recreational Other","September","Tuesday","(6) Tourist/Recreational OtherSeptemberTuesday",{"$f":"U$65","v":1.1780000000000002}]
["(6) Tourist/Recreational Other","September","Wednesday","(6) Tourist/Recreational OtherSeptemberWednesday",{"$f":"U$66","v":1.1840000000000002}]
["(6) Tourist/Recreational Other","September","Thursday","(6) Tourist/Recreational OtherSeptemberThursday",{"$f":"U$67","v":1.0960000000000001}]
["(6) Tourist/Recreational Other","September","Friday","(6) Tourist/Recreational OtherSeptemberFriday",{"$f":"U$68","v":0.80400000000000005}]
["(6) Tourist/Recreational Other","September","Saturday","(6) Tourist/Recreational OtherSeptemberSaturday",{"$f":"U$69","v":0.94100000000000006}]
["(6) Tourist/Recreational Other","October","Seasonal","(6) Tourist/Recreational OtherOctoberSeasonal",{"$f":"V$62","v":0.94200000000000006}]
["(6) Tourist/Recreational Other","October","Sunday","(6) Tourist/Recreational OtherOctoberSunday",{"$f":"V$63","v":0.99299999999999999}]
["(6) Tourist/Recreational Other","October","Monday","(6) Tourist/Recreational OtherOctoberMonday",{"$f":"V$64","v":1.0980000000000001}]
["(6) Tourist/Recreational Other","October","Tuesday","(6) Tourist/Recreational OtherOctoberTuesday",{"$f":"V$65","v":1.1880000000000002}]
["(6) Tourist/Recreational Other","October","Wednesday","(6) Tourist/Recreational OtherOctoberWednesday",{"$f":"V$66","v":1.151}]
["(6) Tourist/Recreational Other","October","Thursday","(6) Tourist/Recreational OtherOctoberThursday",{"$f":"V$67","v":1.032}]
["(6) Tourist/Recreational Other","October","Friday","(6) Tourist/Recreational OtherOctoberFriday",{"$f":"V$68","v":0.79500000000000004}]
["(6) Tourist/Recreational Other","October","Saturday","(6) Tourist/Recreational OtherOctoberSaturday",{"$f":"V$69","v":0.94600000000000006}]
["(6) Tourist/Recreational Other","November","Seasonal","(6) Tourist/Recreational OtherNovemberSeasonal",{"$f":"W$62","v":1.089}]
["(6) Tourist/Recreational Other","November","Sunday","(6) Tourist/Recreational OtherNovemberSunday",{"$f":"W$63","v":1.109}]
["(6) Tourist/Recreational Other","November","Monday","(6) Tourist/Recreational OtherNovemberMonday",{"$f":"W$64","v":1.0880000000000001}]
["(6) Tourist/Recreational Other","November","Tuesday","(6) Tourist/Recreational OtherNovemberTuesday",{"$f":"W$65","v":1.0860000000000001}]
["(6) Tourist/Recreational Other","November","Wednesday","(6) Tourist/Recreational OtherNovemberWednesday",{"$f":"W$66","v":1.0030000000000001}]
["(6) Tourist/Recreational Other","November","Thursday","(6) Tourist/Recreational OtherNovemberThursday",{"$f":"W$67","v":0.9880000000000001}]
["(6) Tourist/Recreational Other","November","Friday","(6) Tourist/Recreational OtherNovemberFriday",{"$f":"W$68","v":0.79400000000000004}]
["(6) Tourist/Recreational Other","November","Saturday","(6) Tourist/Recreational OtherNovemberSaturday",{"$f":"W$69","v":1.1120000000000001}]
["(6) Tourist/Recreational Other","December","Seasonal","(6) Tourist/Recreational OtherDecemberSeasonal",{"$f":"X$62","v":1.33}]
["(6) Tourist/Recreational Other","December","Sunday","(6) Tourist/Recreational OtherDecemberSunday",{"$f":"X$63","v":1.262}]
["(6) Tourist/Recreational Other","December","Monday","(6) Tourist/Recreational OtherDecemberMonday",{"$f":"X$64","v":0.9750000000000002}]
["(6) Tourist/Recreational Other","December","Tuesday","(6) Tourist/Recreational OtherDecemberTuesday",{"$f":"X$65","v":0.99099999999999999}]
["(6) Tourist/Recreational Other","December","Wednesday","(6) Tourist/Recreational OtherDecemberWednesday",{"$f":"X$66","v":0.91700000000000004}]
["(6) Tourist/Recreational Other","December","Thursday","(6) Tourist/Recreational OtherDecemberThursday",{"$f":"X$67","v":0.91200000000000003}]
["(6) Tourist/Recreational Other","December","Friday","(6) Tourist/Recreational OtherDecemberFriday",{"$f":"X$68","v":0.88400000000000012}]
["(6) Tourist/Recreational Other","December","Saturday","(6) Tourist/Recreational OtherDecemberSaturday",{"$f":"X$69","v":1.2390000000000001}]

{"sheet":"Expansion Factors","index":15,"n_rows":464,"n_cols":78,"rows_kept":464,"cut":false,"hidden":false,"merged":[]}
["24 Hour Expansion Factors"]
[]
[null,null,null,null,null,null,"Region"]
[null,null,null,null,null,null,"Southeast",null,null,null,null,null,null,"Northeast",null,null,null,null,null,null,null,null,null,null,"North Central",null,null,null,null,null,null,null,null,null,null,null,null,null,null,null,null,null,"Northwest",null,null,null,null,null,null,null,null,null,null,null,null,null,null,null,null,null,null,null,"Southwest"]
[null,null,"Count",null,null,null,30,40,45,51,64,66,67,5,8,15,20,31,36,38,42,44,59,70,1,19,21,24,26,34,35,37,39,73,43,49,50,58,63,68,69,71,2,3,4,6,7,9,10,16,17,18,27,46,47,48,54,57,55,60,61,65,11,12,13,14,22,23,25,28,29,32,33,41,52,53,56,62]
["Expansion ID","Expansion Factor Group","Duration","Category","Time Intervals","Text for Vlookup","Kenosha","Milwaukee","Ozaukee","Racine","Walworth","Washington","Waukesha","Brown","Calumet","Door","Fond du Lac","Kewaunee","Manitowoc","Marinette","Oconto","Outagamie","Sheboygan","Winnebago","Adams","Florence","Forest","Green Lake","Iron","Langlade","Lincoln","Marathon","Marquette","Menominee","Oneida","Portage","Price","Shawano","Vilas","Waupaca","Waushara","Wood","Ashland","Barron","Bayfield","Buffalo","Burnett","Chippewa","Clark","Douglas","Dunn","Eau Claire","Jackson","Pepin","Pierce","Polk","Rusk","Sawyer","St. Croix","Taylor","Trempealeau","Washburn","Columbia","Crawford","Dane","Dodge","Grant","Green","Iowa","Jefferson","Juneau","La Crosse","Lafayette","Monroe","Richland","Rock","Sauk","Vernon"]
[1.01,"(1) Urban Interstate",16,"Weekday Continuous","6:00 AM-10:00 PM",{"$f":"CONCATENATE(B7,E7)","v":"(1) Urban Interstate6:00 AM-10:00 PM"},"n/a","n/a","n/a","n/a","n/a","n/a","n/a","n/a","n/a","n/a","n/a","n/a","n/a","n/a","n/a","n/a","n/a","n/a","n/a","n/a","n/a","n/a","n/a","n/a","n/a","n/a","n/a","n/a","n/a","n/a","n/a","n/a","n/a","n/a","n/a","n/a","n/a","n/a","n/a","n/a","n/a","n/a","n/a","n/a","n/a","n/a","n/a","n/a","n/a","n/a","n/a","n/a","n/a","n/a","n/a","n/a","n/a","n/a","n/a","n/a","n/a","n/a","n/a","n/a","n/a","n/a","n/a","n/a","n/a","n/a","n/a","n/a"]
[1.02,"(1) Urban Interstate",15,"Weekday Continuous","6:00 AM-9:00 PM",{"$f":"CONCATENATE(B8,E8)","v":"(1) Urban Interstate6:00 AM-9:00 PM"},"n/a","n/a","n/a","n/a","n/a","n/a","n/a","n/a","n/a","n/a","n/a","n/a","n/a","n/a","n/a","n/a","n/a","n/a","n/a","n/a","n/a","n/a","n/a","n/a","n/a","n/a","n/a","n/a","n/a","n/a","n/a","n/a","n/a","n/a","n/a","n/a","n/a","n/a","n/a","n/a","n/a","n/a","n/a","n/a","n/a","n/a","n/a","n/a","n/a","n/a","n/a","n/a","n/a","n/a","n/a","n/a","n/a","n/a","n/a","n/a","n/a","n/a","n/a","n/a","n/a","n/a","n/a","n/a","n/a","n/a","n/a","n/a"]
[1.03,"(1) Urban Interstate",15,"Weekday Continuous","7:00 AM-10:00 PM","(1) Urban Interstate7:00 AM-10:00 PM","n/a","n/a","n/a","n/a","n/a","n/a","n/a","n/a","n/a","n/a","n/a","n/a","n/a","n/a","n/a","n/a","n/a","n/a","n/a","n/a","n/a","n/a","n/a","n/a","n/a","n/a","n/a","n/a","n/a","n/a","n/a","n/a","n/a","n/a","n/a","n/a","n/a","n/a","n/a","n/a","n/a","n/a","n/a","n/a","n/a","n/a","n/a","n/a","n/a","n/a","n/a","n/a","n/a","n/a","n/a","n/a","n/a","n/a","n/a","n/a","n/a","n/a","n/a","n/a","n/a","n/a","n/a","n/a","n/a","n/a","n/a","n/a"]
[1.04,"(1) Urban Interstate",14,"Weekday Continuous","6:00 AM-8:00 PM","(1) Urban Interstate6:00 AM-8:00 PM","n/a","n/a","n/a","n/a","n/a","n/a","n/a","n/a","n/a","n/a","n/a","n/a","n/a","n/a","n/a","n/a","n/a","n/a","n/a","n/a","n/a","n/a","n/a","n/a","n/a","n/a","n/a","n/a","n/a","n/a","n/a","n/a","n/a","n/a","n/a","n/a","n/a","n/a","n/a","n/a","n/a","n/a","n/a","n/a","n/a","n/a","n/a","n/a","n/a","n/a","n/a","n/a","n/a","n/a","n/a","n/a","n/a","n/a","n/a","n/a","n/a","n/a","n/a","n/a","n/a","n/a","n/a","n/a","n/a","n/a","n/a","n/a"]
[1.05,"(1) Urban Interstate",14,"Weekday Continuous","7:00 AM-9:00 PM","(1) Urban Interstate7:00 AM-9:00 PM","n/a","n/a","n/a","n/a","n/a","n/a","n/a","n/a","n/a","n/a","n/a","n/a","n/a","n/a","n/a","n/a","n/a","n/a","n/a","n/a","n/a","n/a","n/a","n/a","n/a","n/a","n/a","n/a","n/a","n/a","n/a","n/a","n/a","n/a","n/a","n/a","n/a","n/a","n/a","n/a","n/a","n/a","n/a","n/a","n/a","n/a","n/a","n/a","n/a","n/a","n/a","n/a","n/a","n/a","n/a","n/a","n/a","n/a","n/a","n/a","n/a","n/a","n/a","n/a","n/a","n/a","n/a","n/a","n/a","n/a","n/a","n/a"]
[1.06,"(1) Urban Interstate",14,"Weekday Continuous","8:00 AM-10:00 PM","(1) Urban Interstate8:00 AM-10:00 PM","n/a","n/a","n/a","n/a","n/a","n/a","n/a","n/a","n/a","n/a","n/a","n/a","n/a","n/a","n/a","n/a","n/a","n/a","n/a","n/a","n/a","n/a","n/a","n/a","n/a","n/a","n/a","n/a","n/a","n/a","n/a","n/a","n/a","n/a","n/a","n/a","n/a","n/a","n/a","n/a","n/a","n/a","n/a","n/a","n/a","n/a","n/a","n/a","n/a","n/a","n/a","n/a","n/a","n/a","n/a","n/a","n/a","n/a","n/a","n/a","n/a","n/a","n/a","n/a","n/a","n/a","n/a","n/a","n/a","n/a","n/a","n/a"]
[1.07,"(1) Urban Interstate",13,"Weekday Continuous","6:00 AM-7:00 PM","(1) Urban Interstate6:00 AM-7:00 PM","n/a",1.351,"n/a","n/a","n/a","n/a",1.2889999999999999,"n/a","n/a","n/a","n/a","n/a","n/a","n/a","n/a","n/a","n/a","n/a","n/a","n/a","n/a","n/a","n/a","n/a","n/a","n/a","n/a","n/a","n/a","n/a","n/a","n/a","n/a","n/a","n/a","n/a","n/a","n/a","n/a","n/a","n/a","n/a","n/a","n/a","n/a","n/a","n/a","n/a","n/a","n/a","n/a","n/a","n/a","n/a","n/a","n/a","n/a","n/a","n/a","n/a","n/a","n/a","n/a","n/a","n/a","n/a","n/a","n/a","n/a","n/a","n/a","n/a"]
[1.08,"(1) Urban Interstate",13,"Weekday Continuous","7:00 AM-8:00 PM","(1) Urban Interstate7:00 AM-8:00 PM","n/a","n/a","n/a","n/a","n/a","n/a","n/a","n/a","n/a","n/a","n/a","n/a","n/a","n/a","n/a","n/a","n/a","n/a","n/a","n/a","n/a","n/a","n/a","n/a","n/a","n/a","n/a","n/a","n/a","n/a","n/a","n/a","n/a","n/a","n/a","n/a","n/a","n/a","n/a","n/a","n/a","n/a","n/a","n/a","n/a","n/a","n/a","n/a","n/a","n/a","n/a","n/a","n/a","n/a","n/a","n/a","n/a","n/a","n/a","n/a","n/a","n/a","n/a","n/a","n/a","n/a","n/a","n/a","n/a","n/a","n/a","n/a"]
[1.0900000000000001,"(1) Urban Interstate",13,"Weekday Continuous","8:00 AM-9:00 PM","(1) Urban Interstate8:00 AM-9:00 PM","n/a","n/a","n/a","n/a","n/a","n/a","n/a","n/a","n/a","n/a","n/a","n/a","n/a","n/a","n/a","n/a","n/a","n/a","n/a","n/a","n/a","n/a","n/a","n/a","n/a","n/a","n/a","n/a","n/a","n/a","n/a","n/a","n/a","n/a","n/a","n/a","n/a","n/a","n/a","n/a","n/a","n/a","n/a","n/a","n/a","n/a","n/a","n/a","n/a","n/a","n/a","n/a","n/a","n/a","n/a","n/a","n/a","n/a","n/a","n/a","n/a","n/a","n/a","n/a","n/a","n/a","n/a","n/a","n/a","n/a","n/a","n/a"]
[1.1000000000000001,"(1) Urban Interstate",13,"Weekday Continuous","9:00 AM-10:00 PM","(1) Urban Interstate9:00 AM-10:00 PM","n/a","n/a","n/a","n/a","n/a","n/a","n/a","n/a","n/a","n/a","n/a","n/a","n/a","n/a","n/a","n/a","n/a","n/a","n/a","n/a","n/a","n/a","n/a","n/a","n/a","n/a","n/a","n/a","n/a","n/a","n/a","n/a","n/a","n/a","n/a","n/a","n/a","n/a","n/a","n/a","n/a","n/a","n/a","n/a","n/a","n/a","n/a","n/a","n/a","n/a","n/a","n/a","n/a","n/a","n/a","n/a","n/a","n/a","n/a","n/a","n/a","n/a","n/a","n/a","n/a","n/a","n/a","n/a","n/a","n/a","n/a","n/a"]
[1.1100000000000001,"(1) Urban Interstate",12,"Weekday Continuous","6:00 AM-6:00 PM","(1) Urban Interstate6:00 AM-6:00 PM","n/a",1.4850000000000001,"n/a","n/a","n/a","n/a",1.4339999999999999,"n/a","n/a","n/a","n/a","n/a","n/a","n/a","n/a","n/a","n/a","n/a","n/a","n/a","n/a","n/a","n/a","n/a","n/a","n/a","n/a","n/a","n/a","n/a","n/a","n/a","n/a","n/a","n/a","n/a","n/a","n/a","n/a","n/a","n/a","n/a","n/a","n/a","n/a","n/a","n/a","n/a","n/a","n/a","n/a","n/a","n/a","n/a","n/a","n/a","n/a","n/a","n/a","n/a","n/a","n/a","n/a","n/a","n/a","n/a","n/a","n/a","n/a","n/a","n/a","n/a"]
[1.1200000000000001,"(1) Urban Interstate",12,"Weekday Continuous","7:00 AM-7:00 PM","(1) Urban Interstate7:00 AM-7:00 PM","n/a","n/a","n/a","n/a","n/a","n/a","n/a","n/a","n/a","n/a","n/a","n/a","n/a","n/a","n/a","n/a","n/a","n/a","n/a","n/a","n/a","n/a","n/a","n/a","n/a","n/a","n/a","n/a","n/a","n/a","n/a","n/a","n/a","n/a","n/a","n/a","n/a","n/a","n/a","n/a","n/a","n/a","n/a","n/a","n/a","n/a","n/a","n/a","n/a","n/a","n/a","n/a","n/a","n/a","n/a","n/a","n/a","n/a","n/a","n/a","n/a","n/a","n/a","n/a","n/a","n/a","n/a","n/a","n/a","n/a","n/a","n/a"]
[1.1299999999999999,"(1) Urban Interstate",12,"Weekday Continuous","8:00 AM-8:00 PM","(1) Urban Interstate8:00 AM-8:00 PM","n/a","n/a","n/a","n/a","n/a","n/a","n/a","n/a","n/a","n/a","n/a","n/a","n/a","n/a","n/a","n/a","n/a","n/a","n/a","n/a","n/a","n/a","n/a","n/a","n/a","n/a","n/a","n/a","n/a","n/a","n/a","n/a","n/a","n/a","n/a","n/a","n/a","n/a","n/a","n/a","n/a","n/a","n/a","n/a","n/a","n/a","n/a","n/a","n/a","n/a","n/a","n/a","n/a","n/a","n/a","n/a","n/a","n/a","n/a","n/a","n/a","n/a","n/a","n/a","n/a","n/a","n/a","n/a","n/a","n/a","n/a","n/a"]
[1.1399999999999999,"(1) Urban Interstate",12,"Weekday Continuous","9:00 AM-9:00 PM","(1) Urban Interstate9:00 AM-9:00 PM","n/a","n/a","n/a","n/a","n/a","n/a","n/a","n/a","n/a","n/a","n/a","n/a","n/a","n/a","n/a","n/a","n/a","n/a","n/a","n/a","n/a","n/a","n/a","n/a","n/a","n/a","n/a","n/a","n/a","n/a","n/a","n/a","n/a","n/a","n/a","n/a","n/a","n/a","n/a","n/a","n/a","n/a","n/a","n/a","n/a","n/a","n/a","n/a","n/a","n/a","n/a","n/a","n/a","n/a","n/a","n/a","n/a","n/a","n/a","n/a","n/a","n/a","n/a","n/a","n/a","n/a","n/a","n/a","n/a","n/a","n/a","n/a"]
[1.1499999999999999,"(1) Urban Interstate",12,"Weekday Continuous","10:00 AM-10:00 PM","(1) Urban Interstate10:00 AM-10:00 PM","n/a","n/a","n/a","n/a","n/a","n/a","n/a","n/a","n/a","n/a","n/a","n/a","n/a","n/a","n/a","n/a","n/a","n/a","n/a","n/a","n/a","n/a","n/a","n/a","n/a","n/a","n/a","n/a","n/a","n/a","n/a","n/a","n/a","n/a","n/a","n/a","n/a","n/a","n/a","n/a","n/a","n/a","n/a","n/a","n/a","n/a","n/a","n/a","n/a","n/a","n/a","n/a","n/a","n/a","n/a","n/a","n/a","n/a","n/a","n/a","n/a","n/a","n/a","n/a","n/a","n/a","n/a","n/a","n/a","n/a","n/a","n/a"]
[1.1599999999999999,"(1) Urban Interstate",11,"Weekday Continuous","6:00 AM-5:00 PM","(1) Urban Interstate6:00 AM-5:00 PM","n/a","n/a","n/a","n/a","n/a","n/a","n/a","n/a","n/a","n/a","n/a","n/a","n/a","n/a","n/a","n/a","n/a","n/a","n/a","n/a","n/a","n/a","n/a","n/a","n/a","n/a","n/a","n/a","n/a","n/a","n/a","n/a","n/a","n/a","n/a","n/a","n/a","n/a","n/a","n/a","n/a","n/a","n/a","n/a","n/a","n/a","n/a","n/a","n/a","n/a","n/a","n/a","n/a","n/a","n/a","n/a","n/a","n/a","n/a","n/a","n/a","n/a","n/a","n/a","n/a","n/a","n/a","n/a","n/a","n/a","n/a","n/a"]
[1.17,"(1) Urban Interstate",11,"Weekday Continuous","7:00 AM-6:00 PM","(1) Urban Interstate7:00 AM-6:00 PM","n/a","n/a","n/a","n/a","n/a","n/a","n/a","n/a","n/a","n/a","n/a","n/a","n/a","n/a","n/a","n/a","n/a","n/a","n/a","n/a","n/a","n/a","n/a","n/a","n/a","n/a","n/a","n/a","n/a","n/a","n/a","n/a","n/a","n/a","n/a","n/a","n/a","n/a","n/a","n/a","n/a","n/a","n/a","n/a","n/a","n/a","n/a","n/a","n/a","n/a","n/a","n/a","n/a","n/a","n/a","n/a","n/a","n/a","n/a","n/a","n/a","n/a","n/a","n/a","n/a","n/a","n/a","n/a","n/a","n/a","n/a","n/a"]
[1.18,"(1) Urban Interstate",11,"Weekday Continuous","8:00 AM-7:00 PM","(1) Urban Interstate8:00 AM-7:00 PM","n/a","n/a","n/a","n/a","n/a","n/a","n/a","n/a","n/a","n/a","n/a","n/a","n/a","n/a","n/a","n/a","n/a","n/a","n/a","n/a","n/a","n/a","n/a","n/a","n/a","n/a","n/a","n/a","n/a","n/a","n/a","n/a","n/a","n/a","n/a","n/a","n/a","n/a","n/a","n/a","n/a","n/a","n/a","n/a","n/a","n/a","n/a","n/a","n/a","n/a","n/a","n/a","n/a","n/a","n/a","n/a","n/a","n/a","n/a","n/a","n/a","n/a","n/a","n/a","n/a","n/a","n/a","n/a","n/a","n/a","n/a","n/a"]
[1.19,"(1) Urban Interstate",11,"Weekday Continuous","9:00 AM-8:00 PM","(1) Urban Interstate9:00 AM-8:00 PM","n/a","n/a","n/a","n/a","n/a","n/a","n/a","n/a","n/a","n/a","n/a","n/a","n/a","n/a","n/a","n/a","n/a","n/a","n/a","n/a","n/a","n/a","n/a","n/a","n/a","n/a","n/a","n/a","n/a","n/a","n/a","n/a","n/a","n/a","n/a","n/a","n/a","n/a","n/a","n/a","n/a","n/a","n/a","n/a","n/a","n/a","n/a","n/a","n/a","n/a","n/a","n/a","n/a","n/a","n/a","n/a","n/a","n/a","n/a","n/a","n/a","n/a","n/a","n/a","n/a","n/a","n/a","n/a","n/a","n/a","n/a","n/a"]
[1.2,"(1) Urban Interstate",10,"Weekday Continuous","6:00 AM-4:00 PM","(1) Urban Interstate6:00 AM-4:00 PM","n/a","n/a","n/a","n/a","n/a","n/a","n/a","n/a","n/a","n/a","n/a","n/a","n/a","n/a","n/a","n/a","n/a","n/a","n/a","n/a","n/a","n/a","n/a","n/a","n/a","n/a","n/a","n/a","n/a","n/a","n/a","n/a","n/a","n/a","n/a","n/a","n/a","n/a","n/a","n/a","n/a","n/a","n/a","n/a","n/a","n/a","n/a","n/a","n/a","n/a","n/a","n/a","n/a","n/a","n/a","n/a","n/a","n/a","n/a","n/a","n/a","n/a","n/a","n/a","n/a","n/a","n/a","n/a","n/a","n/a","n/a","n/a"]
[1.21,"(1) Urban Interstate",10,"Weekday Continuous","7:00 AM-5:00 PM","(1) Urban Interstate7:00 AM-5:00 PM","n/a","n/a","n/a","n/a","n/a","n/a","n/a","n/a","n/a","n/a","n/a","n/a","n/a","n/a","n/a","n/a","n/a","n/a","n/a","n/a","n/a","n/a","n/a","n/a","n/a","n/a","n/a","n/a","n/a","n/a","n/a","n/a","n/a","n/a","n/a","n/a","n/a","n/a","n/a","n/a","n/a","n/a","n/a","n/a","n/a","n/a","n/a","n/a","n/a","n/a","n/a","n/a","n/a","n/a","n/a","n/a","n/a","n/a","n/a","n/a","n/a","n/a","n/a","n/a","n/a","n/a","n/a","n/a","n/a","n/a","n/a","n/a"]
[1.22,"(1) Urban Interstate",10,"Weekday Continuous","8:00 AM-6:00 PM","(1) Urban Interstate8:00 AM-6:00 PM","n/a","n/a","n/a","n/a","n/a","n/a","n/a","n/a","n/a","n/a","n/a","n/a","n/a","n/a","n/a","n/a","n/a","n/a","n/a","n/a","n/a","n/a","n/a","n/a","n/a","n/a","n/a","n/a","n/a","n/a","n/a","n/a","n/a","n/a","n/a","n/a","n/a","n/a","n/a","n/a","n/a","n/a","n/a","n/a","n/a","n/a","n/a","n/a","n/a","n/a","n/a","n/a","n/a","n/a","n/a","n/a","n/a","n/a","n/a","n/a","n/a","n/a","n/a","n/a","n/a","n/a","n/a","n/a","n/a","n/a","n/a","n/a"]
[1.23,"(1) Urban Interstate",10,"Weekday Continuous","9:00 AM-7:00 PM","(1) Urban Interstate9:00 AM-7:00 PM","n/a","n/a","n/a","n/a","n/a","n/a","n/a","n/a","n/a","n/a","n/a","n/a","n/a","n/a","n/a","n/a","n/a","n/a","n/a","n/a","n/a","n/a","n/a","n/a","n/a","n/a","n/a","n/a","n/a","n/a","n/a","n/a","n/a","n/a","n/a","n/a","n/a","n/a","n/a","n/a","n/a","n/a","n/a","n/a","n/a","n/a","n/a","n/a","n/a","n/a","n/a","n/a","n/a","n/a","n/a","n/a","n/a","n/a","n/a","n/a","n/a","n/a","n/a","n/a","n/a","n/a","n/a","n/a","n/a","n/a","n/a","n/a"]
[1.24,"(1) Urban Interstate",9,"Weekday Continuous","6:00 AM-3:00 PM","(1) Urban Interstate6:00 AM-3:00 PM","n/a","n/a","n/a","n/a","n/a","n/a","n/a","n/a","n/a","n/a","n/a","n/a","n/a","n/a","n/a","n/a","n/a","n/a","n/a","n/a","n/a","n/a","n/a","n/a","n/a","n/a","n/a","n/a","n/a","n/a","n/a","n/a","n/a","n/a","n/a","n/a","n/a","n/a","n/a","n/a","n/a","n/a","n/a","n/a","n/a","n/a","n/a","n/a","n/a","n/a","n/a","n/a","n/a","n/a","n/a","n/a","n/a","n/a","n/a","n/a","n/a","n/a","n/a","n/a","n/a","n/a","n/a","n/a","n/a","n/a","n/a","n/a"]
[1.25,"(1) Urban Interstate",9,"Weekday Continuous","7:00 AM-4:00 PM","(1) Urban Interstate7:00 AM-4:00 PM","n/a","n/a","n/a","n/a","n/a","n/a","n/a","n/a","n/a","n/a","n/a","n/a","n/a","n/a","n/a","n/a","n/a","n/a","n/a","n/a","n/a","n/a","n/a","n/a","n/a","n/a","n/a","n/a","n/a","n/a","n/a","n/a","n/a","n/a","n/a","n/a","n/a","n/a","n/a","n/a","n/a","n/a","n/a","n/a","n/a","n/a","n/a","n/a","n/a","n/a","n/a","n/a","n/a","n/a","n/a","n/a","n/a","n/a","n/a","n/a","n/a","n/a","n/a","n/a","n/a","n/a","n/a","n/a","n/a","n/a","n/a","n/a"]
[1.26,"(1) Urban Interstate",9,"Weekday Continuous","8:00 AM-5:00 PM","(1) Urban Interstate8:00 AM-5:00 PM","n/a","n/a","n/a","n/a","n/a","n/a","n/a","n/a","n/a","n/a","n/a","n/a","n/a","n/a","n/a","n/a","n/a","n/a","n/a","n/a","n/a","n/a","n/a","n/a","n/a","n/a","n/a","n/a","n/a","n/a","n/a","n/a","n/a","n/a","n/a","n/a","n/a","n/a","n/a","n/a","n/a","n/a","n/a","n/a","n/a","n/a","n/a","n/a","n/a","n/a","n/a","n/a","n/a","n/a","n/a","n/a","n/a","n/a","n/a","n/a","n/a","n/a","n/a","n/a","n/a","n/a","n/a","n/a","n/a","n/a","n/a","n/a"]
[1.27,"(1) Urban Interstate",9,"Weekday Continuous","9:00 AM-6:00 PM","(1) Urban Interstate9:00 AM-6:00 PM","n/a","n/a","n/a","n/a","n/a","n/a","n/a","n/a","n/a","n/a","n/a","n/a","n/a","n/a","n/a","n/a","n/a","n/a","n/a","n/a","n/a","n/a","n/a","n/a","n/a","n/a","n/a","n/a","n/a","n/a","n/a","n/a","n/a","n/a","n/a","n/a","n/a","n/a","n/a","n/a","n/a","n/a","n/a","n/a","n/a","n/a","n/a","n/a","n/a","n/a","n/a","n/a","n/a","n/a","n/a","n/a","n/a","n/a","n/a","n/a","n/a","n/a","n/a","n/a","n/a","n/a","n/a","n/a","n/a","n/a","n/a","n/a"]
[1.28,"(1) Urban Interstate",8,"Weekday Continuous","6:00 AM-2:00 PM","(1) Urban Interstate6:00 AM-2:00 PM","n/a","n/a","n/a","n/a","n/a","n/a","n/a","n/a","n/a","n/a","n/a","n/a","n/a","n/a","n/a","n/a","n/a","n/a","n/a","n/a","n/a","n/a","n/a","n/a","n/a","n/a","n/a","n/a","n/a","n/a","n/a","n/a","n/a","n/a","n/a","n/a","n/a","n/a","n/a","n/a","n/a","n/a","n/a","n/a","n/a","n/a","n/a","n/a","n/a","n/a","n/a","n/a","n/a","n/a","n/a","n/a","n/a","n/a","n/a","n/a","n/a","n/a","n/a","n/a","n/a","n/a","n/a","n/a","n/a","n/a","n/a","n/a"]
[1.29,"(1) Urban Interstate",8,"Weekday Continuous","7:00 AM-3:00 PM","(1) Urban Interstate7:00 AM-3:00 PM","n/a","n/a","n/a","n/a","n/a","n/a","n/a","n/a","n/a","n/a","n/a","n/a","n/a","n/a","n/a","n/a","n/a","n/a","n/a","n/a","n/a","n/a","n/a","n/a","n/a","n/a","n/a","n/a","n/a","n/a","n/a","n/a","n/a","n/a","n/a","n/a","n/a","n/a","n/a","n/a","n/a","n/a","n/a","n/a","n/a","n/a","n/a","n/a","n/a","n/a","n/a","n/a","n/a","n/a","n/a","n/a","n/a","n/a","n/a","n/a","n/a","n/a","n/a","n/a","n/a","n/a","n/a","n/a","n/a","n/a","n/a","n/a"]
[1.3,"(1) Urban Interstate",8,"Weekday Continuous","8:00 AM-4:00 PM","(1) Urban Interstate8:00 AM-4:00 PM","n/a","n/a","n/a","n/a","n/a","n/a","n/a","n/a","n/a","n/a","n/a","n/a","n/a","n/a","n/a","n/a","n/a","n/a","n/a","n/a","n/a","n/a","n/a","n/a","n/a","n/a","n/a","n/a","n/a","n/a","n/a","n/a","n/a","n/a","n/a","n/a","n/a","n/a","n/a","n/a","n/a","n/a","n/a","n/a","n/a","n/a","n/a","n/a","n/a","n/a","n/a","n/a","n/a","n/a","n/a","n/a","n/a","n/a","n/a","n/a","n/a","n/a","n/a","n/a","n/a","n/a","n/a","n/a","n/a","n/a","n/a","n/a"]
[1.31,"(1) Urban Interstate",8,"Weekday Continuous","9:00 AM-5:00 PM","(1) Urban Interstate9:00 AM-5:00 PM","n/a","n/a","n/a","n/a","n/a","n/a","n/a","n/a","n/a","n/a","n/a","n/a","n/a","n/a","n/a","n/a","n/a","n/a","n/a","n/a","n/a","n/a","n/a","n/a","n/a","n/a","n/a","n/a","n/a","n/a","n/a","n/a","n/a","n/a","n/a","n/a","n/a","n/a","n/a","n/a","n/a","n/a","n/a","n/a","n/a","n/a","n/a","n/a","n/a","n/a","n/a","n/a","n/a","n/a","n/a","n/a","n/a","n/a","n/a","n/a","n/a","n/a","n/a","n/a","n/a","n/a","n/a","n/a","n/a","n/a","n/a","n/a"]
[1.32,"(1) Urban Interstate",6,"Weekday 2-Part","6:00 AM-9:00 AM AND 4:00 PM-7:00 PM","(1) Urban Interstate6:00 AM-9:00 AM AND 4:00 PM-7:00 PM","n/a","n/a","n/a","n/a","n/a","n/a","n/a","n/a","n/a","n/a","n/a","n/a","n/a","n/a","n/a","n/a","n/a","n/a","n/a","n/a","n/a","n/a","n/a","n/a","n/a","n/a","n/a","n/a","n/a","n/a","n/a","n/a","n/a","n/a","n/a","n/a","n/a","n/a","n/a","n/a","n/a","n/a","n/a","n/a","n/a","n/a","n/a","n/a","n/a","n/a","n/a","n/a","n/a","n/a","n/a","n/a","n/a","n/a","n/a","n/a","n/a","n/a","n/a","n/a","n/a","n/a","n/a","n/a","n/a","n/a","n/a","n/a"]
[1.33,"(1) Urban Interstate",6,"Weekday 2-Part","6:00 AM-9:00 AM AND 3:00 PM-6:00 PM","(1) Urban Interstate6:00 AM-9:00 AM AND 3:00 PM-6:00 PM","n/a","n/a","n/a","n/a","n/a","n/a","n/a","n/a","n/a","n/a","n/a","n/a","n/a","n/a","n/a","n/a","n/a","n/a","n/a","n/a","n/a","n/a","n/a","n/a","n/a","n/a","n/a","n/a","n/a","n/a","n/a","n/a","n/a","n/a","n/a","n/a","n/a","n/a","n/a","n/a","n/a","n/a","n/a","n/a","n/a","n/a","n/a","n/a","n/a","n/a","n/a","n/a","n/a","n/a","n/a","n/a","n/a","n/a","n/a","n/a","n/a","n/a","n/a","n/a","n/a","n/a","n/a","n/a","n/a","n/a","n/a","n/a"]
[1.34,"(1) Urban Interstate",6,"Weekday 2-Part","7:00 AM-10:00 AM AND 4:00 PM-7:00 PM","(1) Urban Interstate7:00 AM-10:00 AM AND 4:00 PM-7:00 PM","n/a","n/a","n/a","n/a","n/a","n/a","n/a","n/a","n/a","n/a","n/a","n/a","n/a","n/a","n/a","n/a","n/a","n/a","n/a","n/a","n/a","n/a","n/a","n/a","n/a","n/a","n/a","n/a","n/a","n/a","n/a","n/a","n/a","n/a","n/a","n/a","n/a","n/a","n/a","n/a","n/a","n/a","n/a","n/a","n/a","n/a","n/a","n/a","n/a","n/a","n/a","n/a","n/a","n/a","n/a","n/a","n/a","n/a","n/a","n/a","n/a","n/a","n/a","n/a","n/a","n/a","n/a","n/a","n/a","n/a","n/a","n/a"]
[1.35,"(1) Urban Interstate",6,"Weekday 2-Part","7:00 AM-10:00 AM AND 3:00 PM-6:00 PM","(1) Urban Interstate7:00 AM-10:00 AM AND 3:00 PM-6:00 PM","n/a","n/a","n/a","n/a","n/a","n/a","n/a","n/a","n/a","n/a","n/a","n/a","n/a","n/a","n/a","n/a","n/a","n/a","n/a","n/a","n/a","n/a","n/a","n/a","n/a","n/a","n/a","n/a","n/a","n/a","n/a","n/a","n/a","n/a","n/a","n/a","n/a","n/a","n/a","n/a","n/a","n/a","n/a","n/a","n/a","n/a","n/a","n/a","n/a","n/a","n/a","n/a","n/a","n/a","n/a","n/a","n/a","n/a","n/a","n/a","n/a","n/a","n/a","n/a","n/a","n/a","n/a","n/a","n/a","n/a","n/a","n/a"]
[1.36,"(1) Urban Interstate",5,"Weekday 2-Part","6:00 AM-8:00 AM AND 4:00 PM-7:00 PM","(1) Urban Interstate6:00 AM-8:00 AM AND 4:00 PM-7:00 PM","n/a","n/a","n/a","n/a","n/a","n/a","n/a","n/a","n/a","n/a","n/a","n/a","n/a","n/a","n/a","n/a","n/a","n/a","n/a","n/a","n/a","n/a","n/a","n/a","n/a","n/a","n/a","n/a","n/a","n/a","n/a","n/a","n/a","n/a","n/a","n/a","n/a","n/a","n/a","n/a","n/a","n/a","n/a","n/a","n/a","n/a","n/a","n/a","n/a","n/a","n/a","n/a","n/a","n/a","n/a","n/a","n/a","n/a","n/a","n/a","n/a","n/a","n/a","n/a","n/a","n/a","n/a","n/a","n/a","n/a","n/a","n/a"]
[1.37,"(1) Urban Interstate",5,"Weekday 2-Part","6:00 AM-8:00 AM AND 3:00 PM-6:00 PM","(1) Urban Interstate6:00 AM-8:00 AM AND 3:00 PM-6:00 PM","n/a","n/a","n/a","n/a","n/a","n/a","n/a","n/a","n/a","n/a","n/a","n/a","n/a","n/a","n/a","n/a","n/a","n/a","n/a","n/a","n/a","n/a","n/a","n/a","n/a","n/a","n/a","n/a","n/a","n/a","n/a","n/a","n/a","n/a","n/a","n/a","n/a","n/a","n/a","n/a","n/a","n/a","n/a","n/a","n/a","n/a","n/a","n/a","n/a","n/a","n/a","n/a","n/a","n/a","n/a","n/a","n/a","n/a","n/a","n/a","n/a","n/a","n/a","n/a","n/a","n/a","n/a","n/a","n/a","n/a","n/a","n/a"]
[1.38,"(1) Urban Interstate",5,"Weekday 2-Part","7:00 AM-9:00 AM AND 4:00 PM-7:00 PM","(1) Urban Interstate7:00 AM-9:00 AM AND 4:00 PM-7:00 PM","n/a","n/a","n/a","n/a","n/a","n/a","n/a","n/a","n/a","n/a","n/a","n/a","n/a","n/a","n/a","n/a","n/a","n/a","n/a","n/a","n/a","n/a","n/a","n/a","n/a","n/a","n/a","n/a","n/a","n/a","n/a","n/a","n/a","n/a","n/a","n/a","n/a","n/a","n/a","n/a","n/a","n/a","n/a","n/a","n/a","n/a","n/a","n/a","n/a","n/a","n/a","n/a","n/a","n/a","n/a","n/a","n/a","n/a","n/a","n/a","n/a","n/a","n/a","n/a","n/a","n/a","n/a","n/a","n/a","n/a","n/a","n/a"]
[1.39,"(1) Urban Interstate",5,"Weekday 2-Part","7:00 AM-9:00 AM AND 3:00 PM-6:00 PM","(1) Urban Interstate7:00 AM-9:00 AM AND 3:00 PM-6:00 PM","n/a","n/a","n/a","n/a","n/a","n/a","n/a","n/a","n/a","n/a","n/a","n/a","n/a","n/a","n/a","n/a","n/a","n/a","n/a","n/a","n/a","n/a","n/a","n/a","n/a","n/a","n/a","n/a","n/a","n/a","n/a","n/a","n/a","n/a","n/a","n/a","n/a","n/a","n/a","n/a","n/a","n/a","n/a","n/a","n/a","n/a","n/a","n/a","n/a","n/a","n/a","n/a","n/a","n/a","n/a","n/a","n/a","n/a","n/a","n/a","n/a","n/a","n/a","n/a","n/a","n/a","n/a","n/a","n/a","n/a","n/a","n/a"]
[1.4,"(1) Urban Interstate",4,"Weekday 2-Part","6:00 AM-8:00 AM AND 4:00 PM-6:00 PM","(1) Urban Interstate6:00 AM-8:00 AM AND 4:00 PM-6:00 PM","n/a","n/a","n/a","n/a","n/a","n/a","n/a","n/a","n/a","n/a","n/a","n/a","n/a","n/a","n/a","n/a","n/a","n/a","n/a","n/a","n/a","n/a","n/a","n/a","n/a","n/a","n/a","n/a","n/a","n/a","n/a","n/a","n/a","n/a","n/a","n/a","n/a","n/a","n/a","n/a","n/a","n/a","n/a","n/a","n/a","n/a","n/a","n/a","n/a","n/a","n/a","n/a","n/a","n/a","n/a","n/a","n/a","n/a","n/a","n/a","n/a","n/a","n/a","n/a","n/a","n/a","n/a","n/a","n/a","n/a","n/a","n/a"]
[1.41,"(1) Urban Interstate",4,"Weekday 2-Part","6:00 AM-8:00 AM AND 3:00 PM-5:00 PM","(1) Urban Interstate6:00 AM-8:00 AM AND 3:00 PM-5:00 PM","n/a","n/a","n/a","n/a","n/a","n/a","n/a","n/a","n/a","n/a","n/a","n/a","n/a","n/a","n/a","n/a","n/a","n/a","n/a","n/a","n/a","n/a","n/a","n/a","n/a","n/a","n/a","n/a","n/a","n/a","n/a","n/a","n/a","n/a","n/a","n/a","n/a","n/a","n/a","n/a","n/a","n/a","n/a","n/a","n/a","n/a","n/a","n/a","n/a","n/a","n/a","n/a","n/a","n/a","n/a","n/a","n/a","n/a","n/a","n/a","n/a","n/a","n/a","n/a","n/a","n/a","n/a","n/a","n/a","n/a","n/a","n/a"]
[1.42,"(1) Urban Interstate",4,"Weekday 2-Part","7:00 AM-9:00 AM AND 4:00 PM-6:00 PM","(1) Urban Interstate7:00 AM-9:00 AM AND 4:00 PM-6:00 PM","n/a","n/a","n/a","n/a","n/a","n/a","n/a","n/a","n/a","n/a","n/a","n/a","n/a","n/a","n/a","n/a","n/a","n/a","n/a","n/a","n/a","n/a","n/a","n/a","n/a","n/a","n/a","n/a","n/a","n/a","n/a","n/a","n/a","n/a","n/a","n/a","n/a","n/a","n/a","n/a","n/a","n/a","n/a","n/a","n/a","n/a","n/a","n/a","n/a","n/a","n/a","n/a","n/a","n/a","n/a","n/a","n/a","n/a","n/a","n/a","n/a","n/a","n/a","n/a","n/a","n/a","n/a","n/a","n/a","n/a","n/a","n/a"]
[1.43,"(1) Urban Interstate",4,"Weekday 2-Part","7:00 AM-9:00 AM AND 3:00 PM-5:00 PM","(1) Urban Interstate7:00 AM-9:00 AM AND 3:00 PM-5:00 PM","n/a","n/a","n/a","n/a","n/a","n/a","n/a","n/a","n/a","n/a","n/a","n/a","n/a","n/a","n/a","n/a","n/a","n/a","n/a","n/a","n/a","n/a","n/a","n/a","n/a","n/a","n/a","n/a","n/a","n/a","n/a","n/a","n/a","n/a","n/a","n/a","n/a","n/a","n/a","n/a","n/a","n/a","n/a","n/a","n/a","n/a","n/a","n/a","n/a","n/a","n/a","n/a","n/a","n/a","n/a","n/a","n/a","n/a","n/a","n/a","n/a","n/a","n/a","n/a","n/a","n/a","n/a","n/a","n/a","n/a","n/a","n/a"]
[1.44,"(1) Urban Interstate",8,"Weekday 3-Part","6:00 AM-9:00 AM, 11:00 AM-1:00 PM, AND 3:00 PM-6:00 PM","(1) Urban Interstate6:00 AM-9:00 AM, 11:00 AM-1:00 PM, AND 3:00 PM-6:00 PM","n/a","n/a","n/a","n/a","n/a","n/a","n/a","n/a","n/a","n/a","n/a","n/a","n/a","n/a","n/a","n/a","n/a","n/a","n/a","n/a","n/a","n/a","n/a","n/a","n/a","n/a","n/a","n/a","n/a","n/a","n/a","n/a","n/a","n/a","n/a","n/a","n/a","n/a","n/a","n/a","n/a","n/a","n/a","n/a","n/a","n/a","n/a","n/a","n/a","n/a","n/a","n/a","n/a","n/a","n/a","n/a","n/a","n/a","n/a","n/a","n/a","n/a","n/a","n/a","n/a","n/a","n/a","n/a","n/a","n/a","n/a","n/a"]
[1.45,"(1) Urban Interstate",4,"Weekend Continuous","9:00 AM-1:00 PM","(1) Urban Interstate9:00 AM-1:00 PM","n/a","n/a","n/a","n/a","n/a","n/a","n/a","n/a","n/a","n/a","n/a","n/a","n/a","n/a","n/a","n/a","n/a","n/a","n/a","n/a","n/a","n/a","n/a","n/a","n/a","n/a","n/a","n/a","n/a","n/a","n/a","n/a","n/a","n/a","n/a","n/a","n/a","n/a","n/a","n/a","n/a","n/a","n/a","n/a","n/a","n/a","n/a","n/a","n/a","n/a","n/a","n/a","n/a","n/a","n/a","n/a","n/a","n/a","n/a","n/a","n/a","n/a","n/a","n/a","n/a","n/a","n/a","n/a","n/a","n/a","n/a","n/a"]
[1.46,"(1) Urban Interstate",4,"Weekend Continuous","10:00 AM-2:00 PM","(1) Urban Interstate10:00 AM-2:00 PM","n/a","n/a","n/a","n/a","n/a","n/a","n/a","n/a","n/a","n/a","n/a","n/a","n/a","n/a","n/a","n/a","n/a","n/a","n/a","n/a","n/a","n/a","n/a","n/a","n/a","n/a","n/a","n/a","n/a","n/a","n/a","n/a","n/a","n/a","n/a","n/a","n/a","n/a","n/a","n/a","n/a","n/a","n/a","n/a","n/a","n/a","n/a","n/a","n/a","n/a","n/a","n/a","n/a","n/a","n/a","n/a","n/a","n/a","n/a","n/a","n/a","n/a","n/a","n/a","n/a","n/a","n/a","n/a","n/a","n/a","n/a","n/a"]
[1.47,"(1) Urban Interstate",4,"Weekend Continuous","11:00 AM-3:00 PM","(1) Urban Interstate11:00 AM-3:00 PM","n/a","n/a","n/a","n/a","n/a","n/a","n/a","n/a","n/a","n/a","n/a","n/a","n/a","n/a","n/a","n/a","n/a","n/a","n/a","n/a","n/a","n/a","n/a","n/a","n/a","n/a","n/a","n/a","n/a","n/a","n/a","n/a","n/a","n/a","n/a","n/a","n/a","n/a","n/a","n/a","n/a","n/a","n/a","n/a","n/a","n/a","n/a","n/a","n/a","n/a","n/a","n/a","n/a","n/a","n/a","n/a","n/a","n/a","n/a","n/a","n/a","n/a","n/a","n/a","n/a","n/a","n/a","n/a","n/a","n/a","n/a","n/a"]
[1.48,"(1) Urban Interstate",3,"Weekend Continuous","10:00 AM-1:00 PM","(1) Urban Interstate10:00 AM-1:00 PM","n/a","n/a","n/a","n/a","n/a","n/a","n/a","n/a","n/a","n/a","n/a","n/a","n/a","n/a","n/a","n/a","n/a","n/a","n/a","n/a","n/a","n/a","n/a","n/a","n/a","n/a","n/a","n/a","n/a","n/a","n/a","n/a","n/a","n/a","n/a","n/a","n/a","n/a","n/a","n/a","n/a","n/a","n/a","n/a","n/a","n/a","n/a","n/a","n/a","n/a","n/a","n/a","n/a","n/a","n/a","n/a","n/a","n/a","n/a","n/a","n/a","n/a","n/a","n/a","n/a","n/a","n/a","n/a","n/a","n/a","n/a","n/a"]
[1.49,"(1) Urban Interstate",3,"Weekend Continuous","11:00 AM-2:00 PM","(1) Urban Interstate11:00 AM-2:00 PM","n/a","n/a","n/a","n/a","n/a","n/a","n/a","n/a","n/a","n/a","n/a","n/a","n/a","n/a","n/a","n/a","n/a","n/a","n/a","n/a","n/a","n/a","n/a","n/a","n/a","n/a","n/a","n/a","n/a","n/a","n/a","n/a","n/a","n/a","n/a","n/a","n/a","n/a","n/a","n/a","n/a","n/a","n/a","n/a","n/a","n/a","n/a","n/a","n/a","n/a","n/a","n/a","n/a","n/a","n/a","n/a","n/a","n/a","n/a","n/a","n/a","n/a","n/a","n/a","n/a","n/a","n/a","n/a","n/a","n/a","n/a","n/a"]
[1.5,"(1) Urban Interstate",2,"Weekend Continuous","11:00 AM-1:00 PM","(1) Urban Interstate11:00 AM-1:00 PM","n/a","n/a","n/a","n/a","n/a","n/a","n/a","n/a","n/a","n/a","n/a","n/a","n/a","n/a","n/a","n/a","n/a","n/a","n/a","n/a","n/a","n/a","n/a","n/a","n/a","n/a","n/a","n/a","n/a","n/a","n/a","n/a","n/a","n/a","n/a","n/a","n/a","n/a","n/a","n/a","n/a","n/a","n/a","n/a","n/a","n/a","n/a","n/a","n/a","n/a","n/a","n/a","n/a","n/a","n/a","n/a","n/a","n/a","n/a","n/a","n/a","n/a","n/a","n/a","n/a","n/a","n/a","n/a","n/a","n/a","n/a","n/a"]
[]
[2.0099999999999998,"(2) Urban Arterials & Collectors",16,"Weekday Continuous","6:00 AM-10:00 PM","(2) Urban Arterials & Collectors6:00 AM-10:00 PM","n/a","n/a","n/a","n/a","n/a","n/a","n/a","n/a","n/a","n/a","n/a","n/a","n/a","n/a","n/a","n/a","n/a","n/a","n/a","n/a","n/a","n/a","n/a","n/a","n/a","n/a","n/a","n/a","n/a","n/a","n/a","n/a","n/a","n/a","n/a","n/a","n/a","n/a","n/a","n/a","n/a","n/a","n/a","n/a","n/a","n/a","n/a","n/a","n/a","n/a","n/a","n/a","n/a","n/a","n/a","n/a","n/a","n/a","n/a","n/a","n/a","n/a","n/a","n/a","n/a","n/a","n/a","n/a","n/a","n/a","n/a","n/a"]
[2.02,"(2) Urban Arterials & Collectors",15,"Weekday Continuous","6:00 AM-9:00 PM","(2) Urban Arterials & Collectors6:00 AM-9:00 PM","n/a","n/a","n/a","n/a","n/a","n/a","n/a","n/a","n/a","n/a","n/a","n/a","n/a","n/a","n/a","n/a","n/a","n/a","n/a","n/a","n/a","n/a","n/a","n/a","n/a","n/a","n/a","n/a","n/a","n/a","n/a","n/a","n/a","n/a","n/a","n/a","n/a","n/a","n/a","n/a","n/a","n/a","n/a","n/a","n/a","n/a","n/a","n/a","n/a","n/a","n/a","n/a","n/a","n/a","n/a","n/a","n/a","n/a","n/a","n/a","n/a","n/a","n/a","n/a","n/a","n/a","n/a","n/a","n/a","n/a","n/a","n/a"]
[2.0299999999999998,"(2) Urban Arterials & Collectors",15,"Weekday Continuous","7:00 AM-10:00 PM","(2) Urban Arterials & Collectors7:00 AM-10:00 PM","n/a","n/a","n/a","n/a","n/a","n/a","n/a","n/a","n/a","n/a","n/a","n/a","n/a","n/a","n/a","n/a","n/a","n/a","n/a","n/a","n/a","n/a","n/a","n/a","n/a","n/a","n/a","n/a","n/a","n/a","n/a","n/a","n/a","n/a","n/a","n/a","n/a","n/a","n/a","n/a","n/a","n/a","n/a","n/a","n/a","n/a","n/a","n/a","n/a","n/a","n/a","n/a","n/a","n/a","n/a","n/a","n/a","n/a","n/a","n/a","n/a","n/a","n/a","n/a","n/a","n/a","n/a","n/a","n/a","n/a","n/a","n/a"]
[2.04,"(2) Urban Arterials & Collectors",14,"Weekday Continuous","6:00 AM-8:00 PM","(2) Urban Arterials & Collectors6:00 AM-8:00 PM","n/a","n/a","n/a","n/a","n/a","n/a","n/a","n/a","n/a","n/a","n/a","n/a","n/a","n/a","n/a","n/a","n/a","n/a","n/a","n/a","n/a","n/a","n/a","n/a","n/a","n/a","n/a","n/a","n/a","n/a","n/a","n/a","n/a","n/a","n/a","n/a","n/a","n/a","n/a","n/a","n/a","n/a","n/a","n/a","n/a","n/a","n/a","n/a","n/a","n/a","n/a","n/a","n/a","n/a","n/a","n/a","n/a","n/a","n/a","n/a","n/a","n/a","n/a","n/a","n/a","n/a","n/a","n/a","n/a","n/a","n/a","n/a"]
[2.0499999999999998,"(2) Urban Arterials & Collectors",14,"Weekday Continuous","7:00 AM-9:00 PM","(2) Urban Arterials & Collectors7:00 AM-9:00 PM","n/a","n/a","n/a","n/a","n/a","n/a","n/a","n/a","n/a","n/a","n/a","n/a","n/a","n/a","n/a","n/a","n/a","n/a","n/a","n/a","n/a","n/a","n/a","n/a","n/a","n/a","n/a","n/a","n/a","n/a","n/a","n/a","n/a","n/a","n/a","n/a","n/a","n/a","n/a","n/a","n/a","n/a","n/a","n/a","n/a","n/a","n/a","n/a","n/a","n/a","n/a","n/a","n/a","n/a","n/a","n/a","n/a","n/a","n/a","n/a","n/a","n/a","n/a","n/a","n/a","n/a","n/a","n/a","n/a","n/a","n/a","n/a"]
[2.06,"(2) Urban Arterials & Collectors",14,"Weekday Continuous","8:00 AM-10:00 PM","(2) Urban Arterials & Collectors8:00 AM-10:00 PM","n/a","n/a","n/a","n/a","n/a","n/a","n/a","n/a","n/a","n/a","n/a","n/a","n/a","n/a","n/a","n/a","n/a","n/a","n/a","n/a","n/a","n/a","n/a","n/a","n/a","n/a","n/a","n/a","n/a","n/a","n/a","n/a","n/a","n/a","n/a","n/a","n/a","n/a","n/a","n/a","n/a","n/a","n/a","n/a","n/a","n/a","n/a","n/a","n/a","n/a","n/a","n/a","n/a","n/a","n/a","n/a","n/a","n/a","n/a","n/a","n/a","n/a","n/a","n/a","n/a","n/a","n/a","n/a","n/a","n/a","n/a","n/a"]
[2.0699999999999998,"(2) Urban Arterials & Collectors",13,"Weekday Continuous","6:00 AM-7:00 PM","(2) Urban Arterials & Collectors6:00 AM-7:00 PM",1.2669999999999999,1.2450000000000001,1.1950000000000001,1.216,1.2170000000000001,1.238,1.1759999999999999,"n/a","n/a","n/a","n/a","n/a","n/a","n/a","n/a","n/a","n/a","n/a","n/a","n/a","n/a","n/a","n/a","n/a","n/a","n/a","n/a","n/a","n/a","n/a","n/a","n/a","n/a","n/a","n/a","n/a","n/a","n/a","n/a","n/a","n/a","n/a","n/a","n/a","n/a","n/a","n/a","n/a","n/a","n/a","n/a","n/a","n/a","n/a","n/a","n/a","n/a","n/a","n/a","n/a","n/a","n/a","n/a","n/a","n/a","n/a","n/a","n/a","n/a","n/a","n/a","n/a"]
[2.08,"(2) Urban Arterials & Collectors",13,"Weekday Continuous","7:00 AM-8:00 PM","(2) Urban Arterials & Collectors7:00 AM-8:00 PM","n/a","n/a","n/a","n/a","n/a","n/a","n/a","n/a","n/a","n/a","n/a","n/a","n/a","n/a","n/a","n/a","n/a","n/a","n/a","n/a","n/a","n/a","n/a","n/a","n/a","n/a","n/a","n/a","n/a","n/a","n/a","n/a","n/a","n/a","n/a","n/a","n/a","n/a","n/a","n/a","n/a","n/a","n/a","n/a","n/a","n/a","n/a","n/a","n/a","n/a","n/a","n/a","n/a","n/a","n/a","n/a","n/a","n/a","n/a","n/a","n/a","n/a","n/a","n/a","n/a","n/a","n/a","n/a","n/a","n/a","n/a","n/a"]
[2.09,"(2) Urban Arterials & Collectors",13,"Weekday Continuous","8:00 AM-9:00 PM","(2) Urban Arterials & Collectors8:00 AM-9:00 PM","n/a","n/a","n/a","n/a","n/a","n/a","n/a","n/a","n/a","n/a","n/a","n/a","n/a","n/a","n/a","n/a","n/a","n/a","n/a","n/a","n/a","n/a","n/a","n/a","n/a","n/a","n/a","n/a","n/a","n/a","n/a","n/a","n/a","n/a","n/a","n/a","n/a","n/a","n/a","n/a","n/a","n/a","n/a","n/a","n/a","n/a","n/a","n/a","n/a","n/a","n/a","n/a","n/a","n/a","n/a","n/a","n/a","n/a","n/a","n/a","n/a","n/a","n/a","n/a","n/a","n/a","n/a","n/a","n/a","n/a","n/a","n/a"]
[2.1,"(2) Urban Arterials & Collectors",13,"Weekday Continuous","9:00 AM-10:00 PM","(2) Urban Arterials & Collectors9:00 AM-10:00 PM","n/a","n/a","n/a","n/a","n/a","n/a","n/a","n/a","n/a","n/a","n/a","n/a","n/a","n/a","n/a","n/a","n/a","n/a","n/a","n/a","n/a","n/a","n/a","n/a","n/a","n/a","n/a","n/a","n/a","n/a","n/a","n/a","n/a","n/a","n/a","n/a","n/a","n/a","n/a","n/a","n/a","n/a","n/a","n/a","n/a","n/a","n/a","n/a","n/a","n/a","n/a","n/a","n/a","n/a","n/a","n/a","n/a","n/a","n/a","n/a","n/a","n/a","n/a","n/a","n/a","n/a","n/a","n/a","n/a","n/a","n/a","n/a"]
[2.11,"(2) Urban Arterials & Collectors",12,"Weekday Continuous","6:00 AM-6:00 PM","(2) Urban Arterials & Collectors6:00 AM-6:00 PM",1.381,1.35,1.296,1.3009999999999999,1.3080000000000001,1.3460000000000001,1.2709999999999999,"n/a","n/a","n/a","n/a","n/a","n/a","n/a","n/a","n/a","n/a","n/a","n/a","n/a","n/a","n/a","n/a","n/a","n/a","n/a","n/a","n/a","n/a","n/a","n/a","n/a","n/a","n/a","n/a","n/a","n/a","n/a","n/a","n/a","n/a","n/a","n/a","n/a","n/a","n/a","n/a","n/a","n/a","n/a","n/a","n/a","n/a","n/a","n/a","n/a","n/a","n/a","n/a","n/a","n/a","n/a","n/a","n/a","n/a","n/a","n/a","n/a","n/a","n/a","n/a","n/a"]
[2.12,"(2) Urban Arterials & Collectors",12,"Weekday Continuous","7:00 AM-7:00 PM","(2) Urban Arterials & Collectors7:00 AM-7:00 PM","n/a","n/a","n/a","n/a","n/a","n/a","n/a","n/a","n/a","n/a","n/a","n/a","n/a","n/a","n/a","n/a","n/a","n/a","n/a","n/a","n/a","n/a","n/a","n/a","n/a","n/a","n/a","n/a","n/a","n/a","n/a","n/a","n/a","n/a","n/a","n/a","n/a","n/a","n/a","n/a","n/a","n/a","n/a","n/a","n/a","n/a","n/a","n/a","n/a","n/a","n/a","n/a","n/a","n/a","n/a","n/a","n/a","n/a","n/a","n/a","n/a","n/a","n/a","n/a","n/a","n/a","n/a","n/a","n/a","n/a","n/a","n/a"]
[2.13,"(2) Urban Arterials & Collectors",12,"Weekday Continuous","8:00 AM-8:00 PM","(2) Urban Arterials & Collectors8:00 AM-8:00 PM","n/a","n/a","n/a","n/a","n/a","n/a","n/a","n/a","n/a","n/a","n/a","n/a","n/a","n/a","n/a","n/a","n/a","n/a","n/a","n/a","n/a","n/a","n/a","n/a","n/a","n/a","n/a","n/a","n/a","n/a","n/a","n/a","n/a","n/a","n/a","n/a","n/a","n/a","n/a","n/a","n/a","n/a","n/a","n/a","n/a","n/a","n/a","n/a","n/a","n/a","n/a","n/a","n/a","n/a","n/a","n/a","n/a","n/a","n/a","n/a","n/a","n/a","n/a","n/a","n/a","n/a","n/a","n/a","n/a","n/a","n/a","n/a"]
[2.14,"(2) Urban Arterials & Collectors",12,"Weekday Continuous","9:00 AM-9:00 PM","(2) Urban Arterials & Collectors9:00 AM-9:00 PM","n/a","n/a","n/a","n/a","n/a","n/a","n/a","n/a","n/a","n/a","n/a","n/a","n/a","n/a","n/a","n/a","n/a","n/a","n/a","n/a","n/a","n/a","n/a","n/a","n/a","n/a","n/a","n/a","n/a","n/a","n/a","n/a","n/a","n/a","n/a","n/a","n/a","n/a","n/a","n/a","n/a","n/a","n/a","n/a","n/a","n/a","n/a","n/a","n/a","n/a","n/a","n/a","n/a","n/a","n/a","n/a","n/a","n/a","n/a","n/a","n/a","n/a","n/a","n/a","n/a","n/a","n/a","n/a","n/a","n/a","n/a","n/a"]
[2.15,"(2) Urban Arterials & Collectors",12,"Weekday Continuous","10:00 AM-10:00 PM",{"$f":"CONCATENATE(B72,E72)","v":"(2) Urban Arterials & Collectors10:00 AM-10:00 PM"},"n/a","n/a","n/a","n/a","n/a","n/a","n/a","n/a","n/a","n/a","n/a","n/a","n/a","n/a","n/a","n/a","n/a","n/a","n/a","n/a","n/a","n/a","n/a","n/a","n/a","n/a","n/a","n/a","n/a","n/a","n/a","n/a","n/a","n/a","n/a","n/a","n/a","n/a","n/a","n/a","n/a","n/a","n/a","n/a","n/a","n/a","n/a","n/a","n/a","n/a","n/a","n/a","n/a","n/a","n/a","n/a","n/a","n/a","n/a","n/a","n/a","n/a","n/a","n/a","n/a","n/a","n/a","n/a","n/a","n/a","n/a","n/a"]
[2.16,"(2) Urban Arterials & Collectors",11,"Weekday Continuous","6:00 AM-5:00 PM","(2) Urban Arterials & Collectors6:00 AM-5:00 PM","n/a","n/a","n/a","n/a","n/a","n/a","n/a","n/a","n/a","n/a","n/a","n/a","n/a","n/a","n/a","n/a","n/a","n/a","n/a","n/a","n/a","n/a","n/a","n/a","n/a","n/a","n/a","n/a","n/a","n/a","n/a","n/a","n/a","n/a","n/a","n/a","n/a","n/a","n/a","n/a","n/a","n/a","n/a","n/a","n/a","n/a","n/a","n/a","n/a","n/a","n/a","n/a","n/a","n/a","n/a","n/a","n/a","n/a","n/a","n/a","n/a","n/a","n/a","n/a","n/a","n/a","n/a","n/a","n/a","n/a","n/a","n/a"]
[2.17,"(2) Urban Arterials & Collectors",11,"Weekday Continuous","7:00 AM-6:00 PM","(2) Urban Arterials & Collectors7:00 AM-6:00 PM","n/a","n/a","n/a","n/a","n/a","n/a","n/a","n/a","n/a","n/a","n/a","n/a","n/a","n/a","n/a","n/a","n/a","n/a","n/a","n/a","n/a","n/a","n/a","n/a","n/a","n/a","n/a","n/a","n/a","n/a","n/a","n/a","n/a","n/a","n/a","n/a","n/a","n/a","n/a","n/a","n/a","n/a","n/a","n/a","n/a","n/a","n/a","n/a","n/a","n/a","n/a","n/a","n/a","n/a","n/a","n/a","n/a","n/a","n/a","n/a","n/a","n/a","n/a","n/a","n/a","n/a","n/a","n/a","n/a","n/a","n/a","n/a"]
[2.1800000000000002,"(2) Urban Arterials & Collectors",11,"Weekday Continuous","8:00 AM-7:00 PM","(2) Urban Arterials & Collectors8:00 AM-7:00 PM","n/a","n/a","n/a","n/a","n/a","n/a","n/a","n/a","n/a","n/a","n/a","n/a","n/a","n/a","n/a","n/a","n/a","n/a","n/a","n/a","n/a","n/a","n/a","n/a","n/a","n/a","n/a","n/a","n/a","n/a","n/a","n/a","n/a","n/a","n/a","n/a","n/a","n/a","n/a","n/a","n/a","n/a","n/a","n/a","n/a","n/a","n/a","n/a","n/a","n/a","n/a","n/a","n/a","n/a","n/a","n/a","n/a","n/a","n/a","n/a","n/a","n/a","n/a","n/a","n/a","n/a","n/a","n/a","n/a","n/a","n/a","n/a"]
[2.19,"(2) Urban Arterials & Collectors",11,"Weekday Continuous","9:00 AM-8:00 PM","(2) Urban Arterials & Collectors9:00 AM-8:00 PM","n/a","n/a","n/a","n/a","n/a","n/a","n/a","n/a","n/a","n/a","n/a","n/a","n/a","n/a","n/a","n/a","n/a","n/a","n/a","n/a","n/a","n/a","n/a","n/a","n/a","n/a","n/a","n/a","n/a","n/a","n/a","n/a","n/a","n/a","n/a","n/a","n/a","n/a","n/a","n/a","n/a","n/a","n/a","n/a","n/a","n/a","n/a","n/a","n/a","n/a","n/a","n/a","n/a","n/a","n/a","n/a","n/a","n/a","n/a","n/a","n/a","n/a","n/a","n/a","n/a","n/a","n/a","n/a","n/a","n/a","n/a","n/a"]
[2.2000000000000002,"(2) Urban Arterials & Collectors",10,"Weekday Continuous","6:00 AM-4:00 PM","(2) Urban Arterials & Collectors6:00 AM-4:00 PM","n/a","n/a","n/a","n/a","n/a","n/a","n/a","n/a","n/a","n/a","n/a","n/a","n/a","n/a","n/a","n/a","n/a","n/a","n/a","n/a","n/a","n/a","n/a","n/a","n/a","n/a","n/a","n/a","n/a","n/a","n/a","n/a","n/a","n/a","n/a","n/a","n/a","n/a","n/a","n/a","n/a","n/a","n/a","n/a","n/a","n/a","n/a","n/a","n/a","n/a","n/a","n/a","n/a","n/a","n/a","n/a","n/a","n/a","n/a","n/a","n/a","n/a","n/a","n/a","n/a","n/a","n/a","n/a","n/a","n/a","n/a","n/a"]
[2.21,"(2) Urban Arterials & Collectors",10,"Weekday Continuous","7:00 AM-5:00 PM","(2) Urban Arterials & Collectors7:00 AM-5:00 PM","n/a","n/a","n/a","n/a","n/a","n/a","n/a","n/a","n/a","n/a","n/a","n/a","n/a","n/a","n/a","n/a","n/a","n/a","n/a","n/a","n/a","n/a","n/a","n/a","n/a","n/a","n/a","n/a","n/a","n/a","n/a","n/a","n/a","n/a","n/a","n/a","n/a","n/a","n/a","n/a","n/a","n/a","n/a","n/a","n/a","n/a","n/a","n/a","n/a","n/a","n/a","n/a","n/a","n/a","n/a","n/a","n/a","n/a","n/a","n/a","n/a","n/a","n/a","n/a","n/a","n/a","n/a","n/a","n/a","n/a","n/a","n/a"]
[2.2200000000000002,"(2) Urban Arterials & Collectors",10,"Weekday Continuous","8:00 AM-6:00 PM","(2) Urban Arterials & Collectors8:00 AM-6:00 PM","n/a","n/a","n/a","n/a","n/a","n/a","n/a","n/a","n/a","n/a","n/a","n/a","n/a","n/a","n/a","n/a","n/a","n/a","n/a","n/a","n/a","n/a","n/a","n/a","n/a","n/a","n/a","n/a","n/a","n/a","n/a","n/a","n/a","n/a","n/a","n/a","n/a","n/a","n/a","n/a","n/a","n/a","n/a","n/a","n/a","n/a","n/a","n/a","n/a","n/a","n/a","n/a","n/a","n/a","n/a","n/a","n/a","n/a","n/a","n/a","n/a","n/a","n/a","n/a","n/a","n/a","n/a","n/a","n/a","n/a","n/a","n/a"]
[2.23,"(2) Urban Arterials & Collectors",10,"Weekday Continuous","9:00 AM-7:00 PM","(2) Urban Arterials & Collectors9:00 AM-7:00 PM","n/a","n/a","n/a","n/a","n/a","n/a","n/a","n/a","n/a","n/a","n/a","n/a","n/a","n/a","n/a","n/a","n/a","n/a","n/a","n/a","n/a","n/a","n/a","n/a","n/a","n/a","n/a","n/a","n/a","n/a","n/a","n/a","n/a","n/a","n/a","n/a","n/a","n/a","n/a","n/a","n/a","n/a","n/a","n/a","n/a","n/a","n/a","n/a","n/a","n/a","n/a","n/a","n/a","n/a","n/a","n/a","n/a","n/a","n/a","n/a","n/a","n/a","n/a","n/a","n/a","n/a","n/a","n/a","n/a","n/a","n/a","n/a"]
[2.2400000000000002,"(2) Urban Arterials & Collectors",9,"Weekday Continuous","6:00 AM-3:00 PM","(2) Urban Arterials & Collectors6:00 AM-3:00 PM","n/a","n/a","n/a","n/a","n/a","n/a","n/a","n/a","n/a","n/a","n/a","n/a","n/a","n/a","n/a","n/a","n/a","n/a","n/a","n/a","n/a","n/a","n/a","n/a","n/a","n/a","n/a","n/a","n/a","n/a","n/a","n/a","n/a","n/a","n/a","n/a","n/a","n/a","n/a","n/a","n/a","n/a","n/a","n/a","n/a","n/a","n/a","n/a","n/a","n/a","n/a","n/a","n/a","n/a","n/a","n/a","n/a","n/a","n/a","n/a","n/a","n/a","n/a","n/a","n/a","n/a","n/a","n/a","n/a","n/a","n/a","n/a"]
[2.2500000000000102,"(2) Urban Arterials & Collectors",9,"Weekday Continuous","7:00 AM-4:00 PM","(2) Urban Arterials & Collectors7:00 AM-4:00 PM","n/a","n/a","n/a","n/a","n/a","n/a","n/a","n/a","n/a","n/a","n/a","n/a","n/a","n/a","n/a","n/a","n/a","n/a","n/a","n/a","n/a","n/a","n/a","n/a","n/a","n/a","n/a","n/a","n/a","n/a","n/a","n/a","n/a","n/a","n/a","n/a","n/a","n/a","n/a","n/a","n/a","n/a","n/a","n/a","n/a","n/a","n/a","n/a","n/a","n/a","n/a","n/a","n/a","n/a","n/a","n/a","n/a","n/a","n/a","n/a","n/a","n/a","n/a","n/a","n/a","n/a","n/a","n/a","n/a","n/a","n/a","n/a"]
[2.26000000000001,"(2) Urban Arterials & Collectors",9,"Weekday Continuous","8:00 AM-5:00 PM","(2) Urban Arterials & Collectors8:00 AM-5:00 PM","n/a","n/a","n/a","n/a","n/a","n/a","n/a","n/a","n/a","n/a","n/a","n/a","n/a","n/a","n/a","n/a","n/a","n/a","n/a","n/a","n/a","n/a","n/a","n/a","n/a","n/a","n/a","n/a","n/a","n/a","n/a","n/a","n/a","n/a","n/a","n/a","n/a","n/a","n/a","n/a","n/a","n/a","n/a","n/a","n/a","n/a","n/a","n/a","n/a","n/a","n/a","n/a","n/a","n/a","n/a","n/a","n/a","n/a","n/a","n/a","n/a","n/a","n/a","n/a","n/a","n/a","n/a","n/a","n/a","n/a","n/a","n/a"]
[2.2700000000000098,"(2) Urban Arterials & Collectors",9,"Weekday Continuous","9:00 AM-6:00 PM","(2) Urban Arterials & Collectors9:00 AM-6:00 PM","n/a","n/a","n/a","n/a","n/a","n/a","n/a","n/a","n/a","n/a","n/a","n/a","n/a","n/a","n/a","n/a","n/a","n/a","n/a","n/a","n/a","n/a","n/a","n/a","n/a","n/a","n/a","n/a","n/a","n/a","n/a","n/a","n/a","n/a","n/a","n/a","n/a","n/a","n/a","n/a","n/a","n/a","n/a","n/a","n/a","n/a","n/a","n/a","n/a","n/a","n/a","n/a","n/a","n/a","n/a","n/a","n/a","n/a","n/a","n/a","n/a","n/a","n/a","n/a","n/a","n/a","n/a","n/a","n/a","n/a","n/a","n/a"]
[2.28000000000001,"(2) Urban Arterials & Collectors",8,"Weekday Continuous","6:00 AM-2:00 PM","(2) Urban Arterials & Collectors6:00 AM-2:00 PM","n/a","n/a","n/a","n/a","n/a","n/a","n/a","n/a","n/a","n/a","n/a","n/a","n/a","n/a","n/a","n/a","n/a","n/a","n/a","n/a","n/a","n/a","n/a","n/a","n/a","n/a","n/a","n/a","n/a","n/a","n/a","n/a","n/a","n/a","n/a","n/a","n/a","n/a","n/a","n/a","n/a","n/a","n/a","n/a","n/a","n/a","n/a","n/a","n/a","n/a","n/a","n/a","n/a","n/a","n/a","n/a","n/a","n/a","n/a","n/a","n/a","n/a","n/a","n/a","n/a","n/a","n/a","n/a","n/a","n/a","n/a","n/a"]
[2.2900000000000098,"(2) Urban Arterials & Collectors",8,"Weekday Continuous","7:00 AM-3:00 PM","(2) Urban Arterials & Collectors7:00 AM-3:00 PM","n/a","n/a","n/a","n/a","n/a","n/a","n/a","n/a","n/a","n/a","n/a","n/a","n/a","n/a","n/a","n/a","n/a","n/a","n/a","n/a","n/a","n/a","n/a","n/a","n/a","n/a","n/a","n/a","n/a","n/a","n/a","n/a","n/a","n/a","n/a","n/a","n/a","n/a","n/a","n/a","n/a","n/a","n/a","n/a","n/a","n/a","n/a","n/a","n/a","n/a","n/a","n/a","n/a","n/a","n/a","n/a","n/a","n/a","n/a","n/a","n/a","n/a","n/a","n/a","n/a","n/a","n/a","n/a","n/a","n/a","n/a","n/a"]
[2.30000000000001,"(2) Urban Arterials & Collectors",8,"Weekday Continuous","8:00 AM-4:00 PM","(2) Urban Arterials & Collectors8:00 AM-4:00 PM","n/a","n/a","n/a","n/a","n/a","n/a","n/a","n/a","n/a","n/a","n/a","n/a","n/a","n/a","n/a","n/a","n/a","n/a","n/a","n/a","n/a","n/a","n/a","n/a","n/a","n/a","n/a","n/a","n/a","n/a","n/a","n/a","n/a","n/a","n/a","n/a","n/a","n/a","n/a","n/a","n/a","n/a","n/a","n/a","n/a","n/a","n/a","n/a","n/a","n/a","n/a","n/a","n/a","n/a","n/a","n/a","n/a","n/a","n/a","n/a","n/a","n/a","n/a","n/a","n/a","n/a","n/a","n/a","n/a","n/a","n/a","n/a"]
[2.3100000000000098,"(2) Urban Arterials & Collectors",8,"Weekday Continuous","9:00 AM-5:00 PM","(2) Urban Arterials & Collectors9:00 AM-5:00 PM","n/a","n/a","n/a","n/a","n/a","n/a","n/a","n/a","n/a","n/a","n/a","n/a","n/a","n/a","n/a","n/a","n/a","n/a","n/a","n/a","n/a","n/a","n/a","n/a","n/a","n/a","n/a","n/a","n/a","n/a","n/a","n/a","n/a","n/a","n/a","n/a","n/a","n/a","n/a","n/a","n/a","n/a","n/a","n/a","n/a","n/a","n/a","n/a","n/a","n/a","n/a","n/a","n/a","n/a","n/a","n/a","n/a","n/a","n/a","n/a","n/a","n/a","n/a","n/a","n/a","n/a","n/a","n/a","n/a","n/a","n/a","n/a"]
[2.3200000000000101,"(2) Urban Arterials & Collectors",6,"Weekday 2-Part","6:00 AM-9:00 AM AND 4:00 PM-7:00 PM","(2) Urban Arterials & Collectors6:00 AM-9:00 AM AND 4:00 PM-7:00 PM","n/a","n/a","n/a","n/a","n/a","n/a","n/a","n/a","n/a","n/a","n/a","n/a","n/a","n/a","n/a","n/a","n/a","n/a","n/a","n/a","n/a","n/a","n/a","n/a","n/a","n/a","n/a","n/a","n/a","n/a","n/a","n/a","n/a","n/a","n/a","n/a","n/a","n/a","n/a","n/a","n/a","n/a","n/a","n/a","n/a","n/a","n/a","n/a","n/a","n/a","n/a","n/a","n/a","n/a","n/a","n/a","n/a","n/a","n/a","n/a","n/a","n/a","n/a","n/a","n/a","n/a","n/a","n/a","n/a","n/a","n/a","n/a"]
[2.3300000000000098,"(2) Urban Arterials & Collectors",6,"Weekday 2-Part","6:00 AM-9:00 AM AND 3:00 PM-6:00 PM","(2) Urban Arterials & Collectors6:00 AM-9:00 AM AND 3:00 PM-6:00 PM","n/a","n/a","n/a","n/a","n/a","n/a","n/a","n/a","n/a","n/a","n/a","n/a","n/a","n/a","n/a","n/a","n/a","n/a","n/a","n/a","n/a","n/a","n/a","n/a","n/a","n/a","n/a","n/a","n/a","n/a","n/a","n/a","n/a","n/a","n/a","n/a","n/a","n/a","n/a","n/a","n/a","n/a","n/a","n/a","n/a","n/a","n/a","n/a","n/a","n/a","n/a","n/a","n/a","n/a","n/a","n/a","n/a","n/a","n/a","n/a","n/a","n/a","n/a","n/a","n/a","n/a","n/a","n/a","n/a","n/a","n/a","n/a"]
[2.3400000000000101,"(2) Urban Arterials & Collectors",6,"Weekday 2-Part","7:00 AM-10:00 AM AND 4:00 PM-7:00 PM","(2) Urban Arterials & Collectors7:00 AM-10:00 AM AND 4:00 PM-7:00 PM","n/a","n/a","n/a","n/a","n/a","n/a","n/a","n/a","n/a","n/a","n/a","n/a","n/a","n/a","n/a","n/a","n/a","n/a","n/a","n/a","n/a","n/a","n/a","n/a","n/a","n/a","n/a","n/a","n/a","n/a","n/a","n/a","n/a","n/a","n/a","n/a","n/a","n/a","n/a","n/a","n/a","n/a","n/a","n/a","n/a","n/a","n/a","n/a","n/a","n/a","n/a","n/a","n/a","n/a","n/a","n/a","n/a","n/a","n/a","n/a","n/a","n/a","n/a","n/a","n/a","n/a","n/a","n/a","n/a","n/a","n/a","n/a"]
[2.3500000000000099,"(2) Urban Arterials & Collectors",6,"Weekday 2-Part","7:00 AM-10:00 AM AND 3:00 PM-6:00 PM","(2) Urban Arterials & Collectors7:00 AM-10:00 AM AND 3:00 PM-6:00 PM","n/a","n/a","n/a","n/a","n/a","n/a","n/a","n/a","n/a","n/a","n/a","n/a","n/a","n/a","n/a","n/a","n/a","n/a","n/a","n/a","n/a","n/a","n/a","n/a","n/a","n/a","n/a","n/a","n/a","n/a","n/a","n/a","n/a","n/a","n/a","n/a","n/a","n/a","n/a","n/a","n/a","n/a","n/a","n/a","n/a","n/a","n/a","n/a","n/a","n/a","n/a","n/a","n/a","n/a","n/a","n/a","n/a","n/a","n/a","n/a","n/a","n/a","n/a","n/a","n/a","n/a","n/a","n/a","n/a","n/a","n/a","n/a"]
[2.3600000000000101,"(2) Urban Arterials & Collectors",5,"Weekday 2-Part","6:00 AM-8:00 AM AND 4:00 PM-7:00 PM","(2) Urban Arterials & Collectors6:00 AM-8:00 AM AND 4:00 PM-7:00 PM","n/a","n/a","n/a","n/a","n/a","n/a","n/a","n/a","n/a","n/a","n/a","n/a","n/a","n/a","n/a","n/a","n/a","n/a","n/a","n/a","n/a","n/a","n/a","n/a","n/a","n/a","n/a","n/a","n/a","n/a","n/a","n/a","n/a","n/a","n/a","n/a","n/a","n/a","n/a","n/a","n/a","n/a","n/a","n/a","n/a","n/a","n/a","n/a","n/a","n/a","n/a","n/a","n/a","n/a","n/a","n/a","n/a","n/a","n/a","n/a","n/a","n/a","n/a","n/a","n/a","n/a","n/a","n/a","n/a","n/a","n/a","n/a"]
[2.3700000000000099,"(2) Urban Arterials & Collectors",5,"Weekday 2-Part","6:00 AM-8:00 AM AND 3:00 PM-6:00 PM","(2) Urban Arterials & Collectors6:00 AM-8:00 AM AND 3:00 PM-6:00 PM","n/a","n/a","n/a","n/a","n/a","n/a","n/a","n/a","n/a","n/a","n/a","n/a","n/a","n/a","n/a","n/a","n/a","n/a","n/a","n/a","n/a","n/a","n/a","n/a","n/a","n/a","n/a","n/a","n/a","n/a","n/a","n/a","n/a","n/a","n/a","n/a","n/a","n/a","n/a","n/a","n/a","n/a","n/a","n/a","n/a","n/a","n/a","n/a","n/a","n/a","n/a","n/a","n/a","n/a","n/a","n/a","n/a","n/a","n/a","n/a","n/a","n/a","n/a","n/a","n/a","n/a","n/a","n/a","n/a","n/a","n/a","n/a"]
[2.3800000000000101,"(2) Urban Arterials & Collectors",5,"Weekday 2-Part","7:00 AM-9:00 AM AND 4:00 PM-7:00 PM","(2) Urban Arterials & Collectors7:00 AM-9:00 AM AND 4:00 PM-7:00 PM","n/a","n/a","n/a","n/a","n/a","n/a","n/a","n/a","n/a","n/a","n/a","n/a","n/a","n/a","n/a","n/a","n/a","n/a","n/a","n/a","n/a","n/a","n/a","n/a","n/a","n/a","n/a","n/a","n/a","n/a","n/a","n/a","n/a","n/a","n/a","n/a","n/a","n/a","n/a","n/a","n/a","n/a","n/a","n/a","n/a","n/a","n/a","n/a","n/a","n/a","n/a","n/a","n/a","n/a","n/a","n/a","n/a","n/a","n/a","n/a","n/a","n/a","n/a","n/a","n/a","n/a","n/a","n/a","n/a","n/a","n/a","n/a"]
[2.3900000000000099,"(2) Urban Arterials & Collectors",5,"Weekday 2-Part","7:00 AM-9:00 AM AND 3:00 PM-6:00 PM","(2) Urban Arterials & Collectors7:00 AM-9:00 AM AND 3:00 PM-6:00 PM","n/a","n/a","n/a","n/a","n/a","n/a","n/a","n/a","n/a","n/a","n/a","n/a","n/a","n/a","n/a","n/a","n/a","n/a","n/a","n/a","n/a","n/a","n/a","n/a","n/a","n/a","n/a","n/a","n/a","n/a","n/a","n/a","n/a","n/a","n/a","n/a","n/a","n/a","n/a","n/a","n/a","n/a","n/a","n/a","n/a","n/a","n/a","n/a","n/a","n/a","n/a","n/a","n/a","n/a","n/a","n/a","n/a","n/a","n/a","n/a","n/a","n/a","n/a","n/a","n/a","n/a","n/a","n/a","n/a","n/a","n/a","n/a"]
[2.4000000000000101,"(2) Urban Arterials & Collectors",4,"Weekday 2-Part","6:00 AM-8:00 AM AND 4:00 PM-6:00 PM","(2) Urban Arterials & Collectors6:00 AM-8:00 AM AND 4:00 PM-6:00 PM","n/a","n/a","n/a","n/a","n/a","n/a","n/a","n/a","n/a","n/a","n/a","n/a","n/a","n/a","n/a","n/a","n/a","n/a","n/a","n/a","n/a","n/a","n/a","n/a","n/a","n/a","n/a","n/a","n/a","n/a","n/a","n/a","n/a","n/a","n/a","n/a","n/a","n/a","n/a","n/a","n/a","n/a","n/a","n/a","n/a","n/a","n/a","n/a","n/a","n/a","n/a","n/a","n/a","n/a","n/a","n/a","n/a","n/a","n/a","n/a","n/a","n/a","n/a","n/a","n/a","n/a","n/a","n/a","n/a","n/a","n/a","n/a"]
[2.4100000000000099,"(2) Urban Arterials & Collectors",4,"Weekday 2-Part","6:00 AM-8:00 AM AND 3:00 PM-5:00 PM","(2) Urban Arterials & Collectors6:00 AM-8:00 AM AND 3:00 PM-5:00 PM","n/a","n/a","n/a","n/a","n/a","n/a","n/a","n/a","n/a","n/a","n/a","n/a","n/a","n/a","n/a","n/a","n/a","n/a","n/a","n/a","n/a","n/a","n/a","n/a","n/a","n/a","n/a","n/a","n/a","n/a","n/a","n/a","n/a","n/a","n/a","n/a","n/a","n/a","n/a","n/a","n/a","n/a","n/a","n/a","n/a","n/a","n/a","n/a","n/a","n/a","n/a","n/a","n/a","n/a","n/a","n/a","n/a","n/a","n/a","n/a","n/a","n/a","n/a","n/a","n/a","n/a","n/a","n/a","n/a","n/a","n/a","n/a"]
[2.4200000000000101,"(2) Urban Arterials & Collectors",4,"Weekday 2-Part","7:00 AM-9:00 AM AND 4:00 PM-6:00 PM","(2) Urban Arterials & Collectors7:00 AM-9:00 AM AND 4:00 PM-6:00 PM","n/a","n/a","n/a","n/a","n/a","n/a","n/a","n/a","n/a","n/a","n/a","n/a","n/a","n/a","n/a","n/a","n/a","n/a","n/a","n/a","n/a","n/a","n/a","n/a","n/a","n/a","n/a","n/a","n/a","n/a","n/a","n/a","n/a","n/a","n/a","n/a","n/a","n/a","n/a","n/a","n/a","n/a","n/a","n/a","n/a","n/a","n/a","n/a","n/a","n/a","n/a","n/a","n/a","n/a","n/a","n/a","n/a","n/a","n/a","n/a","n/a","n/a","n/a","n/a","n/a","n/a","n/a","n/a","n/a","n/a","n/a","n/a"]
[2.4300000000000099,"(2) Urban Arterials & Collectors",4,"Weekday 2-Part","7:00 AM-9:00 AM AND 3:00 PM-5:00 PM","(2) Urban Arterials & Collectors7:00 AM-9:00 AM AND 3:00 PM-5:00 PM","n/a","n/a","n/a","n/a","n/a","n/a","n/a","n/a","n/a","n/a","n/a","n/a","n/a","n/a","n/a","n/a","n/a","n/a","n/a","n/a","n/a","n/a","n/a","n/a","n/a","n/a","n/a","n/a","n/a","n/a","n/a","n/a","n/a","n/a","n/a","n/a","n/a","n/a","n/a","n/a","n/a","n/a","n/a","n/a","n/a","n/a","n/a","n/a","n/a","n/a","n/a","n/a","n/a","n/a","n/a","n/a","n/a","n/a","n/a","n/a","n/a","n/a","n/a","n/a","n/a","n/a","n/a","n/a","n/a","n/a","n/a","n/a"]
[2.4400000000000102,"(2) Urban Arterials & Collectors",8,"Weekday 3-Part","6:00 AM-9:00 AM, 11:00 AM-1:00 PM, AND 3:00 PM-6:00 PM","(2) Urban Arterials & Collectors6:00 AM-9:00 AM, 11:00 AM-1:00 PM, AND 3:00 PM-6:00 PM","n/a","n/a","n/a","n/a","n/a","n/a","n/a","n/a","n/a","n/a","n/a","n/a","n/a","n/a","n/a","n/a","n/a","n/a","n/a","n/a","n/a","n/a","n/a","n/a","n/a","n/a","n/a","n/a","n/a","n/a","n/a","n/a","n/a","n/a","n/a","n/a","n/a","n/a","n/a","n/a","n/a","n/a","n/a","n/a","n/a","n/a","n/a","n/a","n/a","n/a","n/a","n/a","n/a","n/a","n/a","n/a","n/a","n/a","n/a","n/a","n/a","n/a","n/a","n/a","n/a","n/a","n/a","n/a","n/a","n/a","n/a","n/a"]
[2.4500000000000099,"(2) Urban Arterials & Collectors",4,"Weekend Continuous","9:00 AM-1:00 PM","(2) Urban Arterials & Collectors9:00 AM-1:00 PM","n/a","n/a","n/a","n/a","n/a","n/a","n/a","n/a","n/a","n/a","n/a","n/a","n/a","n/a","n/a","n/a","n/a","n/a","n/a","n/a","n/a","n/a","n/a","n/a","n/a","n/a","n/a","n/a","n/a","n/a","n/a","n/a","n/a","n/a","n/a","n/a","n/a","n/a","n/a","n/a","n/a","n/a","n/a","n/a","n/a","n/a","n/a","n/a","n/a","n/a","n/a","n/a","n/a","n/a","n/a","n/a","n/a","n/a","n/a","n/a","n/a","n/a","n/a","n/a","n/a","n/a","n/a","n/a","n/a","n/a","n/a","n/a"]
[2.4600000000000102,"(2) Urban Arterials & Collectors",4,"Weekend Continuous","10:00 AM-2:00 PM","(2) Urban Arterials & Collectors10:00 AM-2:00 PM","n/a","n/a","n/a","n/a","n/a","n/a","n/a","n/a","n/a","n/a","n/a","n/a","n/a","n/a","n/a","n/a","n/a","n/a","n/a","n/a","n/a","n/a","n/a","n/a","n/a","n/a","n/a","n/a","n/a","n/a","n/a","n/a","n/a","n/a","n/a","n/a","n/a","n/a","n/a","n/a","n/a","n/a","n/a","n/a","n/a","n/a","n/a","n/a","n/a","n/a","n/a","n/a","n/a","n/a","n/a","n/a","n/a","n/a","n/a","n/a","n/a","n/a","n/a","n/a","n/a","n/a","n/a","n/a","n/a","n/a","n/a","n/a"]
[2.47000000000001,"(2) Urban Arterials & Collectors",4,"Weekend Continuous","11:00 AM-3:00 PM","(2) Urban Arterials & Collectors11:00 AM-3:00 PM","n/a","n/a","n/a","n/a","n/a","n/a","n/a","n/a","n/a","n/a","n/a","n/a","n/a","n/a","n/a","n/a","n/a","n/a","n/a","n/a","n/a","n/a","n/a","n/a","n/a","n/a","n/a","n/a","n/a","n/a","n/a","n/a","n/a","n/a","n/a","n/a","n/a","n/a","n/a","n/a","n/a","n/a","n/a","n/a","n/a","n/a","n/a","n/a","n/a","n/a","n/a","n/a","n/a","n/a","n/a","n/a","n/a","n/a","n/a","n/a","n/a","n/a","n/a","n/a","n/a","n/a","n/a","n/a","n/a","n/a","n/a","n/a"]
[2.4800000000000102,"(2) Urban Arterials & Collectors",3,"Weekend Continuous","10:00 AM-1:00 PM","(2) Urban Arterials & Collectors10:00 AM-1:00 PM","n/a","n/a","n/a","n/a","n/a","n/a","n/a","n/a","n/a","n/a","n/a","n/a","n/a","n/a","n/a","n/a","n/a","n/a","n/a","n/a","n/a","n/a","n/a","n/a","n/a","n/a","n/a","n/a","n/a","n/a","n/a","n/a","n/a","n/a","n/a","n/a","n/a","n/a","n/a","n/a","n/a","n/a","n/a","n/a","n/a","n/a","n/a","n/a","n/a","n/a","n/a","n/a","n/a","n/a","n/a","n/a","n/a","n/a","n/a","n/a","n/a","n/a","n/a","n/a","n/a","n/a","n/a","n/a","n/a","n/a","n/a","n/a"]
[2.49000000000001,"(2) Urban Arterials & Collectors",3,"Weekend Continuous","11:00 AM-2:00 PM","(2) Urban Arterials & Collectors11:00 AM-2:00 PM","n/a","n/a","n/a","n/a","n/a","n/a","n/a","n/a","n/a","n/a","n/a","n/a","n/a","n/a","n/a","n/a","n/a","n/a","n/a","n/a","n/a","n/a","n/a","n/a","n/a","n/a","n/a","n/a","n/a","n/a","n/a","n/a","n/a","n/a","n/a","n/a","n/a","n/a","n/a","n/a","n/a","n/a","n/a","n/a","n/a","n/a","n/a","n/a","n/a","n/a","n/a","n/a","n/a","n/a","n/a","n/a","n/a","n/a","n/a","n/a","n/a","n/a","n/a","n/a","n/a","n/a","n/a","n/a","n/a","n/a","n/a","n/a"]
[2.5000000000000102,"(2) Urban Arterials & Collectors",2,"Weekend Continuous","11:00 AM-1:00 PM","(2) Urban Arterials & Collectors11:00 AM-1:00 PM","n/a","n/a","n/a","n/a","n/a","n/a","n/a","n/a","n/a","n/a","n/a","n/a","n/a","n/a","n/a","n/a","n/a","n/a","n/a","n/a","n/a","n/a","n/a","n/a","n/a","n/a","n/a","n/a","n/a","n/a","n/a","n/a","n/a","n/a","n/a","n/a","n/a","n/a","n/a","n/a","n/a","n/a","n/a","n/a","n/a","n/a","n/a","n/a","n/a","n/a","n/a","n/a","n/a","n/a","n/a","n/a","n/a","n/a","n/a","n/a","n/a","n/a","n/a","n/a","n/a","n/a","n/a","n/a","n/a","n/a","n/a","n/a"]
[]
[3.01,"(3) Rural Interstate",16,"Weekday Continuous","6:00 AM-10:00 PM","(3) Rural Interstate6:00 AM-10:00 PM","n/a","n/a","n/a","n/a","n/a","n/a","n/a","n/a","n/a","n/a","n/a","n/a","n/a","n/a","n/a","n/a","n/a","n/a","n/a","n/a","n/a","n/a","n/a","n/a","n/a","n/a","n/a","n/a","n/a","n/a","n/a","n/a","n/a","n/a","n/a","n/a","n/a","n/a","n/a","n/a","n/a","n/a","n/a","n/a","n/a","n/a","n/a","n/a","n/a","n/a","n/a","n/a","n/a","n/a","n/a","n/a","n/a","n/a","n/a","n/a","n/a","n/a","n/a","n/a","n/a","n/a","n/a","n/a","n/a","n/a","n/a","n/a"]
[3.02,"(3) Rural Interstate",15,"Weekday Continuous","6:00 AM-9:00 PM","(3) Rural Interstate6:00 AM-9:00 PM","n/a","n/a","n/a","n/a","n/a","n/a","n/a","n/a","n/a","n/a","n/a","n/a","n/a","n/a","n/a","n/a","n/a","n/a","n/a","n/a","n/a","n/a","n/a","n/a","n/a","n/a","n/a","n/a","n/a","n/a","n/a","n/a","n/a","n/a","n/a","n/a","n/a","n/a","n/a","n/a","n/a","n/a","n/a","n/a","n/a","n/a","n/a","n/a","n/a","n/a","n/a","n/a","n/a","n/a","n/a","n/a","n/a","n/a","n/a","n/a","n/a","n/a","n/a","n/a","n/a","n/a","n/a","n/a","n/a","n/a","n/a","n/a"]
[3.03,"(3) Rural Interstate",15,"Weekday Continuous","7:00 AM-10:00 PM","(3) Rural Interstate7:00 AM-10:00 PM","n/a","n/a","n/a","n/a","n/a","n/a","n/a","n/a","n/a","n/a","n/a","n/a","n/a","n/a","n/a","n/a","n/a","n/a","n/a","n/a","n/a","n/a","n/a","n/a","n/a","n/a","n/a","n/a","n/a","n/a","n/a","n/a","n/a","n/a","n/a","n/a","n/a","n/a","n/a","n/a","n/a","n/a","n/a","n/a","n/a","n/a","n/a","n/a","n/a","n/a","n/a","n/a","n/a","n/a","n/a","n/a","n/a","n/a","n/a","n/a","n/a","n/a","n/a","n/a","n/a","n/a","n/a","n/a","n/a","n/a","n/a","n/a"]
[3.04,"(3) Rural Interstate",14,"Weekday Continuous","6:00 AM-8:00 PM","(3) Rural Interstate6:00 AM-8:00 PM","n/a","n/a","n/a","n/a","n/a","n/a","n/a","n/a","n/a","n/a","n/a","n/a","n/a","n/a","n/a","n/a","n/a","n/a","n/a","n/a","n/a","n/a","n/a","n/a","n/a","n/a","n/a","n/a","n/a","n/a","n/a","n/a","n/a","n/a","n/a","n/a","n/a","n/a","n/a","n/a","n/a","n/a","n/a","n/a","n/a","n/a","n/a","n/a","n/a","n/a","n/a","n/a","n/a","n/a","n/a","n/a","n/a","n/a","n/a","n/a","n/a","n/a","n/a","n/a","n/a","n/a","n/a","n/a","n/a","n/a","n/a","n/a"]
[3.05,"(3) Rural Interstate",14,"Weekday Continuous","7:00 AM-9:00 PM","(3) Rural Interstate7:00 AM-9:00 PM","n/a","n/a","n/a","n/a","n/a","n/a","n/a","n/a","n/a","n/a","n/a","n/a","n/a","n/a","n/a","n/a","n/a","n/a","n/a","n/a","n/a","n/a","n/a","n/a","n/a","n/a","n/a","n/a","n/a","n/a","n/a","n/a","n/a","n/a","n/a","n/a","n/a","n/a","n/a","n/a","n/a","n/a","n/a","n/a","n/a","n/a","n/a","n/a","n/a","n/a","n/a","n/a","n/a","n/a","n/a","n/a","n/a","n/a","n/a","n/a","n/a","n/a","n/a","n/a","n/a","n/a","n/a","n/a","n/a","n/a","n/a","n/a"]
[3.06,"(3) Rural Interstate",14,"Weekday Continuous","8:00 AM-10:00 PM","(3) Rural Interstate8:00 AM-10:00 PM","n/a","n/a","n/a","n/a","n/a","n/a","n/a","n/a","n/a","n/a","n/a","n/a","n/a","n/a","n/a","n/a","n/a","n/a","n/a","n/a","n/a","n/a","n/a","n/a","n/a","n/a","n/a","n/a","n/a","n/a","n/a","n/a","n/a","n/a","n/a","n/a","n/a","n/a","n/a","n/a","n/a","n/a","n/a","n/a","n/a","n/a","n/a","n/a","n/a","n/a","n/a","n/a","n/a","n/a","n/a","n/a","n/a","n/a","n/a","n/a","n/a","n/a","n/a","n/a","n/a","n/a","n/a","n/a","n/a","n/a","n/a","n/a"]
[3.07,"(3) Rural Interstate",13,"Weekday Continuous","6:00 AM-7:00 PM","(3) Rural Interstate6:00 AM-7:00 PM","n/a","n/a",1.2669999999999999,1.38,1.2889999999999999,"n/a",1.296,"n/a","n/a","n/a","n/a","n/a","n/a","n/a","n/a","n/a","n/a","n/a","n/a","n/a","n/a","n/a","n/a","n/a","n/a","n/a","n/a","n/a","n/a","n/a","n/a","n/a","n/a","n/a","n/a","n/a","n/a","n/a","n/a","n/a","n/a","n/a","n/a","n/a","n/a","n/a","n/a","n/a","n/a","n/a","n/a","n/a","n/a","n/a","n/a","n/a","n/a","n/a","n/a","n/a","n/a","n/a","n/a","n/a","n/a","n/a","n/a","n/a","n/a","n/a","n/a","n/a"]
[3.08,"(3) Rural Interstate",13,"Weekday Continuous","7:00 AM-8:00 PM","(3) Rural Interstate7:00 AM-8:00 PM","n/a","n/a","n/a","n/a","n/a","n/a","n/a","n/a","n/a","n/a","n/a","n/a","n/a","n/a","n/a","n/a","n/a","n/a","n/a","n/a","n/a","n/a","n/a","n/a","n/a","n/a","n/a","n/a","n/a","n/a","n/a","n/a","n/a","n/a","n/a","n/a","n/a","n/a","n/a","n/a","n/a","n/a","n/a","n/a","n/a","n/a","n/a","n/a","n/a","n/a","n/a","n/a","n/a","n/a","n/a","n/a","n/a","n/a","n/a","n/a","n/a","n/a","n/a","n/a","n/a","n/a","n/a","n/a","n/a","n/a","n/a","n/a"]
[3.09,"(3) Rural Interstate",13,"Weekday Continuous","8:00 AM-9:00 PM","(3) Rural Interstate8:00 AM-9:00 PM","n/a","n/a","n/a","n/a","n/a","n/a","n/a","n/a","n/a","n/a","n/a","n/a","n/a","n/a","n/a","n/a","n/a","n/a","n/a","n/a","n/a","n/a","n/a","n/a","n/a","n/a","n/a","n/a","n/a","n/a","n/a","n/a","n/a","n/a","n/a","n/a","n/a","n/a","n/a","n/a","n/a","n/a","n/a","n/a","n/a","n/a","n/a","n/a","n/a","n/a","n/a","n/a","n/a","n/a","n/a","n/a","n/a","n/a","n/a","n/a","n/a","n/a","n/a","n/a","n/a","n/a","n/a","n/a","n/a","n/a","n/a","n/a"]
[3.1,"(3) Rural Interstate",13,"Weekday Continuous","9:00 AM-10:00 PM","(3) Rural Interstate9:00 AM-10:00 PM","n/a","n/a","n/a","n/a","n/a","n/a","n/a","n/a","n/a","n/a","n/a","n/a","n/a","n/a","n/a","n/a","n/a","n/a","n/a","n/a","n/a","n/a","n/a","n/a","n/a","n/a","n/a","n/a","n/a","n/a","n/a","n/a","n/a","n/a","n/a","n/a","n/a","n/a","n/a","n/a","n/a","n/a","n/a","n/a","n/a","n/a","n/a","n/a","n/a","n/a","n/a","n/a","n/a","n/a","n/a","n/a","n/a","n/a","n/a","n/a","n/a","n/a","n/a","n/a","n/a","n/a","n/a","n/a","n/a","n/a","n/a","n/a"]
[3.11,"(3) Rural Interstate",12,"Weekday Continuous","6:00 AM-6:00 PM","(3) Rural Interstate6:00 AM-6:00 PM","n/a","n/a",1.411,1.5269999999999999,1.4330000000000001,"n/a",1.4430000000000001,"n/a","n/a","n/a","n/a","n/a","n/a","n/a","n/a","n/a","n/a","n/a","n/a","n/a","n/a","n/a","n/a","n/a","n/a","n/a","n/a","n/a","n/a","n/a","n/a","n/a","n/a","n/a","n/a","n/a","n/a","n/a","n/a","n/a","n/a","n/a","n/a","n/a","n/a","n/a","n/a","n/a","n/a","n/a","n/a","n/a","n/a","n/a","n/a","n/a","n/a","n/a","n/a","n/a","n/a","n/a","n/a","n/a","n/a","n/a","n/a","n/a","n/a","n/a","n/a","n/a"]
[3.12,"(3) Rural Interstate",12,"Weekday Continuous","7:00 AM-7:00 PM","(3) Rural Interstate7:00 AM-7:00 PM","n/a","n/a","n/a","n/a","n/a","n/a","n/a","n/a","n/a","n/a","n/a","n/a","n/a","n/a","n/a","n/a","n/a","n/a","n/a","n/a","n/a","n/a","n/a","n/a","n/a","n/a","n/a","n/a","n/a","n/a","n/a","n/a","n/a","n/a","n/a","n/a","n/a","n/a","n/a","n/a","n/a","n/a","n/a","n/a","n/a","n/a","n/a","n/a","n/a","n/a","n/a","n/a","n/a","n/a","n/a","n/a","n/a","n/a","n/a","n/a","n/a","n/a","n/a","n/a","n/a","n/a","n/a","n/a","n/a","n/a","n/a","n/a"]
[3.13,"(3) Rural Interstate",12,"Weekday Continuous","8:00 AM-8:00 PM","(3) Rural Interstate8:00 AM-8:00 PM","n/a","n/a","n/a","n/a","n/a","n/a","n/a","n/a","n/a","n/a","n/a","n/a","n/a","n/a","n/a","n/a","n/a","n/a","n/a","n/a","n/a","n/a","n/a","n/a","n/a","n/a","n/a","n/a","n/a","n/a","n/a","n/a","n/a","n/a","n/a","n/a","n/a","n/a","n/a","n/a","n/a","n/a","n/a","n/a","n/a","n/a","n/a","n/a","n/a","n/a","n/a","n/a","n/a","n/a","n/a","n/a","n/a","n/a","n/a","n/a","n/a","n/a","n/a","n/a","n/a","n/a","n/a","n/a","n/a","n/a","n/a","n/a"]
[3.14,"(3) Rural Interstate",12,"Weekday Continuous","9:00 AM-9:00 PM","(3) Rural Interstate9:00 AM-9:00 PM","n/a","n/a","n/a","n/a","n/a","n/a","n/a","n/a","n/a","n/a","n/a","n/a","n/a","n/a","n/a","n/a","n/a","n/a","n/a","n/a","n/a","n/a","n/a","n/a","n/a","n/a","n/a","n/a","n/a","n/a","n/a","n/a","n/a","n/a","n/a","n/a","n/a","n/a","n/a","n/a","n/a","n/a","n/a","n/a","n/a","n/a","n/a","n/a","n/a","n/a","n/a","n/a","n/a","n/a","n/a","n/a","n/a","n/a","n/a","n/a","n/a","n/a","n/a","n/a","n/a","n/a","n/a","n/a","n/a","n/a","n/a","n/a"]
[3.15,"(3) Rural Interstate",12,"Weekday Continuous","10:00 AM-10:00 PM","(3) Rural Interstate10:00 AM-10:00 PM","n/a","n/a","n/a","n/a","n/a","n/a","n/a","n/a","n/a","n/a","n/a","n/a","n/a","n/a","n/a","n/a","n/a","n/a","n/a","n/a","n/a","n/a","n/a","n/a","n/a","n/a","n/a","n/a","n/a","n/a","n/a","n/a","n/a","n/a","n/a","n/a","n/a","n/a","n/a","n/a","n/a","n/a","n/a","n/a","n/a","n/a","n/a","n/a","n/a","n/a","n/a","n/a","n/a","n/a","n/a","n/a","n/a","n/a","n/a","n/a","n/a","n/a","n/a","n/a","n/a","n/a","n/a","n/a","n/a","n/a","n/a","n/a"]
[3.16,"(3) Rural Interstate",11,"Weekday Continuous","6:00 AM-5:00 PM","(3) Rural Interstate6:00 AM-5:00 PM","n/a","n/a","n/a","n/a","n/a","n/a","n/a","n/a","n/a","n/a","n/a","n/a","n/a","n/a","n/a","n/a","n/a","n/a","n/a","n/a","n/a","n/a","n/a","n/a","n/a","n/a","n/a","n/a","n/a","n/a","n/a","n/a","n/a","n/a","n/a","n/a","n/a","n/a","n/a","n/a","n/a","n/a","n/a","n/a","n/a","n/a","n/a","n/a","n/a","n/a","n/a","n/a","n/a","n/a","n/a","n/a","n/a","n/a","n/a","n/a","n/a","n/a","n/a","n/a","n/a","n/a","n/a","n/a","n/a","n/a","n/a","n/a"]
[3.17,"(3) Rural Interstate",11,"Weekday Continuous","7:00 AM-6:00 PM","(3) Rural Interstate7:00 AM-6:00 PM","n/a","n/a","n/a","n/a","n/a","n/a","n/a","n/a","n/a","n/a","n/a","n/a","n/a","n/a","n/a","n/a","n/a","n/a","n/a","n/a","n/a","n/a","n/a","n/a","n/a","n/a","n/a","n/a","n/a","n/a","n/a","n/a","n/a","n/a","n/a","n/a","n/a","n/a","n/a","n/a","n/a","n/a","n/a","n/a","n/a","n/a","n/a","n/a","n/a","n/a","n/a","n/a","n/a","n/a","n/a","n/a","n/a","n/a","n/a","n/a","n/a","n/a","n/a","n/a","n/a","n/a","n/a","n/a","n/a","n/a","n/a","n/a"]
[3.18,"(3) Rural Interstate",11,"Weekday Continuous","8:00 AM-7:00 PM","(3) Rural Interstate8:00 AM-7:00 PM","n/a","n/a","n/a","n/a","n/a","n/a","n/a","n/a","n/a","n/a","n/a","n/a","n/a","n/a","n/a","n/a","n/a","n/a","n/a","n/a","n/a","n/a","n/a","n/a","n/a","n/a","n/a","n/a","n/a","n/a","n/a","n/a","n/a","n/a","n/a","n/a","n/a","n/a","n/a","n/a","n/a","n/a","n/a","n/a","n/a","n/a","n/a","n/a","n/a","n/a","n/a","n/a","n/a","n/a","n/a","n/a","n/a","n/a","n/a","n/a","n/a","n/a","n/a","n/a","n/a","n/a","n/a","n/a","n/a","n/a","n/a","n/a"]
[3.19,"(3) Rural Interstate",11,"Weekday Continuous","9:00 AM-8:00 PM","(3) Rural Interstate9:00 AM-8:00 PM","n/a","n/a","n/a","n/a","n/a","n/a","n/a","n/a","n/a","n/a","n/a","n/a","n/a","n/a","n/a","n/a","n/a","n/a","n/a","n/a","n/a","n/a","n/a","n/a","n/a","n/a","n/a","n/a","n/a","n/a","n/a","n/a","n/a","n/a","n/a","n/a","n/a","n/a","n/a","n/a","n/a","n/a","n/a","n/a","n/a","n/a","n/a","n/a","n/a","n/a","n/a","n/a","n/a","n/a","n/a","n/a","n/a","n/a","n/a","n/a","n/a","n/a","n/a","n/a","n/a","n/a","n/a","n/a","n/a","n/a","n/a","n/a"]
[3.2,"(3) Rural Interstate",10,"Weekday Continuous","6:00 AM-4:00 PM","(3) Rural Interstate6:00 AM-4:00 PM","n/a","n/a","n/a","n/a","n/a","n/a","n/a","n/a","n/a","n/a","n/a","n/a","n/a","n/a","n/a","n/a","n/a","n/a","n/a","n/a","n/a","n/a","n/a","n/a","n/a","n/a","n/a","n/a","n/a","n/a","n/a","n/a","n/a","n/a","n/a","n/a","n/a","n/a","n/a","n/a","n/a","n/a","n/a","n/a","n/a","n/a","n/a","n/a","n/a","n/a","n/a","n/a","n/a","n/a","n/a","n/a","n/a","n/a","n/a","n/a","n/a","n/a","n/a","n/a","n/a","n/a","n/a","n/a","n/a","n/a","n/a","n/a"]
[3.21,"(3) Rural Interstate",10,"Weekday Continuous","7:00 AM-5:00 PM","(3) Rural Interstate7:00 AM-5:00 PM","n/a","n/a","n/a","n/a","n/a","n/a","n/a","n/a","n/a","n/a","n/a","n/a","n/a","n/a","n/a","n/a","n/a","n/a","n/a","n/a","n/a","n/a","n/a","n/a","n/a","n/a","n/a","n/a","n/a","n/a","n/a","n/a","n/a","n/a","n/a","n/a","n/a","n/a","n/a","n/a","n/a","n/a","n/a","n/a","n/a","n/a","n/a","n/a","n/a","n/a","n/a","n/a","n/a","n/a","n/a","n/a","n/a","n/a","n/a","n/a","n/a","n/a","n/a","n/a","n/a","n/a","n/a","n/a","n/a","n/a","n/a","n/a"]
[3.22,"(3) Rural Interstate",10,"Weekday Continuous","8:00 AM-6:00 PM","(3) Rural Interstate8:00 AM-6:00 PM","n/a","n/a","n/a","n/a","n/a","n/a","n/a","n/a","n/a","n/a","n/a","n/a","n/a","n/a","n/a","n/a","n/a","n/a","n/a","n/a","n/a","n/a","n/a","n/a","n/a","n/a","n/a","n/a","n/a","n/a","n/a","n/a","n/a","n/a","n/a","n/a","n/a","n/a","n/a","n/a","n/a","n/a","n/a","n/a","n/a","n/a","n/a","n/a","n/a","n/a","n/a","n/a","n/a","n/a","n/a","n/a","n/a","n/a","n/a","n/a","n/a","n/a","n/a","n/a","n/a","n/a","n/a","n/a","n/a","n/a","n/a","n/a"]
[3.23,"(3) Rural Interstate",10,"Weekday Continuous","9:00 AM-7:00 PM","(3) Rural Interstate9:00 AM-7:00 PM","n/a","n/a","n/a","n/a","n/a","n/a","n/a","n/a","n/a","n/a","n/a","n/a","n/a","n/a","n/a","n/a","n/a","n/a","n/a","n/a","n/a","n/a","n/a","n/a","n/a","n/a","n/a","n/a","n/a","n/a","n/a","n/a","n/a","n/a","n/a","n/a","n/a","n/a","n/a","n/a","n/a","n/a","n/a","n/a","n/a","n/a","n/a","n/a","n/a","n/a","n/a","n/a","n/a","n/a","n/a","n/a","n/a","n/a","n/a","n/a","n/a","n/a","n/a","n/a","n/a","n/a","n/a","n/a","n/a","n/a","n/a","n/a"]
[3.24,"(3) Rural Interstate",9,"Weekday Continuous","6:00 AM-3:00 PM","(3) Rural Interstate6:00 AM-3:00 PM","n/a","n/a","n/a","n/a","n/a","n/a","n/a","n/a","n/a","n/a","n/a","n/a","n/a","n/a","n/a","n/a","n/a","n/a","n/a","n/a","n/a","n/a","n/a","n/a","n/a","n/a","n/a","n/a","n/a","n/a","n/a","n/a","n/a","n/a","n/a","n/a","n/a","n/a","n/a","n/a","n/a","n/a","n/a","n/a","n/a","n/a","n/a","n/a","n/a","n/a","n/a","n/a","n/a","n/a","n/a","n/a","n/a","n/a","n/a","n/a","n/a","n/a","n/a","n/a","n/a","n/a","n/a","n/a","n/a","n/a","n/a","n/a"]
[3.2500000000000102,"(3) Rural Interstate",9,"Weekday Continuous","7:00 AM-4:00 PM","(3) Rural Interstate7:00 AM-4:00 PM","n/a","n/a","n/a","n/a","n/a","n/a","n/a","n/a","n/a","n/a","n/a","n/a","n/a","n/a","n/a","n/a","n/a","n/a","n/a","n/a","n/a","n/a","n/a","n/a","n/a","n/a","n/a","n/a","n/a","n/a","n/a","n/a","n/a","n/a","n/a","n/a","n/a","n/a","n/a","n/a","n/a","n/a","n/a","n/a","n/a","n/a","n/a","n/a","n/a","n/a","n/a","n/a","n/a","n/a","n/a","n/a","n/a","n/a","n/a","n/a","n/a","n/a","n/a","n/a","n/a","n/a","n/a","n/a","n/a","n/a","n/a","n/a"]
[3.26000000000001,"(3) Rural Interstate",9,"Weekday Continuous","8:00 AM-5:00 PM","(3) Rural Interstate8:00 AM-5:00 PM","n/a","n/a","n/a","n/a","n/a","n/a","n/a","n/a","n/a","n/a","n/a","n/a","n/a","n/a","n/a","n/a","n/a","n/a","n/a","n/a","n/a","n/a","n/a","n/a","n/a","n/a","n/a","n/a","n/a","n/a","n/a","n/a","n/a","n/a","n/a","n/a","n/a","n/a","n/a","n/a","n/a","n/a","n/a","n/a","n/a","n/a","n/a","n/a","n/a","n/a","n/a","n/a","n/a","n/a","n/a","n/a","n/a","n/a","n/a","n/a","n/a","n/a","n/a","n/a","n/a","n/a","n/a","n/a","n/a","n/a","n/a","n/a"]
[3.2700000000000098,"(3) Rural Interstate",9,"Weekday Continuous","9:00 AM-6:00 PM","(3) Rural Interstate9:00 AM-6:00 PM","n/a","n/a","n/a","n/a","n/a","n/a","n/a","n/a","n/a","n/a","n/a","n/a","n/a","n/a","n/a","n/a","n/a","n/a","n/a","n/a","n/a","n/a","n/a","n/a","n/a","n/a","n/a","n/a","n/a","n/a","n/a","n/a","n/a","n/a","n/a","n/a","n/a","n/a","n/a","n/a","n/a","n/a","n/a","n/a","n/a","n/a","n/a","n/a","n/a","n/a","n/a","n/a","n/a","n/a","n/a","n/a","n/a","n/a","n/a","n/a","n/a","n/a","n/a","n/a","n/a","n/a","n/a","n/a","n/a","n/a","n/a","n/a"]
[3.28000000000001,"(3) Rural Interstate",8,"Weekday Continuous","6:00 AM-2:00 PM",{"$f":"CONCATENATE(B136,E136)","v":"(3) Rural Interstate6:00 AM-2:00 PM"},"n/a","n/a","n/a","n/a","n/a","n/a","n/a","n/a","n/a","n/a","n/a","n/a","n/a","n/a","n/a","n/a","n/a","n/a","n/a","n/a","n/a","n/a","n/a","n/a","n/a","n/a","n/a","n/a","n/a","n/a","n/a","n/a","n/a","n/a","n/a","n/a","n/a","n/a","n/a","n/a","n/a","n/a","n/a","n/a","n/a","n/a","n/a","n/a","n/a","n/a","n/a","n/a","n/a","n/a","n/a","n/a","n/a","n/a","n/a","n/a","n/a","n/a","n/a","n/a","n/a","n/a","n/a","n/a","n/a","n/a","n/a","n/a"]
[3.2900000000000098,"(3) Rural Interstate",8,"Weekday Continuous","7:00 AM-3:00 PM","(3) Rural Interstate7:00 AM-3:00 PM","n/a","n/a","n/a","n/a","n/a","n/a","n/a","n/a","n/a","n/a","n/a","n/a","n/a","n/a","n/a","n/a","n/a","n/a","n/a","n/a","n/a","n/a","n/a","n/a","n/a","n/a","n/a","n/a","n/a","n/a","n/a","n/a","n/a","n/a","n/a","n/a","n/a","n/a","n/a","n/a","n/a","n/a","n/a","n/a","n/a","n/a","n/a","n/a","n/a","n/a","n/a","n/a","n/a","n/a","n/a","n/a","n/a","n/a","n/a","n/a","n/a","n/a","n/a","n/a","n/a","n/a","n/a","n/a","n/a","n/a","n/a","n/a"]
[3.30000000000001,"(3) Rural Interstate",8,"Weekday Continuous","8:00 AM-4:00 PM","(3) Rural Interstate8:00 AM-4:00 PM","n/a","n/a","n/a","n/a","n/a","n/a","n/a","n/a","n/a","n/a","n/a","n/a","n/a","n/a","n/a","n/a","n/a","n/a","n/a","n/a","n/a","n/a","n/a","n/a","n/a","n/a","n/a","n/a","n/a","n/a","n/a","n/a","n/a","n/a","n/a","n/a","n/a","n/a","n/a","n/a","n/a","n/a","n/a","n/a","n/a","n/a","n/a","n/a","n/a","n/a","n/a","n/a","n/a","n/a","n/a","n/a","n/a","n/a","n/a","n/a","n/a","n/a","n/a","n/a","n/a","n/a","n/a","n/a","n/a","n/a","n/a","n/a"]
[3.3100000000000098,"(3) Rural Interstate",8,"Weekday Continuous","9:00 AM-5:00 PM","(3) Rural Interstate9:00 AM-5:00 PM","n/a","n/a","n/a","n/a","n/a","n/a","n/a","n/a","n/a","n/a","n/a","n/a","n/a","n/a","n/a","n/a","n/a","n/a","n/a","n/a","n/a","n/a","n/a","n/a","n/a","n/a","n/a","n/a","n/a","n/a","n/a","n/a","n/a","n/a","n/a","n/a","n/a","n/a","n/a","n/a","n/a","n/a","n/a","n/a","n/a","n/a","n/a","n/a","n/a","n/a","n/a","n/a","n/a","n/a","n/a","n/a","n/a","n/a","n/a","n/a","n/a","n/a","n/a","n/a","n/a","n/a","n/a","n/a","n/a","n/a","n/a","n/a"]
[3.3200000000000101,"(3) Rural Interstate",6,"Weekday 2-Part","6:00 AM-9:00 AM AND 4:00 PM-7:00 PM","(3) Rural Interstate6:00 AM-9:00 AM AND 4:00 PM-7:00 PM","n/a","n/a","n/a","n/a","n/a","n/a","n/a","n/a","n/a","n/a","n/a","n/a","n/a","n/a","n/a","n/a","n/a","n/a","n/a","n/a","n/a","n/a","n/a","n/a","n/a","n/a","n/a","n/a","n/a","n/a","n/a","n/a","n/a","n/a","n/a","n/a","n/a","n/a","n/a","n/a","n/a","n/a","n/a","n/a","n/a","n/a","n/a","n/a","n/a","n/a","n/a","n/a","n/a","n/a","n/a","n/a","n/a","n/a","n/a","n/a","n/a","n/a","n/a","n/a","n/a","n/a","n/a","n/a","n/a","n/a","n/a","n/a"]
[3.3300000000000098,"(3) Rural Interstate",6,"Weekday 2-Part","6:00 AM-9:00 AM AND 3:00 PM-6:00 PM","(3) Rural Interstate6:00 AM-9:00 AM AND 3:00 PM-6:00 PM","n/a","n/a","n/a","n/a","n/a","n/a","n/a","n/a","n/a","n/a","n/a","n/a","n/a","n/a","n/a","n/a","n/a","n/a","n/a","n/a","n/a","n/a","n/a","n/a","n/a","n/a","n/a","n/a","n/a","n/a","n/a","n/a","n/a","n/a","n/a","n/a","n/a","n/a","n/a","n/a","n/a","n/a","n/a","n/a","n/a","n/a","n/a","n/a","n/a","n/a","n/a","n/a","n/a","n/a","n/a","n/a","n/a","n/a","n/a","n/a","n/a","n/a","n/a","n/a","n/a","n/a","n/a","n/a","n/a","n/a","n/a","n/a"]
[3.3400000000000101,"(3) Rural Interstate",6,"Weekday 2-Part","7:00 AM-10:00 AM AND 4:00 PM-7:00 PM","(3) Rural Interstate7:00 AM-10:00 AM AND 4:00 PM-7:00 PM","n/a","n/a","n/a","n/a","n/a","n/a","n/a","n/a","n/a","n/a","n/a","n/a","n/a","n/a","n/a","n/a","n/a","n/a","n/a","n/a","n/a","n/a","n/a","n/a","n/a","n/a","n/a","n/a","n/a","n/a","n/a","n/a","n/a","n/a","n/a","n/a","n/a","n/a","n/a","n/a","n/a","n/a","n/a","n/a","n/a","n/a","n/a","n/a","n/a","n/a","n/a","n/a","n/a","n/a","n/a","n/a","n/a","n/a","n/a","n/a","n/a","n/a","n/a","n/a","n/a","n/a","n/a","n/a","n/a","n/a","n/a","n/a"]
[3.3500000000000099,"(3) Rural Interstate",6,"Weekday 2-Part","7:00 AM-10:00 AM AND 3:00 PM-6:00 PM","(3) Rural Interstate7:00 AM-10:00 AM AND 3:00 PM-6:00 PM","n/a","n/a","n/a","n/a","n/a","n/a","n/a","n/a","n/a","n/a","n/a","n/a","n/a","n/a","n/a","n/a","n/a","n/a","n/a","n/a","n/a","n/a","n/a","n/a","n/a","n/a","n/a","n/a","n/a","n/a","n/a","n/a","n/a","n/a","n/a","n/a","n/a","n/a","n/a","n/a","n/a","n/a","n/a","n/a","n/a","n/a","n/a","n/a","n/a","n/a","n/a","n/a","n/a","n/a","n/a","n/a","n/a","n/a","n/a","n/a","n/a","n/a","n/a","n/a","n/a","n/a","n/a","n/a","n/a","n/a","n/a","n/a"]
[3.3600000000000101,"(3) Rural Interstate",5,"Weekday 2-Part","6:00 AM-8:00 AM AND 4:00 PM-7:00 PM","(3) Rural Interstate6:00 AM-8:00 AM AND 4:00 PM-7:00 PM","n/a","n/a","n/a","n/a","n/a","n/a","n/a","n/a","n/a","n/a","n/a","n/a","n/a","n/a","n/a","n/a","n/a","n/a","n/a","n/a","n/a","n/a","n/a","n/a","n/a","n/a","n/a","n/a","n/a","n/a","n/a","n/a","n/a","n/a","n/a","n/a","n/a","n/a","n/a","n/a","n/a","n/a","n/a","n/a","n/a","n/a","n/a","n/a","n/a","n/a","n/a","n/a","n/a","n/a","n/a","n/a","n/a","n/a","n/a","n/a","n/a","n/a","n/a","n/a","n/a","n/a","n/a","n/a","n/a","n/a","n/a","n/a"]
[3.3700000000000099,"(3) Rural Interstate",5,"Weekday 2-Part","6:00 AM-8:00 AM AND 3:00 PM-6:00 PM","(3) Rural Interstate6:00 AM-8:00 AM AND 3:00 PM-6:00 PM","n/a","n/a","n/a","n/a","n/a","n/a","n/a","n/a","n/a","n/a","n/a","n/a","n/a","n/a","n/a","n/a","n/a","n/a","n/a","n/a","n/a","n/a","n/a","n/a","n/a","n/a","n/a","n/a","n/a","n/a","n/a","n/a","n/a","n/a","n/a","n/a","n/a","n/a","n/a","n/a","n/a","n/a","n/a","n/a","n/a","n/a","n/a","n/a","n/a","n/a","n/a","n/a","n/a","n/a","n/a","n/a","n/a","n/a","n/a","n/a","n/a","n/a","n/a","n/a","n/a","n/a","n/a","n/a","n/a","n/a","n/a","n/a"]
[3.3800000000000101,"(3) Rural Interstate",5,"Weekday 2-Part","7:00 AM-9:00 AM AND 4:00 PM-7:00 PM","(3) Rural Interstate7:00 AM-9:00 AM AND 4:00 PM-7:00 PM","n/a","n/a","n/a","n/a","n/a","n/a","n/a","n/a","n/a","n/a","n/a","n/a","n/a","n/a","n/a","n/a","n/a","n/a","n/a","n/a","n/a","n/a","n/a","n/a","n/a","n/a","n/a","n/a","n/a","n/a","n/a","n/a","n/a","n/a","n/a","n/a","n/a","n/a","n/a","n/a","n/a","n/a","n/a","n/a","n/a","n/a","n/a","n/a","n/a","n/a","n/a","n/a","n/a","n/a","n/a","n/a","n/a","n/a","n/a","n/a","n/a","n/a","n/a","n/a","n/a","n/a","n/a","n/a","n/a","n/a","n/a","n/a"]
[3.3900000000000099,"(3) Rural Interstate",5,"Weekday 2-Part","7:00 AM-9:00 AM AND 3:00 PM-6:00 PM","(3) Rural Interstate7:00 AM-9:00 AM AND 3:00 PM-6:00 PM","n/a","n/a","n/a","n/a","n/a","n/a","n/a","n/a","n/a","n/a","n/a","n/a","n/a","n/a","n/a","n/a","n/a","n/a","n/a","n/a","n/a","n/a","n/a","n/a","n/a","n/a","n/a","n/a","n/a","n/a","n/a","n/a","n/a","n/a","n/a","n/a","n/a","n/a","n/a","n/a","n/a","n/a","n/a","n/a","n/a","n/a","n/a","n/a","n/a","n/a","n/a","n/a","n/a","n/a","n/a","n/a","n/a","n/a","n/a","n/a","n/a","n/a","n/a","n/a","n/a","n/a","n/a","n/a","n/a","n/a","n/a","n/a"]
[3.4000000000000101,"(3) Rural Interstate",4,"Weekday 2-Part","6:00 AM-8:00 AM AND 4:00 PM-6:00 PM","(3) Rural Interstate6:00 AM-8:00 AM AND 4:00 PM-6:00 PM","n/a","n/a","n/a","n/a","n/a","n/a","n/a","n/a","n/a","n/a","n/a","n/a","n/a","n/a","n/a","n/a","n/a","n/a","n/a","n/a","n/a","n/a","n/a","n/a","n/a","n/a","n/a","n/a","n/a","n/a","n/a","n/a","n/a","n/a","n/a","n/a","n/a","n/a","n/a","n/a","n/a","n/a","n/a","n/a","n/a","n/a","n/a","n/a","n/a","n/a","n/a","n/a","n/a","n/a","n/a","n/a","n/a","n/a","n/a","n/a","n/a","n/a","n/a","n/a","n/a","n/a","n/a","n/a","n/a","n/a","n/a","n/a"]
[3.4100000000000099,"(3) Rural Interstate",4,"Weekday 2-Part","6:00 AM-8:00 AM AND 3:00 PM-5:00 PM","(3) Rural Interstate6:00 AM-8:00 AM AND 3:00 PM-5:00 PM","n/a","n/a","n/a","n/a","n/a","n/a","n/a","n/a","n/a","n/a","n/a","n/a","n/a","n/a","n/a","n/a","n/a","n/a","n/a","n/a","n/a","n/a","n/a","n/a","n/a","n/a","n/a","n/a","n/a","n/a","n/a","n/a","n/a","n/a","n/a","n/a","n/a","n/a","n/a","n/a","n/a","n/a","n/a","n/a","n/a","n/a","n/a","n/a","n/a","n/a","n/a","n/a","n/a","n/a","n/a","n/a","n/a","n/a","n/a","n/a","n/a","n/a","n/a","n/a","n/a","n/a","n/a","n/a","n/a","n/a","n/a","n/a"]
[3.4200000000000101,"(3) Rural Interstate",4,"Weekday 2-Part","7:00 AM-9:00 AM AND 4:00 PM-6:00 PM","(3) Rural Interstate7:00 AM-9:00 AM AND 4:00 PM-6:00 PM","n/a","n/a","n/a","n/a","n/a","n/a","n/a","n/a","n/a","n/a","n/a","n/a","n/a","n/a","n/a","n/a","n/a","n/a","n/a","n/a","n/a","n/a","n/a","n/a","n/a","n/a","n/a","n/a","n/a","n/a","n/a","n/a","n/a","n/a","n/a","n/a","n/a","n/a","n/a","n/a","n/a","n/a","n/a","n/a","n/a","n/a","n/a","n/a","n/a","n/a","n/a","n/a","n/a","n/a","n/a","n/a","n/a","n/a","n/a","n/a","n/a","n/a","n/a","n/a","n/a","n/a","n/a","n/a","n/a","n/a","n/a","n/a"]
[3.4300000000000099,"(3) Rural Interstate",4,"Weekday 2-Part","7:00 AM-9:00 AM AND 3:00 PM-5:00 PM","(3) Rural Interstate7:00 AM-9:00 AM AND 3:00 PM-5:00 PM","n/a","n/a","n/a","n/a","n/a","n/a","n/a","n/a","n/a","n/a","n/a","n/a","n/a","n/a","n/a","n/a","n/a","n/a","n/a","n/a","n/a","n/a","n/a","n/a","n/a","n/a","n/a","n/a","n/a","n/a","n/a","n/a","n/a","n/a","n/a","n/a","n/a","n/a","n/a","n/a","n/a","n/a","n/a","n/a","n/a","n/a","n/a","n/a","n/a","n/a","n/a","n/a","n/a","n/a","n/a","n/a","n/a","n/a","n/a","n/a","n/a","n/a","n/a","n/a","n/a","n/a","n/a","n/a","n/a","n/a","n/a","n/a"]
[3.4400000000000102,"(3) Rural Interstate",8,"Weekday 3-Part","6:00 AM-9:00 AM, 11:00 AM-1:00 PM, AND 3:00 PM-6:00 PM","(3) Rural Interstate6:00 AM-9:00 AM, 11:00 AM-1:00 PM, AND 3:00 PM-6:00 PM","n/a","n/a","n/a","n/a","n/a","n/a","n/a","n/a","n/a","n/a","n/a","n/a","n/a","n/a","n/a","n/a","n/a","n/a","n/a","n/a","n/a","n/a","n/a","n/a","n/a","n/a","n/a","n/a","n/a","n/a","n/a","n/a","n/a","n/a","n/a","n/a","n/a","n/a","n/a","n/a","n/a","n/a","n/a","n/a","n/a","n/a","n/a","n/a","n/a","n/a","n/a","n/a","n/a","n/a","n/a","n/a","n/a","n/a","n/a","n/a","n/a","n/a","n/a","n/a","n/a","n/a","n/a","n/a","n/a","n/a","n/a","n/a"]
[3.4500000000000099,"(3) Rural Interstate",4,"Weekend Continuous","9:00 AM-1:00 PM","(3) Rural Interstate9:00 AM-1:00 PM","n/a","n/a","n/a","n/a","n/a","n/a","n/a","n/a","n/a","n/a","n/a","n/a","n/a","n/a","n/a","n/a","n/a","n/a","n/a","n/a","n/a","n/a","n/a","n/a","n/a","n/a","n/a","n/a","n/a","n/a","n/a","n/a","n/a","n/a","n/a","n/a","n/a","n/a","n/a","n/a","n/a","n/a","n/a","n/a","n/a","n/a","n/a","n/a","n/a","n/a","n/a","n/a","n/a","n/a","n/a","n/a","n/a","n/a","n/a","n/a","n/a","n/a","n/a","n/a","n/a","n/a","n/a","n/a","n/a","n/a","n/a","n/a"]
[3.4600000000000102,"(3) Rural Interstate",4,"Weekend Continuous","10:00 AM-2:00 PM","(3) Rural Interstate10:00 AM-2:00 PM","n/a","n/a","n/a","n/a","n/a","n/a","n/a","n/a","n/a","n/a","n/a","n/a","n/a","n/a","n/a","n/a","n/a","n/a","n/a","n/a","n/a","n/a","n/a","n/a","n/a","n/a","n/a","n/a","n/a","n/a","n/a","n/a","n/a","n/a","n/a","n/a","n/a","n/a","n/a","n/a","n/a","n/a","n/a","n/a","n/a","n/a","n/a","n/a","n/a","n/a","n/a","n/a","n/a","n/a","n/a","n/a","n/a","n/a","n/a","n/a","n/a","n/a","n/a","n/a","n/a","n/a","n/a","n/a","n/a","n/a","n/a","n/a"]
[3.47000000000001,"(3) Rural Interstate",4,"Weekend Continuous","11:00 AM-3:00 PM","(3) Rural Interstate11:00 AM-3:00 PM","n/a","n/a","n/a","n/a","n/a","n/a","n/a","n/a","n/a","n/a","n/a","n/a","n/a","n/a","n/a","n/a","n/a","n/a","n/a","n/a","n/a","n/a","n/a","n/a","n/a","n/a","n/a","n/a","n/a","n/a","n/a","n/a","n/a","n/a","n/a","n/a","n/a","n/a","n/a","n/a","n/a","n/a","n/a","n/a","n/a","n/a","n/a","n/a","n/a","n/a","n/a","n/a","n/a","n/a","n/a","n/a","n/a","n/a","n/a","n/a","n/a","n/a","n/a","n/a","n/a","n/a","n/a","n/a","n/a","n/a","n/a","n/a"]
[3.4800000000000102,"(3) Rural Interstate",3,"Weekend Continuous","10:00 AM-1:00 PM","(3) Rural Interstate10:00 AM-1:00 PM","n/a","n/a","n/a","n/a","n/a","n/a","n/a","n/a","n/a","n/a","n/a","n/a","n/a","n/a","n/a","n/a","n/a","n/a","n/a","n/a","n/a","n/a","n/a","n/a","n/a","n/a","n/a","n/a","n/a","n/a","n/a","n/a","n/a","n/a","n/a","n/a","n/a","n/a","n/a","n/a","n/a","n/a","n/a","n/a","n/a","n/a","n/a","n/a","n/a","n/a","n/a","n/a","n/a","n/a","n/a","n/a","n/a","n/a","n/a","n/a","n/a","n/a","n/a","n/a","n/a","n/a","n/a","n/a","n/a","n/a","n/a","n/a"]
[3.49000000000001,"(3) Rural Interstate",3,"Weekend Continuous","11:00 AM-2:00 PM","(3) Rural Interstate11:00 AM-2:00 PM","n/a","n/a","n/a","n/a","n/a","n/a","n/a","n/a","n/a","n/a","n/a","n/a","n/a","n/a","n/a","n/a","n/a","n/a","n/a","n/a","n/a","n/a","n/a","n/a","n/a","n/a","n/a","n/a","n/a","n/a","n/a","n/a","n/a","n/a","n/a","n/a","n/a","n/a","n/a","n/a","n/a","n/a","n/a","n/a","n/a","n/a","n/a","n/a","n/a","n/a","n/a","n/a","n/a","n/a","n/a","n/a","n/a","n/a","n/a","n/a","n/a","n/a","n/a","n/a","n/a","n/a","n/a","n/a","n/a","n/a","n/a","n/a"]
[3.5000000000000102,"(3) Rural Interstate",2,"Weekend Continuous","11:00 AM-1:00 PM","(3) Rural Interstate11:00 AM-1:00 PM","n/a","n/a","n/a","n/a","n/a","n/a","n/a","n/a","n/a","n/a","n/a","n/a","n/a","n/a","n/a","n/a","n/a","n/a","n/a","n/a","n/a","n/a","n/a","n/a","n/a","n/a","n/a","n/a","n/a","n/a","n/a","n/a","n/a","n/a","n/a","n/a","n/a","n/a","n/a","n/a","n/a","n/a","n/a","n/a","n/a","n/a","n/a","n/a","n/a","n/a","n/a","n/a","n/a","n/a","n/a","n/a","n/a","n/a","n/a","n/a","n/a","n/a","n/a","n/a","n/a","n/a","n/a","n/a","n/a","n/a","n/a","n/a"]
[]
[4.01,"(4) Rural Arterials & Collectors",16,"Weekday Continuous","6:00 AM-10:00 PM","(4) Rural Arterials & Collectors6:00 AM-10:00 PM","n/a","n/a","n/a","n/a","n/a","n/a","n/a","n/a","n/a","n/a","n/a","n/a","n/a","n/a","n/a","n/a","n/a","n/a","n/a","n/a","n/a","n/a","n/a","n/a","n/a","n/a","n/a","n/a","n/a","n/a","n/a","n/a","n/a","n/a","n/a","n/a","n/a","n/a","n/a","n/a","n/a","n/a","n/a","n/a","n/a","n/a","n/a","n/a","n/a","n/a","n/a","n/a","n/a","n/a","n/a","n/a","n/a","n/a","n/a","n/a","n/a","n/a","n/a","n/a","n/a","n/a","n/a","n/a","n/a","n/a","n/a","n/a"]
[4.0199999999999996,"(4) Rural Arterials & Collectors",15,"Weekday Continuous","6:00 AM-9:00 PM","(4) Rural Arterials & Collectors6:00 AM-9:00 PM","n/a","n/a","n/a","n/a","n/a","n/a","n/a","n/a","n/a","n/a","n/a","n/a","n/a","n/a","n/a","n/a","n/a","n/a","n/a","n/a","n/a","n/a","n/a","n/a","n/a","n/a","n/a","n/a","n/a","n/a","n/a","n/a","n/a","n/a","n/a","n/a","n/a","n/a","n/a","n/a","n/a","n/a","n/a","n/a","n/a","n/a","n/a","n/a","n/a","n/a","n/a","n/a","n/a","n/a","n/a","n/a","n/a","n/a","n/a","n/a","n/a","n/a","n/a","n/a","n/a","n/a","n/a","n/a","n/a","n/a","n/a","n/a"]
[4.03,"(4) Rural Arterials & Collectors",15,"Weekday Continuous","7:00 AM-10:00 PM","(4) Rural Arterials & Collectors7:00 AM-10:00 PM","n/a","n/a","n/a","n/a","n/a","n/a","n/a","n/a","n/a","n/a","n/a","n/a","n/a","n/a","n/a","n/a","n/a","n/a","n/a","n/a","n/a","n/a","n/a","n/a","n/a","n/a","n/a","n/a","n/a","n/a","n/a","n/a","n/a","n/a","n/a","n/a","n/a","n/a","n/a","n/a","n/a","n/a","n/a","n/a","n/a","n/a","n/a","n/a","n/a","n/a","n/a","n/a","n/a","n/a","n/a","n/a","n/a","n/a","n/a","n/a","n/a","n/a","n/a","n/a","n/a","n/a","n/a","n/a","n/a","n/a","n/a","n/a"]
[4.04,"(4) Rural Arterials & Collectors",14,"Weekday Continuous","6:00 AM-8:00 PM","(4) Rural Arterials & Collectors6:00 AM-8:00 PM","n/a","n/a","n/a","n/a","n/a","n/a","n/a","n/a","n/a","n/a","n/a","n/a","n/a","n/a","n/a","n/a","n/a","n/a","n/a","n/a","n/a","n/a","n/a","n/a","n/a","n/a","n/a","n/a","n/a","n/a","n/a","n/a","n/a","n/a","n/a","n/a","n/a","n/a","n/a","n/a","n/a","n/a","n/a","n/a","n/a","n/a","n/a","n/a","n/a","n/a","n/a","n/a","n/a","n/a","n/a","n/a","n/a","n/a","n/a","n/a","n/a","n/a","n/a","n/a","n/a","n/a","n/a","n/a","n/a","n/a","n/a","n/a"]
[4.05,"(4) Rural Arterials & Collectors",14,"Weekday Continuous","7:00 AM-9:00 PM","(4) Rural Arterials & Collectors7:00 AM-9:00 PM","n/a","n/a","n/a","n/a","n/a","n/a","n/a","n/a","n/a","n/a","n/a","n/a","n/a","n/a","n/a","n/a","n/a","n/a","n/a","n/a","n/a","n/a","n/a","n/a","n/a","n/a","n/a","n/a","n/a","n/a","n/a","n/a","n/a","n/a","n/a","n/a","n/a","n/a","n/a","n/a","n/a","n/a","n/a","n/a","n/a","n/a","n/a","n/a","n/a","n/a","n/a","n/a","n/a","n/a","n/a","n/a","n/a","n/a","n/a","n/a","n/a","n/a","n/a","n/a","n/a","n/a","n/a","n/a","n/a","n/a","n/a","n/a"]
[4.0599999999999996,"(4) Rural Arterials & Collectors",14,"Weekday Continuous","8:00 AM-10:00 PM","(4) Rural Arterials & Collectors8:00 AM-10:00 PM","n/a","n/a","n/a","n/a","n/a","n/a","n/a","n/a","n/a","n/a","n/a","n/a","n/a","n/a","n/a","n/a","n/a","n/a","n/a","n/a","n/a","n/a","n/a","n/a","n/a","n/a","n/a","n/a","n/a","n/a","n/a","n/a","n/a","n/a","n/a","n/a","n/a","n/a","n/a","n/a","n/a","n/a","n/a","n/a","n/a","n/a","n/a","n/a","n/a","n/a","n/a","n/a","n/a","n/a","n/a","n/a","n/a","n/a","n/a","n/a","n/a","n/a","n/a","n/a","n/a","n/a","n/a","n/a","n/a","n/a","n/a","n/a"]
[4.07,"(4) Rural Arterials & Collectors",13,"Weekday Continuous","6:00 AM-7:00 PM","(4) Rural Arterials & Collectors6:00 AM-7:00 PM",1.2430000000000001,"n/a",1.1970000000000001,1.22,1.2090000000000001,1.2470000000000001,1.224,"n/a","n/a","n/a","n/a","n/a","n/a","n/a","n/a","n/a","n/a","n/a","n/a","n/a","n/a","n/a","n/a","n/a","n/a","n/a","n/a","n/a","n/a","n/a","n/a","n/a","n/a","n/a","n/a","n/a","n/a","n/a","n/a","n/a","n/a","n/a","n/a","n/a","n/a","n/a","n/a","n/a","n/a","n/a","n/a","n/a","n/a","n/a","n/a","n/a","n/a","n/a","n/a","n/a","n/a","n/a","n/a","n/a","n/a","n/a","n/a","n/a","n/a","n/a","n/a","n/a"]
[4.08,"(4) Rural Arterials & Collectors",13,"Weekday Continuous","7:00 AM-8:00 PM","(4) Rural Arterials & Collectors7:00 AM-8:00 PM","n/a","n/a","n/a","n/a","n/a","n/a","n/a","n/a","n/a","n/a","n/a","n/a","n/a","n/a","n/a","n/a","n/a","n/a","n/a","n/a","n/a","n/a","n/a","n/a","n/a","n/a","n/a","n/a","n/a","n/a","n/a","n/a","n/a","n/a","n/a","n/a","n/a","n/a","n/a","n/a","n/a","n/a","n/a","n/a","n/a","n/a","n/a","n/a","n/a","n/a","n/a","n/a","n/a","n/a","n/a","n/a","n/a","n/a","n/a","n/a","n/a","n/a","n/a","n/a","n/a","n/a","n/a","n/a","n/a","n/a","n/a","n/a"]
[4.09,"(4) Rural Arterials & Collectors",13,"Weekday Continuous","8:00 AM-9:00 PM","(4) Rural Arterials & Collectors8:00 AM-9:00 PM","n/a","n/a","n/a","n/a","n/a","n/a","n/a","n/a","n/a","n/a","n/a","n/a","n/a","n/a","n/a","n/a","n/a","n/a","n/a","n/a","n/a","n/a","n/a","n/a","n/a","n/a","n/a","n/a","n/a","n/a","n/a","n/a","n/a","n/a","n/a","n/a","n/a","n/a","n/a","n/a","n/a","n/a","n/a","n/a","n/a","n/a","n/a","n/a","n/a","n/a","n/a","n/a","n/a","n/a","n/a","n/a","n/a","n/a","n/a","n/a","n/a","n/a","n/a","n/a","n/a","n/a","n/a","n/a","n/a","n/a","n/a","n/a"]
[4.0999999999999996,"(4) Rural Arterials & Collectors",13,"Weekday Continuous","9:00 AM-10:00 PM","(4) Rural Arterials & Collectors9:00 AM-10:00 PM","n/a","n/a","n/a","n/a","n/a","n/a","n/a","n/a","n/a","n/a","n/a","n/a","n/a","n/a","n/a","n/a","n/a","n/a","n/a","n/a","n/a","n/a","n/a","n/a","n/a","n/a","n/a","n/a","n/a","n/a","n/a","n/a","n/a","n/a","n/a","n/a","n/a","n/a","n/a","n/a","n/a","n/a","n/a","n/a","n/a","n/a","n/a","n/a","n/a","n/a","n/a","n/a","n/a","n/a","n/a","n/a","n/a","n/a","n/a","n/a","n/a","n/a","n/a","n/a","n/a","n/a","n/a","n/a","n/a","n/a","n/a","n/a"]
[4.1100000000000003,"(4) Rural Arterials & Collectors",12,"Weekday Continuous","6:00 AM-6:00 PM","(4) Rural Arterials & Collectors6:00 AM-6:00 PM",1.341,"n/a",1.288,1.3149999999999999,1.294,1.353,1.3340000000000001,"n/a","n/a","n/a","n/a","n/a","n/a","n/a","n/a","n/a","n/a","n/a","n/a","n/a","n/a","n/a","n/a","n/a","n/a","n/a","n/a","n/a","n/a","n/a","n/a","n/a","n/a","n/a","n/a","n/a","n/a","n/a","n/a","n/a","n/a","n/a","n/a","n/a","n/a","n/a","n/a","n/a","n/a","n/a","n/a","n/a","n/a","n/a","n/a","n/a","n/a","n/a","n/a","n/a","n/a","n/a","n/a","n/a","n/a","n/a","n/a","n/a","n/a","n/a","n/a","n/a"]
[4.12,"(4) Rural Arterials & Collectors",12,"Weekday Continuous","7:00 AM-7:00 PM","(4) Rural Arterials & Collectors7:00 AM-7:00 PM","n/a","n/a","n/a","n/a","n/a","n/a","n/a","n/a","n/a","n/a","n/a","n/a","n/a","n/a","n/a","n/a","n/a","n/a","n/a","n/a","n/a","n/a","n/a","n/a","n/a","n/a","n/a","n/a","n/a","n/a","n/a","n/a","n/a","n/a","n/a","n/a","n/a","n/a","n/a","n/a","n/a","n/a","n/a","n/a","n/a","n/a","n/a","n/a","n/a","n/a","n/a","n/a","n/a","n/a","n/a","n/a","n/a","n/a","n/a","n/a","n/a","n/a","n/a","n/a","n/a","n/a","n/a","n/a","n/a","n/a","n/a","n/a"]
[4.13,"(4) Rural Arterials & Collectors",12,"Weekday Continuous","8:00 AM-8:00 PM","(4) Rural Arterials & Collectors8:00 AM-8:00 PM","n/a","n/a","n/a","n/a","n/a","n/a","n/a","n/a","n/a","n/a","n/a","n/a","n/a","n/a","n/a","n/a","n/a","n/a","n/a","n/a","n/a","n/a","n/a","n/a","n/a","n/a","n/a","n/a","n/a","n/a","n/a","n/a","n/a","n/a","n/a","n/a","n/a","n/a","n/a","n/a","n/a","n/a","n/a","n/a","n/a","n/a","n/a","n/a","n/a","n/a","n/a","n/a","n/a","n/a","n/a","n/a","n/a","n/a","n/a","n/a","n/a","n/a","n/a","n/a","n/a","n/a","n/a","n/a","n/a","n/a","n/a","n/a"]
[4.1399999999999997,"(4) Rural Arterials & Collectors",12,"Weekday Continuous","9:00 AM-9:00 PM","(4) Rural Arterials & Collectors9:00 AM-9:00 PM","n/a","n/a","n/a","n/a","n/a","n/a","n/a","n/a","n/a","n/a","n/a","n/a","n/a","n/a","n/a","n/a","n/a","n/a","n/a","n/a","n/a","n/a","n/a","n/a","n/a","n/a","n/a","n/a","n/a","n/a","n/a","n/a","n/a","n/a","n/a","n/a","n/a","n/a","n/a","n/a","n/a","n/a","n/a","n/a","n/a","n/a","n/a","n/a","n/a","n/a","n/a","n/a","n/a","n/a","n/a","n/a","n/a","n/a","n/a","n/a","n/a","n/a","n/a","n/a","n/a","n/a","n/a","n/a","n/a","n/a","n/a","n/a"]
[4.1500000000000004,"(4) Rural Arterials & Collectors",12,"Weekday Continuous","10:00 AM-10:00 PM","(4) Rural Arterials & Collectors10:00 AM-10:00 PM","n/a","n/a","n/a","n/a","n/a","n/a","n/a","n/a","n/a","n/a","n/a","n/a","n/a","n/a","n/a","n/a","n/a","n/a","n/a","n/a","n/a","n/a","n/a","n/a","n/a","n/a","n/a","n/a","n/a","n/a","n/a","n/a","n/a","n/a","n/a","n/a","n/a","n/a","n/a","n/a","n/a","n/a","n/a","n/a","n/a","n/a","n/a","n/a","n/a","n/a","n/a","n/a","n/a","n/a","n/a","n/a","n/a","n/a","n/a","n/a","n/a","n/a","n/a","n/a","n/a","n/a","n/a","n/a","n/a","n/a","n/a","n/a"]
[4.16,"(4) Rural Arterials & Collectors",11,"Weekday Continuous","6:00 AM-5:00 PM","(4) Rural Arterials & Collectors6:00 AM-5:00 PM","n/a","n/a","n/a","n/a","n/a","n/a","n/a","n/a","n/a","n/a","n/a","n/a","n/a","n/a","n/a","n/a","n/a","n/a","n/a","n/a","n/a","n/a","n/a","n/a","n/a","n/a","n/a","n/a","n/a","n/a","n/a","n/a","n/a","n/a","n/a","n/a","n/a","n/a","n/a","n/a","n/a","n/a","n/a","n/a","n/a","n/a","n/a","n/a","n/a","n/a","n/a","n/a","n/a","n/a","n/a","n/a","n/a","n/a","n/a","n/a","n/a","n/a","n/a","n/a","n/a","n/a","n/a","n/a","n/a","n/a","n/a","n/a"]
[4.17,"(4) Rural Arterials & Collectors",11,"Weekday Continuous","7:00 AM-6:00 PM","(4) Rural Arterials & Collectors7:00 AM-6:00 PM","n/a","n/a","n/a","n/a","n/a","n/a","n/a","n/a","n/a","n/a","n/a","n/a","n/a","n/a","n/a","n/a","n/a","n/a","n/a","n/a","n/a","n/a","n/a","n/a","n/a","n/a","n/a","n/a","n/a","n/a","n/a","n/a","n/a","n/a","n/a","n/a","n/a","n/a","n/a","n/a","n/a","n/a","n/a","n/a","n/a","n/a","n/a","n/a","n/a","n/a","n/a","n/a","n/a","n/a","n/a","n/a","n/a","n/a","n/a","n/a","n/a","n/a","n/a","n/a","n/a","n/a","n/a","n/a","n/a","n/a","n/a","n/a"]
[4.18,"(4) Rural Arterials & Collectors",11,"Weekday Continuous","8:00 AM-7:00 PM","(4) Rural Arterials & Collectors8:00 AM-7:00 PM","n/a","n/a","n/a","n/a","n/a","n/a","n/a","n/a","n/a","n/a","n/a","n/a","n/a","n/a","n/a","n/a","n/a","n/a","n/a","n/a","n/a","n/a","n/a","n/a","n/a","n/a","n/a","n/a","n/a","n/a","n/a","n/a","n/a","n/a","n/a","n/a","n/a","n/a","n/a","n/a","n/a","n/a","n/a","n/a","n/a","n/a","n/a","n/a","n/a","n/a","n/a","n/a","n/a","n/a","n/a","n/a","n/a","n/a","n/a","n/a","n/a","n/a","n/a","n/a","n/a","n/a","n/a","n/a","n/a","n/a","n/a","n/a"]
[4.1900000000000004,"(4) Rural Arterials & Collectors",11,"Weekday Continuous","9:00 AM-8:00 PM","(4) Rural Arterials & Collectors9:00 AM-8:00 PM","n/a","n/a","n/a","n/a","n/a","n/a","n/a","n/a","n/a","n/a","n/a","n/a","n/a","n/a","n/a","n/a","n/a","n/a","n/a","n/a","n/a","n/a","n/a","n/a","n/a","n/a","n/a","n/a","n/a","n/a","n/a","n/a","n/a","n/a","n/a","n/a","n/a","n/a","n/a","n/a","n/a","n/a","n/a","n/a","n/a","n/a","n/a","n/a","n/a","n/a","n/a","n/a","n/a","n/a","n/a","n/a","n/a","n/a","n/a","n/a","n/a","n/a","n/a","n/a","n/a","n/a","n/a","n/a","n/a","n/a","n/a","n/a"]
[4.2,"(4) Rural Arterials & Collectors",10,"Weekday Continuous","6:00 AM-4:00 PM","(4) Rural Arterials & Collectors6:00 AM-4:00 PM","n/a","n/a","n/a","n/a","n/a","n/a","n/a","n/a","n/a","n/a","n/a","n/a","n/a","n/a","n/a","n/a","n/a","n/a","n/a","n/a","n/a","n/a","n/a","n/a","n/a","n/a","n/a","n/a","n/a","n/a","n/a","n/a","n/a","n/a","n/a","n/a","n/a","n/a","n/a","n/a","n/a","n/a","n/a","n/a","n/a","n/a","n/a","n/a","n/a","n/a","n/a","n/a","n/a","n/a","n/a","n/a","n/a","n/a","n/a","n/a","n/a","n/a","n/a","n/a","n/a","n/a","n/a","n/a","n/a","n/a","n/a","n/a"]
[4.21,"(4) Rural Arterials & Collectors",10,"Weekday Continuous","7:00 AM-5:00 PM","(4) Rural Arterials & Collectors7:00 AM-5:00 PM","n/a","n/a","n/a","n/a","n/a","n/a","n/a","n/a","n/a","n/a","n/a","n/a","n/a","n/a","n/a","n/a","n/a","n/a","n/a","n/a","n/a","n/a","n/a","n/a","n/a","n/a","n/a","n/a","n/a","n/a","n/a","n/a","n/a","n/a","n/a","n/a","n/a","n/a","n/a","n/a","n/a","n/a","n/a","n/a","n/a","n/a","n/a","n/a","n/a","n/a","n/a","n/a","n/a","n/a","n/a","n/a","n/a","n/a","n/a","n/a","n/a","n/a","n/a","n/a","n/a","n/a","n/a","n/a","n/a","n/a","n/a","n/a"]
[4.22,"(4) Rural Arterials & Collectors",10,"Weekday Continuous","8:00 AM-6:00 PM","(4) Rural Arterials & Collectors8:00 AM-6:00 PM","n/a","n/a","n/a","n/a","n/a","n/a","n/a","n/a","n/a","n/a","n/a","n/a","n/a","n/a","n/a","n/a","n/a","n/a","n/a","n/a","n/a","n/a","n/a","n/a","n/a","n/a","n/a","n/a","n/a","n/a","n/a","n/a","n/a","n/a","n/a","n/a","n/a","n/a","n/a","n/a","n/a","n/a","n/a","n/a","n/a","n/a","n/a","n/a","n/a","n/a","n/a","n/a","n/a","n/a","n/a","n/a","n/a","n/a","n/a","n/a","n/a","n/a","n/a","n/a","n/a","n/a","n/a","n/a","n/a","n/a","n/a","n/a"]
[4.2300000000000004,"(4) Rural Arterials & Collectors",10,"Weekday Continuous","9:00 AM-7:00 PM","(4) Rural Arterials & Collectors9:00 AM-7:00 PM","n/a","n/a","n/a","n/a","n/a","n/a","n/a","n/a","n/a","n/a","n/a","n/a","n/a","n/a","n/a","n/a","n/a","n/a","n/a","n/a","n/a","n/a","n/a","n/a","n/a","n/a","n/a","n/a","n/a","n/a","n/a","n/a","n/a","n/a","n/a","n/a","n/a","n/a","n/a","n/a","n/a","n/a","n/a","n/a","n/a","n/a","n/a","n/a","n/a","n/a","n/a","n/a","n/a","n/a","n/a","n/a","n/a","n/a","n/a","n/a","n/a","n/a","n/a","n/a","n/a","n/a","n/a","n/a","n/a","n/a","n/a","n/a"]
[4.2399999999999904,"(4) Rural Arterials & Collectors",9,"Weekday Continuous","6:00 AM-3:00 PM","(4) Rural Arterials & Collectors6:00 AM-3:00 PM","n/a","n/a","n/a","n/a","n/a","n/a","n/a","n/a","n/a","n/a","n/a","n/a","n/a","n/a","n/a","n/a","n/a","n/a","n/a","n/a","n/a","n/a","n/a","n/a","n/a","n/a","n/a","n/a","n/a","n/a","n/a","n/a","n/a","n/a","n/a","n/a","n/a","n/a","n/a","n/a","n/a","n/a","n/a","n/a","n/a","n/a","n/a","n/a","n/a","n/a","n/a","n/a","n/a","n/a","n/a","n/a","n/a","n/a","n/a","n/a","n/a","n/a","n/a","n/a","n/a","n/a","n/a","n/a","n/a","n/a","n/a","n/a"]
[4.2499999999999902,"(4) Rural Arterials & Collectors",9,"Weekday Continuous","7:00 AM-4:00 PM","(4) Rural Arterials & Collectors7:00 AM-4:00 PM","n/a","n/a","n/a","n/a","n/a","n/a","n/a","n/a","n/a","n/a","n/a","n/a","n/a","n/a","n/a","n/a","n/a","n/a","n/a","n/a","n/a","n/a","n/a","n/a","n/a","n/a","n/a","n/a","n/a","n/a","n/a","n/a","n/a","n/a","n/a","n/a","n/a","n/a","n/a","n/a","n/a","n/a","n/a","n/a","n/a","n/a","n/a","n/a","n/a","n/a","n/a","n/a","n/a","n/a","n/a","n/a","n/a","n/a","n/a","n/a","n/a","n/a","n/a","n/a","n/a","n/a","n/a","n/a","n/a","n/a","n/a","n/a"]
[4.25999999999999,"(4) Rural Arterials & Collectors",9,"Weekday Continuous","8:00 AM-5:00 PM","(4) Rural Arterials & Collectors8:00 AM-5:00 PM","n/a","n/a","n/a","n/a","n/a","n/a","n/a","n/a","n/a","n/a","n/a","n/a","n/a","n/a","n/a","n/a","n/a","n/a","n/a","n/a","n/a","n/a","n/a","n/a","n/a","n/a","n/a","n/a","n/a","n/a","n/a","n/a","n/a","n/a","n/a","n/a","n/a","n/a","n/a","n/a","n/a","n/a","n/a","n/a","n/a","n/a","n/a","n/a","n/a","n/a","n/a","n/a","n/a","n/a","n/a","n/a","n/a","n/a","n/a","n/a","n/a","n/a","n/a","n/a","n/a","n/a","n/a","n/a","n/a","n/a","n/a","n/a"]
[4.2699999999999898,"(4) Rural Arterials & Collectors",9,"Weekday Continuous","9:00 AM-6:00 PM","(4) Rural Arterials & Collectors9:00 AM-6:00 PM","n/a","n/a","n/a","n/a","n/a","n/a","n/a","n/a","n/a","n/a","n/a","n/a","n/a","n/a","n/a","n/a","n/a","n/a","n/a","n/a","n/a","n/a","n/a","n/a","n/a","n/a","n/a","n/a","n/a","n/a","n/a","n/a","n/a","n/a","n/a","n/a","n/a","n/a","n/a","n/a","n/a","n/a","n/a","n/a","n/a","n/a","n/a","n/a","n/a","n/a","n/a","n/a","n/a","n/a","n/a","n/a","n/a","n/a","n/a","n/a","n/a","n/a","n/a","n/a","n/a","n/a","n/a","n/a","n/a","n/a","n/a","n/a"]
[4.2799999999999896,"(4) Rural Arterials & Collectors",8,"Weekday Continuous","6:00 AM-2:00 PM","(4) Rural Arterials & Collectors6:00 AM-2:00 PM","n/a","n/a","n/a","n/a","n/a","n/a","n/a","n/a","n/a","n/a","n/a","n/a","n/a","n/a","n/a","n/a","n/a","n/a","n/a","n/a","n/a","n/a","n/a","n/a","n/a","n/a","n/a","n/a","n/a","n/a","n/a","n/a","n/a","n/a","n/a","n/a","n/a","n/a","n/a","n/a","n/a","n/a","n/a","n/a","n/a","n/a","n/a","n/a","n/a","n/a","n/a","n/a","n/a","n/a","n/a","n/a","n/a","n/a","n/a","n/a","n/a","n/a","n/a","n/a","n/a","n/a","n/a","n/a","n/a","n/a","n/a","n/a"]
[4.2899999999999903,"(4) Rural Arterials & Collectors",8,"Weekday Continuous","7:00 AM-3:00 PM","(4) Rural Arterials & Collectors7:00 AM-3:00 PM","n/a","n/a","n/a","n/a","n/a","n/a","n/a","n/a","n/a","n/a","n/a","n/a","n/a","n/a","n/a","n/a","n/a","n/a","n/a","n/a","n/a","n/a","n/a","n/a","n/a","n/a","n/a","n/a","n/a","n/a","n/a","n/a","n/a","n/a","n/a","n/a","n/a","n/a","n/a","n/a","n/a","n/a","n/a","n/a","n/a","n/a","n/a","n/a","n/a","n/a","n/a","n/a","n/a","n/a","n/a","n/a","n/a","n/a","n/a","n/a","n/a","n/a","n/a","n/a","n/a","n/a","n/a","n/a","n/a","n/a","n/a","n/a"]
[4.2999999999999901,"(4) Rural Arterials & Collectors",8,"Weekday Continuous","8:00 AM-4:00 PM","(4) Rural Arterials & Collectors8:00 AM-4:00 PM","n/a","n/a","n/a","n/a","n/a","n/a","n/a","n/a","n/a","n/a","n/a","n/a","n/a","n/a","n/a","n/a","n/a","n/a","n/a","n/a","n/a","n/a","n/a","n/a","n/a","n/a","n/a","n/a","n/a","n/a","n/a","n/a","n/a","n/a","n/a","n/a","n/a","n/a","n/a","n/a","n/a","n/a","n/a","n/a","n/a","n/a","n/a","n/a","n/a","n/a","n/a","n/a","n/a","n/a","n/a","n/a","n/a","n/a","n/a","n/a","n/a","n/a","n/a","n/a","n/a","n/a","n/a","n/a","n/a","n/a","n/a","n/a"]
[4.3099999999999898,"(4) Rural Arterials & Collectors",8,"Weekday Continuous","9:00 AM-5:00 PM","(4) Rural Arterials & Collectors9:00 AM-5:00 PM","n/a","n/a","n/a","n/a","n/a","n/a","n/a","n/a","n/a","n/a","n/a","n/a","n/a","n/a","n/a","n/a","n/a","n/a","n/a","n/a","n/a","n/a","n/a","n/a","n/a","n/a","n/a","n/a","n/a","n/a","n/a","n/a","n/a","n/a","n/a","n/a","n/a","n/a","n/a","n/a","n/a","n/a","n/a","n/a","n/a","n/a","n/a","n/a","n/a","n/a","n/a","n/a","n/a","n/a","n/a","n/a","n/a","n/a","n/a","n/a","n/a","n/a","n/a","n/a","n/a","n/a","n/a","n/a","n/a","n/a","n/a","n/a"]
[4.3199999999999896,"(4) Rural Arterials & Collectors",6,"Weekday 2-Part","6:00 AM-9:00 AM AND 4:00 PM-7:00 PM","(4) Rural Arterials & Collectors6:00 AM-9:00 AM AND 4:00 PM-7:00 PM","n/a","n/a","n/a","n/a","n/a","n/a","n/a","n/a","n/a","n/a","n/a","n/a","n/a","n/a","n/a","n/a","n/a","n/a","n/a","n/a","n/a","n/a","n/a","n/a","n/a","n/a","n/a","n/a","n/a","n/a","n/a","n/a","n/a","n/a","n/a","n/a","n/a","n/a","n/a","n/a","n/a","n/a","n/a","n/a","n/a","n/a","n/a","n/a","n/a","n/a","n/a","n/a","n/a","n/a","n/a","n/a","n/a","n/a","n/a","n/a","n/a","n/a","n/a","n/a","n/a","n/a","n/a","n/a","n/a","n/a","n/a","n/a"]
[4.3299999999999903,"(4) Rural Arterials & Collectors",6,"Weekday 2-Part","6:00 AM-9:00 AM AND 3:00 PM-6:00 PM","(4) Rural Arterials & Collectors6:00 AM-9:00 AM AND 3:00 PM-6:00 PM","n/a","n/a","n/a","n/a","n/a","n/a","n/a","n/a","n/a","n/a","n/a","n/a","n/a","n/a","n/a","n/a","n/a","n/a","n/a","n/a","n/a","n/a","n/a","n/a","n/a","n/a","n/a","n/a","n/a","n/a","n/a","n/a","n/a","n/a","n/a","n/a","n/a","n/a","n/a","n/a","n/a","n/a","n/a","n/a","n/a","n/a","n/a","n/a","n/a","n/a","n/a","n/a","n/a","n/a","n/a","n/a","n/a","n/a","n/a","n/a","n/a","n/a","n/a","n/a","n/a","n/a","n/a","n/a","n/a","n/a","n/a","n/a"]
[4.3399999999999901,"(4) Rural Arterials & Collectors",6,"Weekday 2-Part","7:00 AM-10:00 AM AND 4:00 PM-7:00 PM","(4) Rural Arterials & Collectors7:00 AM-10:00 AM AND 4:00 PM-7:00 PM","n/a","n/a","n/a","n/a","n/a","n/a","n/a","n/a","n/a","n/a","n/a","n/a","n/a","n/a","n/a","n/a","n/a","n/a","n/a","n/a","n/a","n/a","n/a","n/a","n/a","n/a","n/a","n/a","n/a","n/a","n/a","n/a","n/a","n/a","n/a","n/a","n/a","n/a","n/a","n/a","n/a","n/a","n/a","n/a","n/a","n/a","n/a","n/a","n/a","n/a","n/a","n/a","n/a","n/a","n/a","n/a","n/a","n/a","n/a","n/a","n/a","n/a","n/a","n/a","n/a","n/a","n/a","n/a","n/a","n/a","n/a","n/a"]
[4.3499999999999899,"(4) Rural Arterials & Collectors",6,"Weekday 2-Part","7:00 AM-10:00 AM AND 3:00 PM-6:00 PM","(4) Rural Arterials & Collectors7:00 AM-10:00 AM AND 3:00 PM-6:00 PM","n/a","n/a","n/a","n/a","n/a","n/a","n/a","n/a","n/a","n/a","n/a","n/a","n/a","n/a","n/a","n/a","n/a","n/a","n/a","n/a","n/a","n/a","n/a","n/a","n/a","n/a","n/a","n/a","n/a","n/a","n/a","n/a","n/a","n/a","n/a","n/a","n/a","n/a","n/a","n/a","n/a","n/a","n/a","n/a","n/a","n/a","n/a","n/a","n/a","n/a","n/a","n/a","n/a","n/a","n/a","n/a","n/a","n/a","n/a","n/a","n/a","n/a","n/a","n/a","n/a","n/a","n/a","n/a","n/a","n/a","n/a","n/a"]
[4.3599999999999897,"(4) Rural Arterials & Collectors",5,"Weekday 2-Part","6:00 AM-8:00 AM AND 4:00 PM-7:00 PM","(4) Rural Arterials & Collectors6:00 AM-8:00 AM AND 4:00 PM-7:00 PM","n/a","n/a","n/a","n/a","n/a","n/a","n/a","n/a","n/a","n/a","n/a","n/a","n/a","n/a","n/a","n/a","n/a","n/a","n/a","n/a","n/a","n/a","n/a","n/a","n/a","n/a","n/a","n/a","n/a","n/a","n/a","n/a","n/a","n/a","n/a","n/a","n/a","n/a","n/a","n/a","n/a","n/a","n/a","n/a","n/a","n/a","n/a","n/a","n/a","n/a","n/a","n/a","n/a","n/a","n/a","n/a","n/a","n/a","n/a","n/a","n/a","n/a","n/a","n/a","n/a","n/a","n/a","n/a","n/a","n/a","n/a","n/a"]
[4.3699999999999903,"(4) Rural Arterials & Collectors",5,"Weekday 2-Part","6:00 AM-8:00 AM AND 3:00 PM-6:00 PM","(4) Rural Arterials & Collectors6:00 AM-8:00 AM AND 3:00 PM-6:00 PM","n/a","n/a","n/a","n/a","n/a","n/a","n/a","n/a","n/a","n/a","n/a","n/a","n/a","n/a","n/a","n/a","n/a","n/a","n/a","n/a","n/a","n/a","n/a","n/a","n/a","n/a","n/a","n/a","n/a","n/a","n/a","n/a","n/a","n/a","n/a","n/a","n/a","n/a","n/a","n/a","n/a","n/a","n/a","n/a","n/a","n/a","n/a","n/a","n/a","n/a","n/a","n/a","n/a","n/a","n/a","n/a","n/a","n/a","n/a","n/a","n/a","n/a","n/a","n/a","n/a","n/a","n/a","n/a","n/a","n/a","n/a","n/a"]
[4.3799999999999901,"(4) Rural Arterials & Collectors",5,"Weekday 2-Part","7:00 AM-9:00 AM AND 4:00 PM-7:00 PM","(4) Rural Arterials & Collectors7:00 AM-9:00 AM AND 4:00 PM-7:00 PM","n/a","n/a","n/a","n/a","n/a","n/a","n/a","n/a","n/a","n/a","n/a","n/a","n/a","n/a","n/a","n/a","n/a","n/a","n/a","n/a","n/a","n/a","n/a","n/a","n/a","n/a","n/a","n/a","n/a","n/a","n/a","n/a","n/a","n/a","n/a","n/a","n/a","n/a","n/a","n/a","n/a","n/a","n/a","n/a","n/a","n/a","n/a","n/a","n/a","n/a","n/a","n/a","n/a","n/a","n/a","n/a","n/a","n/a","n/a","n/a","n/a","n/a","n/a","n/a","n/a","n/a","n/a","n/a","n/a","n/a","n/a","n/a"]
[4.3899999999999899,"(4) Rural Arterials & Collectors",5,"Weekday 2-Part","7:00 AM-9:00 AM AND 3:00 PM-6:00 PM","(4) Rural Arterials & Collectors7:00 AM-9:00 AM AND 3:00 PM-6:00 PM","n/a","n/a","n/a","n/a","n/a","n/a","n/a","n/a","n/a","n/a","n/a","n/a","n/a","n/a","n/a","n/a","n/a","n/a","n/a","n/a","n/a","n/a","n/a","n/a","n/a","n/a","n/a","n/a","n/a","n/a","n/a","n/a","n/a","n/a","n/a","n/a","n/a","n/a","n/a","n/a","n/a","n/a","n/a","n/a","n/a","n/a","n/a","n/a","n/a","n/a","n/a","n/a","n/a","n/a","n/a","n/a","n/a","n/a","n/a","n/a","n/a","n/a","n/a","n/a","n/a","n/a","n/a","n/a","n/a","n/a","n/a","n/a"]
[4.3999999999999897,"(4) Rural Arterials & Collectors",4,"Weekday 2-Part","6:00 AM-8:00 AM AND 4:00 PM-6:00 PM","(4) Rural Arterials & Collectors6:00 AM-8:00 AM AND 4:00 PM-6:00 PM","n/a","n/a","n/a","n/a","n/a","n/a","n/a","n/a","n/a","n/a","n/a","n/a","n/a","n/a","n/a","n/a","n/a","n/a","n/a","n/a","n/a","n/a","n/a","n/a","n/a","n/a","n/a","n/a","n/a","n/a","n/a","n/a","n/a","n/a","n/a","n/a","n/a","n/a","n/a","n/a","n/a","n/a","n/a","n/a","n/a","n/a","n/a","n/a","n/a","n/a","n/a","n/a","n/a","n/a","n/a","n/a","n/a","n/a","n/a","n/a","n/a","n/a","n/a","n/a","n/a","n/a","n/a","n/a","n/a","n/a","n/a","n/a"]
[4.4099999999999904,"(4) Rural Arterials & Collectors",4,"Weekday 2-Part","6:00 AM-8:00 AM AND 3:00 PM-5:00 PM",{"$f":"CONCATENATE(B200,E200)","v":"(4) Rural Arterials & Collectors6:00 AM-8:00 AM AND 3:00 PM-5:00 PM"},"n/a","n/a","n/a","n/a","n/a","n/a","n/a","n/a","n/a","n/a","n/a","n/a","n/a","n/a","n/a","n/a","n/a","n/a","n/a","n/a","n/a","n/a","n/a","n/a","n/a","n/a","n/a","n/a","n/a","n/a","n/a","n/a","n/a","n/a","n/a","n/a","n/a","n/a","n/a","n/a","n/a","n/a","n/a","n/a","n/a","n/a","n/a","n/a","n/a","n/a","n/a","n/a","n/a","n/a","n/a","n/a","n/a","n/a","n/a","n/a","n/a","n/a","n/a","n/a","n/a","n/a","n/a","n/a","n/a","n/a","n/a","n/a"]
[4.4199999999999902,"(4) Rural Arterials & Collectors",4,"Weekday 2-Part","7:00 AM-9:00 AM AND 4:00 PM-6:00 PM","(4) Rural Arterials & Collectors7:00 AM-9:00 AM AND 4:00 PM-6:00 PM","n/a","n/a","n/a","n/a","n/a","n/a","n/a","n/a","n/a","n/a","n/a","n/a","n/a","n/a","n/a","n/a","n/a","n/a","n/a","n/a","n/a","n/a","n/a","n/a","n/a","n/a","n/a","n/a","n/a","n/a","n/a","n/a","n/a","n/a","n/a","n/a","n/a","n/a","n/a","n/a","n/a","n/a","n/a","n/a","n/a","n/a","n/a","n/a","n/a","n/a","n/a","n/a","n/a","n/a","n/a","n/a","n/a","n/a","n/a","n/a","n/a","n/a","n/a","n/a","n/a","n/a","n/a","n/a","n/a","n/a","n/a","n/a"]
[4.4299999999999899,"(4) Rural Arterials & Collectors",4,"Weekday 2-Part","7:00 AM-9:00 AM AND 3:00 PM-5:00 PM","(4) Rural Arterials & Collectors7:00 AM-9:00 AM AND 3:00 PM-5:00 PM","n/a","n/a","n/a","n/a","n/a","n/a","n/a","n/a","n/a","n/a","n/a","n/a","n/a","n/a","n/a","n/a","n/a","n/a","n/a","n/a","n/a","n/a","n/a","n/a","n/a","n/a","n/a","n/a","n/a","n/a","n/a","n/a","n/a","n/a","n/a","n/a","n/a","n/a","n/a","n/a","n/a","n/a","n/a","n/a","n/a","n/a","n/a","n/a","n/a","n/a","n/a","n/a","n/a","n/a","n/a","n/a","n/a","n/a","n/a","n/a","n/a","n/a","n/a","n/a","n/a","n/a","n/a","n/a","n/a","n/a","n/a","n/a"]
[4.4399999999999897,"(4) Rural Arterials & Collectors",8,"Weekday 3-Part","6:00 AM-9:00 AM, 11:00 AM-1:00 PM, AND 3:00 PM-6:00 PM","(4) Rural Arterials & Collectors6:00 AM-9:00 AM, 11:00 AM-1:00 PM, AND 3:00 PM-6:00 PM","n/a","n/a","n/a","n/a","n/a","n/a","n/a","n/a","n/a","n/a","n/a","n/a","n/a","n/a","n/a","n/a","n/a","n/a","n/a","n/a","n/a","n/a","n/a","n/a","n/a","n/a","n/a","n/a","n/a","n/a","n/a","n/a","n/a","n/a","n/a","n/a","n/a","n/a","n/a","n/a","n/a","n/a","n/a","n/a","n/a","n/a","n/a","n/a","n/a","n/a","n/a","n/a","n/a","n/a","n/a","n/a","n/a","n/a","n/a","n/a","n/a","n/a","n/a","n/a","n/a","n/a","n/a","n/a","n/a","n/a","n/a","n/a"]
[4.4499999999999904,"(4) Rural Arterials & Collectors",4,"Weekend Continuous","9:00 AM-1:00 PM","(4) Rural Arterials & Collectors9:00 AM-1:00 PM","n/a","n/a","n/a","n/a","n/a","n/a","n/a","n/a","n/a","n/a","n/a","n/a","n/a","n/a","n/a","n/a","n/a","n/a","n/a","n/a","n/a","n/a","n/a","n/a","n/a","n/a","n/a","n/a","n/a","n/a","n/a","n/a","n/a","n/a","n/a","n/a","n/a","n/a","n/a","n/a","n/a","n/a","n/a","n/a","n/a","n/a","n/a","n/a","n/a","n/a","n/a","n/a","n/a","n/a","n/a","n/a","n/a","n/a","n/a","n/a","n/a","n/a","n/a","n/a","n/a","n/a","n/a","n/a","n/a","n/a","n/a","n/a"]
[4.4599999999999902,"(4) Rural Arterials & Collectors",4,"Weekend Continuous","10:00 AM-2:00 PM","(4) Rural Arterials & Collectors10:00 AM-2:00 PM","n/a","n/a","n/a","n/a","n/a","n/a","n/a","n/a","n/a","n/a","n/a","n/a","n/a","n/a","n/a","n/a","n/a","n/a","n/a","n/a","n/a","n/a","n/a","n/a","n/a","n/a","n/a","n/a","n/a","n/a","n/a","n/a","n/a","n/a","n/a","n/a","n/a","n/a","n/a","n/a","n/a","n/a","n/a","n/a","n/a","n/a","n/a","n/a","n/a","n/a","n/a","n/a","n/a","n/a","n/a","n/a","n/a","n/a","n/a","n/a","n/a","n/a","n/a","n/a","n/a","n/a","n/a","n/a","n/a","n/a","n/a","n/a"]
[4.46999999999999,"(4) Rural Arterials & Collectors",4,"Weekend Continuous","11:00 AM-3:00 PM","(4) Rural Arterials & Collectors11:00 AM-3:00 PM","n/a","n/a","n/a","n/a","n/a","n/a","n/a","n/a","n/a","n/a","n/a","n/a","n/a","n/a","n/a","n/a","n/a","n/a","n/a","n/a","n/a","n/a","n/a","n/a","n/a","n/a","n/a","n/a","n/a","n/a","n/a","n/a","n/a","n/a","n/a","n/a","n/a","n/a","n/a","n/a","n/a","n/a","n/a","n/a","n/a","n/a","n/a","n/a","n/a","n/a","n/a","n/a","n/a","n/a","n/a","n/a","n/a","n/a","n/a","n/a","n/a","n/a","n/a","n/a","n/a","n/a","n/a","n/a","n/a","n/a","n/a","n/a"]
[4.4799999999999898,"(4) Rural Arterials & Collectors",3,"Weekend Continuous","10:00 AM-1:00 PM","(4) Rural Arterials & Collectors10:00 AM-1:00 PM","n/a","n/a","n/a","n/a","n/a","n/a","n/a","n/a","n/a","n/a","n/a","n/a","n/a","n/a","n/a","n/a","n/a","n/a","n/a","n/a","n/a","n/a","n/a","n/a","n/a","n/a","n/a","n/a","n/a","n/a","n/a","n/a","n/a","n/a","n/a","n/a","n/a","n/a","n/a","n/a","n/a","n/a","n/a","n/a","n/a","n/a","n/a","n/a","n/a","n/a","n/a","n/a","n/a","n/a","n/a","n/a","n/a","n/a","n/a","n/a","n/a","n/a","n/a","n/a","n/a","n/a","n/a","n/a","n/a","n/a","n/a","n/a"]
[4.4899999999999904,"(4) Rural Arterials & Collectors",3,"Weekend Continuous","11:00 AM-2:00 PM","(4) Rural Arterials & Collectors11:00 AM-2:00 PM","n/a","n/a","n/a","n/a","n/a","n/a","n/a","n/a","n/a","n/a","n/a","n/a","n/a","n/a","n/a","n/a","n/a","n/a","n/a","n/a","n/a","n/a","n/a","n/a","n/a","n/a","n/a","n/a","n/a","n/a","n/a","n/a","n/a","n/a","n/a","n/a","n/a","n/a","n/a","n/a","n/a","n/a","n/a","n/a","n/a","n/a","n/a","n/a","n/a","n/a","n/a","n/a","n/a","n/a","n/a","n/a","n/a","n/a","n/a","n/a","n/a","n/a","n/a","n/a","n/a","n/a","n/a","n/a","n/a","n/a","n/a","n/a"]
[4.4999999999999902,"(4) Rural Arterials & Collectors",2,"Weekend Continuous","11:00 AM-1:00 PM","(4) Rural Arterials & Collectors11:00 AM-1:00 PM","n/a","n/a","n/a","n/a","n/a","n/a","n/a","n/a","n/a","n/a","n/a","n/a","n/a","n/a","n/a","n/a","n/a","n/a","n/a","n/a","n/a","n/a","n/a","n/a","n/a","n/a","n/a","n/a","n/a","n/a","n/a","n/a","n/a","n/a","n/a","n/a","n/a","n/a","n/a","n/a","n/a","n/a","n/a","n/a","n/a","n/a","n/a","n/a","n/a","n/a","n/a","n/a","n/a","n/a","n/a","n/a","n/a","n/a","n/a","n/a","n/a","n/a","n/a","n/a","n/a","n/a","n/a","n/a","n/a","n/a","n/a","n/a"]
[]
[5.01,"(5) Tourist/Recreational Interstate",16,"Weekday Continuous","6:00 AM-10:00 PM","(5) Tourist/Recreational Interstate6:00 AM-10:00 PM","n/a","n/a","n/a","n/a","n/a","n/a","n/a","n/a","n/a","n/a","n/a","n/a","n/a","n/a","n/a","n/a","n/a","n/a","n/a","n/a","n/a","n/a","n/a","n/a","n/a","n/a","n/a","n/a","n/a","n/a","n/a","n/a","n/a","n/a","n/a","n/a","n/a","n/a","n/a","n/a","n/a","n/a","n/a","n/a","n/a","n/a","n/a","n/a","n/a","n/a","n/a","n/a","n/a","n/a","n/a","n/a","n/a","n/a","n/a","n/a","n/a","n/a","n/a","n/a","n/a","n/a","n/a","n/a","n/a","n/a","n/a","n/a"]
[5.0199999999999996,"(5) Tourist/Recreational Interstate",15,"Weekday Continuous","6:00 AM-9:00 PM","(5) Tourist/Recreational Interstate6:00 AM-9:00 PM","n/a","n/a","n/a","n/a","n/a","n/a","n/a","n/a","n/a","n/a","n/a","n/a","n/a","n/a","n/a","n/a","n/a","n/a","n/a","n/a","n/a","n/a","n/a","n/a","n/a","n/a","n/a","n/a","n/a","n/a","n/a","n/a","n/a","n/a","n/a","n/a","n/a","n/a","n/a","n/a","n/a","n/a","n/a","n/a","n/a","n/a","n/a","n/a","n/a","n/a","n/a","n/a","n/a","n/a","n/a","n/a","n/a","n/a","n/a","n/a","n/a","n/a","n/a","n/a","n/a","n/a","n/a","n/a","n/a","n/a","n/a","n/a"]
[5.03,"(5) Tourist/Recreational Interstate",15,"Weekday Continuous","7:00 AM-10:00 PM","(5) Tourist/Recreational Interstate7:00 AM-10:00 PM","n/a","n/a","n/a","n/a","n/a","n/a","n/a","n/a","n/a","n/a","n/a","n/a","n/a","n/a","n/a","n/a","n/a","n/a","n/a","n/a","n/a","n/a","n/a","n/a","n/a","n/a","n/a","n/a","n/a","n/a","n/a","n/a","n/a","n/a","n/a","n/a","n/a","n/a","n/a","n/a","n/a","n/a","n/a","n/a","n/a","n/a","n/a","n/a","n/a","n/a","n/a","n/a","n/a","n/a","n/a","n/a","n/a","n/a","n/a","n/a","n/a","n/a","n/a","n/a","n/a","n/a","n/a","n/a","n/a","n/a","n/a","n/a"]
[5.04,"(5) Tourist/Recreational Interstate",14,"Weekday Continuous","6:00 AM-8:00 PM","(5) Tourist/Recreational Interstate6:00 AM-8:00 PM","n/a","n/a","n/a","n/a","n/a","n/a","n/a","n/a","n/a","n/a","n/a","n/a","n/a","n/a","n/a","n/a","n/a","n/a","n/a","n/a","n/a","n/a","n/a","n/a","n/a","n/a","n/a","n/a","n/a","n/a","n/a","n/a","n/a","n/a","n/a","n/a","n/a","n/a","n/a","n/a","n/a","n/a","n/a","n/a","n/a","n/a","n/a","n/a","n/a","n/a","n/a","n/a","n/a","n/a","n/a","n/a","n/a","n/a","n/a","n/a","n/a","n/a","n/a","n/a","n/a","n/a","n/a","n/a","n/a","n/a","n/a","n/a"]
[5.05,"(5) Tourist/Recreational Interstate",14,"Weekday Continuous","7:00 AM-9:00 PM","(5) Tourist/Recreational Interstate7:00 AM-9:00 PM","n/a","n/a","n/a","n/a","n/a","n/a","n/a","n/a","n/a","n/a","n/a","n/a","n/a","n/a","n/a","n/a","n/a","n/a","n/a","n/a","n/a","n/a","n/a","n/a","n/a","n/a","n/a","n/a","n/a","n/a","n/a","n/a","n/a","n/a","n/a","n/a","n/a","n/a","n/a","n/a","n/a","n/a","n/a","n/a","n/a","n/a","n/a","n/a","n/a","n/a","n/a","n/a","n/a","n/a","n/a","n/a","n/a","n/a","n/a","n/a","n/a","n/a","n/a","n/a","n/a","n/a","n/a","n/a","n/a","n/a","n/a","n/a"]
[5.0599999999999996,"(5) Tourist/Recreational Interstate",14,"Weekday Continuous","8:00 AM-10:00 PM","(5) Tourist/Recreational Interstate8:00 AM-10:00 PM","n/a","n/a","n/a","n/a","n/a","n/a","n/a","n/a","n/a","n/a","n/a","n/a","n/a","n/a","n/a","n/a","n/a","n/a","n/a","n/a","n/a","n/a","n/a","n/a","n/a","n/a","n/a","n/a","n/a","n/a","n/a","n/a","n/a","n/a","n/a","n/a","n/a","n/a","n/a","n/a","n/a","n/a","n/a","n/a","n/a","n/a","n/a","n/a","n/a","n/a","n/a","n/a","n/a","n/a","n/a","n/a","n/a","n/a","n/a","n/a","n/a","n/a","n/a","n/a","n/a","n/a","n/a","n/a","n/a","n/a","n/a","n/a"]
[5.07,"(5) Tourist/Recreational Interstate",13,"Weekday Continuous","6:00 AM-7:00 PM","(5) Tourist/Recreational Interstate6:00 AM-7:00 PM","n/a","n/a","n/a","n/a","n/a","n/a","n/a","n/a","n/a","n/a","n/a","n/a","n/a","n/a","n/a","n/a","n/a","n/a","n/a","n/a","n/a","n/a","n/a","n/a","n/a","n/a","n/a","n/a","n/a","n/a","n/a","n/a","n/a","n/a","n/a","n/a","n/a","n/a","n/a","n/a","n/a","n/a","n/a","n/a","n/a","n/a","n/a","n/a","n/a","n/a","n/a","n/a","n/a","n/a","n/a","n/a","n/a","n/a","n/a","n/a","n/a","n/a","n/a","n/a","n/a","n/a","n/a","n/a","n/a","n/a","n/a","n/a"]
[5.08,"(5) Tourist/Recreational Interstate",13,"Weekday Continuous","7:00 AM-8:00 PM","(5) Tourist/Recreational Interstate7:00 AM-8:00 PM","n/a","n/a","n/a","n/a","n/a","n/a","n/a","n/a","n/a","n/a","n/a","n/a","n/a","n/a","n/a","n/a","n/a","n/a","n/a","n/a","n/a","n/a","n/a","n/a","n/a","n/a","n/a","n/a","n/a","n/a","n/a","n/a","n/a","n/a","n/a","n/a","n/a","n/a","n/a","n/a","n/a","n/a","n/a","n/a","n/a","n/a","n/a","n/a","n/a","n/a","n/a","n/a","n/a","n/a","n/a","n/a","n/a","n/a","n/a","n/a","n/a","n/a","n/a","n/a","n/a","n/a","n/a","n/a","n/a","n/a","n/a","n/a"]
[5.09,"(5) Tourist/Recreational Interstate",13,"Weekday Continuous","8:00 AM-9:00 PM","(5) Tourist/Recreational Interstate8:00 AM-9:00 PM","n/a","n/a","n/a","n/a","n/a","n/a","n/a","n/a","n/a","n/a","n/a","n/a","n/a","n/a","n/a","n/a","n/a","n/a","n/a","n/a","n/a","n/a","n/a","n/a","n/a","n/a","n/a","n/a","n/a","n/a","n/a","n/a","n/a","n/a","n/a","n/a","n/a","n/a","n/a","n/a","n/a","n/a","n/a","n/a","n/a","n/a","n/a","n/a","n/a","n/a","n/a","n/a","n/a","n/a","n/a","n/a","n/a","n/a","n/a","n/a","n/a","n/a","n/a","n/a","n/a","n/a","n/a","n/a","n/a","n/a","n/a","n/a"]
[5.0999999999999996,"(5) Tourist/Recreational Interstate",13,"Weekday Continuous","9:00 AM-10:00 PM","(5) Tourist/Recreational Interstate9:00 AM-10:00 PM","n/a","n/a","n/a","n/a","n/a","n/a","n/a","n/a","n/a","n/a","n/a","n/a","n/a","n/a","n/a","n/a","n/a","n/a","n/a","n/a","n/a","n/a","n/a","n/a","n/a","n/a","n/a","n/a","n/a","n/a","n/a","n/a","n/a","n/a","n/a","n/a","n/a","n/a","n/a","n/a","n/a","n/a","n/a","n/a","n/a","n/a","n/a","n/a","n/a","n/a","n/a","n/a","n/a","n/a","n/a","n/a","n/a","n/a","n/a","n/a","n/a","n/a","n/a","n/a","n/a","n/a","n/a","n/a","n/a","n/a","n/a","n/a"]
[5.1100000000000003,"(5) Tourist/Recreational Interstate",12,"Weekday Continuous","6:00 AM-6:00 PM","(5) Tourist/Recreational Interstate6:00 AM-6:00 PM","n/a","n/a","n/a","n/a","n/a","n/a","n/a","n/a","n/a","n/a","n/a","n/a","n/a","n/a","n/a","n/a","n/a","n/a","n/a","n/a","n/a","n/a","n/a","n/a","n/a","n/a","n/a","n/a","n/a","n/a","n/a","n/a","n/a","n/a","n/a","n/a","n/a","n/a","n/a","n/a","n/a","n/a","n/a","n/a","n/a","n/a","n/a","n/a","n/a","n/a","n/a","n/a","n/a","n/a","n/a","n/a","n/a","n/a","n/a","n/a","n/a","n/a","n/a","n/a","n/a","n/a","n/a","n/a","n/a","n/a","n/a","n/a"]
[5.12,"(5) Tourist/Recreational Interstate",12,"Weekday Continuous","7:00 AM-7:00 PM","(5) Tourist/Recreational Interstate7:00 AM-7:00 PM","n/a","n/a","n/a","n/a","n/a","n/a","n/a","n/a","n/a","n/a","n/a","n/a","n/a","n/a","n/a","n/a","n/a","n/a","n/a","n/a","n/a","n/a","n/a","n/a","n/a","n/a","n/a","n/a","n/a","n/a","n/a","n/a","n/a","n/a","n/a","n/a","n/a","n/a","n/a","n/a","n/a","n/a","n/a","n/a","n/a","n/a","n/a","n/a","n/a","n/a","n/a","n/a","n/a","n/a","n/a","n/a","n/a","n/a","n/a","n/a","n/a","n/a","n/a","n/a","n/a","n/a","n/a","n/a","n/a","n/a","n/a","n/a"]
[5.13,"(5) Tourist/Recreational Interstate",12,"Weekday Continuous","8:00 AM-8:00 PM","(5) Tourist/Recreational Interstate8:00 AM-8:00 PM","n/a","n/a","n/a","n/a","n/a","n/a","n/a","n/a","n/a","n/a","n/a","n/a","n/a","n/a","n/a","n/a","n/a","n/a","n/a","n/a","n/a","n/a","n/a","n/a","n/a","n/a","n/a","n/a","n/a","n/a","n/a","n/a","n/a","n/a","n/a","n/a","n/a","n/a","n/a","n/a","n/a","n/a","n/a","n/a","n/a","n/a","n/a","n/a","n/a","n/a","n/a","n/a","n/a","n/a","n/a","n/a","n/a","n/a","n/a","n/a","n/a","n/a","n/a","n/a","n/a","n/a","n/a","n/a","n/a","n/a","n/a","n/a"]
[5.14,"(5) Tourist/Recreational Interstate",12,"Weekday Continuous","9:00 AM-9:00 PM","(5) Tourist/Recreational Interstate9:00 AM-9:00 PM","n/a","n/a","n/a","n/a","n/a","n/a","n/a","n/a","n/a","n/a","n/a","n/a","n/a","n/a","n/a","n/a","n/a","n/a","n/a","n/a","n/a","n/a","n/a","n/a","n/a","n/a","n/a","n/a","n/a","n/a","n/a","n/a","n/a","n/a","n/a","n/a","n/a","n/a","n/a","n/a","n/a","n/a","n/a","n/a","n/a","n/a","n/a","n/a","n/a","n/a","n/a","n/a","n/a","n/a","n/a","n/a","n/a","n/a","n/a","n/a","n/a","n/a","n/a","n/a","n/a","n/a","n/a","n/a","n/a","n/a","n/a","n/a"]
[5.15,"(5) Tourist/Recreational Interstate",12,"Weekday Continuous","10:00 AM-10:00 PM","(5) Tourist/Recreational Interstate10:00 AM-10:00 PM","n/a","n/a","n/a","n/a","n/a","n/a","n/a","n/a","n/a","n/a","n/a","n/a","n/a","n/a","n/a","n/a","n/a","n/a","n/a","n/a","n/a","n/a","n/a","n/a","n/a","n/a","n/a","n/a","n/a","n/a","n/a","n/a","n/a","n/a","n/a","n/a","n/a","n/a","n/a","n/a","n/a","n/a","n/a","n/a","n/a","n/a","n/a","n/a","n/a","n/a","n/a","n/a","n/a","n/a","n/a","n/a","n/a","n/a","n/a","n/a","n/a","n/a","n/a","n/a","n/a","n/a","n/a","n/a","n/a","n/a","n/a","n/a"]
[5.16,"(5) Tourist/Recreational Interstate",11,"Weekday Continuous","6:00 AM-5:00 PM","(5) Tourist/Recreational Interstate6:00 AM-5:00 PM","n/a","n/a","n/a","n/a","n/a","n/a","n/a","n/a","n/a","n/a","n/a","n/a","n/a","n/a","n/a","n/a","n/a","n/a","n/a","n/a","n/a","n/a","n/a","n/a","n/a","n/a","n/a","n/a","n/a","n/a","n/a","n/a","n/a","n/a","n/a","n/a","n/a","n/a","n/a","n/a","n/a","n/a","n/a","n/a","n/a","n/a","n/a","n/a","n/a","n/a","n/a","n/a","n/a","n/a","n/a","n/a","n/a","n/a","n/a","n/a","n/a","n/a","n/a","n/a","n/a","n/a","n/a","n/a","n/a","n/a","n/a","n/a"]
[5.17,"(5) Tourist/Recreational Interstate",11,"Weekday Continuous","7:00 AM-6:00 PM","(5) Tourist/Recreational Interstate7:00 AM-6:00 PM","n/a","n/a","n/a","n/a","n/a","n/a","n/a","n/a","n/a","n/a","n/a","n/a","n/a","n/a","n/a","n/a","n/a","n/a","n/a","n/a","n/a","n/a","n/a","n/a","n/a","n/a","n/a","n/a","n/a","n/a","n/a","n/a","n/a","n/a","n/a","n/a","n/a","n/a","n/a","n/a","n/a","n/a","n/a","n/a","n/a","n/a","n/a","n/a","n/a","n/a","n/a","n/a","n/a","n/a","n/a","n/a","n/a","n/a","n/a","n/a","n/a","n/a","n/a","n/a","n/a","n/a","n/a","n/a","n/a","n/a","n/a","n/a"]
[5.18,"(5) Tourist/Recreational Interstate",11,"Weekday Continuous","8:00 AM-7:00 PM","(5) Tourist/Recreational Interstate8:00 AM-7:00 PM","n/a","n/a","n/a","n/a","n/a","n/a","n/a","n/a","n/a","n/a","n/a","n/a","n/a","n/a","n/a","n/a","n/a","n/a","n/a","n/a","n/a","n/a","n/a","n/a","n/a","n/a","n/a","n/a","n/a","n/a","n/a","n/a","n/a","n/a","n/a","n/a","n/a","n/a","n/a","n/a","n/a","n/a","n/a","n/a","n/a","n/a","n/a","n/a","n/a","n/a","n/a","n/a","n/a","n/a","n/a","n/a","n/a","n/a","n/a","n/a","n/a","n/a","n/a","n/a","n/a","n/a","n/a","n/a","n/a","n/a","n/a","n/a"]
[5.19,"(5) Tourist/Recreational Interstate",11,"Weekday Continuous","9:00 AM-8:00 PM","(5) Tourist/Recreational Interstate9:00 AM-8:00 PM","n/a","n/a","n/a","n/a","n/a","n/a","n/a","n/a","n/a","n/a","n/a","n/a","n/a","n/a","n/a","n/a","n/a","n/a","n/a","n/a","n/a","n/a","n/a","n/a","n/a","n/a","n/a","n/a","n/a","n/a","n/a","n/a","n/a","n/a","n/a","n/a","n/a","n/a","n/a","n/a","n/a","n/a","n/a","n/a","n/a","n/a","n/a","n/a","n/a","n/a","n/a","n/a","n/a","n/a","n/a","n/a","n/a","n/a","n/a","n/a","n/a","n/a","n/a","n/a","n/a","n/a","n/a","n/a","n/a","n/a","n/a","n/a"]
[5.2,"(5) Tourist/Recreational Interstate",10,"Weekday Continuous","6:00 AM-4:00 PM","(5) Tourist/Recreational Interstate6:00 AM-4:00 PM","n/a","n/a","n/a","n/a","n/a","n/a","n/a","n/a","n/a","n/a","n/a","n/a","n/a","n/a","n/a","n/a","n/a","n/a","n/a","n/a","n/a","n/a","n/a","n/a","n/a","n/a","n/a","n/a","n/a","n/a","n/a","n/a","n/a","n/a","n/a","n/a","n/a","n/a","n/a","n/a","n/a","n/a","n/a","n/a","n/a","n/a","n/a","n/a","n/a","n/a","n/a","n/a","n/a","n/a","n/a","n/a","n/a","n/a","n/a","n/a","n/a","n/a","n/a","n/a","n/a","n/a","n/a","n/a","n/a","n/a","n/a","n/a"]
[5.21,"(5) Tourist/Recreational Interstate",10,"Weekday Continuous","7:00 AM-5:00 PM","(5) Tourist/Recreational Interstate7:00 AM-5:00 PM","n/a","n/a","n/a","n/a","n/a","n/a","n/a","n/a","n/a","n/a","n/a","n/a","n/a","n/a","n/a","n/a","n/a","n/a","n/a","n/a","n/a","n/a","n/a","n/a","n/a","n/a","n/a","n/a","n/a","n/a","n/a","n/a","n/a","n/a","n/a","n/a","n/a","n/a","n/a","n/a","n/a","n/a","n/a","n/a","n/a","n/a","n/a","n/a","n/a","n/a","n/a","n/a","n/a","n/a","n/a","n/a","n/a","n/a","n/a","n/a","n/a","n/a","n/a","n/a","n/a","n/a","n/a","n/a","n/a","n/a","n/a","n/a"]
[5.22,"(5) Tourist/Recreational Interstate",10,"Weekday Continuous","8:00 AM-6:00 PM","(5) Tourist/Recreational Interstate8:00 AM-6:00 PM","n/a","n/a","n/a","n/a","n/a","n/a","n/a","n/a","n/a","n/a","n/a","n/a","n/a","n/a","n/a","n/a","n/a","n/a","n/a","n/a","n/a","n/a","n/a","n/a","n/a","n/a","n/a","n/a","n/a","n/a","n/a","n/a","n/a","n/a","n/a","n/a","n/a","n/a","n/a","n/a","n/a","n/a","n/a","n/a","n/a","n/a","n/a","n/a","n/a","n/a","n/a","n/a","n/a","n/a","n/a","n/a","n/a","n/a","n/a","n/a","n/a","n/a","n/a","n/a","n/a","n/a","n/a","n/a","n/a","n/a","n/a","n/a"]
[5.23,"(5) Tourist/Recreational Interstate",10,"Weekday Continuous","9:00 AM-7:00 PM","(5) Tourist/Recreational Interstate9:00 AM-7:00 PM","n/a","n/a","n/a","n/a","n/a","n/a","n/a","n/a","n/a","n/a","n/a","n/a","n/a","n/a","n/a","n/a","n/a","n/a","n/a","n/a","n/a","n/a","n/a","n/a","n/a","n/a","n/a","n/a","n/a","n/a","n/a","n/a","n/a","n/a","n/a","n/a","n/a","n/a","n/a","n/a","n/a","n/a","n/a","n/a","n/a","n/a","n/a","n/a","n/a","n/a","n/a","n/a","n/a","n/a","n/a","n/a","n/a","n/a","n/a","n/a","n/a","n/a","n/a","n/a","n/a","n/a","n/a","n/a","n/a","n/a","n/a","n/a"]
[5.2399999999999904,"(5) Tourist/Recreational Interstate",9,"Weekday Continuous","6:00 AM-3:00 PM","(5) Tourist/Recreational Interstate6:00 AM-3:00 PM","n/a","n/a","n/a","n/a","n/a","n/a","n/a","n/a","n/a","n/a","n/a","n/a","n/a","n/a","n/a","n/a","n/a","n/a","n/a","n/a","n/a","n/a","n/a","n/a","n/a","n/a","n/a","n/a","n/a","n/a","n/a","n/a","n/a","n/a","n/a","n/a","n/a","n/a","n/a","n/a","n/a","n/a","n/a","n/a","n/a","n/a","n/a","n/a","n/a","n/a","n/a","n/a","n/a","n/a","n/a","n/a","n/a","n/a","n/a","n/a","n/a","n/a","n/a","n/a","n/a","n/a","n/a","n/a","n/a","n/a","n/a","n/a"]
[5.2499999999999902,"(5) Tourist/Recreational Interstate",9,"Weekday Continuous","7:00 AM-4:00 PM","(5) Tourist/Recreational Interstate7:00 AM-4:00 PM","n/a","n/a","n/a","n/a","n/a","n/a","n/a","n/a","n/a","n/a","n/a","n/a","n/a","n/a","n/a","n/a","n/a","n/a","n/a","n/a","n/a","n/a","n/a","n/a","n/a","n/a","n/a","n/a","n/a","n/a","n/a","n/a","n/a","n/a","n/a","n/a","n/a","n/a","n/a","n/a","n/a","n/a","n/a","n/a","n/a","n/a","n/a","n/a","n/a","n/a","n/a","n/a","n/a","n/a","n/a","n/a","n/a","n/a","n/a","n/a","n/a","n/a","n/a","n/a","n/a","n/a","n/a","n/a","n/a","n/a","n/a","n/a"]
[5.25999999999999,"(5) Tourist/Recreational Interstate",9,"Weekday Continuous","8:00 AM-5:00 PM","(5) Tourist/Recreational Interstate8:00 AM-5:00 PM","n/a","n/a","n/a","n/a","n/a","n/a","n/a","n/a","n/a","n/a","n/a","n/a","n/a","n/a","n/a","n/a","n/a","n/a","n/a","n/a","n/a","n/a","n/a","n/a","n/a","n/a","n/a","n/a","n/a","n/a","n/a","n/a","n/a","n/a","n/a","n/a","n/a","n/a","n/a","n/a","n/a","n/a","n/a","n/a","n/a","n/a","n/a","n/a","n/a","n/a","n/a","n/a","n/a","n/a","n/a","n/a","n/a","n/a","n/a","n/a","n/a","n/a","n/a","n/a","n/a","n/a","n/a","n/a","n/a","n/a","n/a","n/a"]
[5.2699999999999898,"(5) Tourist/Recreational Interstate",9,"Weekday Continuous","9:00 AM-6:00 PM","(5) Tourist/Recreational Interstate9:00 AM-6:00 PM","n/a","n/a","n/a","n/a","n/a","n/a","n/a","n/a","n/a","n/a","n/a","n/a","n/a","n/a","n/a","n/a","n/a","n/a","n/a","n/a","n/a","n/a","n/a","n/a","n/a","n/a","n/a","n/a","n/a","n/a","n/a","n/a","n/a","n/a","n/a","n/a","n/a","n/a","n/a","n/a","n/a","n/a","n/a","n/a","n/a","n/a","n/a","n/a","n/a","n/a","n/a","n/a","n/a","n/a","n/a","n/a","n/a","n/a","n/a","n/a","n/a","n/a","n/a","n/a","n/a","n/a","n/a","n/a","n/a","n/a","n/a","n/a"]
[5.2799999999999896,"(5) Tourist/Recreational Interstate",8,"Weekday Continuous","6:00 AM-2:00 PM","(5) Tourist/Recreational Interstate6:00 AM-2:00 PM","n/a","n/a","n/a","n/a","n/a","n/a","n/a","n/a","n/a","n/a","n/a","n/a","n/a","n/a","n/a","n/a","n/a","n/a","n/a","n/a","n/a","n/a","n/a","n/a","n/a","n/a","n/a","n/a","n/a","n/a","n/a","n/a","n/a","n/a","n/a","n/a","n/a","n/a","n/a","n/a","n/a","n/a","n/a","n/a","n/a","n/a","n/a","n/a","n/a","n/a","n/a","n/a","n/a","n/a","n/a","n/a","n/a","n/a","n/a","n/a","n/a","n/a","n/a","n/a","n/a","n/a","n/a","n/a","n/a","n/a","n/a","n/a"]
[5.2899999999999903,"(5) Tourist/Recreational Interstate",8,"Weekday Continuous","7:00 AM-3:00 PM","(5) Tourist/Recreational Interstate7:00 AM-3:00 PM","n/a","n/a","n/a","n/a","n/a","n/a","n/a","n/a","n/a","n/a","n/a","n/a","n/a","n/a","n/a","n/a","n/a","n/a","n/a","n/a","n/a","n/a","n/a","n/a","n/a","n/a","n/a","n/a","n/a","n/a","n/a","n/a","n/a","n/a","n/a","n/a","n/a","n/a","n/a","n/a","n/a","n/a","n/a","n/a","n/a","n/a","n/a","n/a","n/a","n/a","n/a","n/a","n/a","n/a","n/a","n/a","n/a","n/a","n/a","n/a","n/a","n/a","n/a","n/a","n/a","n/a","n/a","n/a","n/a","n/a","n/a","n/a"]
[5.2999999999999901,"(5) Tourist/Recreational Interstate",8,"Weekday Continuous","8:00 AM-4:00 PM","(5) Tourist/Recreational Interstate8:00 AM-4:00 PM","n/a","n/a","n/a","n/a","n/a","n/a","n/a","n/a","n/a","n/a","n/a","n/a","n/a","n/a","n/a","n/a","n/a","n/a","n/a","n/a","n/a","n/a","n/a","n/a","n/a","n/a","n/a","n/a","n/a","n/a","n/a","n/a","n/a","n/a","n/a","n/a","n/a","n/a","n/a","n/a","n/a","n/a","n/a","n/a","n/a","n/a","n/a","n/a","n/a","n/a","n/a","n/a","n/a","n/a","n/a","n/a","n/a","n/a","n/a","n/a","n/a","n/a","n/a","n/a","n/a","n/a","n/a","n/a","n/a","n/a","n/a","n/a"]
[5.3099999999999898,"(5) Tourist/Recreational Interstate",8,"Weekday Continuous","9:00 AM-5:00 PM","(5) Tourist/Recreational Interstate9:00 AM-5:00 PM","n/a","n/a","n/a","n/a","n/a","n/a","n/a","n/a","n/a","n/a","n/a","n/a","n/a","n/a","n/a","n/a","n/a","n/a","n/a","n/a","n/a","n/a","n/a","n/a","n/a","n/a","n/a","n/a","n/a","n/a","n/a","n/a","n/a","n/a","n/a","n/a","n/a","n/a","n/a","n/a","n/a","n/a","n/a","n/a","n/a","n/a","n/a","n/a","n/a","n/a","n/a","n/a","n/a","n/a","n/a","n/a","n/a","n/a","n/a","n/a","n/a","n/a","n/a","n/a","n/a","n/a","n/a","n/a","n/a","n/a","n/a","n/a"]
[5.3199999999999896,"(5) Tourist/Recreational Interstate",6,"Weekday 2-Part","6:00 AM-9:00 AM AND 4:00 PM-7:00 PM","(5) Tourist/Recreational Interstate6:00 AM-9:00 AM AND 4:00 PM-7:00 PM","n/a","n/a","n/a","n/a","n/a","n/a","n/a","n/a","n/a","n/a","n/a","n/a","n/a","n/a","n/a","n/a","n/a","n/a","n/a","n/a","n/a","n/a","n/a","n/a","n/a","n/a","n/a","n/a","n/a","n/a","n/a","n/a","n/a","n/a","n/a","n/a","n/a","n/a","n/a","n/a","n/a","n/a","n/a","n/a","n/a","n/a","n/a","n/a","n/a","n/a","n/a","n/a","n/a","n/a","n/a","n/a","n/a","n/a","n/a","n/a","n/a","n/a","n/a","n/a","n/a","n/a","n/a","n/a","n/a","n/a","n/a","n/a"]
[5.3299999999999903,"(5) Tourist/Recreational Interstate",6,"Weekday 2-Part","6:00 AM-9:00 AM AND 3:00 PM-6:00 PM","(5) Tourist/Recreational Interstate6:00 AM-9:00 AM AND 3:00 PM-6:00 PM","n/a","n/a","n/a","n/a","n/a","n/a","n/a","n/a","n/a","n/a","n/a","n/a","n/a","n/a","n/a","n/a","n/a","n/a","n/a","n/a","n/a","n/a","n/a","n/a","n/a","n/a","n/a","n/a","n/a","n/a","n/a","n/a","n/a","n/a","n/a","n/a","n/a","n/a","n/a","n/a","n/a","n/a","n/a","n/a","n/a","n/a","n/a","n/a","n/a","n/a","n/a","n/a","n/a","n/a","n/a","n/a","n/a","n/a","n/a","n/a","n/a","n/a","n/a","n/a","n/a","n/a","n/a","n/a","n/a","n/a","n/a","n/a"]
[5.3399999999999901,"(5) Tourist/Recreational Interstate",6,"Weekday 2-Part","7:00 AM-10:00 AM AND 4:00 PM-7:00 PM","(5) Tourist/Recreational Interstate7:00 AM-10:00 AM AND 4:00 PM-7:00 PM","n/a","n/a","n/a","n/a","n/a","n/a","n/a","n/a","n/a","n/a","n/a","n/a","n/a","n/a","n/a","n/a","n/a","n/a","n/a","n/a","n/a","n/a","n/a","n/a","n/a","n/a","n/a","n/a","n/a","n/a","n/a","n/a","n/a","n/a","n/a","n/a","n/a","n/a","n/a","n/a","n/a","n/a","n/a","n/a","n/a","n/a","n/a","n/a","n/a","n/a","n/a","n/a","n/a","n/a","n/a","n/a","n/a","n/a","n/a","n/a","n/a","n/a","n/a","n/a","n/a","n/a","n/a","n/a","n/a","n/a","n/a","n/a"]
[5.3499999999999899,"(5) Tourist/Recreational Interstate",6,"Weekday 2-Part","7:00 AM-10:00 AM AND 3:00 PM-6:00 PM","(5) Tourist/Recreational Interstate7:00 AM-10:00 AM AND 3:00 PM-6:00 PM","n/a","n/a","n/a","n/a","n/a","n/a","n/a","n/a","n/a","n/a","n/a","n/a","n/a","n/a","n/a","n/a","n/a","n/a","n/a","n/a","n/a","n/a","n/a","n/a","n/a","n/a","n/a","n/a","n/a","n/a","n/a","n/a","n/a","n/a","n/a","n/a","n/a","n/a","n/a","n/a","n/a","n/a","n/a","n/a","n/a","n/a","n/a","n/a","n/a","n/a","n/a","n/a","n/a","n/a","n/a","n/a","n/a","n/a","n/a","n/a","n/a","n/a","n/a","n/a","n/a","n/a","n/a","n/a","n/a","n/a","n/a","n/a"]
[5.3599999999999897,"(5) Tourist/Recreational Interstate",5,"Weekday 2-Part","6:00 AM-8:00 AM AND 4:00 PM-7:00 PM","(5) Tourist/Recreational Interstate6:00 AM-8:00 AM AND 4:00 PM-7:00 PM","n/a","n/a","n/a","n/a","n/a","n/a","n/a","n/a","n/a","n/a","n/a","n/a","n/a","n/a","n/a","n/a","n/a","n/a","n/a","n/a","n/a","n/a","n/a","n/a","n/a","n/a","n/a","n/a","n/a","n/a","n/a","n/a","n/a","n/a","n/a","n/a","n/a","n/a","n/a","n/a","n/a","n/a","n/a","n/a","n/a","n/a","n/a","n/a","n/a","n/a","n/a","n/a","n/a","n/a","n/a","n/a","n/a","n/a","n/a","n/a","n/a","n/a","n/a","n/a","n/a","n/a","n/a","n/a","n/a","n/a","n/a","n/a"]
[5.3699999999999903,"(5) Tourist/Recreational Interstate",5,"Weekday 2-Part","6:00 AM-8:00 AM AND 3:00 PM-6:00 PM","(5) Tourist/Recreational Interstate6:00 AM-8:00 AM AND 3:00 PM-6:00 PM","n/a","n/a","n/a","n/a","n/a","n/a","n/a","n/a","n/a","n/a","n/a","n/a","n/a","n/a","n/a","n/a","n/a","n/a","n/a","n/a","n/a","n/a","n/a","n/a","n/a","n/a","n/a","n/a","n/a","n/a","n/a","n/a","n/a","n/a","n/a","n/a","n/a","n/a","n/a","n/a","n/a","n/a","n/a","n/a","n/a","n/a","n/a","n/a","n/a","n/a","n/a","n/a","n/a","n/a","n/a","n/a","n/a","n/a","n/a","n/a","n/a","n/a","n/a","n/a","n/a","n/a","n/a","n/a","n/a","n/a","n/a","n/a"]
[5.3799999999999901,"(5) Tourist/Recreational Interstate",5,"Weekday 2-Part","7:00 AM-9:00 AM AND 4:00 PM-7:00 PM","(5) Tourist/Recreational Interstate7:00 AM-9:00 AM AND 4:00 PM-7:00 PM","n/a","n/a","n/a","n/a","n/a","n/a","n/a","n/a","n/a","n/a","n/a","n/a","n/a","n/a","n/a","n/a","n/a","n/a","n/a","n/a","n/a","n/a","n/a","n/a","n/a","n/a","n/a","n/a","n/a","n/a","n/a","n/a","n/a","n/a","n/a","n/a","n/a","n/a","n/a","n/a","n/a","n/a","n/a","n/a","n/a","n/a","n/a","n/a","n/a","n/a","n/a","n/a","n/a","n/a","n/a","n/a","n/a","n/a","n/a","n/a","n/a","n/a","n/a","n/a","n/a","n/a","n/a","n/a","n/a","n/a","n/a","n/a"]
[5.3899999999999899,"(5) Tourist/Recreational Interstate",5,"Weekday 2-Part","7:00 AM-9:00 AM AND 3:00 PM-6:00 PM","(5) Tourist/Recreational Interstate7:00 AM-9:00 AM AND 3:00 PM-6:00 PM","n/a","n/a","n/a","n/a","n/a","n/a","n/a","n/a","n/a","n/a","n/a","n/a","n/a","n/a","n/a","n/a","n/a","n/a","n/a","n/a","n/a","n/a","n/a","n/a","n/a","n/a","n/a","n/a","n/a","n/a","n/a","n/a","n/a","n/a","n/a","n/a","n/a","n/a","n/a","n/a","n/a","n/a","n/a","n/a","n/a","n/a","n/a","n/a","n/a","n/a","n/a","n/a","n/a","n/a","n/a","n/a","n/a","n/a","n/a","n/a","n/a","n/a","n/a","n/a","n/a","n/a","n/a","n/a","n/a","n/a","n/a","n/a"]
[5.3999999999999897,"(5) Tourist/Recreational Interstate",4,"Weekday 2-Part","6:00 AM-8:00 AM AND 4:00 PM-6:00 PM","(5) Tourist/Recreational Interstate6:00 AM-8:00 AM AND 4:00 PM-6:00 PM","n/a","n/a","n/a","n/a","n/a","n/a","n/a","n/a","n/a","n/a","n/a","n/a","n/a","n/a","n/a","n/a","n/a","n/a","n/a","n/a","n/a","n/a","n/a","n/a","n/a","n/a","n/a","n/a","n/a","n/a","n/a","n/a","n/a","n/a","n/a","n/a","n/a","n/a","n/a","n/a","n/a","n/a","n/a","n/a","n/a","n/a","n/a","n/a","n/a","n/a","n/a","n/a","n/a","n/a","n/a","n/a","n/a","n/a","n/a","n/a","n/a","n/a","n/a","n/a","n/a","n/a","n/a","n/a","n/a","n/a","n/a","n/a"]
[5.4099999999999904,"(5) Tourist/Recreational Interstate",4,"Weekday 2-Part","6:00 AM-8:00 AM AND 3:00 PM-5:00 PM","(5) Tourist/Recreational Interstate6:00 AM-8:00 AM AND 3:00 PM-5:00 PM","n/a","n/a","n/a","n/a","n/a","n/a","n/a","n/a","n/a","n/a","n/a","n/a","n/a","n/a","n/a","n/a","n/a","n/a","n/a","n/a","n/a","n/a","n/a","n/a","n/a","n/a","n/a","n/a","n/a","n/a","n/a","n/a","n/a","n/a","n/a","n/a","n/a","n/a","n/a","n/a","n/a","n/a","n/a","n/a","n/a","n/a","n/a","n/a","n/a","n/a","n/a","n/a","n/a","n/a","n/a","n/a","n/a","n/a","n/a","n/a","n/a","n/a","n/a","n/a","n/a","n/a","n/a","n/a","n/a","n/a","n/a","n/a"]
[5.4199999999999902,"(5) Tourist/Recreational Interstate",4,"Weekday 2-Part","7:00 AM-9:00 AM AND 4:00 PM-6:00 PM","(5) Tourist/Recreational Interstate7:00 AM-9:00 AM AND 4:00 PM-6:00 PM","n/a","n/a","n/a","n/a","n/a","n/a","n/a","n/a","n/a","n/a","n/a","n/a","n/a","n/a","n/a","n/a","n/a","n/a","n/a","n/a","n/a","n/a","n/a","n/a","n/a","n/a","n/a","n/a","n/a","n/a","n/a","n/a","n/a","n/a","n/a","n/a","n/a","n/a","n/a","n/a","n/a","n/a","n/a","n/a","n/a","n/a","n/a","n/a","n/a","n/a","n/a","n/a","n/a","n/a","n/a","n/a","n/a","n/a","n/a","n/a","n/a","n/a","n/a","n/a","n/a","n/a","n/a","n/a","n/a","n/a","n/a","n/a"]
[5.4299999999999899,"(5) Tourist/Recreational Interstate",4,"Weekday 2-Part","7:00 AM-9:00 AM AND 3:00 PM-5:00 PM","(5) Tourist/Recreational Interstate7:00 AM-9:00 AM AND 3:00 PM-5:00 PM","n/a","n/a","n/a","n/a","n/a","n/a","n/a","n/a","n/a","n/a","n/a","n/a","n/a","n/a","n/a","n/a","n/a","n/a","n/a","n/a","n/a","n/a","n/a","n/a","n/a","n/a","n/a","n/a","n/a","n/a","n/a","n/a","n/a","n/a","n/a","n/a","n/a","n/a","n/a","n/a","n/a","n/a","n/a","n/a","n/a","n/a","n/a","n/a","n/a","n/a","n/a","n/a","n/a","n/a","n/a","n/a","n/a","n/a","n/a","n/a","n/a","n/a","n/a","n/a","n/a","n/a","n/a","n/a","n/a","n/a","n/a","n/a"]
[5.4399999999999897,"(5) Tourist/Recreational Interstate",8,"Weekday 3-Part","6:00 AM-9:00 AM, 11:00 AM-1:00 PM, AND 3:00 PM-6:00 PM","(5) Tourist/Recreational Interstate6:00 AM-9:00 AM, 11:00 AM-1:00 PM, AND 3:00 PM-6:00 PM","n/a","n/a","n/a","n/a","n/a","n/a","n/a","n/a","n/a","n/a","n/a","n/a","n/a","n/a","n/a","n/a","n/a","n/a","n/a","n/a","n/a","n/a","n/a","n/a","n/a","n/a","n/a","n/a","n/a","n/a","n/a","n/a","n/a","n/a","n/a","n/a","n/a","n/a","n/a","n/a","n/a","n/a","n/a","n/a","n/a","n/a","n/a","n/a","n/a","n/a","n/a","n/a","n/a","n/a","n/a","n/a","n/a","n/a","n/a","n/a","n/a","n/a","n/a","n/a","n/a","n/a","n/a","n/a","n/a","n/a","n/a","n/a"]
[5.4499999999999904,"(5) Tourist/Recreational Interstate",4,"Weekend Continuous","9:00 AM-1:00 PM","(5) Tourist/Recreational Interstate9:00 AM-1:00 PM","n/a","n/a","n/a","n/a","n/a","n/a","n/a","n/a","n/a","n/a","n/a","n/a","n/a","n/a","n/a","n/a","n/a","n/a","n/a","n/a","n/a","n/a","n/a","n/a","n/a","n/a","n/a","n/a","n/a","n/a","n/a","n/a","n/a","n/a","n/a","n/a","n/a","n/a","n/a","n/a","n/a","n/a","n/a","n/a","n/a","n/a","n/a","n/a","n/a","n/a","n/a","n/a","n/a","n/a","n/a","n/a","n/a","n/a","n/a","n/a","n/a","n/a","n/a","n/a","n/a","n/a","n/a","n/a","n/a","n/a","n/a","n/a"]
[5.4599999999999902,"(5) Tourist/Recreational Interstate",4,"Weekend Continuous","10:00 AM-2:00 PM","(5) Tourist/Recreational Interstate10:00 AM-2:00 PM","n/a","n/a","n/a","n/a","n/a","n/a","n/a","n/a","n/a","n/a","n/a","n/a","n/a","n/a","n/a","n/a","n/a","n/a","n/a","n/a","n/a","n/a","n/a","n/a","n/a","n/a","n/a","n/a","n/a","n/a","n/a","n/a","n/a","n/a","n/a","n/a","n/a","n/a","n/a","n/a","n/a","n/a","n/a","n/a","n/a","n/a","n/a","n/a","n/a","n/a","n/a","n/a","n/a","n/a","n/a","n/a","n/a","n/a","n/a","n/a","n/a","n/a","n/a","n/a","n/a","n/a","n/a","n/a","n/a","n/a","n/a","n/a"]
[5.46999999999999,"(5) Tourist/Recreational Interstate",4,"Weekend Continuous","11:00 AM-3:00 PM","(5) Tourist/Recreational Interstate11:00 AM-3:00 PM","n/a","n/a","n/a","n/a","n/a","n/a","n/a","n/a","n/a","n/a","n/a","n/a","n/a","n/a","n/a","n/a","n/a","n/a","n/a","n/a","n/a","n/a","n/a","n/a","n/a","n/a","n/a","n/a","n/a","n/a","n/a","n/a","n/a","n/a","n/a","n/a","n/a","n/a","n/a","n/a","n/a","n/a","n/a","n/a","n/a","n/a","n/a","n/a","n/a","n/a","n/a","n/a","n/a","n/a","n/a","n/a","n/a","n/a","n/a","n/a","n/a","n/a","n/a","n/a","n/a","n/a","n/a","n/a","n/a","n/a","n/a","n/a"]
[5.4799999999999898,"(5) Tourist/Recreational Interstate",3,"Weekend Continuous","10:00 AM-1:00 PM","(5) Tourist/Recreational Interstate10:00 AM-1:00 PM","n/a","n/a","n/a","n/a","n/a","n/a","n/a","n/a","n/a","n/a","n/a","n/a","n/a","n/a","n/a","n/a","n/a","n/a","n/a","n/a","n/a","n/a","n/a","n/a","n/a","n/a","n/a","n/a","n/a","n/a","n/a","n/a","n/a","n/a","n/a","n/a","n/a","n/a","n/a","n/a","n/a","n/a","n/a","n/a","n/a","n/a","n/a","n/a","n/a","n/a","n/a","n/a","n/a","n/a","n/a","n/a","n/a","n/a","n/a","n/a","n/a","n/a","n/a","n/a","n/a","n/a","n/a","n/a","n/a","n/a","n/a","n/a"]
[5.4899999999999904,"(5) Tourist/Recreational Interstate",3,"Weekend Continuous","11:00 AM-2:00 PM","(5) Tourist/Recreational Interstate11:00 AM-2:00 PM","n/a","n/a","n/a","n/a","n/a","n/a","n/a","n/a","n/a","n/a","n/a","n/a","n/a","n/a","n/a","n/a","n/a","n/a","n/a","n/a","n/a","n/a","n/a","n/a","n/a","n/a","n/a","n/a","n/a","n/a","n/a","n/a","n/a","n/a","n/a","n/a","n/a","n/a","n/a","n/a","n/a","n/a","n/a","n/a","n/a","n/a","n/a","n/a","n/a","n/a","n/a","n/a","n/a","n/a","n/a","n/a","n/a","n/a","n/a","n/a","n/a","n/a","n/a","n/a","n/a","n/a","n/a","n/a","n/a","n/a","n/a","n/a"]
[5.4999999999999902,"(5) Tourist/Recreational Interstate",2,"Weekend Continuous","11:00 AM-1:00 PM","(5) Tourist/Recreational Interstate11:00 AM-1:00 PM","n/a","n/a","n/a","n/a","n/a","n/a","n/a","n/a","n/a","n/a","n/a","n/a","n/a","n/a","n/a","n/a","n/a","n/a","n/a","n/a","n/a","n/a","n/a","n/a","n/a","n/a","n/a","n/a","n/a","n/a","n/a","n/a","n/a","n/a","n/a","n/a","n/a","n/a","n/a","n/a","n/a","n/a","n/a","n/a","n/a","n/a","n/a","n/a","n/a","n/a","n/a","n/a","n/a","n/a","n/a","n/a","n/a","n/a","n/a","n/a","n/a","n/a","n/a","n/a","n/a","n/a","n/a","n/a","n/a","n/a","n/a","n/a"]
[]
[6.01,"(6) Tourist/Recreational Other",16,"Weekday Continuous","6:00 AM-10:00 PM","(6) Tourist/Recreational Other6:00 AM-10:00 PM","n/a","n/a","n/a","n/a","n/a","n/a","n/a","n/a","n/a","n/a","n/a","n/a","n/a","n/a","n/a","n/a","n/a","n/a","n/a","n/a","n/a","n/a","n/a","n/a","n/a","n/a","n/a","n/a","n/a","n/a","n/a","n/a","n/a","n/a","n/a","n/a","n/a","n/a","n/a","n/a","n/a","n/a","n/a","n/a","n/a","n/a","n/a","n/a","n/a","n/a","n/a","n/a","n/a","n/a","n/a","n/a","n/a","n/a","n/a","n/a","n/a","n/a","n/a","n/a","n/a","n/a","n/a","n/a","n/a","n/a","n/a","n/a"]
[6.02,"(6) Tourist/Recreational Other",15,"Weekday Continuous","6:00 AM-9:00 PM","(6) Tourist/Recreational Other6:00 AM-9:00 PM","n/a","n/a","n/a","n/a","n/a","n/a","n/a","n/a","n/a","n/a","n/a","n/a","n/a","n/a","n/a","n/a","n/a","n/a","n/a","n/a","n/a","n/a","n/a","n/a","n/a","n/a","n/a","n/a","n/a","n/a","n/a","n/a","n/a","n/a","n/a","n/a","n/a","n/a","n/a","n/a","n/a","n/a","n/a","n/a","n/a","n/a","n/a","n/a","n/a","n/a","n/a","n/a","n/a","n/a","n/a","n/a","n/a","n/a","n/a","n/a","n/a","n/a","n/a","n/a","n/a","n/a","n/a","n/a","n/a","n/a","n/a","n/a"]
[6.03,"(6) Tourist/Recreational Other",15,"Weekday Continuous","7:00 AM-10:00 PM",{"$f":"CONCATENATE(B264,E264)","v":"(6) Tourist/Recreational Other7:00 AM-10:00 PM"},"n/a","n/a","n/a","n/a","n/a","n/a","n/a","n/a","n/a","n/a","n/a","n/a","n/a","n/a","n/a","n/a","n/a","n/a","n/a","n/a","n/a","n/a","n/a","n/a","n/a","n/a","n/a","n/a","n/a","n/a","n/a","n/a","n/a","n/a","n/a","n/a","n/a","n/a","n/a","n/a","n/a","n/a","n/a","n/a","n/a","n/a","n/a","n/a","n/a","n/a","n/a","n/a","n/a","n/a","n/a","n/a","n/a","n/a","n/a","n/a","n/a","n/a","n/a","n/a","n/a","n/a","n/a","n/a","n/a","n/a","n/a","n/a"]
[6.04,"(6) Tourist/Recreational Other",14,"Weekday Continuous","6:00 AM-8:00 PM","(6) Tourist/Recreational Other6:00 AM-8:00 PM","n/a","n/a","n/a","n/a","n/a","n/a","n/a","n/a","n/a","n/a","n/a","n/a","n/a","n/a","n/a","n/a","n/a","n/a","n/a","n/a","n/a","n/a","n/a","n/a","n/a","n/a","n/a","n/a","n/a","n/a","n/a","n/a","n/a","n/a","n/a","n/a","n/a","n/a","n/a","n/a","n/a","n/a","n/a","n/a","n/a","n/a","n/a","n/a","n/a","n/a","n/a","n/a","n/a","n/a","n/a","n/a","n/a","n/a","n/a","n/a","n/a","n/a","n/a","n/a","n/a","n/a","n/a","n/a","n/a","n/a","n/a","n/a"]
[6.05,"(6) Tourist/Recreational Other",14,"Weekday Continuous","7:00 AM-9:00 PM","(6) Tourist/Recreational Other7:00 AM-9:00 PM","n/a","n/a","n/a","n/a","n/a","n/a","n/a","n/a","n/a","n/a","n/a","n/a","n/a","n/a","n/a","n/a","n/a","n/a","n/a","n/a","n/a","n/a","n/a","n/a","n/a","n/a","n/a","n/a","n/a","n/a","n/a","n/a","n/a","n/a","n/a","n/a","n/a","n/a","n/a","n/a","n/a","n/a","n/a","n/a","n/a","n/a","n/a","n/a","n/a","n/a","n/a","n/a","n/a","n/a","n/a","n/a","n/a","n/a","n/a","n/a","n/a","n/a","n/a","n/a","n/a","n/a","n/a","n/a","n/a","n/a","n/a","n/a"]
[6.06,"(6) Tourist/Recreational Other",14,"Weekday Continuous","8:00 AM-10:00 PM","(6) Tourist/Recreational Other8:00 AM-10:00 PM","n/a","n/a","n/a","n/a","n/a","n/a","n/a","n/a","n/a","n/a","n/a","n/a","n/a","n/a","n/a","n/a","n/a","n/a","n/a","n/a","n/a","n/a","n/a","n/a","n/a","n/a","n/a","n/a","n/a","n/a","n/a","n/a","n/a","n/a","n/a","n/a","n/a","n/a","n/a","n/a","n/a","n/a","n/a","n/a","n/a","n/a","n/a","n/a","n/a","n/a","n/a","n/a","n/a","n/a","n/a","n/a","n/a","n/a","n/a","n/a","n/a","n/a","n/a","n/a","n/a","n/a","n/a","n/a","n/a","n/a","n/a","n/a"]
[6.07,"(6) Tourist/Recreational Other",13,"Weekday Continuous","6:00 AM-7:00 PM","(6) Tourist/Recreational Other6:00 AM-7:00 PM",1.268,"n/a","n/a","n/a",1.206,"n/a","n/a","n/a","n/a","n/a","n/a","n/a","n/a","n/a","n/a","n/a","n/a","n/a","n/a","n/a","n/a","n/a","n/a","n/a","n/a","n/a","n/a","n/a","n/a","n/a","n/a","n/a","n/a","n/a","n/a","n/a","n/a","n/a","n/a","n/a","n/a","n/a","n/a","n/a","n/a","n/a","n/a","n/a","n/a","n/a","n/a","n/a","n/a","n/a","n/a","n/a","n/a","n/a","n/a","n/a","n/a","n/a","n/a","n/a","n/a","n/a","n/a","n/a","n/a","n/a","n/a","n/a"]
[6.08,"(6) Tourist/Recreational Other",13,"Weekday Continuous","7:00 AM-8:00 PM","(6) Tourist/Recreational Other7:00 AM-8:00 PM","n/a","n/a","n/a","n/a","n/a","n/a","n/a","n/a","n/a","n/a","n/a","n/a","n/a","n/a","n/a","n/a","n/a","n/a","n/a","n/a","n/a","n/a","n/a","n/a","n/a","n/a","n/a","n/a","n/a","n/a","n/a","n/a","n/a","n/a","n/a","n/a","n/a","n/a","n/a","n/a","n/a","n/a","n/a","n/a","n/a","n/a","n/a","n/a","n/a","n/a","n/a","n/a","n/a","n/a","n/a","n/a","n/a","n/a","n/a","n/a","n/a","n/a","n/a","n/a","n/a","n/a","n/a","n/a","n/a","n/a","n/a","n/a"]
[6.09,"(6) Tourist/Recreational Other",13,"Weekday Continuous","8:00 AM-9:00 PM","(6) Tourist/Recreational Other8:00 AM-9:00 PM","n/a","n/a","n/a","n/a","n/a","n/a","n/a","n/a","n/a","n/a","n/a","n/a","n/a","n/a","n/a","n/a","n/a","n/a","n/a","n/a","n/a","n/a","n/a","n/a","n/a","n/a","n/a","n/a","n/a","n/a","n/a","n/a","n/a","n/a","n/a","n/a","n/a","n/a","n/a","n/a","n/a","n/a","n/a","n/a","n/a","n/a","n/a","n/a","n/a","n/a","n/a","n/a","n/a","n/a","n/a","n/a","n/a","n/a","n/a","n/a","n/a","n/a","n/a","n/a","n/a","n/a","n/a","n/a","n/a","n/a","n/a","n/a"]
[6.1,"(6) Tourist/Recreational Other",13,"Weekday Continuous","9:00 AM-10:00 PM","(6) Tourist/Recreational Other9:00 AM-10:00 PM","n/a","n/a","n/a","n/a","n/a","n/a","n/a","n/a","n/a","n/a","n/a","n/a","n/a","n/a","n/a","n/a","n/a","n/a","n/a","n/a","n/a","n/a","n/a","n/a","n/a","n/a","n/a","n/a","n/a","n/a","n/a","n/a","n/a","n/a","n/a","n/a","n/a","n/a","n/a","n/a","n/a","n/a","n/a","n/a","n/a","n/a","n/a","n/a","n/a","n/a","n/a","n/a","n/a","n/a","n/a","n/a","n/a","n/a","n/a","n/a","n/a","n/a","n/a","n/a","n/a","n/a","n/a","n/a","n/a","n/a","n/a","n/a"]
[6.11,"(6) Tourist/Recreational Other",12,"Weekday Continuous","6:00 AM-6:00 PM","(6) Tourist/Recreational Other6:00 AM-6:00 PM",1.3740000000000001,"n/a","n/a","n/a",1.298,"n/a","n/a","n/a","n/a","n/a","n/a","n/a","n/a","n/a","n/a","n/a","n/a","n/a","n/a","n/a","n/a","n/a","n/a","n/a","n/a","n/a","n/a","n/a","n/a","n/a","n/a","n/a","n/a","n/a","n/a","n/a","n/a","n/a","n/a","n/a","n/a","n/a","n/a","n/a","n/a","n/a","n/a","n/a","n/a","n/a","n/a","n/a","n/a","n/a","n/a","n/a","n/a","n/a","n/a","n/a","n/a","n/a","n/a","n/a","n/a","n/a","n/a","n/a","n/a","n/a","n/a","n/a"]
[6.12,"(6) Tourist/Recreational Other",12,"Weekday Continuous","7:00 AM-7:00 PM","(6) Tourist/Recreational Other7:00 AM-7:00 PM","n/a","n/a","n/a","n/a","n/a","n/a","n/a","n/a","n/a","n/a","n/a","n/a","n/a","n/a","n/a","n/a","n/a","n/a","n/a","n/a","n/a","n/a","n/a","n/a","n/a","n/a","n/a","n/a","n/a","n/a","n/a","n/a","n/a","n/a","n/a","n/a","n/a","n/a","n/a","n/a","n/a","n/a","n/a","n/a","n/a","n/a","n/a","n/a","n/a","n/a","n/a","n/a","n/a","n/a","n/a","n/a","n/a","n/a","n/a","n/a","n/a","n/a","n/a","n/a","n/a","n/a","n/a","n/a","n/a","n/a","n/a","n/a"]
[6.13,"(6) Tourist/Recreational Other",12,"Weekday Continuous","8:00 AM-8:00 PM","(6) Tourist/Recreational Other8:00 AM-8:00 PM","n/a","n/a","n/a","n/a","n/a","n/a","n/a","n/a","n/a","n/a","n/a","n/a","n/a","n/a","n/a","n/a","n/a","n/a","n/a","n/a","n/a","n/a","n/a","n/a","n/a","n/a","n/a","n/a","n/a","n/a","n/a","n/a","n/a","n/a","n/a","n/a","n/a","n/a","n/a","n/a","n/a","n/a","n/a","n/a","n/a","n/a","n/a","n/a","n/a","n/a","n/a","n/a","n/a","n/a","n/a","n/a","n/a","n/a","n/a","n/a","n/a","n/a","n/a","n/a","n/a","n/a","n/a","n/a","n/a","n/a","n/a","n/a"]
[6.14,"(6) Tourist/Recreational Other",12,"Weekday Continuous","9:00 AM-9:00 PM","(6) Tourist/Recreational Other9:00 AM-9:00 PM","n/a","n/a","n/a","n/a","n/a","n/a","n/a","n/a","n/a","n/a","n/a","n/a","n/a","n/a","n/a","n/a","n/a","n/a","n/a","n/a","n/a","n/a","n/a","n/a","n/a","n/a","n/a","n/a","n/a","n/a","n/a","n/a","n/a","n/a","n/a","n/a","n/a","n/a","n/a","n/a","n/a","n/a","n/a","n/a","n/a","n/a","n/a","n/a","n/a","n/a","n/a","n/a","n/a","n/a","n/a","n/a","n/a","n/a","n/a","n/a","n/a","n/a","n/a","n/a","n/a","n/a","n/a","n/a","n/a","n/a","n/a","n/a"]
[6.15,"(6) Tourist/Recreational Other",12,"Weekday Continuous","10:00 AM-10:00 PM","(6) Tourist/Recreational Other10:00 AM-10:00 PM","n/a","n/a","n/a","n/a","n/a","n/a","n/a","n/a","n/a","n/a","n/a","n/a","n/a","n/a","n/a","n/a","n/a","n/a","n/a","n/a","n/a","n/a","n/a","n/a","n/a","n/a","n/a","n/a","n/a","n/a","n/a","n/a","n/a","n/a","n/a","n/a","n/a","n/a","n/a","n/a","n/a","n/a","n/a","n/a","n/a","n/a","n/a","n/a","n/a","n/a","n/a","n/a","n/a","n/a","n/a","n/a","n/a","n/a","n/a","n/a","n/a","n/a","n/a","n/a","n/a","n/a","n/a","n/a","n/a","n/a","n/a","n/a"]
[6.16,"(6) Tourist/Recreational Other",11,"Weekday Continuous","6:00 AM-5:00 PM","(6) Tourist/Recreational Other6:00 AM-5:00 PM","n/a","n/a","n/a","n/a","n/a","n/a","n/a","n/a","n/a","n/a","n/a","n/a","n/a","n/a","n/a","n/a","n/a","n/a","n/a","n/a","n/a","n/a","n/a","n/a","n/a","n/a","n/a","n/a","n/a","n/a","n/a","n/a","n/a","n/a","n/a","n/a","n/a","n/a","n/a","n/a","n/a","n/a","n/a","n/a","n/a","n/a","n/a","n/a","n/a","n/a","n/a","n/a","n/a","n/a","n/a","n/a","n/a","n/a","n/a","n/a","n/a","n/a","n/a","n/a","n/a","n/a","n/a","n/a","n/a","n/a","n/a","n/a"]
[6.17,"(6) Tourist/Recreational Other",11,"Weekday Continuous","7:00 AM-6:00 PM","(6) Tourist/Recreational Other7:00 AM-6:00 PM","n/a","n/a","n/a","n/a","n/a","n/a","n/a","n/a","n/a","n/a","n/a","n/a","n/a","n/a","n/a","n/a","n/a","n/a","n/a","n/a","n/a","n/a","n/a","n/a","n/a","n/a","n/a","n/a","n/a","n/a","n/a","n/a","n/a","n/a","n/a","n/a","n/a","n/a","n/a","n/a","n/a","n/a","n/a","n/a","n/a","n/a","n/a","n/a","n/a","n/a","n/a","n/a","n/a","n/a","n/a","n/a","n/a","n/a","n/a","n/a","n/a","n/a","n/a","n/a","n/a","n/a","n/a","n/a","n/a","n/a","n/a","n/a"]
[6.18,"(6) Tourist/Recreational Other",11,"Weekday Continuous","8:00 AM-7:00 PM","(6) Tourist/Recreational Other8:00 AM-7:00 PM","n/a","n/a","n/a","n/a","n/a","n/a","n/a","n/a","n/a","n/a","n/a","n/a","n/a","n/a","n/a","n/a","n/a","n/a","n/a","n/a","n/a","n/a","n/a","n/a","n/a","n/a","n/a","n/a","n/a","n/a","n/a","n/a","n/a","n/a","n/a","n/a","n/a","n/a","n/a","n/a","n/a","n/a","n/a","n/a","n/a","n/a","n/a","n/a","n/a","n/a","n/a","n/a","n/a","n/a","n/a","n/a","n/a","n/a","n/a","n/a","n/a","n/a","n/a","n/a","n/a","n/a","n/a","n/a","n/a","n/a","n/a","n/a"]
[6.19,"(6) Tourist/Recreational Other",11,"Weekday Continuous","9:00 AM-8:00 PM","(6) Tourist/Recreational Other9:00 AM-8:00 PM","n/a","n/a","n/a","n/a","n/a","n/a","n/a","n/a","n/a","n/a","n/a","n/a","n/a","n/a","n/a","n/a","n/a","n/a","n/a","n/a","n/a","n/a","n/a","n/a","n/a","n/a","n/a","n/a","n/a","n/a","n/a","n/a","n/a","n/a","n/a","n/a","n/a","n/a","n/a","n/a","n/a","n/a","n/a","n/a","n/a","n/a","n/a","n/a","n/a","n/a","n/a","n/a","n/a","n/a","n/a","n/a","n/a","n/a","n/a","n/a","n/a","n/a","n/a","n/a","n/a","n/a","n/a","n/a","n/a","n/a","n/a","n/a"]
[6.2,"(6) Tourist/Recreational Other",10,"Weekday Continuous","6:00 AM-4:00 PM","(6) Tourist/Recreational Other6:00 AM-4:00 PM","n/a","n/a","n/a","n/a","n/a","n/a","n/a","n/a","n/a","n/a","n/a","n/a","n/a","n/a","n/a","n/a","n/a","n/a","n/a","n/a","n/a","n/a","n/a","n/a","n/a","n/a","n/a","n/a","n/a","n/a","n/a","n/a","n/a","n/a","n/a","n/a","n/a","n/a","n/a","n/a","n/a","n/a","n/a","n/a","n/a","n/a","n/a","n/a","n/a","n/a","n/a","n/a","n/a","n/a","n/a","n/a","n/a","n/a","n/a","n/a","n/a","n/a","n/a","n/a","n/a","n/a","n/a","n/a","n/a","n/a","n/a","n/a"]
[6.21,"(6) Tourist/Recreational Other",10,"Weekday Continuous","7:00 AM-5:00 PM","(6) Tourist/Recreational Other7:00 AM-5:00 PM","n/a","n/a","n/a","n/a","n/a","n/a","n/a","n/a","n/a","n/a","n/a","n/a","n/a","n/a","n/a","n/a","n/a","n/a","n/a","n/a","n/a","n/a","n/a","n/a","n/a","n/a","n/a","n/a","n/a","n/a","n/a","n/a","n/a","n/a","n/a","n/a","n/a","n/a","n/a","n/a","n/a","n/a","n/a","n/a","n/a","n/a","n/a","n/a","n/a","n/a","n/a","n/a","n/a","n/a","n/a","n/a","n/a","n/a","n/a","n/a","n/a","n/a","n/a","n/a","n/a","n/a","n/a","n/a","n/a","n/a","n/a","n/a"]
[6.22,"(6) Tourist/Recreational Other",10,"Weekday Continuous","8:00 AM-6:00 PM","(6) Tourist/Recreational Other8:00 AM-6:00 PM","n/a","n/a","n/a","n/a","n/a","n/a","n/a","n/a","n/a","n/a","n/a","n/a","n/a","n/a","n/a","n/a","n/a","n/a","n/a","n/a","n/a","n/a","n/a","n/a","n/a","n/a","n/a","n/a","n/a","n/a","n/a","n/a","n/a","n/a","n/a","n/a","n/a","n/a","n/a","n/a","n/a","n/a","n/a","n/a","n/a","n/a","n/a","n/a","n/a","n/a","n/a","n/a","n/a","n/a","n/a","n/a","n/a","n/a","n/a","n/a","n/a","n/a","n/a","n/a","n/a","n/a","n/a","n/a","n/a","n/a","n/a","n/a"]
[6.23,"(6) Tourist/Recreational Other",10,"Weekday Continuous","9:00 AM-7:00 PM","(6) Tourist/Recreational Other9:00 AM-7:00 PM","n/a","n/a","n/a","n/a","n/a","n/a","n/a","n/a","n/a","n/a","n/a","n/a","n/a","n/a","n/a","n/a","n/a","n/a","n/a","n/a","n/a","n/a","n/a","n/a","n/a","n/a","n/a","n/a","n/a","n/a","n/a","n/a","n/a","n/a","n/a","n/a","n/a","n/a","n/a","n/a","n/a","n/a","n/a","n/a","n/a","n/a","n/a","n/a","n/a","n/a","n/a","n/a","n/a","n/a","n/a","n/a","n/a","n/a","n/a","n/a","n/a","n/a","n/a","n/a","n/a","n/a","n/a","n/a","n/a","n/a","n/a","n/a"]
[6.2399999999999904,"(6) Tourist/Recreational Other",9,"Weekday Continuous","6:00 AM-3:00 PM","(6) Tourist/Recreational Other6:00 AM-3:00 PM","n/a","n/a","n/a","n/a","n/a","n/a","n/a","n/a","n/a","n/a","n/a","n/a","n/a","n/a","n/a","n/a","n/a","n/a","n/a","n/a","n/a","n/a","n/a","n/a","n/a","n/a","n/a","n/a","n/a","n/a","n/a","n/a","n/a","n/a","n/a","n/a","n/a","n/a","n/a","n/a","n/a","n/a","n/a","n/a","n/a","n/a","n/a","n/a","n/a","n/a","n/a","n/a","n/a","n/a","n/a","n/a","n/a","n/a","n/a","n/a","n/a","n/a","n/a","n/a","n/a","n/a","n/a","n/a","n/a","n/a","n/a","n/a"]
[6.2499999999999902,"(6) Tourist/Recreational Other",9,"Weekday Continuous","7:00 AM-4:00 PM","(6) Tourist/Recreational Other7:00 AM-4:00 PM","n/a","n/a","n/a","n/a","n/a","n/a","n/a","n/a","n/a","n/a","n/a","n/a","n/a","n/a","n/a","n/a","n/a","n/a","n/a","n/a","n/a","n/a","n/a","n/a","n/a","n/a","n/a","n/a","n/a","n/a","n/a","n/a","n/a","n/a","n/a","n/a","n/a","n/a","n/a","n/a","n/a","n/a","n/a","n/a","n/a","n/a","n/a","n/a","n/a","n/a","n/a","n/a","n/a","n/a","n/a","n/a","n/a","n/a","n/a","n/a","n/a","n/a","n/a","n/a","n/a","n/a","n/a","n/a","n/a","n/a","n/a","n/a"]
[6.25999999999999,"(6) Tourist/Recreational Other",9,"Weekday Continuous","8:00 AM-5:00 PM","(6) Tourist/Recreational Other8:00 AM-5:00 PM","n/a","n/a","n/a","n/a","n/a","n/a","n/a","n/a","n/a","n/a","n/a","n/a","n/a","n/a","n/a","n/a","n/a","n/a","n/a","n/a","n/a","n/a","n/a","n/a","n/a","n/a","n/a","n/a","n/a","n/a","n/a","n/a","n/a","n/a","n/a","n/a","n/a","n/a","n/a","n/a","n/a","n/a","n/a","n/a","n/a","n/a","n/a","n/a","n/a","n/a","n/a","n/a","n/a","n/a","n/a","n/a","n/a","n/a","n/a","n/a","n/a","n/a","n/a","n/a","n/a","n/a","n/a","n/a","n/a","n/a","n/a","n/a"]
[6.2699999999999898,"(6) Tourist/Recreational Other",9,"Weekday Continuous","9:00 AM-6:00 PM","(6) Tourist/Recreational Other9:00 AM-6:00 PM","n/a","n/a","n/a","n/a","n/a","n/a","n/a","n/a","n/a","n/a","n/a","n/a","n/a","n/a","n/a","n/a","n/a","n/a","n/a","n/a","n/a","n/a","n/a","n/a","n/a","n/a","n/a","n/a","n/a","n/a","n/a","n/a","n/a","n/a","n/a","n/a","n/a","n/a","n/a","n/a","n/a","n/a","n/a","n/a","n/a","n/a","n/a","n/a","n/a","n/a","n/a","n/a","n/a","n/a","n/a","n/a","n/a","n/a","n/a","n/a","n/a","n/a","n/a","n/a","n/a","n/a","n/a","n/a","n/a","n/a","n/a","n/a"]
[6.2799999999999896,"(6) Tourist/Recreational Other",8,"Weekday Continuous","6:00 AM-2:00 PM","(6) Tourist/Recreational Other6:00 AM-2:00 PM","n/a","n/a","n/a","n/a","n/a","n/a","n/a","n/a","n/a","n/a","n/a","n/a","n/a","n/a","n/a","n/a","n/a","n/a","n/a","n/a","n/a","n/a","n/a","n/a","n/a","n/a","n/a","n/a","n/a","n/a","n/a","n/a","n/a","n/a","n/a","n/a","n/a","n/a","n/a","n/a","n/a","n/a","n/a","n/a","n/a","n/a","n/a","n/a","n/a","n/a","n/a","n/a","n/a","n/a","n/a","n/a","n/a","n/a","n/a","n/a","n/a","n/a","n/a","n/a","n/a","n/a","n/a","n/a","n/a","n/a","n/a","n/a"]
[6.2899999999999903,"(6) Tourist/Recreational Other",8,"Weekday Continuous","7:00 AM-3:00 PM","(6) Tourist/Recreational Other7:00 AM-3:00 PM","n/a","n/a","n/a","n/a","n/a","n/a","n/a","n/a","n/a","n/a","n/a","n/a","n/a","n/a","n/a","n/a","n/a","n/a","n/a","n/a","n/a","n/a","n/a","n/a","n/a","n/a","n/a","n/a","n/a","n/a","n/a","n/a","n/a","n/a","n/a","n/a","n/a","n/a","n/a","n/a","n/a","n/a","n/a","n/a","n/a","n/a","n/a","n/a","n/a","n/a","n/a","n/a","n/a","n/a","n/a","n/a","n/a","n/a","n/a","n/a","n/a","n/a","n/a","n/a","n/a","n/a","n/a","n/a","n/a","n/a","n/a","n/a"]
[6.2999999999999901,"(6) Tourist/Recreational Other",8,"Weekday Continuous","8:00 AM-4:00 PM","(6) Tourist/Recreational Other8:00 AM-4:00 PM","n/a","n/a","n/a","n/a","n/a","n/a","n/a","n/a","n/a","n/a","n/a","n/a","n/a","n/a","n/a","n/a","n/a","n/a","n/a","n/a","n/a","n/a","n/a","n/a","n/a","n/a","n/a","n/a","n/a","n/a","n/a","n/a","n/a","n/a","n/a","n/a","n/a","n/a","n/a","n/a","n/a","n/a","n/a","n/a","n/a","n/a","n/a","n/a","n/a","n/a","n/a","n/a","n/a","n/a","n/a","n/a","n/a","n/a","n/a","n/a","n/a","n/a","n/a","n/a","n/a","n/a","n/a","n/a","n/a","n/a","n/a","n/a"]
[6.3099999999999898,"(6) Tourist/Recreational Other",8,"Weekday Continuous","9:00 AM-5:00 PM","(6) Tourist/Recreational Other9:00 AM-5:00 PM","n/a","n/a","n/a","n/a","n/a","n/a","n/a","n/a","n/a","n/a","n/a","n/a","n/a","n/a","n/a","n/a","n/a","n/a","n/a","n/a","n/a","n/a","n/a","n/a","n/a","n/a","n/a","n/a","n/a","n/a","n/a","n/a","n/a","n/a","n/a","n/a","n/a","n/a","n/a","n/a","n/a","n/a","n/a","n/a","n/a","n/a","n/a","n/a","n/a","n/a","n/a","n/a","n/a","n/a","n/a","n/a","n/a","n/a","n/a","n/a","n/a","n/a","n/a","n/a","n/a","n/a","n/a","n/a","n/a","n/a","n/a","n/a"]
[6.3199999999999896,"(6) Tourist/Recreational Other",6,"Weekday 2-Part","6:00 AM-9:00 AM AND 4:00 PM-7:00 PM","(6) Tourist/Recreational Other6:00 AM-9:00 AM AND 4:00 PM-7:00 PM","n/a","n/a","n/a","n/a","n/a","n/a","n/a","n/a","n/a","n/a","n/a","n/a","n/a","n/a","n/a","n/a","n/a","n/a","n/a","n/a","n/a","n/a","n/a","n/a","n/a","n/a","n/a","n/a","n/a","n/a","n/a","n/a","n/a","n/a","n/a","n/a","n/a","n/a","n/a","n/a","n/a","n/a","n/a","n/a","n/a","n/a","n/a","n/a","n/a","n/a","n/a","n/a","n/a","n/a","n/a","n/a","n/a","n/a","n/a","n/a","n/a","n/a","n/a","n/a","n/a","n/a","n/a","n/a","n/a","n/a","n/a","n/a"]
[6.3299999999999903,"(6) Tourist/Recreational Other",6,"Weekday 2-Part","6:00 AM-9:00 AM AND 3:00 PM-6:00 PM","(6) Tourist/Recreational Other6:00 AM-9:00 AM AND 3:00 PM-6:00 PM","n/a","n/a","n/a","n/a","n/a","n/a","n/a","n/a","n/a","n/a","n/a","n/a","n/a","n/a","n/a","n/a","n/a","n/a","n/a","n/a","n/a","n/a","n/a","n/a","n/a","n/a","n/a","n/a","n/a","n/a","n/a","n/a","n/a","n/a","n/a","n/a","n/a","n/a","n/a","n/a","n/a","n/a","n/a","n/a","n/a","n/a","n/a","n/a","n/a","n/a","n/a","n/a","n/a","n/a","n/a","n/a","n/a","n/a","n/a","n/a","n/a","n/a","n/a","n/a","n/a","n/a","n/a","n/a","n/a","n/a","n/a","n/a"]
[6.3399999999999901,"(6) Tourist/Recreational Other",6,"Weekday 2-Part","7:00 AM-10:00 AM AND 4:00 PM-7:00 PM","(6) Tourist/Recreational Other7:00 AM-10:00 AM AND 4:00 PM-7:00 PM","n/a","n/a","n/a","n/a","n/a","n/a","n/a","n/a","n/a","n/a","n/a","n/a","n/a","n/a","n/a","n/a","n/a","n/a","n/a","n/a","n/a","n/a","n/a","n/a","n/a","n/a","n/a","n/a","n/a","n/a","n/a","n/a","n/a","n/a","n/a","n/a","n/a","n/a","n/a","n/a","n/a","n/a","n/a","n/a","n/a","n/a","n/a","n/a","n/a","n/a","n/a","n/a","n/a","n/a","n/a","n/a","n/a","n/a","n/a","n/a","n/a","n/a","n/a","n/a","n/a","n/a","n/a","n/a","n/a","n/a","n/a","n/a"]
[6.3499999999999899,"(6) Tourist/Recreational Other",6,"Weekday 2-Part","7:00 AM-10:00 AM AND 3:00 PM-6:00 PM","(6) Tourist/Recreational Other7:00 AM-10:00 AM AND 3:00 PM-6:00 PM","n/a","n/a","n/a","n/a","n/a","n/a","n/a","n/a","n/a","n/a","n/a","n/a","n/a","n/a","n/a","n/a","n/a","n/a","n/a","n/a","n/a","n/a","n/a","n/a","n/a","n/a","n/a","n/a","n/a","n/a","n/a","n/a","n/a","n/a","n/a","n/a","n/a","n/a","n/a","n/a","n/a","n/a","n/a","n/a","n/a","n/a","n/a","n/a","n/a","n/a","n/a","n/a","n/a","n/a","n/a","n/a","n/a","n/a","n/a","n/a","n/a","n/a","n/a","n/a","n/a","n/a","n/a","n/a","n/a","n/a","n/a","n/a"]
[6.3599999999999897,"(6) Tourist/Recreational Other",5,"Weekday 2-Part","6:00 AM-8:00 AM AND 4:00 PM-7:00 PM","(6) Tourist/Recreational Other6:00 AM-8:00 AM AND 4:00 PM-7:00 PM","n/a","n/a","n/a","n/a","n/a","n/a","n/a","n/a","n/a","n/a","n/a","n/a","n/a","n/a","n/a","n/a","n/a","n/a","n/a","n/a","n/a","n/a","n/a","n/a","n/a","n/a","n/a","n/a","n/a","n/a","n/a","n/a","n/a","n/a","n/a","n/a","n/a","n/a","n/a","n/a","n/a","n/a","n/a","n/a","n/a","n/a","n/a","n/a","n/a","n/a","n/a","n/a","n/a","n/a","n/a","n/a","n/a","n/a","n/a","n/a","n/a","n/a","n/a","n/a","n/a","n/a","n/a","n/a","n/a","n/a","n/a","n/a"]
[6.3699999999999903,"(6) Tourist/Recreational Other",5,"Weekday 2-Part","6:00 AM-8:00 AM AND 3:00 PM-6:00 PM","(6) Tourist/Recreational Other6:00 AM-8:00 AM AND 3:00 PM-6:00 PM","n/a","n/a","n/a","n/a","n/a","n/a","n/a","n/a","n/a","n/a","n/a","n/a","n/a","n/a","n/a","n/a","n/a","n/a","n/a","n/a","n/a","n/a","n/a","n/a","n/a","n/a","n/a","n/a","n/a","n/a","n/a","n/a","n/a","n/a","n/a","n/a","n/a","n/a","n/a","n/a","n/a","n/a","n/a","n/a","n/a","n/a","n/a","n/a","n/a","n/a","n/a","n/a","n/a","n/a","n/a","n/a","n/a","n/a","n/a","n/a","n/a","n/a","n/a","n/a","n/a","n/a","n/a","n/a","n/a","n/a","n/a","n/a"]
[6.3799999999999901,"(6) Tourist/Recreational Other",5,"Weekday 2-Part","7:00 AM-9:00 AM AND 4:00 PM-7:00 PM","(6) Tourist/Recreational Other7:00 AM-9:00 AM AND 4:00 PM-7:00 PM","n/a","n/a","n/a","n/a","n/a","n/a","n/a","n/a","n/a","n/a","n/a","n/a","n/a","n/a","n/a","n/a","n/a","n/a","n/a","n/a","n/a","n/a","n/a","n/a","n/a","n/a","n/a","n/a","n/a","n/a","n/a","n/a","n/a","n/a","n/a","n/a","n/a","n/a","n/a","n/a","n/a","n/a","n/a","n/a","n/a","n/a","n/a","n/a","n/a","n/a","n/a","n/a","n/a","n/a","n/a","n/a","n/a","n/a","n/a","n/a","n/a","n/a","n/a","n/a","n/a","n/a","n/a","n/a","n/a","n/a","n/a","n/a"]
[6.3899999999999899,"(6) Tourist/Recreational Other",5,"Weekday 2-Part","7:00 AM-9:00 AM AND 3:00 PM-6:00 PM","(6) Tourist/Recreational Other7:00 AM-9:00 AM AND 3:00 PM-6:00 PM","n/a","n/a","n/a","n/a","n/a","n/a","n/a","n/a","n/a","n/a","n/a","n/a","n/a","n/a","n/a","n/a","n/a","n/a","n/a","n/a","n/a","n/a","n/a","n/a","n/a","n/a","n/a","n/a","n/a","n/a","n/a","n/a","n/a","n/a","n/a","n/a","n/a","n/a","n/a","n/a","n/a","n/a","n/a","n/a","n/a","n/a","n/a","n/a","n/a","n/a","n/a","n/a","n/a","n/a","n/a","n/a","n/a","n/a","n/a","n/a","n/a","n/a","n/a","n/a","n/a","n/a","n/a","n/a","n/a","n/a","n/a","n/a"]
[6.3999999999999897,"(6) Tourist/Recreational Other",4,"Weekday 2-Part","6:00 AM-8:00 AM AND 4:00 PM-6:00 PM","(6) Tourist/Recreational Other6:00 AM-8:00 AM AND 4:00 PM-6:00 PM","n/a","n/a","n/a","n/a","n/a","n/a","n/a","n/a","n/a","n/a","n/a","n/a","n/a","n/a","n/a","n/a","n/a","n/a","n/a","n/a","n/a","n/a","n/a","n/a","n/a","n/a","n/a","n/a","n/a","n/a","n/a","n/a","n/a","n/a","n/a","n/a","n/a","n/a","n/a","n/a","n/a","n/a","n/a","n/a","n/a","n/a","n/a","n/a","n/a","n/a","n/a","n/a","n/a","n/a","n/a","n/a","n/a","n/a","n/a","n/a","n/a","n/a","n/a","n/a","n/a","n/a","n/a","n/a","n/a","n/a","n/a","n/a"]
[6.4099999999999904,"(6) Tourist/Recreational Other",4,"Weekday 2-Part","6:00 AM-8:00 AM AND 3:00 PM-5:00 PM","(6) Tourist/Recreational Other6:00 AM-8:00 AM AND 3:00 PM-5:00 PM","n/a","n/a","n/a","n/a","n/a","n/a","n/a","n/a","n/a","n/a","n/a","n/a","n/a","n/a","n/a","n/a","n/a","n/a","n/a","n/a","n/a","n/a","n/a","n/a","n/a","n/a","n/a","n/a","n/a","n/a","n/a","n/a","n/a","n/a","n/a","n/a","n/a","n/a","n/a","n/a","n/a","n/a","n/a","n/a","n/a","n/a","n/a","n/a","n/a","n/a","n/a","n/a","n/a","n/a","n/a","n/a","n/a","n/a","n/a","n/a","n/a","n/a","n/a","n/a","n/a","n/a","n/a","n/a","n/a","n/a","n/a","n/a"]
[6.4199999999999902,"(6) Tourist/Recreational Other",4,"Weekday 2-Part","7:00 AM-9:00 AM AND 4:00 PM-6:00 PM","(6) Tourist/Recreational Other7:00 AM-9:00 AM AND 4:00 PM-6:00 PM","n/a","n/a","n/a","n/a","n/a","n/a","n/a","n/a","n/a","n/a","n/a","n/a","n/a","n/a","n/a","n/a","n/a","n/a","n/a","n/a","n/a","n/a","n/a","n/a","n/a","n/a","n/a","n/a","n/a","n/a","n/a","n/a","n/a","n/a","n/a","n/a","n/a","n/a","n/a","n/a","n/a","n/a","n/a","n/a","n/a","n/a","n/a","n/a","n/a","n/a","n/a","n/a","n/a","n/a","n/a","n/a","n/a","n/a","n/a","n/a","n/a","n/a","n/a","n/a","n/a","n/a","n/a","n/a","n/a","n/a","n/a","n/a"]
[6.4299999999999899,"(6) Tourist/Recreational Other",4,"Weekday 2-Part","7:00 AM-9:00 AM AND 3:00 PM-5:00 PM","(6) Tourist/Recreational Other7:00 AM-9:00 AM AND 3:00 PM-5:00 PM","n/a","n/a","n/a","n/a","n/a","n/a","n/a","n/a","n/a","n/a","n/a","n/a","n/a","n/a","n/a","n/a","n/a","n/a","n/a","n/a","n/a","n/a","n/a","n/a","n/a","n/a","n/a","n/a","n/a","n/a","n/a","n/a","n/a","n/a","n/a","n/a","n/a","n/a","n/a","n/a","n/a","n/a","n/a","n/a","n/a","n/a","n/a","n/a","n/a","n/a","n/a","n/a","n/a","n/a","n/a","n/a","n/a","n/a","n/a","n/a","n/a","n/a","n/a","n/a","n/a","n/a","n/a","n/a","n/a","n/a","n/a","n/a"]
[6.4399999999999897,"(6) Tourist/Recreational Other",8,"Weekday 3-Part","6:00 AM-9:00 AM, 11:00 AM-1:00 PM, AND 3:00 PM-6:00 PM","(6) Tourist/Recreational Other6:00 AM-9:00 AM, 11:00 AM-1:00 PM, AND 3:00 PM-6:00 PM","n/a","n/a","n/a","n/a","n/a","n/a","n/a","n/a","n/a","n/a","n/a","n/a","n/a","n/a","n/a","n/a","n/a","n/a","n/a","n/a","n/a","n/a","n/a","n/a","n/a","n/a","n/a","n/a","n/a","n/a","n/a","n/a","n/a","n/a","n/a","n/a","n/a","n/a","n/a","n/a","n/a","n/a","n/a","n/a","n/a","n/a","n/a","n/a","n/a","n/a","n/a","n/a","n/a","n/a","n/a","n/a","n/a","n/a","n/a","n/a","n/a","n/a","n/a","n/a","n/a","n/a","n/a","n/a","n/a","n/a","n/a","n/a"]
[6.4499999999999904,"(6) Tourist/Recreational Other",4,"Weekend Continuous","9:00 AM-1:00 PM","(6) Tourist/Recreational Other9:00 AM-1:00 PM","n/a","n/a","n/a","n/a","n/a","n/a","n/a","n/a","n/a","n/a","n/a","n/a","n/a","n/a","n/a","n/a","n/a","n/a","n/a","n/a","n/a","n/a","n/a","n/a","n/a","n/a","n/a","n/a","n/a","n/a","n/a","n/a","n/a","n/a","n/a","n/a","n/a","n/a","n/a","n/a","n/a","n/a","n/a","n/a","n/a","n/a","n/a","n/a","n/a","n/a","n/a","n/a","n/a","n/a","n/a","n/a","n/a","n/a","n/a","n/a","n/a","n/a","n/a","n/a","n/a","n/a","n/a","n/a","n/a","n/a","n/a","n/a"]
[6.4599999999999902,"(6) Tourist/Recreational Other",4,"Weekend Continuous","10:00 AM-2:00 PM","(6) Tourist/Recreational Other10:00 AM-2:00 PM","n/a","n/a","n/a","n/a","n/a","n/a","n/a","n/a","n/a","n/a","n/a","n/a","n/a","n/a","n/a","n/a","n/a","n/a","n/a","n/a","n/a","n/a","n/a","n/a","n/a","n/a","n/a","n/a","n/a","n/a","n/a","n/a","n/a","n/a","n/a","n/a","n/a","n/a","n/a","n/a","n/a","n/a","n/a","n/a","n/a","n/a","n/a","n/a","n/a","n/a","n/a","n/a","n/a","n/a","n/a","n/a","n/a","n/a","n/a","n/a","n/a","n/a","n/a","n/a","n/a","n/a","n/a","n/a","n/a","n/a","n/a","n/a"]
[6.46999999999999,"(6) Tourist/Recreational Other",4,"Weekend Continuous","11:00 AM-3:00 PM","(6) Tourist/Recreational Other11:00 AM-3:00 PM","n/a","n/a","n/a","n/a","n/a","n/a","n/a","n/a","n/a","n/a","n/a","n/a","n/a","n/a","n/a","n/a","n/a","n/a","n/a","n/a","n/a","n/a","n/a","n/a","n/a","n/a","n/a","n/a","n/a","n/a","n/a","n/a","n/a","n/a","n/a","n/a","n/a","n/a","n/a","n/a","n/a","n/a","n/a","n/a","n/a","n/a","n/a","n/a","n/a","n/a","n/a","n/a","n/a","n/a","n/a","n/a","n/a","n/a","n/a","n/a","n/a","n/a","n/a","n/a","n/a","n/a","n/a","n/a","n/a","n/a","n/a","n/a"]
[6.4799999999999898,"(6) Tourist/Recreational Other",3,"Weekend Continuous","10:00 AM-1:00 PM","(6) Tourist/Recreational Other10:00 AM-1:00 PM","n/a","n/a","n/a","n/a","n/a","n/a","n/a","n/a","n/a","n/a","n/a","n/a","n/a","n/a","n/a","n/a","n/a","n/a","n/a","n/a","n/a","n/a","n/a","n/a","n/a","n/a","n/a","n/a","n/a","n/a","n/a","n/a","n/a","n/a","n/a","n/a","n/a","n/a","n/a","n/a","n/a","n/a","n/a","n/a","n/a","n/a","n/a","n/a","n/a","n/a","n/a","n/a","n/a","n/a","n/a","n/a","n/a","n/a","n/a","n/a","n/a","n/a","n/a","n/a","n/a","n/a","n/a","n/a","n/a","n/a","n/a","n/a"]
[6.4899999999999904,"(6) Tourist/Recreational Other",3,"Weekend Continuous","11:00 AM-2:00 PM","(6) Tourist/Recreational Other11:00 AM-2:00 PM","n/a","n/a","n/a","n/a","n/a","n/a","n/a","n/a","n/a","n/a","n/a","n/a","n/a","n/a","n/a","n/a","n/a","n/a","n/a","n/a","n/a","n/a","n/a","n/a","n/a","n/a","n/a","n/a","n/a","n/a","n/a","n/a","n/a","n/a","n/a","n/a","n/a","n/a","n/a","n/a","n/a","n/a","n/a","n/a","n/a","n/a","n/a","n/a","n/a","n/a","n/a","n/a","n/a","n/a","n/a","n/a","n/a","n/a","n/a","n/a","n/a","n/a","n/a","n/a","n/a","n/a","n/a","n/a","n/a","n/a","n/a","n/a"]
[6.4999999999999902,"(6) Tourist/Recreational Other",2,"Weekend Continuous","11:00 AM-1:00 PM","(6) Tourist/Recreational Other11:00 AM-1:00 PM","n/a","n/a","n/a","n/a","n/a","n/a","n/a","n/a","n/a","n/a","n/a","n/a","n/a","n/a","n/a","n/a","n/a","n/a","n/a","n/a","n/a","n/a","n/a","n/a","n/a","n/a","n/a","n/a","n/a","n/a","n/a","n/a","n/a","n/a","n/a","n/a","n/a","n/a","n/a","n/a","n/a","n/a","n/a","n/a","n/a","n/a","n/a","n/a","n/a","n/a","n/a","n/a","n/a","n/a","n/a","n/a","n/a","n/a","n/a","n/a","n/a","n/a","n/a","n/a","n/a","n/a","n/a","n/a","n/a","n/a","n/a","n/a"]
[]
[7.01,"Ramps",16,"Weekday Continuous","6:00 AM-10:00 PM","Ramps6:00 AM-10:00 PM","n/a","n/a","n/a","n/a","n/a","n/a","n/a","n/a","n/a","n/a","n/a","n/a","n/a","n/a","n/a","n/a","n/a","n/a","n/a","n/a","n/a","n/a","n/a","n/a","n/a","n/a","n/a","n/a","n/a","n/a","n/a","n/a","n/a","n/a","n/a","n/a","n/a","n/a","n/a","n/a","n/a","n/a","n/a","n/a","n/a","n/a","n/a","n/a","n/a","n/a","n/a","n/a","n/a","n/a","n/a","n/a","n/a","n/a","n/a","n/a","n/a","n/a","n/a","n/a","n/a","n/a","n/a","n/a","n/a","n/a","n/a","n/a"]
[7.02,"Ramps",15,"Weekday Continuous","6:00 AM-9:00 PM","Ramps6:00 AM-9:00 PM","n/a","n/a","n/a","n/a","n/a","n/a","n/a","n/a","n/a","n/a","n/a","n/a","n/a","n/a","n/a","n/a","n/a","n/a","n/a","n/a","n/a","n/a","n/a","n/a","n/a","n/a","n/a","n/a","n/a","n/a","n/a","n/a","n/a","n/a","n/a","n/a","n/a","n/a","n/a","n/a","n/a","n/a","n/a","n/a","n/a","n/a","n/a","n/a","n/a","n/a","n/a","n/a","n/a","n/a","n/a","n/a","n/a","n/a","n/a","n/a","n/a","n/a","n/a","n/a","n/a","n/a","n/a","n/a","n/a","n/a","n/a","n/a"]
[7.03,"Ramps",15,"Weekday Continuous","7:00 AM-10:00 PM","Ramps7:00 AM-10:00 PM","n/a","n/a","n/a","n/a","n/a","n/a","n/a","n/a","n/a","n/a","n/a","n/a","n/a","n/a","n/a","n/a","n/a","n/a","n/a","n/a","n/a","n/a","n/a","n/a","n/a","n/a","n/a","n/a","n/a","n/a","n/a","n/a","n/a","n/a","n/a","n/a","n/a","n/a","n/a","n/a","n/a","n/a","n/a","n/a","n/a","n/a","n/a","n/a","n/a","n/a","n/a","n/a","n/a","n/a","n/a","n/a","n/a","n/a","n/a","n/a","n/a","n/a","n/a","n/a","n/a","n/a","n/a","n/a","n/a","n/a","n/a","n/a"]
[7.04,"Ramps",14,"Weekday Continuous","6:00 AM-8:00 PM","Ramps6:00 AM-8:00 PM","n/a","n/a","n/a","n/a","n/a","n/a","n/a","n/a","n/a","n/a","n/a","n/a","n/a","n/a","n/a","n/a","n/a","n/a","n/a","n/a","n/a","n/a","n/a","n/a","n/a","n/a","n/a","n/a","n/a","n/a","n/a","n/a","n/a","n/a","n/a","n/a","n/a","n/a","n/a","n/a","n/a","n/a","n/a","n/a","n/a","n/a","n/a","n/a","n/a","n/a","n/a","n/a","n/a","n/a","n/a","n/a","n/a","n/a","n/a","n/a","n/a","n/a","n/a","n/a","n/a","n/a","n/a","n/a","n/a","n/a","n/a","n/a"]
[7.05,"Ramps",14,"Weekday Continuous","7:00 AM-9:00 PM","Ramps7:00 AM-9:00 PM","n/a","n/a","n/a","n/a","n/a","n/a","n/a","n/a","n/a","n/a","n/a","n/a","n/a","n/a","n/a","n/a","n/a","n/a","n/a","n/a","n/a","n/a","n/a","n/a","n/a","n/a","n/a","n/a","n/a","n/a","n/a","n/a","n/a","n/a","n/a","n/a","n/a","n/a","n/a","n/a","n/a","n/a","n/a","n/a","n/a","n/a","n/a","n/a","n/a","n/a","n/a","n/a","n/a","n/a","n/a","n/a","n/a","n/a","n/a","n/a","n/a","n/a","n/a","n/a","n/a","n/a","n/a","n/a","n/a","n/a","n/a","n/a"]
[7.06,"Ramps",14,"Weekday Continuous","8:00 AM-10:00 PM","Ramps8:00 AM-10:00 PM","n/a","n/a","n/a","n/a","n/a","n/a","n/a","n/a","n/a","n/a","n/a","n/a","n/a","n/a","n/a","n/a","n/a","n/a","n/a","n/a","n/a","n/a","n/a","n/a","n/a","n/a","n/a","n/a","n/a","n/a","n/a","n/a","n/a","n/a","n/a","n/a","n/a","n/a","n/a","n/a","n/a","n/a","n/a","n/a","n/a","n/a","n/a","n/a","n/a","n/a","n/a","n/a","n/a","n/a","n/a","n/a","n/a","n/a","n/a","n/a","n/a","n/a","n/a","n/a","n/a","n/a","n/a","n/a","n/a","n/a","n/a","n/a"]
[7.07,"Ramps",13,"Weekday Continuous","6:00 AM-7:00 PM","Ramps6:00 AM-7:00 PM",1.2569999999999999,1.248,1.2050000000000001,1.2529999999999999,1.2090000000000001,1.21,1.196,"n/a","n/a","n/a","n/a","n/a","n/a","n/a","n/a","n/a","n/a","n/a","n/a","n/a","n/a","n/a","n/a","n/a","n/a","n/a","n/a","n/a","n/a","n/a","n/a","n/a","n/a","n/a","n/a","n/a","n/a","n/a","n/a","n/a","n/a","n/a","n/a","n/a","n/a","n/a","n/a","n/a","n/a","n/a","n/a","n/a","n/a","n/a","n/a","n/a","n/a","n/a","n/a","n/a","n/a","n/a","n/a","n/a","n/a","n/a","n/a","n/a","n/a","n/a","n/a","n/a"]
[7.08,"Ramps",13,"Weekday Continuous","7:00 AM-8:00 PM","Ramps7:00 AM-8:00 PM","n/a","n/a","n/a","n/a","n/a","n/a","n/a","n/a","n/a","n/a","n/a","n/a","n/a","n/a","n/a","n/a","n/a","n/a","n/a","n/a","n/a","n/a","n/a","n/a","n/a","n/a","n/a","n/a","n/a","n/a","n/a","n/a","n/a","n/a","n/a","n/a","n/a","n/a","n/a","n/a","n/a","n/a","n/a","n/a","n/a","n/a","n/a","n/a","n/a","n/a","n/a","n/a","n/a","n/a","n/a","n/a","n/a","n/a","n/a","n/a","n/a","n/a","n/a","n/a","n/a","n/a","n/a","n/a","n/a","n/a","n/a","n/a"]
[7.09,"Ramps",13,"Weekday Continuous","8:00 AM-9:00 PM","Ramps8:00 AM-9:00 PM","n/a","n/a","n/a","n/a","n/a","n/a","n/a","n/a","n/a","n/a","n/a","n/a","n/a","n/a","n/a","n/a","n/a","n/a","n/a","n/a","n/a","n/a","n/a","n/a","n/a","n/a","n/a","n/a","n/a","n/a","n/a","n/a","n/a","n/a","n/a","n/a","n/a","n/a","n/a","n/a","n/a","n/a","n/a","n/a","n/a","n/a","n/a","n/a","n/a","n/a","n/a","n/a","n/a","n/a","n/a","n/a","n/a","n/a","n/a","n/a","n/a","n/a","n/a","n/a","n/a","n/a","n/a","n/a","n/a","n/a","n/a","n/a"]
[7.1,"Ramps",13,"Weekday Continuous","9:00 AM-10:00 PM","Ramps9:00 AM-10:00 PM","n/a","n/a","n/a","n/a","n/a","n/a","n/a","n/a","n/a","n/a","n/a","n/a","n/a","n/a","n/a","n/a","n/a","n/a","n/a","n/a","n/a","n/a","n/a","n/a","n/a","n/a","n/a","n/a","n/a","n/a","n/a","n/a","n/a","n/a","n/a","n/a","n/a","n/a","n/a","n/a","n/a","n/a","n/a","n/a","n/a","n/a","n/a","n/a","n/a","n/a","n/a","n/a","n/a","n/a","n/a","n/a","n/a","n/a","n/a","n/a","n/a","n/a","n/a","n/a","n/a","n/a","n/a","n/a","n/a","n/a","n/a","n/a"]
[7.11,"Ramps",12,"Weekday Continuous","6:00 AM-6:00 PM","Ramps6:00 AM-6:00 PM",1.3540000000000001,1.3420000000000001,1.2849999999999999,1.34,1.292,1.294,1.29,"n/a","n/a","n/a","n/a","n/a","n/a","n/a","n/a","n/a","n/a","n/a","n/a","n/a","n/a","n/a","n/a","n/a","n/a","n/a","n/a","n/a","n/a","n/a","n/a","n/a","n/a","n/a","n/a","n/a","n/a","n/a","n/a","n/a","n/a","n/a","n/a","n/a","n/a","n/a","n/a","n/a","n/a","n/a","n/a","n/a","n/a","n/a","n/a","n/a","n/a","n/a","n/a","n/a","n/a","n/a","n/a","n/a","n/a","n/a","n/a","n/a","n/a","n/a","n/a","n/a"]
[7.12,"Ramps",12,"Weekday Continuous","7:00 AM-7:00 PM","Ramps7:00 AM-7:00 PM","n/a","n/a","n/a","n/a","n/a","n/a","n/a","n/a","n/a","n/a","n/a","n/a","n/a","n/a","n/a","n/a","n/a","n/a","n/a","n/a","n/a","n/a","n/a","n/a","n/a","n/a","n/a","n/a","n/a","n/a","n/a","n/a","n/a","n/a","n/a","n/a","n/a","n/a","n/a","n/a","n/a","n/a","n/a","n/a","n/a","n/a","n/a","n/a","n/a","n/a","n/a","n/a","n/a","n/a","n/a","n/a","n/a","n/a","n/a","n/a","n/a","n/a","n/a","n/a","n/a","n/a","n/a","n/a","n/a","n/a","n/a","n/a"]
[7.13,"Ramps",12,"Weekday Continuous","8:00 AM-8:00 PM","Ramps8:00 AM-8:00 PM","n/a","n/a","n/a","n/a","n/a","n/a","n/a","n/a","n/a","n/a","n/a","n/a","n/a","n/a","n/a","n/a","n/a","n/a","n/a","n/a","n/a","n/a","n/a","n/a","n/a","n/a","n/a","n/a","n/a","n/a","n/a","n/a","n/a","n/a","n/a","n/a","n/a","n/a","n/a","n/a","n/a","n/a","n/a","n/a","n/a","n/a","n/a","n/a","n/a","n/a","n/a","n/a","n/a","n/a","n/a","n/a","n/a","n/a","n/a","n/a","n/a","n/a","n/a","n/a","n/a","n/a","n/a","n/a","n/a","n/a","n/a","n/a"]
[7.14,"Ramps",12,"Weekday Continuous","9:00 AM-9:00 PM","Ramps9:00 AM-9:00 PM","n/a","n/a","n/a","n/a","n/a","n/a","n/a","n/a","n/a","n/a","n/a","n/a","n/a","n/a","n/a","n/a","n/a","n/a","n/a","n/a","n/a","n/a","n/a","n/a","n/a","n/a","n/a","n/a","n/a","n/a","n/a","n/a","n/a","n/a","n/a","n/a","n/a","n/a","n/a","n/a","n/a","n/a","n/a","n/a","n/a","n/a","n/a","n/a","n/a","n/a","n/a","n/a","n/a","n/a","n/a","n/a","n/a","n/a","n/a","n/a","n/a","n/a","n/a","n/a","n/a","n/a","n/a","n/a","n/a","n/a","n/a","n/a"]
[7.15,"Ramps",12,"Weekday Continuous","10:00 AM-10:00 PM","Ramps10:00 AM-10:00 PM","n/a","n/a","n/a","n/a","n/a","n/a","n/a","n/a","n/a","n/a","n/a","n/a","n/a","n/a","n/a","n/a","n/a","n/a","n/a","n/a","n/a","n/a","n/a","n/a","n/a","n/a","n/a","n/a","n/a","n/a","n/a","n/a","n/a","n/a","n/a","n/a","n/a","n/a","n/a","n/a","n/a","n/a","n/a","n/a","n/a","n/a","n/a","n/a","n/a","n/a","n/a","n/a","n/a","n/a","n/a","n/a","n/a","n/a","n/a","n/a","n/a","n/a","n/a","n/a","n/a","n/a","n/a","n/a","n/a","n/a","n/a","n/a"]
[7.16,"Ramps",11,"Weekday Continuous","6:00 AM-5:00 PM",{"$f":"CONCATENATE(B328,E328)","v":"Ramps6:00 AM-5:00 PM"},"n/a","n/a","n/a","n/a","n/a","n/a","n/a","n/a","n/a","n/a","n/a","n/a","n/a","n/a","n/a","n/a","n/a","n/a","n/a","n/a","n/a","n/a","n/a","n/a","n/a","n/a","n/a","n/a","n/a","n/a","n/a","n/a","n/a","n/a","n/a","n/a","n/a","n/a","n/a","n/a","n/a","n/a","n/a","n/a","n/a","n/a","n/a","n/a","n/a","n/a","n/a","n/a","n/a","n/a","n/a","n/a","n/a","n/a","n/a","n/a","n/a","n/a","n/a","n/a","n/a","n/a","n/a","n/a","n/a","n/a","n/a","n/a"]
[7.17,"Ramps",11,"Weekday Continuous","7:00 AM-6:00 PM","Ramps7:00 AM-6:00 PM","n/a","n/a","n/a","n/a","n/a","n/a","n/a","n/a","n/a","n/a","n/a","n/a","n/a","n/a","n/a","n/a","n/a","n/a","n/a","n/a","n/a","n/a","n/a","n/a","n/a","n/a","n/a","n/a","n/a","n/a","n/a","n/a","n/a","n/a","n/a","n/a","n/a","n/a","n/a","n/a","n/a","n/a","n/a","n/a","n/a","n/a","n/a","n/a","n/a","n/a","n/a","n/a","n/a","n/a","n/a","n/a","n/a","n/a","n/a","n/a","n/a","n/a","n/a","n/a","n/a","n/a","n/a","n/a","n/a","n/a","n/a","n/a"]
[7.18,"Ramps",11,"Weekday Continuous","8:00 AM-7:00 PM","Ramps8:00 AM-7:00 PM","n/a","n/a","n/a","n/a","n/a","n/a","n/a","n/a","n/a","n/a","n/a","n/a","n/a","n/a","n/a","n/a","n/a","n/a","n/a","n/a","n/a","n/a","n/a","n/a","n/a","n/a","n/a","n/a","n/a","n/a","n/a","n/a","n/a","n/a","n/a","n/a","n/a","n/a","n/a","n/a","n/a","n/a","n/a","n/a","n/a","n/a","n/a","n/a","n/a","n/a","n/a","n/a","n/a","n/a","n/a","n/a","n/a","n/a","n/a","n/a","n/a","n/a","n/a","n/a","n/a","n/a","n/a","n/a","n/a","n/a","n/a","n/a"]
[7.19,"Ramps",11,"Weekday Continuous","9:00 AM-8:00 PM","Ramps9:00 AM-8:00 PM","n/a","n/a","n/a","n/a","n/a","n/a","n/a","n/a","n/a","n/a","n/a","n/a","n/a","n/a","n/a","n/a","n/a","n/a","n/a","n/a","n/a","n/a","n/a","n/a","n/a","n/a","n/a","n/a","n/a","n/a","n/a","n/a","n/a","n/a","n/a","n/a","n/a","n/a","n/a","n/a","n/a","n/a","n/a","n/a","n/a","n/a","n/a","n/a","n/a","n/a","n/a","n/a","n/a","n/a","n/a","n/a","n/a","n/a","n/a","n/a","n/a","n/a","n/a","n/a","n/a","n/a","n/a","n/a","n/a","n/a","n/a","n/a"]
[7.2,"Ramps",10,"Weekday Continuous","6:00 AM-4:00 PM","Ramps6:00 AM-4:00 PM","n/a","n/a","n/a","n/a","n/a","n/a","n/a","n/a","n/a","n/a","n/a","n/a","n/a","n/a","n/a","n/a","n/a","n/a","n/a","n/a","n/a","n/a","n/a","n/a","n/a","n/a","n/a","n/a","n/a","n/a","n/a","n/a","n/a","n/a","n/a","n/a","n/a","n/a","n/a","n/a","n/a","n/a","n/a","n/a","n/a","n/a","n/a","n/a","n/a","n/a","n/a","n/a","n/a","n/a","n/a","n/a","n/a","n/a","n/a","n/a","n/a","n/a","n/a","n/a","n/a","n/a","n/a","n/a","n/a","n/a","n/a","n/a"]
[7.21,"Ramps",10,"Weekday Continuous","7:00 AM-5:00 PM","Ramps7:00 AM-5:00 PM","n/a","n/a","n/a","n/a","n/a","n/a","n/a","n/a","n/a","n/a","n/a","n/a","n/a","n/a","n/a","n/a","n/a","n/a","n/a","n/a","n/a","n/a","n/a","n/a","n/a","n/a","n/a","n/a","n/a","n/a","n/a","n/a","n/a","n/a","n/a","n/a","n/a","n/a","n/a","n/a","n/a","n/a","n/a","n/a","n/a","n/a","n/a","n/a","n/a","n/a","n/a","n/a","n/a","n/a","n/a","n/a","n/a","n/a","n/a","n/a","n/a","n/a","n/a","n/a","n/a","n/a","n/a","n/a","n/a","n/a","n/a","n/a"]
[7.22,"Ramps",10,"Weekday Continuous","8:00 AM-6:00 PM","Ramps8:00 AM-6:00 PM","n/a","n/a","n/a","n/a","n/a","n/a","n/a","n/a","n/a","n/a","n/a","n/a","n/a","n/a","n/a","n/a","n/a","n/a","n/a","n/a","n/a","n/a","n/a","n/a","n/a","n/a","n/a","n/a","n/a","n/a","n/a","n/a","n/a","n/a","n/a","n/a","n/a","n/a","n/a","n/a","n/a","n/a","n/a","n/a","n/a","n/a","n/a","n/a","n/a","n/a","n/a","n/a","n/a","n/a","n/a","n/a","n/a","n/a","n/a","n/a","n/a","n/a","n/a","n/a","n/a","n/a","n/a","n/a","n/a","n/a","n/a","n/a"]
[7.23,"Ramps",10,"Weekday Continuous","9:00 AM-7:00 PM","Ramps9:00 AM-7:00 PM","n/a","n/a","n/a","n/a","n/a","n/a","n/a","n/a","n/a","n/a","n/a","n/a","n/a","n/a","n/a","n/a","n/a","n/a","n/a","n/a","n/a","n/a","n/a","n/a","n/a","n/a","n/a","n/a","n/a","n/a","n/a","n/a","n/a","n/a","n/a","n/a","n/a","n/a","n/a","n/a","n/a","n/a","n/a","n/a","n/a","n/a","n/a","n/a","n/a","n/a","n/a","n/a","n/a","n/a","n/a","n/a","n/a","n/a","n/a","n/a","n/a","n/a","n/a","n/a","n/a","n/a","n/a","n/a","n/a","n/a","n/a","n/a"]
[7.2399999999999904,"Ramps",9,"Weekday Continuous","6:00 AM-3:00 PM","Ramps6:00 AM-3:00 PM","n/a","n/a","n/a","n/a","n/a","n/a","n/a","n/a","n/a","n/a","n/a","n/a","n/a","n/a","n/a","n/a","n/a","n/a","n/a","n/a","n/a","n/a","n/a","n/a","n/a","n/a","n/a","n/a","n/a","n/a","n/a","n/a","n/a","n/a","n/a","n/a","n/a","n/a","n/a","n/a","n/a","n/a","n/a","n/a","n/a","n/a","n/a","n/a","n/a","n/a","n/a","n/a","n/a","n/a","n/a","n/a","n/a","n/a","n/a","n/a","n/a","n/a","n/a","n/a","n/a","n/a","n/a","n/a","n/a","n/a","n/a","n/a"]
[7.2499999999999902,"Ramps",9,"Weekday Continuous","7:00 AM-4:00 PM","Ramps7:00 AM-4:00 PM","n/a","n/a","n/a","n/a","n/a","n/a","n/a","n/a","n/a","n/a","n/a","n/a","n/a","n/a","n/a","n/a","n/a","n/a","n/a","n/a","n/a","n/a","n/a","n/a","n/a","n/a","n/a","n/a","n/a","n/a","n/a","n/a","n/a","n/a","n/a","n/a","n/a","n/a","n/a","n/a","n/a","n/a","n/a","n/a","n/a","n/a","n/a","n/a","n/a","n/a","n/a","n/a","n/a","n/a","n/a","n/a","n/a","n/a","n/a","n/a","n/a","n/a","n/a","n/a","n/a","n/a","n/a","n/a","n/a","n/a","n/a","n/a"]
[7.25999999999999,"Ramps",9,"Weekday Continuous","8:00 AM-5:00 PM","Ramps8:00 AM-5:00 PM","n/a","n/a","n/a","n/a","n/a","n/a","n/a","n/a","n/a","n/a","n/a","n/a","n/a","n/a","n/a","n/a","n/a","n/a","n/a","n/a","n/a","n/a","n/a","n/a","n/a","n/a","n/a","n/a","n/a","n/a","n/a","n/a","n/a","n/a","n/a","n/a","n/a","n/a","n/a","n/a","n/a","n/a","n/a","n/a","n/a","n/a","n/a","n/a","n/a","n/a","n/a","n/a","n/a","n/a","n/a","n/a","n/a","n/a","n/a","n/a","n/a","n/a","n/a","n/a","n/a","n/a","n/a","n/a","n/a","n/a","n/a","n/a"]
[7.2699999999999898,"Ramps",9,"Weekday Continuous","9:00 AM-6:00 PM","Ramps9:00 AM-6:00 PM","n/a","n/a","n/a","n/a","n/a","n/a","n/a","n/a","n/a","n/a","n/a","n/a","n/a","n/a","n/a","n/a","n/a","n/a","n/a","n/a","n/a","n/a","n/a","n/a","n/a","n/a","n/a","n/a","n/a","n/a","n/a","n/a","n/a","n/a","n/a","n/a","n/a","n/a","n/a","n/a","n/a","n/a","n/a","n/a","n/a","n/a","n/a","n/a","n/a","n/a","n/a","n/a","n/a","n/a","n/a","n/a","n/a","n/a","n/a","n/a","n/a","n/a","n/a","n/a","n/a","n/a","n/a","n/a","n/a","n/a","n/a","n/a"]
[7.2799999999999896,"Ramps",8,"Weekday Continuous","6:00 AM-2:00 PM","Ramps6:00 AM-2:00 PM","n/a","n/a","n/a","n/a","n/a","n/a","n/a","n/a","n/a","n/a","n/a","n/a","n/a","n/a","n/a","n/a","n/a","n/a","n/a","n/a","n/a","n/a","n/a","n/a","n/a","n/a","n/a","n/a","n/a","n/a","n/a","n/a","n/a","n/a","n/a","n/a","n/a","n/a","n/a","n/a","n/a","n/a","n/a","n/a","n/a","n/a","n/a","n/a","n/a","n/a","n/a","n/a","n/a","n/a","n/a","n/a","n/a","n/a","n/a","n/a","n/a","n/a","n/a","n/a","n/a","n/a","n/a","n/a","n/a","n/a","n/a","n/a"]
[7.2899999999999903,"Ramps",8,"Weekday Continuous","7:00 AM-3:00 PM","Ramps7:00 AM-3:00 PM","n/a","n/a","n/a","n/a","n/a","n/a","n/a","n/a","n/a","n/a","n/a","n/a","n/a","n/a","n/a","n/a","n/a","n/a","n/a","n/a","n/a","n/a","n/a","n/a","n/a","n/a","n/a","n/a","n/a","n/a","n/a","n/a","n/a","n/a","n/a","n/a","n/a","n/a","n/a","n/a","n/a","n/a","n/a","n/a","n/a","n/a","n/a","n/a","n/a","n/a","n/a","n/a","n/a","n/a","n/a","n/a","n/a","n/a","n/a","n/a","n/a","n/a","n/a","n/a","n/a","n/a","n/a","n/a","n/a","n/a","n/a","n/a"]
[7.2999999999999901,"Ramps",8,"Weekday Continuous","8:00 AM-4:00 PM","Ramps8:00 AM-4:00 PM","n/a","n/a","n/a","n/a","n/a","n/a","n/a","n/a","n/a","n/a","n/a","n/a","n/a","n/a","n/a","n/a","n/a","n/a","n/a","n/a","n/a","n/a","n/a","n/a","n/a","n/a","n/a","n/a","n/a","n/a","n/a","n/a","n/a","n/a","n/a","n/a","n/a","n/a","n/a","n/a","n/a","n/a","n/a","n/a","n/a","n/a","n/a","n/a","n/a","n/a","n/a","n/a","n/a","n/a","n/a","n/a","n/a","n/a","n/a","n/a","n/a","n/a","n/a","n/a","n/a","n/a","n/a","n/a","n/a","n/a","n/a","n/a"]
[7.3099999999999898,"Ramps",8,"Weekday Continuous","9:00 AM-5:00 PM","Ramps9:00 AM-5:00 PM","n/a","n/a","n/a","n/a","n/a","n/a","n/a","n/a","n/a","n/a","n/a","n/a","n/a","n/a","n/a","n/a","n/a","n/a","n/a","n/a","n/a","n/a","n/a","n/a","n/a","n/a","n/a","n/a","n/a","n/a","n/a","n/a","n/a","n/a","n/a","n/a","n/a","n/a","n/a","n/a","n/a","n/a","n/a","n/a","n/a","n/a","n/a","n/a","n/a","n/a","n/a","n/a","n/a","n/a","n/a","n/a","n/a","n/a","n/a","n/a","n/a","n/a","n/a","n/a","n/a","n/a","n/a","n/a","n/a","n/a","n/a","n/a"]
[7.3199999999999896,"Ramps",6,"Weekday 2-Part","6:00 AM-9:00 AM AND 4:00 PM-7:00 PM","Ramps6:00 AM-9:00 AM AND 4:00 PM-7:00 PM","n/a","n/a","n/a","n/a","n/a","n/a","n/a","n/a","n/a","n/a","n/a","n/a","n/a","n/a","n/a","n/a","n/a","n/a","n/a","n/a","n/a","n/a","n/a","n/a","n/a","n/a","n/a","n/a","n/a","n/a","n/a","n/a","n/a","n/a","n/a","n/a","n/a","n/a","n/a","n/a","n/a","n/a","n/a","n/a","n/a","n/a","n/a","n/a","n/a","n/a","n/a","n/a","n/a","n/a","n/a","n/a","n/a","n/a","n/a","n/a","n/a","n/a","n/a","n/a","n/a","n/a","n/a","n/a","n/a","n/a","n/a","n/a"]
[7.3299999999999903,"Ramps",6,"Weekday 2-Part","6:00 AM-9:00 AM AND 3:00 PM-6:00 PM","Ramps6:00 AM-9:00 AM AND 3:00 PM-6:00 PM","n/a","n/a","n/a","n/a","n/a","n/a","n/a","n/a","n/a","n/a","n/a","n/a","n/a","n/a","n/a","n/a","n/a","n/a","n/a","n/a","n/a","n/a","n/a","n/a","n/a","n/a","n/a","n/a","n/a","n/a","n/a","n/a","n/a","n/a","n/a","n/a","n/a","n/a","n/a","n/a","n/a","n/a","n/a","n/a","n/a","n/a","n/a","n/a","n/a","n/a","n/a","n/a","n/a","n/a","n/a","n/a","n/a","n/a","n/a","n/a","n/a","n/a","n/a","n/a","n/a","n/a","n/a","n/a","n/a","n/a","n/a","n/a"]
[7.3399999999999901,"Ramps",6,"Weekday 2-Part","7:00 AM-10:00 AM AND 4:00 PM-7:00 PM","Ramps7:00 AM-10:00 AM AND 4:00 PM-7:00 PM","n/a","n/a","n/a","n/a","n/a","n/a","n/a","n/a","n/a","n/a","n/a","n/a","n/a","n/a","n/a","n/a","n/a","n/a","n/a","n/a","n/a","n/a","n/a","n/a","n/a","n/a","n/a","n/a","n/a","n/a","n/a","n/a","n/a","n/a","n/a","n/a","n/a","n/a","n/a","n/a","n/a","n/a","n/a","n/a","n/a","n/a","n/a","n/a","n/a","n/a","n/a","n/a","n/a","n/a","n/a","n/a","n/a","n/a","n/a","n/a","n/a","n/a","n/a","n/a","n/a","n/a","n/a","n/a","n/a","n/a","n/a","n/a"]
[7.3499999999999899,"Ramps",6,"Weekday 2-Part","7:00 AM-10:00 AM AND 3:00 PM-6:00 PM","Ramps7:00 AM-10:00 AM AND 3:00 PM-6:00 PM","n/a","n/a","n/a","n/a","n/a","n/a","n/a","n/a","n/a","n/a","n/a","n/a","n/a","n/a","n/a","n/a","n/a","n/a","n/a","n/a","n/a","n/a","n/a","n/a","n/a","n/a","n/a","n/a","n/a","n/a","n/a","n/a","n/a","n/a","n/a","n/a","n/a","n/a","n/a","n/a","n/a","n/a","n/a","n/a","n/a","n/a","n/a","n/a","n/a","n/a","n/a","n/a","n/a","n/a","n/a","n/a","n/a","n/a","n/a","n/a","n/a","n/a","n/a","n/a","n/a","n/a","n/a","n/a","n/a","n/a","n/a","n/a"]
[7.3599999999999897,"Ramps",5,"Weekday 2-Part","6:00 AM-8:00 AM AND 4:00 PM-7:00 PM","Ramps6:00 AM-8:00 AM AND 4:00 PM-7:00 PM","n/a","n/a","n/a","n/a","n/a","n/a","n/a","n/a","n/a","n/a","n/a","n/a","n/a","n/a","n/a","n/a","n/a","n/a","n/a","n/a","n/a","n/a","n/a","n/a","n/a","n/a","n/a","n/a","n/a","n/a","n/a","n/a","n/a","n/a","n/a","n/a","n/a","n/a","n/a","n/a","n/a","n/a","n/a","n/a","n/a","n/a","n/a","n/a","n/a","n/a","n/a","n/a","n/a","n/a","n/a","n/a","n/a","n/a","n/a","n/a","n/a","n/a","n/a","n/a","n/a","n/a","n/a","n/a","n/a","n/a","n/a","n/a"]
[7.3699999999999903,"Ramps",5,"Weekday 2-Part","6:00 AM-8:00 AM AND 3:00 PM-6:00 PM","Ramps6:00 AM-8:00 AM AND 3:00 PM-6:00 PM","n/a","n/a","n/a","n/a","n/a","n/a","n/a","n/a","n/a","n/a","n/a","n/a","n/a","n/a","n/a","n/a","n/a","n/a","n/a","n/a","n/a","n/a","n/a","n/a","n/a","n/a","n/a","n/a","n/a","n/a","n/a","n/a","n/a","n/a","n/a","n/a","n/a","n/a","n/a","n/a","n/a","n/a","n/a","n/a","n/a","n/a","n/a","n/a","n/a","n/a","n/a","n/a","n/a","n/a","n/a","n/a","n/a","n/a","n/a","n/a","n/a","n/a","n/a","n/a","n/a","n/a","n/a","n/a","n/a","n/a","n/a","n/a"]
[7.3799999999999901,"Ramps",5,"Weekday 2-Part","7:00 AM-9:00 AM AND 4:00 PM-7:00 PM","Ramps7:00 AM-9:00 AM AND 4:00 PM-7:00 PM","n/a","n/a","n/a","n/a","n/a","n/a","n/a","n/a","n/a","n/a","n/a","n/a","n/a","n/a","n/a","n/a","n/a","n/a","n/a","n/a","n/a","n/a","n/a","n/a","n/a","n/a","n/a","n/a","n/a","n/a","n/a","n/a","n/a","n/a","n/a","n/a","n/a","n/a","n/a","n/a","n/a","n/a","n/a","n/a","n/a","n/a","n/a","n/a","n/a","n/a","n/a","n/a","n/a","n/a","n/a","n/a","n/a","n/a","n/a","n/a","n/a","n/a","n/a","n/a","n/a","n/a","n/a","n/a","n/a","n/a","n/a","n/a"]
[7.3899999999999899,"Ramps",5,"Weekday 2-Part","7:00 AM-9:00 AM AND 3:00 PM-6:00 PM","Ramps7:00 AM-9:00 AM AND 3:00 PM-6:00 PM","n/a","n/a","n/a","n/a","n/a","n/a","n/a","n/a","n/a","n/a","n/a","n/a","n/a","n/a","n/a","n/a","n/a","n/a","n/a","n/a","n/a","n/a","n/a","n/a","n/a","n/a","n/a","n/a","n/a","n/a","n/a","n/a","n/a","n/a","n/a","n/a","n/a","n/a","n/a","n/a","n/a","n/a","n/a","n/a","n/a","n/a","n/a","n/a","n/a","n/a","n/a","n/a","n/a","n/a","n/a","n/a","n/a","n/a","n/a","n/a","n/a","n/a","n/a","n/a","n/a","n/a","n/a","n/a","n/a","n/a","n/a","n/a"]
[7.3999999999999897,"Ramps",4,"Weekday 2-Part","6:00 AM-8:00 AM AND 4:00 PM-6:00 PM","Ramps6:00 AM-8:00 AM AND 4:00 PM-6:00 PM","n/a","n/a","n/a","n/a","n/a","n/a","n/a","n/a","n/a","n/a","n/a","n/a","n/a","n/a","n/a","n/a","n/a","n/a","n/a","n/a","n/a","n/a","n/a","n/a","n/a","n/a","n/a","n/a","n/a","n/a","n/a","n/a","n/a","n/a","n/a","n/a","n/a","n/a","n/a","n/a","n/a","n/a","n/a","n/a","n/a","n/a","n/a","n/a","n/a","n/a","n/a","n/a","n/a","n/a","n/a","n/a","n/a","n/a","n/a","n/a","n/a","n/a","n/a","n/a","n/a","n/a","n/a","n/a","n/a","n/a","n/a","n/a"]
[7.4099999999999904,"Ramps",4,"Weekday 2-Part","6:00 AM-8:00 AM AND 3:00 PM-5:00 PM","Ramps6:00 AM-8:00 AM AND 3:00 PM-5:00 PM","n/a","n/a","n/a","n/a","n/a","n/a","n/a","n/a","n/a","n/a","n/a","n/a","n/a","n/a","n/a","n/a","n/a","n/a","n/a","n/a","n/a","n/a","n/a","n/a","n/a","n/a","n/a","n/a","n/a","n/a","n/a","n/a","n/a","n/a","n/a","n/a","n/a","n/a","n/a","n/a","n/a","n/a","n/a","n/a","n/a","n/a","n/a","n/a","n/a","n/a","n/a","n/a","n/a","n/a","n/a","n/a","n/a","n/a","n/a","n/a","n/a","n/a","n/a","n/a","n/a","n/a","n/a","n/a","n/a","n/a","n/a","n/a"]
[7.4199999999999902,"Ramps",4,"Weekday 2-Part","7:00 AM-9:00 AM AND 4:00 PM-6:00 PM","Ramps7:00 AM-9:00 AM AND 4:00 PM-6:00 PM","n/a","n/a","n/a","n/a","n/a","n/a","n/a","n/a","n/a","n/a","n/a","n/a","n/a","n/a","n/a","n/a","n/a","n/a","n/a","n/a","n/a","n/a","n/a","n/a","n/a","n/a","n/a","n/a","n/a","n/a","n/a","n/a","n/a","n/a","n/a","n/a","n/a","n/a","n/a","n/a","n/a","n/a","n/a","n/a","n/a","n/a","n/a","n/a","n/a","n/a","n/a","n/a","n/a","n/a","n/a","n/a","n/a","n/a","n/a","n/a","n/a","n/a","n/a","n/a","n/a","n/a","n/a","n/a","n/a","n/a","n/a","n/a"]
[7.4299999999999899,"Ramps",4,"Weekday 2-Part","7:00 AM-9:00 AM AND 3:00 PM-5:00 PM","Ramps7:00 AM-9:00 AM AND 3:00 PM-5:00 PM","n/a","n/a","n/a","n/a","n/a","n/a","n/a","n/a","n/a","n/a","n/a","n/a","n/a","n/a","n/a","n/a","n/a","n/a","n/a","n/a","n/a","n/a","n/a","n/a","n/a","n/a","n/a","n/a","n/a","n/a","n/a","n/a","n/a","n/a","n/a","n/a","n/a","n/a","n/a","n/a","n/a","n/a","n/a","n/a","n/a","n/a","n/a","n/a","n/a","n/a","n/a","n/a","n/a","n/a","n/a","n/a","n/a","n/a","n/a","n/a","n/a","n/a","n/a","n/a","n/a","n/a","n/a","n/a","n/a","n/a","n/a","n/a"]
[7.4399999999999897,"Ramps",8,"Weekday 3-Part","6:00 AM-9:00 AM, 11:00 AM-1:00 PM, AND 3:00 PM-6:00 PM","Ramps6:00 AM-9:00 AM, 11:00 AM-1:00 PM, AND 3:00 PM-6:00 PM","n/a","n/a","n/a","n/a","n/a","n/a","n/a","n/a","n/a","n/a","n/a","n/a","n/a","n/a","n/a","n/a","n/a","n/a","n/a","n/a","n/a","n/a","n/a","n/a","n/a","n/a","n/a","n/a","n/a","n/a","n/a","n/a","n/a","n/a","n/a","n/a","n/a","n/a","n/a","n/a","n/a","n/a","n/a","n/a","n/a","n/a","n/a","n/a","n/a","n/a","n/a","n/a","n/a","n/a","n/a","n/a","n/a","n/a","n/a","n/a","n/a","n/a","n/a","n/a","n/a","n/a","n/a","n/a","n/a","n/a","n/a","n/a"]
[7.4499999999999904,"Ramps",4,"Weekend Continuous","9:00 AM-1:00 PM","Ramps9:00 AM-1:00 PM","n/a","n/a","n/a","n/a","n/a","n/a","n/a","n/a","n/a","n/a","n/a","n/a","n/a","n/a","n/a","n/a","n/a","n/a","n/a","n/a","n/a","n/a","n/a","n/a","n/a","n/a","n/a","n/a","n/a","n/a","n/a","n/a","n/a","n/a","n/a","n/a","n/a","n/a","n/a","n/a","n/a","n/a","n/a","n/a","n/a","n/a","n/a","n/a","n/a","n/a","n/a","n/a","n/a","n/a","n/a","n/a","n/a","n/a","n/a","n/a","n/a","n/a","n/a","n/a","n/a","n/a","n/a","n/a","n/a","n/a","n/a","n/a"]
[7.4599999999999902,"Ramps",4,"Weekend Continuous","10:00 AM-2:00 PM","Ramps10:00 AM-2:00 PM","n/a","n/a","n/a","n/a","n/a","n/a","n/a","n/a","n/a","n/a","n/a","n/a","n/a","n/a","n/a","n/a","n/a","n/a","n/a","n/a","n/a","n/a","n/a","n/a","n/a","n/a","n/a","n/a","n/a","n/a","n/a","n/a","n/a","n/a","n/a","n/a","n/a","n/a","n/a","n/a","n/a","n/a","n/a","n/a","n/a","n/a","n/a","n/a","n/a","n/a","n/a","n/a","n/a","n/a","n/a","n/a","n/a","n/a","n/a","n/a","n/a","n/a","n/a","n/a","n/a","n/a","n/a","n/a","n/a","n/a","n/a","n/a"]
[7.46999999999999,"Ramps",4,"Weekend Continuous","11:00 AM-3:00 PM","Ramps11:00 AM-3:00 PM","n/a","n/a","n/a","n/a","n/a","n/a","n/a","n/a","n/a","n/a","n/a","n/a","n/a","n/a","n/a","n/a","n/a","n/a","n/a","n/a","n/a","n/a","n/a","n/a","n/a","n/a","n/a","n/a","n/a","n/a","n/a","n/a","n/a","n/a","n/a","n/a","n/a","n/a","n/a","n/a","n/a","n/a","n/a","n/a","n/a","n/a","n/a","n/a","n/a","n/a","n/a","n/a","n/a","n/a","n/a","n/a","n/a","n/a","n/a","n/a","n/a","n/a","n/a","n/a","n/a","n/a","n/a","n/a","n/a","n/a","n/a","n/a"]
[7.4799999999999898,"Ramps",3,"Weekend Continuous","10:00 AM-1:00 PM","Ramps10:00 AM-1:00 PM","n/a","n/a","n/a","n/a","n/a","n/a","n/a","n/a","n/a","n/a","n/a","n/a","n/a","n/a","n/a","n/a","n/a","n/a","n/a","n/a","n/a","n/a","n/a","n/a","n/a","n/a","n/a","n/a","n/a","n/a","n/a","n/a","n/a","n/a","n/a","n/a","n/a","n/a","n/a","n/a","n/a","n/a","n/a","n/a","n/a","n/a","n/a","n/a","n/a","n/a","n/a","n/a","n/a","n/a","n/a","n/a","n/a","n/a","n/a","n/a","n/a","n/a","n/a","n/a","n/a","n/a","n/a","n/a","n/a","n/a","n/a","n/a"]
[7.4899999999999904,"Ramps",3,"Weekend Continuous","11:00 AM-2:00 PM","Ramps11:00 AM-2:00 PM","n/a","n/a","n/a","n/a","n/a","n/a","n/a","n/a","n/a","n/a","n/a","n/a","n/a","n/a","n/a","n/a","n/a","n/a","n/a","n/a","n/a","n/a","n/a","n/a","n/a","n/a","n/a","n/a","n/a","n/a","n/a","n/a","n/a","n/a","n/a","n/a","n/a","n/a","n/a","n/a","n/a","n/a","n/a","n/a","n/a","n/a","n/a","n/a","n/a","n/a","n/a","n/a","n/a","n/a","n/a","n/a","n/a","n/a","n/a","n/a","n/a","n/a","n/a","n/a","n/a","n/a","n/a","n/a","n/a","n/a","n/a","n/a"]
[7.4999999999999902,"Ramps",2,"Weekend Continuous","11:00 AM-1:00 PM","Ramps11:00 AM-1:00 PM","n/a","n/a","n/a","n/a","n/a","n/a","n/a","n/a","n/a","n/a","n/a","n/a","n/a","n/a","n/a","n/a","n/a","n/a","n/a","n/a","n/a","n/a","n/a","n/a","n/a","n/a","n/a","n/a","n/a","n/a","n/a","n/a","n/a","n/a","n/a","n/a","n/a","n/a","n/a","n/a","n/a","n/a","n/a","n/a","n/a","n/a","n/a","n/a","n/a","n/a","n/a","n/a","n/a","n/a","n/a","n/a","n/a","n/a","n/a","n/a","n/a","n/a","n/a","n/a","n/a","n/a","n/a","n/a","n/a","n/a","n/a","n/a"]
[]
[8.01,"Other",16,"Weekday Continuous","6:00 AM-10:00 PM","Other6:00 AM-10:00 PM","n/a","n/a","n/a","n/a","n/a","n/a","n/a","n/a","n/a","n/a","n/a","n/a","n/a","n/a","n/a","n/a","n/a","n/a","n/a","n/a","n/a","n/a","n/a","n/a","n/a","n/a","n/a","n/a","n/a","n/a","n/a","n/a","n/a","n/a","n/a","n/a","n/a","n/a","n/a","n/a","n/a","n/a","n/a","n/a","n/a","n/a","n/a","n/a","n/a","n/a","n/a","n/a","n/a","n/a","n/a","n/a","n/a","n/a","n/a","n/a","n/a","n/a","n/a","n/a","n/a","n/a","n/a","n/a","n/a","n/a","n/a","n/a"]
[8.02,"Other",15,"Weekday Continuous","6:00 AM-9:00 PM","Other6:00 AM-9:00 PM","n/a","n/a","n/a","n/a","n/a","n/a","n/a","n/a","n/a","n/a","n/a","n/a","n/a","n/a","n/a","n/a","n/a","n/a","n/a","n/a","n/a","n/a","n/a","n/a","n/a","n/a","n/a","n/a","n/a","n/a","n/a","n/a","n/a","n/a","n/a","n/a","n/a","n/a","n/a","n/a","n/a","n/a","n/a","n/a","n/a","n/a","n/a","n/a","n/a","n/a","n/a","n/a","n/a","n/a","n/a","n/a","n/a","n/a","n/a","n/a","n/a","n/a","n/a","n/a","n/a","n/a","n/a","n/a","n/a","n/a","n/a","n/a"]
[8.0299999999999994,"Other",15,"Weekday Continuous","7:00 AM-10:00 PM","Other7:00 AM-10:00 PM","n/a","n/a","n/a","n/a","n/a","n/a","n/a","n/a","n/a","n/a","n/a","n/a","n/a","n/a","n/a","n/a","n/a","n/a","n/a","n/a","n/a","n/a","n/a","n/a","n/a","n/a","n/a","n/a","n/a","n/a","n/a","n/a","n/a","n/a","n/a","n/a","n/a","n/a","n/a","n/a","n/a","n/a","n/a","n/a","n/a","n/a","n/a","n/a","n/a","n/a","n/a","n/a","n/a","n/a","n/a","n/a","n/a","n/a","n/a","n/a","n/a","n/a","n/a","n/a","n/a","n/a","n/a","n/a","n/a","n/a","n/a","n/a"]
[8.0399999999999991,"Other",14,"Weekday Continuous","6:00 AM-8:00 PM","Other6:00 AM-8:00 PM","n/a","n/a","n/a","n/a","n/a","n/a","n/a","n/a","n/a","n/a","n/a","n/a","n/a","n/a","n/a","n/a","n/a","n/a","n/a","n/a","n/a","n/a","n/a","n/a","n/a","n/a","n/a","n/a","n/a","n/a","n/a","n/a","n/a","n/a","n/a","n/a","n/a","n/a","n/a","n/a","n/a","n/a","n/a","n/a","n/a","n/a","n/a","n/a","n/a","n/a","n/a","n/a","n/a","n/a","n/a","n/a","n/a","n/a","n/a","n/a","n/a","n/a","n/a","n/a","n/a","n/a","n/a","n/a","n/a","n/a","n/a","n/a"]
[8.0500000000000007,"Other",14,"Weekday Continuous","7:00 AM-9:00 PM","Other7:00 AM-9:00 PM","n/a","n/a","n/a","n/a","n/a","n/a","n/a","n/a","n/a","n/a","n/a","n/a","n/a","n/a","n/a","n/a","n/a","n/a","n/a","n/a","n/a","n/a","n/a","n/a","n/a","n/a","n/a","n/a","n/a","n/a","n/a","n/a","n/a","n/a","n/a","n/a","n/a","n/a","n/a","n/a","n/a","n/a","n/a","n/a","n/a","n/a","n/a","n/a","n/a","n/a","n/a","n/a","n/a","n/a","n/a","n/a","n/a","n/a","n/a","n/a","n/a","n/a","n/a","n/a","n/a","n/a","n/a","n/a","n/a","n/a","n/a","n/a"]
[8.06,"Other",14,"Weekday Continuous","8:00 AM-10:00 PM","Other8:00 AM-10:00 PM","n/a","n/a","n/a","n/a","n/a","n/a","n/a","n/a","n/a","n/a","n/a","n/a","n/a","n/a","n/a","n/a","n/a","n/a","n/a","n/a","n/a","n/a","n/a","n/a","n/a","n/a","n/a","n/a","n/a","n/a","n/a","n/a","n/a","n/a","n/a","n/a","n/a","n/a","n/a","n/a","n/a","n/a","n/a","n/a","n/a","n/a","n/a","n/a","n/a","n/a","n/a","n/a","n/a","n/a","n/a","n/a","n/a","n/a","n/a","n/a","n/a","n/a","n/a","n/a","n/a","n/a","n/a","n/a","n/a","n/a","n/a","n/a"]
[8.07,"Other",13,"Weekday Continuous","6:00 AM-7:00 PM","Other6:00 AM-7:00 PM","n/a","n/a","n/a","n/a","n/a","n/a","n/a","n/a","n/a","n/a","n/a","n/a","n/a","n/a","n/a","n/a","n/a","n/a","n/a","n/a","n/a","n/a","n/a","n/a","n/a","n/a","n/a","n/a","n/a","n/a","n/a","n/a","n/a","n/a","n/a","n/a","n/a","n/a","n/a","n/a","n/a","n/a","n/a","n/a","n/a","n/a","n/a","n/a","n/a","n/a","n/a","n/a","n/a","n/a","n/a","n/a","n/a","n/a","n/a","n/a","n/a","n/a","n/a","n/a","n/a","n/a","n/a","n/a","n/a","n/a","n/a","n/a"]
[8.08,"Other",13,"Weekday Continuous","7:00 AM-8:00 PM","Other7:00 AM-8:00 PM","n/a","n/a","n/a","n/a","n/a","n/a","n/a","n/a","n/a","n/a","n/a","n/a","n/a","n/a","n/a","n/a","n/a","n/a","n/a","n/a","n/a","n/a","n/a","n/a","n/a","n/a","n/a","n/a","n/a","n/a","n/a","n/a","n/a","n/a","n/a","n/a","n/a","n/a","n/a","n/a","n/a","n/a","n/a","n/a","n/a","n/a","n/a","n/a","n/a","n/a","n/a","n/a","n/a","n/a","n/a","n/a","n/a","n/a","n/a","n/a","n/a","n/a","n/a","n/a","n/a","n/a","n/a","n/a","n/a","n/a","n/a","n/a"]
[8.09,"Other",13,"Weekday Continuous","8:00 AM-9:00 PM","Other8:00 AM-9:00 PM","n/a","n/a","n/a","n/a","n/a","n/a","n/a","n/a","n/a","n/a","n/a","n/a","n/a","n/a","n/a","n/a","n/a","n/a","n/a","n/a","n/a","n/a","n/a","n/a","n/a","n/a","n/a","n/a","n/a","n/a","n/a","n/a","n/a","n/a","n/a","n/a","n/a","n/a","n/a","n/a","n/a","n/a","n/a","n/a","n/a","n/a","n/a","n/a","n/a","n/a","n/a","n/a","n/a","n/a","n/a","n/a","n/a","n/a","n/a","n/a","n/a","n/a","n/a","n/a","n/a","n/a","n/a","n/a","n/a","n/a","n/a","n/a"]
[8.1,"Other",13,"Weekday Continuous","9:00 AM-10:00 PM","Other9:00 AM-10:00 PM","n/a","n/a","n/a","n/a","n/a","n/a","n/a","n/a","n/a","n/a","n/a","n/a","n/a","n/a","n/a","n/a","n/a","n/a","n/a","n/a","n/a","n/a","n/a","n/a","n/a","n/a","n/a","n/a","n/a","n/a","n/a","n/a","n/a","n/a","n/a","n/a","n/a","n/a","n/a","n/a","n/a","n/a","n/a","n/a","n/a","n/a","n/a","n/a","n/a","n/a","n/a","n/a","n/a","n/a","n/a","n/a","n/a","n/a","n/a","n/a","n/a","n/a","n/a","n/a","n/a","n/a","n/a","n/a","n/a","n/a","n/a","n/a"]
[8.11,"Other",12,"Weekday Continuous","6:00 AM-6:00 PM","Other6:00 AM-6:00 PM","n/a","n/a","n/a","n/a","n/a","n/a","n/a","n/a","n/a","n/a","n/a","n/a","n/a","n/a","n/a","n/a","n/a","n/a","n/a","n/a","n/a","n/a","n/a","n/a","n/a","n/a","n/a","n/a","n/a","n/a","n/a","n/a","n/a","n/a","n/a","n/a","n/a","n/a","n/a","n/a","n/a","n/a","n/a","n/a","n/a","n/a","n/a","n/a","n/a","n/a","n/a","n/a","n/a","n/a","n/a","n/a","n/a","n/a","n/a","n/a","n/a","n/a","n/a","n/a","n/a","n/a","n/a","n/a","n/a","n/a","n/a","n/a"]
[8.1199999999999992,"Other",12,"Weekday Continuous","7:00 AM-7:00 PM","Other7:00 AM-7:00 PM","n/a","n/a","n/a","n/a","n/a","n/a","n/a","n/a","n/a","n/a","n/a","n/a","n/a","n/a","n/a","n/a","n/a","n/a","n/a","n/a","n/a","n/a","n/a","n/a","n/a","n/a","n/a","n/a","n/a","n/a","n/a","n/a","n/a","n/a","n/a","n/a","n/a","n/a","n/a","n/a","n/a","n/a","n/a","n/a","n/a","n/a","n/a","n/a","n/a","n/a","n/a","n/a","n/a","n/a","n/a","n/a","n/a","n/a","n/a","n/a","n/a","n/a","n/a","n/a","n/a","n/a","n/a","n/a","n/a","n/a","n/a","n/a"]
[8.1300000000000008,"Other",12,"Weekday Continuous","8:00 AM-8:00 PM","Other8:00 AM-8:00 PM","n/a","n/a","n/a","n/a","n/a","n/a","n/a","n/a","n/a","n/a","n/a","n/a","n/a","n/a","n/a","n/a","n/a","n/a","n/a","n/a","n/a","n/a","n/a","n/a","n/a","n/a","n/a","n/a","n/a","n/a","n/a","n/a","n/a","n/a","n/a","n/a","n/a","n/a","n/a","n/a","n/a","n/a","n/a","n/a","n/a","n/a","n/a","n/a","n/a","n/a","n/a","n/a","n/a","n/a","n/a","n/a","n/a","n/a","n/a","n/a","n/a","n/a","n/a","n/a","n/a","n/a","n/a","n/a","n/a","n/a","n/a","n/a"]
[8.14,"Other",12,"Weekday Continuous","9:00 AM-9:00 PM","Other9:00 AM-9:00 PM","n/a","n/a","n/a","n/a","n/a","n/a","n/a","n/a","n/a","n/a","n/a","n/a","n/a","n/a","n/a","n/a","n/a","n/a","n/a","n/a","n/a","n/a","n/a","n/a","n/a","n/a","n/a","n/a","n/a","n/a","n/a","n/a","n/a","n/a","n/a","n/a","n/a","n/a","n/a","n/a","n/a","n/a","n/a","n/a","n/a","n/a","n/a","n/a","n/a","n/a","n/a","n/a","n/a","n/a","n/a","n/a","n/a","n/a","n/a","n/a","n/a","n/a","n/a","n/a","n/a","n/a","n/a","n/a","n/a","n/a","n/a","n/a"]
[8.15,"Other",12,"Weekday Continuous","10:00 AM-10:00 PM","Other10:00 AM-10:00 PM","n/a","n/a","n/a","n/a","n/a","n/a","n/a","n/a","n/a","n/a","n/a","n/a","n/a","n/a","n/a","n/a","n/a","n/a","n/a","n/a","n/a","n/a","n/a","n/a","n/a","n/a","n/a","n/a","n/a","n/a","n/a","n/a","n/a","n/a","n/a","n/a","n/a","n/a","n/a","n/a","n/a","n/a","n/a","n/a","n/a","n/a","n/a","n/a","n/a","n/a","n/a","n/a","n/a","n/a","n/a","n/a","n/a","n/a","n/a","n/a","n/a","n/a","n/a","n/a","n/a","n/a","n/a","n/a","n/a","n/a","n/a","n/a"]
[8.16,"Other",11,"Weekday Continuous","6:00 AM-5:00 PM","Other6:00 AM-5:00 PM","n/a","n/a","n/a","n/a","n/a","n/a","n/a","n/a","n/a","n/a","n/a","n/a","n/a","n/a","n/a","n/a","n/a","n/a","n/a","n/a","n/a","n/a","n/a","n/a","n/a","n/a","n/a","n/a","n/a","n/a","n/a","n/a","n/a","n/a","n/a","n/a","n/a","n/a","n/a","n/a","n/a","n/a","n/a","n/a","n/a","n/a","n/a","n/a","n/a","n/a","n/a","n/a","n/a","n/a","n/a","n/a","n/a","n/a","n/a","n/a","n/a","n/a","n/a","n/a","n/a","n/a","n/a","n/a","n/a","n/a","n/a","n/a"]
[8.17,"Other",11,"Weekday Continuous","7:00 AM-6:00 PM","Other7:00 AM-6:00 PM","n/a","n/a","n/a","n/a","n/a","n/a","n/a","n/a","n/a","n/a","n/a","n/a","n/a","n/a","n/a","n/a","n/a","n/a","n/a","n/a","n/a","n/a","n/a","n/a","n/a","n/a","n/a","n/a","n/a","n/a","n/a","n/a","n/a","n/a","n/a","n/a","n/a","n/a","n/a","n/a","n/a","n/a","n/a","n/a","n/a","n/a","n/a","n/a","n/a","n/a","n/a","n/a","n/a","n/a","n/a","n/a","n/a","n/a","n/a","n/a","n/a","n/a","n/a","n/a","n/a","n/a","n/a","n/a","n/a","n/a","n/a","n/a"]
[8.18,"Other",11,"Weekday Continuous","8:00 AM-7:00 PM","Other8:00 AM-7:00 PM","n/a","n/a","n/a","n/a","n/a","n/a","n/a","n/a","n/a","n/a","n/a","n/a","n/a","n/a","n/a","n/a","n/a","n/a","n/a","n/a","n/a","n/a","n/a","n/a","n/a","n/a","n/a","n/a","n/a","n/a","n/a","n/a","n/a","n/a","n/a","n/a","n/a","n/a","n/a","n/a","n/a","n/a","n/a","n/a","n/a","n/a","n/a","n/a","n/a","n/a","n/a","n/a","n/a","n/a","n/a","n/a","n/a","n/a","n/a","n/a","n/a","n/a","n/a","n/a","n/a","n/a","n/a","n/a","n/a","n/a","n/a","n/a"]
[8.19,"Other",11,"Weekday Continuous","9:00 AM-8:00 PM","Other9:00 AM-8:00 PM","n/a","n/a","n/a","n/a","n/a","n/a","n/a","n/a","n/a","n/a","n/a","n/a","n/a","n/a","n/a","n/a","n/a","n/a","n/a","n/a","n/a","n/a","n/a","n/a","n/a","n/a","n/a","n/a","n/a","n/a","n/a","n/a","n/a","n/a","n/a","n/a","n/a","n/a","n/a","n/a","n/a","n/a","n/a","n/a","n/a","n/a","n/a","n/a","n/a","n/a","n/a","n/a","n/a","n/a","n/a","n/a","n/a","n/a","n/a","n/a","n/a","n/a","n/a","n/a","n/a","n/a","n/a","n/a","n/a","n/a","n/a","n/a"]
[8.1999999999999993,"Other",10,"Weekday Continuous","6:00 AM-4:00 PM","Other6:00 AM-4:00 PM","n/a","n/a","n/a","n/a","n/a","n/a","n/a","n/a","n/a","n/a","n/a","n/a","n/a","n/a","n/a","n/a","n/a","n/a","n/a","n/a","n/a","n/a","n/a","n/a","n/a","n/a","n/a","n/a","n/a","n/a","n/a","n/a","n/a","n/a","n/a","n/a","n/a","n/a","n/a","n/a","n/a","n/a","n/a","n/a","n/a","n/a","n/a","n/a","n/a","n/a","n/a","n/a","n/a","n/a","n/a","n/a","n/a","n/a","n/a","n/a","n/a","n/a","n/a","n/a","n/a","n/a","n/a","n/a","n/a","n/a","n/a","n/a"]
[8.2100000000000009,"Other",10,"Weekday Continuous","7:00 AM-5:00 PM","Other7:00 AM-5:00 PM","n/a","n/a","n/a","n/a","n/a","n/a","n/a","n/a","n/a","n/a","n/a","n/a","n/a","n/a","n/a","n/a","n/a","n/a","n/a","n/a","n/a","n/a","n/a","n/a","n/a","n/a","n/a","n/a","n/a","n/a","n/a","n/a","n/a","n/a","n/a","n/a","n/a","n/a","n/a","n/a","n/a","n/a","n/a","n/a","n/a","n/a","n/a","n/a","n/a","n/a","n/a","n/a","n/a","n/a","n/a","n/a","n/a","n/a","n/a","n/a","n/a","n/a","n/a","n/a","n/a","n/a","n/a","n/a","n/a","n/a","n/a","n/a"]
[8.2200000000000006,"Other",10,"Weekday Continuous","8:00 AM-6:00 PM","Other8:00 AM-6:00 PM","n/a","n/a","n/a","n/a","n/a","n/a","n/a","n/a","n/a","n/a","n/a","n/a","n/a","n/a","n/a","n/a","n/a","n/a","n/a","n/a","n/a","n/a","n/a","n/a","n/a","n/a","n/a","n/a","n/a","n/a","n/a","n/a","n/a","n/a","n/a","n/a","n/a","n/a","n/a","n/a","n/a","n/a","n/a","n/a","n/a","n/a","n/a","n/a","n/a","n/a","n/a","n/a","n/a","n/a","n/a","n/a","n/a","n/a","n/a","n/a","n/a","n/a","n/a","n/a","n/a","n/a","n/a","n/a","n/a","n/a","n/a","n/a"]
[8.23,"Other",10,"Weekday Continuous","9:00 AM-7:00 PM","Other9:00 AM-7:00 PM","n/a","n/a","n/a","n/a","n/a","n/a","n/a","n/a","n/a","n/a","n/a","n/a","n/a","n/a","n/a","n/a","n/a","n/a","n/a","n/a","n/a","n/a","n/a","n/a","n/a","n/a","n/a","n/a","n/a","n/a","n/a","n/a","n/a","n/a","n/a","n/a","n/a","n/a","n/a","n/a","n/a","n/a","n/a","n/a","n/a","n/a","n/a","n/a","n/a","n/a","n/a","n/a","n/a","n/a","n/a","n/a","n/a","n/a","n/a","n/a","n/a","n/a","n/a","n/a","n/a","n/a","n/a","n/a","n/a","n/a","n/a","n/a"]
[8.2399999999999896,"Other",9,"Weekday Continuous","6:00 AM-3:00 PM","Other6:00 AM-3:00 PM","n/a","n/a","n/a","n/a","n/a","n/a","n/a","n/a","n/a","n/a","n/a","n/a","n/a","n/a","n/a","n/a","n/a","n/a","n/a","n/a","n/a","n/a","n/a","n/a","n/a","n/a","n/a","n/a","n/a","n/a","n/a","n/a","n/a","n/a","n/a","n/a","n/a","n/a","n/a","n/a","n/a","n/a","n/a","n/a","n/a","n/a","n/a","n/a","n/a","n/a","n/a","n/a","n/a","n/a","n/a","n/a","n/a","n/a","n/a","n/a","n/a","n/a","n/a","n/a","n/a","n/a","n/a","n/a","n/a","n/a","n/a","n/a"]
[8.2499999999999893,"Other",9,"Weekday Continuous","7:00 AM-4:00 PM","Other7:00 AM-4:00 PM","n/a","n/a","n/a","n/a","n/a","n/a","n/a","n/a","n/a","n/a","n/a","n/a","n/a","n/a","n/a","n/a","n/a","n/a","n/a","n/a","n/a","n/a","n/a","n/a","n/a","n/a","n/a","n/a","n/a","n/a","n/a","n/a","n/a","n/a","n/a","n/a","n/a","n/a","n/a","n/a","n/a","n/a","n/a","n/a","n/a","n/a","n/a","n/a","n/a","n/a","n/a","n/a","n/a","n/a","n/a","n/a","n/a","n/a","n/a","n/a","n/a","n/a","n/a","n/a","n/a","n/a","n/a","n/a","n/a","n/a","n/a","n/a"]
[8.2599999999999891,"Other",9,"Weekday Continuous","8:00 AM-5:00 PM","Other8:00 AM-5:00 PM","n/a","n/a","n/a","n/a","n/a","n/a","n/a","n/a","n/a","n/a","n/a","n/a","n/a","n/a","n/a","n/a","n/a","n/a","n/a","n/a","n/a","n/a","n/a","n/a","n/a","n/a","n/a","n/a","n/a","n/a","n/a","n/a","n/a","n/a","n/a","n/a","n/a","n/a","n/a","n/a","n/a","n/a","n/a","n/a","n/a","n/a","n/a","n/a","n/a","n/a","n/a","n/a","n/a","n/a","n/a","n/a","n/a","n/a","n/a","n/a","n/a","n/a","n/a","n/a","n/a","n/a","n/a","n/a","n/a","n/a","n/a","n/a"]
[8.2699999999999907,"Other",9,"Weekday Continuous","9:00 AM-6:00 PM","Other9:00 AM-6:00 PM","n/a","n/a","n/a","n/a","n/a","n/a","n/a","n/a","n/a","n/a","n/a","n/a","n/a","n/a","n/a","n/a","n/a","n/a","n/a","n/a","n/a","n/a","n/a","n/a","n/a","n/a","n/a","n/a","n/a","n/a","n/a","n/a","n/a","n/a","n/a","n/a","n/a","n/a","n/a","n/a","n/a","n/a","n/a","n/a","n/a","n/a","n/a","n/a","n/a","n/a","n/a","n/a","n/a","n/a","n/a","n/a","n/a","n/a","n/a","n/a","n/a","n/a","n/a","n/a","n/a","n/a","n/a","n/a","n/a","n/a","n/a","n/a"]
[8.2799999999999905,"Other",8,"Weekday Continuous","6:00 AM-2:00 PM","Other6:00 AM-2:00 PM","n/a","n/a","n/a","n/a","n/a","n/a","n/a","n/a","n/a","n/a","n/a","n/a","n/a","n/a","n/a","n/a","n/a","n/a","n/a","n/a","n/a","n/a","n/a","n/a","n/a","n/a","n/a","n/a","n/a","n/a","n/a","n/a","n/a","n/a","n/a","n/a","n/a","n/a","n/a","n/a","n/a","n/a","n/a","n/a","n/a","n/a","n/a","n/a","n/a","n/a","n/a","n/a","n/a","n/a","n/a","n/a","n/a","n/a","n/a","n/a","n/a","n/a","n/a","n/a","n/a","n/a","n/a","n/a","n/a","n/a","n/a","n/a"]
[8.2899999999999903,"Other",8,"Weekday Continuous","7:00 AM-3:00 PM",{"$f":"CONCATENATE(B392,E392)","v":"Other7:00 AM-3:00 PM"},"n/a","n/a","n/a","n/a","n/a","n/a","n/a","n/a","n/a","n/a","n/a","n/a","n/a","n/a","n/a","n/a","n/a","n/a","n/a","n/a","n/a","n/a","n/a","n/a","n/a","n/a","n/a","n/a","n/a","n/a","n/a","n/a","n/a","n/a","n/a","n/a","n/a","n/a","n/a","n/a","n/a","n/a","n/a","n/a","n/a","n/a","n/a","n/a","n/a","n/a","n/a","n/a","n/a","n/a","n/a","n/a","n/a","n/a","n/a","n/a","n/a","n/a","n/a","n/a","n/a","n/a","n/a","n/a","n/a","n/a","n/a","n/a"]
[8.2999999999999901,"Other",8,"Weekday Continuous","8:00 AM-4:00 PM","Other8:00 AM-4:00 PM","n/a","n/a","n/a","n/a","n/a","n/a","n/a","n/a","n/a","n/a","n/a","n/a","n/a","n/a","n/a","n/a","n/a","n/a","n/a","n/a","n/a","n/a","n/a","n/a","n/a","n/a","n/a","n/a","n/a","n/a","n/a","n/a","n/a","n/a","n/a","n/a","n/a","n/a","n/a","n/a","n/a","n/a","n/a","n/a","n/a","n/a","n/a","n/a","n/a","n/a","n/a","n/a","n/a","n/a","n/a","n/a","n/a","n/a","n/a","n/a","n/a","n/a","n/a","n/a","n/a","n/a","n/a","n/a","n/a","n/a","n/a","n/a"]
[8.3099999999999898,"Other",8,"Weekday Continuous","9:00 AM-5:00 PM","Other9:00 AM-5:00 PM","n/a","n/a","n/a","n/a","n/a","n/a","n/a","n/a","n/a","n/a","n/a","n/a","n/a","n/a","n/a","n/a","n/a","n/a","n/a","n/a","n/a","n/a","n/a","n/a","n/a","n/a","n/a","n/a","n/a","n/a","n/a","n/a","n/a","n/a","n/a","n/a","n/a","n/a","n/a","n/a","n/a","n/a","n/a","n/a","n/a","n/a","n/a","n/a","n/a","n/a","n/a","n/a","n/a","n/a","n/a","n/a","n/a","n/a","n/a","n/a","n/a","n/a","n/a","n/a","n/a","n/a","n/a","n/a","n/a","n/a","n/a","n/a"]
[8.3199999999999896,"Other",6,"Weekday 2-Part","6:00 AM-9:00 AM AND 4:00 PM-7:00 PM","Other6:00 AM-9:00 AM AND 4:00 PM-7:00 PM","n/a","n/a","n/a","n/a","n/a","n/a","n/a","n/a","n/a","n/a","n/a","n/a","n/a","n/a","n/a","n/a","n/a","n/a","n/a","n/a","n/a","n/a","n/a","n/a","n/a","n/a","n/a","n/a","n/a","n/a","n/a","n/a","n/a","n/a","n/a","n/a","n/a","n/a","n/a","n/a","n/a","n/a","n/a","n/a","n/a","n/a","n/a","n/a","n/a","n/a","n/a","n/a","n/a","n/a","n/a","n/a","n/a","n/a","n/a","n/a","n/a","n/a","n/a","n/a","n/a","n/a","n/a","n/a","n/a","n/a","n/a","n/a"]
[8.3299999999999894,"Other",6,"Weekday 2-Part","6:00 AM-9:00 AM AND 3:00 PM-6:00 PM","Other6:00 AM-9:00 AM AND 3:00 PM-6:00 PM","n/a","n/a","n/a","n/a","n/a","n/a","n/a","n/a","n/a","n/a","n/a","n/a","n/a","n/a","n/a","n/a","n/a","n/a","n/a","n/a","n/a","n/a","n/a","n/a","n/a","n/a","n/a","n/a","n/a","n/a","n/a","n/a","n/a","n/a","n/a","n/a","n/a","n/a","n/a","n/a","n/a","n/a","n/a","n/a","n/a","n/a","n/a","n/a","n/a","n/a","n/a","n/a","n/a","n/a","n/a","n/a","n/a","n/a","n/a","n/a","n/a","n/a","n/a","n/a","n/a","n/a","n/a","n/a","n/a","n/a","n/a","n/a"]
[8.3399999999999892,"Other",6,"Weekday 2-Part","7:00 AM-10:00 AM AND 4:00 PM-7:00 PM","Other7:00 AM-10:00 AM AND 4:00 PM-7:00 PM","n/a","n/a","n/a","n/a","n/a","n/a","n/a","n/a","n/a","n/a","n/a","n/a","n/a","n/a","n/a","n/a","n/a","n/a","n/a","n/a","n/a","n/a","n/a","n/a","n/a","n/a","n/a","n/a","n/a","n/a","n/a","n/a","n/a","n/a","n/a","n/a","n/a","n/a","n/a","n/a","n/a","n/a","n/a","n/a","n/a","n/a","n/a","n/a","n/a","n/a","n/a","n/a","n/a","n/a","n/a","n/a","n/a","n/a","n/a","n/a","n/a","n/a","n/a","n/a","n/a","n/a","n/a","n/a","n/a","n/a","n/a","n/a"]
[8.3499999999999908,"Other",6,"Weekday 2-Part","7:00 AM-10:00 AM AND 3:00 PM-6:00 PM","Other7:00 AM-10:00 AM AND 3:00 PM-6:00 PM","n/a","n/a","n/a","n/a","n/a","n/a","n/a","n/a","n/a","n/a","n/a","n/a","n/a","n/a","n/a","n/a","n/a","n/a","n/a","n/a","n/a","n/a","n/a","n/a","n/a","n/a","n/a","n/a","n/a","n/a","n/a","n/a","n/a","n/a","n/a","n/a","n/a","n/a","n/a","n/a","n/a","n/a","n/a","n/a","n/a","n/a","n/a","n/a","n/a","n/a","n/a","n/a","n/a","n/a","n/a","n/a","n/a","n/a","n/a","n/a","n/a","n/a","n/a","n/a","n/a","n/a","n/a","n/a","n/a","n/a","n/a","n/a"]
[8.3599999999999905,"Other",5,"Weekday 2-Part","6:00 AM-8:00 AM AND 4:00 PM-7:00 PM","Other6:00 AM-8:00 AM AND 4:00 PM-7:00 PM","n/a","n/a","n/a","n/a","n/a","n/a","n/a","n/a","n/a","n/a","n/a","n/a","n/a","n/a","n/a","n/a","n/a","n/a","n/a","n/a","n/a","n/a","n/a","n/a","n/a","n/a","n/a","n/a","n/a","n/a","n/a","n/a","n/a","n/a","n/a","n/a","n/a","n/a","n/a","n/a","n/a","n/a","n/a","n/a","n/a","n/a","n/a","n/a","n/a","n/a","n/a","n/a","n/a","n/a","n/a","n/a","n/a","n/a","n/a","n/a","n/a","n/a","n/a","n/a","n/a","n/a","n/a","n/a","n/a","n/a","n/a","n/a"]
[8.3699999999999903,"Other",5,"Weekday 2-Part","6:00 AM-8:00 AM AND 3:00 PM-6:00 PM","Other6:00 AM-8:00 AM AND 3:00 PM-6:00 PM","n/a","n/a","n/a","n/a","n/a","n/a","n/a","n/a","n/a","n/a","n/a","n/a","n/a","n/a","n/a","n/a","n/a","n/a","n/a","n/a","n/a","n/a","n/a","n/a","n/a","n/a","n/a","n/a","n/a","n/a","n/a","n/a","n/a","n/a","n/a","n/a","n/a","n/a","n/a","n/a","n/a","n/a","n/a","n/a","n/a","n/a","n/a","n/a","n/a","n/a","n/a","n/a","n/a","n/a","n/a","n/a","n/a","n/a","n/a","n/a","n/a","n/a","n/a","n/a","n/a","n/a","n/a","n/a","n/a","n/a","n/a","n/a"]
[8.3799999999999901,"Other",5,"Weekday 2-Part","7:00 AM-9:00 AM AND 4:00 PM-7:00 PM","Other7:00 AM-9:00 AM AND 4:00 PM-7:00 PM","n/a","n/a","n/a","n/a","n/a","n/a","n/a","n/a","n/a","n/a","n/a","n/a","n/a","n/a","n/a","n/a","n/a","n/a","n/a","n/a","n/a","n/a","n/a","n/a","n/a","n/a","n/a","n/a","n/a","n/a","n/a","n/a","n/a","n/a","n/a","n/a","n/a","n/a","n/a","n/a","n/a","n/a","n/a","n/a","n/a","n/a","n/a","n/a","n/a","n/a","n/a","n/a","n/a","n/a","n/a","n/a","n/a","n/a","n/a","n/a","n/a","n/a","n/a","n/a","n/a","n/a","n/a","n/a","n/a","n/a","n/a","n/a"]
[8.3899999999999899,"Other",5,"Weekday 2-Part","7:00 AM-9:00 AM AND 3:00 PM-6:00 PM","Other7:00 AM-9:00 AM AND 3:00 PM-6:00 PM","n/a","n/a","n/a","n/a","n/a","n/a","n/a","n/a","n/a","n/a","n/a","n/a","n/a","n/a","n/a","n/a","n/a","n/a","n/a","n/a","n/a","n/a","n/a","n/a","n/a","n/a","n/a","n/a","n/a","n/a","n/a","n/a","n/a","n/a","n/a","n/a","n/a","n/a","n/a","n/a","n/a","n/a","n/a","n/a","n/a","n/a","n/a","n/a","n/a","n/a","n/a","n/a","n/a","n/a","n/a","n/a","n/a","n/a","n/a","n/a","n/a","n/a","n/a","n/a","n/a","n/a","n/a","n/a","n/a","n/a","n/a","n/a"]
[8.3999999999999897,"Other",4,"Weekday 2-Part","6:00 AM-8:00 AM AND 4:00 PM-6:00 PM","Other6:00 AM-8:00 AM AND 4:00 PM-6:00 PM","n/a","n/a","n/a","n/a","n/a","n/a","n/a","n/a","n/a","n/a","n/a","n/a","n/a","n/a","n/a","n/a","n/a","n/a","n/a","n/a","n/a","n/a","n/a","n/a","n/a","n/a","n/a","n/a","n/a","n/a","n/a","n/a","n/a","n/a","n/a","n/a","n/a","n/a","n/a","n/a","n/a","n/a","n/a","n/a","n/a","n/a","n/a","n/a","n/a","n/a","n/a","n/a","n/a","n/a","n/a","n/a","n/a","n/a","n/a","n/a","n/a","n/a","n/a","n/a","n/a","n/a","n/a","n/a","n/a","n/a","n/a","n/a"]
[8.4099999999999895,"Other",4,"Weekday 2-Part","6:00 AM-8:00 AM AND 3:00 PM-5:00 PM","Other6:00 AM-8:00 AM AND 3:00 PM-5:00 PM","n/a","n/a","n/a","n/a","n/a","n/a","n/a","n/a","n/a","n/a","n/a","n/a","n/a","n/a","n/a","n/a","n/a","n/a","n/a","n/a","n/a","n/a","n/a","n/a","n/a","n/a","n/a","n/a","n/a","n/a","n/a","n/a","n/a","n/a","n/a","n/a","n/a","n/a","n/a","n/a","n/a","n/a","n/a","n/a","n/a","n/a","n/a","n/a","n/a","n/a","n/a","n/a","n/a","n/a","n/a","n/a","n/a","n/a","n/a","n/a","n/a","n/a","n/a","n/a","n/a","n/a","n/a","n/a","n/a","n/a","n/a","n/a"]
[8.4199999999999893,"Other",4,"Weekday 2-Part","7:00 AM-9:00 AM AND 4:00 PM-6:00 PM","Other7:00 AM-9:00 AM AND 4:00 PM-6:00 PM","n/a","n/a","n/a","n/a","n/a","n/a","n/a","n/a","n/a","n/a","n/a","n/a","n/a","n/a","n/a","n/a","n/a","n/a","n/a","n/a","n/a","n/a","n/a","n/a","n/a","n/a","n/a","n/a","n/a","n/a","n/a","n/a","n/a","n/a","n/a","n/a","n/a","n/a","n/a","n/a","n/a","n/a","n/a","n/a","n/a","n/a","n/a","n/a","n/a","n/a","n/a","n/a","n/a","n/a","n/a","n/a","n/a","n/a","n/a","n/a","n/a","n/a","n/a","n/a","n/a","n/a","n/a","n/a","n/a","n/a","n/a","n/a"]
[8.4299999999999908,"Other",4,"Weekday 2-Part","7:00 AM-9:00 AM AND 3:00 PM-5:00 PM","Other7:00 AM-9:00 AM AND 3:00 PM-5:00 PM","n/a","n/a","n/a","n/a","n/a","n/a","n/a","n/a","n/a","n/a","n/a","n/a","n/a","n/a","n/a","n/a","n/a","n/a","n/a","n/a","n/a","n/a","n/a","n/a","n/a","n/a","n/a","n/a","n/a","n/a","n/a","n/a","n/a","n/a","n/a","n/a","n/a","n/a","n/a","n/a","n/a","n/a","n/a","n/a","n/a","n/a","n/a","n/a","n/a","n/a","n/a","n/a","n/a","n/a","n/a","n/a","n/a","n/a","n/a","n/a","n/a","n/a","n/a","n/a","n/a","n/a","n/a","n/a","n/a","n/a","n/a","n/a"]
[8.4399999999999906,"Other",8,"Weekday 3-Part","6:00 AM-9:00 AM, 11:00 AM-1:00 PM, AND 3:00 PM-6:00 PM","Other6:00 AM-9:00 AM, 11:00 AM-1:00 PM, AND 3:00 PM-6:00 PM","n/a","n/a","n/a","n/a","n/a","n/a","n/a","n/a","n/a","n/a","n/a","n/a","n/a","n/a","n/a","n/a","n/a","n/a","n/a","n/a","n/a","n/a","n/a","n/a","n/a","n/a","n/a","n/a","n/a","n/a","n/a","n/a","n/a","n/a","n/a","n/a","n/a","n/a","n/a","n/a","n/a","n/a","n/a","n/a","n/a","n/a","n/a","n/a","n/a","n/a","n/a","n/a","n/a","n/a","n/a","n/a","n/a","n/a","n/a","n/a","n/a","n/a","n/a","n/a","n/a","n/a","n/a","n/a","n/a","n/a","n/a","n/a"]
[8.4499999999999904,"Other",4,"Weekend Continuous","9:00 AM-1:00 PM","Other9:00 AM-1:00 PM","n/a","n/a","n/a","n/a","n/a","n/a","n/a","n/a","n/a","n/a","n/a","n/a","n/a","n/a","n/a","n/a","n/a","n/a","n/a","n/a","n/a","n/a","n/a","n/a","n/a","n/a","n/a","n/a","n/a","n/a","n/a","n/a","n/a","n/a","n/a","n/a","n/a","n/a","n/a","n/a","n/a","n/a","n/a","n/a","n/a","n/a","n/a","n/a","n/a","n/a","n/a","n/a","n/a","n/a","n/a","n/a","n/a","n/a","n/a","n/a","n/a","n/a","n/a","n/a","n/a","n/a","n/a","n/a","n/a","n/a","n/a","n/a"]
[8.4599999999999902,"Other",4,"Weekend Continuous","10:00 AM-2:00 PM","Other10:00 AM-2:00 PM","n/a","n/a","n/a","n/a","n/a","n/a","n/a","n/a","n/a","n/a","n/a","n/a","n/a","n/a","n/a","n/a","n/a","n/a","n/a","n/a","n/a","n/a","n/a","n/a","n/a","n/a","n/a","n/a","n/a","n/a","n/a","n/a","n/a","n/a","n/a","n/a","n/a","n/a","n/a","n/a","n/a","n/a","n/a","n/a","n/a","n/a","n/a","n/a","n/a","n/a","n/a","n/a","n/a","n/a","n/a","n/a","n/a","n/a","n/a","n/a","n/a","n/a","n/a","n/a","n/a","n/a","n/a","n/a","n/a","n/a","n/a","n/a"]
[8.46999999999999,"Other",4,"Weekend Continuous","11:00 AM-3:00 PM","Other11:00 AM-3:00 PM","n/a","n/a","n/a","n/a","n/a","n/a","n/a","n/a","n/a","n/a","n/a","n/a","n/a","n/a","n/a","n/a","n/a","n/a","n/a","n/a","n/a","n/a","n/a","n/a","n/a","n/a","n/a","n/a","n/a","n/a","n/a","n/a","n/a","n/a","n/a","n/a","n/a","n/a","n/a","n/a","n/a","n/a","n/a","n/a","n/a","n/a","n/a","n/a","n/a","n/a","n/a","n/a","n/a","n/a","n/a","n/a","n/a","n/a","n/a","n/a","n/a","n/a","n/a","n/a","n/a","n/a","n/a","n/a","n/a","n/a","n/a","n/a"]
[8.4799999999999898,"Other",3,"Weekend Continuous","10:00 AM-1:00 PM","Other10:00 AM-1:00 PM","n/a","n/a","n/a","n/a","n/a","n/a","n/a","n/a","n/a","n/a","n/a","n/a","n/a","n/a","n/a","n/a","n/a","n/a","n/a","n/a","n/a","n/a","n/a","n/a","n/a","n/a","n/a","n/a","n/a","n/a","n/a","n/a","n/a","n/a","n/a","n/a","n/a","n/a","n/a","n/a","n/a","n/a","n/a","n/a","n/a","n/a","n/a","n/a","n/a","n/a","n/a","n/a","n/a","n/a","n/a","n/a","n/a","n/a","n/a","n/a","n/a","n/a","n/a","n/a","n/a","n/a","n/a","n/a","n/a","n/a","n/a","n/a"]
[8.4899999999999896,"Other",3,"Weekend Continuous","11:00 AM-2:00 PM","Other11:00 AM-2:00 PM","n/a","n/a","n/a","n/a","n/a","n/a","n/a","n/a","n/a","n/a","n/a","n/a","n/a","n/a","n/a","n/a","n/a","n/a","n/a","n/a","n/a","n/a","n/a","n/a","n/a","n/a","n/a","n/a","n/a","n/a","n/a","n/a","n/a","n/a","n/a","n/a","n/a","n/a","n/a","n/a","n/a","n/a","n/a","n/a","n/a","n/a","n/a","n/a","n/a","n/a","n/a","n/a","n/a","n/a","n/a","n/a","n/a","n/a","n/a","n/a","n/a","n/a","n/a","n/a","n/a","n/a","n/a","n/a","n/a","n/a","n/a","n/a"]
[8.4999999999999893,"Other",2,"Weekend Continuous","11:00 AM-1:00 PM","Other11:00 AM-1:00 PM","n/a","n/a","n/a","n/a","n/a","n/a","n/a","n/a","n/a","n/a","n/a","n/a","n/a","n/a","n/a","n/a","n/a","n/a","n/a","n/a","n/a","n/a","n/a","n/a","n/a","n/a","n/a","n/a","n/a","n/a","n/a","n/a","n/a","n/a","n/a","n/a","n/a","n/a","n/a","n/a","n/a","n/a","n/a","n/a","n/a","n/a","n/a","n/a","n/a","n/a","n/a","n/a","n/a","n/a","n/a","n/a","n/a","n/a","n/a","n/a","n/a","n/a","n/a","n/a","n/a","n/a","n/a","n/a","n/a","n/a","n/a","n/a"]
[]
[9.01,"County-wide",16,"Weekday Continuous","6:00 AM-10:00 PM","County-wide6:00 AM-10:00 PM","n/a","n/a","n/a","n/a","n/a","n/a","n/a","n/a","n/a","n/a","n/a","n/a","n/a","n/a","n/a","n/a","n/a","n/a","n/a","n/a","n/a","n/a","n/a","n/a","n/a","n/a","n/a","n/a","n/a","n/a","n/a","n/a","n/a","n/a","n/a","n/a","n/a","n/a","n/a","n/a","n/a","n/a","n/a","n/a","n/a","n/a","n/a","n/a","n/a","n/a","n/a","n/a","n/a","n/a","n/a","n/a","n/a","n/a","n/a","n/a","n/a","n/a","n/a","n/a","n/a","n/a","n/a","n/a","n/a","n/a","n/a","n/a"]
[9.02,"County-wide",15,"Weekday Continuous","6:00 AM-9:00 PM","County-wide6:00 AM-9:00 PM","n/a","n/a","n/a","n/a","n/a","n/a","n/a","n/a","n/a","n/a","n/a","n/a","n/a","n/a","n/a","n/a","n/a","n/a","n/a","n/a","n/a","n/a","n/a","n/a","n/a","n/a","n/a","n/a","n/a","n/a","n/a","n/a","n/a","n/a","n/a","n/a","n/a","n/a","n/a","n/a","n/a","n/a","n/a","n/a","n/a","n/a","n/a","n/a","n/a","n/a","n/a","n/a","n/a","n/a","n/a","n/a","n/a","n/a","n/a","n/a","n/a","n/a","n/a","n/a","n/a","n/a","n/a","n/a","n/a","n/a","n/a","n/a"]
[9.0299999999999994,"County-wide",15,"Weekday Continuous","7:00 AM-10:00 PM","County-wide7:00 AM-10:00 PM","n/a","n/a","n/a","n/a","n/a","n/a","n/a","n/a","n/a","n/a","n/a","n/a","n/a","n/a","n/a","n/a","n/a","n/a","n/a","n/a","n/a","n/a","n/a","n/a","n/a","n/a","n/a","n/a","n/a","n/a","n/a","n/a","n/a","n/a","n/a","n/a","n/a","n/a","n/a","n/a","n/a","n/a","n/a","n/a","n/a","n/a","n/a","n/a","n/a","n/a","n/a","n/a","n/a","n/a","n/a","n/a","n/a","n/a","n/a","n/a","n/a","n/a","n/a","n/a","n/a","n/a","n/a","n/a","n/a","n/a","n/a","n/a"]
[9.0399999999999991,"County-wide",14,"Weekday Continuous","6:00 AM-8:00 PM","County-wide6:00 AM-8:00 PM","n/a","n/a","n/a","n/a","n/a","n/a","n/a","n/a","n/a","n/a","n/a","n/a","n/a","n/a","n/a","n/a","n/a","n/a","n/a","n/a","n/a","n/a","n/a","n/a","n/a","n/a","n/a","n/a","n/a","n/a","n/a","n/a","n/a","n/a","n/a","n/a","n/a","n/a","n/a","n/a","n/a","n/a","n/a","n/a","n/a","n/a","n/a","n/a","n/a","n/a","n/a","n/a","n/a","n/a","n/a","n/a","n/a","n/a","n/a","n/a","n/a","n/a","n/a","n/a","n/a","n/a","n/a","n/a","n/a","n/a","n/a","n/a"]
[9.0500000000000007,"County-wide",14,"Weekday Continuous","7:00 AM-9:00 PM","County-wide7:00 AM-9:00 PM","n/a","n/a","n/a","n/a","n/a","n/a","n/a","n/a","n/a","n/a","n/a","n/a","n/a","n/a","n/a","n/a","n/a","n/a","n/a","n/a","n/a","n/a","n/a","n/a","n/a","n/a","n/a","n/a","n/a","n/a","n/a","n/a","n/a","n/a","n/a","n/a","n/a","n/a","n/a","n/a","n/a","n/a","n/a","n/a","n/a","n/a","n/a","n/a","n/a","n/a","n/a","n/a","n/a","n/a","n/a","n/a","n/a","n/a","n/a","n/a","n/a","n/a","n/a","n/a","n/a","n/a","n/a","n/a","n/a","n/a","n/a","n/a"]
[9.06,"County-wide",14,"Weekday Continuous","8:00 AM-10:00 PM","County-wide8:00 AM-10:00 PM","n/a","n/a","n/a","n/a","n/a","n/a","n/a","n/a","n/a","n/a","n/a","n/a","n/a","n/a","n/a","n/a","n/a","n/a","n/a","n/a","n/a","n/a","n/a","n/a","n/a","n/a","n/a","n/a","n/a","n/a","n/a","n/a","n/a","n/a","n/a","n/a","n/a","n/a","n/a","n/a","n/a","n/a","n/a","n/a","n/a","n/a","n/a","n/a","n/a","n/a","n/a","n/a","n/a","n/a","n/a","n/a","n/a","n/a","n/a","n/a","n/a","n/a","n/a","n/a","n/a","n/a","n/a","n/a","n/a","n/a","n/a","n/a"]
[9.07,"County-wide",13,"Weekday Continuous","6:00 AM-7:00 PM","County-wide6:00 AM-7:00 PM",1.258,1.238,1.1859999999999999,1.2410000000000001,1.2130000000000001,1.228,1.194,"n/a","n/a","n/a","n/a","n/a","n/a","n/a","n/a","n/a","n/a","n/a","n/a","n/a","n/a","n/a","n/a","n/a","n/a","n/a","n/a","n/a","n/a","n/a","n/a","n/a","n/a","n/a","n/a","n/a","n/a","n/a","n/a","n/a","n/a","n/a","n/a","n/a","n/a","n/a","n/a","n/a","n/a","n/a","n/a","n/a","n/a","n/a","n/a","n/a","n/a","n/a","n/a","n/a","n/a","n/a","n/a","n/a","n/a","n/a","n/a","n/a","n/a","n/a","n/a","n/a"]
[9.08,"County-wide",13,"Weekday Continuous","7:00 AM-8:00 PM","County-wide7:00 AM-8:00 PM","n/a","n/a","n/a","n/a","n/a","n/a","n/a","n/a","n/a","n/a","n/a","n/a","n/a","n/a","n/a","n/a","n/a","n/a","n/a","n/a","n/a","n/a","n/a","n/a","n/a","n/a","n/a","n/a","n/a","n/a","n/a","n/a","n/a","n/a","n/a","n/a","n/a","n/a","n/a","n/a","n/a","n/a","n/a","n/a","n/a","n/a","n/a","n/a","n/a","n/a","n/a","n/a","n/a","n/a","n/a","n/a","n/a","n/a","n/a","n/a","n/a","n/a","n/a","n/a","n/a","n/a","n/a","n/a","n/a","n/a","n/a","n/a"]
[9.09,"County-wide",13,"Weekday Continuous","8:00 AM-9:00 PM","County-wide8:00 AM-9:00 PM","n/a","n/a","n/a","n/a","n/a","n/a","n/a","n/a","n/a","n/a","n/a","n/a","n/a","n/a","n/a","n/a","n/a","n/a","n/a","n/a","n/a","n/a","n/a","n/a","n/a","n/a","n/a","n/a","n/a","n/a","n/a","n/a","n/a","n/a","n/a","n/a","n/a","n/a","n/a","n/a","n/a","n/a","n/a","n/a","n/a","n/a","n/a","n/a","n/a","n/a","n/a","n/a","n/a","n/a","n/a","n/a","n/a","n/a","n/a","n/a","n/a","n/a","n/a","n/a","n/a","n/a","n/a","n/a","n/a","n/a","n/a","n/a"]
[9.1,"County-wide",13,"Weekday Continuous","9:00 AM-10:00 PM","County-wide9:00 AM-10:00 PM","n/a","n/a","n/a","n/a","n/a","n/a","n/a","n/a","n/a","n/a","n/a","n/a","n/a","n/a","n/a","n/a","n/a","n/a","n/a","n/a","n/a","n/a","n/a","n/a","n/a","n/a","n/a","n/a","n/a","n/a","n/a","n/a","n/a","n/a","n/a","n/a","n/a","n/a","n/a","n/a","n/a","n/a","n/a","n/a","n/a","n/a","n/a","n/a","n/a","n/a","n/a","n/a","n/a","n/a","n/a","n/a","n/a","n/a","n/a","n/a","n/a","n/a","n/a","n/a","n/a","n/a","n/a","n/a","n/a","n/a","n/a","n/a"]
[9.11,"County-wide",12,"Weekday Continuous","6:00 AM-6:00 PM","County-wide6:00 AM-6:00 PM",1.3660000000000001,1.337,1.2809999999999999,1.339,1.302,1.331,1.294,"n/a","n/a","n/a","n/a","n/a","n/a","n/a","n/a","n/a","n/a","n/a","n/a","n/a","n/a","n/a","n/a","n/a","n/a","n/a","n/a","n/a","n/a","n/a","n/a","n/a","n/a","n/a","n/a","n/a","n/a","n/a","n/a","n/a","n/a","n/a","n/a","n/a","n/a","n/a","n/a","n/a","n/a","n/a","n/a","n/a","n/a","n/a","n/a","n/a","n/a","n/a","n/a","n/a","n/a","n/a","n/a","n/a","n/a","n/a","n/a","n/a","n/a","n/a","n/a","n/a"]
[9.1199999999999992,"County-wide",12,"Weekday Continuous","7:00 AM-7:00 PM","County-wide7:00 AM-7:00 PM","n/a","n/a","n/a","n/a","n/a","n/a","n/a","n/a","n/a","n/a","n/a","n/a","n/a","n/a","n/a","n/a","n/a","n/a","n/a","n/a","n/a","n/a","n/a","n/a","n/a","n/a","n/a","n/a","n/a","n/a","n/a","n/a","n/a","n/a","n/a","n/a","n/a","n/a","n/a","n/a","n/a","n/a","n/a","n/a","n/a","n/a","n/a","n/a","n/a","n/a","n/a","n/a","n/a","n/a","n/a","n/a","n/a","n/a","n/a","n/a","n/a","n/a","n/a","n/a","n/a","n/a","n/a","n/a","n/a","n/a","n/a","n/a"]
[9.1300000000000008,"County-wide",12,"Weekday Continuous","8:00 AM-8:00 PM","County-wide8:00 AM-8:00 PM","n/a","n/a","n/a","n/a","n/a","n/a","n/a","n/a","n/a","n/a","n/a","n/a","n/a","n/a","n/a","n/a","n/a","n/a","n/a","n/a","n/a","n/a","n/a","n/a","n/a","n/a","n/a","n/a","n/a","n/a","n/a","n/a","n/a","n/a","n/a","n/a","n/a","n/a","n/a","n/a","n/a","n/a","n/a","n/a","n/a","n/a","n/a","n/a","n/a","n/a","n/a","n/a","n/a","n/a","n/a","n/a","n/a","n/a","n/a","n/a","n/a","n/a","n/a","n/a","n/a","n/a","n/a","n/a","n/a","n/a","n/a","n/a"]
[9.14,"County-wide",12,"Weekday Continuous","9:00 AM-9:00 PM","County-wide9:00 AM-9:00 PM","n/a","n/a","n/a","n/a","n/a","n/a","n/a","n/a","n/a","n/a","n/a","n/a","n/a","n/a","n/a","n/a","n/a","n/a","n/a","n/a","n/a","n/a","n/a","n/a","n/a","n/a","n/a","n/a","n/a","n/a","n/a","n/a","n/a","n/a","n/a","n/a","n/a","n/a","n/a","n/a","n/a","n/a","n/a","n/a","n/a","n/a","n/a","n/a","n/a","n/a","n/a","n/a","n/a","n/a","n/a","n/a","n/a","n/a","n/a","n/a","n/a","n/a","n/a","n/a","n/a","n/a","n/a","n/a","n/a","n/a","n/a","n/a"]
[9.15,"County-wide",12,"Weekday Continuous","10:00 AM-10:00 PM","County-wide10:00 AM-10:00 PM","n/a","n/a","n/a","n/a","n/a","n/a","n/a","n/a","n/a","n/a","n/a","n/a","n/a","n/a","n/a","n/a","n/a","n/a","n/a","n/a","n/a","n/a","n/a","n/a","n/a","n/a","n/a","n/a","n/a","n/a","n/a","n/a","n/a","n/a","n/a","n/a","n/a","n/a","n/a","n/a","n/a","n/a","n/a","n/a","n/a","n/a","n/a","n/a","n/a","n/a","n/a","n/a","n/a","n/a","n/a","n/a","n/a","n/a","n/a","n/a","n/a","n/a","n/a","n/a","n/a","n/a","n/a","n/a","n/a","n/a","n/a","n/a"]
[9.16,"County-wide",11,"Weekday Continuous","6:00 AM-5:00 PM","County-wide6:00 AM-5:00 PM","n/a","n/a","n/a","n/a","n/a","n/a","n/a","n/a","n/a","n/a","n/a","n/a","n/a","n/a","n/a","n/a","n/a","n/a","n/a","n/a","n/a","n/a","n/a","n/a","n/a","n/a","n/a","n/a","n/a","n/a","n/a","n/a","n/a","n/a","n/a","n/a","n/a","n/a","n/a","n/a","n/a","n/a","n/a","n/a","n/a","n/a","n/a","n/a","n/a","n/a","n/a","n/a","n/a","n/a","n/a","n/a","n/a","n/a","n/a","n/a","n/a","n/a","n/a","n/a","n/a","n/a","n/a","n/a","n/a","n/a","n/a","n/a"]
[9.17,"County-wide",11,"Weekday Continuous","7:00 AM-6:00 PM","County-wide7:00 AM-6:00 PM","n/a","n/a","n/a","n/a","n/a","n/a","n/a","n/a","n/a","n/a","n/a","n/a","n/a","n/a","n/a","n/a","n/a","n/a","n/a","n/a","n/a","n/a","n/a","n/a","n/a","n/a","n/a","n/a","n/a","n/a","n/a","n/a","n/a","n/a","n/a","n/a","n/a","n/a","n/a","n/a","n/a","n/a","n/a","n/a","n/a","n/a","n/a","n/a","n/a","n/a","n/a","n/a","n/a","n/a","n/a","n/a","n/a","n/a","n/a","n/a","n/a","n/a","n/a","n/a","n/a","n/a","n/a","n/a","n/a","n/a","n/a","n/a"]
[9.18,"County-wide",11,"Weekday Continuous","8:00 AM-7:00 PM","County-wide8:00 AM-7:00 PM","n/a","n/a","n/a","n/a","n/a","n/a","n/a","n/a","n/a","n/a","n/a","n/a","n/a","n/a","n/a","n/a","n/a","n/a","n/a","n/a","n/a","n/a","n/a","n/a","n/a","n/a","n/a","n/a","n/a","n/a","n/a","n/a","n/a","n/a","n/a","n/a","n/a","n/a","n/a","n/a","n/a","n/a","n/a","n/a","n/a","n/a","n/a","n/a","n/a","n/a","n/a","n/a","n/a","n/a","n/a","n/a","n/a","n/a","n/a","n/a","n/a","n/a","n/a","n/a","n/a","n/a","n/a","n/a","n/a","n/a","n/a","n/a"]
[9.19,"County-wide",11,"Weekday Continuous","9:00 AM-8:00 PM","County-wide9:00 AM-8:00 PM","n/a","n/a","n/a","n/a","n/a","n/a","n/a","n/a","n/a","n/a","n/a","n/a","n/a","n/a","n/a","n/a","n/a","n/a","n/a","n/a","n/a","n/a","n/a","n/a","n/a","n/a","n/a","n/a","n/a","n/a","n/a","n/a","n/a","n/a","n/a","n/a","n/a","n/a","n/a","n/a","n/a","n/a","n/a","n/a","n/a","n/a","n/a","n/a","n/a","n/a","n/a","n/a","n/a","n/a","n/a","n/a","n/a","n/a","n/a","n/a","n/a","n/a","n/a","n/a","n/a","n/a","n/a","n/a","n/a","n/a","n/a","n/a"]
[9.1999999999999993,"County-wide",10,"Weekday Continuous","6:00 AM-4:00 PM","County-wide6:00 AM-4:00 PM","n/a","n/a","n/a","n/a","n/a","n/a","n/a","n/a","n/a","n/a","n/a","n/a","n/a","n/a","n/a","n/a","n/a","n/a","n/a","n/a","n/a","n/a","n/a","n/a","n/a","n/a","n/a","n/a","n/a","n/a","n/a","n/a","n/a","n/a","n/a","n/a","n/a","n/a","n/a","n/a","n/a","n/a","n/a","n/a","n/a","n/a","n/a","n/a","n/a","n/a","n/a","n/a","n/a","n/a","n/a","n/a","n/a","n/a","n/a","n/a","n/a","n/a","n/a","n/a","n/a","n/a","n/a","n/a","n/a","n/a","n/a","n/a"]
[9.2100000000000009,"County-wide",10,"Weekday Continuous","7:00 AM-5:00 PM","County-wide7:00 AM-5:00 PM","n/a","n/a","n/a","n/a","n/a","n/a","n/a","n/a","n/a","n/a","n/a","n/a","n/a","n/a","n/a","n/a","n/a","n/a","n/a","n/a","n/a","n/a","n/a","n/a","n/a","n/a","n/a","n/a","n/a","n/a","n/a","n/a","n/a","n/a","n/a","n/a","n/a","n/a","n/a","n/a","n/a","n/a","n/a","n/a","n/a","n/a","n/a","n/a","n/a","n/a","n/a","n/a","n/a","n/a","n/a","n/a","n/a","n/a","n/a","n/a","n/a","n/a","n/a","n/a","n/a","n/a","n/a","n/a","n/a","n/a","n/a","n/a"]
[9.2200000000000006,"County-wide",10,"Weekday Continuous","8:00 AM-6:00 PM","County-wide8:00 AM-6:00 PM","n/a","n/a","n/a","n/a","n/a","n/a","n/a","n/a","n/a","n/a","n/a","n/a","n/a","n/a","n/a","n/a","n/a","n/a","n/a","n/a","n/a","n/a","n/a","n/a","n/a","n/a","n/a","n/a","n/a","n/a","n/a","n/a","n/a","n/a","n/a","n/a","n/a","n/a","n/a","n/a","n/a","n/a","n/a","n/a","n/a","n/a","n/a","n/a","n/a","n/a","n/a","n/a","n/a","n/a","n/a","n/a","n/a","n/a","n/a","n/a","n/a","n/a","n/a","n/a","n/a","n/a","n/a","n/a","n/a","n/a","n/a","n/a"]
[9.23,"County-wide",10,"Weekday Continuous","9:00 AM-7:00 PM","County-wide9:00 AM-7:00 PM","n/a","n/a","n/a","n/a","n/a","n/a","n/a","n/a","n/a","n/a","n/a","n/a","n/a","n/a","n/a","n/a","n/a","n/a","n/a","n/a","n/a","n/a","n/a","n/a","n/a","n/a","n/a","n/a","n/a","n/a","n/a","n/a","n/a","n/a","n/a","n/a","n/a","n/a","n/a","n/a","n/a","n/a","n/a","n/a","n/a","n/a","n/a","n/a","n/a","n/a","n/a","n/a","n/a","n/a","n/a","n/a","n/a","n/a","n/a","n/a","n/a","n/a","n/a","n/a","n/a","n/a","n/a","n/a","n/a","n/a","n/a","n/a"]
[9.2399999999999896,"County-wide",9,"Weekday Continuous","6:00 AM-3:00 PM","County-wide6:00 AM-3:00 PM","n/a","n/a","n/a","n/a","n/a","n/a","n/a","n/a","n/a","n/a","n/a","n/a","n/a","n/a","n/a","n/a","n/a","n/a","n/a","n/a","n/a","n/a","n/a","n/a","n/a","n/a","n/a","n/a","n/a","n/a","n/a","n/a","n/a","n/a","n/a","n/a","n/a","n/a","n/a","n/a","n/a","n/a","n/a","n/a","n/a","n/a","n/a","n/a","n/a","n/a","n/a","n/a","n/a","n/a","n/a","n/a","n/a","n/a","n/a","n/a","n/a","n/a","n/a","n/a","n/a","n/a","n/a","n/a","n/a","n/a","n/a","n/a"]
[9.2499999999999893,"County-wide",9,"Weekday Continuous","7:00 AM-4:00 PM","County-wide7:00 AM-4:00 PM","n/a","n/a","n/a","n/a","n/a","n/a","n/a","n/a","n/a","n/a","n/a","n/a","n/a","n/a","n/a","n/a","n/a","n/a","n/a","n/a","n/a","n/a","n/a","n/a","n/a","n/a","n/a","n/a","n/a","n/a","n/a","n/a","n/a","n/a","n/a","n/a","n/a","n/a","n/a","n/a","n/a","n/a","n/a","n/a","n/a","n/a","n/a","n/a","n/a","n/a","n/a","n/a","n/a","n/a","n/a","n/a","n/a","n/a","n/a","n/a","n/a","n/a","n/a","n/a","n/a","n/a","n/a","n/a","n/a","n/a","n/a","n/a"]
[9.2599999999999891,"County-wide",9,"Weekday Continuous","8:00 AM-5:00 PM","County-wide8:00 AM-5:00 PM","n/a","n/a","n/a","n/a","n/a","n/a","n/a","n/a","n/a","n/a","n/a","n/a","n/a","n/a","n/a","n/a","n/a","n/a","n/a","n/a","n/a","n/a","n/a","n/a","n/a","n/a","n/a","n/a","n/a","n/a","n/a","n/a","n/a","n/a","n/a","n/a","n/a","n/a","n/a","n/a","n/a","n/a","n/a","n/a","n/a","n/a","n/a","n/a","n/a","n/a","n/a","n/a","n/a","n/a","n/a","n/a","n/a","n/a","n/a","n/a","n/a","n/a","n/a","n/a","n/a","n/a","n/a","n/a","n/a","n/a","n/a","n/a"]
[9.2699999999999907,"County-wide",9,"Weekday Continuous","9:00 AM-6:00 PM","County-wide9:00 AM-6:00 PM","n/a","n/a","n/a","n/a","n/a","n/a","n/a","n/a","n/a","n/a","n/a","n/a","n/a","n/a","n/a","n/a","n/a","n/a","n/a","n/a","n/a","n/a","n/a","n/a","n/a","n/a","n/a","n/a","n/a","n/a","n/a","n/a","n/a","n/a","n/a","n/a","n/a","n/a","n/a","n/a","n/a","n/a","n/a","n/a","n/a","n/a","n/a","n/a","n/a","n/a","n/a","n/a","n/a","n/a","n/a","n/a","n/a","n/a","n/a","n/a","n/a","n/a","n/a","n/a","n/a","n/a","n/a","n/a","n/a","n/a","n/a","n/a"]
[9.2799999999999905,"County-wide",8,"Weekday Continuous","6:00 AM-2:00 PM","County-wide6:00 AM-2:00 PM","n/a","n/a","n/a","n/a","n/a","n/a","n/a","n/a","n/a","n/a","n/a","n/a","n/a","n/a","n/a","n/a","n/a","n/a","n/a","n/a","n/a","n/a","n/a","n/a","n/a","n/a","n/a","n/a","n/a","n/a","n/a","n/a","n/a","n/a","n/a","n/a","n/a","n/a","n/a","n/a","n/a","n/a","n/a","n/a","n/a","n/a","n/a","n/a","n/a","n/a","n/a","n/a","n/a","n/a","n/a","n/a","n/a","n/a","n/a","n/a","n/a","n/a","n/a","n/a","n/a","n/a","n/a","n/a","n/a","n/a","n/a","n/a"]
[9.2899999999999903,"County-wide",8,"Weekday Continuous","7:00 AM-3:00 PM","County-wide7:00 AM-3:00 PM","n/a","n/a","n/a","n/a","n/a","n/a","n/a","n/a","n/a","n/a","n/a","n/a","n/a","n/a","n/a","n/a","n/a","n/a","n/a","n/a","n/a","n/a","n/a","n/a","n/a","n/a","n/a","n/a","n/a","n/a","n/a","n/a","n/a","n/a","n/a","n/a","n/a","n/a","n/a","n/a","n/a","n/a","n/a","n/a","n/a","n/a","n/a","n/a","n/a","n/a","n/a","n/a","n/a","n/a","n/a","n/a","n/a","n/a","n/a","n/a","n/a","n/a","n/a","n/a","n/a","n/a","n/a","n/a","n/a","n/a","n/a","n/a"]
[9.2999999999999901,"County-wide",8,"Weekday Continuous","8:00 AM-4:00 PM","County-wide8:00 AM-4:00 PM","n/a","n/a","n/a","n/a","n/a","n/a","n/a","n/a","n/a","n/a","n/a","n/a","n/a","n/a","n/a","n/a","n/a","n/a","n/a","n/a","n/a","n/a","n/a","n/a","n/a","n/a","n/a","n/a","n/a","n/a","n/a","n/a","n/a","n/a","n/a","n/a","n/a","n/a","n/a","n/a","n/a","n/a","n/a","n/a","n/a","n/a","n/a","n/a","n/a","n/a","n/a","n/a","n/a","n/a","n/a","n/a","n/a","n/a","n/a","n/a","n/a","n/a","n/a","n/a","n/a","n/a","n/a","n/a","n/a","n/a","n/a","n/a"]
[9.3099999999999898,"County-wide",8,"Weekday Continuous","9:00 AM-5:00 PM","County-wide9:00 AM-5:00 PM","n/a","n/a","n/a","n/a","n/a","n/a","n/a","n/a","n/a","n/a","n/a","n/a","n/a","n/a","n/a","n/a","n/a","n/a","n/a","n/a","n/a","n/a","n/a","n/a","n/a","n/a","n/a","n/a","n/a","n/a","n/a","n/a","n/a","n/a","n/a","n/a","n/a","n/a","n/a","n/a","n/a","n/a","n/a","n/a","n/a","n/a","n/a","n/a","n/a","n/a","n/a","n/a","n/a","n/a","n/a","n/a","n/a","n/a","n/a","n/a","n/a","n/a","n/a","n/a","n/a","n/a","n/a","n/a","n/a","n/a","n/a","n/a"]
[9.3199999999999896,"County-wide",6,"Weekday 2-Part","6:00 AM-9:00 AM AND 4:00 PM-7:00 PM","County-wide6:00 AM-9:00 AM AND 4:00 PM-7:00 PM","n/a","n/a","n/a","n/a","n/a","n/a","n/a","n/a","n/a","n/a","n/a","n/a","n/a","n/a","n/a","n/a","n/a","n/a","n/a","n/a","n/a","n/a","n/a","n/a","n/a","n/a","n/a","n/a","n/a","n/a","n/a","n/a","n/a","n/a","n/a","n/a","n/a","n/a","n/a","n/a","n/a","n/a","n/a","n/a","n/a","n/a","n/a","n/a","n/a","n/a","n/a","n/a","n/a","n/a","n/a","n/a","n/a","n/a","n/a","n/a","n/a","n/a","n/a","n/a","n/a","n/a","n/a","n/a","n/a","n/a","n/a","n/a"]
[9.3299999999999894,"County-wide",6,"Weekday 2-Part","6:00 AM-9:00 AM AND 3:00 PM-6:00 PM","County-wide6:00 AM-9:00 AM AND 3:00 PM-6:00 PM","n/a","n/a","n/a","n/a","n/a","n/a","n/a","n/a","n/a","n/a","n/a","n/a","n/a","n/a","n/a","n/a","n/a","n/a","n/a","n/a","n/a","n/a","n/a","n/a","n/a","n/a","n/a","n/a","n/a","n/a","n/a","n/a","n/a","n/a","n/a","n/a","n/a","n/a","n/a","n/a","n/a","n/a","n/a","n/a","n/a","n/a","n/a","n/a","n/a","n/a","n/a","n/a","n/a","n/a","n/a","n/a","n/a","n/a","n/a","n/a","n/a","n/a","n/a","n/a","n/a","n/a","n/a","n/a","n/a","n/a","n/a","n/a"]
[9.3399999999999892,"County-wide",6,"Weekday 2-Part","7:00 AM-10:00 AM AND 4:00 PM-7:00 PM","County-wide7:00 AM-10:00 AM AND 4:00 PM-7:00 PM","n/a","n/a","n/a","n/a","n/a","n/a","n/a","n/a","n/a","n/a","n/a","n/a","n/a","n/a","n/a","n/a","n/a","n/a","n/a","n/a","n/a","n/a","n/a","n/a","n/a","n/a","n/a","n/a","n/a","n/a","n/a","n/a","n/a","n/a","n/a","n/a","n/a","n/a","n/a","n/a","n/a","n/a","n/a","n/a","n/a","n/a","n/a","n/a","n/a","n/a","n/a","n/a","n/a","n/a","n/a","n/a","n/a","n/a","n/a","n/a","n/a","n/a","n/a","n/a","n/a","n/a","n/a","n/a","n/a","n/a","n/a","n/a"]
[9.3499999999999908,"County-wide",6,"Weekday 2-Part","7:00 AM-10:00 AM AND 3:00 PM-6:00 PM","County-wide7:00 AM-10:00 AM AND 3:00 PM-6:00 PM","n/a","n/a","n/a","n/a","n/a","n/a","n/a","n/a","n/a","n/a","n/a","n/a","n/a","n/a","n/a","n/a","n/a","n/a","n/a","n/a","n/a","n/a","n/a","n/a","n/a","n/a","n/a","n/a","n/a","n/a","n/a","n/a","n/a","n/a","n/a","n/a","n/a","n/a","n/a","n/a","n/a","n/a","n/a","n/a","n/a","n/a","n/a","n/a","n/a","n/a","n/a","n/a","n/a","n/a","n/a","n/a","n/a","n/a","n/a","n/a","n/a","n/a","n/a","n/a","n/a","n/a","n/a","n/a","n/a","n/a","n/a","n/a"]
[9.3599999999999905,"County-wide",5,"Weekday 2-Part","6:00 AM-8:00 AM AND 4:00 PM-7:00 PM","County-wide6:00 AM-8:00 AM AND 4:00 PM-7:00 PM","n/a","n/a","n/a","n/a","n/a","n/a","n/a","n/a","n/a","n/a","n/a","n/a","n/a","n/a","n/a","n/a","n/a","n/a","n/a","n/a","n/a","n/a","n/a","n/a","n/a","n/a","n/a","n/a","n/a","n/a","n/a","n/a","n/a","n/a","n/a","n/a","n/a","n/a","n/a","n/a","n/a","n/a","n/a","n/a","n/a","n/a","n/a","n/a","n/a","n/a","n/a","n/a","n/a","n/a","n/a","n/a","n/a","n/a","n/a","n/a","n/a","n/a","n/a","n/a","n/a","n/a","n/a","n/a","n/a","n/a","n/a","n/a"]
[9.3699999999999903,"County-wide",5,"Weekday 2-Part","6:00 AM-8:00 AM AND 3:00 PM-6:00 PM","County-wide6:00 AM-8:00 AM AND 3:00 PM-6:00 PM","n/a","n/a","n/a","n/a","n/a","n/a","n/a","n/a","n/a","n/a","n/a","n/a","n/a","n/a","n/a","n/a","n/a","n/a","n/a","n/a","n/a","n/a","n/a","n/a","n/a","n/a","n/a","n/a","n/a","n/a","n/a","n/a","n/a","n/a","n/a","n/a","n/a","n/a","n/a","n/a","n/a","n/a","n/a","n/a","n/a","n/a","n/a","n/a","n/a","n/a","n/a","n/a","n/a","n/a","n/a","n/a","n/a","n/a","n/a","n/a","n/a","n/a","n/a","n/a","n/a","n/a","n/a","n/a","n/a","n/a","n/a","n/a"]
[9.3799999999999901,"County-wide",5,"Weekday 2-Part","7:00 AM-9:00 AM AND 4:00 PM-7:00 PM","County-wide7:00 AM-9:00 AM AND 4:00 PM-7:00 PM","n/a","n/a","n/a","n/a","n/a","n/a","n/a","n/a","n/a","n/a","n/a","n/a","n/a","n/a","n/a","n/a","n/a","n/a","n/a","n/a","n/a","n/a","n/a","n/a","n/a","n/a","n/a","n/a","n/a","n/a","n/a","n/a","n/a","n/a","n/a","n/a","n/a","n/a","n/a","n/a","n/a","n/a","n/a","n/a","n/a","n/a","n/a","n/a","n/a","n/a","n/a","n/a","n/a","n/a","n/a","n/a","n/a","n/a","n/a","n/a","n/a","n/a","n/a","n/a","n/a","n/a","n/a","n/a","n/a","n/a","n/a","n/a"]
[9.3899999999999899,"County-wide",5,"Weekday 2-Part","7:00 AM-9:00 AM AND 3:00 PM-6:00 PM","County-wide7:00 AM-9:00 AM AND 3:00 PM-6:00 PM","n/a","n/a","n/a","n/a","n/a","n/a","n/a","n/a","n/a","n/a","n/a","n/a","n/a","n/a","n/a","n/a","n/a","n/a","n/a","n/a","n/a","n/a","n/a","n/a","n/a","n/a","n/a","n/a","n/a","n/a","n/a","n/a","n/a","n/a","n/a","n/a","n/a","n/a","n/a","n/a","n/a","n/a","n/a","n/a","n/a","n/a","n/a","n/a","n/a","n/a","n/a","n/a","n/a","n/a","n/a","n/a","n/a","n/a","n/a","n/a","n/a","n/a","n/a","n/a","n/a","n/a","n/a","n/a","n/a","n/a","n/a","n/a"]
[9.3999999999999897,"County-wide",4,"Weekday 2-Part","6:00 AM-8:00 AM AND 4:00 PM-6:00 PM","County-wide6:00 AM-8:00 AM AND 4:00 PM-6:00 PM","n/a","n/a","n/a","n/a","n/a","n/a","n/a","n/a","n/a","n/a","n/a","n/a","n/a","n/a","n/a","n/a","n/a","n/a","n/a","n/a","n/a","n/a","n/a","n/a","n/a","n/a","n/a","n/a","n/a","n/a","n/a","n/a","n/a","n/a","n/a","n/a","n/a","n/a","n/a","n/a","n/a","n/a","n/a","n/a","n/a","n/a","n/a","n/a","n/a","n/a","n/a","n/a","n/a","n/a","n/a","n/a","n/a","n/a","n/a","n/a","n/a","n/a","n/a","n/a","n/a","n/a","n/a","n/a","n/a","n/a","n/a","n/a"]
[9.4099999999999895,"County-wide",4,"Weekday 2-Part","6:00 AM-8:00 AM AND 3:00 PM-5:00 PM","County-wide6:00 AM-8:00 AM AND 3:00 PM-5:00 PM","n/a","n/a","n/a","n/a","n/a","n/a","n/a","n/a","n/a","n/a","n/a","n/a","n/a","n/a","n/a","n/a","n/a","n/a","n/a","n/a","n/a","n/a","n/a","n/a","n/a","n/a","n/a","n/a","n/a","n/a","n/a","n/a","n/a","n/a","n/a","n/a","n/a","n/a","n/a","n/a","n/a","n/a","n/a","n/a","n/a","n/a","n/a","n/a","n/a","n/a","n/a","n/a","n/a","n/a","n/a","n/a","n/a","n/a","n/a","n/a","n/a","n/a","n/a","n/a","n/a","n/a","n/a","n/a","n/a","n/a","n/a","n/a"]
[9.4199999999999893,"County-wide",4,"Weekday 2-Part","7:00 AM-9:00 AM AND 4:00 PM-6:00 PM",{"$f":"CONCATENATE(B456,E456)","v":"County-wide7:00 AM-9:00 AM AND 4:00 PM-6:00 PM"},"n/a","n/a","n/a","n/a","n/a","n/a","n/a","n/a","n/a","n/a","n/a","n/a","n/a","n/a","n/a","n/a","n/a","n/a","n/a","n/a","n/a","n/a","n/a","n/a","n/a","n/a","n/a","n/a","n/a","n/a","n/a","n/a","n/a","n/a","n/a","n/a","n/a","n/a","n/a","n/a","n/a","n/a","n/a","n/a","n/a","n/a","n/a","n/a","n/a","n/a","n/a","n/a","n/a","n/a","n/a","n/a","n/a","n/a","n/a","n/a","n/a","n/a","n/a","n/a","n/a","n/a","n/a","n/a","n/a","n/a","n/a","n/a"]
[9.4299999999999908,"County-wide",4,"Weekday 2-Part","7:00 AM-9:00 AM AND 3:00 PM-5:00 PM","County-wide7:00 AM-9:00 AM AND 3:00 PM-5:00 PM","n/a","n/a","n/a","n/a","n/a","n/a","n/a","n/a","n/a","n/a","n/a","n/a","n/a","n/a","n/a","n/a","n/a","n/a","n/a","n/a","n/a","n/a","n/a","n/a","n/a","n/a","n/a","n/a","n/a","n/a","n/a","n/a","n/a","n/a","n/a","n/a","n/a","n/a","n/a","n/a","n/a","n/a","n/a","n/a","n/a","n/a","n/a","n/a","n/a","n/a","n/a","n/a","n/a","n/a","n/a","n/a","n/a","n/a","n/a","n/a","n/a","n/a","n/a","n/a","n/a","n/a","n/a","n/a","n/a","n/a","n/a","n/a"]
[9.4399999999999906,"County-wide",8,"Weekday 3-Part","6:00 AM-9:00 AM, 11:00 AM-1:00 PM, AND 3:00 PM-6:00 PM","County-wide6:00 AM-9:00 AM, 11:00 AM-1:00 PM, AND 3:00 PM-6:00 PM","n/a","n/a","n/a","n/a","n/a","n/a","n/a","n/a","n/a","n/a","n/a","n/a","n/a","n/a","n/a","n/a","n/a","n/a","n/a","n/a","n/a","n/a","n/a","n/a","n/a","n/a","n/a","n/a","n/a","n/a","n/a","n/a","n/a","n/a","n/a","n/a","n/a","n/a","n/a","n/a","n/a","n/a","n/a","n/a","n/a","n/a","n/a","n/a","n/a","n/a","n/a","n/a","n/a","n/a","n/a","n/a","n/a","n/a","n/a","n/a","n/a","n/a","n/a","n/a","n/a","n/a","n/a","n/a","n/a","n/a","n/a","n/a"]
[9.4499999999999904,"County-wide",4,"Weekend Continuous","9:00 AM-1:00 PM","County-wide9:00 AM-1:00 PM","n/a","n/a","n/a","n/a","n/a","n/a","n/a","n/a","n/a","n/a","n/a","n/a","n/a","n/a","n/a","n/a","n/a","n/a","n/a","n/a","n/a","n/a","n/a","n/a","n/a","n/a","n/a","n/a","n/a","n/a","n/a","n/a","n/a","n/a","n/a","n/a","n/a","n/a","n/a","n/a","n/a","n/a","n/a","n/a","n/a","n/a","n/a","n/a","n/a","n/a","n/a","n/a","n/a","n/a","n/a","n/a","n/a","n/a","n/a","n/a","n/a","n/a","n/a","n/a","n/a","n/a","n/a","n/a","n/a","n/a","n/a","n/a"]
[9.4599999999999902,"County-wide",4,"Weekend Continuous","10:00 AM-2:00 PM","County-wide10:00 AM-2:00 PM","n/a","n/a","n/a","n/a","n/a","n/a","n/a","n/a","n/a","n/a","n/a","n/a","n/a","n/a","n/a","n/a","n/a","n/a","n/a","n/a","n/a","n/a","n/a","n/a","n/a","n/a","n/a","n/a","n/a","n/a","n/a","n/a","n/a","n/a","n/a","n/a","n/a","n/a","n/a","n/a","n/a","n/a","n/a","n/a","n/a","n/a","n/a","n/a","n/a","n/a","n/a","n/a","n/a","n/a","n/a","n/a","n/a","n/a","n/a","n/a","n/a","n/a","n/a","n/a","n/a","n/a","n/a","n/a","n/a","n/a","n/a","n/a"]
[9.46999999999999,"County-wide",4,"Weekend Continuous","11:00 AM-3:00 PM","County-wide11:00 AM-3:00 PM","n/a","n/a","n/a","n/a","n/a","n/a","n/a","n/a","n/a","n/a","n/a","n/a","n/a","n/a","n/a","n/a","n/a","n/a","n/a","n/a","n/a","n/a","n/a","n/a","n/a","n/a","n/a","n/a","n/a","n/a","n/a","n/a","n/a","n/a","n/a","n/a","n/a","n/a","n/a","n/a","n/a","n/a","n/a","n/a","n/a","n/a","n/a","n/a","n/a","n/a","n/a","n/a","n/a","n/a","n/a","n/a","n/a","n/a","n/a","n/a","n/a","n/a","n/a","n/a","n/a","n/a","n/a","n/a","n/a","n/a","n/a","n/a"]
[9.4799999999999898,"County-wide",3,"Weekend Continuous","10:00 AM-1:00 PM","County-wide10:00 AM-1:00 PM","n/a","n/a","n/a","n/a","n/a","n/a","n/a","n/a","n/a","n/a","n/a","n/a","n/a","n/a","n/a","n/a","n/a","n/a","n/a","n/a","n/a","n/a","n/a","n/a","n/a","n/a","n/a","n/a","n/a","n/a","n/a","n/a","n/a","n/a","n/a","n/a","n/a","n/a","n/a","n/a","n/a","n/a","n/a","n/a","n/a","n/a","n/a","n/a","n/a","n/a","n/a","n/a","n/a","n/a","n/a","n/a","n/a","n/a","n/a","n/a","n/a","n/a","n/a","n/a","n/a","n/a","n/a","n/a","n/a","n/a","n/a","n/a"]
[9.4899999999999896,"County-wide",3,"Weekend Continuous","11:00 AM-2:00 PM","County-wide11:00 AM-2:00 PM","n/a","n/a","n/a","n/a","n/a","n/a","n/a","n/a","n/a","n/a","n/a","n/a","n/a","n/a","n/a","n/a","n/a","n/a","n/a","n/a","n/a","n/a","n/a","n/a","n/a","n/a","n/a","n/a","n/a","n/a","n/a","n/a","n/a","n/a","n/a","n/a","n/a","n/a","n/a","n/a","n/a","n/a","n/a","n/a","n/a","n/a","n/a","n/a","n/a","n/a","n/a","n/a","n/a","n/a","n/a","n/a","n/a","n/a","n/a","n/a","n/a","n/a","n/a","n/a","n/a","n/a","n/a","n/a","n/a","n/a","n/a","n/a"]
[9.4999999999999893,"County-wide",2,"Weekend Continuous","11:00 AM-1:00 PM","County-wide11:00 AM-1:00 PM","n/a","n/a","n/a","n/a","n/a","n/a","n/a","n/a","n/a","n/a","n/a","n/a","n/a","n/a","n/a","n/a","n/a","n/a","n/a","n/a","n/a","n/a","n/a","n/a","n/a","n/a","n/a","n/a","n/a","n/a","n/a","n/a","n/a","n/a","n/a","n/a","n/a","n/a","n/a","n/a","n/a","n/a","n/a","n/a","n/a","n/a","n/a","n/a","n/a","n/a","n/a","n/a","n/a","n/a","n/a","n/a","n/a","n/a","n/a","n/a","n/a","n/a","n/a","n/a","n/a","n/a","n/a","n/a","n/a","n/a","n/a","n/a"]

{"sheet":"Calculations","index":16,"n_rows":197,"n_cols":169,"rows_kept":197,"cut":false,"hidden":false,"merged":[]}
[{"$f":"'Import Tab'!B1","v":"Start Date"},{"$f":"'Import Tab'!B1","v":"Start Date"}]
[{"$f":"'Import Tab'!B2","v":"Start Time"},{"$f":"'Import Tab'!C2","v":"07:00:00"}]
[{"$f":"'Import Tab'!B3","v":"Site Code"},{"$f":"'Import Tab'!C3","v":0},null,null,null,null,null,null,null,null,null,null,null,null,null,null,null,"15-Minute Totals (All Vehicles)",null,null,null,null,null,null,null,null,null,null,null,null,null,null,null,null,null,null,null,null,null,null,null,null,"Unshifted - 15 Minute Totals (Automobiles, Pedestrians)",null,null,null,null,null,null,null,null,null,null,null,null,null,null,null,null,"Bank 1 - 15 Minute Totals (Single Unit Trucks, Bicyclists)",null,null,null,null,null,null,null,null,null,null,null,null,null,null,null,null,"Bank 2 - 15 Minute Totals (Semi Trucks, U-Turns)",null,null,null,null,null,null,null,null,null,null,null,null,null,null,null,null,"Total Hourly Totals",null,null,null,null,null,null,null,null,null,null,null,null,null,null,null,null,null,null,null,null,null,null,null,null,"Unshifted - Hourly Totals (Automobiles, Pedestrians)",null,null,null,null,null,null,null,null,null,null,null,null,null,null,null,null,"Bank 1 - Hourly Vehicle Totals (SU & Bike)",null,null,null,null,null,null,null,null,null,null,null,null,null,null,null,null,"Bank 2 - Hourly Vehicle Totals (Semi's & U-Turns)"]
[{"$f":"'Import Tab'!B4","v":"Street Name"},{"$f":"'Import Tab'!C4","v":"441 NORTH                From North"},null,null,null,{"$f":"'Import Tab'!G4","v":"CTH OO NORTHLAND AVE     From East"},null,null,null,{"$f":"'Import Tab'!K4","v":"441 NORTH                From South"},null,null,null,{"$f":"'Import Tab'!O4","v":"CTH OO NORTHLAND AVE     From West"},null,null,null,"Total",{"$f":"B4","v":"441 NORTH                From North"},null,null,null,null,null,{"$f":"F4","v":"CTH OO NORTHLAND AVE     From East"},null,null,null,null,null,{"$f":"J4","v":"441 NORTH                From South"},null,null,null,null,null,{"$f":"N4","v":"CTH OO NORTHLAND AVE     From West"},null,null,null,null,null,null,{"$f":"EX4","v":"441 NORTH                From North"},null,null,null,{"$f":"FB4","v":"CTH OO NORTHLAND AVE     From East"},null,null,null,{"$f":"FF4","v":"441 NORTH                From South"},null,null,null,{"$f":"FJ4","v":"CTH OO NORTHLAND AVE     From West"},null,null,null,null,{"$f":"CQ4","v":"441 NORTH                From North"},null,null,null,{"$f":"CW4","v":"CTH OO NORTHLAND AVE     From East"},null,null,null,{"$f":"DC4","v":"441 NORTH                From South"},null,null,null,{"$f":"DI4","v":"CTH OO NORTHLAND AVE     From West"},null,null,null,null,{"$f":"BI4","v":"441 NORTH                From North"},null,null,null,{"$f":"BM4","v":"CTH OO NORTHLAND AVE     From East"},null,null,null,{"$f":"BQ4","v":"441 NORTH                From South"},null,null,null,{"$f":"BU4","v":"CTH OO NORTHLAND AVE     From West"},null,null,null,null,{"$f":"EX4","v":"441 NORTH                From North"},null,null,null,null,null,{"$f":"FB4","v":"CTH OO NORTHLAND AVE     From East"},null,null,null,null,null,{"$f":"FF4","v":"441 NORTH                From South"},null,null,null,null,null,{"$f":"FJ4","v":"CTH OO NORTHLAND AVE     From West"},null,null,null,null,null,null," From North",null,null,null," From East",null,null,null," From South",null,null,null," From West",null,null,null,null,{"$f":"S4","v":"441 NORTH                From North"},null,null,null,{"$f":"Y4","v":"CTH OO NORTHLAND AVE     From East"},null,null,null,{"$f":"AE4","v":"441 NORTH                From South"},null,null,null,{"$f":"AK4","v":"CTH OO NORTHLAND AVE     From West"},null,null,null,null,{"$f":"EG4","v":"441 NORTH                From North"},null,null,null,{"$f":"EK4","v":"CTH OO NORTHLAND AVE     From East"},null,null,null,{"$f":"EO4","v":"441 NORTH                From South"},null,null,null,{"$f":"ES4","v":"CTH OO NORTHLAND AVE     From West"}]
[{"$f":"'Import Tab'!B5","v":"Start Time"},{"$f":"'Import Tab'!C5","v":"Left"},{"$f":"'Import Tab'!D5","v":"Thru"},{"$f":"'Import Tab'!E5","v":"Right"},{"$f":"'Import Tab'!F5","v":"Peds"},{"$f":"'Import Tab'!G5","v":"Left"},{"$f":"'Import Tab'!H5","v":"Thru"},{"$f":"'Import Tab'!I5","v":"Right"},{"$f":"'Import Tab'!J5","v":"Peds"},{"$f":"'Import Tab'!K5","v":"Left"},{"$f":"'Import Tab'!L5","v":"Thru"},{"$f":"'Import Tab'!M5","v":"Right"},{"$f":"'Import Tab'!N5","v":"Peds"},{"$f":"'Import Tab'!O5","v":"Left"},{"$f":"'Import Tab'!P5","v":"Thru"},{"$f":"'Import Tab'!Q5","v":"Right"},{"$f":"'Import Tab'!R5","v":"Peds"},"15-Min Total (motor vehicles only)","Right ","Thru ","Left ","Peds","Bikes","U-Turns","Right ","Thru ","Left ","Peds","Bikes","U-Turns","Right ","Thru ","Left ","Peds","Bikes","U-Turns","Right ","Thru ","Left ","Peds","Bikes","U-Turns","Totals (auto & u-turn)","Right ","Thru ","Left ","Peds ","Right ","Thru ","Left ","Peds ","Right ","Thru ","Left ","Peds ","Right ","Thru ","Left ","Peds ","Totals (SU Only)","Right ","Thru ","Left ","Bikes","Right ","Thru ","Left ","Bikes","Right ","Thru ","Left ","Bikes","Right ","Thru ","Left ","Bikes","Totals (Semi only)","Right ","Thru ","Left ","U-Turn","Right ","Thru ","Left ","U-Turn","Right ","Thru ","Left ","U-Turn","Right ","Thru ","Left ","U-Turn","Totals (Motor Vehicles Only)","Right ","Thru ","Left ","Peds","Bikes","U-Turns","Right ","Thru ","Left ","Peds","Bikes","U-Turns","Right ","Thru ","Left ","Peds","Bikes","U-Turns","Right ","Thru ","Left ","Peds","Bikes","U-Turns","Totals (Auto & U-Turn)","Right ","Thru ","Left ","Peds","Right ","Thru ","Left ","Peds","Right ","Thru ","Left ","Peds","Right ","Thru ","Left ","Peds","Totals (SU Only)","Right ","Thru ","Left ","Bikes","Right ","Thru ","Left ","Bikes","Right ","Thru ","Left ","Bikes","Right ","Thru ","Left ","Bikes","Totals (Semi Only)","Right ","Thru ","Left ","U-Turns","Right ","Thru ","Left ","U-Turns","Right ","Thru ","Left ","U-Turns","Right ","Thru ","Left ","U-Turns"]
[{"$f":"'Import Tab'!A6","v":"07:00:00.864"},{"$f":"ROUND('Import Tab'!E6*'Base Information'!$V$22,0)","v":0},{"$f":"ROUND('Import Tab'!D6*'Base Information'!$V$22,0)","v":0},{"$f":"ROUND('Import Tab'!C6*'Base Information'!$V$22,0)","v":0},{"$f":"ROUND('Import Tab'!F6,0)","v":0},{"$f":"ROUND('Import Tab'!I6*'Base Information'!$V$22,0)","v":15},{"$f":"ROUND('Import Tab'!H6*'Base Information'!$V$22,0)","v":112},{"$f":"ROUND('Import Tab'!G6*'Base Information'!$V$22,0)","v":0},{"$f":"ROUND('Import Tab'!J6,0)","v":0},{"$f":"ROUND('Import Tab'!M6*'Base Information'!$V$22,0)","v":25},{"$f":"ROUND('Import Tab'!L6*'Base Information'!$V$22,0)","v":0},{"$f":"ROUND('Import Tab'!K6*'Base Information'!$V$22,0)","v":82},{"$f":"ROUND('Import Tab'!N6,0)","v":0},{"$f":"ROUND('Import Tab'!Q6*'Base Information'!$V$22,0)","v":0},{"$f":"ROUND('Import Tab'!P6*'Base Information'!$V$22,0)","v":23},{"$f":"ROUND('Import Tab'!O6*'Base Information'!$V$22,0)","v":2},{"$f":"ROUND('Import Tab'!R6,0)","v":0},{"$f":"SUM(B6:D8)+SUM(F6:H8)+SUM(J6:L8)+SUM(N6:P8)+E8+I8+M8+Q8","v":262},{"$f":"B6+B7+B8","v":0},{"$f":"C6+C7+C8","v":0},{"$f":"D6+D7+D8","v":0},{"$f":"E6","v":0},{"$f":"E7","v":0},{"$f":"E8","v":0},{"$f":"F6+F7+F8","v":15},{"$f":"G6+G7+G8","v":113},{"$f":"H6+H7+H8","v":0},{"$f":"I6","v":0},{"$f":"I7","v":0},{"$f":"I8","v":0},{"$f":"J6+J7+J8","v":26},{"$f":"K6+K7+K8","v":0},{"$f":"L6+L7+L8","v":82},{"$f":"M6","v":0},{"$f":"M7","v":0},{"$f":"M8","v":0},{"$f":"N6+N7+N8","v":0},{"$f":"O6+O7+O8","v":24},{"$f":"P6+P7+P8","v":2},{"$f":"Q6","v":0},{"$f":"Q7","v":0},{"$f":"Q8","v":0},{"$f":"SUM(B6:D6)+SUM(F6:H6)+SUM(J6:L6)+SUM(N6:P6)+E8+I8+M8+Q8","v":259},{"$f":"B6","v":0},{"$f":"C6","v":0},0,{"$f":"E6","v":0},15,112,0,0,25,0,82,0,0,23,2,{"$f":"Q6","v":0},{"$f":"SUM(B7:D7)+SUM(F7:H7)+SUM(J7:L7)+SUM(N7:P7)","v":0},{"$f":"B7","v":0},{"$f":"C7","v":0},0,0,0,{"$f":"G7","v":0},{"$f":"H7","v":0},{"$f":"I7","v":0},0,{"$f":"K7","v":0},{"$f":"L7","v":0},{"$f":"M7","v":0},0,{"$f":"O7","v":0},{"$f":"P7","v":0},{"$f":"Q7","v":0},{"$f":"SUM(B8:D8)+SUM(F8:H8)+SUM(J8:L8)+SUM(N8:P8)","v":3},{"$f":"B8","v":0},{"$f":"C8","v":0},0,0,0,1,0,0,1,0,0,0,0,1,0,0,{"$f":"SUM(B6:D17,E8,E11,E14,E17,F6:H17,I8,I11,I14,I17,J6:L17,M8,M11,M14,M17,N6:P17,Q8,Q11,Q14,Q17)","v":1327},{"$f":"SUM(B6:B17)","v":0},{"$f":"SUM(C6:C17)","v":0},0,{"$f":"SUM(E6+E9+E12+E15)","v":0},{"$f":"SUM(E7+E10+E13+E16)","v":0},{"$f":"SUM(E8+E11+E14+E17)","v":0},{"$f":"SUM(F6:F17)","v":62},{"$f":"SUM(G6:G17)","v":459},{"$f":"SUM(H6:H17)","v":0},{"$f":"SUM(I6+I9+I12+I15)","v":1},{"$f":"SUM(I7+I10+I13+I16)","v":0},{"$f":"SUM(I8+I11+I14+I17)","v":0},{"$f":"SUM(J6:J17)","v":152},{"$f":"SUM(K6:K17)","v":0},{"$f":"SUM(L6:L17)","v":480},{"$f":"SUM(M6+M9+M12+M15)","v":0},{"$f":"SUM(M7+M10+M13+M16)","v":0},{"$f":"SUM(M8+M11+M14+M17)","v":0},{"$f":"SUM(N6:N17)","v":0},{"$f":"SUM(O6:O17)","v":155},{"$f":"SUM(P6:P17)","v":19},{"$f":"SUM(Q6+Q9+Q12+Q15)","v":0},{"$f":"SUM(Q7+Q10+Q13+Q16)","v":0},{"$f":"SUM(Q8+Q11+Q14+Q17)","v":0},{"$f":"SUM(B6:D6)+SUM(B9:D9)+SUM(B12:D12)+SUM(B15:D15)+SUM(F6:H6)+SUM(F9:H9)+SUM(F12:H12)+SUM(F15:H15)+SUM(J6:L6)+SUM(J9:L9)+SUM(J12:L12)+SUM(J15:L15)+SUM(N6:P6)+SUM(N9:P9)+SUM(N12:P12)+SUM(N15:P15)+E8+E11+E14+E17+I8+I11+I14+I17+M8+M11+M14+M17+Q8+Q11+Q14+Q17","v":1288},{"$f":"SUM(B6,B9,B12,B15)","v":0},{"$f":"SUM(C6,C9,C12,C15)","v":0},0,{"$f":"SUM(E6,E9,E12,E15)","v":0},{"$f":"SUM(F6,F9,F12,F15)","v":57},{"$f":"SUM(G6,G9,G12,G15)","v":456},{"$f":"SUM(H6,H9,H12,H15)","v":0},1,145,{"$f":"SUM(K6,K9,K12,K15)","v":0},{"$f":"SUM(L6,L9,L12,L15)","v":472},0,0,{"$f":"SUM(O6,O9,O12,O15)","v":143},{"$f":"SUM(P6,P9,P12,P15)","v":15},{"$f":"SUM(Q6,Q9,Q12,Q15)","v":0},{"$f":"SUM(B7:D7)+SUM(B10:D10)+SUM(B13:D13)+SUM(B16:D16)+SUM(F7:H7)+SUM(F10:H10)+SUM(F13:H13)+SUM(F16:H16)+SUM(J7:L7)+SUM(J10:L10)+SUM(J13:L13)+SUM(J16:L16)+SUM(N7:P7)+SUM(N10:P10)+SUM(N13:P13)+SUM(N16:P16)","v":17},{"$f":"SUM(B7,B10,B13,B16)","v":0},{"$f":"SUM(C7,C10,C13,C16)","v":0},0,{"$f":"SUM(E7,E10,E13,E16)","v":0},1,2,0,0,2,0,4,0,0,7,1,0,{"$f":"SUM(B8:D8)+SUM(B11:D11)+SUM(B14:D14)+SUM(B17:D17)+SUM(F8:H8)+SUM(F11:H11)+SUM(F14:H14)+SUM(F17:H17)+SUM(J8:L8)+SUM(J11:L11)+SUM(J14:L14)+SUM(J17:L17)+SUM(N8:P8)+SUM(N11:P11)+SUM(N14:P14)+SUM(N17:P17)","v":22},{"$f":"SUM(B8,B11,B14,B17)","v":0},{"$f":"SUM(C8,C11,C14,C17)","v":0},0,0,4,1,0,0,5,0,4,0,0,5,3,{"$f":"SUM(Q8,Q11,Q14,Q17)","v":0}]
[{"$f":"'Import Tab'!A7","v":"07:00:00.864"},{"$f":"ROUND('Import Tab'!E7*'Base Information'!$V$22,0)","v":0},{"$f":"ROUND('Import Tab'!D7*'Base Information'!$V$22,0)","v":0},{"$f":"ROUND('Import Tab'!C7*'Base Information'!$V$22,0)","v":0},{"$f":"ROUND('Import Tab'!F7,0)","v":0},{"$f":"ROUND('Import Tab'!I7*'Base Information'!$V$22,0)","v":0},{"$f":"ROUND('Import Tab'!H7*'Base Information'!$V$22,0)","v":0},{"$f":"ROUND('Import Tab'!G7*'Base Information'!$V$22,0)","v":0},{"$f":"ROUND('Import Tab'!J7,0)","v":0},{"$f":"ROUND('Import Tab'!M7*'Base Information'!$V$22,0)","v":0},{"$f":"ROUND('Import Tab'!L7*'Base Information'!$V$22,0)","v":0},{"$f":"ROUND('Import Tab'!K7*'Base Information'!$V$22,0)","v":0},{"$f":"ROUND('Import Tab'!N7,0)","v":0},{"$f":"ROUND('Import Tab'!Q7*'Base Information'!$V$22,0)","v":0},{"$f":"ROUND('Import Tab'!P7*'Base Information'!$V$22,0)","v":0},{"$f":"ROUND('Import Tab'!O7*'Base Information'!$V$22,0)","v":0},{"$f":"ROUND('Import Tab'!R7,0)","v":0}]
[{"$f":"'Import Tab'!A8","v":"07:00:00.864"},{"$f":"ROUND('Import Tab'!E8*'Base Information'!$V$22,0)","v":0},{"$f":"ROUND('Import Tab'!D8*'Base Information'!$V$22,0)","v":0},{"$f":"ROUND('Import Tab'!C8*'Base Information'!$V$22,0)","v":0},{"$f":"ROUND('Import Tab'!F8,0)","v":0},{"$f":"ROUND('Import Tab'!I8*'Base Information'!$V$22,0)","v":0},{"$f":"ROUND('Import Tab'!H8*'Base Information'!$V$22,0)","v":1},{"$f":"ROUND('Import Tab'!G8*'Base Information'!$V$22,0)","v":0},{"$f":"ROUND('Import Tab'!J8,0)","v":0},{"$f":"ROUND('Import Tab'!M8*'Base Information'!$V$22,0)","v":1},{"$f":"ROUND('Import Tab'!L8*'Base Information'!$V$22,0)","v":0},{"$f":"ROUND('Import Tab'!K8*'Base Information'!$V$22,0)","v":0},{"$f":"ROUND('Import Tab'!N8,0)","v":0},{"$f":"ROUND('Import Tab'!Q8*'Base Information'!$V$22,0)","v":0},{"$f":"ROUND('Import Tab'!P8*'Base Information'!$V$22,0)","v":1},{"$f":"ROUND('Import Tab'!O8*'Base Information'!$V$22,0)","v":0},{"$f":"ROUND('Import Tab'!R8,0)","v":0}]
[{"$f":"A6+(0.010417)","v":"07:15:00.893"},{"$f":"ROUND('Import Tab'!E9*'Base Information'!$V$22,0)","v":0},{"$f":"ROUND('Import Tab'!D9*'Base Information'!$V$22,0)","v":0},{"$f":"ROUND('Import Tab'!C9*'Base Information'!$V$22,0)","v":0},{"$f":"ROUND('Import Tab'!F9,0)","v":0},{"$f":"ROUND('Import Tab'!I9*'Base Information'!$V$22,0)","v":13},{"$f":"ROUND('Import Tab'!H9*'Base Information'!$V$22,0)","v":102},{"$f":"ROUND('Import Tab'!G9*'Base Information'!$V$22,0)","v":0},{"$f":"ROUND('Import Tab'!J9,0)","v":1},{"$f":"ROUND('Import Tab'!M9*'Base Information'!$V$22,0)","v":30},{"$f":"ROUND('Import Tab'!L9*'Base Information'!$V$22,0)","v":0},{"$f":"ROUND('Import Tab'!K9*'Base Information'!$V$22,0)","v":111},{"$f":"ROUND('Import Tab'!N9,0)","v":0},{"$f":"ROUND('Import Tab'!Q9*'Base Information'!$V$22,0)","v":0},{"$f":"ROUND('Import Tab'!P9*'Base Information'!$V$22,0)","v":32},{"$f":"ROUND('Import Tab'!O9*'Base Information'!$V$22,0)","v":7},{"$f":"ROUND('Import Tab'!R9,0)","v":0},{"$f":"SUM(B9:D11)+SUM(F9:H11)+SUM(J9:L11)+SUM(N9:P11)+E11+I11+M11+Q11","v":304},{"$f":"B9+B10+B11","v":0},0,0,{"$f":"E9","v":0},{"$f":"E10","v":0},{"$f":"E11","v":0},{"$f":"F9+F10+F11","v":13},{"$f":"G9+G10+G11","v":102},{"$f":"H9+H10+H11","v":0},{"$f":"I9","v":1},{"$f":"I10","v":0},{"$f":"I11","v":0},{"$f":"J9+J10+J11","v":31},{"$f":"K9+K10+K11","v":0},{"$f":"L9+L10+L11","v":114},{"$f":"M9","v":0},{"$f":"M10","v":0},{"$f":"M11","v":0},{"$f":"N9+N10+N11","v":0},{"$f":"O9+O10+O11","v":36},{"$f":"P9+P10+P11","v":8},{"$f":"Q9","v":0},{"$f":"Q10","v":0},{"$f":"Q11","v":0},{"$f":"SUM(B9:D9)+SUM(F9:H9)+SUM(J9:L9)+SUM(N9:P9)+E11+I11+M11+Q11","v":295},{"$f":"B9","v":0},{"$f":"C9","v":0},{"$f":"D9","v":0},{"$f":"E9","v":0},{"$f":"F9","v":13},{"$f":"G9","v":102},{"$f":"H9","v":0},{"$f":"I9","v":1},{"$f":"J9","v":30},{"$f":"K9","v":0},{"$f":"L9","v":111},{"$f":"M9","v":0},{"$f":"N9","v":0},{"$f":"O9","v":32},{"$f":"P9","v":7},{"$f":"Q9","v":0},{"$f":"SUM(B10:D10)+SUM(F10:H10)+SUM(J10:L10)+SUM(N10:P10)","v":4},{"$f":"B10","v":0},{"$f":"C10","v":0},{"$f":"D10","v":0},{"$f":"E10","v":0},{"$f":"F10","v":0},{"$f":"G10","v":0},{"$f":"H10","v":0},{"$f":"I10","v":0},{"$f":"J10","v":1},{"$f":"K10","v":0},{"$f":"L10","v":0},{"$f":"M10","v":0},{"$f":"N10","v":0},{"$f":"O10","v":2},{"$f":"P10","v":1},{"$f":"Q10","v":0},{"$f":"SUM(B11:D11)+SUM(F11:H11)+SUM(J11:L11)+SUM(N11:P11)","v":5},{"$f":"B11","v":0},{"$f":"C11","v":0},{"$f":"D11","v":0},{"$f":"E11","v":0},{"$f":"F11","v":0},{"$f":"G11","v":0},{"$f":"H11","v":0},{"$f":"I11","v":0},{"$f":"J11","v":0},{"$f":"K11","v":0},{"$f":"L11","v":3},{"$f":"M11","v":0},{"$f":"N11","v":0},{"$f":"O11","v":2},{"$f":"P11","v":0},{"$f":"Q11","v":0},{"$f":"SUM(B9:D20,E11,E14,E17,E20,F9:H20,I11,I14,I17,I20,J9:L20,M11,M14,M17,M20,N9:P20,Q11,Q14,Q17,Q20)","v":1475},{"$f":"SUM(B9:B20)","v":0},{"$f":"SUM(C9:C20)","v":0},{"$f":"SUM(D9:D20)","v":0},{"$f":"SUM(E9+E12+E15+E18)","v":0},{"$f":"SUM(E10+E13+E16+E19)","v":0},{"$f":"SUM(E11+E14+E17+E20)","v":0},{"$f":"SUM(F9:F20)","v":59},{"$f":"SUM(G9:G20)","v":504},{"$f":"SUM(H9:H20)","v":0},{"$f":"SUM(I9+I12+I15+I18)","v":1},{"$f":"SUM(I10+I13+I16+I19)","v":0},{"$f":"SUM(I11+I14+I17+I20)","v":0},{"$f":"SUM(J9:J20)","v":181},{"$f":"SUM(K9:K20)","v":0},{"$f":"SUM(L9:L20)","v":540},{"$f":"SUM(M9+M12+M15+M18)","v":0},{"$f":"SUM(M10+M13+M16+M19)","v":0},{"$f":"SUM(M11+M14+M17+M20)","v":0},{"$f":"SUM(N9:N20)","v":0},{"$f":"SUM(O9:O20)","v":167},{"$f":"SUM(P9:P20)","v":24},{"$f":"SUM(Q9+Q12+Q15+Q18)","v":0},{"$f":"SUM(Q10+Q13+Q16+Q19)","v":0},{"$f":"SUM(Q11+Q14+Q17+Q20)","v":0},{"$f":"SUM(B9:D9)+SUM(B12:D12)+SUM(B15:D15)+SUM(B18:D18)+SUM(F9:H9)+SUM(F12:H12)+SUM(F15:H15)+SUM(F18:H18)+SUM(J9:L9)+SUM(J12:L12)+SUM(J15:L15)+SUM(J18:L18)+SUM(N9:P9)+SUM(N12:P12)+SUM(N15:P15)+SUM(N18:P18)+E11+E14+E17+E20+I11+I14+I17+I20+M11+M14+M17+M20+Q11+Q14+Q17+Q20","v":1424},{"$f":"SUM(B9,B12,B15,B18)","v":0},{"$f":"SUM(C9,C12,C15,C18)","v":0},{"$f":"SUM(D9,D12,D15,D18)","v":0},{"$f":"SUM(E9,E12,E15,E18)","v":0},{"$f":"SUM(F9,F12,F15,F18)","v":52},{"$f":"SUM(G9,G12,G15,G18)","v":497},{"$f":"SUM(H9,H12,H15,H18)","v":0},{"$f":"SUM(I9,I12,I15,I18)","v":1},{"$f":"SUM(J9,J12,J15,J18)","v":171},{"$f":"SUM(K9,K12,K15,K18)","v":0},{"$f":"SUM(L9,L12,L15,L18)","v":530},{"$f":"SUM(M9,M12,M15,M18)","v":0},{"$f":"SUM(N9,N12,N15,N18)","v":0},{"$f":"SUM(O9,O12,O15,O18)","v":154},{"$f":"SUM(P9,P12,P15,P18)","v":20},{"$f":"SUM(Q9,Q12,Q15,Q18)","v":0},{"$f":"SUM(B10:D10)+SUM(B13:D13)+SUM(B16:D16)+SUM(B19:D19)+SUM(F10:H10)+SUM(F13:H13)+SUM(F16:H16)+SUM(F19:H19)+SUM(J10:L10)+SUM(J13:L13)+SUM(J16:L16)+SUM(J19:L19)+SUM(N10:P10)+SUM(N13:P13)+SUM(N16:P16)+SUM(N19:P19)","v":23},{"$f":"SUM(B10,B13,B16,B19)","v":0},{"$f":"SUM(C10,C13,C16,C19)","v":0},{"$f":"SUM(D10,D13,D16,D19)","v":0},{"$f":"SUM(E10,E13,E16,E19)","v":0},{"$f":"SUM(F10,F13,F16,F19)","v":1},{"$f":"SUM(G10,G13,G16,G19)","v":3},{"$f":"SUM(H10,H13,H16,H19)","v":0},{"$f":"SUM(I10,I13,I16,I19)","v":0},{"$f":"SUM(J10,J13,J16,J19)","v":3},{"$f":"SUM(K10,K13,K16,K19)","v":0},{"$f":"SUM(L10,L13,L16,L19)","v":6},{"$f":"SUM(M10,M13,M16,M19)","v":0},{"$f":"SUM(N10,N13,N16,N19)","v":0},{"$f":"SUM(O10,O13,O16,O19)","v":9},{"$f":"SUM(P10,P13,P16,P19)","v":1},{"$f":"SUM(Q10,Q13,Q16,Q19)","v":0},{"$f":"SUM(B11:D11)+SUM(B14:D14)+SUM(B17:D17)+SUM(B20:D20)+SUM(F11:H11)+SUM(F14:H14)+SUM(F17:H17)+SUM(F20:H20)+SUM(J11:L11)+SUM(J14:L14)+SUM(J17:L17)+SUM(J20:L20)+SUM(N11:P11)+SUM(N14:P14)+SUM(N17:P17)+SUM(N20:P20)","v":28},{"$f":"SUM(B11,B14,B17,B20)","v":0},{"$f":"SUM(C11,C14,C17,C20)","v":0},{"$f":"SUM(D11,D14,D17,D20)","v":0},{"$f":"SUM(E11,E14,E17,E20)","v":0},{"$f":"SUM(F11,F14,F17,F20)","v":6},{"$f":"SUM(G11,G14,G17,G20)","v":4},{"$f":"SUM(H11,H14,H17,H20)","v":0},{"$f":"SUM(I11,I14,I17,I20)","v":0},{"$f":"SUM(J11,J14,J17,J20)","v":7},{"$f":"SUM(K11,K14,K17,K20)","v":0},{"$f":"SUM(L11,L14,L17,L20)","v":4},{"$f":"SUM(M11,M14,M17,M20)","v":0},{"$f":"SUM(N11,N14,N17,N20)","v":0},{"$f":"SUM(O11,O14,O17,O20)","v":4},{"$f":"SUM(P11,P14,P17,P20)","v":3},{"$f":"SUM(Q11,Q14,Q17,Q20)","v":0}]
[{"$f":"A7+(0.010417)","v":"07:15:00.893"},{"$f":"ROUND('Import Tab'!E10*'Base Information'!$V$22,0)","v":0},{"$f":"ROUND('Import Tab'!D10*'Base Information'!$V$22,0)","v":0},{"$f":"ROUND('Import Tab'!C10*'Base Information'!$V$22,0)","v":0},{"$f":"ROUND('Import Tab'!F10,0)","v":0},{"$f":"ROUND('Import Tab'!I10*'Base Information'!$V$22,0)","v":0},{"$f":"ROUND('Import Tab'!H10*'Base Information'!$V$22,0)","v":0},{"$f":"ROUND('Import Tab'!G10*'Base Information'!$V$22,0)","v":0},{"$f":"ROUND('Import Tab'!J10,0)","v":0},{"$f":"ROUND('Import Tab'!M10*'Base Information'!$V$22,0)","v":1},{"$f":"ROUND('Import Tab'!L10*'Base Information'!$V$22,0)","v":0},{"$f":"ROUND('Import Tab'!K10*'Base Information'!$V$22,0)","v":0},{"$f":"ROUND('Import Tab'!N10,0)","v":0},{"$f":"ROUND('Import Tab'!Q10*'Base Information'!$V$22,0)","v":0},{"$f":"ROUND('Import Tab'!P10*'Base Information'!$V$22,0)","v":2},{"$f":"ROUND('Import Tab'!O10*'Base Information'!$V$22,0)","v":1},{"$f":"ROUND('Import Tab'!R10,0)","v":0}]
["07:15:00.893",{"$f":"ROUND('Import Tab'!E11*'Base Information'!$V$22,0)","v":0},{"$f":"ROUND('Import Tab'!D11*'Base Information'!$V$22,0)","v":0},{"$f":"ROUND('Import Tab'!C11*'Base Information'!$V$22,0)","v":0},{"$f":"ROUND('Import Tab'!F11,0)","v":0},{"$f":"ROUND('Import Tab'!I11*'Base Information'!$V$22,0)","v":0},{"$f":"ROUND('Import Tab'!H11*'Base Information'!$V$22,0)","v":0},{"$f":"ROUND('Import Tab'!G11*'Base Information'!$V$22,0)","v":0},{"$f":"ROUND('Import Tab'!J11,0)","v":0},{"$f":"ROUND('Import Tab'!M11*'Base Information'!$V$22,0)","v":0},{"$f":"ROUND('Import Tab'!L11*'Base Information'!$V$22,0)","v":0},{"$f":"ROUND('Import Tab'!K11*'Base Information'!$V$22,0)","v":3},{"$f":"ROUND('Import Tab'!N11,0)","v":0},{"$f":"ROUND('Import Tab'!Q11*'Base Information'!$V$22,0)","v":0},{"$f":"ROUND('Import Tab'!P11*'Base Information'!$V$22,0)","v":2},{"$f":"ROUND('Import Tab'!O11*'Base Information'!$V$22,0)","v":0},{"$f":"ROUND('Import Tab'!R11,0)","v":0}]
["07:30:00.922",{"$f":"ROUND('Import Tab'!E12*'Base Information'!$V$22,0)","v":0},{"$f":"ROUND('Import Tab'!D12*'Base Information'!$V$22,0)","v":0},{"$f":"ROUND('Import Tab'!C12*'Base Information'!$V$22,0)","v":0},{"$f":"ROUND('Import Tab'!F12,0)","v":0},{"$f":"ROUND('Import Tab'!I12*'Base Information'!$V$22,0)","v":13},{"$f":"ROUND('Import Tab'!H12*'Base Information'!$V$22,0)","v":101},{"$f":"ROUND('Import Tab'!G12*'Base Information'!$V$22,0)","v":0},{"$f":"ROUND('Import Tab'!J12,0)","v":0},{"$f":"ROUND('Import Tab'!M12*'Base Information'!$V$22,0)","v":31},{"$f":"ROUND('Import Tab'!L12*'Base Information'!$V$22,0)","v":0},{"$f":"ROUND('Import Tab'!K12*'Base Information'!$V$22,0)","v":93},{"$f":"ROUND('Import Tab'!N12,0)","v":0},{"$f":"ROUND('Import Tab'!Q12*'Base Information'!$V$22,0)","v":0},{"$f":"ROUND('Import Tab'!P12*'Base Information'!$V$22,0)","v":35},{"$f":"ROUND('Import Tab'!O12*'Base Information'!$V$22,0)","v":3},{"$f":"ROUND('Import Tab'!R12,0)","v":0},{"$f":"SUM(B12:D14)+SUM(F12:H14)+SUM(J12:L14)+SUM(N12:P14)+E14+I14+M14+Q14","v":285},{"$f":"B12+B13+B14","v":0},0,0,{"$f":"E12","v":0},{"$f":"E13","v":0},{"$f":"E14","v":0},{"$f":"F12+F13+F14","v":16},{"$f":"G12+G13+G14","v":101},{"$f":"H12+H13+H14","v":0},{"$f":"I12","v":0},{"$f":"I13","v":0},{"$f":"I14","v":0},{"$f":"J12+J13+J14","v":32},{"$f":"K12+K13+K14","v":0},{"$f":"L12+L13+L14","v":95},{"$f":"M12","v":0},{"$f":"M13","v":0},{"$f":"M14","v":0},{"$f":"N12+N13+N14","v":0},{"$f":"O12+O13+O14","v":36},{"$f":"P12+P13+P14","v":5},{"$f":"Q12","v":0},{"$f":"Q13","v":0},{"$f":"Q14","v":0},{"$f":"SUM(B12:D12)+SUM(F12:H12)+SUM(J12:L12)+SUM(N12:P12)+E14+I14+M14+Q14","v":276},{"$f":"B12","v":0},{"$f":"C12","v":0},{"$f":"D12","v":0},{"$f":"E12","v":0},{"$f":"F12","v":13},{"$f":"G12","v":101},{"$f":"H12","v":0},{"$f":"I12","v":0},{"$f":"J12","v":31},{"$f":"K12","v":0},{"$f":"L12","v":93},{"$f":"M12","v":0},{"$f":"N12","v":0},{"$f":"O12","v":35},{"$f":"P12","v":3},{"$f":"Q12","v":0},{"$f":"SUM(B13:D13)+SUM(F13:H13)+SUM(J13:L13)+SUM(N13:P13)","v":3},{"$f":"B13","v":0},{"$f":"C13","v":0},{"$f":"D13","v":0},{"$f":"E13","v":0},{"$f":"F13","v":1},{"$f":"G13","v":0},{"$f":"H13","v":0},{"$f":"I13","v":0},{"$f":"J13","v":0},{"$f":"K13","v":0},{"$f":"L13","v":1},{"$f":"M13","v":0},{"$f":"N13","v":0},{"$f":"O13","v":1},{"$f":"P13","v":0},{"$f":"Q13","v":0},{"$f":"SUM(B14:D14)+SUM(F14:H14)+SUM(J14:L14)+SUM(N14:P14)","v":6},{"$f":"B14","v":0},{"$f":"C14","v":0},{"$f":"D14","v":0},{"$f":"E14","v":0},{"$f":"F14","v":2},{"$f":"G14","v":0},{"$f":"H14","v":0},{"$f":"I14","v":0},{"$f":"J14","v":1},{"$f":"K14","v":0},{"$f":"L14","v":1},{"$f":"M14","v":0},{"$f":"N14","v":0},{"$f":"O14","v":0},{"$f":"P14","v":2},{"$f":"Q14","v":0},{"$f":"SUM(B12:D23,E14,E17,E20,E23,F12:H23,I14,I17,I20,I23,J12:L23,M14,M17,M20,M23,N12:P23,Q14,Q17,Q20,Q23)","v":1687},{"$f":"SUM(B12:B23)","v":0},{"$f":"SUM(C12:C23)","v":0},{"$f":"SUM(D12:D23)","v":0},{"$f":"SUM(E12+E15+E18+E21)","v":0},{"$f":"SUM(E13+E16+E19+E22)","v":0},{"$f":"SUM(E14+E17+E20+E23)","v":0},{"$f":"SUM(F12:F23)","v":74},{"$f":"SUM(G12:G23)","v":553},{"$f":"SUM(H12:H23)","v":0},{"$f":"SUM(I12+I15+I18+I21)","v":0},{"$f":"SUM(I13+I16+I19+I22)","v":0},{"$f":"SUM(I14+I17+I20+I23)","v":0},{"$f":"SUM(J12:J23)","v":224},{"$f":"SUM(K12:K23)","v":0},{"$f":"SUM(L12:L23)","v":642},{"$f":"SUM(M12+M15+M18+M21)","v":0},{"$f":"SUM(M13+M16+M19+M22)","v":0},{"$f":"SUM(M14+M17+M20+M23)","v":0},{"$f":"SUM(N12:N23)","v":0},{"$f":"SUM(O12:O23)","v":166},{"$f":"SUM(P12:P23)","v":28},{"$f":"SUM(Q12+Q15+Q18+Q21)","v":0},{"$f":"SUM(Q13+Q16+Q19+Q22)","v":0},{"$f":"SUM(Q14+Q17+Q20+Q23)","v":0},{"$f":"SUM(B12:D12)+SUM(B15:D15)+SUM(B18:D18)+SUM(B21:D21)+SUM(F12:H12)+SUM(F15:H15)+SUM(F18:H18)+SUM(F21:H21)+SUM(J12:L12)+SUM(J15:L15)+SUM(J18:L18)+SUM(J21:L21)+SUM(N12:P12)+SUM(N15:P15)+SUM(N18:P18)+SUM(N21:P21)+E14+E17+E20+E23+I14+I17+I20+I23+M14+M17+M20+M23+Q14+Q17+Q20+Q23","v":1627},{"$f":"SUM(B12,B15,B18,B21)","v":0},{"$f":"SUM(C12,C15,C18,C21)","v":0},{"$f":"SUM(D12,D15,D18,D21)","v":0},{"$f":"SUM(E12,E15,E18,E21)","v":0},{"$f":"SUM(F12,F15,F18,F21)","v":63},{"$f":"SUM(G12,G15,G18,G21)","v":540},{"$f":"SUM(H12,H15,H18,H21)","v":0},{"$f":"SUM(I12,I15,I18,I21)","v":0},{"$f":"SUM(J12,J15,J18,J21)","v":214},{"$f":"SUM(K12,K15,K18,K21)","v":0},{"$f":"SUM(L12,L15,L18,L21)","v":631},{"$f":"SUM(M12,M15,M18,M21)","v":0},{"$f":"SUM(N12,N15,N18,N21)","v":0},{"$f":"SUM(O12,O15,O18,O21)","v":154},{"$f":"SUM(P12,P15,P18,P21)","v":25},{"$f":"SUM(Q12,Q15,Q18,Q21)","v":0},{"$f":"SUM(B13:D13)+SUM(B16:D16)+SUM(B19:D19)+SUM(B22:D22)+SUM(F13:H13)+SUM(F16:H16)+SUM(F19:H19)+SUM(F22:H22)+SUM(J13:L13)+SUM(J16:L16)+SUM(J19:L19)+SUM(J22:L22)+SUM(N13:P13)+SUM(N16:P16)+SUM(N19:P19)+SUM(N22:P22)","v":34},{"$f":"SUM(B13,B16,B19,B22)","v":0},{"$f":"SUM(C13,C16,C19,C22)","v":0},{"$f":"SUM(D13,D16,D19,D22)","v":0},{"$f":"SUM(E13,E16,E19,E22)","v":0},{"$f":"SUM(F13,F16,F19,F22)","v":4},{"$f":"SUM(G13,G16,G19,G22)","v":8},{"$f":"SUM(H13,H16,H19,H22)","v":0},{"$f":"SUM(I13,I16,I19,I22)","v":0},{"$f":"SUM(J13,J16,J19,J22)","v":3},{"$f":"SUM(K13,K16,K19,K22)","v":0},{"$f":"SUM(L13,L16,L19,L22)","v":9},{"$f":"SUM(M13,M16,M19,M22)","v":0},{"$f":"SUM(N13,N16,N19,N22)","v":0},{"$f":"SUM(O13,O16,O19,O22)","v":10},{"$f":"SUM(P13,P16,P19,P22)","v":0},{"$f":"SUM(Q13,Q16,Q19,Q22)","v":0},{"$f":"SUM(B14:D14)+SUM(B17:D17)+SUM(B20:D20)+SUM(B23:D23)+SUM(F14:H14)+SUM(F17:H17)+SUM(F20:H20)+SUM(F23:H23)+SUM(J14:L14)+SUM(J17:L17)+SUM(J20:L20)+SUM(J23:L23)+SUM(N14:P14)+SUM(N17:P17)+SUM(N20:P20)+SUM(N23:P23)","v":26},{"$f":"SUM(B14,B17,B20,B23)","v":0},{"$f":"SUM(C14,C17,C20,C23)","v":0},{"$f":"SUM(D14,D17,D20,D23)","v":0},{"$f":"SUM(E14,E17,E20,E23)","v":0},{"$f":"SUM(F14,F17,F20,F23)","v":7},{"$f":"SUM(G14,G17,G20,G23)","v":5},{"$f":"SUM(H14,H17,H20,H23)","v":0},{"$f":"SUM(I14,I17,I20,I23)","v":0},{"$f":"SUM(J14,J17,J20,J23)","v":7},{"$f":"SUM(K14,K17,K20,K23)","v":0},{"$f":"SUM(L14,L17,L20,L23)","v":2},{"$f":"SUM(M14,M17,M20,M23)","v":0},{"$f":"SUM(N14,N17,N20,N23)","v":0},{"$f":"SUM(O14,O17,O20,O23)","v":2},{"$f":"SUM(P14,P17,P20,P23)","v":3},{"$f":"SUM(Q14,Q17,Q20,Q23)","v":0}]
["07:30:00.922",{"$f":"ROUND('Import Tab'!E13*'Base Information'!$V$22,0)","v":0},{"$f":"ROUND('Import Tab'!D13*'Base Information'!$V$22,0)","v":0},{"$f":"ROUND('Import Tab'!C13*'Base Information'!$V$22,0)","v":0},{"$f":"ROUND('Import Tab'!F13,0)","v":0},{"$f":"ROUND('Import Tab'!I13*'Base Information'!$V$22,0)","v":1},{"$f":"ROUND('Import Tab'!H13*'Base Information'!$V$22,0)","v":0},{"$f":"ROUND('Import Tab'!G13*'Base Information'!$V$22,0)","v":0},{"$f":"ROUND('Import Tab'!J13,0)","v":0},{"$f":"ROUND('Import Tab'!M13*'Base Information'!$V$22,0)","v":0},{"$f":"ROUND('Import Tab'!L13*'Base Information'!$V$22,0)","v":0},{"$f":"ROUND('Import Tab'!K13*'Base Information'!$V$22,0)","v":1},{"$f":"ROUND('Import Tab'!N13,0)","v":0},{"$f":"ROUND('Import Tab'!Q13*'Base Information'!$V$22,0)","v":0},{"$f":"ROUND('Import Tab'!P13*'Base Information'!$V$22,0)","v":1},{"$f":"ROUND('Import Tab'!O13*'Base Information'!$V$22,0)","v":0},{"$f":"ROUND('Import Tab'!R13,0)","v":0}]
["07:30:00.922",{"$f":"ROUND('Import Tab'!E14*'Base Information'!$V$22,0)","v":0},{"$f":"ROUND('Import Tab'!D14*'Base Information'!$V$22,0)","v":0},{"$f":"ROUND('Import Tab'!C14*'Base Information'!$V$22,0)","v":0},{"$f":"ROUND('Import Tab'!F14,0)","v":0},{"$f":"ROUND('Import Tab'!I14*'Base Information'!$V$22,0)","v":2},{"$f":"ROUND('Import Tab'!H14*'Base Information'!$V$22,0)","v":0},{"$f":"ROUND('Import Tab'!G14*'Base Information'!$V$22,0)","v":0},{"$f":"ROUND('Import Tab'!J14,0)","v":0},{"$f":"ROUND('Import Tab'!M14*'Base Information'!$V$22,0)","v":1},{"$f":"ROUND('Import Tab'!L14*'Base Information'!$V$22,0)","v":0},{"$f":"ROUND('Import Tab'!K14*'Base Information'!$V$22,0)","v":1},{"$f":"ROUND('Import Tab'!N14,0)","v":0},{"$f":"ROUND('Import Tab'!Q14*'Base Information'!$V$22,0)","v":0},{"$f":"ROUND('Import Tab'!P14*'Base Information'!$V$22,0)","v":0},{"$f":"ROUND('Import Tab'!O14*'Base Information'!$V$22,0)","v":2},{"$f":"ROUND('Import Tab'!R14,0)","v":0}]
["07:45:00.950",{"$f":"ROUND('Import Tab'!E15*'Base Information'!$V$22,0)","v":0},{"$f":"ROUND('Import Tab'!D15*'Base Information'!$V$22,0)","v":0},{"$f":"ROUND('Import Tab'!C15*'Base Information'!$V$22,0)","v":0},{"$f":"ROUND('Import Tab'!F15,0)","v":0},{"$f":"ROUND('Import Tab'!I15*'Base Information'!$V$22,0)","v":16},{"$f":"ROUND('Import Tab'!H15*'Base Information'!$V$22,0)","v":141},{"$f":"ROUND('Import Tab'!G15*'Base Information'!$V$22,0)","v":0},{"$f":"ROUND('Import Tab'!J15,0)","v":0},{"$f":"ROUND('Import Tab'!M15*'Base Information'!$V$22,0)","v":59},{"$f":"ROUND('Import Tab'!L15*'Base Information'!$V$22,0)","v":0},{"$f":"ROUND('Import Tab'!K15*'Base Information'!$V$22,0)","v":186},{"$f":"ROUND('Import Tab'!N15,0)","v":0},{"$f":"ROUND('Import Tab'!Q15*'Base Information'!$V$22,0)","v":0},{"$f":"ROUND('Import Tab'!P15*'Base Information'!$V$22,0)","v":53},{"$f":"ROUND('Import Tab'!O15*'Base Information'!$V$22,0)","v":3},{"$f":"ROUND('Import Tab'!R15,0)","v":0},{"$f":"SUM(B15:D17)+SUM(F15:H17)+SUM(J15:L17)+SUM(N15:P17)+E17+I17+M17+Q17","v":476},{"$f":"B15+B16+B17","v":0},0,0,{"$f":"E15","v":0},{"$f":"E16","v":0},{"$f":"E17","v":0},{"$f":"F15+F16+F17","v":18},{"$f":"G15+G16+G17","v":143},{"$f":"H15+H16+H17","v":0},{"$f":"I15","v":0},{"$f":"I16","v":0},{"$f":"I17","v":0},{"$f":"J15+J16+J17","v":63},{"$f":"K15+K16+K17","v":0},{"$f":"L15+L16+L17","v":189},{"$f":"M15","v":0},{"$f":"M16","v":0},{"$f":"M17","v":0},{"$f":"N15+N16+N17","v":0},{"$f":"O15+O16+O17","v":59},{"$f":"P15+P16+P17","v":4},{"$f":"Q15","v":0},{"$f":"Q16","v":0},{"$f":"Q17","v":0},{"$f":"SUM(B15:D15)+SUM(F15:H15)+SUM(J15:L15)+SUM(N15:P15)+E17+I17+M17+Q17","v":458},{"$f":"B15","v":0},{"$f":"C15","v":0},{"$f":"D15","v":0},{"$f":"E15","v":0},{"$f":"F15","v":16},{"$f":"G15","v":141},{"$f":"H15","v":0},{"$f":"I15","v":0},{"$f":"J15","v":59},{"$f":"K15","v":0},{"$f":"L15","v":186},{"$f":"M15","v":0},{"$f":"N15","v":0},{"$f":"O15","v":53},{"$f":"P15","v":3},{"$f":"Q15","v":0},{"$f":"SUM(B16:D16)+SUM(F16:H16)+SUM(J16:L16)+SUM(N16:P16)","v":10},{"$f":"B16","v":0},{"$f":"C16","v":0},{"$f":"D16","v":0},{"$f":"E16","v":0},{"$f":"F16","v":0},{"$f":"G16","v":2},{"$f":"H16","v":0},{"$f":"I16","v":0},{"$f":"J16","v":1},{"$f":"K16","v":0},{"$f":"L16","v":3},{"$f":"M16","v":0},{"$f":"N16","v":0},{"$f":"O16","v":4},{"$f":"P16","v":0},{"$f":"Q16","v":0},{"$f":"SUM(B17:D17)+SUM(F17:H17)+SUM(J17:L17)+SUM(N17:P17)","v":8},{"$f":"B17","v":0},{"$f":"C17","v":0},{"$f":"D17","v":0},{"$f":"E17","v":0},{"$f":"F17","v":2},{"$f":"G17","v":0},{"$f":"H17","v":0},{"$f":"I17","v":0},{"$f":"J17","v":3},{"$f":"K17","v":0},{"$f":"L17","v":0},{"$f":"M17","v":0},{"$f":"N17","v":0},{"$f":"O17","v":2},{"$f":"P17","v":1},{"$f":"Q17","v":0},{"$f":"SUM(B15:D26,E17,E20,E23,E26,F15:H26,I17,I20,I23,I26,J15:L26,M17,M20,M23,M26,N15:P26,Q17,Q20,Q23,Q26)","v":1988},{"$f":"SUM(B15:B26)","v":0},{"$f":"SUM(C15:C26)","v":0},{"$f":"SUM(D15:D26)","v":0},{"$f":"SUM(E15+E18+E21+E24)","v":0},{"$f":"SUM(E16+E19+E22+E25)","v":0},{"$f":"SUM(E17+E20+E23+E26)","v":0},{"$f":"SUM(F15:F26)","v":77},{"$f":"SUM(G15:G26)","v":676},{"$f":"SUM(H15:H26)","v":0},{"$f":"SUM(I15+I18+I21+I24)","v":0},{"$f":"SUM(I16+I19+I22+I25)","v":0},{"$f":"SUM(I17+I20+I23+I26)","v":0},{"$f":"SUM(J15:J26)","v":258},{"$f":"SUM(K15:K26)","v":1},{"$f":"SUM(L15:L26)","v":780},{"$f":"SUM(M15+M18+M21+M24)","v":0},{"$f":"SUM(M16+M19+M22+M25)","v":0},{"$f":"SUM(M17+M20+M23+M26)","v":0},{"$f":"SUM(N15:N26)","v":0},{"$f":"SUM(O15:O26)","v":169},{"$f":"SUM(P15:P26)","v":27},{"$f":"SUM(Q15+Q18+Q21+Q24)","v":0},{"$f":"SUM(Q16+Q19+Q22+Q25)","v":0},{"$f":"SUM(Q17+Q20+Q23+Q26)","v":0},{"$f":"SUM(B15:D15)+SUM(B18:D18)+SUM(B21:D21)+SUM(B24:D24)+SUM(F15:H15)+SUM(F18:H18)+SUM(F21:H21)+SUM(F24:H24)+SUM(J15:L15)+SUM(J18:L18)+SUM(J21:L21)+SUM(J24:L24)+SUM(N15:P15)+SUM(N18:P18)+SUM(N21:P21)+SUM(N24:P24)+E17+E20+E23+E26+I17+I20+I23+I26+M17+M20+M23+M26+Q17+Q20+Q23+Q26","v":1917},{"$f":"SUM(B15,B18,B21,B24)","v":0},{"$f":"SUM(C15,C18,C21,C24)","v":0},{"$f":"SUM(D15,D18,D21,D24)","v":0},{"$f":"SUM(E15,E18,E21,E24)","v":0},{"$f":"SUM(F15,F18,F21,F24)","v":65},{"$f":"SUM(G15,G18,G21,G24)","v":660},{"$f":"SUM(H15,H18,H21,H24)","v":0},{"$f":"SUM(I15,I18,I21,I24)","v":0},{"$f":"SUM(J15,J18,J21,J24)","v":246},{"$f":"SUM(K15,K18,K21,K24)","v":0},{"$f":"SUM(L15,L18,L21,L24)","v":767},{"$f":"SUM(M15,M18,M21,M24)","v":0},{"$f":"SUM(N15,N18,N21,N24)","v":0},{"$f":"SUM(O15,O18,O21,O24)","v":153},{"$f":"SUM(P15,P18,P21,P24)","v":26},{"$f":"SUM(Q15,Q18,Q21,Q24)","v":0},{"$f":"SUM(B16:D16)+SUM(B19:D19)+SUM(B22:D22)+SUM(B25:D25)+SUM(F16:H16)+SUM(F19:H19)+SUM(F22:H22)+SUM(F25:H25)+SUM(J16:L16)+SUM(J19:L19)+SUM(J22:L22)+SUM(J25:L25)+SUM(N16:P16)+SUM(N19:P19)+SUM(N22:P22)+SUM(N25:P25)","v":42},{"$f":"SUM(B16,B19,B22,B25)","v":0},{"$f":"SUM(C16,C19,C22,C25)","v":0},{"$f":"SUM(D16,D19,D22,D25)","v":0},{"$f":"SUM(E16,E19,E22,E25)","v":0},{"$f":"SUM(F16,F19,F22,F25)","v":6},{"$f":"SUM(G16,G19,G22,G25)","v":9},{"$f":"SUM(H16,H19,H22,H25)","v":0},{"$f":"SUM(I16,I19,I22,I25)","v":0},{"$f":"SUM(J16,J19,J22,J25)","v":5},{"$f":"SUM(K16,K19,K22,K25)","v":0},{"$f":"SUM(L16,L19,L22,L25)","v":11},{"$f":"SUM(M16,M19,M22,M25)","v":0},{"$f":"SUM(N16,N19,N22,N25)","v":0},{"$f":"SUM(O16,O19,O22,O25)","v":11},{"$f":"SUM(P16,P19,P22,P25)","v":0},{"$f":"SUM(Q16,Q19,Q22,Q25)","v":0},{"$f":"SUM(B17:D17)+SUM(B20:D20)+SUM(B23:D23)+SUM(B26:D26)+SUM(F17:H17)+SUM(F20:H20)+SUM(F23:H23)+SUM(F26:H26)+SUM(J17:L17)+SUM(J20:L20)+SUM(J23:L23)+SUM(J26:L26)+SUM(N17:P17)+SUM(N20:P20)+SUM(N23:P23)+SUM(N26:P26)","v":29},{"$f":"SUM(B17,B20,B23,B26)","v":0},{"$f":"SUM(C17,C20,C23,C26)","v":0},{"$f":"SUM(D17,D20,D23,D26)","v":0},{"$f":"SUM(E17,E20,E23,E26)","v":0},{"$f":"SUM(F17,F20,F23,F26)","v":6},{"$f":"SUM(G17,G20,G23,G26)","v":7},{"$f":"SUM(H17,H20,H23,H26)","v":0},{"$f":"SUM(I17,I20,I23,I26)","v":0},{"$f":"SUM(J17,J20,J23,J26)","v":7},{"$f":"SUM(K17,K20,K23,K26)","v":1},{"$f":"SUM(L17,L20,L23,L26)","v":2},{"$f":"SUM(M17,M20,M23,M26)","v":0},{"$f":"SUM(N17,N20,N23,N26)","v":0},{"$f":"SUM(O17,O20,O23,O26)","v":5},{"$f":"SUM(P17,P20,P23,P26)","v":1},{"$f":"SUM(Q17,Q20,Q23,Q26)","v":0}]
["07:45:00.950",{"$f":"ROUND('Import Tab'!E16*'Base Information'!$V$22,0)","v":0},{"$f":"ROUND('Import Tab'!D16*'Base Information'!$V$22,0)","v":0},{"$f":"ROUND('Import Tab'!C16*'Base Information'!$V$22,0)","v":0},{"$f":"ROUND('Import Tab'!F16,0)","v":0},{"$f":"ROUND('Import Tab'!I16*'Base Information'!$V$22,0)","v":0},{"$f":"ROUND('Import Tab'!H16*'Base Information'!$V$22,0)","v":2},{"$f":"ROUND('Import Tab'!G16*'Base Information'!$V$22,0)","v":0},{"$f":"ROUND('Import Tab'!J16,0)","v":0},{"$f":"ROUND('Import Tab'!M16*'Base Information'!$V$22,0)","v":1},{"$f":"ROUND('Import Tab'!L16*'Base Information'!$V$22,0)","v":0},{"$f":"ROUND('Import Tab'!K16*'Base Information'!$V$22,0)","v":3},{"$f":"ROUND('Import Tab'!N16,0)","v":0},{"$f":"ROUND('Import Tab'!Q16*'Base Information'!$V$22,0)","v":0},{"$f":"ROUND('Import Tab'!P16*'Base Information'!$V$22,0)","v":4},{"$f":"ROUND('Import Tab'!O16*'Base Information'!$V$22,0)","v":0},{"$f":"ROUND('Import Tab'!R16,0)","v":0}]
["07:45:00.950",{"$f":"ROUND('Import Tab'!E17*'Base Information'!$V$22,0)","v":0},{"$f":"ROUND('Import Tab'!D17*'Base Information'!$V$22,0)","v":0},{"$f":"ROUND('Import Tab'!C17*'Base Information'!$V$22,0)","v":0},{"$f":"ROUND('Import Tab'!F17,0)","v":0},{"$f":"ROUND('Import Tab'!I17*'Base Information'!$V$22,0)","v":2},{"$f":"ROUND('Import Tab'!H17*'Base Information'!$V$22,0)","v":0},{"$f":"ROUND('Import Tab'!G17*'Base Information'!$V$22,0)","v":0},{"$f":"ROUND('Import Tab'!J17,0)","v":0},{"$f":"ROUND('Import Tab'!M17*'Base Information'!$V$22,0)","v":3},{"$f":"ROUND('Import Tab'!L17*'Base Information'!$V$22,0)","v":0},{"$f":"ROUND('Import Tab'!K17*'Base Information'!$V$22,0)","v":0},{"$f":"ROUND('Import Tab'!N17,0)","v":0},{"$f":"ROUND('Import Tab'!Q17*'Base Information'!$V$22,0)","v":0},{"$f":"ROUND('Import Tab'!P17*'Base Information'!$V$22,0)","v":2},{"$f":"ROUND('Import Tab'!O17*'Base Information'!$V$22,0)","v":1},{"$f":"ROUND('Import Tab'!R17,0)","v":0}]
["08:00:00.979",{"$f":"ROUND('Import Tab'!E18*'Base Information'!$V$22,0)","v":0},{"$f":"ROUND('Import Tab'!D18*'Base Information'!$V$22,0)","v":0},{"$f":"ROUND('Import Tab'!C18*'Base Information'!$V$22,0)","v":0},{"$f":"ROUND('Import Tab'!F18,0)","v":0},{"$f":"ROUND('Import Tab'!I18*'Base Information'!$V$22,0)","v":10},{"$f":"ROUND('Import Tab'!H18*'Base Information'!$V$22,0)","v":153},{"$f":"ROUND('Import Tab'!G18*'Base Information'!$V$22,0)","v":0},{"$f":"ROUND('Import Tab'!J18,0)","v":0},{"$f":"ROUND('Import Tab'!M18*'Base Information'!$V$22,0)","v":51},{"$f":"ROUND('Import Tab'!L18*'Base Information'!$V$22,0)","v":0},{"$f":"ROUND('Import Tab'!K18*'Base Information'!$V$22,0)","v":140},{"$f":"ROUND('Import Tab'!N18,0)","v":0},{"$f":"ROUND('Import Tab'!Q18*'Base Information'!$V$22,0)","v":0},{"$f":"ROUND('Import Tab'!P18*'Base Information'!$V$22,0)","v":34},{"$f":"ROUND('Import Tab'!O18*'Base Information'!$V$22,0)","v":7},{"$f":"ROUND('Import Tab'!R18,0)","v":0},{"$f":"SUM(B18:D20)+SUM(F18:H20)+SUM(J18:L20)+SUM(N18:P20)+E20+I20+M20+Q20","v":410},{"$f":"B18+B19+B20","v":0},0,0,{"$f":"E18","v":0},{"$f":"E19","v":0},{"$f":"E20","v":0},{"$f":"F18+F19+F20","v":12},{"$f":"G18+G19+G20","v":158},{"$f":"H18+H19+H20","v":0},{"$f":"I18","v":0},{"$f":"I19","v":0},{"$f":"I20","v":0},{"$f":"J18+J19+J20","v":55},{"$f":"K18+K19+K20","v":0},{"$f":"L18+L19+L20","v":142},{"$f":"M18","v":0},{"$f":"M19","v":0},{"$f":"M20","v":0},{"$f":"N18+N19+N20","v":0},{"$f":"O18+O19+O20","v":36},{"$f":"P18+P19+P20","v":7},{"$f":"Q18","v":0},{"$f":"Q19","v":0},{"$f":"Q20","v":0},{"$f":"SUM(B18:D18)+SUM(F18:H18)+SUM(J18:L18)+SUM(N18:P18)+E20+I20+M20+Q20","v":395},{"$f":"B18","v":0},{"$f":"C18","v":0},{"$f":"D18","v":0},{"$f":"E18","v":0},{"$f":"F18","v":10},{"$f":"G18","v":153},{"$f":"H18","v":0},{"$f":"I18","v":0},{"$f":"J18","v":51},{"$f":"K18","v":0},{"$f":"L18","v":140},{"$f":"M18","v":0},{"$f":"N18","v":0},{"$f":"O18","v":34},{"$f":"P18","v":7},{"$f":"Q18","v":0},{"$f":"SUM(B19:D19)+SUM(F19:H19)+SUM(J19:L19)+SUM(N19:P19)","v":6},{"$f":"B19","v":0},{"$f":"C19","v":0},{"$f":"D19","v":0},{"$f":"E19","v":0},{"$f":"F19","v":0},{"$f":"G19","v":1},{"$f":"H19","v":0},{"$f":"I19","v":0},{"$f":"J19","v":1},{"$f":"K19","v":0},{"$f":"L19","v":2},{"$f":"M19","v":0},{"$f":"N19","v":0},{"$f":"O19","v":2},{"$f":"P19","v":0},{"$f":"Q19","v":0},{"$f":"SUM(B20:D20)+SUM(F20:H20)+SUM(J20:L20)+SUM(N20:P20)","v":9},{"$f":"B20","v":0},{"$f":"C20","v":0},{"$f":"D20","v":0},{"$f":"E20","v":0},{"$f":"F20","v":2},{"$f":"G20","v":4},{"$f":"H20","v":0},{"$f":"I20","v":0},{"$f":"J20","v":3},{"$f":"K20","v":0},{"$f":"L20","v":0},{"$f":"M20","v":0},{"$f":"N20","v":0},{"$f":"O20","v":0},{"$f":"P20","v":0},{"$f":"Q20","v":0},{"$f":"SUM(B18:D29,E20,E23,E26,E29,F18:H29,I20,I23,I26,I29,J18:L29,M20,M23,M26,M29,N18:P29,Q20,Q23,Q26,Q29)","v":2196},{"$f":"SUM(B18:B29)","v":0},{"$f":"SUM(C18:C29)","v":0},{"$f":"SUM(D18:D29)","v":0},{"$f":"SUM(E18+E21+E24+E27)","v":0},{"$f":"SUM(E19+E22+E25+E28)","v":0},{"$f":"SUM(E20+E23+E26+E29)","v":0},{"$f":"SUM(F18:F29)","v":88},{"$f":"SUM(G18:G29)","v":810},{"$f":"SUM(H18:H29)","v":0},{"$f":"SUM(I18+I21+I24+I27)","v":0},{"$f":"SUM(I19+I22+I25+I28)","v":0},{"$f":"SUM(I20+I23+I26+I29)","v":0},{"$f":"SUM(J18:J29)","v":259},{"$f":"SUM(K18:K29)","v":1},{"$f":"SUM(L18:L29)","v":833},{"$f":"SUM(M18+M21+M24+M27)","v":0},{"$f":"SUM(M19+M22+M25+M28)","v":0},{"$f":"SUM(M20+M23+M26+M29)","v":0},{"$f":"SUM(N18:N29)","v":0},{"$f":"SUM(O18:O29)","v":173},{"$f":"SUM(P18:P29)","v":32},{"$f":"SUM(Q18+Q21+Q24+Q27)","v":0},{"$f":"SUM(Q19+Q22+Q25+Q28)","v":0},{"$f":"SUM(Q20+Q23+Q26+Q29)","v":0},{"$f":"SUM(B18:D18)+SUM(B21:D21)+SUM(B24:D24)+SUM(B27:D27)+SUM(F18:H18)+SUM(F21:H21)+SUM(F24:H24)+SUM(F27:H27)+SUM(J18:L18)+SUM(J21:L21)+SUM(J24:L24)+SUM(J27:L27)+SUM(N18:P18)+SUM(N21:P21)+SUM(N24:P24)+SUM(N27:P27)+E20+E23+E26+E29+I20+I23+I26+I29+M20+M23+M26+M29+Q20+Q23+Q26+Q29","v":2112},{"$f":"SUM(B18,B21,B24,B27)","v":0},{"$f":"SUM(C18,C21,C24,C27)","v":0},{"$f":"SUM(D18,D21,D24,D27)","v":0},{"$f":"SUM(E18,E21,E24,E27)","v":0},{"$f":"SUM(F18,F21,F24,F27)","v":76},{"$f":"SUM(G18,G21,G24,G27)","v":787},{"$f":"SUM(H18,H21,H24,H27)","v":0},{"$f":"SUM(I18,I21,I24,I27)","v":0},{"$f":"SUM(J18,J21,J24,J27)","v":248},{"$f":"SUM(K18,K21,K24,K27)","v":0},{"$f":"SUM(L18,L21,L24,L27)","v":819},{"$f":"SUM(M18,M21,M24,M27)","v":0},{"$f":"SUM(N18,N21,N24,N27)","v":0},{"$f":"SUM(O18,O21,O24,O27)","v":150},{"$f":"SUM(P18,P21,P24,P27)","v":32},{"$f":"SUM(Q18,Q21,Q24,Q27)","v":0},{"$f":"SUM(B19:D19)+SUM(B22:D22)+SUM(B25:D25)+SUM(B28:D28)+SUM(F19:H19)+SUM(F22:H22)+SUM(F25:H25)+SUM(F28:H28)+SUM(J19:L19)+SUM(J22:L22)+SUM(J25:L25)+SUM(J28:L28)+SUM(N19:P19)+SUM(N22:P22)+SUM(N25:P25)+SUM(N28:P28)","v":57},{"$f":"SUM(B19,B22,B25,B28)","v":0},{"$f":"SUM(C19,C22,C25,C28)","v":0},{"$f":"SUM(D19,D22,D25,D28)","v":0},{"$f":"SUM(E19,E22,E25,E28)","v":0},{"$f":"SUM(F19,F22,F25,F28)","v":7},{"$f":"SUM(G19,G22,G25,G28)","v":15},{"$f":"SUM(H19,H22,H25,H28)","v":0},{"$f":"SUM(I19,I22,I25,I28)","v":0},{"$f":"SUM(J19,J22,J25,J28)","v":5},{"$f":"SUM(K19,K22,K25,K28)","v":0},{"$f":"SUM(L19,L22,L25,L28)","v":12},{"$f":"SUM(M19,M22,M25,M28)","v":0},{"$f":"SUM(N19,N22,N25,N28)","v":0},{"$f":"SUM(O19,O22,O25,O28)","v":18},{"$f":"SUM(P19,P22,P25,P28)","v":0},{"$f":"SUM(Q19,Q22,Q25,Q28)","v":0},{"$f":"SUM(B20:D20)+SUM(B23:D23)+SUM(B26:D26)+SUM(B29:D29)+SUM(F20:H20)+SUM(F23:H23)+SUM(F26:H26)+SUM(F29:H29)+SUM(J20:L20)+SUM(J23:L23)+SUM(J26:L26)+SUM(J29:L29)+SUM(N20:P20)+SUM(N23:P23)+SUM(N26:P26)+SUM(N29:P29)","v":27},{"$f":"SUM(B20,B23,B26,B29)","v":0},{"$f":"SUM(C20,C23,C26,C29)","v":0},{"$f":"SUM(D20,D23,D26,D29)","v":0},{"$f":"SUM(E20,E23,E26,E29)","v":0},{"$f":"SUM(F20,F23,F26,F29)","v":5},{"$f":"SUM(G20,G23,G26,G29)","v":8},{"$f":"SUM(H20,H23,H26,H29)","v":0},{"$f":"SUM(I20,I23,I26,I29)","v":0},{"$f":"SUM(J20,J23,J26,J29)","v":6},{"$f":"SUM(K20,K23,K26,K29)","v":1},{"$f":"SUM(L20,L23,L26,L29)","v":2},{"$f":"SUM(M20,M23,M26,M29)","v":0},{"$f":"SUM(N20,N23,N26,N29)","v":0},{"$f":"SUM(O20,O23,O26,O29)","v":5},{"$f":"SUM(P20,P23,P26,P29)","v":0},{"$f":"SUM(Q20,Q23,Q26,Q29)","v":0}]
["08:00:00.979",{"$f":"ROUND('Import Tab'!E19*'Base Information'!$V$22,0)","v":0},{"$f":"ROUND('Import Tab'!D19*'Base Information'!$V$22,0)","v":0},{"$f":"ROUND('Import Tab'!C19*'Base Information'!$V$22,0)","v":0},{"$f":"ROUND('Import Tab'!F19,0)","v":0},{"$f":"ROUND('Import Tab'!I19*'Base Information'!$V$22,0)","v":0},{"$f":"ROUND('Import Tab'!H19*'Base Information'!$V$22,0)","v":1},{"$f":"ROUND('Import Tab'!G19*'Base Information'!$V$22,0)","v":0},{"$f":"ROUND('Import Tab'!J19,0)","v":0},{"$f":"ROUND('Import Tab'!M19*'Base Information'!$V$22,0)","v":1},{"$f":"ROUND('Import Tab'!L19*'Base Information'!$V$22,0)","v":0},{"$f":"ROUND('Import Tab'!K19*'Base Information'!$V$22,0)","v":2},{"$f":"ROUND('Import Tab'!N19,0)","v":0},{"$f":"ROUND('Import Tab'!Q19*'Base Information'!$V$22,0)","v":0},{"$f":"ROUND('Import Tab'!P19*'Base Information'!$V$22,0)","v":2},{"$f":"ROUND('Import Tab'!O19*'Base Information'!$V$22,0)","v":0},{"$f":"ROUND('Import Tab'!R19,0)","v":0}]
["08:00:00.979",{"$f":"ROUND('Import Tab'!E20*'Base Information'!$V$22,0)","v":0},{"$f":"ROUND('Import Tab'!D20*'Base Information'!$V$22,0)","v":0},{"$f":"ROUND('Import Tab'!C20*'Base Information'!$V$22,0)","v":0},{"$f":"ROUND('Import Tab'!F20,0)","v":0},{"$f":"ROUND('Import Tab'!I20*'Base Information'!$V$22,0)","v":2},{"$f":"ROUND('Import Tab'!H20*'Base Information'!$V$22,0)","v":4},{"$f":"ROUND('Import Tab'!G20*'Base Information'!$V$22,0)","v":0},{"$f":"ROUND('Import Tab'!J20,0)","v":0},{"$f":"ROUND('Import Tab'!M20*'Base Information'!$V$22,0)","v":3},{"$f":"ROUND('Import Tab'!L20*'Base Information'!$V$22,0)","v":0},{"$f":"ROUND('Import Tab'!K20*'Base Information'!$V$22,0)","v":0},{"$f":"ROUND('Import Tab'!N20,0)","v":0},{"$f":"ROUND('Import Tab'!Q20*'Base Information'!$V$22,0)","v":0},{"$f":"ROUND('Import Tab'!P20*'Base Information'!$V$22,0)","v":0},{"$f":"ROUND('Import Tab'!O20*'Base Information'!$V$22,0)","v":0},{"$f":"ROUND('Import Tab'!R20,0)","v":0}]
["08:15:01.008",{"$f":"ROUND('Import Tab'!E21*'Base Information'!$V$22,0)","v":0},{"$f":"ROUND('Import Tab'!D21*'Base Information'!$V$22,0)","v":0},{"$f":"ROUND('Import Tab'!C21*'Base Information'!$V$22,0)","v":0},{"$f":"ROUND('Import Tab'!F21,0)","v":0},{"$f":"ROUND('Import Tab'!I21*'Base Information'!$V$22,0)","v":24},{"$f":"ROUND('Import Tab'!H21*'Base Information'!$V$22,0)","v":145},{"$f":"ROUND('Import Tab'!G21*'Base Information'!$V$22,0)","v":0},{"$f":"ROUND('Import Tab'!J21,0)","v":0},{"$f":"ROUND('Import Tab'!M21*'Base Information'!$V$22,0)","v":73},{"$f":"ROUND('Import Tab'!L21*'Base Information'!$V$22,0)","v":0},{"$f":"ROUND('Import Tab'!K21*'Base Information'!$V$22,0)","v":212},{"$f":"ROUND('Import Tab'!N21,0)","v":0},{"$f":"ROUND('Import Tab'!Q21*'Base Information'!$V$22,0)","v":0},{"$f":"ROUND('Import Tab'!P21*'Base Information'!$V$22,0)","v":32},{"$f":"ROUND('Import Tab'!O21*'Base Information'!$V$22,0)","v":12},{"$f":"ROUND('Import Tab'!R21,0)","v":0},{"$f":"SUM(B21:D23)+SUM(F21:H23)+SUM(J21:L23)+SUM(N21:P23)+E23+I23+M23+Q23","v":516},{"$f":"B21+B22+B23","v":0},0,0,{"$f":"E21","v":0},{"$f":"E22","v":0},{"$f":"E23","v":0},{"$f":"F21+F22+F23","v":28},{"$f":"G21+G22+G23","v":151},{"$f":"H21+H22+H23","v":0},{"$f":"I21","v":0},{"$f":"I22","v":0},{"$f":"I23","v":0},{"$f":"J21+J22+J23","v":74},{"$f":"K21+K22+K23","v":0},{"$f":"L21+L22+L23","v":216},{"$f":"M21","v":0},{"$f":"M22","v":0},{"$f":"M23","v":0},{"$f":"N21+N22+N23","v":0},{"$f":"O21+O22+O23","v":35},{"$f":"P21+P22+P23","v":12},{"$f":"Q21","v":0},{"$f":"Q22","v":0},{"$f":"Q23","v":0},{"$f":"SUM(B21:D21)+SUM(F21:H21)+SUM(J21:L21)+SUM(N21:P21)+E23+I23+M23+Q23","v":498},{"$f":"B21","v":0},{"$f":"C21","v":0},{"$f":"D21","v":0},{"$f":"E21","v":0},{"$f":"F21","v":24},{"$f":"G21","v":145},{"$f":"H21","v":0},{"$f":"I21","v":0},{"$f":"J21","v":73},{"$f":"K21","v":0},{"$f":"L21","v":212},{"$f":"M21","v":0},{"$f":"N21","v":0},{"$f":"O21","v":32},{"$f":"P21","v":12},{"$f":"Q21","v":0},{"$f":"SUM(B22:D22)+SUM(F22:H22)+SUM(J22:L22)+SUM(N22:P22)","v":15},{"$f":"B22","v":0},{"$f":"C22","v":0},{"$f":"D22","v":0},{"$f":"E22","v":0},{"$f":"F22","v":3},{"$f":"G22","v":5},{"$f":"H22","v":0},{"$f":"I22","v":0},{"$f":"J22","v":1},{"$f":"K22","v":0},{"$f":"L22","v":3},{"$f":"M22","v":0},{"$f":"N22","v":0},{"$f":"O22","v":3},{"$f":"P22","v":0},{"$f":"Q22","v":0},{"$f":"SUM(B23:D23)+SUM(F23:H23)+SUM(J23:L23)+SUM(N23:P23)","v":3},{"$f":"B23","v":0},{"$f":"C23","v":0},{"$f":"D23","v":0},{"$f":"E23","v":0},{"$f":"F23","v":1},{"$f":"G23","v":1},{"$f":"H23","v":0},{"$f":"I23","v":0},{"$f":"J23","v":0},{"$f":"K23","v":0},{"$f":"L23","v":1},{"$f":"M23","v":0},{"$f":"N23","v":0},{"$f":"O23","v":0},{"$f":"P23","v":0},{"$f":"Q23","v":0},{"$f":"SUM(B21:D32,E23,E26,E29,E32,F21:H32,I23,I26,I29,I32,J21:L32,M23,M26,M29,M32,N21:P32,Q23,Q26,Q29,Q32)","v":2223},{"$f":"SUM(B21:B32)","v":0},{"$f":"SUM(C21:C32)","v":0},{"$f":"SUM(D21:D32)","v":0},{"$f":"SUM(E21+E24+E27+E30)","v":0},{"$f":"SUM(E22+E25+E28+E31)","v":0},{"$f":"SUM(E23+E26+E29+E32)","v":0},{"$f":"SUM(F21:F32)","v":88},{"$f":"SUM(G21:G32)","v":822},{"$f":"SUM(H21:H32)","v":0},{"$f":"SUM(I21+I24+I27+I30)","v":0},{"$f":"SUM(I22+I25+I28+I31)","v":0},{"$f":"SUM(I23+I26+I29+I32)","v":0},{"$f":"SUM(J21:J32)","v":246},{"$f":"SUM(K21:K32)","v":1},{"$f":"SUM(L21:L32)","v":855},{"$f":"SUM(M21+M24+M27+M30)","v":0},{"$f":"SUM(M22+M25+M28+M31)","v":0},{"$f":"SUM(M23+M26+M29+M32)","v":0},{"$f":"SUM(N21:N32)","v":0},{"$f":"SUM(O21:O32)","v":178},{"$f":"SUM(P21:P32)","v":33},{"$f":"SUM(Q21+Q24+Q27+Q30)","v":0},{"$f":"SUM(Q22+Q25+Q28+Q31)","v":0},{"$f":"SUM(Q23+Q26+Q29+Q32)","v":0},{"$f":"SUM(B21:D21)+SUM(B24:D24)+SUM(B27:D27)+SUM(B30:D30)+SUM(F21:H21)+SUM(F24:H24)+SUM(F27:H27)+SUM(F30:H30)+SUM(J21:L21)+SUM(J24:L24)+SUM(J27:L27)+SUM(J30:L30)+SUM(N21:P21)+SUM(N24:P24)+SUM(N27:P27)+SUM(N30:P30)+E23+E26+E29+E32+I23+I26+I29+I32+M23+M26+M29+M32+Q23+Q26+Q29+Q32","v":2125},{"$f":"SUM(B21,B24,B27,B30)","v":0},{"$f":"SUM(C21,C24,C27,C30)","v":0},{"$f":"SUM(D21,D24,D27,D30)","v":0},{"$f":"SUM(E21,E24,E27,E30)","v":0},{"$f":"SUM(F21,F24,F27,F30)","v":77},{"$f":"SUM(G21,G24,G27,G30)","v":796},{"$f":"SUM(H21,H24,H27,H30)","v":0},{"$f":"SUM(I21,I24,I27,I30)","v":0},{"$f":"SUM(J21,J24,J27,J30)","v":233},{"$f":"SUM(K21,K24,K27,K30)","v":0},{"$f":"SUM(L21,L24,L27,L30)","v":839},{"$f":"SUM(M21,M24,M27,M30)","v":0},{"$f":"SUM(N21,N24,N27,N30)","v":0},{"$f":"SUM(O21,O24,O27,O30)","v":150},{"$f":"SUM(P21,P24,P27,P30)","v":30},{"$f":"SUM(Q21,Q24,Q27,Q30)","v":0},{"$f":"SUM(B22:D22)+SUM(B25:D25)+SUM(B28:D28)+SUM(B31:D31)+SUM(F22:H22)+SUM(F25:H25)+SUM(F28:H28)+SUM(F31:H31)+SUM(J22:L22)+SUM(J25:L25)+SUM(J28:L28)+SUM(J31:L31)+SUM(N22:P22)+SUM(N25:P25)+SUM(N28:P28)+SUM(N31:P31)","v":68},{"$f":"SUM(B22,B25,B28,B31)","v":0},{"$f":"SUM(C22,C25,C28,C31)","v":0},{"$f":"SUM(D22,D25,D28,D31)","v":0},{"$f":"SUM(E22,E25,E28,E31)","v":0},{"$f":"SUM(F22,F25,F28,F31)","v":7},{"$f":"SUM(G22,G25,G28,G31)","v":21},{"$f":"SUM(H22,H25,H28,H31)","v":0},{"$f":"SUM(I22,I25,I28,I31)","v":0},{"$f":"SUM(J22,J25,J28,J31)","v":6},{"$f":"SUM(K22,K25,K28,K31)","v":0},{"$f":"SUM(L22,L25,L28,L31)","v":11},{"$f":"SUM(M22,M25,M28,M31)","v":0},{"$f":"SUM(N22,N25,N28,N31)","v":0},{"$f":"SUM(O22,O25,O28,O31)","v":21},{"$f":"SUM(P22,P25,P28,P31)","v":2},{"$f":"SUM(Q22,Q25,Q28,Q31)","v":0},{"$f":"SUM(B23:D23)+SUM(B26:D26)+SUM(B29:D29)+SUM(B32:D32)+SUM(F23:H23)+SUM(F26:H26)+SUM(F29:H29)+SUM(F32:H32)+SUM(J23:L23)+SUM(J26:L26)+SUM(J29:L29)+SUM(J32:L32)+SUM(N23:P23)+SUM(N26:P26)+SUM(N29:P29)+SUM(N32:P32)","v":30},{"$f":"SUM(B23,B26,B29,B32)","v":0},{"$f":"SUM(C23,C26,C29,C32)","v":0},{"$f":"SUM(D23,D26,D29,D32)","v":0},{"$f":"SUM(E23,E26,E29,E32)","v":0},{"$f":"SUM(F23,F26,F29,F32)","v":4},{"$f":"SUM(G23,G26,G29,G32)","v":5},{"$f":"SUM(H23,H26,H29,H32)","v":0},{"$f":"SUM(I23,I26,I29,I32)","v":0},{"$f":"SUM(J23,J26,J29,J32)","v":7},{"$f":"SUM(K23,K26,K29,K32)","v":1},{"$f":"SUM(L23,L26,L29,L32)","v":5},{"$f":"SUM(M23,M26,M29,M32)","v":0},{"$f":"SUM(N23,N26,N29,N32)","v":0},{"$f":"SUM(O23,O26,O29,O32)","v":7},{"$f":"SUM(P23,P26,P29,P32)","v":1},{"$f":"SUM(Q23,Q26,Q29,Q32)","v":0}]
["08:15:01.008",{"$f":"ROUND('Import Tab'!E22*'Base Information'!$V$22,0)","v":0},{"$f":"ROUND('Import Tab'!D22*'Base Information'!$V$22,0)","v":0},{"$f":"ROUND('Import Tab'!C22*'Base Information'!$V$22,0)","v":0},{"$f":"ROUND('Import Tab'!F22,0)","v":0},{"$f":"ROUND('Import Tab'!I22*'Base Information'!$V$22,0)","v":3},{"$f":"ROUND('Import Tab'!H22*'Base Information'!$V$22,0)","v":5},{"$f":"ROUND('Import Tab'!G22*'Base Information'!$V$22,0)","v":0},{"$f":"ROUND('Import Tab'!J22,0)","v":0},{"$f":"ROUND('Import Tab'!M22*'Base Information'!$V$22,0)","v":1},{"$f":"ROUND('Import Tab'!L22*'Base Information'!$V$22,0)","v":0},{"$f":"ROUND('Import Tab'!K22*'Base Information'!$V$22,0)","v":3},{"$f":"ROUND('Import Tab'!N22,0)","v":0},{"$f":"ROUND('Import Tab'!Q22*'Base Information'!$V$22,0)","v":0},{"$f":"ROUND('Import Tab'!P22*'Base Information'!$V$22,0)","v":3},{"$f":"ROUND('Import Tab'!O22*'Base Information'!$V$22,0)","v":0},{"$f":"ROUND('Import Tab'!R22,0)","v":0}]
["08:15:01.008",{"$f":"ROUND('Import Tab'!E23*'Base Information'!$V$22,0)","v":0},{"$f":"ROUND('Import Tab'!D23*'Base Information'!$V$22,0)","v":0},{"$f":"ROUND('Import Tab'!C23*'Base Information'!$V$22,0)","v":0},{"$f":"ROUND('Import Tab'!F23,0)","v":0},{"$f":"ROUND('Import Tab'!I23*'Base Information'!$V$22,0)","v":1},{"$f":"ROUND('Import Tab'!H23*'Base Information'!$V$22,0)","v":1},{"$f":"ROUND('Import Tab'!G23*'Base Information'!$V$22,0)","v":0},{"$f":"ROUND('Import Tab'!J23,0)","v":0},{"$f":"ROUND('Import Tab'!M23*'Base Information'!$V$22,0)","v":0},{"$f":"ROUND('Import Tab'!L23*'Base Information'!$V$22,0)","v":0},{"$f":"ROUND('Import Tab'!K23*'Base Information'!$V$22,0)","v":1},{"$f":"ROUND('Import Tab'!N23,0)","v":0},{"$f":"ROUND('Import Tab'!Q23*'Base Information'!$V$22,0)","v":0},{"$f":"ROUND('Import Tab'!P23*'Base Information'!$V$22,0)","v":0},{"$f":"ROUND('Import Tab'!O23*'Base Information'!$V$22,0)","v":0},{"$f":"ROUND('Import Tab'!R23,0)","v":0}]
["08:30:01.037",{"$f":"ROUND('Import Tab'!E24*'Base Information'!$V$22,0)","v":0},{"$f":"ROUND('Import Tab'!D24*'Base Information'!$V$22,0)","v":0},{"$f":"ROUND('Import Tab'!C24*'Base Information'!$V$22,0)","v":0},{"$f":"ROUND('Import Tab'!F24,0)","v":0},{"$f":"ROUND('Import Tab'!I24*'Base Information'!$V$22,0)","v":15},{"$f":"ROUND('Import Tab'!H24*'Base Information'!$V$22,0)","v":221},{"$f":"ROUND('Import Tab'!G24*'Base Information'!$V$22,0)","v":0},{"$f":"ROUND('Import Tab'!J24,0)","v":0},{"$f":"ROUND('Import Tab'!M24*'Base Information'!$V$22,0)","v":63},{"$f":"ROUND('Import Tab'!L24*'Base Information'!$V$22,0)","v":0},{"$f":"ROUND('Import Tab'!K24*'Base Information'!$V$22,0)","v":229},{"$f":"ROUND('Import Tab'!N24,0)","v":0},{"$f":"ROUND('Import Tab'!Q24*'Base Information'!$V$22,0)","v":0},{"$f":"ROUND('Import Tab'!P24*'Base Information'!$V$22,0)","v":34},{"$f":"ROUND('Import Tab'!O24*'Base Information'!$V$22,0)","v":4},{"$f":"ROUND('Import Tab'!R24,0)","v":0},{"$f":"SUM(B24:D26)+SUM(F24:H26)+SUM(J24:L26)+SUM(N24:P26)+E26+I26+M26+Q26","v":586},{"$f":"B24+B25+B26","v":0},0,0,{"$f":"E24","v":0},{"$f":"E25","v":0},{"$f":"E26","v":0},{"$f":"F24+F25+F26","v":19},{"$f":"G24+G25+G26","v":224},{"$f":"H24+H25+H26","v":0},{"$f":"I24","v":0},{"$f":"I25","v":0},{"$f":"I26","v":0},{"$f":"J24+J25+J26","v":66},{"$f":"K24+K25+K26","v":1},{"$f":"L24+L25+L26","v":233},{"$f":"M24","v":0},{"$f":"M25","v":0},{"$f":"M26","v":0},{"$f":"N24+N25+N26","v":0},{"$f":"O24+O25+O26","v":39},{"$f":"P24+P25+P26","v":4},{"$f":"Q24","v":0},{"$f":"Q25","v":0},{"$f":"Q26","v":0},{"$f":"SUM(B24:D24)+SUM(F24:H24)+SUM(J24:L24)+SUM(N24:P24)+E26+I26+M26+Q26","v":566},{"$f":"B24","v":0},{"$f":"C24","v":0},{"$f":"D24","v":0},{"$f":"E24","v":0},{"$f":"F24","v":15},{"$f":"G24","v":221},{"$f":"H24","v":0},{"$f":"I24","v":0},{"$f":"J24","v":63},{"$f":"K24","v":0},{"$f":"L24","v":229},{"$f":"M24","v":0},{"$f":"N24","v":0},{"$f":"O24","v":34},{"$f":"P24","v":4},{"$f":"Q24","v":0},{"$f":"SUM(B25:D25)+SUM(F25:H25)+SUM(J25:L25)+SUM(N25:P25)","v":11},{"$f":"B25","v":0},{"$f":"C25","v":0},{"$f":"D25","v":0},{"$f":"E25","v":0},{"$f":"F25","v":3},{"$f":"G25","v":1},{"$f":"H25","v":0},{"$f":"I25","v":0},{"$f":"J25","v":2},{"$f":"K25","v":0},{"$f":"L25","v":3},{"$f":"M25","v":0},{"$f":"N25","v":0},{"$f":"O25","v":2},{"$f":"P25","v":0},{"$f":"Q25","v":0},{"$f":"SUM(B26:D26)+SUM(F26:H26)+SUM(J26:L26)+SUM(N26:P26)","v":9},{"$f":"B26","v":0},{"$f":"C26","v":0},{"$f":"D26","v":0},{"$f":"E26","v":0},{"$f":"F26","v":1},{"$f":"G26","v":2},{"$f":"H26","v":0},{"$f":"I26","v":0},{"$f":"J26","v":1},{"$f":"K26","v":1},{"$f":"L26","v":1},{"$f":"M26","v":0},{"$f":"N26","v":0},{"$f":"O26","v":3},{"$f":"P26","v":0},{"$f":"Q26","v":0},{"$f":"SUM(B24:D35,E26,E29,E32,E35,F24:H35,I26,I29,I32,I35,J24:L35,M26,M29,M32,M35,N24:P35,Q26,Q29,Q32,Q35)","v":2134},{"$f":"SUM(B24:B35)","v":0},{"$f":"SUM(C24:C35)","v":0},{"$f":"SUM(D24:D35)","v":0},{"$f":"SUM(E24+E27+E30+E33)","v":0},{"$f":"SUM(E25+E28+E31+E34)","v":0},{"$f":"SUM(E26+E29+E32+E35)","v":0},{"$f":"SUM(F24:F35)","v":82},{"$f":"SUM(G24:G35)","v":827},{"$f":"SUM(H24:H35)","v":0},{"$f":"SUM(I24+I27+I30+I33)","v":0},{"$f":"SUM(I25+I28+I31+I34)","v":0},{"$f":"SUM(I26+I29+I32+I35)","v":0},{"$f":"SUM(J24:J35)","v":232},{"$f":"SUM(K24:K35)","v":1},{"$f":"SUM(L24:L35)","v":764},{"$f":"SUM(M24+M27+M30+M33)","v":0},{"$f":"SUM(M25+M28+M31+M34)","v":0},{"$f":"SUM(M26+M29+M32+M35)","v":0},{"$f":"SUM(N24:N35)","v":0},{"$f":"SUM(O24:O35)","v":195},{"$f":"SUM(P24:P35)","v":33},{"$f":"SUM(Q24+Q27+Q30+Q33)","v":0},{"$f":"SUM(Q25+Q28+Q31+Q34)","v":0},{"$f":"SUM(Q26+Q29+Q32+Q35)","v":0},{"$f":"SUM(B24:D24)+SUM(B27:D27)+SUM(B30:D30)+SUM(B33:D33)+SUM(F24:H24)+SUM(F27:H27)+SUM(F30:H30)+SUM(F33:H33)+SUM(J24:L24)+SUM(J27:L27)+SUM(J30:L30)+SUM(J33:L33)+SUM(N24:P24)+SUM(N27:P27)+SUM(N30:P30)+SUM(N33:P33)+E26+E29+E32+E35+I26+I29+I32+I35+M26+M29+M32+M35+Q26+Q29+Q32+Q35","v":2025},{"$f":"SUM(B24,B27,B30,B33)","v":0},{"$f":"SUM(C24,C27,C30,C33)","v":0},{"$f":"SUM(D24,D27,D30,D33)","v":0},{"$f":"SUM(E24,E27,E30,E33)","v":0},{"$f":"SUM(F24,F27,F30,F33)","v":71},{"$f":"SUM(G24,G27,G30,G33)","v":802},{"$f":"SUM(H24,H27,H30,H33)","v":0},{"$f":"SUM(I24,I27,I30,I33)","v":0},{"$f":"SUM(J24,J27,J30,J33)","v":214},{"$f":"SUM(K24,K27,K30,K33)","v":0},{"$f":"SUM(L24,L27,L30,L33)","v":743},{"$f":"SUM(M24,M27,M30,M33)","v":0},{"$f":"SUM(N24,N27,N30,N33)","v":0},{"$f":"SUM(O24,O27,O30,O33)","v":166},{"$f":"SUM(P24,P27,P30,P33)","v":29},{"$f":"SUM(Q24,Q27,Q30,Q33)","v":0},{"$f":"SUM(B25:D25)+SUM(B28:D28)+SUM(B31:D31)+SUM(B34:D34)+SUM(F25:H25)+SUM(F28:H28)+SUM(F31:H31)+SUM(F34:H34)+SUM(J25:L25)+SUM(J28:L28)+SUM(J31:L31)+SUM(J34:L34)+SUM(N25:P25)+SUM(N28:P28)+SUM(N31:P31)+SUM(N34:P34)","v":67},{"$f":"SUM(B25,B28,B31,B34)","v":0},{"$f":"SUM(C25,C28,C31,C34)","v":0},{"$f":"SUM(D25,D28,D31,D34)","v":0},{"$f":"SUM(E25,E28,E31,E34)","v":0},{"$f":"SUM(F25,F28,F31,F34)","v":6},{"$f":"SUM(G25,G28,G31,G34)","v":19},{"$f":"SUM(H25,H28,H31,H34)","v":0},{"$f":"SUM(I25,I28,I31,I34)","v":0},{"$f":"SUM(J25,J28,J31,J34)","v":7},{"$f":"SUM(K25,K28,K31,K34)","v":0},{"$f":"SUM(L25,L28,L31,L34)","v":11},{"$f":"SUM(M25,M28,M31,M34)","v":0},{"$f":"SUM(N25,N28,N31,N34)","v":0},{"$f":"SUM(O25,O28,O31,O34)","v":22},{"$f":"SUM(P25,P28,P31,P34)","v":2},{"$f":"SUM(Q25,Q28,Q31,Q34)","v":0},{"$f":"SUM(B26:D26)+SUM(B29:D29)+SUM(B32:D32)+SUM(B35:D35)+SUM(F26:H26)+SUM(F29:H29)+SUM(F32:H32)+SUM(F35:H35)+SUM(J26:L26)+SUM(J29:L29)+SUM(J32:L32)+SUM(J35:L35)+SUM(N26:P26)+SUM(N29:P29)+SUM(N32:P32)+SUM(N35:P35)","v":42},{"$f":"SUM(B26,B29,B32,B35)","v":0},{"$f":"SUM(C26,C29,C32,C35)","v":0},{"$f":"SUM(D26,D29,D32,D35)","v":0},{"$f":"SUM(E26,E29,E32,E35)","v":0},{"$f":"SUM(F26,F29,F32,F35)","v":5},{"$f":"SUM(G26,G29,G32,G35)","v":6},{"$f":"SUM(H26,H29,H32,H35)","v":0},{"$f":"SUM(I26,I29,I32,I35)","v":0},{"$f":"SUM(J26,J29,J32,J35)","v":11},{"$f":"SUM(K26,K29,K32,K35)","v":1},{"$f":"SUM(L26,L29,L32,L35)","v":10},{"$f":"SUM(M26,M29,M32,M35)","v":0},{"$f":"SUM(N26,N29,N32,N35)","v":0},{"$f":"SUM(O26,O29,O32,O35)","v":7},{"$f":"SUM(P26,P29,P32,P35)","v":2},{"$f":"SUM(Q26,Q29,Q32,Q35)","v":0}]
["08:30:01.037",{"$f":"ROUND('Import Tab'!E25*'Base Information'!$V$22,0)","v":0},{"$f":"ROUND('Import Tab'!D25*'Base Information'!$V$22,0)","v":0},{"$f":"ROUND('Import Tab'!C25*'Base Information'!$V$22,0)","v":0},{"$f":"ROUND('Import Tab'!F25,0)","v":0},{"$f":"ROUND('Import Tab'!I25*'Base Information'!$V$22,0)","v":3},{"$f":"ROUND('Import Tab'!H25*'Base Information'!$V$22,0)","v":1},{"$f":"ROUND('Import Tab'!G25*'Base Information'!$V$22,0)","v":0},{"$f":"ROUND('Import Tab'!J25,0)","v":0},{"$f":"ROUND('Import Tab'!M25*'Base Information'!$V$22,0)","v":2},{"$f":"ROUND('Import Tab'!L25*'Base Information'!$V$22,0)","v":0},{"$f":"ROUND('Import Tab'!K25*'Base Information'!$V$22,0)","v":3},{"$f":"ROUND('Import Tab'!N25,0)","v":0},{"$f":"ROUND('Import Tab'!Q25*'Base Information'!$V$22,0)","v":0},{"$f":"ROUND('Import Tab'!P25*'Base Information'!$V$22,0)","v":2},{"$f":"ROUND('Import Tab'!O25*'Base Information'!$V$22,0)","v":0},{"$f":"ROUND('Import Tab'!R25,0)","v":0}]
["08:30:01.037",{"$f":"ROUND('Import Tab'!E26*'Base Information'!$V$22,0)","v":0},{"$f":"ROUND('Import Tab'!D26*'Base Information'!$V$22,0)","v":0},{"$f":"ROUND('Import Tab'!C26*'Base Information'!$V$22,0)","v":0},{"$f":"ROUND('Import Tab'!F26,0)","v":0},{"$f":"ROUND('Import Tab'!I26*'Base Information'!$V$22,0)","v":1},{"$f":"ROUND('Import Tab'!H26*'Base Information'!$V$22,0)","v":2},{"$f":"ROUND('Import Tab'!G26*'Base Information'!$V$22,0)","v":0},{"$f":"ROUND('Import Tab'!J26,0)","v":0},{"$f":"ROUND('Import Tab'!M26*'Base Information'!$V$22,0)","v":1},{"$f":"ROUND('Import Tab'!L26*'Base Information'!$V$22,0)","v":1},{"$f":"ROUND('Import Tab'!K26*'Base Information'!$V$22,0)","v":1},{"$f":"ROUND('Import Tab'!N26,0)","v":0},{"$f":"ROUND('Import Tab'!Q26*'Base Information'!$V$22,0)","v":0},{"$f":"ROUND('Import Tab'!P26*'Base Information'!$V$22,0)","v":3},{"$f":"ROUND('Import Tab'!O26*'Base Information'!$V$22,0)","v":0},{"$f":"ROUND('Import Tab'!R26,0)","v":0}]
["08:45:01.066",{"$f":"ROUND('Import Tab'!E27*'Base Information'!$V$22,0)","v":0},{"$f":"ROUND('Import Tab'!D27*'Base Information'!$V$22,0)","v":0},{"$f":"ROUND('Import Tab'!C27*'Base Information'!$V$22,0)","v":0},{"$f":"ROUND('Import Tab'!F27,0)","v":0},{"$f":"ROUND('Import Tab'!I27*'Base Information'!$V$22,0)","v":27},{"$f":"ROUND('Import Tab'!H27*'Base Information'!$V$22,0)","v":268},{"$f":"ROUND('Import Tab'!G27*'Base Information'!$V$22,0)","v":0},{"$f":"ROUND('Import Tab'!J27,0)","v":0},{"$f":"ROUND('Import Tab'!M27*'Base Information'!$V$22,0)","v":61},{"$f":"ROUND('Import Tab'!L27*'Base Information'!$V$22,0)","v":0},{"$f":"ROUND('Import Tab'!K27*'Base Information'!$V$22,0)","v":238},{"$f":"ROUND('Import Tab'!N27,0)","v":0},{"$f":"ROUND('Import Tab'!Q27*'Base Information'!$V$22,0)","v":0},{"$f":"ROUND('Import Tab'!P27*'Base Information'!$V$22,0)","v":50},{"$f":"ROUND('Import Tab'!O27*'Base Information'!$V$22,0)","v":9},{"$f":"ROUND('Import Tab'!R27,0)","v":0},{"$f":"SUM(B27:D29)+SUM(F27:H29)+SUM(J27:L29)+SUM(N27:P29)+E29+I29+M29+Q29","v":684},{"$f":"B27+B28+B29","v":0},0,0,{"$f":"E27","v":0},{"$f":"E28","v":0},{"$f":"E29","v":0},{"$f":"F27+F28+F29","v":29},{"$f":"G27+G28+G29","v":277},{"$f":"H27+H28+H29","v":0},{"$f":"I27","v":0},{"$f":"I28","v":0},{"$f":"I29","v":0},{"$f":"J27+J28+J29","v":64},{"$f":"K27+K28+K29","v":0},{"$f":"L27+L28+L29","v":242},{"$f":"M27","v":0},{"$f":"M28","v":0},{"$f":"M29","v":0},{"$f":"N27+N28+N29","v":0},{"$f":"O27+O28+O29","v":63},{"$f":"P27+P28+P29","v":9},{"$f":"Q27","v":0},{"$f":"Q28","v":0},{"$f":"Q29","v":0},{"$f":"SUM(B27:D27)+SUM(F27:H27)+SUM(J27:L27)+SUM(N27:P27)+E29+I29+M29+Q29","v":653},{"$f":"B27","v":0},{"$f":"C27","v":0},{"$f":"D27","v":0},{"$f":"E27","v":0},{"$f":"F27","v":27},{"$f":"G27","v":268},{"$f":"H27","v":0},{"$f":"I27","v":0},{"$f":"J27","v":61},{"$f":"K27","v":0},{"$f":"L27","v":238},{"$f":"M27","v":0},{"$f":"N27","v":0},{"$f":"O27","v":50},{"$f":"P27","v":9},{"$f":"Q27","v":0},{"$f":"SUM(B28:D28)+SUM(F28:H28)+SUM(J28:L28)+SUM(N28:P28)","v":25},{"$f":"B28","v":0},{"$f":"C28","v":0},{"$f":"D28","v":0},{"$f":"E28","v":0},{"$f":"F28","v":1},{"$f":"G28","v":8},{"$f":"H28","v":0},{"$f":"I28","v":0},{"$f":"J28","v":1},{"$f":"K28","v":0},{"$f":"L28","v":4},{"$f":"M28","v":0},{"$f":"N28","v":0},{"$f":"O28","v":11},{"$f":"P28","v":0},{"$f":"Q28","v":0},{"$f":"SUM(B29:D29)+SUM(F29:H29)+SUM(J29:L29)+SUM(N29:P29)","v":6},{"$f":"B29","v":0},{"$f":"C29","v":0},{"$f":"D29","v":0},{"$f":"E29","v":0},{"$f":"F29","v":1},{"$f":"G29","v":1},{"$f":"H29","v":0},{"$f":"I29","v":0},{"$f":"J29","v":2},{"$f":"K29","v":0},{"$f":"L29","v":0},{"$f":"M29","v":0},{"$f":"N29","v":0},{"$f":"O29","v":2},{"$f":"P29","v":0},{"$f":"Q29","v":0},{"$f":"SUM(B27:D38,E29,E32,E35,E38,F27:H38,I29,I32,I35,I38,J27:L38,M29,M32,M35,M38,N27:P38,Q29,Q32,Q35,Q38)","v":1926},{"$f":"SUM(B27:B38)","v":0},{"$f":"SUM(C27:C38)","v":0},{"$f":"SUM(D27:D38)","v":0},{"$f":"SUM(E27+E30+E33+E36)","v":0},{"$f":"SUM(E28+E31+E34+E37)","v":0},{"$f":"SUM(E29+E32+E35+E38)","v":0},{"$f":"SUM(F27:F38)","v":83},{"$f":"SUM(G27:G38)","v":730},{"$f":"SUM(H27:H38)","v":0},{"$f":"SUM(I27+I30+I33+I36)","v":0},{"$f":"SUM(I28+I31+I34+I37)","v":0},{"$f":"SUM(I29+I32+I35+I38)","v":0},{"$f":"SUM(J27:J38)","v":215},{"$f":"SUM(K27:K38)","v":0},{"$f":"SUM(L27:L38)","v":659},{"$f":"SUM(M27+M30+M33+M36)","v":0},{"$f":"SUM(M28+M31+M34+M37)","v":0},{"$f":"SUM(M29+M32+M35+M38)","v":0},{"$f":"SUM(N27:N38)","v":0},{"$f":"SUM(O27:O38)","v":205},{"$f":"SUM(P27:P38)","v":34},{"$f":"SUM(Q27+Q30+Q33+Q36)","v":0},{"$f":"SUM(Q28+Q31+Q34+Q37)","v":0},{"$f":"SUM(Q29+Q32+Q35+Q38)","v":0},{"$f":"SUM(B27:D27)+SUM(B30:D30)+SUM(B33:D33)+SUM(B36:D36)+SUM(F27:H27)+SUM(F30:H30)+SUM(F33:H33)+SUM(F36:H36)+SUM(J27:L27)+SUM(J30:L30)+SUM(J33:L33)+SUM(J36:L36)+SUM(N27:P27)+SUM(N30:P30)+SUM(N33:P33)+SUM(N36:P36)+E29+E32+E35+E38+I29+I32+I35+I38+M29+M32+M35+M38+Q29+Q32+Q35+Q38","v":1800},{"$f":"SUM(B27,B30,B33,B36)","v":0},{"$f":"SUM(C27,C30,C33,C36)","v":0},{"$f":"SUM(D27,D30,D33,D36)","v":0},{"$f":"SUM(E27,E30,E33,E36)","v":0},{"$f":"SUM(F27,F30,F33,F36)","v":69},{"$f":"SUM(G27,G30,G33,G36)","v":697},{"$f":"SUM(H27,H30,H33,H36)","v":0},{"$f":"SUM(I27,I30,I33,I36)","v":0},{"$f":"SUM(J27,J30,J33,J36)","v":195},{"$f":"SUM(K27,K30,K33,K36)","v":0},{"$f":"SUM(L27,L30,L33,L36)","v":638},{"$f":"SUM(M27,M30,M33,M36)","v":0},{"$f":"SUM(N27,N30,N33,N36)","v":0},{"$f":"SUM(O27,O30,O33,O36)","v":173},{"$f":"SUM(P27,P30,P33,P36)","v":28},{"$f":"SUM(Q27,Q30,Q33,Q36)","v":0},{"$f":"SUM(B28:D28)+SUM(B31:D31)+SUM(B34:D34)+SUM(B37:D37)+SUM(F28:H28)+SUM(F31:H31)+SUM(F34:H34)+SUM(F37:H37)+SUM(J28:L28)+SUM(J31:L31)+SUM(J34:L34)+SUM(J37:L37)+SUM(N28:P28)+SUM(N31:P31)+SUM(N34:P34)+SUM(N37:P37)","v":79},{"$f":"SUM(B28,B31,B34,B37)","v":0},{"$f":"SUM(C28,C31,C34,C37)","v":0},{"$f":"SUM(D28,D31,D34,D37)","v":0},{"$f":"SUM(E28,E31,E34,E37)","v":0},{"$f":"SUM(F28,F31,F34,F37)","v":6},{"$f":"SUM(G28,G31,G34,G37)","v":25},{"$f":"SUM(H28,H31,H34,H37)","v":0},{"$f":"SUM(I28,I31,I34,I37)","v":0},{"$f":"SUM(J28,J31,J34,J37)","v":7},{"$f":"SUM(K28,K31,K34,K37)","v":0},{"$f":"SUM(L28,L31,L34,L37)","v":11},{"$f":"SUM(M28,M31,M34,M37)","v":0},{"$f":"SUM(N28,N31,N34,N37)","v":0},{"$f":"SUM(O28,O31,O34,O37)","v":26},{"$f":"SUM(P28,P31,P34,P37)","v":4},{"$f":"SUM(Q28,Q31,Q34,Q37)","v":0},{"$f":"SUM(B29:D29)+SUM(B32:D32)+SUM(B35:D35)+SUM(B38:D38)+SUM(F29:H29)+SUM(F32:H32)+SUM(F35:H35)+SUM(F38:H38)+SUM(J29:L29)+SUM(J32:L32)+SUM(J35:L35)+SUM(J38:L38)+SUM(N29:P29)+SUM(N32:P32)+SUM(N35:P35)+SUM(N38:P38)","v":47},{"$f":"SUM(B29,B32,B35,B38)","v":0},{"$f":"SUM(C29,C32,C35,C38)","v":0},{"$f":"SUM(D29,D32,D35,D38)","v":0},{"$f":"SUM(E29,E32,E35,E38)","v":0},{"$f":"SUM(F29,F32,F35,F38)","v":8},{"$f":"SUM(G29,G32,G35,G38)","v":8},{"$f":"SUM(H29,H32,H35,H38)","v":0},{"$f":"SUM(I29,I32,I35,I38)","v":0},{"$f":"SUM(J29,J32,J35,J38)","v":13},{"$f":"SUM(K29,K32,K35,K38)","v":0},{"$f":"SUM(L29,L32,L35,L38)","v":10},{"$f":"SUM(M29,M32,M35,M38)","v":0},{"$f":"SUM(N29,N32,N35,N38)","v":0},{"$f":"SUM(O29,O32,O35,O38)","v":6},{"$f":"SUM(P29,P32,P35,P38)","v":2},{"$f":"SUM(Q29,Q32,Q35,Q38)","v":0}]
["08:45:01.066",{"$f":"ROUND('Import Tab'!E28*'Base Information'!$V$22,0)","v":0},{"$f":"ROUND('Import Tab'!D28*'Base Information'!$V$22,0)","v":0},{"$f":"ROUND('Import Tab'!C28*'Base Information'!$V$22,0)","v":0},{"$f":"ROUND('Import Tab'!F28,0)","v":0},{"$f":"ROUND('Import Tab'!I28*'Base Information'!$V$22,0)","v":1},{"$f":"ROUND('Import Tab'!H28*'Base Information'!$V$22,0)","v":8},{"$f":"ROUND('Import Tab'!G28*'Base Information'!$V$22,0)","v":0},{"$f":"ROUND('Import Tab'!J28,0)","v":0},{"$f":"ROUND('Import Tab'!M28*'Base Information'!$V$22,0)","v":1},{"$f":"ROUND('Import Tab'!L28*'Base Information'!$V$22,0)","v":0},{"$f":"ROUND('Import Tab'!K28*'Base Information'!$V$22,0)","v":4},{"$f":"ROUND('Import Tab'!N28,0)","v":0},{"$f":"ROUND('Import Tab'!Q28*'Base Information'!$V$22,0)","v":0},{"$f":"ROUND('Import Tab'!P28*'Base Information'!$V$22,0)","v":11},{"$f":"ROUND('Import Tab'!O28*'Base Information'!$V$22,0)","v":0},{"$f":"ROUND('Import Tab'!R28,0)","v":0}]
["08:45:01.066",{"$f":"ROUND('Import Tab'!E29*'Base Information'!$V$22,0)","v":0},{"$f":"ROUND('Import Tab'!D29*'Base Information'!$V$22,0)","v":0},{"$f":"ROUND('Import Tab'!C29*'Base Information'!$V$22,0)","v":0},{"$f":"ROUND('Import Tab'!F29,0)","v":0},{"$f":"ROUND('Import Tab'!I29*'Base Information'!$V$22,0)","v":1},{"$f":"ROUND('Import Tab'!H29*'Base Information'!$V$22,0)","v":1},{"$f":"ROUND('Import Tab'!G29*'Base Information'!$V$22,0)","v":0},{"$f":"ROUND('Import Tab'!J29,0)","v":0},{"$f":"ROUND('Import Tab'!M29*'Base Information'!$V$22,0)","v":2},{"$f":"ROUND('Import Tab'!L29*'Base Information'!$V$22,0)","v":0},{"$f":"ROUND('Import Tab'!K29*'Base Information'!$V$22,0)","v":0},{"$f":"ROUND('Import Tab'!N29,0)","v":0},{"$f":"ROUND('Import Tab'!Q29*'Base Information'!$V$22,0)","v":0},{"$f":"ROUND('Import Tab'!P29*'Base Information'!$V$22,0)","v":2},{"$f":"ROUND('Import Tab'!O29*'Base Information'!$V$22,0)","v":0},{"$f":"ROUND('Import Tab'!R29,0)","v":0}]
["09:00:01.094",{"$f":"ROUND('Import Tab'!E30*'Base Information'!$V$22,0)","v":0},{"$f":"ROUND('Import Tab'!D30*'Base Information'!$V$22,0)","v":0},{"$f":"ROUND('Import Tab'!C30*'Base Information'!$V$22,0)","v":0},{"$f":"ROUND('Import Tab'!F30,0)","v":0},{"$f":"ROUND('Import Tab'!I30*'Base Information'!$V$22,0)","v":11},{"$f":"ROUND('Import Tab'!H30*'Base Information'!$V$22,0)","v":162},{"$f":"ROUND('Import Tab'!G30*'Base Information'!$V$22,0)","v":0},{"$f":"ROUND('Import Tab'!J30,0)","v":0},{"$f":"ROUND('Import Tab'!M30*'Base Information'!$V$22,0)","v":36},{"$f":"ROUND('Import Tab'!L30*'Base Information'!$V$22,0)","v":0},{"$f":"ROUND('Import Tab'!K30*'Base Information'!$V$22,0)","v":160},{"$f":"ROUND('Import Tab'!N30,0)","v":0},{"$f":"ROUND('Import Tab'!Q30*'Base Information'!$V$22,0)","v":0},{"$f":"ROUND('Import Tab'!P30*'Base Information'!$V$22,0)","v":34},{"$f":"ROUND('Import Tab'!O30*'Base Information'!$V$22,0)","v":5},{"$f":"ROUND('Import Tab'!R30,0)","v":0},{"$f":"SUM(B30:D32)+SUM(F30:H32)+SUM(J30:L32)+SUM(N30:P32)+E32+I32+M32+Q32","v":437},{"$f":"B30+B31+B32","v":0},0,0,{"$f":"E30","v":0},{"$f":"E31","v":0},{"$f":"E32","v":0},{"$f":"F30+F31+F32","v":12},{"$f":"G30+G31+G32","v":170},{"$f":"H30+H31+H32","v":0},{"$f":"I30","v":0},{"$f":"I31","v":0},{"$f":"I32","v":0},{"$f":"J30+J31+J32","v":42},{"$f":"K30+K31+K32","v":0},{"$f":"L30+L31+L32","v":164},{"$f":"M30","v":0},{"$f":"M31","v":0},{"$f":"M32","v":0},{"$f":"N30+N31+N32","v":0},{"$f":"O30+O31+O32","v":41},{"$f":"P30+P31+P32","v":8},{"$f":"Q30","v":0},{"$f":"Q31","v":0},{"$f":"Q32","v":0},{"$f":"SUM(B30:D30)+SUM(F30:H30)+SUM(J30:L30)+SUM(N30:P30)+E32+I32+M32+Q32","v":408},{"$f":"B30","v":0},{"$f":"C30","v":0},{"$f":"D30","v":0},{"$f":"E30","v":0},{"$f":"F30","v":11},{"$f":"G30","v":162},{"$f":"H30","v":0},{"$f":"I30","v":0},{"$f":"J30","v":36},{"$f":"K30","v":0},{"$f":"L30","v":160},{"$f":"M30","v":0},{"$f":"N30","v":0},{"$f":"O30","v":34},{"$f":"P30","v":5},{"$f":"Q30","v":0},{"$f":"SUM(B31:D31)+SUM(F31:H31)+SUM(J31:L31)+SUM(N31:P31)","v":17},{"$f":"B31","v":0},{"$f":"C31","v":0},{"$f":"D31","v":0},{"$f":"E31","v":0},{"$f":"F31","v":0},{"$f":"G31","v":7},{"$f":"H31","v":0},{"$f":"I31","v":0},{"$f":"J31","v":2},{"$f":"K31","v":0},{"$f":"L31","v":1},{"$f":"M31","v":0},{"$f":"N31","v":0},{"$f":"O31","v":5},{"$f":"P31","v":2},{"$f":"Q31","v":0},{"$f":"SUM(B32:D32)+SUM(F32:H32)+SUM(J32:L32)+SUM(N32:P32)","v":12},{"$f":"B32","v":0},{"$f":"C32","v":0},{"$f":"D32","v":0},{"$f":"E32","v":0},{"$f":"F32","v":1},{"$f":"G32","v":1},{"$f":"H32","v":0},{"$f":"I32","v":0},{"$f":"J32","v":4},{"$f":"K32","v":0},{"$f":"L32","v":3},{"$f":"M32","v":0},{"$f":"N32","v":0},{"$f":"O32","v":2},{"$f":"P32","v":1},{"$f":"Q32","v":0},{"$f":"SUM(B30:D41,E32,E35,E38,E41,F30:H41,I32,I35,I38,I41,J30:L41,M32,M35,M38,M41,N30:P41,Q32,Q35,Q38,Q41)","v":1630},{"$f":"SUM(B30:B41)","v":0},{"$f":"SUM(C30:C41)","v":0},{"$f":"SUM(D30:D41)","v":0},{"$f":"SUM(E30+E33+E36+E39)","v":0},{"$f":"SUM(E31+E34+E37+E40)","v":0},{"$f":"SUM(E32+E35+E38+E41)","v":0},{"$f":"SUM(F30:F41)","v":73},{"$f":"SUM(G30:G41)","v":584},{"$f":"SUM(H30:H41)","v":0},{"$f":"SUM(I30+I33+I36+I39)","v":0},{"$f":"SUM(I31+I34+I37+I40)","v":0},{"$f":"SUM(I32+I35+I38+I41)","v":0},{"$f":"SUM(J30:J41)","v":198},{"$f":"SUM(K30:K41)","v":0},{"$f":"SUM(L30:L41)","v":547},{"$f":"SUM(M30+M33+M36+M39)","v":0},{"$f":"SUM(M31+M34+M37+M40)","v":0},{"$f":"SUM(M32+M35+M38+M41)","v":0},{"$f":"SUM(N30:N41)","v":0},{"$f":"SUM(O30:O41)","v":190},{"$f":"SUM(P30:P41)","v":38},{"$f":"SUM(Q30+Q33+Q36+Q39)","v":0},{"$f":"SUM(Q31+Q34+Q37+Q40)","v":0},{"$f":"SUM(Q32+Q35+Q38+Q41)","v":0},{"$f":"SUM(B30:D30)+SUM(B33:D33)+SUM(B36:D36)+SUM(B39:D39)+SUM(F30:H30)+SUM(F33:H33)+SUM(F36:H36)+SUM(F39:H39)+SUM(J30:L30)+SUM(J33:L33)+SUM(J36:L36)+SUM(J39:L39)+SUM(N30:P30)+SUM(N33:P33)+SUM(N36:P36)+SUM(N39:P39)+E32+E35+E38+E41+I32+I35+I38+I41+M32+M35+M38+M41+Q32+Q35+Q38+Q41","v":1509},{"$f":"SUM(B30,B33,B36,B39)","v":0},{"$f":"SUM(C30,C33,C36,C39)","v":0},{"$f":"SUM(D30,D33,D36,D39)","v":0},{"$f":"SUM(E30,E33,E36,E39)","v":0},{"$f":"SUM(F30,F33,F36,F39)","v":57},{"$f":"SUM(G30,G33,G36,G39)","v":556},{"$f":"SUM(H30,H33,H36,H39)","v":0},{"$f":"SUM(I30,I33,I36,I39)","v":0},{"$f":"SUM(J30,J33,J36,J39)","v":178},{"$f":"SUM(K30,K33,K36,K39)","v":0},{"$f":"SUM(L30,L33,L36,L39)","v":526},{"$f":"SUM(M30,M33,M36,M39)","v":0},{"$f":"SUM(N30,N33,N36,N39)","v":0},{"$f":"SUM(O30,O33,O36,O39)","v":164},{"$f":"SUM(P30,P33,P36,P39)","v":28},{"$f":"SUM(Q30,Q33,Q36,Q39)","v":0},{"$f":"SUM(B31:D31)+SUM(B34:D34)+SUM(B37:D37)+SUM(B40:D40)+SUM(F31:H31)+SUM(F34:H34)+SUM(F37:H37)+SUM(F40:H40)+SUM(J31:L31)+SUM(J34:L34)+SUM(J37:L37)+SUM(J40:L40)+SUM(N31:P31)+SUM(N34:P34)+SUM(N37:P37)+SUM(N40:P40)","v":65},{"$f":"SUM(B31,B34,B37,B40)","v":0},{"$f":"SUM(C31,C34,C37,C40)","v":0},{"$f":"SUM(D31,D34,D37,D40)","v":0},{"$f":"SUM(E31,E34,E37,E40)","v":0},{"$f":"SUM(F31,F34,F37,F40)","v":6},{"$f":"SUM(G31,G34,G37,G40)","v":19},{"$f":"SUM(H31,H34,H37,H40)","v":0},{"$f":"SUM(I31,I34,I37,I40)","v":0},{"$f":"SUM(J31,J34,J37,J40)","v":6},{"$f":"SUM(K31,K34,K37,K40)","v":0},{"$f":"SUM(L31,L34,L37,L40)","v":9},{"$f":"SUM(M31,M34,M37,M40)","v":0},{"$f":"SUM(N31,N34,N37,N40)","v":0},{"$f":"SUM(O31,O34,O37,O40)","v":20},{"$f":"SUM(P31,P34,P37,P40)","v":5},{"$f":"SUM(Q31,Q34,Q37,Q40)","v":0},{"$f":"SUM(B32:D32)+SUM(B35:D35)+SUM(B38:D38)+SUM(B41:D41)+SUM(F32:H32)+SUM(F35:H35)+SUM(F38:H38)+SUM(F41:H41)+SUM(J32:L32)+SUM(J35:L35)+SUM(J38:L38)+SUM(J41:L41)+SUM(N32:P32)+SUM(N35:P35)+SUM(N38:P38)+SUM(N41:P41)","v":56},{"$f":"SUM(B32,B35,B38,B41)","v":0},{"$f":"SUM(C32,C35,C38,C41)","v":0},{"$f":"SUM(D32,D35,D38,D41)","v":0},{"$f":"SUM(E32,E35,E38,E41)","v":0},{"$f":"SUM(F32,F35,F38,F41)","v":10},{"$f":"SUM(G32,G35,G38,G41)","v":9},{"$f":"SUM(H32,H35,H38,H41)","v":0},{"$f":"SUM(I32,I35,I38,I41)","v":0},{"$f":"SUM(J32,J35,J38,J41)","v":14},{"$f":"SUM(K32,K35,K38,K41)","v":0},{"$f":"SUM(L32,L35,L38,L41)","v":12},{"$f":"SUM(M32,M35,M38,M41)","v":0},{"$f":"SUM(N32,N35,N38,N41)","v":0},{"$f":"SUM(O32,O35,O38,O41)","v":6},{"$f":"SUM(P32,P35,P38,P41)","v":5},{"$f":"SUM(Q32,Q35,Q38,Q41)","v":0}]
["09:00:01.094",{"$f":"ROUND('Import Tab'!E31*'Base Information'!$V$22,0)","v":0},{"$f":"ROUND('Import Tab'!D31*'Base Information'!$V$22,0)","v":0},{"$f":"ROUND('Import Tab'!C31*'Base Information'!$V$22,0)","v":0},{"$f":"ROUND('Import Tab'!F31,0)","v":0},{"$f":"ROUND('Import Tab'!I31*'Base Information'!$V$22,0)","v":0},{"$f":"ROUND('Import Tab'!H31*'Base Information'!$V$22,0)","v":7},{"$f":"ROUND('Import Tab'!G31*'Base Information'!$V$22,0)","v":0},{"$f":"ROUND('Import Tab'!J31,0)","v":0},{"$f":"ROUND('Import Tab'!M31*'Base Information'!$V$22,0)","v":2},{"$f":"ROUND('Import Tab'!L31*'Base Information'!$V$22,0)","v":0},{"$f":"ROUND('Import Tab'!K31*'Base Information'!$V$22,0)","v":1},{"$f":"ROUND('Import Tab'!N31,0)","v":0},{"$f":"ROUND('Import Tab'!Q31*'Base Information'!$V$22,0)","v":0},{"$f":"ROUND('Import Tab'!P31*'Base Information'!$V$22,0)","v":5},{"$f":"ROUND('Import Tab'!O31*'Base Information'!$V$22,0)","v":2},{"$f":"ROUND('Import Tab'!R31,0)","v":0}]
["09:00:01.094",{"$f":"ROUND('Import Tab'!E32*'Base Information'!$V$22,0)","v":0},{"$f":"ROUND('Import Tab'!D32*'Base Information'!$V$22,0)","v":0},{"$f":"ROUND('Import Tab'!C32*'Base Information'!$V$22,0)","v":0},{"$f":"ROUND('Import Tab'!F32,0)","v":0},{"$f":"ROUND('Import Tab'!I32*'Base Information'!$V$22,0)","v":1},{"$f":"ROUND('Import Tab'!H32*'Base Information'!$V$22,0)","v":1},{"$f":"ROUND('Import Tab'!G32*'Base Information'!$V$22,0)","v":0},{"$f":"ROUND('Import Tab'!J32,0)","v":0},{"$f":"ROUND('Import Tab'!M32*'Base Information'!$V$22,0)","v":4},{"$f":"ROUND('Import Tab'!L32*'Base Information'!$V$22,0)","v":0},{"$f":"ROUND('Import Tab'!K32*'Base Information'!$V$22,0)","v":3},{"$f":"ROUND('Import Tab'!N32,0)","v":0},{"$f":"ROUND('Import Tab'!Q32*'Base Information'!$V$22,0)","v":0},{"$f":"ROUND('Import Tab'!P32*'Base Information'!$V$22,0)","v":2},{"$f":"ROUND('Import Tab'!O32*'Base Information'!$V$22,0)","v":1},{"$f":"ROUND('Import Tab'!R32,0)","v":0}]
["09:15:01.123",{"$f":"ROUND('Import Tab'!E33*'Base Information'!$V$22,0)","v":0},{"$f":"ROUND('Import Tab'!D33*'Base Information'!$V$22,0)","v":0},{"$f":"ROUND('Import Tab'!C33*'Base Information'!$V$22,0)","v":0},{"$f":"ROUND('Import Tab'!F33,0)","v":0},{"$f":"ROUND('Import Tab'!I33*'Base Information'!$V$22,0)","v":18},{"$f":"ROUND('Import Tab'!H33*'Base Information'!$V$22,0)","v":151},{"$f":"ROUND('Import Tab'!G33*'Base Information'!$V$22,0)","v":0},{"$f":"ROUND('Import Tab'!J33,0)","v":0},{"$f":"ROUND('Import Tab'!M33*'Base Information'!$V$22,0)","v":54},{"$f":"ROUND('Import Tab'!L33*'Base Information'!$V$22,0)","v":0},{"$f":"ROUND('Import Tab'!K33*'Base Information'!$V$22,0)","v":116},{"$f":"ROUND('Import Tab'!N33,0)","v":0},{"$f":"ROUND('Import Tab'!Q33*'Base Information'!$V$22,0)","v":0},{"$f":"ROUND('Import Tab'!P33*'Base Information'!$V$22,0)","v":48},{"$f":"ROUND('Import Tab'!O33*'Base Information'!$V$22,0)","v":11},{"$f":"ROUND('Import Tab'!R33,0)","v":0},{"$f":"SUM(B33:D35)+SUM(F33:H35)+SUM(J33:L35)+SUM(N33:P35)+E35+I35+M35+Q35","v":427},{"$f":"B33+B34+B35","v":0},0,0,{"$f":"E33","v":0},{"$f":"E34","v":0},{"$f":"E35","v":0},{"$f":"F33+F34+F35","v":22},{"$f":"G33+G34+G35","v":156},{"$f":"H33+H34+H35","v":0},{"$f":"I33","v":0},{"$f":"I34","v":0},{"$f":"I35","v":0},{"$f":"J33+J34+J35","v":60},{"$f":"K33+K34+K35","v":0},{"$f":"L33+L34+L35","v":125},{"$f":"M33","v":0},{"$f":"M34","v":0},{"$f":"M35","v":0},{"$f":"N33+N34+N35","v":0},{"$f":"O33+O34+O35","v":52},{"$f":"P33+P34+P35","v":12},{"$f":"Q33","v":0},{"$f":"Q34","v":0},{"$f":"Q35","v":0},{"$f":"SUM(B33:D33)+SUM(F33:H33)+SUM(J33:L33)+SUM(N33:P33)+E35+I35+M35+Q35","v":398},{"$f":"B33","v":0},{"$f":"C33","v":0},{"$f":"D33","v":0},{"$f":"E33","v":0},{"$f":"F33","v":18},{"$f":"G33","v":151},{"$f":"H33","v":0},{"$f":"I33","v":0},{"$f":"J33","v":54},{"$f":"K33","v":0},{"$f":"L33","v":116},{"$f":"M33","v":0},{"$f":"N33","v":0},{"$f":"O33","v":48},{"$f":"P33","v":11},{"$f":"Q33","v":0},{"$f":"SUM(B34:D34)+SUM(F34:H34)+SUM(J34:L34)+SUM(N34:P34)","v":14},{"$f":"B34","v":0},{"$f":"C34","v":0},{"$f":"D34","v":0},{"$f":"E34","v":0},{"$f":"F34","v":2},{"$f":"G34","v":3},{"$f":"H34","v":0},{"$f":"I34","v":0},{"$f":"J34","v":2},{"$f":"K34","v":0},{"$f":"L34","v":3},{"$f":"M34","v":0},{"$f":"N34","v":0},{"$f":"O34","v":4},{"$f":"P34","v":0},{"$f":"Q34","v":0},{"$f":"SUM(B35:D35)+SUM(F35:H35)+SUM(J35:L35)+SUM(N35:P35)","v":15},{"$f":"B35","v":0},{"$f":"C35","v":0},{"$f":"D35","v":0},{"$f":"E35","v":0},{"$f":"F35","v":2},{"$f":"G35","v":2},{"$f":"H35","v":0},{"$f":"I35","v":0},{"$f":"J35","v":4},{"$f":"K35","v":0},{"$f":"L35","v":6},{"$f":"M35","v":0},{"$f":"N35","v":0},{"$f":"O35","v":0},{"$f":"P35","v":1},{"$f":"Q35","v":0},{"$f":"SUM(B33:D44,E35,E38,E41,E44,F33:H44,I35,I38,I41,I44,J33:L44,M35,M38,M41,M44,N33:P44,Q35,Q38,Q41,Q44)","v":1480},{"$f":"SUM(B33:B44)","v":0},{"$f":"SUM(C33:C44)","v":0},{"$f":"SUM(D33:D44)","v":0},{"$f":"SUM(E33+E36+E39+E42)","v":0},{"$f":"SUM(E34+E37+E40+E43)","v":0},{"$f":"SUM(E35+E38+E41+E44)","v":0},{"$f":"SUM(F33:F44)","v":68},{"$f":"SUM(G33:G44)","v":529},{"$f":"SUM(H33:H44)","v":0},{"$f":"SUM(I33+I36+I39+I42)","v":0},{"$f":"SUM(I34+I37+I40+I43)","v":0},{"$f":"SUM(I35+I38+I41+I44)","v":0},{"$f":"SUM(J33:J44)","v":194},{"$f":"SUM(K33:K44)","v":0},{"$f":"SUM(L33:L44)","v":458},{"$f":"SUM(M33+M36+M39+M42)","v":0},{"$f":"SUM(M34+M37+M40+M43)","v":0},{"$f":"SUM(M35+M38+M41+M44)","v":0},{"$f":"SUM(N33:N44)","v":0},{"$f":"SUM(O33:O44)","v":192},{"$f":"SUM(P33:P44)","v":39},{"$f":"SUM(Q33+Q36+Q39+Q42)","v":0},{"$f":"SUM(Q34+Q37+Q40+Q43)","v":0},{"$f":"SUM(Q35+Q38+Q41+Q44)","v":0},{"$f":"SUM(B33:D33)+SUM(B36:D36)+SUM(B39:D39)+SUM(B42:D42)+SUM(F33:H33)+SUM(F36:H36)+SUM(F39:H39)+SUM(F42:H42)+SUM(J33:L33)+SUM(J36:L36)+SUM(J39:L39)+SUM(J42:L42)+SUM(N33:P33)+SUM(N36:P36)+SUM(N39:P39)+SUM(N42:P42)+E35+E38+E41+E44+I35+I38+I41+I44+M35+M38+M41+M44+Q35+Q38+Q41+Q44","v":1388},{"$f":"SUM(B33,B36,B39,B42)","v":0},{"$f":"SUM(C33,C36,C39,C42)","v":0},{"$f":"SUM(D33,D36,D39,D42)","v":0},{"$f":"SUM(E33,E36,E39,E42)","v":0},{"$f":"SUM(F33,F36,F39,F42)","v":53},{"$f":"SUM(G33,G36,G39,G42)","v":509},{"$f":"SUM(H33,H36,H39,H42)","v":0},{"$f":"SUM(I33,I36,I39,I42)","v":0},{"$f":"SUM(J33,J36,J39,J42)","v":180},{"$f":"SUM(K33,K36,K39,K42)","v":0},{"$f":"SUM(L33,L36,L39,L42)","v":441},{"$f":"SUM(M33,M36,M39,M42)","v":0},{"$f":"SUM(N33,N36,N39,N42)","v":0},{"$f":"SUM(O33,O36,O39,O42)","v":173},{"$f":"SUM(P33,P36,P39,P42)","v":32},{"$f":"SUM(Q33,Q36,Q39,Q42)","v":0},{"$f":"SUM(B34:D34)+SUM(B37:D37)+SUM(B40:D40)+SUM(B43:D43)+SUM(F34:H34)+SUM(F37:H37)+SUM(F40:H40)+SUM(F43:H43)+SUM(J34:L34)+SUM(J37:L37)+SUM(J40:L40)+SUM(J43:L43)+SUM(N34:P34)+SUM(N37:P37)+SUM(N40:P40)+SUM(N43:P43)","v":48},{"$f":"SUM(B34,B37,B40,B43)","v":0},{"$f":"SUM(C34,C37,C40,C43)","v":0},{"$f":"SUM(D34,D37,D40,D43)","v":0},{"$f":"SUM(E34,E37,E40,E43)","v":0},{"$f":"SUM(F34,F37,F40,F43)","v":6},{"$f":"SUM(G34,G37,G40,G43)","v":12},{"$f":"SUM(H34,H37,H40,H43)","v":0},{"$f":"SUM(I34,I37,I40,I43)","v":0},{"$f":"SUM(J34,J37,J40,J43)","v":4},{"$f":"SUM(K34,K37,K40,K43)","v":0},{"$f":"SUM(L34,L37,L40,L43)","v":8},{"$f":"SUM(M34,M37,M40,M43)","v":0},{"$f":"SUM(N34,N37,N40,N43)","v":0},{"$f":"SUM(O34,O37,O40,O43)","v":15},{"$f":"SUM(P34,P37,P40,P43)","v":3},{"$f":"SUM(Q34,Q37,Q40,Q43)","v":0},{"$f":"SUM(B35:D35)+SUM(B38:D38)+SUM(B41:D41)+SUM(B44:D44)+SUM(F35:H35)+SUM(F38:H38)+SUM(F41:H41)+SUM(F44:H44)+SUM(J35:L35)+SUM(J38:L38)+SUM(J41:L41)+SUM(J44:L44)+SUM(N35:P35)+SUM(N38:P38)+SUM(N41:P41)+SUM(N44:P44)","v":44},{"$f":"SUM(B35,B38,B41,B44)","v":0},{"$f":"SUM(C35,C38,C41,C44)","v":0},{"$f":"SUM(D35,D38,D41,D44)","v":0},{"$f":"SUM(E35,E38,E41,E44)","v":0},{"$f":"SUM(F35,F38,F41,F44)","v":9},{"$f":"SUM(G35,G38,G41,G44)","v":8},{"$f":"SUM(H35,H38,H41,H44)","v":0},{"$f":"SUM(I35,I38,I41,I44)","v":0},{"$f":"SUM(J35,J38,J41,J44)","v":10},{"$f":"SUM(K35,K38,K41,K44)","v":0},{"$f":"SUM(L35,L38,L41,L44)","v":9},{"$f":"SUM(M35,M38,M41,M44)","v":0},{"$f":"SUM(N35,N38,N41,N44)","v":0},{"$f":"SUM(O35,O38,O41,O44)","v":4},{"$f":"SUM(P35,P38,P41,P44)","v":4},{"$f":"SUM(Q35,Q38,Q41,Q44)","v":0}]
["09:15:01.123",{"$f":"ROUND('Import Tab'!E34*'Base Information'!$V$22,0)","v":0},{"$f":"ROUND('Import Tab'!D34*'Base Information'!$V$22,0)","v":0},{"$f":"ROUND('Import Tab'!C34*'Base Information'!$V$22,0)","v":0},{"$f":"ROUND('Import Tab'!F34,0)","v":0},{"$f":"ROUND('Import Tab'!I34*'Base Information'!$V$22,0)","v":2},{"$f":"ROUND('Import Tab'!H34*'Base Information'!$V$22,0)","v":3},{"$f":"ROUND('Import Tab'!G34*'Base Information'!$V$22,0)","v":0},{"$f":"ROUND('Import Tab'!J34,0)","v":0},{"$f":"ROUND('Import Tab'!M34*'Base Information'!$V$22,0)","v":2},{"$f":"ROUND('Import Tab'!L34*'Base Information'!$V$22,0)","v":0},{"$f":"ROUND('Import Tab'!K34*'Base Information'!$V$22,0)","v":3},{"$f":"ROUND('Import Tab'!N34,0)","v":0},{"$f":"ROUND('Import Tab'!Q34*'Base Information'!$V$22,0)","v":0},{"$f":"ROUND('Import Tab'!P34*'Base Information'!$V$22,0)","v":4},{"$f":"ROUND('Import Tab'!O34*'Base Information'!$V$22,0)","v":0},{"$f":"ROUND('Import Tab'!R34,0)","v":0}]
["09:15:01.123",{"$f":"ROUND('Import Tab'!E35*'Base Information'!$V$22,0)","v":0},{"$f":"ROUND('Import Tab'!D35*'Base Information'!$V$22,0)","v":0},{"$f":"ROUND('Import Tab'!C35*'Base Information'!$V$22,0)","v":0},{"$f":"ROUND('Import Tab'!F35,0)","v":0},{"$f":"ROUND('Import Tab'!I35*'Base Information'!$V$22,0)","v":2},{"$f":"ROUND('Import Tab'!H35*'Base Information'!$V$22,0)","v":2},{"$f":"ROUND('Import Tab'!G35*'Base Information'!$V$22,0)","v":0},{"$f":"ROUND('Import Tab'!J35,0)","v":0},{"$f":"ROUND('Import Tab'!M35*'Base Information'!$V$22,0)","v":4},{"$f":"ROUND('Import Tab'!L35*'Base Information'!$V$22,0)","v":0},{"$f":"ROUND('Import Tab'!K35*'Base Information'!$V$22,0)","v":6},{"$f":"ROUND('Import Tab'!N35,0)","v":0},{"$f":"ROUND('Import Tab'!Q35*'Base Information'!$V$22,0)","v":0},{"$f":"ROUND('Import Tab'!P35*'Base Information'!$V$22,0)","v":0},{"$f":"ROUND('Import Tab'!O35*'Base Information'!$V$22,0)","v":1},{"$f":"ROUND('Import Tab'!R35,0)","v":0}]
[{"$f":"A33+(0.010417)","v":"09:30:01.152"},{"$f":"ROUND('Import Tab'!E36*'Base Information'!$V$22,0)","v":0},{"$f":"ROUND('Import Tab'!D36*'Base Information'!$V$22,0)","v":0},{"$f":"ROUND('Import Tab'!C36*'Base Information'!$V$22,0)","v":0},{"$f":"ROUND('Import Tab'!F36,0)","v":0},{"$f":"ROUND('Import Tab'!I36*'Base Information'!$V$22,0)","v":13},{"$f":"ROUND('Import Tab'!H36*'Base Information'!$V$22,0)","v":116},{"$f":"ROUND('Import Tab'!G36*'Base Information'!$V$22,0)","v":0},{"$f":"ROUND('Import Tab'!J36,0)","v":0},{"$f":"ROUND('Import Tab'!M36*'Base Information'!$V$22,0)","v":44},{"$f":"ROUND('Import Tab'!L36*'Base Information'!$V$22,0)","v":0},{"$f":"ROUND('Import Tab'!K36*'Base Information'!$V$22,0)","v":124},{"$f":"ROUND('Import Tab'!N36,0)","v":0},{"$f":"ROUND('Import Tab'!Q36*'Base Information'!$V$22,0)","v":0},{"$f":"ROUND('Import Tab'!P36*'Base Information'!$V$22,0)","v":41},{"$f":"ROUND('Import Tab'!O36*'Base Information'!$V$22,0)","v":3},{"$f":"ROUND('Import Tab'!R36,0)","v":0},{"$f":"SUM(B36:D38)+SUM(F36:H38)+SUM(J36:L38)+SUM(N36:P38)+E38+I38+M38+Q38","v":378},{"$f":"B36+B37+B38","v":0},0,0,{"$f":"E36","v":0},{"$f":"E37","v":0},{"$f":"E38","v":0},{"$f":"F36+F37+F38","v":20},{"$f":"G36+G37+G38","v":127},{"$f":"H36+H37+H38","v":0},{"$f":"I36","v":0},{"$f":"I37","v":0},{"$f":"I38","v":0},{"$f":"J36+J37+J38","v":49},{"$f":"K36+K37+K38","v":0},{"$f":"L36+L37+L38","v":128},{"$f":"M36","v":0},{"$f":"M37","v":0},{"$f":"M38","v":0},{"$f":"N36+N37+N38","v":0},{"$f":"O36+O37+O38","v":49},{"$f":"P36+P37+P38","v":5},{"$f":"Q36","v":0},{"$f":"Q37","v":0},{"$f":"Q38","v":0},{"$f":"SUM(B36:D36)+SUM(F36:H36)+SUM(J36:L36)+SUM(N36:P36)+E38+I38+M38+Q38","v":341},{"$f":"B36","v":0},{"$f":"C36","v":0},{"$f":"D36","v":0},{"$f":"E36","v":0},{"$f":"F36","v":13},{"$f":"G36","v":116},{"$f":"H36","v":0},{"$f":"I36","v":0},{"$f":"J36","v":44},{"$f":"K36","v":0},{"$f":"L36","v":124},{"$f":"M36","v":0},{"$f":"N36","v":0},{"$f":"O36","v":41},{"$f":"P36","v":3},{"$f":"Q36","v":0},{"$f":"SUM(B37:D37)+SUM(F37:H37)+SUM(J37:L37)+SUM(N37:P37)","v":23},{"$f":"B37","v":0},{"$f":"C37","v":0},{"$f":"D37","v":0},{"$f":"E37","v":0},{"$f":"F37","v":3},{"$f":"G37","v":7},{"$f":"H37","v":0},{"$f":"I37","v":0},{"$f":"J37","v":2},{"$f":"K37","v":0},{"$f":"L37","v":3},{"$f":"M37","v":0},{"$f":"N37","v":0},{"$f":"O37","v":6},{"$f":"P37","v":2},{"$f":"Q37","v":0},{"$f":"SUM(B38:D38)+SUM(F38:H38)+SUM(J38:L38)+SUM(N38:P38)","v":14},{"$f":"B38","v":0},{"$f":"C38","v":0},{"$f":"D38","v":0},{"$f":"E38","v":0},{"$f":"F38","v":4},{"$f":"G38","v":4},{"$f":"H38","v":0},{"$f":"I38","v":0},{"$f":"J38","v":3},{"$f":"K38","v":0},{"$f":"L38","v":1},{"$f":"M38","v":0},{"$f":"N38","v":0},{"$f":"O38","v":2},{"$f":"P38","v":0},{"$f":"Q38","v":0},{"$f":"SUM(B36:D47,E38,E41,E44,E47,F36:H47,I38,I41,I44,I47,J36:L47,M38,M41,M44,M47,N36:P47,Q38,Q41,Q44,Q47)","v":1327},{"$f":"SUM(B36:B47)","v":0},{"$f":"SUM(C36:C47)","v":0},{"$f":"SUM(D36:D47)","v":0},{"$f":"SUM(E36+E39+E42+E45)","v":0},{"$f":"SUM(E37+E40+E43+E46)","v":0},{"$f":"SUM(E38+E41+E44+E47)","v":0},{"$f":"SUM(F36:F47)","v":60},{"$f":"SUM(G36:G47)","v":467},{"$f":"SUM(H36:H47)","v":0},{"$f":"SUM(I36+I39+I42+I45)","v":0},{"$f":"SUM(I37+I40+I43+I46)","v":0},{"$f":"SUM(I38+I41+I44+I47)","v":0},{"$f":"SUM(J36:J47)","v":171},{"$f":"SUM(K36:K47)","v":0},{"$f":"SUM(L36:L47)","v":398},{"$f":"SUM(M36+M39+M42+M45)","v":0},{"$f":"SUM(M37+M40+M43+M46)","v":0},{"$f":"SUM(M38+M41+M44+M47)","v":0},{"$f":"SUM(N36:N47)","v":0},{"$f":"SUM(O36:O47)","v":194},{"$f":"SUM(P36:P47)","v":37},{"$f":"SUM(Q36+Q39+Q42+Q45)","v":0},{"$f":"SUM(Q37+Q40+Q43+Q46)","v":0},{"$f":"SUM(Q38+Q41+Q44+Q47)","v":0},{"$f":"SUM(B36:D36)+SUM(B39:D39)+SUM(B42:D42)+SUM(B45:D45)+SUM(F36:H36)+SUM(F39:H39)+SUM(F42:H42)+SUM(F45:H45)+SUM(J36:L36)+SUM(J39:L39)+SUM(J42:L42)+SUM(J45:L45)+SUM(N36:P36)+SUM(N39:P39)+SUM(N42:P42)+SUM(N45:P45)+E38+E41+E44+E47+I38+I41+I44+I47+M38+M41+M44+M47+Q38+Q41+Q44+Q47","v":1233},{"$f":"SUM(B36,B39,B42,B45)","v":0},{"$f":"SUM(C36,C39,C42,C45)","v":0},{"$f":"SUM(D36,D39,D42,D45)","v":0},{"$f":"SUM(E36,E39,E42,E45)","v":0},{"$f":"SUM(F36,F39,F42,F45)","v":43},{"$f":"SUM(G36,G39,G42,G45)","v":448},{"$f":"SUM(H36,H39,H42,H45)","v":0},{"$f":"SUM(I36,I39,I42,I45)","v":0},{"$f":"SUM(J36,J39,J42,J45)","v":158},{"$f":"SUM(K36,K39,K42,K45)","v":0},{"$f":"SUM(L36,L39,L42,L45)","v":383},{"$f":"SUM(M36,M39,M42,M45)","v":0},{"$f":"SUM(N36,N39,N42,N45)","v":0},{"$f":"SUM(O36,O39,O42,O45)","v":171},{"$f":"SUM(P36,P39,P42,P45)","v":30},{"$f":"SUM(Q36,Q39,Q42,Q45)","v":0},{"$f":"SUM(B37:D37)+SUM(B40:D40)+SUM(B43:D43)+SUM(B46:D46)+SUM(F37:H37)+SUM(F40:H40)+SUM(F43:H43)+SUM(F46:H46)+SUM(J37:L37)+SUM(J40:L40)+SUM(J43:L43)+SUM(J46:L46)+SUM(N37:P37)+SUM(N40:P40)+SUM(N43:P43)+SUM(N46:P46)","v":47},{"$f":"SUM(B37,B40,B43,B46)","v":0},{"$f":"SUM(C37,C40,C43,C46)","v":0},{"$f":"SUM(D37,D40,D43,D46)","v":0},{"$f":"SUM(E37,E40,E43,E46)","v":0},{"$f":"SUM(F37,F40,F43,F46)","v":6},{"$f":"SUM(G37,G40,G43,G46)","v":11},{"$f":"SUM(H37,H40,H43,H46)","v":0},{"$f":"SUM(I37,I40,I43,I46)","v":0},{"$f":"SUM(J37,J40,J43,J46)","v":3},{"$f":"SUM(K37,K40,K43,K46)","v":0},{"$f":"SUM(L37,L40,L43,L46)","v":10},{"$f":"SUM(M37,M40,M43,M46)","v":0},{"$f":"SUM(N37,N40,N43,N46)","v":0},{"$f":"SUM(O37,O40,O43,O46)","v":14},{"$f":"SUM(P37,P40,P43,P46)","v":3},{"$f":"SUM(Q37,Q40,Q43,Q46)","v":0},{"$f":"SUM(B38:D38)+SUM(B41:D41)+SUM(B44:D44)+SUM(B47:D47)+SUM(F38:H38)+SUM(F41:H41)+SUM(F44:H44)+SUM(F47:H47)+SUM(J38:L38)+SUM(J41:L41)+SUM(J44:L44)+SUM(J47:L47)+SUM(N38:P38)+SUM(N41:P41)+SUM(N44:P44)+SUM(N47:P47)","v":47},{"$f":"SUM(B38,B41,B44,B47)","v":0},{"$f":"SUM(C38,C41,C44,C47)","v":0},{"$f":"SUM(D38,D41,D44,D47)","v":0},{"$f":"SUM(E38,E41,E44,E47)","v":0},{"$f":"SUM(F38,F41,F44,F47)","v":11},{"$f":"SUM(G38,G41,G44,G47)","v":8},{"$f":"SUM(H38,H41,H44,H47)","v":0},{"$f":"SUM(I38,I41,I44,I47)","v":0},{"$f":"SUM(J38,J41,J44,J47)","v":10},{"$f":"SUM(K38,K41,K44,K47)","v":0},{"$f":"SUM(L38,L41,L44,L47)","v":5},{"$f":"SUM(M38,M41,M44,M47)","v":0},{"$f":"SUM(N38,N41,N44,N47)","v":0},{"$f":"SUM(O38,O41,O44,O47)","v":9},{"$f":"SUM(P38,P41,P44,P47)","v":4},{"$f":"SUM(Q38,Q41,Q44,Q47)","v":0}]
["09:30:01.152",{"$f":"ROUND('Import Tab'!E37*'Base Information'!$V$22,0)","v":0},{"$f":"ROUND('Import Tab'!D37*'Base Information'!$V$22,0)","v":0},{"$f":"ROUND('Import Tab'!C37*'Base Information'!$V$22,0)","v":0},{"$f":"ROUND('Import Tab'!F37,0)","v":0},{"$f":"ROUND('Import Tab'!I37*'Base Information'!$V$22,0)","v":3},{"$f":"ROUND('Import Tab'!H37*'Base Information'!$V$22,0)","v":7},{"$f":"ROUND('Import Tab'!G37*'Base Information'!$V$22,0)","v":0},{"$f":"ROUND('Import Tab'!J37,0)","v":0},{"$f":"ROUND('Import Tab'!M37*'Base Information'!$V$22,0)","v":2},{"$f":"ROUND('Import Tab'!L37*'Base Information'!$V$22,0)","v":0},{"$f":"ROUND('Import Tab'!K37*'Base Information'!$V$22,0)","v":3},{"$f":"ROUND('Import Tab'!N37,0)","v":0},{"$f":"ROUND('Import Tab'!Q37*'Base Information'!$V$22,0)","v":0},{"$f":"ROUND('Import Tab'!P37*'Base Information'!$V$22,0)","v":6},{"$f":"ROUND('Import Tab'!O37*'Base Information'!$V$22,0)","v":2},{"$f":"ROUND('Import Tab'!R37,0)","v":0}]
["09:30:01.152",{"$f":"ROUND('Import Tab'!E38*'Base Information'!$V$22,0)","v":0},{"$f":"ROUND('Import Tab'!D38*'Base Information'!$V$22,0)","v":0},{"$f":"ROUND('Import Tab'!C38*'Base Information'!$V$22,0)","v":0},{"$f":"ROUND('Import Tab'!F38,0)","v":0},{"$f":"ROUND('Import Tab'!I38*'Base Information'!$V$22,0)","v":4},{"$f":"ROUND('Import Tab'!H38*'Base Information'!$V$22,0)","v":4},{"$f":"ROUND('Import Tab'!G38*'Base Information'!$V$22,0)","v":0},{"$f":"ROUND('Import Tab'!J38,0)","v":0},{"$f":"ROUND('Import Tab'!M38*'Base Information'!$V$22,0)","v":3},{"$f":"ROUND('Import Tab'!L38*'Base Information'!$V$22,0)","v":0},{"$f":"ROUND('Import Tab'!K38*'Base Information'!$V$22,0)","v":1},{"$f":"ROUND('Import Tab'!N38,0)","v":0},{"$f":"ROUND('Import Tab'!Q38*'Base Information'!$V$22,0)","v":0},{"$f":"ROUND('Import Tab'!P38*'Base Information'!$V$22,0)","v":2},{"$f":"ROUND('Import Tab'!O38*'Base Information'!$V$22,0)","v":0},{"$f":"ROUND('Import Tab'!R38,0)","v":0}]
["09:45:01.181",{"$f":"ROUND('Import Tab'!E39*'Base Information'!$V$22,0)","v":0},{"$f":"ROUND('Import Tab'!D39*'Base Information'!$V$22,0)","v":0},{"$f":"ROUND('Import Tab'!C39*'Base Information'!$V$22,0)","v":0},{"$f":"ROUND('Import Tab'!F39,0)","v":0},{"$f":"ROUND('Import Tab'!I39*'Base Information'!$V$22,0)","v":15},{"$f":"ROUND('Import Tab'!H39*'Base Information'!$V$22,0)","v":127},{"$f":"ROUND('Import Tab'!G39*'Base Information'!$V$22,0)","v":0},{"$f":"ROUND('Import Tab'!J39,0)","v":0},{"$f":"ROUND('Import Tab'!M39*'Base Information'!$V$22,0)","v":44},{"$f":"ROUND('Import Tab'!L39*'Base Information'!$V$22,0)","v":0},{"$f":"ROUND('Import Tab'!K39*'Base Information'!$V$22,0)","v":126},{"$f":"ROUND('Import Tab'!N39,0)","v":0},{"$f":"ROUND('Import Tab'!Q39*'Base Information'!$V$22,0)","v":0},{"$f":"ROUND('Import Tab'!P39*'Base Information'!$V$22,0)","v":41},{"$f":"ROUND('Import Tab'!O39*'Base Information'!$V$22,0)","v":9},{"$f":"ROUND('Import Tab'!R39,0)","v":0},{"$f":"SUM(B39:D41)+SUM(F39:H41)+SUM(J39:L41)+SUM(N39:P41)+E41+I41+M41+Q41","v":388},{"$f":"B39+B40+B41","v":0},0,0,{"$f":"E39","v":0},{"$f":"E40","v":0},{"$f":"E41","v":0},{"$f":"F39+F40+F41","v":19},{"$f":"G39+G40+G41","v":131},{"$f":"H39+H40+H41","v":0},{"$f":"I39","v":0},{"$f":"I40","v":0},{"$f":"I41","v":0},{"$f":"J39+J40+J41","v":47},{"$f":"K39+K40+K41","v":0},{"$f":"L39+L40+L41","v":130},{"$f":"M39","v":0},{"$f":"M40","v":0},{"$f":"M41","v":0},{"$f":"N39+N40+N41","v":0},{"$f":"O39+O40+O41","v":48},{"$f":"P39+P40+P41","v":13},{"$f":"Q39","v":0},{"$f":"Q40","v":0},{"$f":"Q41","v":0},{"$f":"SUM(B39:D39)+SUM(F39:H39)+SUM(J39:L39)+SUM(N39:P39)+E41+I41+M41+Q41","v":362},{"$f":"B39","v":0},{"$f":"C39","v":0},{"$f":"D39","v":0},{"$f":"E39","v":0},{"$f":"F39","v":15},{"$f":"G39","v":127},{"$f":"H39","v":0},{"$f":"I39","v":0},{"$f":"J39","v":44},{"$f":"K39","v":0},{"$f":"L39","v":126},{"$f":"M39","v":0},{"$f":"N39","v":0},{"$f":"O39","v":41},{"$f":"P39","v":9},{"$f":"Q39","v":0},{"$f":"SUM(B40:D40)+SUM(F40:H40)+SUM(J40:L40)+SUM(N40:P40)","v":11},{"$f":"B40","v":0},{"$f":"C40","v":0},{"$f":"D40","v":0},{"$f":"E40","v":0},{"$f":"F40","v":1},{"$f":"G40","v":2},{"$f":"H40","v":0},{"$f":"I40","v":0},{"$f":"J40","v":0},{"$f":"K40","v":0},{"$f":"L40","v":2},{"$f":"M40","v":0},{"$f":"N40","v":0},{"$f":"O40","v":5},{"$f":"P40","v":1},{"$f":"Q40","v":0},{"$f":"SUM(B41:D41)+SUM(F41:H41)+SUM(J41:L41)+SUM(N41:P41)","v":15},{"$f":"B41","v":0},{"$f":"C41","v":0},{"$f":"D41","v":0},{"$f":"E41","v":0},{"$f":"F41","v":3},{"$f":"G41","v":2},{"$f":"H41","v":0},{"$f":"I41","v":0},{"$f":"J41","v":3},{"$f":"K41","v":0},{"$f":"L41","v":2},{"$f":"M41","v":0},{"$f":"N41","v":0},{"$f":"O41","v":2},{"$f":"P41","v":3},{"$f":"Q41","v":0},{"$f":"SUM(B39:D50,E41,E44,E47,E50,F39:H50,I41,I44,I47,I50,J39:L50,M41,M44,M47,M50,N39:P50,Q41,Q44,Q47,Q50)","v":1228},{"$f":"SUM(B39:B50)","v":0},{"$f":"SUM(C39:C50)","v":0},{"$f":"SUM(D39:D50)","v":0},{"$f":"SUM(E39+E42+E45+E48)","v":0},{"$f":"SUM(E40+E43+E46+E49)","v":0},{"$f":"SUM(E41+E44+E47+E50)","v":0},{"$f":"SUM(F39:F50)","v":50},{"$f":"SUM(G39:G50)","v":444},{"$f":"SUM(H39:H50)","v":0},{"$f":"SUM(I39+I42+I45+I48)","v":0},{"$f":"SUM(I40+I43+I46+I49)","v":0},{"$f":"SUM(I41+I44+I47+I50)","v":0},{"$f":"SUM(J39:J50)","v":150},{"$f":"SUM(K39:K50)","v":0},{"$f":"SUM(L39:L50)","v":348},{"$f":"SUM(M39+M42+M45+M48)","v":0},{"$f":"SUM(M40+M43+M46+M49)","v":0},{"$f":"SUM(M41+M44+M47+M50)","v":0},{"$f":"SUM(N39:N50)","v":0},{"$f":"SUM(O39:O50)","v":190},{"$f":"SUM(P39:P50)","v":46},{"$f":"SUM(Q39+Q42+Q45+Q48)","v":0},{"$f":"SUM(Q40+Q43+Q46+Q49)","v":0},{"$f":"SUM(Q41+Q44+Q47+Q50)","v":0},{"$f":"SUM(B39:D39)+SUM(B42:D42)+SUM(B45:D45)+SUM(B48:D48)+SUM(F39:H39)+SUM(F42:H42)+SUM(F45:H45)+SUM(F48:H48)+SUM(J39:L39)+SUM(J42:L42)+SUM(J45:L45)+SUM(J48:L48)+SUM(N39:P39)+SUM(N42:P42)+SUM(N45:P45)+SUM(N48:P48)+E41+E44+E47+E50+I41+I44+I47+I50+M41+M44+M47+M50+Q41+Q44+Q47+Q50","v":1142},{"$f":"SUM(B39,B42,B45,B48)","v":0},{"$f":"SUM(C39,C42,C45,C48)","v":0},{"$f":"SUM(D39,D42,D45,D48)","v":0},{"$f":"SUM(E39,E42,E45,E48)","v":0},{"$f":"SUM(F39,F42,F45,F48)","v":39},{"$f":"SUM(G39,G42,G45,G48)","v":428},{"$f":"SUM(H39,H42,H45,H48)","v":0},{"$f":"SUM(I39,I42,I45,I48)","v":0},{"$f":"SUM(J39,J42,J45,J48)","v":139},{"$f":"SUM(K39,K42,K45,K48)","v":0},{"$f":"SUM(L39,L42,L45,L48)","v":330},{"$f":"SUM(M39,M42,M45,M48)","v":0},{"$f":"SUM(N39,N42,N45,N48)","v":0},{"$f":"SUM(O39,O42,O45,O48)","v":168},{"$f":"SUM(P39,P42,P45,P48)","v":38},{"$f":"SUM(Q39,Q42,Q45,Q48)","v":0},{"$f":"SUM(B40:D40)+SUM(B43:D43)+SUM(B46:D46)+SUM(B49:D49)+SUM(F40:H40)+SUM(F43:H43)+SUM(F46:H46)+SUM(F49:H49)+SUM(J40:L40)+SUM(J43:L43)+SUM(J46:L46)+SUM(J49:L49)+SUM(N40:P40)+SUM(N43:P43)+SUM(N46:P46)+SUM(N49:P49)","v":38},{"$f":"SUM(B40,B43,B46,B49)","v":0},{"$f":"SUM(C40,C43,C46,C49)","v":0},{"$f":"SUM(D40,D43,D46,D49)","v":0},{"$f":"SUM(E40,E43,E46,E49)","v":0},{"$f":"SUM(F40,F43,F46,F49)","v":4},{"$f":"SUM(G40,G43,G46,G49)","v":7},{"$f":"SUM(H40,H43,H46,H49)","v":0},{"$f":"SUM(I40,I43,I46,I49)","v":0},{"$f":"SUM(J40,J43,J46,J49)","v":3},{"$f":"SUM(K40,K43,K46,K49)","v":0},{"$f":"SUM(L40,L43,L46,L49)","v":9},{"$f":"SUM(M40,M43,M46,M49)","v":0},{"$f":"SUM(N40,N43,N46,N49)","v":0},{"$f":"SUM(O40,O43,O46,O49)","v":14},{"$f":"SUM(P40,P43,P46,P49)","v":1},{"$f":"SUM(Q40,Q43,Q46,Q49)","v":0},{"$f":"SUM(B41:D41)+SUM(B44:D44)+SUM(B47:D47)+SUM(B50:D50)+SUM(F41:H41)+SUM(F44:H44)+SUM(F47:H47)+SUM(F50:H50)+SUM(J41:L41)+SUM(J44:L44)+SUM(J47:L47)+SUM(J50:L50)+SUM(N41:P41)+SUM(N44:P44)+SUM(N47:P47)+SUM(N50:P50)","v":48},{"$f":"SUM(B41,B44,B47,B50)","v":0},{"$f":"SUM(C41,C44,C47,C50)","v":0},{"$f":"SUM(D41,D44,D47,D50)","v":0},{"$f":"SUM(E41,E44,E47,E50)","v":0},{"$f":"SUM(F41,F44,F47,F50)","v":7},{"$f":"SUM(G41,G44,G47,G50)","v":9},{"$f":"SUM(H41,H44,H47,H50)","v":0},{"$f":"SUM(I41,I44,I47,I50)","v":0},{"$f":"SUM(J41,J44,J47,J50)","v":8},{"$f":"SUM(K41,K44,K47,K50)","v":0},{"$f":"SUM(L41,L44,L47,L50)","v":9},{"$f":"SUM(M41,M44,M47,M50)","v":0},{"$f":"SUM(N41,N44,N47,N50)","v":0},{"$f":"SUM(O41,O44,O47,O50)","v":8},{"$f":"SUM(P41,P44,P47,P50)","v":7},{"$f":"SUM(Q41,Q44,Q47,Q50)","v":0}]
["09:45:01.181",{"$f":"ROUND('Import Tab'!E40*'Base Information'!$V$22,0)","v":0},{"$f":"ROUND('Import Tab'!D40*'Base Information'!$V$22,0)","v":0},{"$f":"ROUND('Import Tab'!C40*'Base Information'!$V$22,0)","v":0},{"$f":"ROUND('Import Tab'!F40,0)","v":0},{"$f":"ROUND('Import Tab'!I40*'Base Information'!$V$22,0)","v":1},{"$f":"ROUND('Import Tab'!H40*'Base Information'!$V$22,0)","v":2},{"$f":"ROUND('Import Tab'!G40*'Base Information'!$V$22,0)","v":0},{"$f":"ROUND('Import Tab'!J40,0)","v":0},{"$f":"ROUND('Import Tab'!M40*'Base Information'!$V$22,0)","v":0},{"$f":"ROUND('Import Tab'!L40*'Base Information'!$V$22,0)","v":0},{"$f":"ROUND('Import Tab'!K40*'Base Information'!$V$22,0)","v":2},{"$f":"ROUND('Import Tab'!N40,0)","v":0},{"$f":"ROUND('Import Tab'!Q40*'Base Information'!$V$22,0)","v":0},{"$f":"ROUND('Import Tab'!P40*'Base Information'!$V$22,0)","v":5},{"$f":"ROUND('Import Tab'!O40*'Base Information'!$V$22,0)","v":1},{"$f":"ROUND('Import Tab'!R40,0)","v":0}]
["09:45:01.181",{"$f":"ROUND('Import Tab'!E41*'Base Information'!$V$22,0)","v":0},{"$f":"ROUND('Import Tab'!D41*'Base Information'!$V$22,0)","v":0},{"$f":"ROUND('Import Tab'!C41*'Base Information'!$V$22,0)","v":0},{"$f":"ROUND('Import Tab'!F41,0)","v":0},{"$f":"ROUND('Import Tab'!I41*'Base Information'!$V$22,0)","v":3},{"$f":"ROUND('Import Tab'!H41*'Base Information'!$V$22,0)","v":2},{"$f":"ROUND('Import Tab'!G41*'Base Information'!$V$22,0)","v":0},{"$f":"ROUND('Import Tab'!J41,0)","v":0},{"$f":"ROUND('Import Tab'!M41*'Base Information'!$V$22,0)","v":3},{"$f":"ROUND('Import Tab'!L41*'Base Information'!$V$22,0)","v":0},{"$f":"ROUND('Import Tab'!K41*'Base Information'!$V$22,0)","v":2},{"$f":"ROUND('Import Tab'!N41,0)","v":0},{"$f":"ROUND('Import Tab'!Q41*'Base Information'!$V$22,0)","v":0},{"$f":"ROUND('Import Tab'!P41*'Base Information'!$V$22,0)","v":2},{"$f":"ROUND('Import Tab'!O41*'Base Information'!$V$22,0)","v":3},{"$f":"ROUND('Import Tab'!R41,0)","v":0}]
["10:00:01.210",{"$f":"ROUND('Import Tab'!E42*'Base Information'!$V$22,0)","v":0},{"$f":"ROUND('Import Tab'!D42*'Base Information'!$V$22,0)","v":0},{"$f":"ROUND('Import Tab'!C42*'Base Information'!$V$22,0)","v":0},{"$f":"ROUND('Import Tab'!F42,0)","v":0},{"$f":"ROUND('Import Tab'!I42*'Base Information'!$V$22,0)","v":7},{"$f":"ROUND('Import Tab'!H42*'Base Information'!$V$22,0)","v":115},{"$f":"ROUND('Import Tab'!G42*'Base Information'!$V$22,0)","v":0},{"$f":"ROUND('Import Tab'!J42,0)","v":0},{"$f":"ROUND('Import Tab'!M42*'Base Information'!$V$22,0)","v":38},{"$f":"ROUND('Import Tab'!L42*'Base Information'!$V$22,0)","v":0},{"$f":"ROUND('Import Tab'!K42*'Base Information'!$V$22,0)","v":75},{"$f":"ROUND('Import Tab'!N42,0)","v":0},{"$f":"ROUND('Import Tab'!Q42*'Base Information'!$V$22,0)","v":0},{"$f":"ROUND('Import Tab'!P42*'Base Information'!$V$22,0)","v":43},{"$f":"ROUND('Import Tab'!O42*'Base Information'!$V$22,0)","v":9},{"$f":"ROUND('Import Tab'!R42,0)","v":0},{"$f":"SUM(B42:D44)+SUM(F42:H44)+SUM(J42:L44)+SUM(N42:P44)+E44+I44+M44+Q44","v":287},{"$f":"B42+B43+B44","v":0},0,0,{"$f":"E42","v":0},{"$f":"E43","v":0},{"$f":"E44","v":0},{"$f":"F42+F43+F44","v":7},{"$f":"G42+G43+G44","v":115},{"$f":"H42+H43+H44","v":0},{"$f":"I42","v":0},{"$f":"I43","v":0},{"$f":"I44","v":0},{"$f":"J42+J43+J44","v":38},{"$f":"K42+K43+K44","v":0},{"$f":"L42+L43+L44","v":75},{"$f":"M42","v":0},{"$f":"M43","v":0},{"$f":"M44","v":0},{"$f":"N42+N43+N44","v":0},{"$f":"O42+O43+O44","v":43},{"$f":"P42+P43+P44","v":9},{"$f":"Q42","v":0},{"$f":"Q43","v":0},{"$f":"Q44","v":0},{"$f":"SUM(B42:D42)+SUM(F42:H42)+SUM(J42:L42)+SUM(N42:P42)+E44+I44+M44+Q44","v":287},{"$f":"B42","v":0},{"$f":"C42","v":0},{"$f":"D42","v":0},{"$f":"E42","v":0},{"$f":"F42","v":7},{"$f":"G42","v":115},{"$f":"H42","v":0},{"$f":"I42","v":0},{"$f":"J42","v":38},{"$f":"K42","v":0},{"$f":"L42","v":75},{"$f":"M42","v":0},{"$f":"N42","v":0},{"$f":"O42","v":43},{"$f":"P42","v":9},{"$f":"Q42","v":0},{"$f":"SUM(B43:D43)+SUM(F43:H43)+SUM(J43:L43)+SUM(N43:P43)","v":0},{"$f":"B43","v":0},{"$f":"C43","v":0},{"$f":"D43","v":0},{"$f":"E43","v":0},{"$f":"F43","v":0},{"$f":"G43","v":0},{"$f":"H43","v":0},{"$f":"I43","v":0},{"$f":"J43","v":0},{"$f":"K43","v":0},{"$f":"L43","v":0},{"$f":"M43","v":0},{"$f":"N43","v":0},{"$f":"O43","v":0},{"$f":"P43","v":0},{"$f":"Q43","v":0},{"$f":"SUM(B44:D44)+SUM(F44:H44)+SUM(J44:L44)+SUM(N44:P44)","v":0},{"$f":"B44","v":0},{"$f":"C44","v":0},{"$f":"D44","v":0},{"$f":"E44","v":0},{"$f":"F44","v":0},{"$f":"G44","v":0},{"$f":"H44","v":0},{"$f":"I44","v":0},{"$f":"J44","v":0},{"$f":"K44","v":0},{"$f":"L44","v":0},{"$f":"M44","v":0},{"$f":"N44","v":0},{"$f":"O44","v":0},{"$f":"P44","v":0},{"$f":"Q44","v":0},{"$f":"SUM(B42:D53,E44,E47,E50,E53,F42:H53,I44,I47,I50,I53,J42:L53,M44,M47,M50,M53,N42:P53,Q44,Q47,Q50,Q53)","v":1124},{"$f":"SUM(B42:B53)","v":0},{"$f":"SUM(C42:C53)","v":0},{"$f":"SUM(D42:D53)","v":0},{"$f":"SUM(E42+E45+E48+E51)","v":0},{"$f":"SUM(E43+E46+E49+E52)","v":0},{"$f":"SUM(E44+E47+E50+E53)","v":0},{"$f":"SUM(F42:F53)","v":47},{"$f":"SUM(G42:G53)","v":408},{"$f":"SUM(H42:H53)","v":0},{"$f":"SUM(I42+I45+I48+I51)","v":0},{"$f":"SUM(I43+I46+I49+I52)","v":0},{"$f":"SUM(I44+I47+I50+I53)","v":0},{"$f":"SUM(J42:J53)","v":142},{"$f":"SUM(K42:K53)","v":0},{"$f":"SUM(L42:L53)","v":289},{"$f":"SUM(M42+M45+M48+M51)","v":0},{"$f":"SUM(M43+M46+M49+M52)","v":0},{"$f":"SUM(M44+M47+M50+M53)","v":0},{"$f":"SUM(N42:N53)","v":0},{"$f":"SUM(O42:O53)","v":199},{"$f":"SUM(P42:P53)","v":39},{"$f":"SUM(Q42+Q45+Q48+Q51)","v":0},{"$f":"SUM(Q43+Q46+Q49+Q52)","v":0},{"$f":"SUM(Q44+Q47+Q50+Q53)","v":0},{"$f":"SUM(B42:D42)+SUM(B45:D45)+SUM(B48:D48)+SUM(B51:D51)+SUM(F42:H42)+SUM(F45:H45)+SUM(F48:H48)+SUM(F51:H51)+SUM(J42:L42)+SUM(J45:L45)+SUM(J48:L48)+SUM(J51:L51)+SUM(N42:P42)+SUM(N45:P45)+SUM(N48:P48)+SUM(N51:P51)+E44+E47+E50+E53+I44+I47+I50+I53+M44+M47+M50+M53+Q44+Q47+Q50+Q53","v":1033},{"$f":"SUM(B42,B45,B48,B51)","v":0},{"$f":"SUM(C42,C45,C48,C51)","v":0},{"$f":"SUM(D42,D45,D48,D51)","v":0},{"$f":"SUM(E42,E45,E48,E51)","v":0},{"$f":"SUM(F42,F45,F48,F51)","v":36},{"$f":"SUM(G42,G45,G48,G51)","v":388},{"$f":"SUM(H42,H45,H48,H51)","v":0},{"$f":"SUM(I42,I45,I48,I51)","v":0},{"$f":"SUM(J42,J45,J48,J51)","v":128},{"$f":"SUM(K42,K45,K48,K51)","v":0},{"$f":"SUM(L42,L45,L48,L51)","v":269},{"$f":"SUM(M42,M45,M48,M51)","v":0},{"$f":"SUM(N42,N45,N48,N51)","v":0},{"$f":"SUM(O42,O45,O48,O51)","v":178},{"$f":"SUM(P42,P45,P48,P51)","v":34},{"$f":"SUM(Q42,Q45,Q48,Q51)","v":0},{"$f":"SUM(B43:D43)+SUM(B46:D46)+SUM(B49:D49)+SUM(B52:D52)+SUM(F43:H43)+SUM(F46:H46)+SUM(F49:H49)+SUM(F52:H52)+SUM(J43:L43)+SUM(J46:L46)+SUM(J49:L49)+SUM(J52:L52)+SUM(N43:P43)+SUM(N46:P46)+SUM(N49:P49)+SUM(N52:P52)","v":41},{"$f":"SUM(B43,B46,B49,B52)","v":0},{"$f":"SUM(C43,C46,C49,C52)","v":0},{"$f":"SUM(D43,D46,D49,D52)","v":0},{"$f":"SUM(E43,E46,E49,E52)","v":0},{"$f":"SUM(F43,F46,F49,F52)","v":5},{"$f":"SUM(G43,G46,G49,G52)","v":8},{"$f":"SUM(H43,H46,H49,H52)","v":0},{"$f":"SUM(I43,I46,I49,I52)","v":0},{"$f":"SUM(J43,J46,J49,J52)","v":4},{"$f":"SUM(K43,K46,K49,K52)","v":0},{"$f":"SUM(L43,L46,L49,L52)","v":10},{"$f":"SUM(M43,M46,M49,M52)","v":0},{"$f":"SUM(N43,N46,N49,N52)","v":0},{"$f":"SUM(O43,O46,O49,O52)","v":13},{"$f":"SUM(P43,P46,P49,P52)","v":1},{"$f":"SUM(Q43,Q46,Q49,Q52)","v":0},{"$f":"SUM(B44:D44)+SUM(B47:D47)+SUM(B50:D50)+SUM(B53:D53)+SUM(F44:H44)+SUM(F47:H47)+SUM(F50:H50)+SUM(F53:H53)+SUM(J44:L44)+SUM(J47:L47)+SUM(J50:L50)+SUM(J53:L53)+SUM(N44:P44)+SUM(N47:P47)+SUM(N50:P50)+SUM(N53:P53)","v":50},{"$f":"SUM(B44,B47,B50,B53)","v":0},{"$f":"SUM(C44,C47,C50,C53)","v":0},{"$f":"SUM(D44,D47,D50,D53)","v":0},{"$f":"SUM(E44,E47,E50,E53)","v":0},{"$f":"SUM(F44,F47,F50,F53)","v":6},{"$f":"SUM(G44,G47,G50,G53)","v":12},{"$f":"SUM(H44,H47,H50,H53)","v":0},{"$f":"SUM(I44,I47,I50,I53)","v":0},{"$f":"SUM(J44,J47,J50,J53)","v":10},{"$f":"SUM(K44,K47,K50,K53)","v":0},{"$f":"SUM(L44,L47,L50,L53)","v":10},{"$f":"SUM(M44,M47,M50,M53)","v":0},{"$f":"SUM(N44,N47,N50,N53)","v":0},{"$f":"SUM(O44,O47,O50,O53)","v":8},{"$f":"SUM(P44,P47,P50,P53)","v":4},{"$f":"SUM(Q44,Q47,Q50,Q53)","v":0}]
["10:00:01.210",{"$f":"ROUND('Import Tab'!E43*'Base Information'!$V$22,0)","v":0},{"$f":"ROUND('Import Tab'!D43*'Base Information'!$V$22,0)","v":0},{"$f":"ROUND('Import Tab'!C43*'Base Information'!$V$22,0)","v":0},{"$f":"ROUND('Import Tab'!F43,0)","v":0},{"$f":"ROUND('Import Tab'!I43*'Base Information'!$V$22,0)","v":0},{"$f":"ROUND('Import Tab'!H43*'Base Information'!$V$22,0)","v":0},{"$f":"ROUND('Import Tab'!G43*'Base Information'!$V$22,0)","v":0},{"$f":"ROUND('Import Tab'!J43,0)","v":0},{"$f":"ROUND('Import Tab'!M43*'Base Information'!$V$22,0)","v":0},{"$f":"ROUND('Import Tab'!L43*'Base Information'!$V$22,0)","v":0},{"$f":"ROUND('Import Tab'!K43*'Base Information'!$V$22,0)","v":0},{"$f":"ROUND('Import Tab'!N43,0)","v":0},{"$f":"ROUND('Import Tab'!Q43*'Base Information'!$V$22,0)","v":0},{"$f":"ROUND('Import Tab'!P43*'Base Information'!$V$22,0)","v":0},{"$f":"ROUND('Import Tab'!O43*'Base Information'!$V$22,0)","v":0},{"$f":"ROUND('Import Tab'!R43,0)","v":0}]
["10:00:01.210",{"$f":"ROUND('Import Tab'!E44*'Base Information'!$V$22,0)","v":0},{"$f":"ROUND('Import Tab'!D44*'Base Information'!$V$22,0)","v":0},{"$f":"ROUND('Import Tab'!C44*'Base Information'!$V$22,0)","v":0},{"$f":"ROUND('Import Tab'!F44,0)","v":0},{"$f":"ROUND('Import Tab'!I44*'Base Information'!$V$22,0)","v":0},{"$f":"ROUND('Import Tab'!H44*'Base Information'!$V$22,0)","v":0},{"$f":"ROUND('Import Tab'!G44*'Base Information'!$V$22,0)","v":0},{"$f":"ROUND('Import Tab'!J44,0)","v":0},{"$f":"ROUND('Import Tab'!M44*'Base Information'!$V$22,0)","v":0},{"$f":"ROUND('Import Tab'!L44*'Base Information'!$V$22,0)","v":0},{"$f":"ROUND('Import Tab'!K44*'Base Information'!$V$22,0)","v":0},{"$f":"ROUND('Import Tab'!N44,0)","v":0},{"$f":"ROUND('Import Tab'!Q44*'Base Information'!$V$22,0)","v":0},{"$f":"ROUND('Import Tab'!P44*'Base Information'!$V$22,0)","v":0},{"$f":"ROUND('Import Tab'!O44*'Base Information'!$V$22,0)","v":0},{"$f":"ROUND('Import Tab'!R44,0)","v":0}]
["10:15:01.238",{"$f":"ROUND('Import Tab'!E45*'Base Information'!$V$22,0)","v":0},{"$f":"ROUND('Import Tab'!D45*'Base Information'!$V$22,0)","v":0},{"$f":"ROUND('Import Tab'!C45*'Base Information'!$V$22,0)","v":0},{"$f":"ROUND('Import Tab'!F45,0)","v":0},{"$f":"ROUND('Import Tab'!I45*'Base Information'!$V$22,0)","v":8},{"$f":"ROUND('Import Tab'!H45*'Base Information'!$V$22,0)","v":90},{"$f":"ROUND('Import Tab'!G45*'Base Information'!$V$22,0)","v":0},{"$f":"ROUND('Import Tab'!J45,0)","v":0},{"$f":"ROUND('Import Tab'!M45*'Base Information'!$V$22,0)","v":32},{"$f":"ROUND('Import Tab'!L45*'Base Information'!$V$22,0)","v":0},{"$f":"ROUND('Import Tab'!K45*'Base Information'!$V$22,0)","v":58},{"$f":"ROUND('Import Tab'!N45,0)","v":0},{"$f":"ROUND('Import Tab'!Q45*'Base Information'!$V$22,0)","v":0},{"$f":"ROUND('Import Tab'!P45*'Base Information'!$V$22,0)","v":46},{"$f":"ROUND('Import Tab'!O45*'Base Information'!$V$22,0)","v":9},{"$f":"ROUND('Import Tab'!R45,0)","v":0},{"$f":"SUM(B45:D47)+SUM(F45:H47)+SUM(J45:L47)+SUM(N45:P47)+E47+I47+M47+Q47","v":274},{"$f":"B45+B46+B47","v":0},0,0,{"$f":"E45","v":0},{"$f":"E46","v":0},{"$f":"E47","v":0},{"$f":"F45+F46+F47","v":14},{"$f":"G45+G46+G47","v":94},{"$f":"H45+H46+H47","v":0},{"$f":"I45","v":0},{"$f":"I46","v":0},{"$f":"I47","v":0},{"$f":"J45+J46+J47","v":37},{"$f":"K45+K46+K47","v":0},{"$f":"L45+L46+L47","v":65},{"$f":"M45","v":0},{"$f":"M46","v":0},{"$f":"M47","v":0},{"$f":"N45+N46+N47","v":0},{"$f":"O45+O46+O47","v":54},{"$f":"P45+P46+P47","v":10},{"$f":"Q45","v":0},{"$f":"Q46","v":0},{"$f":"Q47","v":0},{"$f":"SUM(B45:D45)+SUM(F45:H45)+SUM(J45:L45)+SUM(N45:P45)+E47+I47+M47+Q47","v":243},{"$f":"B45","v":0},{"$f":"C45","v":0},{"$f":"D45","v":0},{"$f":"E45","v":0},{"$f":"F45","v":8},{"$f":"G45","v":90},{"$f":"H45","v":0},{"$f":"I45","v":0},{"$f":"J45","v":32},{"$f":"K45","v":0},{"$f":"L45","v":58},{"$f":"M45","v":0},{"$f":"N45","v":0},{"$f":"O45","v":46},{"$f":"P45","v":9},{"$f":"Q45","v":0},{"$f":"SUM(B46:D46)+SUM(F46:H46)+SUM(J46:L46)+SUM(N46:P46)","v":13},{"$f":"B46","v":0},{"$f":"C46","v":0},{"$f":"D46","v":0},{"$f":"E46","v":0},{"$f":"F46","v":2},{"$f":"G46","v":2},{"$f":"H46","v":0},{"$f":"I46","v":0},{"$f":"J46","v":1},{"$f":"K46","v":0},{"$f":"L46","v":5},{"$f":"M46","v":0},{"$f":"N46","v":0},{"$f":"O46","v":3},{"$f":"P46","v":0},{"$f":"Q46","v":0},{"$f":"SUM(B47:D47)+SUM(F47:H47)+SUM(J47:L47)+SUM(N47:P47)","v":18},{"$f":"B47","v":0},{"$f":"C47","v":0},{"$f":"D47","v":0},{"$f":"E47","v":0},{"$f":"F47","v":4},{"$f":"G47","v":2},{"$f":"H47","v":0},{"$f":"I47","v":0},{"$f":"J47","v":4},{"$f":"K47","v":0},{"$f":"L47","v":2},{"$f":"M47","v":0},{"$f":"N47","v":0},{"$f":"O47","v":5},{"$f":"P47","v":1},{"$f":"Q47","v":0},{"$f":"SUM(B45:D56,E47,E50,E53,E56,F45:H56,I47,I50,I53,I56,J45:L56,M47,M50,M53,M56,N45:P56,Q47,Q50,Q53,Q56)","v":1123},{"$f":"SUM(B45:B56)","v":0},{"$f":"SUM(C45:C56)","v":0},{"$f":"SUM(D45:D56)","v":0},{"$f":"SUM(E45+E48+E51+E54)","v":0},{"$f":"SUM(E46+E49+E52+E55)","v":0},{"$f":"SUM(E47+E50+E53+E56)","v":0},{"$f":"SUM(F45:F56)","v":59},{"$f":"SUM(G45:G56)","v":397},{"$f":"SUM(H45:H56)","v":0},{"$f":"SUM(I45+I48+I51+I54)","v":0},{"$f":"SUM(I46+I49+I52+I55)","v":0},{"$f":"SUM(I47+I50+I53+I56)","v":0},{"$f":"SUM(J45:J56)","v":142},{"$f":"SUM(K45:K56)","v":0},{"$f":"SUM(L45:L56)","v":275},{"$f":"SUM(M45+M48+M51+M54)","v":0},{"$f":"SUM(M46+M49+M52+M55)","v":0},{"$f":"SUM(M47+M50+M53+M56)","v":0},{"$f":"SUM(N45:N56)","v":0},{"$f":"SUM(O45:O56)","v":211},{"$f":"SUM(P45:P56)","v":39},{"$f":"SUM(Q45+Q48+Q51+Q54)","v":0},{"$f":"SUM(Q46+Q49+Q52+Q55)","v":0},{"$f":"SUM(Q47+Q50+Q53+Q56)","v":0},{"$f":"SUM(B45:D45)+SUM(B48:D48)+SUM(B51:D51)+SUM(B54:D54)+SUM(F45:H45)+SUM(F48:H48)+SUM(F51:H51)+SUM(F54:H54)+SUM(J45:L45)+SUM(J48:L48)+SUM(J51:L51)+SUM(J54:L54)+SUM(N45:P45)+SUM(N48:P48)+SUM(N51:P51)+SUM(N54:P54)+E47+E50+E53+E56+I47+I50+I53+I56+M47+M50+M53+M56+Q47+Q50+Q53+Q56","v":1008},{"$f":"SUM(B45,B48,B51,B54)","v":0},{"$f":"SUM(C45,C48,C51,C54)","v":0},{"$f":"SUM(D45,D48,D51,D54)","v":0},{"$f":"SUM(E45,E48,E51,E54)","v":0},{"$f":"SUM(F45,F48,F51,F54)","v":41},{"$f":"SUM(G45,G48,G51,G54)","v":373},{"$f":"SUM(H45,H48,H51,H54)","v":0},{"$f":"SUM(I45,I48,I51,I54)","v":0},{"$f":"SUM(J45,J48,J51,J54)","v":125},{"$f":"SUM(K45,K48,K51,K54)","v":0},{"$f":"SUM(L45,L48,L51,L54)","v":253},{"$f":"SUM(M45,M48,M51,M54)","v":0},{"$f":"SUM(N45,N48,N51,N54)","v":0},{"$f":"SUM(O45,O48,O51,O54)","v":184},{"$f":"SUM(P45,P48,P51,P54)","v":32},{"$f":"SUM(Q45,Q48,Q51,Q54)","v":0},{"$f":"SUM(B46:D46)+SUM(B49:D49)+SUM(B52:D52)+SUM(B55:D55)+SUM(F46:H46)+SUM(F49:H49)+SUM(F52:H52)+SUM(F55:H55)+SUM(J46:L46)+SUM(J49:L49)+SUM(J52:L52)+SUM(J55:L55)+SUM(N46:P46)+SUM(N49:P49)+SUM(N52:P52)+SUM(N55:P55)","v":50},{"$f":"SUM(B46,B49,B52,B55)","v":0},{"$f":"SUM(C46,C49,C52,C55)","v":0},{"$f":"SUM(D46,D49,D52,D55)","v":0},{"$f":"SUM(E46,E49,E52,E55)","v":0},{"$f":"SUM(F46,F49,F52,F55)","v":7},{"$f":"SUM(G46,G49,G52,G55)","v":12},{"$f":"SUM(H46,H49,H52,H55)","v":0},{"$f":"SUM(I46,I49,I52,I55)","v":0},{"$f":"SUM(J46,J49,J52,J55)","v":4},{"$f":"SUM(K46,K49,K52,K55)","v":0},{"$f":"SUM(L46,L49,L52,L55)","v":11},{"$f":"SUM(M46,M49,M52,M55)","v":0},{"$f":"SUM(N46,N49,N52,N55)","v":0},{"$f":"SUM(O46,O49,O52,O55)","v":15},{"$f":"SUM(P46,P49,P52,P55)","v":1},{"$f":"SUM(Q46,Q49,Q52,Q55)","v":0},{"$f":"SUM(B47:D47)+SUM(B50:D50)+SUM(B53:D53)+SUM(B56:D56)+SUM(F47:H47)+SUM(F50:H50)+SUM(F53:H53)+SUM(F56:H56)+SUM(J47:L47)+SUM(J50:L50)+SUM(J53:L53)+SUM(J56:L56)+SUM(N47:P47)+SUM(N50:P50)+SUM(N53:P53)+SUM(N56:P56)","v":65},{"$f":"SUM(B47,B50,B53,B56)","v":0},{"$f":"SUM(C47,C50,C53,C56)","v":0},{"$f":"SUM(D47,D50,D53,D56)","v":0},{"$f":"SUM(E47,E50,E53,E56)","v":0},{"$f":"SUM(F47,F50,F53,F56)","v":11},{"$f":"SUM(G47,G50,G53,G56)","v":12},{"$f":"SUM(H47,H50,H53,H56)","v":0},{"$f":"SUM(I47,I50,I53,I56)","v":0},{"$f":"SUM(J47,J50,J53,J56)","v":13},{"$f":"SUM(K47,K50,K53,K56)","v":0},{"$f":"SUM(L47,L50,L53,L56)","v":11},{"$f":"SUM(M47,M50,M53,M56)","v":0},{"$f":"SUM(N47,N50,N53,N56)","v":0},{"$f":"SUM(O47,O50,O53,O56)","v":12},{"$f":"SUM(P47,P50,P53,P56)","v":6},{"$f":"SUM(Q47,Q50,Q53,Q56)","v":0}]
["10:15:01.238",{"$f":"ROUND('Import Tab'!E46*'Base Information'!$V$22,0)","v":0},{"$f":"ROUND('Import Tab'!D46*'Base Information'!$V$22,0)","v":0},{"$f":"ROUND('Import Tab'!C46*'Base Information'!$V$22,0)","v":0},{"$f":"ROUND('Import Tab'!F46,0)","v":0},{"$f":"ROUND('Import Tab'!I46*'Base Information'!$V$22,0)","v":2},{"$f":"ROUND('Import Tab'!H46*'Base Information'!$V$22,0)","v":2},{"$f":"ROUND('Import Tab'!G46*'Base Information'!$V$22,0)","v":0},{"$f":"ROUND('Import Tab'!J46,0)","v":0},{"$f":"ROUND('Import Tab'!M46*'Base Information'!$V$22,0)","v":1},{"$f":"ROUND('Import Tab'!L46*'Base Information'!$V$22,0)","v":0},{"$f":"ROUND('Import Tab'!K46*'Base Information'!$V$22,0)","v":5},{"$f":"ROUND('Import Tab'!N46,0)","v":0},{"$f":"ROUND('Import Tab'!Q46*'Base Information'!$V$22,0)","v":0},{"$f":"ROUND('Import Tab'!P46*'Base Information'!$V$22,0)","v":3},{"$f":"ROUND('Import Tab'!O46*'Base Information'!$V$22,0)","v":0},{"$f":"ROUND('Import Tab'!R46,0)","v":0}]
["10:15:01.238",{"$f":"ROUND('Import Tab'!E47*'Base Information'!$V$22,0)","v":0},{"$f":"ROUND('Import Tab'!D47*'Base Information'!$V$22,0)","v":0},{"$f":"ROUND('Import Tab'!C47*'Base Information'!$V$22,0)","v":0},{"$f":"ROUND('Import Tab'!F47,0)","v":0},{"$f":"ROUND('Import Tab'!I47*'Base Information'!$V$22,0)","v":4},{"$f":"ROUND('Import Tab'!H47*'Base Information'!$V$22,0)","v":2},{"$f":"ROUND('Import Tab'!G47*'Base Information'!$V$22,0)","v":0},{"$f":"ROUND('Import Tab'!J47,0)","v":0},{"$f":"ROUND('Import Tab'!M47*'Base Information'!$V$22,0)","v":4},{"$f":"ROUND('Import Tab'!L47*'Base Information'!$V$22,0)","v":0},{"$f":"ROUND('Import Tab'!K47*'Base Information'!$V$22,0)","v":2},{"$f":"ROUND('Import Tab'!N47,0)","v":0},{"$f":"ROUND('Import Tab'!Q47*'Base Information'!$V$22,0)","v":0},{"$f":"ROUND('Import Tab'!P47*'Base Information'!$V$22,0)","v":5},{"$f":"ROUND('Import Tab'!O47*'Base Information'!$V$22,0)","v":1},{"$f":"ROUND('Import Tab'!R47,0)","v":0}]
["10:30:01.267",{"$f":"ROUND('Import Tab'!E48*'Base Information'!$V$22,0)","v":0},{"$f":"ROUND('Import Tab'!D48*'Base Information'!$V$22,0)","v":0},{"$f":"ROUND('Import Tab'!C48*'Base Information'!$V$22,0)","v":0},{"$f":"ROUND('Import Tab'!F48,0)","v":0},{"$f":"ROUND('Import Tab'!I48*'Base Information'!$V$22,0)","v":9},{"$f":"ROUND('Import Tab'!H48*'Base Information'!$V$22,0)","v":96},{"$f":"ROUND('Import Tab'!G48*'Base Information'!$V$22,0)","v":0},{"$f":"ROUND('Import Tab'!J48,0)","v":0},{"$f":"ROUND('Import Tab'!M48*'Base Information'!$V$22,0)","v":25},{"$f":"ROUND('Import Tab'!L48*'Base Information'!$V$22,0)","v":0},{"$f":"ROUND('Import Tab'!K48*'Base Information'!$V$22,0)","v":71},{"$f":"ROUND('Import Tab'!N48,0)","v":0},{"$f":"ROUND('Import Tab'!Q48*'Base Information'!$V$22,0)","v":0},{"$f":"ROUND('Import Tab'!P48*'Base Information'!$V$22,0)","v":38},{"$f":"ROUND('Import Tab'!O48*'Base Information'!$V$22,0)","v":11},{"$f":"ROUND('Import Tab'!R48,0)","v":0},{"$f":"SUM(B48:D50)+SUM(F48:H50)+SUM(J48:L50)+SUM(N48:P50)+E50+I50+M50+Q50","v":279},{"$f":"B48+B49+B50","v":0},0,0,{"$f":"E48","v":0},{"$f":"E49","v":0},{"$f":"E50","v":0},{"$f":"F48+F49+F50","v":10},{"$f":"G48+G49+G50","v":104},{"$f":"H48+H49+H50","v":0},{"$f":"I48","v":0},{"$f":"I49","v":0},{"$f":"I50","v":0},{"$f":"J48+J49+J50","v":28},{"$f":"K48+K49+K50","v":0},{"$f":"L48+L49+L50","v":78},{"$f":"M48","v":0},{"$f":"M49","v":0},{"$f":"M50","v":0},{"$f":"N48+N49+N50","v":0},{"$f":"O48+O49+O50","v":45},{"$f":"P48+P49+P50","v":14},{"$f":"Q48","v":0},{"$f":"Q49","v":0},{"$f":"Q50","v":0},{"$f":"SUM(B48:D48)+SUM(F48:H48)+SUM(J48:L48)+SUM(N48:P48)+E50+I50+M50+Q50","v":250},{"$f":"B48","v":0},{"$f":"C48","v":0},{"$f":"D48","v":0},{"$f":"E48","v":0},{"$f":"F48","v":9},{"$f":"G48","v":96},{"$f":"H48","v":0},{"$f":"I48","v":0},{"$f":"J48","v":25},{"$f":"K48","v":0},{"$f":"L48","v":71},{"$f":"M48","v":0},{"$f":"N48","v":0},{"$f":"O48","v":38},{"$f":"P48","v":11},{"$f":"Q48","v":0},{"$f":"SUM(B49:D49)+SUM(F49:H49)+SUM(J49:L49)+SUM(N49:P49)","v":14},{"$f":"B49","v":0},{"$f":"C49","v":0},{"$f":"D49","v":0},{"$f":"E49","v":0},{"$f":"F49","v":1},{"$f":"G49","v":3},{"$f":"H49","v":0},{"$f":"I49","v":0},{"$f":"J49","v":2},{"$f":"K49","v":0},{"$f":"L49","v":2},{"$f":"M49","v":0},{"$f":"N49","v":0},{"$f":"O49","v":6},{"$f":"P49","v":0},{"$f":"Q49","v":0},{"$f":"SUM(B50:D50)+SUM(F50:H50)+SUM(J50:L50)+SUM(N50:P50)","v":15},{"$f":"B50","v":0},{"$f":"C50","v":0},{"$f":"D50","v":0},{"$f":"E50","v":0},{"$f":"F50","v":0},{"$f":"G50","v":5},{"$f":"H50","v":0},{"$f":"I50","v":0},{"$f":"J50","v":1},{"$f":"K50","v":0},{"$f":"L50","v":5},{"$f":"M50","v":0},{"$f":"N50","v":0},{"$f":"O50","v":1},{"$f":"P50","v":3},{"$f":"Q50","v":0},{"$f":"SUM(B48:D59,E50,E53,E56,E59,F48:H59,I50,I53,I56,I59,J48:L59,M50,M53,M56,M59,N48:P59,Q50,Q53,Q56,Q59)","v":1123},{"$f":"SUM(B48:B59)","v":0},{"$f":"SUM(C48:C59)","v":0},{"$f":"SUM(D48:D59)","v":0},{"$f":"SUM(E48+E51+E54+E57)","v":0},{"$f":"SUM(E49+E52+E55+E58)","v":0},{"$f":"SUM(E50+E53+E56+E59)","v":0},{"$f":"SUM(F48:F59)","v":60},{"$f":"SUM(G48:G59)","v":394},{"$f":"SUM(H48:H59)","v":0},{"$f":"SUM(I48+I51+I54+I57)","v":0},{"$f":"SUM(I49+I52+I55+I58)","v":0},{"$f":"SUM(I50+I53+I56+I59)","v":0},{"$f":"SUM(J48:J59)","v":144},{"$f":"SUM(K48:K59)","v":0},{"$f":"SUM(L48:L59)","v":280},{"$f":"SUM(M48+M51+M54+M57)","v":0},{"$f":"SUM(M49+M52+M55+M58)","v":0},{"$f":"SUM(M50+M53+M56+M59)","v":0},{"$f":"SUM(N48:N59)","v":0},{"$f":"SUM(O48:O59)","v":211},{"$f":"SUM(P48:P59)","v":34},{"$f":"SUM(Q48+Q51+Q54+Q57)","v":0},{"$f":"SUM(Q49+Q52+Q55+Q58)","v":0},{"$f":"SUM(Q50+Q53+Q56+Q59)","v":0},{"$f":"SUM(B48:D48)+SUM(B51:D51)+SUM(B54:D54)+SUM(B57:D57)+SUM(F48:H48)+SUM(F51:H51)+SUM(F54:H54)+SUM(F57:H57)+SUM(J48:L48)+SUM(J51:L51)+SUM(J54:L54)+SUM(J57:L57)+SUM(N48:P48)+SUM(N51:P51)+SUM(N54:P54)+SUM(N57:P57)+E50+E53+E56+E59+I50+I53+I56+I59+M50+M53+M56+M59+Q50+Q53+Q56+Q59","v":1006},{"$f":"SUM(B48,B51,B54,B57)","v":0},{"$f":"SUM(C48,C51,C54,C57)","v":0},{"$f":"SUM(D48,D51,D54,D57)","v":0},{"$f":"SUM(E48,E51,E54,E57)","v":0},{"$f":"SUM(F48,F51,F54,F57)","v":44},{"$f":"SUM(G48,G51,G54,G57)","v":362},{"$f":"SUM(H48,H51,H54,H57)","v":0},{"$f":"SUM(I48,I51,I54,I57)","v":0},{"$f":"SUM(J48,J51,J54,J57)","v":130},{"$f":"SUM(K48,K51,K54,K57)","v":0},{"$f":"SUM(L48,L51,L54,L57)","v":256},{"$f":"SUM(M48,M51,M54,M57)","v":0},{"$f":"SUM(N48,N51,N54,N57)","v":0},{"$f":"SUM(O48,O51,O54,O57)","v":186},{"$f":"SUM(P48,P51,P54,P57)","v":28},{"$f":"SUM(Q48,Q51,Q54,Q57)","v":0},{"$f":"SUM(B49:D49)+SUM(B52:D52)+SUM(B55:D55)+SUM(B58:D58)+SUM(F49:H49)+SUM(F52:H52)+SUM(F55:H55)+SUM(F58:H58)+SUM(J49:L49)+SUM(J52:L52)+SUM(J55:L55)+SUM(J58:L58)+SUM(N49:P49)+SUM(N52:P52)+SUM(N55:P55)+SUM(N58:P58)","v":55},{"$f":"SUM(B49,B52,B55,B58)","v":0},{"$f":"SUM(C49,C52,C55,C58)","v":0},{"$f":"SUM(D49,D52,D55,D58)","v":0},{"$f":"SUM(E49,E52,E55,E58)","v":0},{"$f":"SUM(F49,F52,F55,F58)","v":6},{"$f":"SUM(G49,G52,G55,G58)","v":17},{"$f":"SUM(H49,H52,H55,H58)","v":0},{"$f":"SUM(I49,I52,I55,I58)","v":0},{"$f":"SUM(J49,J52,J55,J58)","v":4},{"$f":"SUM(K49,K52,K55,K58)","v":0},{"$f":"SUM(L49,L52,L55,L58)","v":10},{"$f":"SUM(M49,M52,M55,M58)","v":0},{"$f":"SUM(N49,N52,N55,N58)","v":0},{"$f":"SUM(O49,O52,O55,O58)","v":17},{"$f":"SUM(P49,P52,P55,P58)","v":1},{"$f":"SUM(Q49,Q52,Q55,Q58)","v":0},{"$f":"SUM(B50:D50)+SUM(B53:D53)+SUM(B56:D56)+SUM(B59:D59)+SUM(F50:H50)+SUM(F53:H53)+SUM(F56:H56)+SUM(F59:H59)+SUM(J50:L50)+SUM(J53:L53)+SUM(J56:L56)+SUM(J59:L59)+SUM(N50:P50)+SUM(N53:P53)+SUM(N56:P56)+SUM(N59:P59)","v":62},{"$f":"SUM(B50,B53,B56,B59)","v":0},{"$f":"SUM(C50,C53,C56,C59)","v":0},{"$f":"SUM(D50,D53,D56,D59)","v":0},{"$f":"SUM(E50,E53,E56,E59)","v":0},{"$f":"SUM(F50,F53,F56,F59)","v":10},{"$f":"SUM(G50,G53,G56,G59)","v":15},{"$f":"SUM(H50,H53,H56,H59)","v":0},{"$f":"SUM(I50,I53,I56,I59)","v":0},{"$f":"SUM(J50,J53,J56,J59)","v":10},{"$f":"SUM(K50,K53,K56,K59)","v":0},{"$f":"SUM(L50,L53,L56,L59)","v":14},{"$f":"SUM(M50,M53,M56,M59)","v":0},{"$f":"SUM(N50,N53,N56,N59)","v":0},{"$f":"SUM(O50,O53,O56,O59)","v":8},{"$f":"SUM(P50,P53,P56,P59)","v":5},{"$f":"SUM(Q50,Q53,Q56,Q59)","v":0}]
["10:30:01.267",{"$f":"ROUND('Import Tab'!E49*'Base Information'!$V$22,0)","v":0},{"$f":"ROUND('Import Tab'!D49*'Base Information'!$V$22,0)","v":0},{"$f":"ROUND('Import Tab'!C49*'Base Information'!$V$22,0)","v":0},{"$f":"ROUND('Import Tab'!F49,0)","v":0},{"$f":"ROUND('Import Tab'!I49*'Base Information'!$V$22,0)","v":1},{"$f":"ROUND('Import Tab'!H49*'Base Information'!$V$22,0)","v":3},{"$f":"ROUND('Import Tab'!G49*'Base Information'!$V$22,0)","v":0},{"$f":"ROUND('Import Tab'!J49,0)","v":0},{"$f":"ROUND('Import Tab'!M49*'Base Information'!$V$22,0)","v":2},{"$f":"ROUND('Import Tab'!L49*'Base Information'!$V$22,0)","v":0},{"$f":"ROUND('Import Tab'!K49*'Base Information'!$V$22,0)","v":2},{"$f":"ROUND('Import Tab'!N49,0)","v":0},{"$f":"ROUND('Import Tab'!Q49*'Base Information'!$V$22,0)","v":0},{"$f":"ROUND('Import Tab'!P49*'Base Information'!$V$22,0)","v":6},{"$f":"ROUND('Import Tab'!O49*'Base Information'!$V$22,0)","v":0},{"$f":"ROUND('Import Tab'!R49,0)","v":0}]
["10:30:01.267",{"$f":"ROUND('Import Tab'!E50*'Base Information'!$V$22,0)","v":0},{"$f":"ROUND('Import Tab'!D50*'Base Information'!$V$22,0)","v":0},{"$f":"ROUND('Import Tab'!C50*'Base Information'!$V$22,0)","v":0},{"$f":"ROUND('Import Tab'!F50,0)","v":0},{"$f":"ROUND('Import Tab'!I50*'Base Information'!$V$22,0)","v":0},{"$f":"ROUND('Import Tab'!H50*'Base Information'!$V$22,0)","v":5},{"$f":"ROUND('Import Tab'!G50*'Base Information'!$V$22,0)","v":0},{"$f":"ROUND('Import Tab'!J50,0)","v":0},{"$f":"ROUND('Import Tab'!M50*'Base Information'!$V$22,0)","v":1},{"$f":"ROUND('Import Tab'!L50*'Base Information'!$V$22,0)","v":0},{"$f":"ROUND('Import Tab'!K50*'Base Information'!$V$22,0)","v":5},{"$f":"ROUND('Import Tab'!N50,0)","v":0},{"$f":"ROUND('Import Tab'!Q50*'Base Information'!$V$22,0)","v":0},{"$f":"ROUND('Import Tab'!P50*'Base Information'!$V$22,0)","v":1},{"$f":"ROUND('Import Tab'!O50*'Base Information'!$V$22,0)","v":3},{"$f":"ROUND('Import Tab'!R50,0)","v":0}]
["10:45:01.296",{"$f":"ROUND('Import Tab'!E51*'Base Information'!$V$22,0)","v":0},{"$f":"ROUND('Import Tab'!D51*'Base Information'!$V$22,0)","v":0},{"$f":"ROUND('Import Tab'!C51*'Base Information'!$V$22,0)","v":0},{"$f":"ROUND('Import Tab'!F51,0)","v":0},{"$f":"ROUND('Import Tab'!I51*'Base Information'!$V$22,0)","v":12},{"$f":"ROUND('Import Tab'!H51*'Base Information'!$V$22,0)","v":87},{"$f":"ROUND('Import Tab'!G51*'Base Information'!$V$22,0)","v":0},{"$f":"ROUND('Import Tab'!J51,0)","v":0},{"$f":"ROUND('Import Tab'!M51*'Base Information'!$V$22,0)","v":33},{"$f":"ROUND('Import Tab'!L51*'Base Information'!$V$22,0)","v":0},{"$f":"ROUND('Import Tab'!K51*'Base Information'!$V$22,0)","v":65},{"$f":"ROUND('Import Tab'!N51,0)","v":0},{"$f":"ROUND('Import Tab'!Q51*'Base Information'!$V$22,0)","v":0},{"$f":"ROUND('Import Tab'!P51*'Base Information'!$V$22,0)","v":51},{"$f":"ROUND('Import Tab'!O51*'Base Information'!$V$22,0)","v":5},{"$f":"ROUND('Import Tab'!R51,0)","v":0},{"$f":"SUM(B51:D53)+SUM(F51:H53)+SUM(J51:L53)+SUM(N51:P53)+E53+I53+M53+Q53","v":284},{"$f":"B51+B52+B53","v":0},0,0,{"$f":"E51","v":0},{"$f":"E52","v":0},{"$f":"E53","v":0},{"$f":"F51+F52+F53","v":16},{"$f":"G51+G52+G53","v":95},{"$f":"H51+H52+H53","v":0},{"$f":"I51","v":0},{"$f":"I52","v":0},{"$f":"I53","v":0},{"$f":"J51+J52+J53","v":39},{"$f":"K51+K52+K53","v":0},{"$f":"L51+L52+L53","v":71},{"$f":"M51","v":0},{"$f":"M52","v":0},{"$f":"M53","v":0},{"$f":"N51+N52+N53","v":0},{"$f":"O51+O52+O53","v":57},{"$f":"P51+P52+P53","v":6},{"$f":"Q51","v":0},{"$f":"Q52","v":0},{"$f":"Q53","v":0},{"$f":"SUM(B51:D51)+SUM(F51:H51)+SUM(J51:L51)+SUM(N51:P51)+E53+I53+M53+Q53","v":253},{"$f":"B51","v":0},{"$f":"C51","v":0},{"$f":"D51","v":0},{"$f":"E51","v":0},{"$f":"F51","v":12},{"$f":"G51","v":87},{"$f":"H51","v":0},{"$f":"I51","v":0},{"$f":"J51","v":33},{"$f":"K51","v":0},{"$f":"L51","v":65},{"$f":"M51","v":0},{"$f":"N51","v":0},{"$f":"O51","v":51},{"$f":"P51","v":5},{"$f":"Q51","v":0},{"$f":"SUM(B52:D52)+SUM(F52:H52)+SUM(J52:L52)+SUM(N52:P52)","v":14},{"$f":"B52","v":0},{"$f":"C52","v":0},{"$f":"D52","v":0},{"$f":"E52","v":0},{"$f":"F52","v":2},{"$f":"G52","v":3},{"$f":"H52","v":0},{"$f":"I52","v":0},{"$f":"J52","v":1},{"$f":"K52","v":0},{"$f":"L52","v":3},{"$f":"M52","v":0},{"$f":"N52","v":0},{"$f":"O52","v":4},{"$f":"P52","v":1},{"$f":"Q52","v":0},{"$f":"SUM(B53:D53)+SUM(F53:H53)+SUM(J53:L53)+SUM(N53:P53)","v":17},{"$f":"B53","v":0},{"$f":"C53","v":0},{"$f":"D53","v":0},{"$f":"E53","v":0},{"$f":"F53","v":2},{"$f":"G53","v":5},{"$f":"H53","v":0},{"$f":"I53","v":0},{"$f":"J53","v":5},{"$f":"K53","v":0},{"$f":"L53","v":3},{"$f":"M53","v":0},{"$f":"N53","v":0},{"$f":"O53","v":2},{"$f":"P53","v":0},{"$f":"Q53","v":0},{"$f":"SUM(B51:D62,E53,E56,E59,E62,F51:H62,I53,I56,I59,I62,J51:L62,M53,M56,M59,M62,N51:P62,Q53,Q56,Q59,Q62)","v":1124},{"$f":"SUM(B51:B62)","v":0},{"$f":"SUM(C51:C62)","v":0},{"$f":"SUM(D51:D62)","v":0},{"$f":"SUM(E51+E54+E57+E60)","v":0},{"$f":"SUM(E52+E55+E58+E61)","v":0},{"$f":"SUM(E53+E56+E59+E62)","v":0},{"$f":"SUM(F51:F62)","v":65},{"$f":"SUM(G51:G62)","v":390},{"$f":"SUM(H51:H62)","v":0},{"$f":"SUM(I51+I54+I57+I60)","v":0},{"$f":"SUM(I52+I55+I58+I61)","v":0},{"$f":"SUM(I53+I56+I59+I62)","v":0},{"$f":"SUM(J51:J62)","v":156},{"$f":"SUM(K51:K62)","v":0},{"$f":"SUM(L51:L62)","v":267},{"$f":"SUM(M51+M54+M57+M60)","v":0},{"$f":"SUM(M52+M55+M58+M61)","v":0},{"$f":"SUM(M53+M56+M59+M62)","v":0},{"$f":"SUM(N51:N62)","v":0},{"$f":"SUM(O51:O62)","v":220},{"$f":"SUM(P51:P62)","v":26},{"$f":"SUM(Q51+Q54+Q57+Q60)","v":0},{"$f":"SUM(Q52+Q55+Q58+Q61)","v":0},{"$f":"SUM(Q53+Q56+Q59+Q62)","v":0},{"$f":"SUM(B51:D51)+SUM(B54:D54)+SUM(B57:D57)+SUM(B60:D60)+SUM(F51:H51)+SUM(F54:H54)+SUM(F57:H57)+SUM(F60:H60)+SUM(J51:L51)+SUM(J54:L54)+SUM(J57:L57)+SUM(J60:L60)+SUM(N51:P51)+SUM(N54:P54)+SUM(N57:P57)+SUM(N60:P60)+E53+E56+E59+E62+I53+I56+I59+I62+M53+M56+M59+M62+Q53+Q56+Q59+Q62","v":1004},{"$f":"SUM(B51,B54,B57,B60)","v":0},{"$f":"SUM(C51,C54,C57,C60)","v":0},{"$f":"SUM(D51,D54,D57,D60)","v":0},{"$f":"SUM(E51,E54,E57,E60)","v":0},{"$f":"SUM(F51,F54,F57,F60)","v":46},{"$f":"SUM(G51,G54,G57,G60)","v":358},{"$f":"SUM(H51,H54,H57,H60)","v":0},{"$f":"SUM(I51,I54,I57,I60)","v":0},{"$f":"SUM(J51,J54,J57,J60)","v":142},{"$f":"SUM(K51,K54,K57,K60)","v":0},{"$f":"SUM(L51,L54,L57,L60)","v":244},{"$f":"SUM(M51,M54,M57,M60)","v":0},{"$f":"SUM(N51,N54,N57,N60)","v":0},{"$f":"SUM(O51,O54,O57,O60)","v":191},{"$f":"SUM(P51,P54,P57,P60)","v":23},{"$f":"SUM(Q51,Q54,Q57,Q60)","v":0},{"$f":"SUM(B52:D52)+SUM(B55:D55)+SUM(B58:D58)+SUM(B61:D61)+SUM(F52:H52)+SUM(F55:H55)+SUM(F58:H58)+SUM(F61:H61)+SUM(J52:L52)+SUM(J55:L55)+SUM(J58:L58)+SUM(J61:L61)+SUM(N52:P52)+SUM(N55:P55)+SUM(N58:P58)+SUM(N61:P61)","v":61},{"$f":"SUM(B52,B55,B58,B61)","v":0},{"$f":"SUM(C52,C55,C58,C61)","v":0},{"$f":"SUM(D52,D55,D58,D61)","v":0},{"$f":"SUM(E52,E55,E58,E61)","v":0},{"$f":"SUM(F52,F55,F58,F61)","v":6},{"$f":"SUM(G52,G55,G58,G61)","v":20},{"$f":"SUM(H52,H55,H58,H61)","v":0},{"$f":"SUM(I52,I55,I58,I61)","v":0},{"$f":"SUM(J52,J55,J58,J61)","v":3},{"$f":"SUM(K52,K55,K58,K61)","v":0},{"$f":"SUM(L52,L55,L58,L61)","v":11},{"$f":"SUM(M52,M55,M58,M61)","v":0},{"$f":"SUM(N52,N55,N58,N61)","v":0},{"$f":"SUM(O52,O55,O58,O61)","v":20},{"$f":"SUM(P52,P55,P58,P61)","v":1},{"$f":"SUM(Q52,Q55,Q58,Q61)","v":0},{"$f":"SUM(B53:D53)+SUM(B56:D56)+SUM(B59:D59)+SUM(B62:D62)+SUM(F53:H53)+SUM(F56:H56)+SUM(F59:H59)+SUM(F62:H62)+SUM(J53:L53)+SUM(J56:L56)+SUM(J59:L59)+SUM(J62:L62)+SUM(N53:P53)+SUM(N56:P56)+SUM(N59:P59)+SUM(N62:P62)","v":59},{"$f":"SUM(B53,B56,B59,B62)","v":0},{"$f":"SUM(C53,C56,C59,C62)","v":0},{"$f":"SUM(D53,D56,D59,D62)","v":0},{"$f":"SUM(E53,E56,E59,E62)","v":0},{"$f":"SUM(F53,F56,F59,F62)","v":13},{"$f":"SUM(G53,G56,G59,G62)","v":12},{"$f":"SUM(H53,H56,H59,H62)","v":0},{"$f":"SUM(I53,I56,I59,I62)","v":0},{"$f":"SUM(J53,J56,J59,J62)","v":11},{"$f":"SUM(K53,K56,K59,K62)","v":0},{"$f":"SUM(L53,L56,L59,L62)","v":12},{"$f":"SUM(M53,M56,M59,M62)","v":0},{"$f":"SUM(N53,N56,N59,N62)","v":0},{"$f":"SUM(O53,O56,O59,O62)","v":9},{"$f":"SUM(P53,P56,P59,P62)","v":2},{"$f":"SUM(Q53,Q56,Q59,Q62)","v":0}]
["10:45:01.296",{"$f":"ROUND('Import Tab'!E52*'Base Information'!$V$22,0)","v":0},{"$f":"ROUND('Import Tab'!D52*'Base Information'!$V$22,0)","v":0},{"$f":"ROUND('Import Tab'!C52*'Base Information'!$V$22,0)","v":0},{"$f":"ROUND('Import Tab'!F52,0)","v":0},{"$f":"ROUND('Import Tab'!I52*'Base Information'!$V$22,0)","v":2},{"$f":"ROUND('Import Tab'!H52*'Base Information'!$V$22,0)","v":3},{"$f":"ROUND('Import Tab'!G52*'Base Information'!$V$22,0)","v":0},{"$f":"ROUND('Import Tab'!J52,0)","v":0},{"$f":"ROUND('Import Tab'!M52*'Base Information'!$V$22,0)","v":1},{"$f":"ROUND('Import Tab'!L52*'Base Information'!$V$22,0)","v":0},{"$f":"ROUND('Import Tab'!K52*'Base Information'!$V$22,0)","v":3},{"$f":"ROUND('Import Tab'!N52,0)","v":0},{"$f":"ROUND('Import Tab'!Q52*'Base Information'!$V$22,0)","v":0},{"$f":"ROUND('Import Tab'!P52*'Base Information'!$V$22,0)","v":4},{"$f":"ROUND('Import Tab'!O52*'Base Information'!$V$22,0)","v":1},{"$f":"ROUND('Import Tab'!R52,0)","v":0}]
["10:45:01.296",{"$f":"ROUND('Import Tab'!E53*'Base Information'!$V$22,0)","v":0},{"$f":"ROUND('Import Tab'!D53*'Base Information'!$V$22,0)","v":0},{"$f":"ROUND('Import Tab'!C53*'Base Information'!$V$22,0)","v":0},{"$f":"ROUND('Import Tab'!F53,0)","v":0},{"$f":"ROUND('Import Tab'!I53*'Base Information'!$V$22,0)","v":2},{"$f":"ROUND('Import Tab'!H53*'Base Information'!$V$22,0)","v":5},{"$f":"ROUND('Import Tab'!G53*'Base Information'!$V$22,0)","v":0},{"$f":"ROUND('Import Tab'!J53,0)","v":0},{"$f":"ROUND('Import Tab'!M53*'Base Information'!$V$22,0)","v":5},{"$f":"ROUND('Import Tab'!L53*'Base Information'!$V$22,0)","v":0},{"$f":"ROUND('Import Tab'!K53*'Base Information'!$V$22,0)","v":3},{"$f":"ROUND('Import Tab'!N53,0)","v":0},{"$f":"ROUND('Import Tab'!Q53*'Base Information'!$V$22,0)","v":0},{"$f":"ROUND('Import Tab'!P53*'Base Information'!$V$22,0)","v":2},{"$f":"ROUND('Import Tab'!O53*'Base Information'!$V$22,0)","v":0},{"$f":"ROUND('Import Tab'!R53,0)","v":0}]
["11:00:01.325",{"$f":"ROUND('Import Tab'!E54*'Base Information'!$V$22,0)","v":0},{"$f":"ROUND('Import Tab'!D54*'Base Information'!$V$22,0)","v":0},{"$f":"ROUND('Import Tab'!C54*'Base Information'!$V$22,0)","v":0},{"$f":"ROUND('Import Tab'!F54,0)","v":0},{"$f":"ROUND('Import Tab'!I54*'Base Information'!$V$22,0)","v":12},{"$f":"ROUND('Import Tab'!H54*'Base Information'!$V$22,0)","v":100},{"$f":"ROUND('Import Tab'!G54*'Base Information'!$V$22,0)","v":0},{"$f":"ROUND('Import Tab'!J54,0)","v":0},{"$f":"ROUND('Import Tab'!M54*'Base Information'!$V$22,0)","v":35},{"$f":"ROUND('Import Tab'!L54*'Base Information'!$V$22,0)","v":0},{"$f":"ROUND('Import Tab'!K54*'Base Information'!$V$22,0)","v":59},{"$f":"ROUND('Import Tab'!N54,0)","v":0},{"$f":"ROUND('Import Tab'!Q54*'Base Information'!$V$22,0)","v":0},{"$f":"ROUND('Import Tab'!P54*'Base Information'!$V$22,0)","v":49},{"$f":"ROUND('Import Tab'!O54*'Base Information'!$V$22,0)","v":7},{"$f":"ROUND('Import Tab'!R54,0)","v":0},{"$f":"SUM(B54:D56)+SUM(F54:H56)+SUM(J54:L56)+SUM(N54:P56)+E56+I56+M56+Q56","v":286},{"$f":"B54+B55+B56","v":0},0,0,{"$f":"E54","v":0},{"$f":"E55","v":0},{"$f":"E56","v":0},{"$f":"F54+F55+F56","v":19},{"$f":"G54+G55+G56","v":104},{"$f":"H54+H55+H56","v":0},{"$f":"I54","v":0},{"$f":"I55","v":0},{"$f":"I56","v":0},{"$f":"J54+J55+J56","v":38},{"$f":"K54+K55+K56","v":0},{"$f":"L54+L55+L56","v":61},{"$f":"M54","v":0},{"$f":"M55","v":0},{"$f":"M56","v":0},{"$f":"N54+N55+N56","v":0},{"$f":"O54+O55+O56","v":55},{"$f":"P54+P55+P56","v":9},{"$f":"Q54","v":0},{"$f":"Q55","v":0},{"$f":"Q56","v":0},{"$f":"SUM(B54:D54)+SUM(F54:H54)+SUM(J54:L54)+SUM(N54:P54)+E56+I56+M56+Q56","v":262},{"$f":"B54","v":0},{"$f":"C54","v":0},{"$f":"D54","v":0},{"$f":"E54","v":0},{"$f":"F54","v":12},{"$f":"G54","v":100},{"$f":"H54","v":0},{"$f":"I54","v":0},{"$f":"J54","v":35},{"$f":"K54","v":0},{"$f":"L54","v":59},{"$f":"M54","v":0},{"$f":"N54","v":0},{"$f":"O54","v":49},{"$f":"P54","v":7},{"$f":"Q54","v":0},{"$f":"SUM(B55:D55)+SUM(F55:H55)+SUM(J55:L55)+SUM(N55:P55)","v":9},{"$f":"B55","v":0},{"$f":"C55","v":0},{"$f":"D55","v":0},{"$f":"E55","v":0},{"$f":"F55","v":2},{"$f":"G55","v":4},{"$f":"H55","v":0},{"$f":"I55","v":0},{"$f":"J55","v":0},{"$f":"K55","v":0},{"$f":"L55","v":1},{"$f":"M55","v":0},{"$f":"N55","v":0},{"$f":"O55","v":2},{"$f":"P55","v":0},{"$f":"Q55","v":0},{"$f":"SUM(B56:D56)+SUM(F56:H56)+SUM(J56:L56)+SUM(N56:P56)","v":15},{"$f":"B56","v":0},{"$f":"C56","v":0},{"$f":"D56","v":0},{"$f":"E56","v":0},{"$f":"F56","v":5},{"$f":"G56","v":0},{"$f":"H56","v":0},{"$f":"I56","v":0},{"$f":"J56","v":3},{"$f":"K56","v":0},{"$f":"L56","v":1},{"$f":"M56","v":0},{"$f":"N56","v":0},{"$f":"O56","v":4},{"$f":"P56","v":2},{"$f":"Q56","v":0},{"$f":"SUM(B54:D65,E56,E59,E62,E65,F54:H65,I56,I59,I62,I65,J54:L65,M56,M59,M62,M65,N54:P65,Q56,Q59,Q62,Q65)","v":1154},{"$f":"SUM(B54:B65)","v":0},{"$f":"SUM(C54:C65)","v":0},{"$f":"SUM(D54:D65)","v":0},{"$f":"SUM(E54+E57+E60+E63)","v":0},{"$f":"SUM(E55+E58+E61+E64)","v":0},{"$f":"SUM(E56+E59+E62+E65)","v":0},{"$f":"SUM(F54:F65)","v":65},{"$f":"SUM(G54:G65)","v":405},{"$f":"SUM(H54:H65)","v":0},{"$f":"SUM(I54+I57+I60+I63)","v":0},{"$f":"SUM(I55+I58+I61+I64)","v":0},{"$f":"SUM(I56+I59+I62+I65)","v":0},{"$f":"SUM(J54:J65)","v":165},{"$f":"SUM(K54:K65)","v":0},{"$f":"SUM(L54:L65)","v":267},{"$f":"SUM(M54+M57+M60+M63)","v":0},{"$f":"SUM(M55+M58+M61+M64)","v":0},{"$f":"SUM(M56+M59+M62+M65)","v":0},{"$f":"SUM(N54:N65)","v":0},{"$f":"SUM(O54:O65)","v":225},{"$f":"SUM(P54:P65)","v":27},{"$f":"SUM(Q54+Q57+Q60+Q63)","v":0},{"$f":"SUM(Q55+Q58+Q61+Q64)","v":0},{"$f":"SUM(Q56+Q59+Q62+Q65)","v":0},{"$f":"SUM(B54:D54)+SUM(B57:D57)+SUM(B60:D60)+SUM(B63:D63)+SUM(F54:H54)+SUM(F57:H57)+SUM(F60:H60)+SUM(F63:H63)+SUM(J54:L54)+SUM(J57:L57)+SUM(J60:L60)+SUM(J63:L63)+SUM(N54:P54)+SUM(N57:P57)+SUM(N60:P60)+SUM(N63:P63)+E56+E59+E62+E65+I56+I59+I62+I65+M56+M59+M62+M65+Q56+Q59+Q62+Q65","v":1033},{"$f":"SUM(B54,B57,B60,B63)","v":0},{"$f":"SUM(C54,C57,C60,C63)","v":0},{"$f":"SUM(D54,D57,D60,D63)","v":0},{"$f":"SUM(E54,E57,E60,E63)","v":0},{"$f":"SUM(F54,F57,F60,F63)","v":47},{"$f":"SUM(G54,G57,G60,G63)","v":371},{"$f":"SUM(H54,H57,H60,H63)","v":0},{"$f":"SUM(I54,I57,I60,I63)","v":0},{"$f":"SUM(J54,J57,J60,J63)","v":153},{"$f":"SUM(K54,K57,K60,K63)","v":0},{"$f":"SUM(L54,L57,L60,L63)","v":247},{"$f":"SUM(M54,M57,M60,M63)","v":0},{"$f":"SUM(N54,N57,N60,N63)","v":0},{"$f":"SUM(O54,O57,O60,O63)","v":193},{"$f":"SUM(P54,P57,P60,P63)","v":22},{"$f":"SUM(Q54,Q57,Q60,Q63)","v":0},{"$f":"SUM(B55:D55)+SUM(B58:D58)+SUM(B61:D61)+SUM(B64:D64)+SUM(F55:H55)+SUM(F58:H58)+SUM(F61:H61)+SUM(F64:H64)+SUM(J55:L55)+SUM(J58:L58)+SUM(J61:L61)+SUM(J64:L64)+SUM(N55:P55)+SUM(N58:P58)+SUM(N61:P61)+SUM(N64:P64)","v":65},{"$f":"SUM(B55,B58,B61,B64)","v":0},{"$f":"SUM(C55,C58,C61,C64)","v":0},{"$f":"SUM(D55,D58,D61,D64)","v":0},{"$f":"SUM(E55,E58,E61,E64)","v":0},{"$f":"SUM(F55,F58,F61,F64)","v":4},{"$f":"SUM(G55,G58,G61,G64)","v":26},{"$f":"SUM(H55,H58,H61,H64)","v":0},{"$f":"SUM(I55,I58,I61,I64)","v":0},{"$f":"SUM(J55,J58,J61,J64)","v":4},{"$f":"SUM(K55,K58,K61,K64)","v":0},{"$f":"SUM(L55,L58,L61,L64)","v":9},{"$f":"SUM(M55,M58,M61,M64)","v":0},{"$f":"SUM(N55,N58,N61,N64)","v":0},{"$f":"SUM(O55,O58,O61,O64)","v":22},{"$f":"SUM(P55,P58,P61,P64)","v":0},{"$f":"SUM(Q55,Q58,Q61,Q64)","v":0},{"$f":"SUM(B56:D56)+SUM(B59:D59)+SUM(B62:D62)+SUM(B65:D65)+SUM(F56:H56)+SUM(F59:H59)+SUM(F62:H62)+SUM(F65:H65)+SUM(J56:L56)+SUM(J59:L59)+SUM(J62:L62)+SUM(J65:L65)+SUM(N56:P56)+SUM(N59:P59)+SUM(N62:P62)+SUM(N65:P65)","v":56},{"$f":"SUM(B56,B59,B62,B65)","v":0},{"$f":"SUM(C56,C59,C62,C65)","v":0},{"$f":"SUM(D56,D59,D62,D65)","v":0},{"$f":"SUM(E56,E59,E62,E65)","v":0},{"$f":"SUM(F56,F59,F62,F65)","v":14},{"$f":"SUM(G56,G59,G62,G65)","v":8},{"$f":"SUM(H56,H59,H62,H65)","v":0},{"$f":"SUM(I56,I59,I62,I65)","v":0},{"$f":"SUM(J56,J59,J62,J65)","v":8},{"$f":"SUM(K56,K59,K62,K65)","v":0},{"$f":"SUM(L56,L59,L62,L65)","v":11},{"$f":"SUM(M56,M59,M62,M65)","v":0},{"$f":"SUM(N56,N59,N62,N65)","v":0},{"$f":"SUM(O56,O59,O62,O65)","v":10},{"$f":"SUM(P56,P59,P62,P65)","v":5},{"$f":"SUM(Q56,Q59,Q62,Q65)","v":0}]
["11:00:01.325",{"$f":"ROUND('Import Tab'!E55*'Base Information'!$V$22,0)","v":0},{"$f":"ROUND('Import Tab'!D55*'Base Information'!$V$22,0)","v":0},{"$f":"ROUND('Import Tab'!C55*'Base Information'!$V$22,0)","v":0},{"$f":"ROUND('Import Tab'!F55,0)","v":0},{"$f":"ROUND('Import Tab'!I55*'Base Information'!$V$22,0)","v":2},{"$f":"ROUND('Import Tab'!H55*'Base Information'!$V$22,0)","v":4},{"$f":"ROUND('Import Tab'!G55*'Base Information'!$V$22,0)","v":0},{"$f":"ROUND('Import Tab'!J55,0)","v":0},{"$f":"ROUND('Import Tab'!M55*'Base Information'!$V$22,0)","v":0},{"$f":"ROUND('Import Tab'!L55*'Base Information'!$V$22,0)","v":0},{"$f":"ROUND('Import Tab'!K55*'Base Information'!$V$22,0)","v":1},{"$f":"ROUND('Import Tab'!N55,0)","v":0},{"$f":"ROUND('Import Tab'!Q55*'Base Information'!$V$22,0)","v":0},{"$f":"ROUND('Import Tab'!P55*'Base Information'!$V$22,0)","v":2},{"$f":"ROUND('Import Tab'!O55*'Base Information'!$V$22,0)","v":0},{"$f":"ROUND('Import Tab'!R55,0)","v":0}]
["11:00:01.325",{"$f":"ROUND('Import Tab'!E56*'Base Information'!$V$22,0)","v":0},{"$f":"ROUND('Import Tab'!D56*'Base Information'!$V$22,0)","v":0},{"$f":"ROUND('Import Tab'!C56*'Base Information'!$V$22,0)","v":0},{"$f":"ROUND('Import Tab'!F56,0)","v":0},{"$f":"ROUND('Import Tab'!I56*'Base Information'!$V$22,0)","v":5},{"$f":"ROUND('Import Tab'!H56*'Base Information'!$V$22,0)","v":0},{"$f":"ROUND('Import Tab'!G56*'Base Information'!$V$22,0)","v":0},{"$f":"ROUND('Import Tab'!J56,0)","v":0},{"$f":"ROUND('Import Tab'!M56*'Base Information'!$V$22,0)","v":3},{"$f":"ROUND('Import Tab'!L56*'Base Information'!$V$22,0)","v":0},{"$f":"ROUND('Import Tab'!K56*'Base Information'!$V$22,0)","v":1},{"$f":"ROUND('Import Tab'!N56,0)","v":0},{"$f":"ROUND('Import Tab'!Q56*'Base Information'!$V$22,0)","v":0},{"$f":"ROUND('Import Tab'!P56*'Base Information'!$V$22,0)","v":4},{"$f":"ROUND('Import Tab'!O56*'Base Information'!$V$22,0)","v":2},{"$f":"ROUND('Import Tab'!R56,0)","v":0}]
["11:15:01.354",{"$f":"ROUND('Import Tab'!E57*'Base Information'!$V$22,0)","v":0},{"$f":"ROUND('Import Tab'!D57*'Base Information'!$V$22,0)","v":0},{"$f":"ROUND('Import Tab'!C57*'Base Information'!$V$22,0)","v":0},{"$f":"ROUND('Import Tab'!F57,0)","v":0},{"$f":"ROUND('Import Tab'!I57*'Base Information'!$V$22,0)","v":11},{"$f":"ROUND('Import Tab'!H57*'Base Information'!$V$22,0)","v":79},{"$f":"ROUND('Import Tab'!G57*'Base Information'!$V$22,0)","v":0},{"$f":"ROUND('Import Tab'!J57,0)","v":0},{"$f":"ROUND('Import Tab'!M57*'Base Information'!$V$22,0)","v":37},{"$f":"ROUND('Import Tab'!L57*'Base Information'!$V$22,0)","v":0},{"$f":"ROUND('Import Tab'!K57*'Base Information'!$V$22,0)","v":61},{"$f":"ROUND('Import Tab'!N57,0)","v":0},{"$f":"ROUND('Import Tab'!Q57*'Base Information'!$V$22,0)","v":0},{"$f":"ROUND('Import Tab'!P57*'Base Information'!$V$22,0)","v":48},{"$f":"ROUND('Import Tab'!O57*'Base Information'!$V$22,0)","v":5},{"$f":"ROUND('Import Tab'!R57,0)","v":0},{"$f":"SUM(B57:D59)+SUM(F57:H59)+SUM(J57:L59)+SUM(N57:P59)+E59+I59+M59+Q59","v":274},{"$f":"B57+B58+B59","v":0},0,0,{"$f":"E57","v":0},{"$f":"E58","v":0},{"$f":"E59","v":0},{"$f":"F57+F58+F59","v":15},{"$f":"G57+G58+G59","v":91},{"$f":"H57+H58+H59","v":0},{"$f":"I57","v":0},{"$f":"I58","v":0},{"$f":"I59","v":0},{"$f":"J57+J58+J59","v":39},{"$f":"K57+K58+K59","v":0},{"$f":"L57+L58+L59","v":70},{"$f":"M57","v":0},{"$f":"M58","v":0},{"$f":"M59","v":0},{"$f":"N57+N58+N59","v":0},{"$f":"O57+O58+O59","v":54},{"$f":"P57+P58+P59","v":5},{"$f":"Q57","v":0},{"$f":"Q58","v":0},{"$f":"Q59","v":0},{"$f":"SUM(B57:D57)+SUM(F57:H57)+SUM(J57:L57)+SUM(N57:P57)+E59+I59+M59+Q59","v":241},{"$f":"B57","v":0},{"$f":"C57","v":0},{"$f":"D57","v":0},{"$f":"E57","v":0},{"$f":"F57","v":11},{"$f":"G57","v":79},{"$f":"H57","v":0},{"$f":"I57","v":0},{"$f":"J57","v":37},{"$f":"K57","v":0},{"$f":"L57","v":61},{"$f":"M57","v":0},{"$f":"N57","v":0},{"$f":"O57","v":48},{"$f":"P57","v":5},{"$f":"Q57","v":0},{"$f":"SUM(B58:D58)+SUM(F58:H58)+SUM(J58:L58)+SUM(N58:P58)","v":18},{"$f":"B58","v":0},{"$f":"C58","v":0},{"$f":"D58","v":0},{"$f":"E58","v":0},{"$f":"F58","v":1},{"$f":"G58","v":7},{"$f":"H58","v":0},{"$f":"I58","v":0},{"$f":"J58","v":1},{"$f":"K58","v":0},{"$f":"L58","v":4},{"$f":"M58","v":0},{"$f":"N58","v":0},{"$f":"O58","v":5},{"$f":"P58","v":0},{"$f":"Q58","v":0},{"$f":"SUM(B59:D59)+SUM(F59:H59)+SUM(J59:L59)+SUM(N59:P59)","v":15},{"$f":"B59","v":0},{"$f":"C59","v":0},{"$f":"D59","v":0},{"$f":"E59","v":0},{"$f":"F59","v":3},{"$f":"G59","v":5},{"$f":"H59","v":0},{"$f":"I59","v":0},{"$f":"J59","v":1},{"$f":"K59","v":0},{"$f":"L59","v":5},{"$f":"M59","v":0},{"$f":"N59","v":0},{"$f":"O59","v":1},{"$f":"P59","v":0},{"$f":"Q59","v":0},{"$f":"SUM(B57:D68,E59,E62,E65,E68,F57:H68,I59,I62,I65,I68,J57:L68,M59,M62,M65,M68,N57:P68,Q59,Q62,Q65,Q68)","v":1180},{"$f":"SUM(B57:B68)","v":0},{"$f":"SUM(C57:C68)","v":0},{"$f":"SUM(D57:D68)","v":0},{"$f":"SUM(E57+E60+E63+E66)","v":0},{"$f":"SUM(E58+E61+E64+E67)","v":0},{"$f":"SUM(E59+E62+E65+E68)","v":0},{"$f":"SUM(F57:F68)","v":55},{"$f":"SUM(G57:G68)","v":399},{"$f":"SUM(H57:H68)","v":0},{"$f":"SUM(I57+I60+I63+I66)","v":0},{"$f":"SUM(I58+I61+I64+I67)","v":0},{"$f":"SUM(I59+I62+I65+I68)","v":0},{"$f":"SUM(J57:J68)","v":164},{"$f":"SUM(K57:K68)","v":0},{"$f":"SUM(L57:L68)","v":301},{"$f":"SUM(M57+M60+M63+M66)","v":0},{"$f":"SUM(M58+M61+M64+M67)","v":0},{"$f":"SUM(M59+M62+M65+M68)","v":0},{"$f":"SUM(N57:N68)","v":0},{"$f":"SUM(O57:O68)","v":231},{"$f":"SUM(P57:P68)","v":30},{"$f":"SUM(Q57+Q60+Q63+Q66)","v":0},{"$f":"SUM(Q58+Q61+Q64+Q67)","v":0},{"$f":"SUM(Q59+Q62+Q65+Q68)","v":0},{"$f":"SUM(B57:D57)+SUM(B60:D60)+SUM(B63:D63)+SUM(B66:D66)+SUM(F57:H57)+SUM(F60:H60)+SUM(F63:H63)+SUM(F66:H66)+SUM(J57:L57)+SUM(J60:L60)+SUM(J63:L63)+SUM(J66:L66)+SUM(N57:P57)+SUM(N60:P60)+SUM(N63:P63)+SUM(N66:P66)+E59+E62+E65+E68+I59+I62+I65+I68+M59+M62+M65+M68+Q59+Q62+Q65+Q68","v":1045},{"$f":"SUM(B57,B60,B63,B66)","v":0},{"$f":"SUM(C57,C60,C63,C66)","v":0},{"$f":"SUM(D57,D60,D63,D66)","v":0},{"$f":"SUM(E57,E60,E63,E66)","v":0},{"$f":"SUM(F57,F60,F63,F66)","v":42},{"$f":"SUM(G57,G60,G63,G66)","v":362},{"$f":"SUM(H57,H60,H63,H66)","v":0},{"$f":"SUM(I57,I60,I63,I66)","v":0},{"$f":"SUM(J57,J60,J63,J66)","v":148},{"$f":"SUM(K57,K60,K63,K66)","v":0},{"$f":"SUM(L57,L60,L63,L66)","v":273},{"$f":"SUM(M57,M60,M63,M66)","v":0},{"$f":"SUM(N57,N60,N63,N66)","v":0},{"$f":"SUM(O57,O60,O63,O66)","v":197},{"$f":"SUM(P57,P60,P63,P66)","v":23},{"$f":"SUM(Q57,Q60,Q63,Q66)","v":0},{"$f":"SUM(B58:D58)+SUM(B61:D61)+SUM(B64:D64)+SUM(B67:D67)+SUM(F58:H58)+SUM(F61:H61)+SUM(F64:H64)+SUM(F67:H67)+SUM(J58:L58)+SUM(J61:L61)+SUM(J64:L64)+SUM(J67:L67)+SUM(N58:P58)+SUM(N61:P61)+SUM(N64:P64)+SUM(N67:P67)","v":76},{"$f":"SUM(B58,B61,B64,B67)","v":0},{"$f":"SUM(C58,C61,C64,C67)","v":0},{"$f":"SUM(D58,D61,D64,D67)","v":0},{"$f":"SUM(E58,E61,E64,E67)","v":0},{"$f":"SUM(F58,F61,F64,F67)","v":3},{"$f":"SUM(G58,G61,G64,G67)","v":29},{"$f":"SUM(H58,H61,H64,H67)","v":0},{"$f":"SUM(I58,I61,I64,I67)","v":0},{"$f":"SUM(J58,J61,J64,J67)","v":6},{"$f":"SUM(K58,K61,K64,K67)","v":0},{"$f":"SUM(L58,L61,L64,L67)","v":12},{"$f":"SUM(M58,M61,M64,M67)","v":0},{"$f":"SUM(N58,N61,N64,N67)","v":0},{"$f":"SUM(O58,O61,O64,O67)","v":26},{"$f":"SUM(P58,P61,P64,P67)","v":0},{"$f":"SUM(Q58,Q61,Q64,Q67)","v":0},{"$f":"SUM(B59:D59)+SUM(B62:D62)+SUM(B65:D65)+SUM(B68:D68)+SUM(F59:H59)+SUM(F62:H62)+SUM(F65:H65)+SUM(F68:H68)+SUM(J59:L59)+SUM(J62:L62)+SUM(J65:L65)+SUM(J68:L68)+SUM(N59:P59)+SUM(N62:P62)+SUM(N65:P65)+SUM(N68:P68)","v":59},{"$f":"SUM(B59,B62,B65,B68)","v":0},{"$f":"SUM(C59,C62,C65,C68)","v":0},{"$f":"SUM(D59,D62,D65,D68)","v":0},{"$f":"SUM(E59,E62,E65,E68)","v":0},{"$f":"SUM(F59,F62,F65,F68)","v":10},{"$f":"SUM(G59,G62,G65,G68)","v":8},{"$f":"SUM(H59,H62,H65,H68)","v":0},{"$f":"SUM(I59,I62,I65,I68)","v":0},{"$f":"SUM(J59,J62,J65,J68)","v":10},{"$f":"SUM(K59,K62,K65,K68)","v":0},{"$f":"SUM(L59,L62,L65,L68)","v":16},{"$f":"SUM(M59,M62,M65,M68)","v":0},{"$f":"SUM(N59,N62,N65,N68)","v":0},{"$f":"SUM(O59,O62,O65,O68)","v":8},{"$f":"SUM(P59,P62,P65,P68)","v":7},{"$f":"SUM(Q59,Q62,Q65,Q68)","v":0}]
["11:15:01.354",{"$f":"ROUND('Import Tab'!E58*'Base Information'!$V$22,0)","v":0},{"$f":"ROUND('Import Tab'!D58*'Base Information'!$V$22,0)","v":0},{"$f":"ROUND('Import Tab'!C58*'Base Information'!$V$22,0)","v":0},{"$f":"ROUND('Import Tab'!F58,0)","v":0},{"$f":"ROUND('Import Tab'!I58*'Base Information'!$V$22,0)","v":1},{"$f":"ROUND('Import Tab'!H58*'Base Information'!$V$22,0)","v":7},{"$f":"ROUND('Import Tab'!G58*'Base Information'!$V$22,0)","v":0},{"$f":"ROUND('Import Tab'!J58,0)","v":0},{"$f":"ROUND('Import Tab'!M58*'Base Information'!$V$22,0)","v":1},{"$f":"ROUND('Import Tab'!L58*'Base Information'!$V$22,0)","v":0},{"$f":"ROUND('Import Tab'!K58*'Base Information'!$V$22,0)","v":4},{"$f":"ROUND('Import Tab'!N58,0)","v":0},{"$f":"ROUND('Import Tab'!Q58*'Base Information'!$V$22,0)","v":0},{"$f":"ROUND('Import Tab'!P58*'Base Information'!$V$22,0)","v":5},{"$f":"ROUND('Import Tab'!O58*'Base Information'!$V$22,0)","v":0},{"$f":"ROUND('Import Tab'!R58,0)","v":0}]
["11:15:01.354",{"$f":"ROUND('Import Tab'!E59*'Base Information'!$V$22,0)","v":0},{"$f":"ROUND('Import Tab'!D59*'Base Information'!$V$22,0)","v":0},{"$f":"ROUND('Import Tab'!C59*'Base Information'!$V$22,0)","v":0},{"$f":"ROUND('Import Tab'!F59,0)","v":0},{"$f":"ROUND('Import Tab'!I59*'Base Information'!$V$22,0)","v":3},{"$f":"ROUND('Import Tab'!H59*'Base Information'!$V$22,0)","v":5},{"$f":"ROUND('Import Tab'!G59*'Base Information'!$V$22,0)","v":0},{"$f":"ROUND('Import Tab'!J59,0)","v":0},{"$f":"ROUND('Import Tab'!M59*'Base Information'!$V$22,0)","v":1},{"$f":"ROUND('Import Tab'!L59*'Base Information'!$V$22,0)","v":0},{"$f":"ROUND('Import Tab'!K59*'Base Information'!$V$22,0)","v":5},{"$f":"ROUND('Import Tab'!N59,0)","v":0},{"$f":"ROUND('Import Tab'!Q59*'Base Information'!$V$22,0)","v":0},{"$f":"ROUND('Import Tab'!P59*'Base Information'!$V$22,0)","v":1},{"$f":"ROUND('Import Tab'!O59*'Base Information'!$V$22,0)","v":0},{"$f":"ROUND('Import Tab'!R59,0)","v":0}]
["11:30:01.382",{"$f":"ROUND('Import Tab'!E60*'Base Information'!$V$22,0)","v":0},{"$f":"ROUND('Import Tab'!D60*'Base Information'!$V$22,0)","v":0},{"$f":"ROUND('Import Tab'!C60*'Base Information'!$V$22,0)","v":0},{"$f":"ROUND('Import Tab'!F60,0)","v":0},{"$f":"ROUND('Import Tab'!I60*'Base Information'!$V$22,0)","v":11},{"$f":"ROUND('Import Tab'!H60*'Base Information'!$V$22,0)","v":92},{"$f":"ROUND('Import Tab'!G60*'Base Information'!$V$22,0)","v":0},{"$f":"ROUND('Import Tab'!J60,0)","v":0},{"$f":"ROUND('Import Tab'!M60*'Base Information'!$V$22,0)","v":37},{"$f":"ROUND('Import Tab'!L60*'Base Information'!$V$22,0)","v":0},{"$f":"ROUND('Import Tab'!K60*'Base Information'!$V$22,0)","v":59},{"$f":"ROUND('Import Tab'!N60,0)","v":0},{"$f":"ROUND('Import Tab'!Q60*'Base Information'!$V$22,0)","v":0},{"$f":"ROUND('Import Tab'!P60*'Base Information'!$V$22,0)","v":43},{"$f":"ROUND('Import Tab'!O60*'Base Information'!$V$22,0)","v":6},{"$f":"ROUND('Import Tab'!R60,0)","v":0},{"$f":"SUM(B60:D62)+SUM(F60:H62)+SUM(J60:L62)+SUM(N60:P62)+E62+I62+M62+Q62","v":280},{"$f":"B60+B61+B62","v":0},0,0,{"$f":"E60","v":0},{"$f":"E61","v":0},{"$f":"E62","v":0},{"$f":"F60+F61+F62","v":15},{"$f":"G60+G61+G62","v":100},{"$f":"H60+H61+H62","v":0},{"$f":"I60","v":0},{"$f":"I61","v":0},{"$f":"I62","v":0},{"$f":"J60+J61+J62","v":40},{"$f":"K60+K61+K62","v":0},{"$f":"L60+L61+L62","v":65},{"$f":"M60","v":0},{"$f":"M61","v":0},{"$f":"M62","v":0},{"$f":"N60+N61+N62","v":0},{"$f":"O60+O61+O62","v":54},{"$f":"P60+P61+P62","v":6},{"$f":"Q60","v":0},{"$f":"Q61","v":0},{"$f":"Q62","v":0},{"$f":"SUM(B60:D60)+SUM(F60:H60)+SUM(J60:L60)+SUM(N60:P60)+E62+I62+M62+Q62","v":248},{"$f":"B60","v":0},{"$f":"C60","v":0},{"$f":"D60","v":0},{"$f":"E60","v":0},{"$f":"F60","v":11},{"$f":"G60","v":92},{"$f":"H60","v":0},{"$f":"I60","v":0},{"$f":"J60","v":37},{"$f":"K60","v":0},{"$f":"L60","v":59},{"$f":"M60","v":0},{"$f":"N60","v":0},{"$f":"O60","v":43},{"$f":"P60","v":6},{"$f":"Q60","v":0},{"$f":"SUM(B61:D61)+SUM(F61:H61)+SUM(J61:L61)+SUM(N61:P61)","v":20},{"$f":"B61","v":0},{"$f":"C61","v":0},{"$f":"D61","v":0},{"$f":"E61","v":0},{"$f":"F61","v":1},{"$f":"G61","v":6},{"$f":"H61","v":0},{"$f":"I61","v":0},{"$f":"J61","v":1},{"$f":"K61","v":0},{"$f":"L61","v":3},{"$f":"M61","v":0},{"$f":"N61","v":0},{"$f":"O61","v":9},{"$f":"P61","v":0},{"$f":"Q61","v":0},{"$f":"SUM(B62:D62)+SUM(F62:H62)+SUM(J62:L62)+SUM(N62:P62)","v":12},{"$f":"B62","v":0},{"$f":"C62","v":0},{"$f":"D62","v":0},{"$f":"E62","v":0},{"$f":"F62","v":3},{"$f":"G62","v":2},{"$f":"H62","v":0},{"$f":"I62","v":0},{"$f":"J62","v":2},{"$f":"K62","v":0},{"$f":"L62","v":3},{"$f":"M62","v":0},{"$f":"N62","v":0},{"$f":"O62","v":2},{"$f":"P62","v":0},{"$f":"Q62","v":0},{"$f":"SUM(B60:D71,E62,E65,E68,E71,F60:H71,I62,I65,I68,I71,J60:L71,M62,M65,M68,M71,N60:P71,Q62,Q65,Q68,Q71)","v":1269},{"$f":"SUM(B60:B71)","v":0},{"$f":"SUM(C60:C71)","v":0},{"$f":"SUM(D60:D71)","v":0},{"$f":"SUM(E60+E63+E66+E69)","v":0},{"$f":"SUM(E61+E64+E67+E70)","v":0},{"$f":"SUM(E62+E65+E68+E71)","v":0},{"$f":"SUM(F60:F71)","v":49},{"$f":"SUM(G60:G71)","v":417},{"$f":"SUM(H60:H71)","v":0},{"$f":"SUM(I60+I63+I66+I69)","v":0},{"$f":"SUM(I61+I64+I67+I70)","v":0},{"$f":"SUM(I62+I65+I68+I71)","v":0},{"$f":"SUM(J60:J71)","v":179},{"$f":"SUM(K60:K71)","v":4},{"$f":"SUM(L60:L71)","v":330},{"$f":"SUM(M60+M63+M66+M69)","v":0},{"$f":"SUM(M61+M64+M67+M70)","v":0},{"$f":"SUM(M62+M65+M68+M71)","v":0},{"$f":"SUM(N60:N71)","v":0},{"$f":"SUM(O60:O71)","v":260},{"$f":"SUM(P60:P71)","v":30},{"$f":"SUM(Q60+Q63+Q66+Q69)","v":0},{"$f":"SUM(Q61+Q64+Q67+Q70)","v":0},{"$f":"SUM(Q62+Q65+Q68+Q71)","v":0},{"$f":"SUM(B60:D60)+SUM(B63:D63)+SUM(B66:D66)+SUM(B69:D69)+SUM(F60:H60)+SUM(F63:H63)+SUM(F66:H66)+SUM(F69:H69)+SUM(J60:L60)+SUM(J63:L63)+SUM(J66:L66)+SUM(J69:L69)+SUM(N60:P60)+SUM(N63:P63)+SUM(N66:P66)+SUM(N69:P69)+E62+E65+E68+E71+I62+I65+I68+I71+M62+M65+M68+M71+Q62+Q65+Q68+Q71","v":1145},{"$f":"SUM(B60,B63,B66,B69)","v":0},{"$f":"SUM(C60,C63,C66,C69)","v":0},{"$f":"SUM(D60,D63,D66,D69)","v":0},{"$f":"SUM(E60,E63,E66,E69)","v":0},{"$f":"SUM(F60,F63,F66,F69)","v":40},{"$f":"SUM(G60,G63,G66,G69)","v":384},{"$f":"SUM(H60,H63,H66,H69)","v":0},{"$f":"SUM(I60,I63,I66,I69)","v":0},{"$f":"SUM(J60,J63,J66,J69)","v":162},{"$f":"SUM(K60,K63,K66,K69)","v":4},{"$f":"SUM(L60,L63,L66,L69)","v":307},{"$f":"SUM(M60,M63,M66,M69)","v":0},{"$f":"SUM(N60,N63,N66,N69)","v":0},{"$f":"SUM(O60,O63,O66,O69)","v":226},{"$f":"SUM(P60,P63,P66,P69)","v":22},{"$f":"SUM(Q60,Q63,Q66,Q69)","v":0},{"$f":"SUM(B61:D61)+SUM(B64:D64)+SUM(B67:D67)+SUM(B70:D70)+SUM(F61:H61)+SUM(F64:H64)+SUM(F67:H67)+SUM(F70:H70)+SUM(J61:L61)+SUM(J64:L64)+SUM(J67:L67)+SUM(J70:L70)+SUM(N61:P61)+SUM(N64:P64)+SUM(N67:P67)+SUM(N70:P70)","v":65},{"$f":"SUM(B61,B64,B67,B70)","v":0},{"$f":"SUM(C61,C64,C67,C70)","v":0},{"$f":"SUM(D61,D64,D67,D70)","v":0},{"$f":"SUM(E61,E64,E67,E70)","v":0},{"$f":"SUM(F61,F64,F67,F70)","v":2},{"$f":"SUM(G61,G64,G67,G70)","v":26},{"$f":"SUM(H61,H64,H67,H70)","v":0},{"$f":"SUM(I61,I64,I67,I70)","v":0},{"$f":"SUM(J61,J64,J67,J70)","v":5},{"$f":"SUM(K61,K64,K67,K70)","v":0},{"$f":"SUM(L61,L64,L67,L70)","v":9},{"$f":"SUM(M61,M64,M67,M70)","v":0},{"$f":"SUM(N61,N64,N67,N70)","v":0},{"$f":"SUM(O61,O64,O67,O70)","v":23},{"$f":"SUM(P61,P64,P67,P70)","v":0},{"$f":"SUM(Q61,Q64,Q67,Q70)","v":0},{"$f":"SUM(B62:D62)+SUM(B65:D65)+SUM(B68:D68)+SUM(B71:D71)+SUM(F62:H62)+SUM(F65:H65)+SUM(F68:H68)+SUM(F71:H71)+SUM(J62:L62)+SUM(J65:L65)+SUM(J68:L68)+SUM(J71:L71)+SUM(N62:P62)+SUM(N65:P65)+SUM(N68:P68)+SUM(N71:P71)","v":59},{"$f":"SUM(B62,B65,B68,B71)","v":0},{"$f":"SUM(C62,C65,C68,C71)","v":0},{"$f":"SUM(D62,D65,D68,D71)","v":0},{"$f":"SUM(E62,E65,E68,E71)","v":0},{"$f":"SUM(F62,F65,F68,F71)","v":7},{"$f":"SUM(G62,G65,G68,G71)","v":7},{"$f":"SUM(H62,H65,H68,H71)","v":0},{"$f":"SUM(I62,I65,I68,I71)","v":0},{"$f":"SUM(J62,J65,J68,J71)","v":12},{"$f":"SUM(K62,K65,K68,K71)","v":0},{"$f":"SUM(L62,L65,L68,L71)","v":14},{"$f":"SUM(M62,M65,M68,M71)","v":0},{"$f":"SUM(N62,N65,N68,N71)","v":0},{"$f":"SUM(O62,O65,O68,O71)","v":11},{"$f":"SUM(P62,P65,P68,P71)","v":8},{"$f":"SUM(Q62,Q65,Q68,Q71)","v":0}]
["11:30:01.382",{"$f":"ROUND('Import Tab'!E61*'Base Information'!$V$22,0)","v":0},{"$f":"ROUND('Import Tab'!D61*'Base Information'!$V$22,0)","v":0},{"$f":"ROUND('Import Tab'!C61*'Base Information'!$V$22,0)","v":0},{"$f":"ROUND('Import Tab'!F61,0)","v":0},{"$f":"ROUND('Import Tab'!I61*'Base Information'!$V$22,0)","v":1},{"$f":"ROUND('Import Tab'!H61*'Base Information'!$V$22,0)","v":6},{"$f":"ROUND('Import Tab'!G61*'Base Information'!$V$22,0)","v":0},{"$f":"ROUND('Import Tab'!J61,0)","v":0},{"$f":"ROUND('Import Tab'!M61*'Base Information'!$V$22,0)","v":1},{"$f":"ROUND('Import Tab'!L61*'Base Information'!$V$22,0)","v":0},{"$f":"ROUND('Import Tab'!K61*'Base Information'!$V$22,0)","v":3},{"$f":"ROUND('Import Tab'!N61,0)","v":0},{"$f":"ROUND('Import Tab'!Q61*'Base Information'!$V$22,0)","v":0},{"$f":"ROUND('Import Tab'!P61*'Base Information'!$V$22,0)","v":9},{"$f":"ROUND('Import Tab'!O61*'Base Information'!$V$22,0)","v":0},{"$f":"ROUND('Import Tab'!R61,0)","v":0}]
["11:30:01.382",{"$f":"ROUND('Import Tab'!E62*'Base Information'!$V$22,0)","v":0},{"$f":"ROUND('Import Tab'!D62*'Base Information'!$V$22,0)","v":0},{"$f":"ROUND('Import Tab'!C62*'Base Information'!$V$22,0)","v":0},{"$f":"ROUND('Import Tab'!F62,0)","v":0},{"$f":"ROUND('Import Tab'!I62*'Base Information'!$V$22,0)","v":3},{"$f":"ROUND('Import Tab'!H62*'Base Information'!$V$22,0)","v":2},{"$f":"ROUND('Import Tab'!G62*'Base Information'!$V$22,0)","v":0},{"$f":"ROUND('Import Tab'!J62,0)","v":0},{"$f":"ROUND('Import Tab'!M62*'Base Information'!$V$22,0)","v":2},{"$f":"ROUND('Import Tab'!L62*'Base Information'!$V$22,0)","v":0},{"$f":"ROUND('Import Tab'!K62*'Base Information'!$V$22,0)","v":3},{"$f":"ROUND('Import Tab'!N62,0)","v":0},{"$f":"ROUND('Import Tab'!Q62*'Base Information'!$V$22,0)","v":0},{"$f":"ROUND('Import Tab'!P62*'Base Information'!$V$22,0)","v":2},{"$f":"ROUND('Import Tab'!O62*'Base Information'!$V$22,0)","v":0},{"$f":"ROUND('Import Tab'!R62,0)","v":0}]
["11:45:01.411",{"$f":"ROUND('Import Tab'!E63*'Base Information'!$V$22,0)","v":0},{"$f":"ROUND('Import Tab'!D63*'Base Information'!$V$22,0)","v":0},{"$f":"ROUND('Import Tab'!C63*'Base Information'!$V$22,0)","v":0},{"$f":"ROUND('Import Tab'!F63,0)","v":0},{"$f":"ROUND('Import Tab'!I63*'Base Information'!$V$22,0)","v":13},{"$f":"ROUND('Import Tab'!H63*'Base Information'!$V$22,0)","v":100},{"$f":"ROUND('Import Tab'!G63*'Base Information'!$V$22,0)","v":0},{"$f":"ROUND('Import Tab'!J63,0)","v":0},{"$f":"ROUND('Import Tab'!M63*'Base Information'!$V$22,0)","v":44},{"$f":"ROUND('Import Tab'!L63*'Base Information'!$V$22,0)","v":0},{"$f":"ROUND('Import Tab'!K63*'Base Information'!$V$22,0)","v":68},{"$f":"ROUND('Import Tab'!N63,0)","v":0},{"$f":"ROUND('Import Tab'!Q63*'Base Information'!$V$22,0)","v":0},{"$f":"ROUND('Import Tab'!P63*'Base Information'!$V$22,0)","v":53},{"$f":"ROUND('Import Tab'!O63*'Base Information'!$V$22,0)","v":4},{"$f":"ROUND('Import Tab'!R63,0)","v":0},{"$f":"SUM(B63:D65)+SUM(F63:H65)+SUM(J63:L65)+SUM(N63:P65)+E65+I65+M65+Q65","v":314},{"$f":"B63+B64+B65","v":0},0,0,{"$f":"E63","v":0},{"$f":"E64","v":0},{"$f":"E65","v":0},{"$f":"F63+F64+F65","v":16},{"$f":"G63+G64+G65","v":110},{"$f":"H63+H64+H65","v":0},{"$f":"I63","v":0},{"$f":"I64","v":0},{"$f":"I65","v":0},{"$f":"J63+J64+J65","v":48},{"$f":"K63+K64+K65","v":0},{"$f":"L63+L64+L65","v":71},{"$f":"M63","v":0},{"$f":"M64","v":0},{"$f":"M65","v":0},{"$f":"N63+N64+N65","v":0},{"$f":"O63+O64+O65","v":62},{"$f":"P63+P64+P65","v":7},{"$f":"Q63","v":0},{"$f":"Q64","v":0},{"$f":"Q65","v":0},{"$f":"SUM(B63:D63)+SUM(F63:H63)+SUM(J63:L63)+SUM(N63:P63)+E65+I65+M65+Q65","v":282},{"$f":"B63","v":0},{"$f":"C63","v":0},{"$f":"D63","v":0},{"$f":"E63","v":0},{"$f":"F63","v":13},{"$f":"G63","v":100},{"$f":"H63","v":0},{"$f":"I63","v":0},{"$f":"J63","v":44},{"$f":"K63","v":0},{"$f":"L63","v":68},{"$f":"M63","v":0},{"$f":"N63","v":0},{"$f":"O63","v":53},{"$f":"P63","v":4},{"$f":"Q63","v":0},{"$f":"SUM(B64:D64)+SUM(F64:H64)+SUM(J64:L64)+SUM(N64:P64)","v":18},{"$f":"B64","v":0},{"$f":"C64","v":0},{"$f":"D64","v":0},{"$f":"E64","v":0},{"$f":"F64","v":0},{"$f":"G64","v":9},{"$f":"H64","v":0},{"$f":"I64","v":0},{"$f":"J64","v":2},{"$f":"K64","v":0},{"$f":"L64","v":1},{"$f":"M64","v":0},{"$f":"N64","v":0},{"$f":"O64","v":6},{"$f":"P64","v":0},{"$f":"Q64","v":0},{"$f":"SUM(B65:D65)+SUM(F65:H65)+SUM(J65:L65)+SUM(N65:P65)","v":14},{"$f":"B65","v":0},{"$f":"C65","v":0},{"$f":"D65","v":0},{"$f":"E65","v":0},{"$f":"F65","v":3},{"$f":"G65","v":1},{"$f":"H65","v":0},{"$f":"I65","v":0},{"$f":"J65","v":2},{"$f":"K65","v":0},{"$f":"L65","v":2},{"$f":"M65","v":0},{"$f":"N65","v":0},{"$f":"O65","v":3},{"$f":"P65","v":3},{"$f":"Q65","v":0},{"$f":"SUM(B63:D74,E65,E68,E71,E74,F63:H74,I65,I68,I71,I74,J63:L74,M65,M68,M71,M74,N63:P74,Q65,Q68,Q71,Q74)","v":1337},{"$f":"SUM(B63:B74)","v":0},{"$f":"SUM(C63:C74)","v":0},{"$f":"SUM(D63:D74)","v":0},{"$f":"SUM(E63+E66+E69+E72)","v":0},{"$f":"SUM(E64+E67+E70+E73)","v":0},{"$f":"SUM(E65+E68+E71+E74)","v":0},{"$f":"SUM(F63:F74)","v":49},{"$f":"SUM(G63:G74)","v":427},{"$f":"SUM(H63:H74)","v":0},{"$f":"SUM(I63+I66+I69+I72)","v":0},{"$f":"SUM(I64+I67+I70+I73)","v":0},{"$f":"SUM(I65+I68+I71+I74)","v":0},{"$f":"SUM(J63:J74)","v":188},{"$f":"SUM(K63:K74)","v":4},{"$f":"SUM(L63:L74)","v":348},{"$f":"SUM(M63+M66+M69+M72)","v":0},{"$f":"SUM(M64+M67+M70+M73)","v":0},{"$f":"SUM(M65+M68+M71+M74)","v":0},{"$f":"SUM(N63:N74)","v":0},{"$f":"SUM(O63:O74)","v":292},{"$f":"SUM(P63:P74)","v":29},{"$f":"SUM(Q63+Q66+Q69+Q72)","v":0},{"$f":"SUM(Q64+Q67+Q70+Q73)","v":0},{"$f":"SUM(Q65+Q68+Q71+Q74)","v":0},{"$f":"SUM(B63:D63)+SUM(B66:D66)+SUM(B69:D69)+SUM(B72:D72)+SUM(F63:H63)+SUM(F66:H66)+SUM(F69:H69)+SUM(F72:H72)+SUM(J63:L63)+SUM(J66:L66)+SUM(J69:L69)+SUM(J72:L72)+SUM(N63:P63)+SUM(N66:P66)+SUM(N69:P69)+SUM(N72:P72)+E65+E68+E71+E74+I65+I68+I71+I74+M65+M68+M71+M74+Q65+Q68+Q71+Q74","v":1220},{"$f":"SUM(B63,B66,B69,B72)","v":0},{"$f":"SUM(C63,C66,C69,C72)","v":0},{"$f":"SUM(D63,D66,D69,D72)","v":0},{"$f":"SUM(E63,E66,E69,E72)","v":0},{"$f":"SUM(F63,F66,F69,F72)","v":41},{"$f":"SUM(G63,G66,G69,G72)","v":396},{"$f":"SUM(H63,H66,H69,H72)","v":0},{"$f":"SUM(I63,I66,I69,I72)","v":0},{"$f":"SUM(J63,J66,J69,J72)","v":168},{"$f":"SUM(K63,K66,K69,K72)","v":4},{"$f":"SUM(L63,L66,L69,L72)","v":328},{"$f":"SUM(M63,M66,M69,M72)","v":0},{"$f":"SUM(N63,N66,N69,N72)","v":0},{"$f":"SUM(O63,O66,O69,O72)","v":264},{"$f":"SUM(P63,P66,P69,P72)","v":19},{"$f":"SUM(Q63,Q66,Q69,Q72)","v":0},{"$f":"SUM(B64:D64)+SUM(B67:D67)+SUM(B70:D70)+SUM(B73:D73)+SUM(F64:H64)+SUM(F67:H67)+SUM(F70:H70)+SUM(F73:H73)+SUM(J64:L64)+SUM(J67:L67)+SUM(J70:L70)+SUM(J73:L73)+SUM(N64:P64)+SUM(N67:P67)+SUM(N70:P70)+SUM(N73:P73)","v":57},{"$f":"SUM(B64,B67,B70,B73)","v":0},{"$f":"SUM(C64,C67,C70,C73)","v":0},{"$f":"SUM(D64,D67,D70,D73)","v":0},{"$f":"SUM(E64,E67,E70,E73)","v":0},{"$f":"SUM(F64,F67,F70,F73)","v":1},{"$f":"SUM(G64,G67,G70,G73)","v":23},{"$f":"SUM(H64,H67,H70,H73)","v":0},{"$f":"SUM(I64,I67,I70,I73)","v":0},{"$f":"SUM(J64,J67,J70,J73)","v":5},{"$f":"SUM(K64,K67,K70,K73)","v":0},{"$f":"SUM(L64,L67,L70,L73)","v":9},{"$f":"SUM(M64,M67,M70,M73)","v":0},{"$f":"SUM(N64,N67,N70,N73)","v":0},{"$f":"SUM(O64,O67,O70,O73)","v":18},{"$f":"SUM(P64,P67,P70,P73)","v":1},{"$f":"SUM(Q64,Q67,Q70,Q73)","v":0},{"$f":"SUM(B65:D65)+SUM(B68:D68)+SUM(B71:D71)+SUM(B74:D74)+SUM(F65:H65)+SUM(F68:H68)+SUM(F71:H71)+SUM(F74:H74)+SUM(J65:L65)+SUM(J68:L68)+SUM(J71:L71)+SUM(J74:L74)+SUM(N65:P65)+SUM(N68:P68)+SUM(N71:P71)+SUM(N74:P74)","v":60},{"$f":"SUM(B65,B68,B71,B74)","v":0},{"$f":"SUM(C65,C68,C71,C74)","v":0},{"$f":"SUM(D65,D68,D71,D74)","v":0},{"$f":"SUM(E65,E68,E71,E74)","v":0},{"$f":"SUM(F65,F68,F71,F74)","v":7},{"$f":"SUM(G65,G68,G71,G74)","v":8},{"$f":"SUM(H65,H68,H71,H74)","v":0},{"$f":"SUM(I65,I68,I71,I74)","v":0},{"$f":"SUM(J65,J68,J71,J74)","v":15},{"$f":"SUM(K65,K68,K71,K74)","v":0},{"$f":"SUM(L65,L68,L71,L74)","v":11},{"$f":"SUM(M65,M68,M71,M74)","v":0},{"$f":"SUM(N65,N68,N71,N74)","v":0},{"$f":"SUM(O65,O68,O71,O74)","v":10},{"$f":"SUM(P65,P68,P71,P74)","v":9},{"$f":"SUM(Q65,Q68,Q71,Q74)","v":0}]
["11:45:01.411",{"$f":"ROUND('Import Tab'!E64*'Base Information'!$V$22,0)","v":0},{"$f":"ROUND('Import Tab'!D64*'Base Information'!$V$22,0)","v":0},{"$f":"ROUND('Import Tab'!C64*'Base Information'!$V$22,0)","v":0},{"$f":"ROUND('Import Tab'!F64,0)","v":0},{"$f":"ROUND('Import Tab'!I64*'Base Information'!$V$22,0)","v":0},{"$f":"ROUND('Import Tab'!H64*'Base Information'!$V$22,0)","v":9},{"$f":"ROUND('Import Tab'!G64*'Base Information'!$V$22,0)","v":0},{"$f":"ROUND('Import Tab'!J64,0)","v":0},{"$f":"ROUND('Import Tab'!M64*'Base Information'!$V$22,0)","v":2},{"$f":"ROUND('Import Tab'!L64*'Base Information'!$V$22,0)","v":0},{"$f":"ROUND('Import Tab'!K64*'Base Information'!$V$22,0)","v":1},{"$f":"ROUND('Import Tab'!N64,0)","v":0},{"$f":"ROUND('Import Tab'!Q64*'Base Information'!$V$22,0)","v":0},{"$f":"ROUND('Import Tab'!P64*'Base Information'!$V$22,0)","v":6},{"$f":"ROUND('Import Tab'!O64*'Base Information'!$V$22,0)","v":0},{"$f":"ROUND('Import Tab'!R64,0)","v":0}]
["11:45:01.411",{"$f":"ROUND('Import Tab'!E65*'Base Information'!$V$22,0)","v":0},{"$f":"ROUND('Import Tab'!D65*'Base Information'!$V$22,0)","v":0},{"$f":"ROUND('Import Tab'!C65*'Base Information'!$V$22,0)","v":0},{"$f":"ROUND('Import Tab'!F65,0)","v":0},{"$f":"ROUND('Import Tab'!I65*'Base Information'!$V$22,0)","v":3},{"$f":"ROUND('Import Tab'!H65*'Base Information'!$V$22,0)","v":1},{"$f":"ROUND('Import Tab'!G65*'Base Information'!$V$22,0)","v":0},{"$f":"ROUND('Import Tab'!J65,0)","v":0},{"$f":"ROUND('Import Tab'!M65*'Base Information'!$V$22,0)","v":2},{"$f":"ROUND('Import Tab'!L65*'Base Information'!$V$22,0)","v":0},{"$f":"ROUND('Import Tab'!K65*'Base Information'!$V$22,0)","v":2},{"$f":"ROUND('Import Tab'!N65,0)","v":0},{"$f":"ROUND('Import Tab'!Q65*'Base Information'!$V$22,0)","v":0},{"$f":"ROUND('Import Tab'!P65*'Base Information'!$V$22,0)","v":3},{"$f":"ROUND('Import Tab'!O65*'Base Information'!$V$22,0)","v":3},{"$f":"ROUND('Import Tab'!R65,0)","v":0}]
["12:00:01.440",{"$f":"ROUND('Import Tab'!E66*'Base Information'!$V$22,0)","v":0},{"$f":"ROUND('Import Tab'!D66*'Base Information'!$V$22,0)","v":0},{"$f":"ROUND('Import Tab'!C66*'Base Information'!$V$22,0)","v":0},{"$f":"ROUND('Import Tab'!F66,0)","v":0},{"$f":"ROUND('Import Tab'!I66*'Base Information'!$V$22,0)","v":7},{"$f":"ROUND('Import Tab'!H66*'Base Information'!$V$22,0)","v":91},{"$f":"ROUND('Import Tab'!G66*'Base Information'!$V$22,0)","v":0},{"$f":"ROUND('Import Tab'!J66,0)","v":0},{"$f":"ROUND('Import Tab'!M66*'Base Information'!$V$22,0)","v":30},{"$f":"ROUND('Import Tab'!L66*'Base Information'!$V$22,0)","v":0},{"$f":"ROUND('Import Tab'!K66*'Base Information'!$V$22,0)","v":85},{"$f":"ROUND('Import Tab'!N66,0)","v":0},{"$f":"ROUND('Import Tab'!Q66*'Base Information'!$V$22,0)","v":0},{"$f":"ROUND('Import Tab'!P66*'Base Information'!$V$22,0)","v":53},{"$f":"ROUND('Import Tab'!O66*'Base Information'!$V$22,0)","v":8},{"$f":"ROUND('Import Tab'!R66,0)","v":0},{"$f":"SUM(B66:D68)+SUM(F66:H68)+SUM(J66:L68)+SUM(N66:P68)+E68+I68+M68+Q68","v":312},{"$f":"B66+B67+B68","v":0},0,0,{"$f":"E66","v":0},{"$f":"E67","v":0},{"$f":"E68","v":0},{"$f":"F66+F67+F68","v":9},{"$f":"G66+G67+G68","v":98},{"$f":"H66+H67+H68","v":0},{"$f":"I66","v":0},{"$f":"I67","v":0},{"$f":"I68","v":0},{"$f":"J66+J67+J68","v":37},{"$f":"K66+K67+K68","v":0},{"$f":"L66+L67+L68","v":95},{"$f":"M66","v":0},{"$f":"M67","v":0},{"$f":"M68","v":0},{"$f":"N66+N67+N68","v":0},{"$f":"O66+O67+O68","v":61},{"$f":"P66+P67+P68","v":12},{"$f":"Q66","v":0},{"$f":"Q67","v":0},{"$f":"Q68","v":0},{"$f":"SUM(B66:D66)+SUM(F66:H66)+SUM(J66:L66)+SUM(N66:P66)+E68+I68+M68+Q68","v":274},{"$f":"B66","v":0},{"$f":"C66","v":0},{"$f":"D66","v":0},{"$f":"E66","v":0},{"$f":"F66","v":7},{"$f":"G66","v":91},{"$f":"H66","v":0},{"$f":"I66","v":0},{"$f":"J66","v":30},{"$f":"K66","v":0},{"$f":"L66","v":85},{"$f":"M66","v":0},{"$f":"N66","v":0},{"$f":"O66","v":53},{"$f":"P66","v":8},{"$f":"Q66","v":0},{"$f":"SUM(B67:D67)+SUM(F67:H67)+SUM(J67:L67)+SUM(N67:P67)","v":20},{"$f":"B67","v":0},{"$f":"C67","v":0},{"$f":"D67","v":0},{"$f":"E67","v":0},{"$f":"F67","v":1},{"$f":"G67","v":7},{"$f":"H67","v":0},{"$f":"I67","v":0},{"$f":"J67","v":2},{"$f":"K67","v":0},{"$f":"L67","v":4},{"$f":"M67","v":0},{"$f":"N67","v":0},{"$f":"O67","v":6},{"$f":"P67","v":0},{"$f":"Q67","v":0},{"$f":"SUM(B68:D68)+SUM(F68:H68)+SUM(J68:L68)+SUM(N68:P68)","v":18},{"$f":"B68","v":0},{"$f":"C68","v":0},{"$f":"D68","v":0},{"$f":"E68","v":0},{"$f":"F68","v":1},{"$f":"G68","v":0},{"$f":"H68","v":0},{"$f":"I68","v":0},{"$f":"J68","v":5},{"$f":"K68","v":0},{"$f":"L68","v":6},{"$f":"M68","v":0},{"$f":"N68","v":0},{"$f":"O68","v":2},{"$f":"P68","v":4},{"$f":"Q68","v":0},{"$f":"SUM(B66:D77,E68,E71,E74,E77,F66:H77,I68,I71,I74,I77,J66:L77,M68,M71,M74,M77,N66:P77,Q68,Q71,Q74,Q77)","v":1380},{"$f":"SUM(B66:B77)","v":0},{"$f":"SUM(C66:C77)","v":0},{"$f":"SUM(D66:D77)","v":0},{"$f":"SUM(E66+E69+E72+E75)","v":0},{"$f":"SUM(E67+E70+E73+E76)","v":0},{"$f":"SUM(E68+E71+E74+E77)","v":0},{"$f":"SUM(F66:F77)","v":44},{"$f":"SUM(G66:G77)","v":428},{"$f":"SUM(H66:H77)","v":0},{"$f":"SUM(I66+I69+I72+I75)","v":0},{"$f":"SUM(I67+I70+I73+I76)","v":0},{"$f":"SUM(I68+I71+I74+I77)","v":0},{"$f":"SUM(J66:J77)","v":205},{"$f":"SUM(K66:K77)","v":4},{"$f":"SUM(L66:L77)","v":382},{"$f":"SUM(M66+M69+M72+M75)","v":0},{"$f":"SUM(M67+M70+M73+M76)","v":0},{"$f":"SUM(M68+M71+M74+M77)","v":0},{"$f":"SUM(N66:N77)","v":0},{"$f":"SUM(O66:O77)","v":288},{"$f":"SUM(P66:P77)","v":29},{"$f":"SUM(Q66+Q69+Q72+Q75)","v":0},{"$f":"SUM(Q67+Q70+Q73+Q76)","v":0},{"$f":"SUM(Q68+Q71+Q74+Q77)","v":0},{"$f":"SUM(B66:D66)+SUM(B69:D69)+SUM(B72:D72)+SUM(B75:D75)+SUM(F66:H66)+SUM(F69:H69)+SUM(F72:H72)+SUM(F75:H75)+SUM(J66:L66)+SUM(J69:L69)+SUM(J72:L72)+SUM(J75:L75)+SUM(N66:P66)+SUM(N69:P69)+SUM(N72:P72)+SUM(N75:P75)+E68+E71+E74+E77+I68+I71+I74+I77+M68+M71+M74+M77+Q68+Q71+Q74+Q77","v":1266},{"$f":"SUM(B66,B69,B72,B75)","v":0},{"$f":"SUM(C66,C69,C72,C75)","v":0},{"$f":"SUM(D66,D69,D72,D75)","v":0},{"$f":"SUM(E66,E69,E72,E75)","v":0},{"$f":"SUM(F66,F69,F72,F75)","v":37},{"$f":"SUM(G66,G69,G72,G75)","v":401},{"$f":"SUM(H66,H69,H72,H75)","v":0},{"$f":"SUM(I66,I69,I72,I75)","v":0},{"$f":"SUM(J66,J69,J72,J75)","v":181},{"$f":"SUM(K66,K69,K72,K75)","v":4},{"$f":"SUM(L66,L69,L72,L75)","v":360},{"$f":"SUM(M66,M69,M72,M75)","v":0},{"$f":"SUM(N66,N69,N72,N75)","v":0},{"$f":"SUM(O66,O69,O72,O75)","v":264},{"$f":"SUM(P66,P69,P72,P75)","v":19},{"$f":"SUM(Q66,Q69,Q72,Q75)","v":0},{"$f":"SUM(B67:D67)+SUM(B70:D70)+SUM(B73:D73)+SUM(B76:D76)+SUM(F67:H67)+SUM(F70:H70)+SUM(F73:H73)+SUM(F76:H76)+SUM(J67:L67)+SUM(J70:L70)+SUM(J73:L73)+SUM(J76:L76)+SUM(N67:P67)+SUM(N70:P70)+SUM(N73:P73)+SUM(N76:P76)","v":53},{"$f":"SUM(B67,B70,B73,B76)","v":0},{"$f":"SUM(C67,C70,C73,C76)","v":0},{"$f":"SUM(D67,D70,D73,D76)","v":0},{"$f":"SUM(E67,E70,E73,E76)","v":0},{"$f":"SUM(F67,F70,F73,F76)","v":2},{"$f":"SUM(G67,G70,G73,G76)","v":17},{"$f":"SUM(H67,H70,H73,H76)","v":0},{"$f":"SUM(I67,I70,I73,I76)","v":0},{"$f":"SUM(J67,J70,J73,J76)","v":8},{"$f":"SUM(K67,K70,K73,K76)","v":0},{"$f":"SUM(L67,L70,L73,L76)","v":11},{"$f":"SUM(M67,M70,M73,M76)","v":0},{"$f":"SUM(N67,N70,N73,N76)","v":0},{"$f":"SUM(O67,O70,O73,O76)","v":14},{"$f":"SUM(P67,P70,P73,P76)","v":1},{"$f":"SUM(Q67,Q70,Q73,Q76)","v":0},{"$f":"SUM(B68:D68)+SUM(B71:D71)+SUM(B74:D74)+SUM(B77:D77)+SUM(F68:H68)+SUM(F71:H71)+SUM(F74:H74)+SUM(F77:H77)+SUM(J68:L68)+SUM(J71:L71)+SUM(J74:L74)+SUM(J77:L77)+SUM(N68:P68)+SUM(N71:P71)+SUM(N74:P74)+SUM(N77:P77)","v":61},{"$f":"SUM(B68,B71,B74,B77)","v":0},{"$f":"SUM(C68,C71,C74,C77)","v":0},{"$f":"SUM(D68,D71,D74,D77)","v":0},{"$f":"SUM(E68,E71,E74,E77)","v":0},{"$f":"SUM(F68,F71,F74,F77)","v":5},{"$f":"SUM(G68,G71,G74,G77)","v":10},{"$f":"SUM(H68,H71,H74,H77)","v":0},{"$f":"SUM(I68,I71,I74,I77)","v":0},{"$f":"SUM(J68,J71,J74,J77)","v":16},{"$f":"SUM(K68,K71,K74,K77)","v":0},{"$f":"SUM(L68,L71,L74,L77)","v":11},{"$f":"SUM(M68,M71,M74,M77)","v":0},{"$f":"SUM(N68,N71,N74,N77)","v":0},{"$f":"SUM(O68,O71,O74,O77)","v":10},{"$f":"SUM(P68,P71,P74,P77)","v":9},{"$f":"SUM(Q68,Q71,Q74,Q77)","v":0}]
["12:00:01.440",{"$f":"ROUND('Import Tab'!E67*'Base Information'!$V$22,0)","v":0},{"$f":"ROUND('Import Tab'!D67*'Base Information'!$V$22,0)","v":0},{"$f":"ROUND('Import Tab'!C67*'Base Information'!$V$22,0)","v":0},{"$f":"ROUND('Import Tab'!F67,0)","v":0},{"$f":"ROUND('Import Tab'!I67*'Base Information'!$V$22,0)","v":1},{"$f":"ROUND('Import Tab'!H67*'Base Information'!$V$22,0)","v":7},{"$f":"ROUND('Import Tab'!G67*'Base Information'!$V$22,0)","v":0},{"$f":"ROUND('Import Tab'!J67,0)","v":0},{"$f":"ROUND('Import Tab'!M67*'Base Information'!$V$22,0)","v":2},{"$f":"ROUND('Import Tab'!L67*'Base Information'!$V$22,0)","v":0},{"$f":"ROUND('Import Tab'!K67*'Base Information'!$V$22,0)","v":4},{"$f":"ROUND('Import Tab'!N67,0)","v":0},{"$f":"ROUND('Import Tab'!Q67*'Base Information'!$V$22,0)","v":0},{"$f":"ROUND('Import Tab'!P67*'Base Information'!$V$22,0)","v":6},{"$f":"ROUND('Import Tab'!O67*'Base Information'!$V$22,0)","v":0},{"$f":"ROUND('Import Tab'!R67,0)","v":0}]
["12:00:01.440",{"$f":"ROUND('Import Tab'!E68*'Base Information'!$V$22,0)","v":0},{"$f":"ROUND('Import Tab'!D68*'Base Information'!$V$22,0)","v":0},{"$f":"ROUND('Import Tab'!C68*'Base Information'!$V$22,0)","v":0},{"$f":"ROUND('Import Tab'!F68,0)","v":0},{"$f":"ROUND('Import Tab'!I68*'Base Information'!$V$22,0)","v":1},{"$f":"ROUND('Import Tab'!H68*'Base Information'!$V$22,0)","v":0},{"$f":"ROUND('Import Tab'!G68*'Base Information'!$V$22,0)","v":0},{"$f":"ROUND('Import Tab'!J68,0)","v":0},{"$f":"ROUND('Import Tab'!M68*'Base Information'!$V$22,0)","v":5},{"$f":"ROUND('Import Tab'!L68*'Base Information'!$V$22,0)","v":0},{"$f":"ROUND('Import Tab'!K68*'Base Information'!$V$22,0)","v":6},{"$f":"ROUND('Import Tab'!N68,0)","v":0},{"$f":"ROUND('Import Tab'!Q68*'Base Information'!$V$22,0)","v":0},{"$f":"ROUND('Import Tab'!P68*'Base Information'!$V$22,0)","v":2},{"$f":"ROUND('Import Tab'!O68*'Base Information'!$V$22,0)","v":4},{"$f":"ROUND('Import Tab'!R68,0)","v":0}]
["12:15:01.469",{"$f":"ROUND('Import Tab'!E69*'Base Information'!$V$22,0)","v":0},{"$f":"ROUND('Import Tab'!D69*'Base Information'!$V$22,0)","v":0},{"$f":"ROUND('Import Tab'!C69*'Base Information'!$V$22,0)","v":0},{"$f":"ROUND('Import Tab'!F69,0)","v":0},{"$f":"ROUND('Import Tab'!I69*'Base Information'!$V$22,0)","v":9},{"$f":"ROUND('Import Tab'!H69*'Base Information'!$V$22,0)","v":101},{"$f":"ROUND('Import Tab'!G69*'Base Information'!$V$22,0)","v":0},{"$f":"ROUND('Import Tab'!J69,0)","v":0},{"$f":"ROUND('Import Tab'!M69*'Base Information'!$V$22,0)","v":51},{"$f":"ROUND('Import Tab'!L69*'Base Information'!$V$22,0)","v":4},{"$f":"ROUND('Import Tab'!K69*'Base Information'!$V$22,0)","v":95},{"$f":"ROUND('Import Tab'!N69,0)","v":0},{"$f":"ROUND('Import Tab'!Q69*'Base Information'!$V$22,0)","v":0},{"$f":"ROUND('Import Tab'!P69*'Base Information'!$V$22,0)","v":77},{"$f":"ROUND('Import Tab'!O69*'Base Information'!$V$22,0)","v":4},{"$f":"ROUND('Import Tab'!R69,0)","v":0},{"$f":"SUM(B69:D71)+SUM(F69:H71)+SUM(J69:L71)+SUM(N69:P71)+E71+I71+M71+Q71","v":363},{"$f":"B69+B70+B71","v":0},0,0,{"$f":"E69","v":0},{"$f":"E70","v":0},{"$f":"E71","v":0},{"$f":"F69+F70+F71","v":9},{"$f":"G69+G70+G71","v":109},{"$f":"H69+H70+H71","v":0},{"$f":"I69","v":0},{"$f":"I70","v":0},{"$f":"I71","v":0},{"$f":"J69+J70+J71","v":54},{"$f":"K69+K70+K71","v":4},{"$f":"L69+L70+L71","v":99},{"$f":"M69","v":0},{"$f":"M70","v":0},{"$f":"M71","v":0},{"$f":"N69+N70+N71","v":0},{"$f":"O69+O70+O71","v":83},{"$f":"P69+P70+P71","v":5},{"$f":"Q69","v":0},{"$f":"Q70","v":0},{"$f":"Q71","v":0},{"$f":"SUM(B69:D69)+SUM(F69:H69)+SUM(J69:L69)+SUM(N69:P69)+E71+I71+M71+Q71","v":341},{"$f":"B69","v":0},{"$f":"C69","v":0},{"$f":"D69","v":0},{"$f":"E69","v":0},{"$f":"F69","v":9},{"$f":"G69","v":101},{"$f":"H69","v":0},{"$f":"I69","v":0},{"$f":"J69","v":51},{"$f":"K69","v":4},{"$f":"L69","v":95},{"$f":"M69","v":0},{"$f":"N69","v":0},{"$f":"O69","v":77},{"$f":"P69","v":4},{"$f":"Q69","v":0},{"$f":"SUM(B70:D70)+SUM(F70:H70)+SUM(J70:L70)+SUM(N70:P70)","v":7},{"$f":"B70","v":0},{"$f":"C70","v":0},{"$f":"D70","v":0},{"$f":"E70","v":0},{"$f":"F70","v":0},{"$f":"G70","v":4},{"$f":"H70","v":0},{"$f":"I70","v":0},{"$f":"J70","v":0},{"$f":"K70","v":0},{"$f":"L70","v":1},{"$f":"M70","v":0},{"$f":"N70","v":0},{"$f":"O70","v":2},{"$f":"P70","v":0},{"$f":"Q70","v":0},{"$f":"SUM(B71:D71)+SUM(F71:H71)+SUM(J71:L71)+SUM(N71:P71)","v":15},{"$f":"B71","v":0},{"$f":"C71","v":0},{"$f":"D71","v":0},{"$f":"E71","v":0},{"$f":"F71","v":0},{"$f":"G71","v":4},{"$f":"H71","v":0},{"$f":"I71","v":0},{"$f":"J71","v":3},{"$f":"K71","v":0},{"$f":"L71","v":3},{"$f":"M71","v":0},{"$f":"N71","v":0},{"$f":"O71","v":4},{"$f":"P71","v":1},{"$f":"Q71","v":0},{"$f":"SUM(B69:D80,E71,E74,E77,E80,F69:H80,I71,I74,I77,I80,J69:L80,M71,M74,M77,M80,N69:P80,Q71,Q74,Q77,Q80)","v":1400},{"$f":"SUM(B69:B80)","v":0},{"$f":"SUM(C69:C80)","v":0},{"$f":"SUM(D69:D80)","v":0},{"$f":"SUM(E69+E72+E75+E78)","v":0},{"$f":"SUM(E70+E73+E76+E79)","v":0},{"$f":"SUM(E71+E74+E77+E80)","v":0},{"$f":"SUM(F69:F80)","v":46},{"$f":"SUM(G69:G80)","v":427},{"$f":"SUM(H69:H80)","v":0},{"$f":"SUM(I69+I72+I75+I78)","v":0},{"$f":"SUM(I70+I73+I76+I79)","v":0},{"$f":"SUM(I71+I74+I77+I80)","v":0},{"$f":"SUM(J69:J80)","v":210},{"$f":"SUM(K69:K80)","v":4},{"$f":"SUM(L69:L80)","v":385},{"$f":"SUM(M69+M72+M75+M78)","v":0},{"$f":"SUM(M70+M73+M76+M79)","v":0},{"$f":"SUM(M71+M74+M77+M80)","v":0},{"$f":"SUM(N69:N80)","v":0},{"$f":"SUM(O69:O80)","v":297},{"$f":"SUM(P69:P80)","v":31},{"$f":"SUM(Q69+Q72+Q75+Q78)","v":0},{"$f":"SUM(Q70+Q73+Q76+Q79)","v":0},{"$f":"SUM(Q71+Q74+Q77+Q80)","v":0},{"$f":"SUM(B69:D69)+SUM(B72:D72)+SUM(B75:D75)+SUM(B78:D78)+SUM(F69:H69)+SUM(F72:H72)+SUM(F75:H75)+SUM(F78:H78)+SUM(J69:L69)+SUM(J72:L72)+SUM(J75:L75)+SUM(J78:L78)+SUM(N69:P69)+SUM(N72:P72)+SUM(N75:P75)+SUM(N78:P78)+E71+E74+E77+E80+I71+I74+I77+I80+M71+M74+M77+M80+Q71+Q74+Q77+Q80","v":1297},{"$f":"SUM(B69,B72,B75,B78)","v":0},{"$f":"SUM(C69,C72,C75,C78)","v":0},{"$f":"SUM(D69,D72,D75,D78)","v":0},{"$f":"SUM(E69,E72,E75,E78)","v":0},{"$f":"SUM(F69,F72,F75,F78)","v":38},{"$f":"SUM(G69,G72,G75,G78)","v":398},{"$f":"SUM(H69,H72,H75,H78)","v":0},{"$f":"SUM(I69,I72,I75,I78)","v":0},{"$f":"SUM(J69,J72,J75,J78)","v":190},{"$f":"SUM(K69,K72,K75,K78)","v":4},{"$f":"SUM(L69,L72,L75,L78)","v":369},{"$f":"SUM(M69,M72,M75,M78)","v":0},{"$f":"SUM(N69,N72,N75,N78)","v":0},{"$f":"SUM(O69,O72,O75,O78)","v":276},{"$f":"SUM(P69,P72,P75,P78)","v":22},{"$f":"SUM(Q69,Q72,Q75,Q78)","v":0},{"$f":"SUM(B70:D70)+SUM(B73:D73)+SUM(B76:D76)+SUM(B79:D79)+SUM(F70:H70)+SUM(F73:H73)+SUM(F76:H76)+SUM(F79:H79)+SUM(J70:L70)+SUM(J73:L73)+SUM(J76:L76)+SUM(J79:L79)+SUM(N70:P70)+SUM(N73:P73)+SUM(N76:P76)+SUM(N79:P79)","v":49},{"$f":"SUM(B70,B73,B76,B79)","v":0},{"$f":"SUM(C70,C73,C76,C79)","v":0},{"$f":"SUM(D70,D73,D76,D79)","v":0},{"$f":"SUM(E70,E73,E76,E79)","v":0},{"$f":"SUM(F70,F73,F76,F79)","v":1},{"$f":"SUM(G70,G73,G76,G79)","v":16},{"$f":"SUM(H70,H73,H76,H79)","v":0},{"$f":"SUM(I70,I73,I76,I79)","v":0},{"$f":"SUM(J70,J73,J76,J79)","v":7},{"$f":"SUM(K70,K73,K76,K79)","v":0},{"$f":"SUM(L70,L73,L76,L79)","v":9},{"$f":"SUM(M70,M73,M76,M79)","v":0},{"$f":"SUM(N70,N73,N76,N79)","v":0},{"$f":"SUM(O70,O73,O76,O79)","v":13},{"$f":"SUM(P70,P73,P76,P79)","v":3},{"$f":"SUM(Q70,Q73,Q76,Q79)","v":0},{"$f":"SUM(B71:D71)+SUM(B74:D74)+SUM(B77:D77)+SUM(B80:D80)+SUM(F71:H71)+SUM(F74:H74)+SUM(F77:H77)+SUM(F80:H80)+SUM(J71:L71)+SUM(J74:L74)+SUM(J77:L77)+SUM(J80:L80)+SUM(N71:P71)+SUM(N74:P74)+SUM(N77:P77)+SUM(N80:P80)","v":54},{"$f":"SUM(B71,B74,B77,B80)","v":0},{"$f":"SUM(C71,C74,C77,C80)","v":0},{"$f":"SUM(D71,D74,D77,D80)","v":0},{"$f":"SUM(E71,E74,E77,E80)","v":0},{"$f":"SUM(F71,F74,F77,F80)","v":7},{"$f":"SUM(G71,G74,G77,G80)","v":13},{"$f":"SUM(H71,H74,H77,H80)","v":0},{"$f":"SUM(I71,I74,I77,I80)","v":0},{"$f":"SUM(J71,J74,J77,J80)","v":13},{"$f":"SUM(K71,K74,K77,K80)","v":0},{"$f":"SUM(L71,L74,L77,L80)","v":7},{"$f":"SUM(M71,M74,M77,M80)","v":0},{"$f":"SUM(N71,N74,N77,N80)","v":0},{"$f":"SUM(O71,O74,O77,O80)","v":8},{"$f":"SUM(P71,P74,P77,P80)","v":6},{"$f":"SUM(Q71,Q74,Q77,Q80)","v":0}]
["12:15:01.469",{"$f":"ROUND('Import Tab'!E70*'Base Information'!$V$22,0)","v":0},{"$f":"ROUND('Import Tab'!D70*'Base Information'!$V$22,0)","v":0},{"$f":"ROUND('Import Tab'!C70*'Base Information'!$V$22,0)","v":0},{"$f":"ROUND('Import Tab'!F70,0)","v":0},{"$f":"ROUND('Import Tab'!I70*'Base Information'!$V$22,0)","v":0},{"$f":"ROUND('Import Tab'!H70*'Base Information'!$V$22,0)","v":4},{"$f":"ROUND('Import Tab'!G70*'Base Information'!$V$22,0)","v":0},{"$f":"ROUND('Import Tab'!J70,0)","v":0},{"$f":"ROUND('Import Tab'!M70*'Base Information'!$V$22,0)","v":0},{"$f":"ROUND('Import Tab'!L70*'Base Information'!$V$22,0)","v":0},{"$f":"ROUND('Import Tab'!K70*'Base Information'!$V$22,0)","v":1},{"$f":"ROUND('Import Tab'!N70,0)","v":0},{"$f":"ROUND('Import Tab'!Q70*'Base Information'!$V$22,0)","v":0},{"$f":"ROUND('Import Tab'!P70*'Base Information'!$V$22,0)","v":2},{"$f":"ROUND('Import Tab'!O70*'Base Information'!$V$22,0)","v":0},{"$f":"ROUND('Import Tab'!R70,0)","v":0}]
["12:15:01.469",{"$f":"ROUND('Import Tab'!E71*'Base Information'!$V$22,0)","v":0},{"$f":"ROUND('Import Tab'!D71*'Base Information'!$V$22,0)","v":0},{"$f":"ROUND('Import Tab'!C71*'Base Information'!$V$22,0)","v":0},{"$f":"ROUND('Import Tab'!F71,0)","v":0},{"$f":"ROUND('Import Tab'!I71*'Base Information'!$V$22,0)","v":0},{"$f":"ROUND('Import Tab'!H71*'Base Information'!$V$22,0)","v":4},{"$f":"ROUND('Import Tab'!G71*'Base Information'!$V$22,0)","v":0},{"$f":"ROUND('Import Tab'!J71,0)","v":0},{"$f":"ROUND('Import Tab'!M71*'Base Information'!$V$22,0)","v":3},{"$f":"ROUND('Import Tab'!L71*'Base Information'!$V$22,0)","v":0},{"$f":"ROUND('Import Tab'!K71*'Base Information'!$V$22,0)","v":3},{"$f":"ROUND('Import Tab'!N71,0)","v":0},{"$f":"ROUND('Import Tab'!Q71*'Base Information'!$V$22,0)","v":0},{"$f":"ROUND('Import Tab'!P71*'Base Information'!$V$22,0)","v":4},{"$f":"ROUND('Import Tab'!O71*'Base Information'!$V$22,0)","v":1},{"$f":"ROUND('Import Tab'!R71,0)","v":0}]
["12:30:01.498",{"$f":"ROUND('Import Tab'!E72*'Base Information'!$V$22,0)","v":0},{"$f":"ROUND('Import Tab'!D72*'Base Information'!$V$22,0)","v":0},{"$f":"ROUND('Import Tab'!C72*'Base Information'!$V$22,0)","v":0},{"$f":"ROUND('Import Tab'!F72,0)","v":0},{"$f":"ROUND('Import Tab'!I72*'Base Information'!$V$22,0)","v":12},{"$f":"ROUND('Import Tab'!H72*'Base Information'!$V$22,0)","v":104},{"$f":"ROUND('Import Tab'!G72*'Base Information'!$V$22,0)","v":0},{"$f":"ROUND('Import Tab'!J72,0)","v":0},{"$f":"ROUND('Import Tab'!M72*'Base Information'!$V$22,0)","v":43},{"$f":"ROUND('Import Tab'!L72*'Base Information'!$V$22,0)","v":0},{"$f":"ROUND('Import Tab'!K72*'Base Information'!$V$22,0)","v":80},{"$f":"ROUND('Import Tab'!N72,0)","v":0},{"$f":"ROUND('Import Tab'!Q72*'Base Information'!$V$22,0)","v":0},{"$f":"ROUND('Import Tab'!P72*'Base Information'!$V$22,0)","v":81},{"$f":"ROUND('Import Tab'!O72*'Base Information'!$V$22,0)","v":3},{"$f":"ROUND('Import Tab'!R72,0)","v":0},{"$f":"SUM(B72:D74)+SUM(F72:H74)+SUM(J72:L74)+SUM(N72:P74)+E74+I74+M74+Q74","v":348},{"$f":"B72+B73+B74","v":0},0,0,{"$f":"E72","v":0},{"$f":"E73","v":0},{"$f":"E74","v":0},{"$f":"F72+F73+F74","v":15},{"$f":"G72+G73+G74","v":110},{"$f":"H72+H73+H74","v":0},{"$f":"I72","v":0},{"$f":"I73","v":0},{"$f":"I74","v":0},{"$f":"J72+J73+J74","v":49},{"$f":"K72+K73+K74","v":0},{"$f":"L72+L73+L74","v":83},{"$f":"M72","v":0},{"$f":"M73","v":0},{"$f":"M74","v":0},{"$f":"N72+N73+N74","v":0},{"$f":"O72+O73+O74","v":86},{"$f":"P72+P73+P74","v":5},{"$f":"Q72","v":0},{"$f":"Q73","v":0},{"$f":"Q74","v":0},{"$f":"SUM(B72:D72)+SUM(F72:H72)+SUM(J72:L72)+SUM(N72:P72)+E74+I74+M74+Q74","v":323},{"$f":"B72","v":0},{"$f":"C72","v":0},{"$f":"D72","v":0},{"$f":"E72","v":0},{"$f":"F72","v":12},{"$f":"G72","v":104},{"$f":"H72","v":0},{"$f":"I72","v":0},{"$f":"J72","v":43},{"$f":"K72","v":0},{"$f":"L72","v":80},{"$f":"M72","v":0},{"$f":"N72","v":0},{"$f":"O72","v":81},{"$f":"P72","v":3},{"$f":"Q72","v":0},{"$f":"SUM(B73:D73)+SUM(F73:H73)+SUM(J73:L73)+SUM(N73:P73)","v":12},{"$f":"B73","v":0},{"$f":"C73","v":0},{"$f":"D73","v":0},{"$f":"E73","v":0},{"$f":"F73","v":0},{"$f":"G73","v":3},{"$f":"H73","v":0},{"$f":"I73","v":0},{"$f":"J73","v":1},{"$f":"K73","v":0},{"$f":"L73","v":3},{"$f":"M73","v":0},{"$f":"N73","v":0},{"$f":"O73","v":4},{"$f":"P73","v":1},{"$f":"Q73","v":0},{"$f":"SUM(B74:D74)+SUM(F74:H74)+SUM(J74:L74)+SUM(N74:P74)","v":13},{"$f":"B74","v":0},{"$f":"C74","v":0},{"$f":"D74","v":0},{"$f":"E74","v":0},{"$f":"F74","v":3},{"$f":"G74","v":3},{"$f":"H74","v":0},{"$f":"I74","v":0},{"$f":"J74","v":5},{"$f":"K74","v":0},{"$f":"L74","v":0},{"$f":"M74","v":0},{"$f":"N74","v":0},{"$f":"O74","v":1},{"$f":"P74","v":1},{"$f":"Q74","v":0},{"$f":"SUM(B72:D83,E74,E77,E80,E83,F72:H83,I74,I77,I80,I83,J72:L83,M74,M77,M80,M83,N72:P83,Q74,Q77,Q80,Q83)","v":1383},{"$f":"SUM(B72:B83)","v":0},{"$f":"SUM(C72:C83)","v":0},{"$f":"SUM(D72:D83)","v":0},{"$f":"SUM(E72+E75+E78+E81)","v":0},{"$f":"SUM(E73+E76+E79+E82)","v":0},{"$f":"SUM(E74+E77+E80+E83)","v":0},{"$f":"SUM(F72:F83)","v":55},{"$f":"SUM(G72:G83)","v":425},{"$f":"SUM(H72:H83)","v":0},{"$f":"SUM(I72+I75+I78+I81)","v":0},{"$f":"SUM(I73+I76+I79+I82)","v":0},{"$f":"SUM(I74+I77+I80+I83)","v":0},{"$f":"SUM(J72:J83)","v":198},{"$f":"SUM(K72:K83)","v":0},{"$f":"SUM(L72:L83)","v":378},{"$f":"SUM(M72+M75+M78+M81)","v":0},{"$f":"SUM(M73+M76+M79+M82)","v":0},{"$f":"SUM(M74+M77+M80+M83)","v":0},{"$f":"SUM(N72:N83)","v":0},{"$f":"SUM(O72:O83)","v":291},{"$f":"SUM(P72:P83)","v":36},{"$f":"SUM(Q72+Q75+Q78+Q81)","v":0},{"$f":"SUM(Q73+Q76+Q79+Q82)","v":0},{"$f":"SUM(Q74+Q77+Q80+Q83)","v":0},{"$f":"SUM(B72:D72)+SUM(B75:D75)+SUM(B78:D78)+SUM(B81:D81)+SUM(F72:H72)+SUM(F75:H75)+SUM(F78:H78)+SUM(F81:H81)+SUM(J72:L72)+SUM(J75:L75)+SUM(J78:L78)+SUM(J81:L81)+SUM(N72:P72)+SUM(N75:P75)+SUM(N78:P78)+SUM(N81:P81)+E74+E77+E80+E83+I74+I77+I80+I83+M74+M77+M80+M83+Q74+Q77+Q80+Q83","v":1277},{"$f":"SUM(B72,B75,B78,B81)","v":0},{"$f":"SUM(C72,C75,C78,C81)","v":0},{"$f":"SUM(D72,D75,D78,D81)","v":0},{"$f":"SUM(E72,E75,E78,E81)","v":0},{"$f":"SUM(F72,F75,F78,F81)","v":42},{"$f":"SUM(G72,G75,G78,G81)","v":398},{"$f":"SUM(H72,H75,H78,H81)","v":0},{"$f":"SUM(I72,I75,I78,I81)","v":0},{"$f":"SUM(J72,J75,J78,J81)","v":177},{"$f":"SUM(K72,K75,K78,K81)","v":0},{"$f":"SUM(L72,L75,L78,L81)","v":362},{"$f":"SUM(M72,M75,M78,M81)","v":0},{"$f":"SUM(N72,N75,N78,N81)","v":0},{"$f":"SUM(O72,O75,O78,O81)","v":272},{"$f":"SUM(P72,P75,P78,P81)","v":26},{"$f":"SUM(Q72,Q75,Q78,Q81)","v":0},{"$f":"SUM(B73:D73)+SUM(B76:D76)+SUM(B79:D79)+SUM(B82:D82)+SUM(F73:H73)+SUM(F76:H76)+SUM(F79:H79)+SUM(F82:H82)+SUM(J73:L73)+SUM(J76:L76)+SUM(J79:L79)+SUM(J82:L82)+SUM(N73:P73)+SUM(N76:P76)+SUM(N79:P79)+SUM(N82:P82)","v":57},{"$f":"SUM(B73,B76,B79,B82)","v":0},{"$f":"SUM(C73,C76,C79,C82)","v":0},{"$f":"SUM(D73,D76,D79,D82)","v":0},{"$f":"SUM(E73,E76,E79,E82)","v":0},{"$f":"SUM(F73,F76,F79,F82)","v":4},{"$f":"SUM(G73,G76,G79,G82)","v":16},{"$f":"SUM(H73,H76,H79,H82)","v":0},{"$f":"SUM(I73,I76,I79,I82)","v":0},{"$f":"SUM(J73,J76,J79,J82)","v":8},{"$f":"SUM(K73,K76,K79,K82)","v":0},{"$f":"SUM(L73,L76,L79,L82)","v":12},{"$f":"SUM(M73,M76,M79,M82)","v":0},{"$f":"SUM(N73,N76,N79,N82)","v":0},{"$f":"SUM(O73,O76,O79,O82)","v":13},{"$f":"SUM(P73,P76,P79,P82)","v":4},{"$f":"SUM(Q73,Q76,Q79,Q82)","v":0},{"$f":"SUM(B74:D74)+SUM(B77:D77)+SUM(B80:D80)+SUM(B83:D83)+SUM(F74:H74)+SUM(F77:H77)+SUM(F80:H80)+SUM(F83:H83)+SUM(J74:L74)+SUM(J77:L77)+SUM(J80:L80)+SUM(J83:L83)+SUM(N74:P74)+SUM(N77:P77)+SUM(N80:P80)+SUM(N83:P83)","v":49},{"$f":"SUM(B74,B77,B80,B83)","v":0},{"$f":"SUM(C74,C77,C80,C83)","v":0},{"$f":"SUM(D74,D77,D80,D83)","v":0},{"$f":"SUM(E74,E77,E80,E83)","v":0},{"$f":"SUM(F74,F77,F80,F83)","v":9},{"$f":"SUM(G74,G77,G80,G83)","v":11},{"$f":"SUM(H74,H77,H80,H83)","v":0},{"$f":"SUM(I74,I77,I80,I83)","v":0},{"$f":"SUM(J74,J77,J80,J83)","v":13},{"$f":"SUM(K74,K77,K80,K83)","v":0},{"$f":"SUM(L74,L77,L80,L83)","v":4},{"$f":"SUM(M74,M77,M80,M83)","v":0},{"$f":"SUM(N74,N77,N80,N83)","v":0},{"$f":"SUM(O74,O77,O80,O83)","v":6},{"$f":"SUM(P74,P77,P80,P83)","v":6},{"$f":"SUM(Q74,Q77,Q80,Q83)","v":0}]
["12:30:01.498",{"$f":"ROUND('Import Tab'!E73*'Base Information'!$V$22,0)","v":0},{"$f":"ROUND('Import Tab'!D73*'Base Information'!$V$22,0)","v":0},{"$f":"ROUND('Import Tab'!C73*'Base Information'!$V$22,0)","v":0},{"$f":"ROUND('Import Tab'!F73,0)","v":0},{"$f":"ROUND('Import Tab'!I73*'Base Information'!$V$22,0)","v":0},{"$f":"ROUND('Import Tab'!H73*'Base Information'!$V$22,0)","v":3},{"$f":"ROUND('Import Tab'!G73*'Base Information'!$V$22,0)","v":0},{"$f":"ROUND('Import Tab'!J73,0)","v":0},{"$f":"ROUND('Import Tab'!M73*'Base Information'!$V$22,0)","v":1},{"$f":"ROUND('Import Tab'!L73*'Base Information'!$V$22,0)","v":0},{"$f":"ROUND('Import Tab'!K73*'Base Information'!$V$22,0)","v":3},{"$f":"ROUND('Import Tab'!N73,0)","v":0},{"$f":"ROUND('Import Tab'!Q73*'Base Information'!$V$22,0)","v":0},{"$f":"ROUND('Import Tab'!P73*'Base Information'!$V$22,0)","v":4},{"$f":"ROUND('Import Tab'!O73*'Base Information'!$V$22,0)","v":1},{"$f":"ROUND('Import Tab'!R73,0)","v":0}]
[{"$f":"A71+(0.010417)","v":"12:30:01.498"},{"$f":"ROUND('Import Tab'!E74*'Base Information'!$V$22,0)","v":0},{"$f":"ROUND('Import Tab'!D74*'Base Information'!$V$22,0)","v":0},{"$f":"ROUND('Import Tab'!C74*'Base Information'!$V$22,0)","v":0},{"$f":"ROUND('Import Tab'!F74,0)","v":0},{"$f":"ROUND('Import Tab'!I74*'Base Information'!$V$22,0)","v":3},{"$f":"ROUND('Import Tab'!H74*'Base Information'!$V$22,0)","v":3},{"$f":"ROUND('Import Tab'!G74*'Base Information'!$V$22,0)","v":0},{"$f":"ROUND('Import Tab'!J74,0)","v":0},{"$f":"ROUND('Import Tab'!M74*'Base Information'!$V$22,0)","v":5},{"$f":"ROUND('Import Tab'!L74*'Base Information'!$V$22,0)","v":0},{"$f":"ROUND('Import Tab'!K74*'Base Information'!$V$22,0)","v":0},{"$f":"ROUND('Import Tab'!N74,0)","v":0},{"$f":"ROUND('Import Tab'!Q74*'Base Information'!$V$22,0)","v":0},{"$f":"ROUND('Import Tab'!P74*'Base Information'!$V$22,0)","v":1},{"$f":"ROUND('Import Tab'!O74*'Base Information'!$V$22,0)","v":1},{"$f":"ROUND('Import Tab'!R74,0)","v":0}]
["12:45:01.526",{"$f":"ROUND('Import Tab'!E75*'Base Information'!$V$22,0)","v":0},{"$f":"ROUND('Import Tab'!D75*'Base Information'!$V$22,0)","v":0},{"$f":"ROUND('Import Tab'!C75*'Base Information'!$V$22,0)","v":0},{"$f":"ROUND('Import Tab'!F75,0)","v":0},{"$f":"ROUND('Import Tab'!I75*'Base Information'!$V$22,0)","v":9},{"$f":"ROUND('Import Tab'!H75*'Base Information'!$V$22,0)","v":105},{"$f":"ROUND('Import Tab'!G75*'Base Information'!$V$22,0)","v":0},{"$f":"ROUND('Import Tab'!J75,0)","v":0},{"$f":"ROUND('Import Tab'!M75*'Base Information'!$V$22,0)","v":57},{"$f":"ROUND('Import Tab'!L75*'Base Information'!$V$22,0)","v":0},{"$f":"ROUND('Import Tab'!K75*'Base Information'!$V$22,0)","v":100},{"$f":"ROUND('Import Tab'!N75,0)","v":0},{"$f":"ROUND('Import Tab'!Q75*'Base Information'!$V$22,0)","v":0},{"$f":"ROUND('Import Tab'!P75*'Base Information'!$V$22,0)","v":53},{"$f":"ROUND('Import Tab'!O75*'Base Information'!$V$22,0)","v":4},{"$f":"ROUND('Import Tab'!R75,0)","v":0},{"$f":"SUM(B75:D77)+SUM(F75:H77)+SUM(J75:L77)+SUM(N75:P77)+E77+I77+M77+Q77","v":357},{"$f":"B75+B76+B77","v":0},0,0,{"$f":"E75","v":0},{"$f":"E76","v":0},{"$f":"E77","v":0},{"$f":"F75+F76+F77","v":11},{"$f":"G75+G76+G77","v":111},{"$f":"H75+H76+H77","v":0},{"$f":"I75","v":0},{"$f":"I76","v":0},{"$f":"I77","v":0},{"$f":"J75+J76+J77","v":65},{"$f":"K75+K76+K77","v":0},{"$f":"L75+L76+L77","v":105},{"$f":"M75","v":0},{"$f":"M76","v":0},{"$f":"M77","v":0},{"$f":"N75+N76+N77","v":0},{"$f":"O75+O76+O77","v":58},{"$f":"P75+P76+P77","v":7},{"$f":"Q75","v":0},{"$f":"Q76","v":0},{"$f":"Q77","v":0},{"$f":"SUM(B75:D75)+SUM(F75:H75)+SUM(J75:L75)+SUM(N75:P75)+E77+I77+M77+Q77","v":328},{"$f":"B75","v":0},{"$f":"C75","v":0},{"$f":"D75","v":0},{"$f":"E75","v":0},{"$f":"F75","v":9},{"$f":"G75","v":105},{"$f":"H75","v":0},{"$f":"I75","v":0},{"$f":"J75","v":57},{"$f":"K75","v":0},{"$f":"L75","v":100},{"$f":"M75","v":0},{"$f":"N75","v":0},{"$f":"O75","v":53},{"$f":"P75","v":4},{"$f":"Q75","v":0},{"$f":"SUM(B76:D76)+SUM(F76:H76)+SUM(J76:L76)+SUM(N76:P76)","v":14},{"$f":"B76","v":0},{"$f":"C76","v":0},{"$f":"D76","v":0},{"$f":"E76","v":0},{"$f":"F76","v":1},{"$f":"G76","v":3},{"$f":"H76","v":0},{"$f":"I76","v":0},{"$f":"J76","v":5},{"$f":"K76","v":0},{"$f":"L76","v":3},{"$f":"M76","v":0},{"$f":"N76","v":0},{"$f":"O76","v":2},{"$f":"P76","v":0},{"$f":"Q76","v":0},{"$f":"SUM(B77:D77)+SUM(F77:H77)+SUM(J77:L77)+SUM(N77:P77)","v":15},{"$f":"B77","v":0},{"$f":"C77","v":0},{"$f":"D77","v":0},{"$f":"E77","v":0},{"$f":"F77","v":1},{"$f":"G77","v":3},{"$f":"H77","v":0},{"$f":"I77","v":0},{"$f":"J77","v":3},{"$f":"K77","v":0},{"$f":"L77","v":2},{"$f":"M77","v":0},{"$f":"N77","v":0},{"$f":"O77","v":3},{"$f":"P77","v":3},{"$f":"Q77","v":0},{"$f":"SUM(B75:D86,E77,E80,E83,E86,F75:H86,I77,I80,I83,I86,J75:L86,M77,M80,M83,M86,N75:P86,Q77,Q80,Q83,Q86)","v":1394},{"$f":"SUM(B75:B86)","v":0},{"$f":"SUM(C75:C86)","v":0},{"$f":"SUM(D75:D86)","v":0},{"$f":"SUM(E75+E78+E81+E84)","v":0},{"$f":"SUM(E76+E79+E82+E85)","v":0},{"$f":"SUM(E77+E80+E83+E86)","v":0},{"$f":"SUM(F75:F86)","v":54},{"$f":"SUM(G75:G86)","v":425},{"$f":"SUM(H75:H86)","v":0},{"$f":"SUM(I75+I78+I81+I84)","v":0},{"$f":"SUM(I76+I79+I82+I85)","v":0},{"$f":"SUM(I77+I80+I83+I86)","v":0},{"$f":"SUM(J75:J86)","v":199},{"$f":"SUM(K75:K86)","v":0},{"$f":"SUM(L75:L86)","v":408},{"$f":"SUM(M75+M78+M81+M84)","v":0},{"$f":"SUM(M76+M79+M82+M85)","v":0},{"$f":"SUM(M77+M80+M83+M86)","v":0},{"$f":"SUM(N75:N86)","v":0},{"$f":"SUM(O75:O86)","v":269},{"$f":"SUM(P75:P86)","v":39},{"$f":"SUM(Q75+Q78+Q81+Q84)","v":0},{"$f":"SUM(Q76+Q79+Q82+Q85)","v":0},{"$f":"SUM(Q77+Q80+Q83+Q86)","v":0},{"$f":"SUM(B75:D75)+SUM(B78:D78)+SUM(B81:D81)+SUM(B84:D84)+SUM(F75:H75)+SUM(F78:H78)+SUM(F81:H81)+SUM(F84:H84)+SUM(J75:L75)+SUM(J78:L78)+SUM(J81:L81)+SUM(J84:L84)+SUM(N75:P75)+SUM(N78:P78)+SUM(N81:P81)+SUM(N84:P84)+E77+E80+E83+E86+I77+I80+I83+I86+M77+M80+M83+M86+Q77+Q80+Q83+Q86","v":1288},{"$f":"SUM(B75,B78,B81,B84)","v":0},{"$f":"SUM(C75,C78,C81,C84)","v":0},{"$f":"SUM(D75,D78,D81,D84)","v":0},{"$f":"SUM(E75,E78,E81,E84)","v":0},{"$f":"SUM(F75,F78,F81,F84)","v":41},{"$f":"SUM(G75,G78,G81,G84)","v":395},{"$f":"SUM(H75,H78,H81,H84)","v":0},{"$f":"SUM(I75,I78,I81,I84)","v":0},{"$f":"SUM(J75,J78,J81,J84)","v":182},{"$f":"SUM(K75,K78,K81,K84)","v":0},{"$f":"SUM(L75,L78,L81,L84)","v":393},{"$f":"SUM(M75,M78,M81,M84)","v":0},{"$f":"SUM(N75,N78,N81,N84)","v":0},{"$f":"SUM(O75,O78,O81,O84)","v":246},{"$f":"SUM(P75,P78,P81,P84)","v":31},{"$f":"SUM(Q75,Q78,Q81,Q84)","v":0},{"$f":"SUM(B76:D76)+SUM(B79:D79)+SUM(B82:D82)+SUM(B85:D85)+SUM(F76:H76)+SUM(F79:H79)+SUM(F82:H82)+SUM(F85:H85)+SUM(J76:L76)+SUM(J79:L79)+SUM(J82:L82)+SUM(J85:L85)+SUM(N76:P76)+SUM(N79:P79)+SUM(N82:P82)+SUM(N85:P85)","v":60},{"$f":"SUM(B76,B79,B82,B85)","v":0},{"$f":"SUM(C76,C79,C82,C85)","v":0},{"$f":"SUM(D76,D79,D82,D85)","v":0},{"$f":"SUM(E76,E79,E82,E85)","v":0},{"$f":"SUM(F76,F79,F82,F85)","v":6},{"$f":"SUM(G76,G79,G82,G85)","v":19},{"$f":"SUM(H76,H79,H82,H85)","v":0},{"$f":"SUM(I76,I79,I82,I85)","v":0},{"$f":"SUM(J76,J79,J82,J85)","v":8},{"$f":"SUM(K76,K79,K82,K85)","v":0},{"$f":"SUM(L76,L79,L82,L85)","v":9},{"$f":"SUM(M76,M79,M82,M85)","v":0},{"$f":"SUM(N76,N79,N82,N85)","v":0},{"$f":"SUM(O76,O79,O82,O85)","v":15},{"$f":"SUM(P76,P79,P82,P85)","v":3},{"$f":"SUM(Q76,Q79,Q82,Q85)","v":0},{"$f":"SUM(B77:D77)+SUM(B80:D80)+SUM(B83:D83)+SUM(B86:D86)+SUM(F77:H77)+SUM(F80:H80)+SUM(F83:H83)+SUM(F86:H86)+SUM(J77:L77)+SUM(J80:L80)+SUM(J83:L83)+SUM(J86:L86)+SUM(N77:P77)+SUM(N80:P80)+SUM(N83:P83)+SUM(N86:P86)","v":46},{"$f":"SUM(B77,B80,B83,B86)","v":0},{"$f":"SUM(C77,C80,C83,C86)","v":0},{"$f":"SUM(D77,D80,D83,D86)","v":0},{"$f":"SUM(E77,E80,E83,E86)","v":0},{"$f":"SUM(F77,F80,F83,F86)","v":7},{"$f":"SUM(G77,G80,G83,G86)","v":11},{"$f":"SUM(H77,H80,H83,H86)","v":0},{"$f":"SUM(I77,I80,I83,I86)","v":0},{"$f":"SUM(J77,J80,J83,J86)","v":9},{"$f":"SUM(K77,K80,K83,K86)","v":0},{"$f":"SUM(L77,L80,L83,L86)","v":6},{"$f":"SUM(M77,M80,M83,M86)","v":0},{"$f":"SUM(N77,N80,N83,N86)","v":0},{"$f":"SUM(O77,O80,O83,O86)","v":8},{"$f":"SUM(P77,P80,P83,P86)","v":5},{"$f":"SUM(Q77,Q80,Q83,Q86)","v":0}]
["12:45:01.526",{"$f":"ROUND('Import Tab'!E76*'Base Information'!$V$22,0)","v":0},{"$f":"ROUND('Import Tab'!D76*'Base Information'!$V$22,0)","v":0},{"$f":"ROUND('Import Tab'!C76*'Base Information'!$V$22,0)","v":0},{"$f":"ROUND('Import Tab'!F76,0)","v":0},{"$f":"ROUND('Import Tab'!I76*'Base Information'!$V$22,0)","v":1},{"$f":"ROUND('Import Tab'!H76*'Base Information'!$V$22,0)","v":3},{"$f":"ROUND('Import Tab'!G76*'Base Information'!$V$22,0)","v":0},{"$f":"ROUND('Import Tab'!J76,0)","v":0},{"$f":"ROUND('Import Tab'!M76*'Base Information'!$V$22,0)","v":5},{"$f":"ROUND('Import Tab'!L76*'Base Information'!$V$22,0)","v":0},{"$f":"ROUND('Import Tab'!K76*'Base Information'!$V$22,0)","v":3},{"$f":"ROUND('Import Tab'!N76,0)","v":0},{"$f":"ROUND('Import Tab'!Q76*'Base Information'!$V$22,0)","v":0},{"$f":"ROUND('Import Tab'!P76*'Base Information'!$V$22,0)","v":2},{"$f":"ROUND('Import Tab'!O76*'Base Information'!$V$22,0)","v":0},{"$f":"ROUND('Import Tab'!R76,0)","v":0}]
["12:45:01.526",{"$f":"ROUND('Import Tab'!E77*'Base Information'!$V$22,0)","v":0},{"$f":"ROUND('Import Tab'!D77*'Base Information'!$V$22,0)","v":0},{"$f":"ROUND('Import Tab'!C77*'Base Information'!$V$22,0)","v":0},{"$f":"ROUND('Import Tab'!F77,0)","v":0},{"$f":"ROUND('Import Tab'!I77*'Base Information'!$V$22,0)","v":1},{"$f":"ROUND('Import Tab'!H77*'Base Information'!$V$22,0)","v":3},{"$f":"ROUND('Import Tab'!G77*'Base Information'!$V$22,0)","v":0},{"$f":"ROUND('Import Tab'!J77,0)","v":0},{"$f":"ROUND('Import Tab'!M77*'Base Information'!$V$22,0)","v":3},{"$f":"ROUND('Import Tab'!L77*'Base Information'!$V$22,0)","v":0},{"$f":"ROUND('Import Tab'!K77*'Base Information'!$V$22,0)","v":2},{"$f":"ROUND('Import Tab'!N77,0)","v":0},{"$f":"ROUND('Import Tab'!Q77*'Base Information'!$V$22,0)","v":0},{"$f":"ROUND('Import Tab'!P77*'Base Information'!$V$22,0)","v":3},{"$f":"ROUND('Import Tab'!O77*'Base Information'!$V$22,0)","v":3},{"$f":"ROUND('Import Tab'!R77,0)","v":0}]
["13:00:01.555",{"$f":"ROUND('Import Tab'!E78*'Base Information'!$V$22,0)","v":0},{"$f":"ROUND('Import Tab'!D78*'Base Information'!$V$22,0)","v":0},{"$f":"ROUND('Import Tab'!C78*'Base Information'!$V$22,0)","v":0},{"$f":"ROUND('Import Tab'!F78,0)","v":0},{"$f":"ROUND('Import Tab'!I78*'Base Information'!$V$22,0)","v":8},{"$f":"ROUND('Import Tab'!H78*'Base Information'!$V$22,0)","v":88},{"$f":"ROUND('Import Tab'!G78*'Base Information'!$V$22,0)","v":0},{"$f":"ROUND('Import Tab'!J78,0)","v":0},{"$f":"ROUND('Import Tab'!M78*'Base Information'!$V$22,0)","v":39},{"$f":"ROUND('Import Tab'!L78*'Base Information'!$V$22,0)","v":0},{"$f":"ROUND('Import Tab'!K78*'Base Information'!$V$22,0)","v":94},{"$f":"ROUND('Import Tab'!N78,0)","v":0},{"$f":"ROUND('Import Tab'!Q78*'Base Information'!$V$22,0)","v":0},{"$f":"ROUND('Import Tab'!P78*'Base Information'!$V$22,0)","v":65},{"$f":"ROUND('Import Tab'!O78*'Base Information'!$V$22,0)","v":11},{"$f":"ROUND('Import Tab'!R78,0)","v":0},{"$f":"SUM(B78:D80)+SUM(F78:H80)+SUM(J78:L80)+SUM(N78:P80)+E80+I80+M80+Q80","v":332},{"$f":"B78+B79+B80","v":0},0,0,{"$f":"E78","v":0},{"$f":"E79","v":0},{"$f":"E80","v":0},{"$f":"F78+F79+F80","v":11},{"$f":"G78+G79+G80","v":97},{"$f":"H78+H79+H80","v":0},{"$f":"I78","v":0},{"$f":"I79","v":0},{"$f":"I80","v":0},{"$f":"J78+J79+J80","v":42},{"$f":"K78+K79+K80","v":0},{"$f":"L78+L79+L80","v":98},{"$f":"M78","v":0},{"$f":"M79","v":0},{"$f":"M80","v":0},{"$f":"N78+N79+N80","v":0},{"$f":"O78+O79+O80","v":70},{"$f":"P78+P79+P80","v":14},{"$f":"Q78","v":0},{"$f":"Q79","v":0},{"$f":"Q80","v":0},{"$f":"SUM(B78:D78)+SUM(F78:H78)+SUM(J78:L78)+SUM(N78:P78)+E80+I80+M80+Q80","v":305},{"$f":"B78","v":0},{"$f":"C78","v":0},{"$f":"D78","v":0},{"$f":"E78","v":0},{"$f":"F78","v":8},{"$f":"G78","v":88},{"$f":"H78","v":0},{"$f":"I78","v":0},{"$f":"J78","v":39},{"$f":"K78","v":0},{"$f":"L78","v":94},{"$f":"M78","v":0},{"$f":"N78","v":0},{"$f":"O78","v":65},{"$f":"P78","v":11},{"$f":"Q78","v":0},{"$f":"SUM(B79:D79)+SUM(F79:H79)+SUM(J79:L79)+SUM(N79:P79)","v":16},{"$f":"B79","v":0},{"$f":"C79","v":0},{"$f":"D79","v":0},{"$f":"E79","v":0},{"$f":"F79","v":0},{"$f":"G79","v":6},{"$f":"H79","v":0},{"$f":"I79","v":0},{"$f":"J79","v":1},{"$f":"K79","v":0},{"$f":"L79","v":2},{"$f":"M79","v":0},{"$f":"N79","v":0},{"$f":"O79","v":5},{"$f":"P79","v":2},{"$f":"Q79","v":0},{"$f":"SUM(B80:D80)+SUM(F80:H80)+SUM(J80:L80)+SUM(N80:P80)","v":11},{"$f":"B80","v":0},{"$f":"C80","v":0},{"$f":"D80","v":0},{"$f":"E80","v":0},{"$f":"F80","v":3},{"$f":"G80","v":3},{"$f":"H80","v":0},{"$f":"I80","v":0},{"$f":"J80","v":2},{"$f":"K80","v":0},{"$f":"L80","v":2},{"$f":"M80","v":0},{"$f":"N80","v":0},{"$f":"O80","v":0},{"$f":"P80","v":1},{"$f":"Q80","v":0},{"$f":"SUM(B78:D89,E80,E83,E86,E89,F78:H89,I80,I83,I86,I89,J78:L89,M80,M83,M86,M89,N78:P89,Q80,Q83,Q86,Q89)","v":1409},{"$f":"SUM(B78:B89)","v":0},{"$f":"SUM(C78:C89)","v":0},{"$f":"SUM(D78:D89)","v":0},{"$f":"SUM(E78+E81+E84+E87)","v":0},{"$f":"SUM(E79+E82+E85+E88)","v":0},{"$f":"SUM(E80+E83+E86+E89)","v":0},{"$f":"SUM(F78:F89)","v":55},{"$f":"SUM(G78:G89)","v":420},{"$f":"SUM(H78:H89)","v":0},{"$f":"SUM(I78+I81+I84+I87)","v":0},{"$f":"SUM(I79+I82+I85+I88)","v":0},{"$f":"SUM(I80+I83+I86+I89)","v":0},{"$f":"SUM(J78:J89)","v":198},{"$f":"SUM(K78:K89)","v":0},{"$f":"SUM(L78:L89)","v":406},{"$f":"SUM(M78+M81+M84+M87)","v":0},{"$f":"SUM(M79+M82+M85+M88)","v":0},{"$f":"SUM(M80+M83+M86+M89)","v":0},{"$f":"SUM(N78:N89)","v":0},{"$f":"SUM(O78:O89)","v":279},{"$f":"SUM(P78:P89)","v":51},{"$f":"SUM(Q78+Q81+Q84+Q87)","v":0},{"$f":"SUM(Q79+Q82+Q85+Q88)","v":0},{"$f":"SUM(Q80+Q83+Q86+Q89)","v":0},{"$f":"SUM(B78:D78)+SUM(B81:D81)+SUM(B84:D84)+SUM(B87:D87)+SUM(F78:H78)+SUM(F81:H81)+SUM(F84:H84)+SUM(F87:H87)+SUM(J78:L78)+SUM(J81:L81)+SUM(J84:L84)+SUM(J87:L87)+SUM(N78:P78)+SUM(N81:P81)+SUM(N84:P84)+SUM(N87:P87)+E80+E83+E86+E89+I80+I83+I86+I89+M80+M83+M86+M89+Q80+Q83+Q86+Q89","v":1308},{"$f":"SUM(B78,B81,B84,B87)","v":0},{"$f":"SUM(C78,C81,C84,C87)","v":0},{"$f":"SUM(D78,D81,D84,D87)","v":0},{"$f":"SUM(E78,E81,E84,E87)","v":0},{"$f":"SUM(F78,F81,F84,F87)","v":42},{"$f":"SUM(G78,G81,G84,G87)","v":391},{"$f":"SUM(H78,H81,H84,H87)","v":0},{"$f":"SUM(I78,I81,I84,I87)","v":0},{"$f":"SUM(J78,J81,J84,J87)","v":181},{"$f":"SUM(K78,K81,K84,K87)","v":0},{"$f":"SUM(L78,L81,L84,L87)","v":395},{"$f":"SUM(M78,M81,M84,M87)","v":0},{"$f":"SUM(N78,N81,N84,N87)","v":0},{"$f":"SUM(O78,O81,O84,O87)","v":257},{"$f":"SUM(P78,P81,P84,P87)","v":42},{"$f":"SUM(Q78,Q81,Q84,Q87)","v":0},{"$f":"SUM(B79:D79)+SUM(B82:D82)+SUM(B85:D85)+SUM(B88:D88)+SUM(F79:H79)+SUM(F82:H82)+SUM(F85:H85)+SUM(F88:H88)+SUM(J79:L79)+SUM(J82:L82)+SUM(J85:L85)+SUM(J88:L88)+SUM(N79:P79)+SUM(N82:P82)+SUM(N85:P85)+SUM(N88:P88)","v":61},{"$f":"SUM(B79,B82,B85,B88)","v":0},{"$f":"SUM(C79,C82,C85,C88)","v":0},{"$f":"SUM(D79,D82,D85,D88)","v":0},{"$f":"SUM(E79,E82,E85,E88)","v":0},{"$f":"SUM(F79,F82,F85,F88)","v":6},{"$f":"SUM(G79,G82,G85,G88)","v":21},{"$f":"SUM(H79,H82,H85,H88)","v":0},{"$f":"SUM(I79,I82,I85,I88)","v":0},{"$f":"SUM(J79,J82,J85,J88)","v":8},{"$f":"SUM(K79,K82,K85,K88)","v":0},{"$f":"SUM(L79,L82,L85,L88)","v":7},{"$f":"SUM(M79,M82,M85,M88)","v":0},{"$f":"SUM(N79,N82,N85,N88)","v":0},{"$f":"SUM(O79,O82,O85,O88)","v":14},{"$f":"SUM(P79,P82,P85,P88)","v":5},{"$f":"SUM(Q79,Q82,Q85,Q88)","v":0},{"$f":"SUM(B80:D80)+SUM(B83:D83)+SUM(B86:D86)+SUM(B89:D89)+SUM(F80:H80)+SUM(F83:H83)+SUM(F86:H86)+SUM(F89:H89)+SUM(J80:L80)+SUM(J83:L83)+SUM(J86:L86)+SUM(J89:L89)+SUM(N80:P80)+SUM(N83:P83)+SUM(N86:P86)+SUM(N89:P89)","v":40},{"$f":"SUM(B80,B83,B86,B89)","v":0},{"$f":"SUM(C80,C83,C86,C89)","v":0},{"$f":"SUM(D80,D83,D86,D89)","v":0},{"$f":"SUM(E80,E83,E86,E89)","v":0},{"$f":"SUM(F80,F83,F86,F89)","v":7},{"$f":"SUM(G80,G83,G86,G89)","v":8},{"$f":"SUM(H80,H83,H86,H89)","v":0},{"$f":"SUM(I80,I83,I86,I89)","v":0},{"$f":"SUM(J80,J83,J86,J89)","v":9},{"$f":"SUM(K80,K83,K86,K89)","v":0},{"$f":"SUM(L80,L83,L86,L89)","v":4},{"$f":"SUM(M80,M83,M86,M89)","v":0},{"$f":"SUM(N80,N83,N86,N89)","v":0},{"$f":"SUM(O80,O83,O86,O89)","v":8},{"$f":"SUM(P80,P83,P86,P89)","v":4},{"$f":"SUM(Q80,Q83,Q86,Q89)","v":0}]
["13:00:01.555",{"$f":"ROUND('Import Tab'!E79*'Base Information'!$V$22,0)","v":0},{"$f":"ROUND('Import Tab'!D79*'Base Information'!$V$22,0)","v":0},{"$f":"ROUND('Import Tab'!C79*'Base Information'!$V$22,0)","v":0},{"$f":"ROUND('Import Tab'!F79,0)","v":0},{"$f":"ROUND('Import Tab'!I79*'Base Information'!$V$22,0)","v":0},{"$f":"ROUND('Import Tab'!H79*'Base Information'!$V$22,0)","v":6},{"$f":"ROUND('Import Tab'!G79*'Base Information'!$V$22,0)","v":0},{"$f":"ROUND('Import Tab'!J79,0)","v":0},{"$f":"ROUND('Import Tab'!M79*'Base Information'!$V$22,0)","v":1},{"$f":"ROUND('Import Tab'!L79*'Base Information'!$V$22,0)","v":0},{"$f":"ROUND('Import Tab'!K79*'Base Information'!$V$22,0)","v":2},{"$f":"ROUND('Import Tab'!N79,0)","v":0},{"$f":"ROUND('Import Tab'!Q79*'Base Information'!$V$22,0)","v":0},{"$f":"ROUND('Import Tab'!P79*'Base Information'!$V$22,0)","v":5},{"$f":"ROUND('Import Tab'!O79*'Base Information'!$V$22,0)","v":2},{"$f":"ROUND('Import Tab'!R79,0)","v":0}]
["13:00:01.555",{"$f":"ROUND('Import Tab'!E80*'Base Information'!$V$22,0)","v":0},{"$f":"ROUND('Import Tab'!D80*'Base Information'!$V$22,0)","v":0},{"$f":"ROUND('Import Tab'!C80*'Base Information'!$V$22,0)","v":0},{"$f":"ROUND('Import Tab'!F80,0)","v":0},{"$f":"ROUND('Import Tab'!I80*'Base Information'!$V$22,0)","v":3},{"$f":"ROUND('Import Tab'!H80*'Base Information'!$V$22,0)","v":3},{"$f":"ROUND('Import Tab'!G80*'Base Information'!$V$22,0)","v":0},{"$f":"ROUND('Import Tab'!J80,0)","v":0},{"$f":"ROUND('Import Tab'!M80*'Base Information'!$V$22,0)","v":2},{"$f":"ROUND('Import Tab'!L80*'Base Information'!$V$22,0)","v":0},{"$f":"ROUND('Import Tab'!K80*'Base Information'!$V$22,0)","v":2},{"$f":"ROUND('Import Tab'!N80,0)","v":0},{"$f":"ROUND('Import Tab'!Q80*'Base Information'!$V$22,0)","v":0},{"$f":"ROUND('Import Tab'!P80*'Base Information'!$V$22,0)","v":0},{"$f":"ROUND('Import Tab'!O80*'Base Information'!$V$22,0)","v":1},{"$f":"ROUND('Import Tab'!R80,0)","v":0}]
["13:15:01.584",{"$f":"ROUND('Import Tab'!E81*'Base Information'!$V$22,0)","v":0},{"$f":"ROUND('Import Tab'!D81*'Base Information'!$V$22,0)","v":0},{"$f":"ROUND('Import Tab'!C81*'Base Information'!$V$22,0)","v":0},{"$f":"ROUND('Import Tab'!F81,0)","v":0},{"$f":"ROUND('Import Tab'!I81*'Base Information'!$V$22,0)","v":13},{"$f":"ROUND('Import Tab'!H81*'Base Information'!$V$22,0)","v":101},{"$f":"ROUND('Import Tab'!G81*'Base Information'!$V$22,0)","v":0},{"$f":"ROUND('Import Tab'!J81,0)","v":0},{"$f":"ROUND('Import Tab'!M81*'Base Information'!$V$22,0)","v":38},{"$f":"ROUND('Import Tab'!L81*'Base Information'!$V$22,0)","v":0},{"$f":"ROUND('Import Tab'!K81*'Base Information'!$V$22,0)","v":88},{"$f":"ROUND('Import Tab'!N81,0)","v":0},{"$f":"ROUND('Import Tab'!Q81*'Base Information'!$V$22,0)","v":0},{"$f":"ROUND('Import Tab'!P81*'Base Information'!$V$22,0)","v":73},{"$f":"ROUND('Import Tab'!O81*'Base Information'!$V$22,0)","v":8},{"$f":"ROUND('Import Tab'!R81,0)","v":0},{"$f":"SUM(B81:D83)+SUM(F81:H83)+SUM(J81:L83)+SUM(N81:P83)+E83+I83+M83+Q83","v":346},{"$f":"B81+B82+B83","v":0},0,0,{"$f":"E81","v":0},{"$f":"E82","v":0},{"$f":"E83","v":0},{"$f":"F81+F82+F83","v":18},{"$f":"G81+G82+G83","v":107},{"$f":"H81+H82+H83","v":0},{"$f":"I81","v":0},{"$f":"I82","v":0},{"$f":"I83","v":0},{"$f":"J81+J82+J83","v":42},{"$f":"K81+K82+K83","v":0},{"$f":"L81+L82+L83","v":92},{"$f":"M81","v":0},{"$f":"M82","v":0},{"$f":"M83","v":0},{"$f":"N81+N82+N83","v":0},{"$f":"O81+O82+O83","v":77},{"$f":"P81+P82+P83","v":10},{"$f":"Q81","v":0},{"$f":"Q82","v":0},{"$f":"Q83","v":0},{"$f":"SUM(B81:D81)+SUM(F81:H81)+SUM(J81:L81)+SUM(N81:P81)+E83+I83+M83+Q83","v":321},{"$f":"B81","v":0},{"$f":"C81","v":0},{"$f":"D81","v":0},{"$f":"E81","v":0},{"$f":"F81","v":13},{"$f":"G81","v":101},{"$f":"H81","v":0},{"$f":"I81","v":0},{"$f":"J81","v":38},{"$f":"K81","v":0},{"$f":"L81","v":88},{"$f":"M81","v":0},{"$f":"N81","v":0},{"$f":"O81","v":73},{"$f":"P81","v":8},{"$f":"Q81","v":0},{"$f":"SUM(B82:D82)+SUM(F82:H82)+SUM(J82:L82)+SUM(N82:P82)","v":15},{"$f":"B82","v":0},{"$f":"C82","v":0},{"$f":"D82","v":0},{"$f":"E82","v":0},{"$f":"F82","v":3},{"$f":"G82","v":4},{"$f":"H82","v":0},{"$f":"I82","v":0},{"$f":"J82","v":1},{"$f":"K82","v":0},{"$f":"L82","v":4},{"$f":"M82","v":0},{"$f":"N82","v":0},{"$f":"O82","v":2},{"$f":"P82","v":1},{"$f":"Q82","v":0},{"$f":"SUM(B83:D83)+SUM(F83:H83)+SUM(J83:L83)+SUM(N83:P83)","v":10},{"$f":"B83","v":0},{"$f":"C83","v":0},{"$f":"D83","v":0},{"$f":"E83","v":0},{"$f":"F83","v":2},{"$f":"G83","v":2},{"$f":"H83","v":0},{"$f":"I83","v":0},{"$f":"J83","v":3},{"$f":"K83","v":0},{"$f":"L83","v":0},{"$f":"M83","v":0},{"$f":"N83","v":0},{"$f":"O83","v":2},{"$f":"P83","v":1},{"$f":"Q83","v":0},{"$f":"SUM(B81:D92,E83,E86,E89,E92,F81:H92,I83,I86,I89,I92,J81:L92,M83,M86,M89,M92,N81:P92,Q83,Q86,Q89,Q92)","v":1465},{"$f":"SUM(B81:B92)","v":0},{"$f":"SUM(C81:C92)","v":0},{"$f":"SUM(D81:D92)","v":0},{"$f":"SUM(E81+E84+E87+E90)","v":0},{"$f":"SUM(E82+E85+E88+E91)","v":0},{"$f":"SUM(E83+E86+E89+E92)","v":0},{"$f":"SUM(F81:F92)","v":57},{"$f":"SUM(G81:G92)","v":447},{"$f":"SUM(H81:H92)","v":0},{"$f":"SUM(I81+I84+I87+I90)","v":0},{"$f":"SUM(I82+I85+I88+I91)","v":0},{"$f":"SUM(I83+I86+I89+I92)","v":0},{"$f":"SUM(J81:J92)","v":208},{"$f":"SUM(K81:K92)","v":0},{"$f":"SUM(L81:L92)","v":427},{"$f":"SUM(M81+M84+M87+M90)","v":0},{"$f":"SUM(M82+M85+M88+M91)","v":0},{"$f":"SUM(M83+M86+M89+M92)","v":0},{"$f":"SUM(N81:N92)","v":0},{"$f":"SUM(O81:O92)","v":281},{"$f":"SUM(P81:P92)","v":45},{"$f":"SUM(Q81+Q84+Q87+Q90)","v":0},{"$f":"SUM(Q82+Q85+Q88+Q91)","v":0},{"$f":"SUM(Q83+Q86+Q89+Q92)","v":0},{"$f":"SUM(B81:D81)+SUM(B84:D84)+SUM(B87:D87)+SUM(B90:D90)+SUM(F81:H81)+SUM(F84:H84)+SUM(F87:H87)+SUM(F90:H90)+SUM(J81:L81)+SUM(J84:L84)+SUM(J87:L87)+SUM(J90:L90)+SUM(N81:P81)+SUM(N84:P84)+SUM(N87:P87)+SUM(N90:P90)+E83+E86+E89+E92+I83+I86+I89+I92+M83+M86+M89+M92+Q83+Q86+Q89+Q92","v":1368},{"$f":"SUM(B81,B84,B87,B90)","v":0},{"$f":"SUM(C81,C84,C87,C90)","v":0},{"$f":"SUM(D81,D84,D87,D90)","v":0},{"$f":"SUM(E81,E84,E87,E90)","v":0},{"$f":"SUM(F81,F84,F87,F90)","v":47},{"$f":"SUM(G81,G84,G87,G90)","v":422},{"$f":"SUM(H81,H84,H87,H90)","v":0},{"$f":"SUM(I81,I84,I87,I90)","v":0},{"$f":"SUM(J81,J84,J87,J90)","v":190},{"$f":"SUM(K81,K84,K87,K90)","v":0},{"$f":"SUM(L81,L84,L87,L90)","v":414},{"$f":"SUM(M81,M84,M87,M90)","v":0},{"$f":"SUM(N81,N84,N87,N90)","v":0},{"$f":"SUM(O81,O84,O87,O90)","v":256},{"$f":"SUM(P81,P84,P87,P90)","v":39},{"$f":"SUM(Q81,Q84,Q87,Q90)","v":0},{"$f":"SUM(B82:D82)+SUM(B85:D85)+SUM(B88:D88)+SUM(B91:D91)+SUM(F82:H82)+SUM(F85:H85)+SUM(F88:H88)+SUM(F91:H91)+SUM(J82:L82)+SUM(J85:L85)+SUM(J88:L88)+SUM(J91:L91)+SUM(N82:P82)+SUM(N85:P85)+SUM(N88:P88)+SUM(N91:P91)","v":55},{"$f":"SUM(B82,B85,B88,B91)","v":0},{"$f":"SUM(C82,C85,C88,C91)","v":0},{"$f":"SUM(D82,D85,D88,D91)","v":0},{"$f":"SUM(E82,E85,E88,E91)","v":0},{"$f":"SUM(F82,F85,F88,F91)","v":6},{"$f":"SUM(G82,G85,G88,G91)","v":17},{"$f":"SUM(H82,H85,H88,H91)","v":0},{"$f":"SUM(I82,I85,I88,I91)","v":0},{"$f":"SUM(J82,J85,J88,J91)","v":9},{"$f":"SUM(K82,K85,K88,K91)","v":0},{"$f":"SUM(L82,L85,L88,L91)","v":9},{"$f":"SUM(M82,M85,M88,M91)","v":0},{"$f":"SUM(N82,N85,N88,N91)","v":0},{"$f":"SUM(O82,O85,O88,O91)","v":11},{"$f":"SUM(P82,P85,P88,P91)","v":3},{"$f":"SUM(Q82,Q85,Q88,Q91)","v":0},{"$f":"SUM(B83:D83)+SUM(B86:D86)+SUM(B89:D89)+SUM(B92:D92)+SUM(F83:H83)+SUM(F86:H86)+SUM(F89:H89)+SUM(F92:H92)+SUM(J83:L83)+SUM(J86:L86)+SUM(J89:L89)+SUM(J92:L92)+SUM(N83:P83)+SUM(N86:P86)+SUM(N89:P89)+SUM(N92:P92)","v":42},{"$f":"SUM(B83,B86,B89,B92)","v":0},{"$f":"SUM(C83,C86,C89,C92)","v":0},{"$f":"SUM(D83,D86,D89,D92)","v":0},{"$f":"SUM(E83,E86,E89,E92)","v":0},{"$f":"SUM(F83,F86,F89,F92)","v":4},{"$f":"SUM(G83,G86,G89,G92)","v":8},{"$f":"SUM(H83,H86,H89,H92)","v":0},{"$f":"SUM(I83,I86,I89,I92)","v":0},{"$f":"SUM(J83,J86,J89,J92)","v":9},{"$f":"SUM(K83,K86,K89,K92)","v":0},{"$f":"SUM(L83,L86,L89,L92)","v":4},{"$f":"SUM(M83,M86,M89,M92)","v":0},{"$f":"SUM(N83,N86,N89,N92)","v":0},{"$f":"SUM(O83,O86,O89,O92)","v":14},{"$f":"SUM(P83,P86,P89,P92)","v":3},{"$f":"SUM(Q83,Q86,Q89,Q92)","v":0}]
["13:15:01.584",{"$f":"ROUND('Import Tab'!E82*'Base Information'!$V$22,0)","v":0},{"$f":"ROUND('Import Tab'!D82*'Base Information'!$V$22,0)","v":0},{"$f":"ROUND('Import Tab'!C82*'Base Information'!$V$22,0)","v":0},{"$f":"ROUND('Import Tab'!F82,0)","v":0},{"$f":"ROUND('Import Tab'!I82*'Base Information'!$V$22,0)","v":3},{"$f":"ROUND('Import Tab'!H82*'Base Information'!$V$22,0)","v":4},{"$f":"ROUND('Import Tab'!G82*'Base Information'!$V$22,0)","v":0},{"$f":"ROUND('Import Tab'!J82,0)","v":0},{"$f":"ROUND('Import Tab'!M82*'Base Information'!$V$22,0)","v":1},{"$f":"ROUND('Import Tab'!L82*'Base Information'!$V$22,0)","v":0},{"$f":"ROUND('Import Tab'!K82*'Base Information'!$V$22,0)","v":4},{"$f":"ROUND('Import Tab'!N82,0)","v":0},{"$f":"ROUND('Import Tab'!Q82*'Base Information'!$V$22,0)","v":0},{"$f":"ROUND('Import Tab'!P82*'Base Information'!$V$22,0)","v":2},{"$f":"ROUND('Import Tab'!O82*'Base Information'!$V$22,0)","v":1},{"$f":"ROUND('Import Tab'!R82,0)","v":0}]
["13:15:01.584",{"$f":"ROUND('Import Tab'!E83*'Base Information'!$V$22,0)","v":0},{"$f":"ROUND('Import Tab'!D83*'Base Information'!$V$22,0)","v":0},{"$f":"ROUND('Import Tab'!C83*'Base Information'!$V$22,0)","v":0},{"$f":"ROUND('Import Tab'!F83,0)","v":0},{"$f":"ROUND('Import Tab'!I83*'Base Information'!$V$22,0)","v":2},{"$f":"ROUND('Import Tab'!H83*'Base Information'!$V$22,0)","v":2},{"$f":"ROUND('Import Tab'!G83*'Base Information'!$V$22,0)","v":0},{"$f":"ROUND('Import Tab'!J83,0)","v":0},{"$f":"ROUND('Import Tab'!M83*'Base Information'!$V$22,0)","v":3},{"$f":"ROUND('Import Tab'!L83*'Base Information'!$V$22,0)","v":0},{"$f":"ROUND('Import Tab'!K83*'Base Information'!$V$22,0)","v":0},{"$f":"ROUND('Import Tab'!N83,0)","v":0},{"$f":"ROUND('Import Tab'!Q83*'Base Information'!$V$22,0)","v":0},{"$f":"ROUND('Import Tab'!P83*'Base Information'!$V$22,0)","v":2},{"$f":"ROUND('Import Tab'!O83*'Base Information'!$V$22,0)","v":1},{"$f":"ROUND('Import Tab'!R83,0)","v":0}]
["13:30:01.613",{"$f":"ROUND('Import Tab'!E84*'Base Information'!$V$22,0)","v":0},{"$f":"ROUND('Import Tab'!D84*'Base Information'!$V$22,0)","v":0},{"$f":"ROUND('Import Tab'!C84*'Base Information'!$V$22,0)","v":0},{"$f":"ROUND('Import Tab'!F84,0)","v":0},{"$f":"ROUND('Import Tab'!I84*'Base Information'!$V$22,0)","v":11},{"$f":"ROUND('Import Tab'!H84*'Base Information'!$V$22,0)","v":101},{"$f":"ROUND('Import Tab'!G84*'Base Information'!$V$22,0)","v":0},{"$f":"ROUND('Import Tab'!J84,0)","v":0},{"$f":"ROUND('Import Tab'!M84*'Base Information'!$V$22,0)","v":48},{"$f":"ROUND('Import Tab'!L84*'Base Information'!$V$22,0)","v":0},{"$f":"ROUND('Import Tab'!K84*'Base Information'!$V$22,0)","v":111},{"$f":"ROUND('Import Tab'!N84,0)","v":0},{"$f":"ROUND('Import Tab'!Q84*'Base Information'!$V$22,0)","v":0},{"$f":"ROUND('Import Tab'!P84*'Base Information'!$V$22,0)","v":55},{"$f":"ROUND('Import Tab'!O84*'Base Information'!$V$22,0)","v":8},{"$f":"ROUND('Import Tab'!R84,0)","v":0},{"$f":"SUM(B84:D86)+SUM(F84:H86)+SUM(J84:L86)+SUM(N84:P86)+E86+I86+M86+Q86","v":359},{"$f":"B84+B85+B86","v":0},0,0,{"$f":"E84","v":0},{"$f":"E85","v":0},{"$f":"E86","v":0},{"$f":"F84+F85+F86","v":14},{"$f":"G84+G85+G86","v":110},{"$f":"H84+H85+H86","v":0},{"$f":"I84","v":0},{"$f":"I85","v":0},{"$f":"I86","v":0},{"$f":"J84+J85+J86","v":50},{"$f":"K84+K85+K86","v":0},{"$f":"L84+L85+L86","v":113},{"$f":"M84","v":0},{"$f":"M85","v":0},{"$f":"M86","v":0},{"$f":"N84+N85+N86","v":0},{"$f":"O84+O85+O86","v":64},{"$f":"P84+P85+P86","v":8},{"$f":"Q84","v":0},{"$f":"Q85","v":0},{"$f":"Q86","v":0},{"$f":"SUM(B84:D84)+SUM(F84:H84)+SUM(J84:L84)+SUM(N84:P84)+E86+I86+M86+Q86","v":334},{"$f":"B84","v":0},{"$f":"C84","v":0},{"$f":"D84","v":0},{"$f":"E84","v":0},{"$f":"F84","v":11},{"$f":"G84","v":101},{"$f":"H84","v":0},{"$f":"I84","v":0},{"$f":"J84","v":48},{"$f":"K84","v":0},{"$f":"L84","v":111},{"$f":"M84","v":0},{"$f":"N84","v":0},{"$f":"O84","v":55},{"$f":"P84","v":8},{"$f":"Q84","v":0},{"$f":"SUM(B85:D85)+SUM(F85:H85)+SUM(J85:L85)+SUM(N85:P85)","v":15},{"$f":"B85","v":0},{"$f":"C85","v":0},{"$f":"D85","v":0},{"$f":"E85","v":0},{"$f":"F85","v":2},{"$f":"G85","v":6},{"$f":"H85","v":0},{"$f":"I85","v":0},{"$f":"J85","v":1},{"$f":"K85","v":0},{"$f":"L85","v":0},{"$f":"M85","v":0},{"$f":"N85","v":0},{"$f":"O85","v":6},{"$f":"P85","v":0},{"$f":"Q85","v":0},{"$f":"SUM(B86:D86)+SUM(F86:H86)+SUM(J86:L86)+SUM(N86:P86)","v":10},{"$f":"B86","v":0},{"$f":"C86","v":0},{"$f":"D86","v":0},{"$f":"E86","v":0},{"$f":"F86","v":1},{"$f":"G86","v":3},{"$f":"H86","v":0},{"$f":"I86","v":0},{"$f":"J86","v":1},{"$f":"K86","v":0},{"$f":"L86","v":2},{"$f":"M86","v":0},{"$f":"N86","v":0},{"$f":"O86","v":3},{"$f":"P86","v":0},{"$f":"Q86","v":0},{"$f":"SUM(B84:D95,E86,E89,E92,E95,F84:H95,I86,I89,I92,I95,J84:L95,M86,M89,M92,M95,N84:P95,Q86,Q89,Q92,Q95)","v":1445},{"$f":"SUM(B84:B95)","v":0},{"$f":"SUM(C84:C95)","v":0},{"$f":"SUM(D84:D95)","v":0},{"$f":"SUM(E84+E87+E90+E93)","v":0},{"$f":"SUM(E85+E88+E91+E94)","v":0},{"$f":"SUM(E86+E89+E92+E95)","v":0},{"$f":"SUM(F84:F95)","v":51},{"$f":"SUM(G84:G95)","v":432},{"$f":"SUM(H84:H95)","v":0},{"$f":"SUM(I84+I87+I90+I93)","v":0},{"$f":"SUM(I85+I88+I91+I94)","v":0},{"$f":"SUM(I86+I89+I92+I95)","v":0},{"$f":"SUM(J84:J95)","v":227},{"$f":"SUM(K84:K95)","v":0},{"$f":"SUM(L84:L95)","v":415},{"$f":"SUM(M84+M87+M90+M93)","v":0},{"$f":"SUM(M85+M88+M91+M94)","v":0},{"$f":"SUM(M86+M89+M92+M95)","v":0},{"$f":"SUM(N84:N95)","v":0},{"$f":"SUM(O84:O95)","v":277},{"$f":"SUM(P84:P95)","v":43},{"$f":"SUM(Q84+Q87+Q90+Q93)","v":0},{"$f":"SUM(Q85+Q88+Q91+Q94)","v":0},{"$f":"SUM(Q86+Q89+Q92+Q95)","v":0},{"$f":"SUM(B84:D84)+SUM(B87:D87)+SUM(B90:D90)+SUM(B93:D93)+SUM(F84:H84)+SUM(F87:H87)+SUM(F90:H90)+SUM(F93:H93)+SUM(J84:L84)+SUM(J87:L87)+SUM(J90:L90)+SUM(J93:L93)+SUM(N84:P84)+SUM(N87:P87)+SUM(N90:P90)+SUM(N93:P93)+E86+E89+E92+E95+I86+I89+I92+I95+M86+M89+M92+M95+Q86+Q89+Q92+Q95","v":1350},{"$f":"SUM(B84,B87,B90,B93)","v":0},{"$f":"SUM(C84,C87,C90,C93)","v":0},{"$f":"SUM(D84,D87,D90,D93)","v":0},{"$f":"SUM(E84,E87,E90,E93)","v":0},{"$f":"SUM(F84,F87,F90,F93)","v":45},{"$f":"SUM(G84,G87,G90,G93)","v":410},{"$f":"SUM(H84,H87,H90,H93)","v":0},{"$f":"SUM(I84,I87,I90,I93)","v":0},{"$f":"SUM(J84,J87,J90,J93)","v":206},{"$f":"SUM(K84,K87,K90,K93)","v":0},{"$f":"SUM(L84,L87,L90,L93)","v":402},{"$f":"SUM(M84,M87,M90,M93)","v":0},{"$f":"SUM(N84,N87,N90,N93)","v":0},{"$f":"SUM(O84,O87,O90,O93)","v":250},{"$f":"SUM(P84,P87,P90,P93)","v":37},{"$f":"SUM(Q84,Q87,Q90,Q93)","v":0},{"$f":"SUM(B85:D85)+SUM(B88:D88)+SUM(B91:D91)+SUM(B94:D94)+SUM(F85:H85)+SUM(F88:H88)+SUM(F91:H91)+SUM(F94:H94)+SUM(J85:L85)+SUM(J88:L88)+SUM(J91:L91)+SUM(J94:L94)+SUM(N85:P85)+SUM(N88:P88)+SUM(N91:P91)+SUM(N94:P94)","v":49},{"$f":"SUM(B85,B88,B91,B94)","v":0},{"$f":"SUM(C85,C88,C91,C94)","v":0},{"$f":"SUM(D85,D88,D91,D94)","v":0},{"$f":"SUM(E85,E88,E91,E94)","v":0},{"$f":"SUM(F85,F88,F91,F94)","v":4},{"$f":"SUM(G85,G88,G91,G94)","v":14},{"$f":"SUM(H85,H88,H91,H94)","v":0},{"$f":"SUM(I85,I88,I91,I94)","v":0},{"$f":"SUM(J85,J88,J91,J94)","v":9},{"$f":"SUM(K85,K88,K91,K94)","v":0},{"$f":"SUM(L85,L88,L91,L94)","v":7},{"$f":"SUM(M85,M88,M91,M94)","v":0},{"$f":"SUM(N85,N88,N91,N94)","v":0},{"$f":"SUM(O85,O88,O91,O94)","v":13},{"$f":"SUM(P85,P88,P91,P94)","v":2},{"$f":"SUM(Q85,Q88,Q91,Q94)","v":0},{"$f":"SUM(B86:D86)+SUM(B89:D89)+SUM(B92:D92)+SUM(B95:D95)+SUM(F86:H86)+SUM(F89:H89)+SUM(F92:H92)+SUM(F95:H95)+SUM(J86:L86)+SUM(J89:L89)+SUM(J92:L92)+SUM(J95:L95)+SUM(N86:P86)+SUM(N89:P89)+SUM(N92:P92)+SUM(N95:P95)","v":46},{"$f":"SUM(B86,B89,B92,B95)","v":0},{"$f":"SUM(C86,C89,C92,C95)","v":0},{"$f":"SUM(D86,D89,D92,D95)","v":0},{"$f":"SUM(E86,E89,E92,E95)","v":0},{"$f":"SUM(F86,F89,F92,F95)","v":2},{"$f":"SUM(G86,G89,G92,G95)","v":8},{"$f":"SUM(H86,H89,H92,H95)","v":0},{"$f":"SUM(I86,I89,I92,I95)","v":0},{"$f":"SUM(J86,J89,J92,J95)","v":12},{"$f":"SUM(K86,K89,K92,K95)","v":0},{"$f":"SUM(L86,L89,L92,L95)","v":6},{"$f":"SUM(M86,M89,M92,M95)","v":0},{"$f":"SUM(N86,N89,N92,N95)","v":0},{"$f":"SUM(O86,O89,O92,O95)","v":14},{"$f":"SUM(P86,P89,P92,P95)","v":4},{"$f":"SUM(Q86,Q89,Q92,Q95)","v":0}]
["13:30:01.613",{"$f":"ROUND('Import Tab'!E85*'Base Information'!$V$22,0)","v":0},{"$f":"ROUND('Import Tab'!D85*'Base Information'!$V$22,0)","v":0},{"$f":"ROUND('Import Tab'!C85*'Base Information'!$V$22,0)","v":0},{"$f":"ROUND('Import Tab'!F85,0)","v":0},{"$f":"ROUND('Import Tab'!I85*'Base Information'!$V$22,0)","v":2},{"$f":"ROUND('Import Tab'!H85*'Base Information'!$V$22,0)","v":6},{"$f":"ROUND('Import Tab'!G85*'Base Information'!$V$22,0)","v":0},{"$f":"ROUND('Import Tab'!J85,0)","v":0},{"$f":"ROUND('Import Tab'!M85*'Base Information'!$V$22,0)","v":1},{"$f":"ROUND('Import Tab'!L85*'Base Information'!$V$22,0)","v":0},{"$f":"ROUND('Import Tab'!K85*'Base Information'!$V$22,0)","v":0},{"$f":"ROUND('Import Tab'!N85,0)","v":0},{"$f":"ROUND('Import Tab'!Q85*'Base Information'!$V$22,0)","v":0},{"$f":"ROUND('Import Tab'!P85*'Base Information'!$V$22,0)","v":6},{"$f":"ROUND('Import Tab'!O85*'Base Information'!$V$22,0)","v":0},{"$f":"ROUND('Import Tab'!R85,0)","v":0}]
["13:30:01.613",{"$f":"ROUND('Import Tab'!E86*'Base Information'!$V$22,0)","v":0},{"$f":"ROUND('Import Tab'!D86*'Base Information'!$V$22,0)","v":0},{"$f":"ROUND('Import Tab'!C86*'Base Information'!$V$22,0)","v":0},{"$f":"ROUND('Import Tab'!F86,0)","v":0},{"$f":"ROUND('Import Tab'!I86*'Base Information'!$V$22,0)","v":1},{"$f":"ROUND('Import Tab'!H86*'Base Information'!$V$22,0)","v":3},{"$f":"ROUND('Import Tab'!G86*'Base Information'!$V$22,0)","v":0},{"$f":"ROUND('Import Tab'!J86,0)","v":0},{"$f":"ROUND('Import Tab'!M86*'Base Information'!$V$22,0)","v":1},{"$f":"ROUND('Import Tab'!L86*'Base Information'!$V$22,0)","v":0},{"$f":"ROUND('Import Tab'!K86*'Base Information'!$V$22,0)","v":2},{"$f":"ROUND('Import Tab'!N86,0)","v":0},{"$f":"ROUND('Import Tab'!Q86*'Base Information'!$V$22,0)","v":0},{"$f":"ROUND('Import Tab'!P86*'Base Information'!$V$22,0)","v":3},{"$f":"ROUND('Import Tab'!O86*'Base Information'!$V$22,0)","v":0},{"$f":"ROUND('Import Tab'!R86,0)","v":0}]
["13:45:01.642",{"$f":"ROUND('Import Tab'!E87*'Base Information'!$V$22,0)","v":0},{"$f":"ROUND('Import Tab'!D87*'Base Information'!$V$22,0)","v":0},{"$f":"ROUND('Import Tab'!C87*'Base Information'!$V$22,0)","v":0},{"$f":"ROUND('Import Tab'!F87,0)","v":0},{"$f":"ROUND('Import Tab'!I87*'Base Information'!$V$22,0)","v":10},{"$f":"ROUND('Import Tab'!H87*'Base Information'!$V$22,0)","v":101},{"$f":"ROUND('Import Tab'!G87*'Base Information'!$V$22,0)","v":0},{"$f":"ROUND('Import Tab'!J87,0)","v":0},{"$f":"ROUND('Import Tab'!M87*'Base Information'!$V$22,0)","v":56},{"$f":"ROUND('Import Tab'!L87*'Base Information'!$V$22,0)","v":0},{"$f":"ROUND('Import Tab'!K87*'Base Information'!$V$22,0)","v":102},{"$f":"ROUND('Import Tab'!N87,0)","v":0},{"$f":"ROUND('Import Tab'!Q87*'Base Information'!$V$22,0)","v":0},{"$f":"ROUND('Import Tab'!P87*'Base Information'!$V$22,0)","v":64},{"$f":"ROUND('Import Tab'!O87*'Base Information'!$V$22,0)","v":15},{"$f":"ROUND('Import Tab'!R87,0)","v":0},{"$f":"SUM(B87:D89)+SUM(F87:H89)+SUM(J87:L89)+SUM(N87:P89)+E89+I89+M89+Q89","v":372},{"$f":"B87+B88+B89","v":0},0,0,{"$f":"E87","v":0},{"$f":"E88","v":0},{"$f":"E89","v":0},{"$f":"F87+F88+F89","v":12},{"$f":"G87+G88+G89","v":106},{"$f":"H87+H88+H89","v":0},{"$f":"I87","v":0},{"$f":"I88","v":0},{"$f":"I89","v":0},{"$f":"J87+J88+J89","v":64},{"$f":"K87+K88+K89","v":0},{"$f":"L87+L88+L89","v":103},{"$f":"M87","v":0},{"$f":"M88","v":0},{"$f":"M89","v":0},{"$f":"N87+N88+N89","v":0},{"$f":"O87+O88+O89","v":68},{"$f":"P87+P88+P89","v":19},{"$f":"Q87","v":0},{"$f":"Q88","v":0},{"$f":"Q89","v":0},{"$f":"SUM(B87:D87)+SUM(F87:H87)+SUM(J87:L87)+SUM(N87:P87)+E89+I89+M89+Q89","v":348},{"$f":"B87","v":0},{"$f":"C87","v":0},{"$f":"D87","v":0},{"$f":"E87","v":0},{"$f":"F87","v":10},{"$f":"G87","v":101},{"$f":"H87","v":0},{"$f":"I87","v":0},{"$f":"J87","v":56},{"$f":"K87","v":0},{"$f":"L87","v":102},{"$f":"M87","v":0},{"$f":"N87","v":0},{"$f":"O87","v":64},{"$f":"P87","v":15},{"$f":"Q87","v":0},{"$f":"SUM(B88:D88)+SUM(F88:H88)+SUM(J88:L88)+SUM(N88:P88)","v":15},{"$f":"B88","v":0},{"$f":"C88","v":0},{"$f":"D88","v":0},{"$f":"E88","v":0},{"$f":"F88","v":1},{"$f":"G88","v":5},{"$f":"H88","v":0},{"$f":"I88","v":0},{"$f":"J88","v":5},{"$f":"K88","v":0},{"$f":"L88","v":1},{"$f":"M88","v":0},{"$f":"N88","v":0},{"$f":"O88","v":1},{"$f":"P88","v":2},{"$f":"Q88","v":0},{"$f":"SUM(B89:D89)+SUM(F89:H89)+SUM(J89:L89)+SUM(N89:P89)","v":9},{"$f":"B89","v":0},{"$f":"C89","v":0},{"$f":"D89","v":0},{"$f":"E89","v":0},{"$f":"F89","v":1},{"$f":"G89","v":0},{"$f":"H89","v":0},{"$f":"I89","v":0},{"$f":"J89","v":3},{"$f":"K89","v":0},{"$f":"L89","v":0},{"$f":"M89","v":0},{"$f":"N89","v":0},{"$f":"O89","v":3},{"$f":"P89","v":2},{"$f":"Q89","v":0},{"$f":"SUM(B87:D98,E89,E92,E95,E98,F87:H98,I89,I92,I95,I98,J87:L98,M89,M92,M95,M98,N87:P98,Q89,Q92,Q95,Q98)","v":1485},{"$f":"SUM(B87:B98)","v":0},{"$f":"SUM(C87:C98)","v":0},{"$f":"SUM(D87:D98)","v":0},{"$f":"SUM(E87+E90+E93+E96)","v":0},{"$f":"SUM(E88+E91+E94+E97)","v":0},{"$f":"SUM(E89+E92+E95+E98)","v":0},{"$f":"SUM(F87:F98)","v":49},{"$f":"SUM(G87:G98)","v":437},{"$f":"SUM(H87:H98)","v":0},{"$f":"SUM(I87+I90+I93+I96)","v":0},{"$f":"SUM(I88+I91+I94+I97)","v":0},{"$f":"SUM(I89+I92+I95+I98)","v":0},{"$f":"SUM(J87:J98)","v":228},{"$f":"SUM(K87:K98)","v":0},{"$f":"SUM(L87:L98)","v":415},{"$f":"SUM(M87+M90+M93+M96)","v":0},{"$f":"SUM(M88+M91+M94+M97)","v":0},{"$f":"SUM(M89+M92+M95+M98)","v":0},{"$f":"SUM(N87:N98)","v":0},{"$f":"SUM(O87:O98)","v":313},{"$f":"SUM(P87:P98)","v":43},{"$f":"SUM(Q87+Q90+Q93+Q96)","v":0},{"$f":"SUM(Q88+Q91+Q94+Q97)","v":0},{"$f":"SUM(Q89+Q92+Q95+Q98)","v":0},{"$f":"SUM(B87:D87)+SUM(B90:D90)+SUM(B93:D93)+SUM(B96:D96)+SUM(F87:H87)+SUM(F90:H90)+SUM(F93:H93)+SUM(F96:H96)+SUM(J87:L87)+SUM(J90:L90)+SUM(J93:L93)+SUM(J96:L96)+SUM(N87:P87)+SUM(N90:P90)+SUM(N93:P93)+SUM(N96:P96)+E89+E92+E95+E98+I89+I92+I95+I98+M89+M92+M95+M98+Q89+Q92+Q95+Q98","v":1375},{"$f":"SUM(B87,B90,B93,B96)","v":0},{"$f":"SUM(C87,C90,C93,C96)","v":0},{"$f":"SUM(D87,D90,D93,D96)","v":0},{"$f":"SUM(E87,E90,E93,E96)","v":0},{"$f":"SUM(F87,F90,F93,F96)","v":43},{"$f":"SUM(G87,G90,G93,G96)","v":417},{"$f":"SUM(H87,H90,H93,H96)","v":0},{"$f":"SUM(I87,I90,I93,I96)","v":0},{"$f":"SUM(J87,J90,J93,J96)","v":203},{"$f":"SUM(K87,K90,K93,K96)","v":0},{"$f":"SUM(L87,L90,L93,L96)","v":394},{"$f":"SUM(M87,M90,M93,M96)","v":0},{"$f":"SUM(N87,N90,N93,N96)","v":0},{"$f":"SUM(O87,O90,O93,O96)","v":285},{"$f":"SUM(P87,P90,P93,P96)","v":33},{"$f":"SUM(Q87,Q90,Q93,Q96)","v":0},{"$f":"SUM(B88:D88)+SUM(B91:D91)+SUM(B94:D94)+SUM(B97:D97)+SUM(F88:H88)+SUM(F91:H91)+SUM(F94:H94)+SUM(F97:H97)+SUM(J88:L88)+SUM(J91:L91)+SUM(J94:L94)+SUM(J97:L97)+SUM(N88:P88)+SUM(N91:P91)+SUM(N94:P94)+SUM(N97:P97)","v":56},{"$f":"SUM(B88,B91,B94,B97)","v":0},{"$f":"SUM(C88,C91,C94,C97)","v":0},{"$f":"SUM(D88,D91,D94,D97)","v":0},{"$f":"SUM(E88,E91,E94,E97)","v":0},{"$f":"SUM(F88,F91,F94,F97)","v":2},{"$f":"SUM(G88,G91,G94,G97)","v":13},{"$f":"SUM(H88,H91,H94,H97)","v":0},{"$f":"SUM(I88,I91,I94,I97)","v":0},{"$f":"SUM(J88,J91,J94,J97)","v":9},{"$f":"SUM(K88,K91,K94,K97)","v":0},{"$f":"SUM(L88,L91,L94,L97)","v":12},{"$f":"SUM(M88,M91,M94,M97)","v":0},{"$f":"SUM(N88,N91,N94,N97)","v":0},{"$f":"SUM(O88,O91,O94,O97)","v":17},{"$f":"SUM(P88,P91,P94,P97)","v":3},{"$f":"SUM(Q88,Q91,Q94,Q97)","v":0},{"$f":"SUM(B89:D89)+SUM(B92:D92)+SUM(B95:D95)+SUM(B98:D98)+SUM(F89:H89)+SUM(F92:H92)+SUM(F95:H95)+SUM(F98:H98)+SUM(J89:L89)+SUM(J92:L92)+SUM(J95:L95)+SUM(J98:L98)+SUM(N89:P89)+SUM(N92:P92)+SUM(N95:P95)+SUM(N98:P98)","v":54},{"$f":"SUM(B89,B92,B95,B98)","v":0},{"$f":"SUM(C89,C92,C95,C98)","v":0},{"$f":"SUM(D89,D92,D95,D98)","v":0},{"$f":"SUM(E89,E92,E95,E98)","v":0},{"$f":"SUM(F89,F92,F95,F98)","v":4},{"$f":"SUM(G89,G92,G95,G98)","v":7},{"$f":"SUM(H89,H92,H95,H98)","v":0},{"$f":"SUM(I89,I92,I95,I98)","v":0},{"$f":"SUM(J89,J92,J95,J98)","v":16},{"$f":"SUM(K89,K92,K95,K98)","v":0},{"$f":"SUM(L89,L92,L95,L98)","v":9},{"$f":"SUM(M89,M92,M95,M98)","v":0},{"$f":"SUM(N89,N92,N95,N98)","v":0},{"$f":"SUM(O89,O92,O95,O98)","v":11},{"$f":"SUM(P89,P92,P95,P98)","v":7},{"$f":"SUM(Q89,Q92,Q95,Q98)","v":0}]
["13:45:01.642",{"$f":"ROUND('Import Tab'!E88*'Base Information'!$V$22,0)","v":0},{"$f":"ROUND('Import Tab'!D88*'Base Information'!$V$22,0)","v":0},{"$f":"ROUND('Import Tab'!C88*'Base Information'!$V$22,0)","v":0},{"$f":"ROUND('Import Tab'!F88,0)","v":0},{"$f":"ROUND('Import Tab'!I88*'Base Information'!$V$22,0)","v":1},{"$f":"ROUND('Import Tab'!H88*'Base Information'!$V$22,0)","v":5},{"$f":"ROUND('Import Tab'!G88*'Base Information'!$V$22,0)","v":0},{"$f":"ROUND('Import Tab'!J88,0)","v":0},{"$f":"ROUND('Import Tab'!M88*'Base Information'!$V$22,0)","v":5},{"$f":"ROUND('Import Tab'!L88*'Base Information'!$V$22,0)","v":0},{"$f":"ROUND('Import Tab'!K88*'Base Information'!$V$22,0)","v":1},{"$f":"ROUND('Import Tab'!N88,0)","v":0},{"$f":"ROUND('Import Tab'!Q88*'Base Information'!$V$22,0)","v":0},{"$f":"ROUND('Import Tab'!P88*'Base Information'!$V$22,0)","v":1},{"$f":"ROUND('Import Tab'!O88*'Base Information'!$V$22,0)","v":2},{"$f":"ROUND('Import Tab'!R88,0)","v":0}]
["13:45:01.642",{"$f":"ROUND('Import Tab'!E89*'Base Information'!$V$22,0)","v":0},{"$f":"ROUND('Import Tab'!D89*'Base Information'!$V$22,0)","v":0},{"$f":"ROUND('Import Tab'!C89*'Base Information'!$V$22,0)","v":0},{"$f":"ROUND('Import Tab'!F89,0)","v":0},{"$f":"ROUND('Import Tab'!I89*'Base Information'!$V$22,0)","v":1},{"$f":"ROUND('Import Tab'!H89*'Base Information'!$V$22,0)","v":0},{"$f":"ROUND('Import Tab'!G89*'Base Information'!$V$22,0)","v":0},{"$f":"ROUND('Import Tab'!J89,0)","v":0},{"$f":"ROUND('Import Tab'!M89*'Base Information'!$V$22,0)","v":3},{"$f":"ROUND('Import Tab'!L89*'Base Information'!$V$22,0)","v":0},{"$f":"ROUND('Import Tab'!K89*'Base Information'!$V$22,0)","v":0},{"$f":"ROUND('Import Tab'!N89,0)","v":0},{"$f":"ROUND('Import Tab'!Q89*'Base Information'!$V$22,0)","v":0},{"$f":"ROUND('Import Tab'!P89*'Base Information'!$V$22,0)","v":3},{"$f":"ROUND('Import Tab'!O89*'Base Information'!$V$22,0)","v":2},{"$f":"ROUND('Import Tab'!R89,0)","v":0}]
["14:00:01.670",{"$f":"ROUND('Import Tab'!E90*'Base Information'!$V$22,0)","v":0},{"$f":"ROUND('Import Tab'!D90*'Base Information'!$V$22,0)","v":0},{"$f":"ROUND('Import Tab'!C90*'Base Information'!$V$22,0)","v":0},{"$f":"ROUND('Import Tab'!F90,0)","v":0},{"$f":"ROUND('Import Tab'!I90*'Base Information'!$V$22,0)","v":13},{"$f":"ROUND('Import Tab'!H90*'Base Information'!$V$22,0)","v":119},{"$f":"ROUND('Import Tab'!G90*'Base Information'!$V$22,0)","v":0},{"$f":"ROUND('Import Tab'!J90,0)","v":0},{"$f":"ROUND('Import Tab'!M90*'Base Information'!$V$22,0)","v":48},{"$f":"ROUND('Import Tab'!L90*'Base Information'!$V$22,0)","v":0},{"$f":"ROUND('Import Tab'!K90*'Base Information'!$V$22,0)","v":113},{"$f":"ROUND('Import Tab'!N90,0)","v":0},{"$f":"ROUND('Import Tab'!Q90*'Base Information'!$V$22,0)","v":0},{"$f":"ROUND('Import Tab'!P90*'Base Information'!$V$22,0)","v":64},{"$f":"ROUND('Import Tab'!O90*'Base Information'!$V$22,0)","v":8},{"$f":"ROUND('Import Tab'!R90,0)","v":0},{"$f":"SUM(B90:D92)+SUM(F90:H92)+SUM(J90:L92)+SUM(N90:P92)+E92+I92+M92+Q92","v":388},{"$f":"B90+B91+B92","v":0},0,0,{"$f":"E90","v":0},{"$f":"E91","v":0},{"$f":"E92","v":0},{"$f":"F90+F91+F92","v":13},{"$f":"G90+G91+G92","v":124},{"$f":"H90+H91+H92","v":0},{"$f":"I90","v":0},{"$f":"I91","v":0},{"$f":"I92","v":0},{"$f":"J90+J91+J92","v":52},{"$f":"K90+K91+K92","v":0},{"$f":"L90+L91+L92","v":119},{"$f":"M90","v":0},{"$f":"M91","v":0},{"$f":"M92","v":0},{"$f":"N90+N91+N92","v":0},{"$f":"O90+O91+O92","v":72},{"$f":"P90+P91+P92","v":8},{"$f":"Q90","v":0},{"$f":"Q91","v":0},{"$f":"Q92","v":0},{"$f":"SUM(B90:D90)+SUM(F90:H90)+SUM(J90:L90)+SUM(N90:P90)+E92+I92+M92+Q92","v":365},{"$f":"B90","v":0},{"$f":"C90","v":0},{"$f":"D90","v":0},{"$f":"E90","v":0},{"$f":"F90","v":13},{"$f":"G90","v":119},{"$f":"H90","v":0},{"$f":"I90","v":0},{"$f":"J90","v":48},{"$f":"K90","v":0},{"$f":"L90","v":113},{"$f":"M90","v":0},{"$f":"N90","v":0},{"$f":"O90","v":64},{"$f":"P90","v":8},{"$f":"Q90","v":0},{"$f":"SUM(B91:D91)+SUM(F91:H91)+SUM(J91:L91)+SUM(N91:P91)","v":10},{"$f":"B91","v":0},{"$f":"C91","v":0},{"$f":"D91","v":0},{"$f":"E91","v":0},{"$f":"F91","v":0},{"$f":"G91","v":2},{"$f":"H91","v":0},{"$f":"I91","v":0},{"$f":"J91","v":2},{"$f":"K91","v":0},{"$f":"L91","v":4},{"$f":"M91","v":0},{"$f":"N91","v":0},{"$f":"O91","v":2},{"$f":"P91","v":0},{"$f":"Q91","v":0},{"$f":"SUM(B92:D92)+SUM(F92:H92)+SUM(J92:L92)+SUM(N92:P92)","v":13},{"$f":"B92","v":0},{"$f":"C92","v":0},{"$f":"D92","v":0},{"$f":"E92","v":0},{"$f":"F92","v":0},{"$f":"G92","v":3},{"$f":"H92","v":0},{"$f":"I92","v":0},{"$f":"J92","v":2},{"$f":"K92","v":0},{"$f":"L92","v":2},{"$f":"M92","v":0},{"$f":"N92","v":0},{"$f":"O92","v":6},{"$f":"P92","v":0},{"$f":"Q92","v":0},{"$f":"SUM(B90:D101,E92,E95,E98,E101,F90:H101,I92,I95,I98,I101,J90:L101,M92,M95,M98,M101,N90:P101,Q92,Q95,Q98,Q101)","v":1488},{"$f":"SUM(B90:B101)","v":0},{"$f":"SUM(C90:C101)","v":0},{"$f":"SUM(D90:D101)","v":0},{"$f":"SUM(E90+E93+E96+E99)","v":0},{"$f":"SUM(E91+E94+E97+E100)","v":0},{"$f":"SUM(E92+E95+E98+E101)","v":0},{"$f":"SUM(F90:F101)","v":50},{"$f":"SUM(G90:G101)","v":441},{"$f":"SUM(H90:H101)","v":0},{"$f":"SUM(I90+I93+I96+I99)","v":0},{"$f":"SUM(I91+I94+I97+I100)","v":0},{"$f":"SUM(I92+I95+I98+I101)","v":0},{"$f":"SUM(J90:J101)","v":216},{"$f":"SUM(K90:K101)","v":0},{"$f":"SUM(L90:L101)","v":417},{"$f":"SUM(M90+M93+M96+M99)","v":0},{"$f":"SUM(M91+M94+M97+M100)","v":0},{"$f":"SUM(M92+M95+M98+M101)","v":0},{"$f":"SUM(N90:N101)","v":0},{"$f":"SUM(O90:O101)","v":328},{"$f":"SUM(P90:P101)","v":36},{"$f":"SUM(Q90+Q93+Q96+Q99)","v":0},{"$f":"SUM(Q91+Q94+Q97+Q100)","v":0},{"$f":"SUM(Q92+Q95+Q98+Q101)","v":0},{"$f":"SUM(B90:D90)+SUM(B93:D93)+SUM(B96:D96)+SUM(B99:D99)+SUM(F90:H90)+SUM(F93:H93)+SUM(F96:H96)+SUM(F99:H99)+SUM(J90:L90)+SUM(J93:L93)+SUM(J96:L96)+SUM(J99:L99)+SUM(N90:P90)+SUM(N93:P93)+SUM(N96:P96)+SUM(N99:P99)+E92+E95+E98+E101+I92+I95+I98+I101+M92+M95+M98+M101+Q92+Q95+Q98+Q101","v":1375},{"$f":"SUM(B90,B93,B96,B99)","v":0},{"$f":"SUM(C90,C93,C96,C99)","v":0},{"$f":"SUM(D90,D93,D96,D99)","v":0},{"$f":"SUM(E90,E93,E96,E99)","v":0},{"$f":"SUM(F90,F93,F96,F99)","v":43},{"$f":"SUM(G90,G93,G96,G99)","v":412},{"$f":"SUM(H90,H93,H96,H99)","v":0},{"$f":"SUM(I90,I93,I96,I99)","v":0},{"$f":"SUM(J90,J93,J96,J99)","v":197},{"$f":"SUM(K90,K93,K96,K99)","v":0},{"$f":"SUM(L90,L93,L96,L99)","v":395},{"$f":"SUM(M90,M93,M96,M99)","v":0},{"$f":"SUM(N90,N93,N96,N99)","v":0},{"$f":"SUM(O90,O93,O96,O99)","v":300},{"$f":"SUM(P90,P93,P96,P99)","v":28},{"$f":"SUM(Q90,Q93,Q96,Q99)","v":0},{"$f":"SUM(B91:D91)+SUM(B94:D94)+SUM(B97:D97)+SUM(B100:D100)+SUM(F91:H91)+SUM(F94:H94)+SUM(F97:H97)+SUM(F100:H100)+SUM(J91:L91)+SUM(J94:L94)+SUM(J97:L97)+SUM(J100:L100)+SUM(N91:P91)+SUM(N94:P94)+SUM(N97:P97)+SUM(N100:P100)","v":55},{"$f":"SUM(B91,B94,B97,B100)","v":0},{"$f":"SUM(C91,C94,C97,C100)","v":0},{"$f":"SUM(D91,D94,D97,D100)","v":0},{"$f":"SUM(E91,E94,E97,E100)","v":0},{"$f":"SUM(F91,F94,F97,F100)","v":3},{"$f":"SUM(G91,G94,G97,G100)","v":12},{"$f":"SUM(H91,H94,H97,H100)","v":0},{"$f":"SUM(I91,I94,I97,I100)","v":0},{"$f":"SUM(J91,J94,J97,J100)","v":4},{"$f":"SUM(K91,K94,K97,K100)","v":0},{"$f":"SUM(L91,L94,L97,L100)","v":13},{"$f":"SUM(M91,M94,M97,M100)","v":0},{"$f":"SUM(N91,N94,N97,N100)","v":0},{"$f":"SUM(O91,O94,O97,O100)","v":20},{"$f":"SUM(P91,P94,P97,P100)","v":3},{"$f":"SUM(Q91,Q94,Q97,Q100)","v":0},{"$f":"SUM(B92:D92)+SUM(B95:D95)+SUM(B98:D98)+SUM(B101:D101)+SUM(F92:H92)+SUM(F95:H95)+SUM(F98:H98)+SUM(F101:H101)+SUM(J92:L92)+SUM(J95:L95)+SUM(J98:L98)+SUM(J101:L101)+SUM(N92:P92)+SUM(N95:P95)+SUM(N98:P98)+SUM(N101:P101)","v":58},{"$f":"SUM(B92,B95,B98,B101)","v":0},{"$f":"SUM(C92,C95,C98,C101)","v":0},{"$f":"SUM(D92,D95,D98,D101)","v":0},{"$f":"SUM(E92,E95,E98,E101)","v":0},{"$f":"SUM(F92,F95,F98,F101)","v":4},{"$f":"SUM(G92,G95,G98,G101)","v":17},{"$f":"SUM(H92,H95,H98,H101)","v":0},{"$f":"SUM(I92,I95,I98,I101)","v":0},{"$f":"SUM(J92,J95,J98,J101)","v":15},{"$f":"SUM(K92,K95,K98,K101)","v":0},{"$f":"SUM(L92,L95,L98,L101)","v":9},{"$f":"SUM(M92,M95,M98,M101)","v":0},{"$f":"SUM(N92,N95,N98,N101)","v":0},{"$f":"SUM(O92,O95,O98,O101)","v":8},{"$f":"SUM(P92,P95,P98,P101)","v":5},{"$f":"SUM(Q92,Q95,Q98,Q101)","v":0}]
["14:00:01.670",{"$f":"ROUND('Import Tab'!E91*'Base Information'!$V$22,0)","v":0},{"$f":"ROUND('Import Tab'!D91*'Base Information'!$V$22,0)","v":0},{"$f":"ROUND('Import Tab'!C91*'Base Information'!$V$22,0)","v":0},{"$f":"ROUND('Import Tab'!F91,0)","v":0},{"$f":"ROUND('Import Tab'!I91*'Base Information'!$V$22,0)","v":0},{"$f":"ROUND('Import Tab'!H91*'Base Information'!$V$22,0)","v":2},{"$f":"ROUND('Import Tab'!G91*'Base Information'!$V$22,0)","v":0},{"$f":"ROUND('Import Tab'!J91,0)","v":0},{"$f":"ROUND('Import Tab'!M91*'Base Information'!$V$22,0)","v":2},{"$f":"ROUND('Import Tab'!L91*'Base Information'!$V$22,0)","v":0},{"$f":"ROUND('Import Tab'!K91*'Base Information'!$V$22,0)","v":4},{"$f":"ROUND('Import Tab'!N91,0)","v":0},{"$f":"ROUND('Import Tab'!Q91*'Base Information'!$V$22,0)","v":0},{"$f":"ROUND('Import Tab'!P91*'Base Information'!$V$22,0)","v":2},{"$f":"ROUND('Import Tab'!O91*'Base Information'!$V$22,0)","v":0},{"$f":"ROUND('Import Tab'!R91,0)","v":0}]
["14:00:01.670",{"$f":"ROUND('Import Tab'!E92*'Base Information'!$V$22,0)","v":0},{"$f":"ROUND('Import Tab'!D92*'Base Information'!$V$22,0)","v":0},{"$f":"ROUND('Import Tab'!C92*'Base Information'!$V$22,0)","v":0},{"$f":"ROUND('Import Tab'!F92,0)","v":0},{"$f":"ROUND('Import Tab'!I92*'Base Information'!$V$22,0)","v":0},{"$f":"ROUND('Import Tab'!H92*'Base Information'!$V$22,0)","v":3},{"$f":"ROUND('Import Tab'!G92*'Base Information'!$V$22,0)","v":0},{"$f":"ROUND('Import Tab'!J92,0)","v":0},{"$f":"ROUND('Import Tab'!M92*'Base Information'!$V$22,0)","v":2},{"$f":"ROUND('Import Tab'!L92*'Base Information'!$V$22,0)","v":0},{"$f":"ROUND('Import Tab'!K92*'Base Information'!$V$22,0)","v":2},{"$f":"ROUND('Import Tab'!N92,0)","v":0},{"$f":"ROUND('Import Tab'!Q92*'Base Information'!$V$22,0)","v":0},{"$f":"ROUND('Import Tab'!P92*'Base Information'!$V$22,0)","v":6},{"$f":"ROUND('Import Tab'!O92*'Base Information'!$V$22,0)","v":0},{"$f":"ROUND('Import Tab'!R92,0)","v":0}]
["14:15:01.699",{"$f":"ROUND('Import Tab'!E93*'Base Information'!$V$22,0)","v":0},{"$f":"ROUND('Import Tab'!D93*'Base Information'!$V$22,0)","v":0},{"$f":"ROUND('Import Tab'!C93*'Base Information'!$V$22,0)","v":0},{"$f":"ROUND('Import Tab'!F93,0)","v":0},{"$f":"ROUND('Import Tab'!I93*'Base Information'!$V$22,0)","v":11},{"$f":"ROUND('Import Tab'!H93*'Base Information'!$V$22,0)","v":89},{"$f":"ROUND('Import Tab'!G93*'Base Information'!$V$22,0)","v":0},{"$f":"ROUND('Import Tab'!J93,0)","v":0},{"$f":"ROUND('Import Tab'!M93*'Base Information'!$V$22,0)","v":54},{"$f":"ROUND('Import Tab'!L93*'Base Information'!$V$22,0)","v":0},{"$f":"ROUND('Import Tab'!K93*'Base Information'!$V$22,0)","v":76},{"$f":"ROUND('Import Tab'!N93,0)","v":0},{"$f":"ROUND('Import Tab'!Q93*'Base Information'!$V$22,0)","v":0},{"$f":"ROUND('Import Tab'!P93*'Base Information'!$V$22,0)","v":67},{"$f":"ROUND('Import Tab'!O93*'Base Information'!$V$22,0)","v":6},{"$f":"ROUND('Import Tab'!R93,0)","v":0},{"$f":"SUM(B93:D95)+SUM(F93:H95)+SUM(J93:L95)+SUM(N93:P95)+E95+I95+M95+Q95","v":326},{"$f":"B93+B94+B95","v":0},0,0,{"$f":"E93","v":0},{"$f":"E94","v":0},{"$f":"E95","v":0},{"$f":"F93+F94+F95","v":12},{"$f":"G93+G94+G95","v":92},{"$f":"H93+H94+H95","v":0},{"$f":"I93","v":0},{"$f":"I94","v":0},{"$f":"I95","v":0},{"$f":"J93+J94+J95","v":61},{"$f":"K93+K94+K95","v":0},{"$f":"L93+L94+L95","v":80},{"$f":"M93","v":0},{"$f":"M94","v":0},{"$f":"M95","v":0},{"$f":"N93+N94+N95","v":0},{"$f":"O93+O94+O95","v":73},{"$f":"P93+P94+P95","v":8},{"$f":"Q93","v":0},{"$f":"Q94","v":0},{"$f":"Q95","v":0},{"$f":"SUM(B93:D93)+SUM(F93:H93)+SUM(J93:L93)+SUM(N93:P93)+E95+I95+M95+Q95","v":303},{"$f":"B93","v":0},{"$f":"C93","v":0},{"$f":"D93","v":0},{"$f":"E93","v":0},{"$f":"F93","v":11},{"$f":"G93","v":89},{"$f":"H93","v":0},{"$f":"I93","v":0},{"$f":"J93","v":54},{"$f":"K93","v":0},{"$f":"L93","v":76},{"$f":"M93","v":0},{"$f":"N93","v":0},{"$f":"O93","v":67},{"$f":"P93","v":6},{"$f":"Q93","v":0},{"$f":"SUM(B94:D94)+SUM(F94:H94)+SUM(J94:L94)+SUM(N94:P94)","v":9},{"$f":"B94","v":0},{"$f":"C94","v":0},{"$f":"D94","v":0},{"$f":"E94","v":0},{"$f":"F94","v":1},{"$f":"G94","v":1},{"$f":"H94","v":0},{"$f":"I94","v":0},{"$f":"J94","v":1},{"$f":"K94","v":0},{"$f":"L94","v":2},{"$f":"M94","v":0},{"$f":"N94","v":0},{"$f":"O94","v":4},{"$f":"P94","v":0},{"$f":"Q94","v":0},{"$f":"SUM(B95:D95)+SUM(F95:H95)+SUM(J95:L95)+SUM(N95:P95)","v":14},{"$f":"B95","v":0},{"$f":"C95","v":0},{"$f":"D95","v":0},{"$f":"E95","v":0},{"$f":"F95","v":0},{"$f":"G95","v":2},{"$f":"H95","v":0},{"$f":"I95","v":0},{"$f":"J95","v":6},{"$f":"K95","v":0},{"$f":"L95","v":2},{"$f":"M95","v":0},{"$f":"N95","v":0},{"$f":"O95","v":2},{"$f":"P95","v":2},{"$f":"Q95","v":0},{"$f":"SUM(B93:D104,E95,E98,E101,E104,F93:H104,I95,I98,I101,I104,J93:L104,M95,M98,M101,M104,N93:P104,Q95,Q98,Q101,Q104)","v":1481},{"$f":"SUM(B93:B104)","v":0},{"$f":"SUM(C93:C104)","v":0},{"$f":"SUM(D93:D104)","v":0},{"$f":"SUM(E93+E96+E99+E102)","v":0},{"$f":"SUM(E94+E97+E100+E103)","v":0},{"$f":"SUM(E95+E98+E101+E104)","v":0},{"$f":"SUM(F93:F104)","v":55},{"$f":"SUM(G93:G104)","v":444},{"$f":"SUM(H93:H104)","v":0},{"$f":"SUM(I93+I96+I99+I102)","v":0},{"$f":"SUM(I94+I97+I100+I103)","v":0},{"$f":"SUM(I95+I98+I101+I104)","v":0},{"$f":"SUM(J93:J104)","v":215},{"$f":"SUM(K93:K104)","v":1},{"$f":"SUM(L93:L104)","v":391},{"$f":"SUM(M93+M96+M99+M102)","v":0},{"$f":"SUM(M94+M97+M100+M103)","v":0},{"$f":"SUM(M95+M98+M101+M104)","v":0},{"$f":"SUM(N93:N104)","v":0},{"$f":"SUM(O93:O104)","v":333},{"$f":"SUM(P93:P104)","v":42},{"$f":"SUM(Q93+Q96+Q99+Q102)","v":0},{"$f":"SUM(Q94+Q97+Q100+Q103)","v":0},{"$f":"SUM(Q95+Q98+Q101+Q104)","v":0},{"$f":"SUM(B93:D93)+SUM(B96:D96)+SUM(B99:D99)+SUM(B102:D102)+SUM(F93:H93)+SUM(F96:H96)+SUM(F99:H99)+SUM(F102:H102)+SUM(J93:L93)+SUM(J96:L96)+SUM(J99:L99)+SUM(J102:L102)+SUM(N93:P93)+SUM(N96:P96)+SUM(N99:P99)+SUM(N102:P102)+E95+E98+E101+E104+I95+I98+I101+I104+M95+M98+M101+M104+Q95+Q98+Q101+Q104","v":1359},{"$f":"SUM(B93,B96,B99,B102)","v":0},{"$f":"SUM(C93,C96,C99,C102)","v":0},{"$f":"SUM(D93,D96,D99,D102)","v":0},{"$f":"SUM(E93,E96,E99,E102)","v":0},{"$f":"SUM(F93,F96,F99,F102)","v":44},{"$f":"SUM(G93,G96,G99,G102)","v":410},{"$f":"SUM(H93,H96,H99,H102)","v":0},{"$f":"SUM(I93,I96,I99,I102)","v":0},{"$f":"SUM(J93,J96,J99,J102)","v":198},{"$f":"SUM(K93,K96,K99,K102)","v":1},{"$f":"SUM(L93,L96,L99,L102)","v":367},{"$f":"SUM(M93,M96,M99,M102)","v":0},{"$f":"SUM(N93,N96,N99,N102)","v":0},{"$f":"SUM(O93,O96,O99,O102)","v":307},{"$f":"SUM(P93,P96,P99,P102)","v":32},{"$f":"SUM(Q93,Q96,Q99,Q102)","v":0},{"$f":"SUM(B94:D94)+SUM(B97:D97)+SUM(B100:D100)+SUM(B103:D103)+SUM(F94:H94)+SUM(F97:H97)+SUM(F100:H100)+SUM(F103:H103)+SUM(J94:L94)+SUM(J97:L97)+SUM(J100:L100)+SUM(J103:L103)+SUM(N94:P94)+SUM(N97:P97)+SUM(N100:P100)+SUM(N103:P103)","v":59},{"$f":"SUM(B94,B97,B100,B103)","v":0},{"$f":"SUM(C94,C97,C100,C103)","v":0},{"$f":"SUM(D94,D97,D100,D103)","v":0},{"$f":"SUM(E94,E97,E100,E103)","v":0},{"$f":"SUM(F94,F97,F100,F103)","v":5},{"$f":"SUM(G94,G97,G100,G103)","v":15},{"$f":"SUM(H94,H97,H100,H103)","v":0},{"$f":"SUM(I94,I97,I100,I103)","v":0},{"$f":"SUM(J94,J97,J100,J103)","v":2},{"$f":"SUM(K94,K97,K100,K103)","v":0},{"$f":"SUM(L94,L97,L100,L103)","v":13},{"$f":"SUM(M94,M97,M100,M103)","v":0},{"$f":"SUM(N94,N97,N100,N103)","v":0},{"$f":"SUM(O94,O97,O100,O103)","v":21},{"$f":"SUM(P94,P97,P100,P103)","v":3},{"$f":"SUM(Q94,Q97,Q100,Q103)","v":0},{"$f":"SUM(B95:D95)+SUM(B98:D98)+SUM(B101:D101)+SUM(B104:D104)+SUM(F95:H95)+SUM(F98:H98)+SUM(F101:H101)+SUM(F104:H104)+SUM(J95:L95)+SUM(J98:L98)+SUM(J101:L101)+SUM(J104:L104)+SUM(N95:P95)+SUM(N98:P98)+SUM(N101:P101)+SUM(N104:P104)","v":63},{"$f":"SUM(B95,B98,B101,B104)","v":0},{"$f":"SUM(C95,C98,C101,C104)","v":0},{"$f":"SUM(D95,D98,D101,D104)","v":0},{"$f":"SUM(E95,E98,E101,E104)","v":0},{"$f":"SUM(F95,F98,F101,F104)","v":6},{"$f":"SUM(G95,G98,G101,G104)","v":19},{"$f":"SUM(H95,H98,H101,H104)","v":0},{"$f":"SUM(I95,I98,I101,I104)","v":0},{"$f":"SUM(J95,J98,J101,J104)","v":15},{"$f":"SUM(K95,K98,K101,K104)","v":0},{"$f":"SUM(L95,L98,L101,L104)","v":11},{"$f":"SUM(M95,M98,M101,M104)","v":0},{"$f":"SUM(N95,N98,N101,N104)","v":0},{"$f":"SUM(O95,O98,O101,O104)","v":5},{"$f":"SUM(P95,P98,P101,P104)","v":7},{"$f":"SUM(Q95,Q98,Q101,Q104)","v":0}]
["14:15:01.699",{"$f":"ROUND('Import Tab'!E94*'Base Information'!$V$22,0)","v":0},{"$f":"ROUND('Import Tab'!D94*'Base Information'!$V$22,0)","v":0},{"$f":"ROUND('Import Tab'!C94*'Base Information'!$V$22,0)","v":0},{"$f":"ROUND('Import Tab'!F94,0)","v":0},{"$f":"ROUND('Import Tab'!I94*'Base Information'!$V$22,0)","v":1},{"$f":"ROUND('Import Tab'!H94*'Base Information'!$V$22,0)","v":1},{"$f":"ROUND('Import Tab'!G94*'Base Information'!$V$22,0)","v":0},{"$f":"ROUND('Import Tab'!J94,0)","v":0},{"$f":"ROUND('Import Tab'!M94*'Base Information'!$V$22,0)","v":1},{"$f":"ROUND('Import Tab'!L94*'Base Information'!$V$22,0)","v":0},{"$f":"ROUND('Import Tab'!K94*'Base Information'!$V$22,0)","v":2},{"$f":"ROUND('Import Tab'!N94,0)","v":0},{"$f":"ROUND('Import Tab'!Q94*'Base Information'!$V$22,0)","v":0},{"$f":"ROUND('Import Tab'!P94*'Base Information'!$V$22,0)","v":4},{"$f":"ROUND('Import Tab'!O94*'Base Information'!$V$22,0)","v":0},{"$f":"ROUND('Import Tab'!R94,0)","v":0}]
["14:15:01.699",{"$f":"ROUND('Import Tab'!E95*'Base Information'!$V$22,0)","v":0},{"$f":"ROUND('Import Tab'!D95*'Base Information'!$V$22,0)","v":0},{"$f":"ROUND('Import Tab'!C95*'Base Information'!$V$22,0)","v":0},{"$f":"ROUND('Import Tab'!F95,0)","v":0},{"$f":"ROUND('Import Tab'!I95*'Base Information'!$V$22,0)","v":0},{"$f":"ROUND('Import Tab'!H95*'Base Information'!$V$22,0)","v":2},{"$f":"ROUND('Import Tab'!G95*'Base Information'!$V$22,0)","v":0},{"$f":"ROUND('Import Tab'!J95,0)","v":0},{"$f":"ROUND('Import Tab'!M95*'Base Information'!$V$22,0)","v":6},{"$f":"ROUND('Import Tab'!L95*'Base Information'!$V$22,0)","v":0},{"$f":"ROUND('Import Tab'!K95*'Base Information'!$V$22,0)","v":2},{"$f":"ROUND('Import Tab'!N95,0)","v":0},{"$f":"ROUND('Import Tab'!Q95*'Base Information'!$V$22,0)","v":0},{"$f":"ROUND('Import Tab'!P95*'Base Information'!$V$22,0)","v":2},{"$f":"ROUND('Import Tab'!O95*'Base Information'!$V$22,0)","v":2},{"$f":"ROUND('Import Tab'!R95,0)","v":0}]
["14:30:01.728",{"$f":"ROUND('Import Tab'!E96*'Base Information'!$V$22,0)","v":0},{"$f":"ROUND('Import Tab'!D96*'Base Information'!$V$22,0)","v":0},{"$f":"ROUND('Import Tab'!C96*'Base Information'!$V$22,0)","v":0},{"$f":"ROUND('Import Tab'!F96,0)","v":0},{"$f":"ROUND('Import Tab'!I96*'Base Information'!$V$22,0)","v":9},{"$f":"ROUND('Import Tab'!H96*'Base Information'!$V$22,0)","v":108},{"$f":"ROUND('Import Tab'!G96*'Base Information'!$V$22,0)","v":0},{"$f":"ROUND('Import Tab'!J96,0)","v":0},{"$f":"ROUND('Import Tab'!M96*'Base Information'!$V$22,0)","v":45},{"$f":"ROUND('Import Tab'!L96*'Base Information'!$V$22,0)","v":0},{"$f":"ROUND('Import Tab'!K96*'Base Information'!$V$22,0)","v":103},{"$f":"ROUND('Import Tab'!N96,0)","v":0},{"$f":"ROUND('Import Tab'!Q96*'Base Information'!$V$22,0)","v":0},{"$f":"ROUND('Import Tab'!P96*'Base Information'!$V$22,0)","v":90},{"$f":"ROUND('Import Tab'!O96*'Base Information'!$V$22,0)","v":4},{"$f":"ROUND('Import Tab'!R96,0)","v":0},{"$f":"SUM(B96:D98)+SUM(F96:H98)+SUM(J96:L98)+SUM(N96:P98)+E98+I98+M98+Q98","v":399},{"$f":"B96+B97+B98","v":0},0,0,{"$f":"E96","v":0},{"$f":"E97","v":0},{"$f":"E98","v":0},{"$f":"F96+F97+F98","v":12},{"$f":"G96+G97+G98","v":115},{"$f":"H96+H97+H98","v":0},{"$f":"I96","v":0},{"$f":"I97","v":0},{"$f":"I98","v":0},{"$f":"J96+J97+J98","v":51},{"$f":"K96+K97+K98","v":0},{"$f":"L96+L97+L98","v":113},{"$f":"M96","v":0},{"$f":"M97","v":0},{"$f":"M98","v":0},{"$f":"N96+N97+N98","v":0},{"$f":"O96+O97+O98","v":100},{"$f":"P96+P97+P98","v":8},{"$f":"Q96","v":0},{"$f":"Q97","v":0},{"$f":"Q98","v":0},{"$f":"SUM(B96:D96)+SUM(F96:H96)+SUM(J96:L96)+SUM(N96:P96)+E98+I98+M98+Q98","v":359},{"$f":"B96","v":0},{"$f":"C96","v":0},{"$f":"D96","v":0},{"$f":"E96","v":0},{"$f":"F96","v":9},{"$f":"G96","v":108},{"$f":"H96","v":0},{"$f":"I96","v":0},{"$f":"J96","v":45},{"$f":"K96","v":0},{"$f":"L96","v":103},{"$f":"M96","v":0},{"$f":"N96","v":0},{"$f":"O96","v":90},{"$f":"P96","v":4},{"$f":"Q96","v":0},{"$f":"SUM(B97:D97)+SUM(F97:H97)+SUM(J97:L97)+SUM(N97:P97)","v":22},{"$f":"B97","v":0},{"$f":"C97","v":0},{"$f":"D97","v":0},{"$f":"E97","v":0},{"$f":"F97","v":0},{"$f":"G97","v":5},{"$f":"H97","v":0},{"$f":"I97","v":0},{"$f":"J97","v":1},{"$f":"K97","v":0},{"$f":"L97","v":5},{"$f":"M97","v":0},{"$f":"N97","v":0},{"$f":"O97","v":10},{"$f":"P97","v":1},{"$f":"Q97","v":0},{"$f":"SUM(B98:D98)+SUM(F98:H98)+SUM(J98:L98)+SUM(N98:P98)","v":18},{"$f":"B98","v":0},{"$f":"C98","v":0},{"$f":"D98","v":0},{"$f":"E98","v":0},{"$f":"F98","v":3},{"$f":"G98","v":2},{"$f":"H98","v":0},{"$f":"I98","v":0},{"$f":"J98","v":5},{"$f":"K98","v":0},{"$f":"L98","v":5},{"$f":"M98","v":0},{"$f":"N98","v":0},{"$f":"O98","v":0},{"$f":"P98","v":3},{"$f":"Q98","v":0},{"$f":"SUM(B96:D107,E98,E101,E104,E107,F96:H107,I98,I101,I104,I107,J96:L107,M98,M101,M104,M107,N96:P107,Q98,Q101,Q104,Q107)","v":1578},{"$f":"SUM(B96:B107)","v":0},{"$f":"SUM(C96:C107)","v":0},{"$f":"SUM(D96:D107)","v":0},{"$f":"SUM(E96+E99+E102+E105)","v":0},{"$f":"SUM(E97+E100+E103+E106)","v":0},{"$f":"SUM(E98+E101+E104+E107)","v":0},{"$f":"SUM(F96:F107)","v":55},{"$f":"SUM(G96:G107)","v":466},{"$f":"SUM(H96:H107)","v":0},{"$f":"SUM(I96+I99+I102+I105)","v":0},{"$f":"SUM(I97+I100+I103+I106)","v":0},{"$f":"SUM(I98+I101+I104+I107)","v":0},{"$f":"SUM(J96:J107)","v":233},{"$f":"SUM(K96:K107)","v":1},{"$f":"SUM(L96:L107)","v":430},{"$f":"SUM(M96+M99+M102+M105)","v":0},{"$f":"SUM(M97+M100+M103+M106)","v":0},{"$f":"SUM(M98+M101+M104+M107)","v":0},{"$f":"SUM(N96:N107)","v":0},{"$f":"SUM(O96:O107)","v":350},{"$f":"SUM(P96:P107)","v":43},{"$f":"SUM(Q96+Q99+Q102+Q105)","v":0},{"$f":"SUM(Q97+Q100+Q103+Q106)","v":0},{"$f":"SUM(Q98+Q101+Q104+Q107)","v":0},{"$f":"SUM(B96:D96)+SUM(B99:D99)+SUM(B102:D102)+SUM(B105:D105)+SUM(F96:H96)+SUM(F99:H99)+SUM(F102:H102)+SUM(F105:H105)+SUM(J96:L96)+SUM(J99:L99)+SUM(J102:L102)+SUM(J105:L105)+SUM(N96:P96)+SUM(N99:P99)+SUM(N102:P102)+SUM(N105:P105)+E98+E101+E104+E107+I98+I101+I104+I107+M98+M101+M104+M107+Q98+Q101+Q104+Q107","v":1454},{"$f":"SUM(B96,B99,B102,B105)","v":0},{"$f":"SUM(C96,C99,C102,C105)","v":0},{"$f":"SUM(D96,D99,D102,D105)","v":0},{"$f":"SUM(E96,E99,E102,E105)","v":0},{"$f":"SUM(F96,F99,F102,F105)","v":42},{"$f":"SUM(G96,G99,G102,G105)","v":431},{"$f":"SUM(H96,H99,H102,H105)","v":0},{"$f":"SUM(I96,I99,I102,I105)","v":0},{"$f":"SUM(J96,J99,J102,J105)","v":221},{"$f":"SUM(K96,K99,K102,K105)","v":1},{"$f":"SUM(L96,L99,L102,L105)","v":403},{"$f":"SUM(M96,M99,M102,M105)","v":0},{"$f":"SUM(N96,N99,N102,N105)","v":0},{"$f":"SUM(O96,O99,O102,O105)","v":322},{"$f":"SUM(P96,P99,P102,P105)","v":34},{"$f":"SUM(Q96,Q99,Q102,Q105)","v":0},{"$f":"SUM(B97:D97)+SUM(B100:D100)+SUM(B103:D103)+SUM(B106:D106)+SUM(F97:H97)+SUM(F100:H100)+SUM(F103:H103)+SUM(F106:H106)+SUM(J97:L97)+SUM(J100:L100)+SUM(J103:L103)+SUM(J106:L106)+SUM(N97:P97)+SUM(N100:P100)+SUM(N103:P103)+SUM(N106:P106)","v":66},{"$f":"SUM(B97,B100,B103,B106)","v":0},{"$f":"SUM(C97,C100,C103,C106)","v":0},{"$f":"SUM(D97,D100,D103,D106)","v":0},{"$f":"SUM(E97,E100,E103,E106)","v":0},{"$f":"SUM(F97,F100,F103,F106)","v":6},{"$f":"SUM(G97,G100,G103,G106)","v":18},{"$f":"SUM(H97,H100,H103,H106)","v":0},{"$f":"SUM(I97,I100,I103,I106)","v":0},{"$f":"SUM(J97,J100,J103,J106)","v":3},{"$f":"SUM(K97,K100,K103,K106)","v":0},{"$f":"SUM(L97,L100,L103,L106)","v":12},{"$f":"SUM(M97,M100,M103,M106)","v":0},{"$f":"SUM(N97,N100,N103,N106)","v":0},{"$f":"SUM(O97,O100,O103,O106)","v":24},{"$f":"SUM(P97,P100,P103,P106)","v":3},{"$f":"SUM(Q97,Q100,Q103,Q106)","v":0},{"$f":"SUM(B98:D98)+SUM(B101:D101)+SUM(B104:D104)+SUM(B107:D107)+SUM(F98:H98)+SUM(F101:H101)+SUM(F104:H104)+SUM(F107:H107)+SUM(J98:L98)+SUM(J101:L101)+SUM(J104:L104)+SUM(J107:L107)+SUM(N98:P98)+SUM(N101:P101)+SUM(N104:P104)+SUM(N107:P107)","v":58},{"$f":"SUM(B98,B101,B104,B107)","v":0},{"$f":"SUM(C98,C101,C104,C107)","v":0},{"$f":"SUM(D98,D101,D104,D107)","v":0},{"$f":"SUM(E98,E101,E104,E107)","v":0},{"$f":"SUM(F98,F101,F104,F107)","v":7},{"$f":"SUM(G98,G101,G104,G107)","v":17},{"$f":"SUM(H98,H101,H104,H107)","v":0},{"$f":"SUM(I98,I101,I104,I107)","v":0},{"$f":"SUM(J98,J101,J104,J107)","v":9},{"$f":"SUM(K98,K101,K104,K107)","v":0},{"$f":"SUM(L98,L101,L104,L107)","v":15},{"$f":"SUM(M98,M101,M104,M107)","v":0},{"$f":"SUM(N98,N101,N104,N107)","v":0},{"$f":"SUM(O98,O101,O104,O107)","v":4},{"$f":"SUM(P98,P101,P104,P107)","v":6},{"$f":"SUM(Q98,Q101,Q104,Q107)","v":0}]
["14:30:01.728",{"$f":"ROUND('Import Tab'!E97*'Base Information'!$V$22,0)","v":0},{"$f":"ROUND('Import Tab'!D97*'Base Information'!$V$22,0)","v":0},{"$f":"ROUND('Import Tab'!C97*'Base Information'!$V$22,0)","v":0},{"$f":"ROUND('Import Tab'!F97,0)","v":0},{"$f":"ROUND('Import Tab'!I97*'Base Information'!$V$22,0)","v":0},{"$f":"ROUND('Import Tab'!H97*'Base Information'!$V$22,0)","v":5},{"$f":"ROUND('Import Tab'!G97*'Base Information'!$V$22,0)","v":0},{"$f":"ROUND('Import Tab'!J97,0)","v":0},{"$f":"ROUND('Import Tab'!M97*'Base Information'!$V$22,0)","v":1},{"$f":"ROUND('Import Tab'!L97*'Base Information'!$V$22,0)","v":0},{"$f":"ROUND('Import Tab'!K97*'Base Information'!$V$22,0)","v":5},{"$f":"ROUND('Import Tab'!N97,0)","v":0},{"$f":"ROUND('Import Tab'!Q97*'Base Information'!$V$22,0)","v":0},{"$f":"ROUND('Import Tab'!P97*'Base Information'!$V$22,0)","v":10},{"$f":"ROUND('Import Tab'!O97*'Base Information'!$V$22,0)","v":1},{"$f":"ROUND('Import Tab'!R97,0)","v":0}]
["14:30:01.728",{"$f":"ROUND('Import Tab'!E98*'Base Information'!$V$22,0)","v":0},{"$f":"ROUND('Import Tab'!D98*'Base Information'!$V$22,0)","v":0},{"$f":"ROUND('Import Tab'!C98*'Base Information'!$V$22,0)","v":0},{"$f":"ROUND('Import Tab'!F98,0)","v":0},{"$f":"ROUND('Import Tab'!I98*'Base Information'!$V$22,0)","v":3},{"$f":"ROUND('Import Tab'!H98*'Base Information'!$V$22,0)","v":2},{"$f":"ROUND('Import Tab'!G98*'Base Information'!$V$22,0)","v":0},{"$f":"ROUND('Import Tab'!J98,0)","v":0},{"$f":"ROUND('Import Tab'!M98*'Base Information'!$V$22,0)","v":5},{"$f":"ROUND('Import Tab'!L98*'Base Information'!$V$22,0)","v":0},{"$f":"ROUND('Import Tab'!K98*'Base Information'!$V$22,0)","v":5},{"$f":"ROUND('Import Tab'!N98,0)","v":0},{"$f":"ROUND('Import Tab'!Q98*'Base Information'!$V$22,0)","v":0},{"$f":"ROUND('Import Tab'!P98*'Base Information'!$V$22,0)","v":0},{"$f":"ROUND('Import Tab'!O98*'Base Information'!$V$22,0)","v":3},{"$f":"ROUND('Import Tab'!R98,0)","v":0}]
["14:45:01.757",{"$f":"ROUND('Import Tab'!E99*'Base Information'!$V$22,0)","v":0},{"$f":"ROUND('Import Tab'!D99*'Base Information'!$V$22,0)","v":0},{"$f":"ROUND('Import Tab'!C99*'Base Information'!$V$22,0)","v":0},{"$f":"ROUND('Import Tab'!F99,0)","v":0},{"$f":"ROUND('Import Tab'!I99*'Base Information'!$V$22,0)","v":10},{"$f":"ROUND('Import Tab'!H99*'Base Information'!$V$22,0)","v":96},{"$f":"ROUND('Import Tab'!G99*'Base Information'!$V$22,0)","v":0},{"$f":"ROUND('Import Tab'!J99,0)","v":0},{"$f":"ROUND('Import Tab'!M99*'Base Information'!$V$22,0)","v":50},{"$f":"ROUND('Import Tab'!L99*'Base Information'!$V$22,0)","v":0},{"$f":"ROUND('Import Tab'!K99*'Base Information'!$V$22,0)","v":103},{"$f":"ROUND('Import Tab'!N99,0)","v":0},{"$f":"ROUND('Import Tab'!Q99*'Base Information'!$V$22,0)","v":0},{"$f":"ROUND('Import Tab'!P99*'Base Information'!$V$22,0)","v":79},{"$f":"ROUND('Import Tab'!O99*'Base Information'!$V$22,0)","v":10},{"$f":"ROUND('Import Tab'!R99,0)","v":0},{"$f":"SUM(B99:D101)+SUM(F99:H101)+SUM(J99:L101)+SUM(N99:P101)+E101+I101+M101+Q101","v":375},{"$f":"B99+B100+B101","v":0},0,0,{"$f":"E99","v":0},{"$f":"E100","v":0},{"$f":"E101","v":0},{"$f":"F99+F100+F101","v":13},{"$f":"G99+G100+G101","v":110},{"$f":"H99+H100+H101","v":0},{"$f":"I99","v":0},{"$f":"I100","v":0},{"$f":"I101","v":0},{"$f":"J99+J100+J101","v":52},{"$f":"K99+K100+K101","v":0},{"$f":"L99+L100+L101","v":105},{"$f":"M99","v":0},{"$f":"M100","v":0},{"$f":"M101","v":0},{"$f":"N99+N100+N101","v":0},{"$f":"O99+O100+O101","v":83},{"$f":"P99+P100+P101","v":12},{"$f":"Q99","v":0},{"$f":"Q100","v":0},{"$f":"Q101","v":0},{"$f":"SUM(B99:D99)+SUM(F99:H99)+SUM(J99:L99)+SUM(N99:P99)+E101+I101+M101+Q101","v":348},{"$f":"B99","v":0},{"$f":"C99","v":0},{"$f":"D99","v":0},{"$f":"E99","v":0},{"$f":"F99","v":10},{"$f":"G99","v":96},{"$f":"H99","v":0},{"$f":"I99","v":0},{"$f":"J99","v":50},{"$f":"K99","v":0},{"$f":"L99","v":103},{"$f":"M99","v":0},{"$f":"N99","v":0},{"$f":"O99","v":79},{"$f":"P99","v":10},{"$f":"Q99","v":0},{"$f":"SUM(B100:D100)+SUM(F100:H100)+SUM(J100:L100)+SUM(N100:P100)","v":14},{"$f":"B100","v":0},{"$f":"C100","v":0},{"$f":"D100","v":0},{"$f":"E100","v":0},{"$f":"F100","v":2},{"$f":"G100","v":4},{"$f":"H100","v":0},{"$f":"I100","v":0},{"$f":"J100","v":0},{"$f":"K100","v":0},{"$f":"L100","v":2},{"$f":"M100","v":0},{"$f":"N100","v":0},{"$f":"O100","v":4},{"$f":"P100","v":2},{"$f":"Q100","v":0},{"$f":"SUM(B101:D101)+SUM(F101:H101)+SUM(J101:L101)+SUM(N101:P101)","v":13},{"$f":"B101","v":0},{"$f":"C101","v":0},{"$f":"D101","v":0},{"$f":"E101","v":0},{"$f":"F101","v":1},{"$f":"G101","v":10},{"$f":"H101","v":0},{"$f":"I101","v":0},{"$f":"J101","v":2},{"$f":"K101","v":0},{"$f":"L101","v":0},{"$f":"M101","v":0},{"$f":"N101","v":0},{"$f":"O101","v":0},{"$f":"P101","v":0},{"$f":"Q101","v":0},{"$f":"SUM(B99:D110,E101,E104,E107,E110,F99:H110,I101,I104,I107,I110,J99:L110,M101,M104,M107,M110,N99:P110,Q101,Q104,Q107,Q110)","v":1614},{"$f":"SUM(B99:B110)","v":0},{"$f":"SUM(C99:C110)","v":0},{"$f":"SUM(D99:D110)","v":0},{"$f":"SUM(E99+E102+E105+E108)","v":0},{"$f":"SUM(E100+E103+E106+E109)","v":0},{"$f":"SUM(E101+E104+E107+E110)","v":0},{"$f":"SUM(F99:F110)","v":57},{"$f":"SUM(G99:G110)","v":453},{"$f":"SUM(H99:H110)","v":0},{"$f":"SUM(I99+I102+I105+I108)","v":0},{"$f":"SUM(I100+I103+I106+I109)","v":0},{"$f":"SUM(I101+I104+I107+I110)","v":0},{"$f":"SUM(J99:J110)","v":257},{"$f":"SUM(K99:K110)","v":1},{"$f":"SUM(L99:L110)","v":408},{"$f":"SUM(M99+M102+M105+M108)","v":0},{"$f":"SUM(M100+M103+M106+M109)","v":0},{"$f":"SUM(M101+M104+M107+M110)","v":0},{"$f":"SUM(N99:N110)","v":0},{"$f":"SUM(O99:O110)","v":370},{"$f":"SUM(P99:P110)","v":68},{"$f":"SUM(Q99+Q102+Q105+Q108)","v":0},{"$f":"SUM(Q100+Q103+Q106+Q109)","v":0},{"$f":"SUM(Q101+Q104+Q107+Q110)","v":0},{"$f":"SUM(B99:D99)+SUM(B102:D102)+SUM(B105:D105)+SUM(B108:D108)+SUM(F99:H99)+SUM(F102:H102)+SUM(F105:H105)+SUM(F108:H108)+SUM(J99:L99)+SUM(J102:L102)+SUM(J105:L105)+SUM(J108:L108)+SUM(N99:P99)+SUM(N102:P102)+SUM(N105:P105)+SUM(N108:P108)+E101+E104+E107+E110+I101+I104+I107+I110+M101+M104+M107+M110+Q101+Q104+Q107+Q110","v":1504},{"$f":"SUM(B99,B102,B105,B108)","v":0},{"$f":"SUM(C99,C102,C105,C108)","v":0},{"$f":"SUM(D99,D102,D105,D108)","v":0},{"$f":"SUM(E99,E102,E105,E108)","v":0},{"$f":"SUM(F99,F102,F105,F108)","v":46},{"$f":"SUM(G99,G102,G105,G108)","v":423},{"$f":"SUM(H99,H102,H105,H108)","v":0},{"$f":"SUM(I99,I102,I105,I108)","v":0},{"$f":"SUM(J99,J102,J105,J108)","v":246},{"$f":"SUM(K99,K102,K105,K108)","v":1},{"$f":"SUM(L99,L102,L105,L108)","v":385},{"$f":"SUM(M99,M102,M105,M108)","v":0},{"$f":"SUM(N99,N102,N105,N108)","v":0},{"$f":"SUM(O99,O102,O105,O108)","v":344},{"$f":"SUM(P99,P102,P105,P108)","v":59},{"$f":"SUM(Q99,Q102,Q105,Q108)","v":0},{"$f":"SUM(B100:D100)+SUM(B103:D103)+SUM(B106:D106)+SUM(B109:D109)+SUM(F100:H100)+SUM(F103:H103)+SUM(F106:H106)+SUM(F109:H109)+SUM(J100:L100)+SUM(J103:L103)+SUM(J106:L106)+SUM(J109:L109)+SUM(N100:P100)+SUM(N103:P103)+SUM(N106:P106)+SUM(N109:P109)","v":57},{"$f":"SUM(B100,B103,B106,B109)","v":0},{"$f":"SUM(C100,C103,C106,C109)","v":0},{"$f":"SUM(D100,D103,D106,D109)","v":0},{"$f":"SUM(E100,E103,E106,E109)","v":0},{"$f":"SUM(F100,F103,F106,F109)","v":7},{"$f":"SUM(G100,G103,G106,G109)","v":14},{"$f":"SUM(H100,H103,H106,H109)","v":0},{"$f":"SUM(I100,I103,I106,I109)","v":0},{"$f":"SUM(J100,J103,J106,J109)","v":3},{"$f":"SUM(K100,K103,K106,K109)","v":0},{"$f":"SUM(L100,L103,L106,L109)","v":12},{"$f":"SUM(M100,M103,M106,M109)","v":0},{"$f":"SUM(N100,N103,N106,N109)","v":0},{"$f":"SUM(O100,O103,O106,O109)","v":18},{"$f":"SUM(P100,P103,P106,P109)","v":3},{"$f":"SUM(Q100,Q103,Q106,Q109)","v":0},{"$f":"SUM(B101:D101)+SUM(B104:D104)+SUM(B107:D107)+SUM(B110:D110)+SUM(F101:H101)+SUM(F104:H104)+SUM(F107:H107)+SUM(F110:H110)+SUM(J101:L101)+SUM(J104:L104)+SUM(J107:L107)+SUM(J110:L110)+SUM(N101:P101)+SUM(N104:P104)+SUM(N107:P107)+SUM(N110:P110)","v":53},{"$f":"SUM(B101,B104,B107,B110)","v":0},{"$f":"SUM(C101,C104,C107,C110)","v":0},{"$f":"SUM(D101,D104,D107,D110)","v":0},{"$f":"SUM(E101,E104,E107,E110)","v":0},{"$f":"SUM(F101,F104,F107,F110)","v":4},{"$f":"SUM(G101,G104,G107,G110)","v":16},{"$f":"SUM(H101,H104,H107,H110)","v":0},{"$f":"SUM(I101,I104,I107,I110)","v":0},{"$f":"SUM(J101,J104,J107,J110)","v":8},{"$f":"SUM(K101,K104,K107,K110)","v":0},{"$f":"SUM(L101,L104,L107,L110)","v":11},{"$f":"SUM(M101,M104,M107,M110)","v":0},{"$f":"SUM(N101,N104,N107,N110)","v":0},{"$f":"SUM(O101,O104,O107,O110)","v":8},{"$f":"SUM(P101,P104,P107,P110)","v":6},{"$f":"SUM(Q101,Q104,Q107,Q110)","v":0}]
["14:45:01.757",{"$f":"ROUND('Import Tab'!E100*'Base Information'!$V$22,0)","v":0},{"$f":"ROUND('Import Tab'!D100*'Base Information'!$V$22,0)","v":0},{"$f":"ROUND('Import Tab'!C100*'Base Information'!$V$22,0)","v":0},{"$f":"ROUND('Import Tab'!F100,0)","v":0},{"$f":"ROUND('Import Tab'!I100*'Base Information'!$V$22,0)","v":2},{"$f":"ROUND('Import Tab'!H100*'Base Information'!$V$22,0)","v":4},{"$f":"ROUND('Import Tab'!G100*'Base Information'!$V$22,0)","v":0},{"$f":"ROUND('Import Tab'!J100,0)","v":0},{"$f":"ROUND('Import Tab'!M100*'Base Information'!$V$22,0)","v":0},{"$f":"ROUND('Import Tab'!L100*'Base Information'!$V$22,0)","v":0},{"$f":"ROUND('Import Tab'!K100*'Base Information'!$V$22,0)","v":2},{"$f":"ROUND('Import Tab'!N100,0)","v":0},{"$f":"ROUND('Import Tab'!Q100*'Base Information'!$V$22,0)","v":0},{"$f":"ROUND('Import Tab'!P100*'Base Information'!$V$22,0)","v":4},{"$f":"ROUND('Import Tab'!O100*'Base Information'!$V$22,0)","v":2},{"$f":"ROUND('Import Tab'!R100,0)","v":0}]
["14:45:01.757",{"$f":"ROUND('Import Tab'!E101*'Base Information'!$V$22,0)","v":0},{"$f":"ROUND('Import Tab'!D101*'Base Information'!$V$22,0)","v":0},{"$f":"ROUND('Import Tab'!C101*'Base Information'!$V$22,0)","v":0},{"$f":"ROUND('Import Tab'!F101,0)","v":0},{"$f":"ROUND('Import Tab'!I101*'Base Information'!$V$22,0)","v":1},{"$f":"ROUND('Import Tab'!H101*'Base Information'!$V$22,0)","v":10},{"$f":"ROUND('Import Tab'!G101*'Base Information'!$V$22,0)","v":0},{"$f":"ROUND('Import Tab'!J101,0)","v":0},{"$f":"ROUND('Import Tab'!M101*'Base Information'!$V$22,0)","v":2},{"$f":"ROUND('Import Tab'!L101*'Base Information'!$V$22,0)","v":0},{"$f":"ROUND('Import Tab'!K101*'Base Information'!$V$22,0)","v":0},{"$f":"ROUND('Import Tab'!N101,0)","v":0},{"$f":"ROUND('Import Tab'!Q101*'Base Information'!$V$22,0)","v":0},{"$f":"ROUND('Import Tab'!P101*'Base Information'!$V$22,0)","v":0},{"$f":"ROUND('Import Tab'!O101*'Base Information'!$V$22,0)","v":0},{"$f":"ROUND('Import Tab'!R101,0)","v":0}]
["15:00:01.786",{"$f":"ROUND('Import Tab'!E102*'Base Information'!$V$22,0)","v":0},{"$f":"ROUND('Import Tab'!D102*'Base Information'!$V$22,0)","v":0},{"$f":"ROUND('Import Tab'!C102*'Base Information'!$V$22,0)","v":0},{"$f":"ROUND('Import Tab'!F102,0)","v":0},{"$f":"ROUND('Import Tab'!I102*'Base Information'!$V$22,0)","v":14},{"$f":"ROUND('Import Tab'!H102*'Base Information'!$V$22,0)","v":117},{"$f":"ROUND('Import Tab'!G102*'Base Information'!$V$22,0)","v":0},{"$f":"ROUND('Import Tab'!J102,0)","v":0},{"$f":"ROUND('Import Tab'!M102*'Base Information'!$V$22,0)","v":49},{"$f":"ROUND('Import Tab'!L102*'Base Information'!$V$22,0)","v":1},{"$f":"ROUND('Import Tab'!K102*'Base Information'!$V$22,0)","v":85},{"$f":"ROUND('Import Tab'!N102,0)","v":0},{"$f":"ROUND('Import Tab'!Q102*'Base Information'!$V$22,0)","v":0},{"$f":"ROUND('Import Tab'!P102*'Base Information'!$V$22,0)","v":71},{"$f":"ROUND('Import Tab'!O102*'Base Information'!$V$22,0)","v":12},{"$f":"ROUND('Import Tab'!R102,0)","v":0},{"$f":"SUM(B102:D104)+SUM(F102:H104)+SUM(J102:L104)+SUM(N102:P104)+E104+I104+M104+Q104","v":381},{"$f":"B102+B103+B104","v":0},0,0,{"$f":"E102","v":0},{"$f":"E103","v":0},{"$f":"E104","v":0},{"$f":"F102+F103+F104","v":18},{"$f":"G102+G103+G104","v":127},{"$f":"H102+H103+H104","v":0},{"$f":"I102","v":0},{"$f":"I103","v":0},{"$f":"I104","v":0},{"$f":"J102+J103+J104","v":51},{"$f":"K102+K103+K104","v":1},{"$f":"L102+L103+L104","v":93},{"$f":"M102","v":0},{"$f":"M103","v":0},{"$f":"M104","v":0},{"$f":"N102+N103+N104","v":0},{"$f":"O102+O103+O104","v":77},{"$f":"P102+P103+P104","v":14},{"$f":"Q102","v":0},{"$f":"Q103","v":0},{"$f":"Q104","v":0},{"$f":"SUM(B102:D102)+SUM(F102:H102)+SUM(J102:L102)+SUM(N102:P102)+E104+I104+M104+Q104","v":349},{"$f":"B102","v":0},{"$f":"C102","v":0},{"$f":"D102","v":0},{"$f":"E102","v":0},{"$f":"F102","v":14},{"$f":"G102","v":117},{"$f":"H102","v":0},{"$f":"I102","v":0},{"$f":"J102","v":49},{"$f":"K102","v":1},{"$f":"L102","v":85},{"$f":"M102","v":0},{"$f":"N102","v":0},{"$f":"O102","v":71},{"$f":"P102","v":12},{"$f":"Q102","v":0},{"$f":"SUM(B103:D103)+SUM(F103:H103)+SUM(J103:L103)+SUM(N103:P103)","v":14},{"$f":"B103","v":0},{"$f":"C103","v":0},{"$f":"D103","v":0},{"$f":"E103","v":0},{"$f":"F103","v":2},{"$f":"G103","v":5},{"$f":"H103","v":0},{"$f":"I103","v":0},{"$f":"J103","v":0},{"$f":"K103","v":0},{"$f":"L103","v":4},{"$f":"M103","v":0},{"$f":"N103","v":0},{"$f":"O103","v":3},{"$f":"P103","v":0},{"$f":"Q103","v":0},{"$f":"SUM(B104:D104)+SUM(F104:H104)+SUM(J104:L104)+SUM(N104:P104)","v":18},{"$f":"B104","v":0},{"$f":"C104","v":0},{"$f":"D104","v":0},{"$f":"E104","v":0},{"$f":"F104","v":2},{"$f":"G104","v":5},{"$f":"H104","v":0},{"$f":"I104","v":0},{"$f":"J104","v":2},{"$f":"K104","v":0},{"$f":"L104","v":4},{"$f":"M104","v":0},{"$f":"N104","v":0},{"$f":"O104","v":3},{"$f":"P104","v":2},{"$f":"Q104","v":0},{"$f":"SUM(B102:D113,E104,E107,E110,E113,F102:H113,I104,I107,I110,I113,J102:L113,M104,M107,M110,M113,N102:P113,Q104,Q107,Q110,Q113)","v":1701},{"$f":"SUM(B102:B113)","v":0},{"$f":"SUM(C102:C113)","v":0},{"$f":"SUM(D102:D113)","v":0},{"$f":"SUM(E102+E105+E108+E111)","v":0},{"$f":"SUM(E103+E106+E109+E112)","v":0},{"$f":"SUM(E104+E107+E110+E113)","v":0},{"$f":"SUM(F102:F113)","v":67},{"$f":"SUM(G102:G113)","v":453},{"$f":"SUM(H102:H113)","v":0},{"$f":"SUM(I102+I105+I108+I111)","v":1},{"$f":"SUM(I103+I106+I109+I112)","v":0},{"$f":"SUM(I104+I107+I110+I113)","v":0},{"$f":"SUM(J102:J113)","v":285},{"$f":"SUM(K102:K113)","v":1},{"$f":"SUM(L102:L113)","v":412},{"$f":"SUM(M102+M105+M108+M111)","v":1},{"$f":"SUM(M103+M106+M109+M112)","v":0},{"$f":"SUM(M104+M107+M110+M113)","v":0},{"$f":"SUM(N102:N113)","v":0},{"$f":"SUM(O102:O113)","v":396},{"$f":"SUM(P102:P113)","v":87},{"$f":"SUM(Q102+Q105+Q108+Q111)","v":0},{"$f":"SUM(Q103+Q106+Q109+Q112)","v":0},{"$f":"SUM(Q104+Q107+Q110+Q113)","v":0},{"$f":"SUM(B102:D102)+SUM(B105:D105)+SUM(B108:D108)+SUM(B111:D111)+SUM(F102:H102)+SUM(F105:H105)+SUM(F108:H108)+SUM(F111:H111)+SUM(J102:L102)+SUM(J105:L105)+SUM(J108:L108)+SUM(J111:L111)+SUM(N102:P102)+SUM(N105:P105)+SUM(N108:P108)+SUM(N111:P111)+E104+E107+E110+E113+I104+I107+I110+I113+M104+M107+M110+M113+Q104+Q107+Q110+Q113","v":1587},{"$f":"SUM(B102,B105,B108,B111)","v":0},{"$f":"SUM(C102,C105,C108,C111)","v":0},{"$f":"SUM(D102,D105,D108,D111)","v":0},{"$f":"SUM(E102,E105,E108,E111)","v":0},{"$f":"SUM(F102,F105,F108,F111)","v":53},{"$f":"SUM(G102,G105,G108,G111)","v":431},{"$f":"SUM(H102,H105,H108,H111)","v":0},{"$f":"SUM(I102,I105,I108,I111)","v":1},{"$f":"SUM(J102,J105,J108,J111)","v":271},{"$f":"SUM(K102,K105,K108,K111)","v":1},{"$f":"SUM(L102,L105,L108,L111)","v":388},{"$f":"SUM(M102,M105,M108,M111)","v":1},{"$f":"SUM(N102,N105,N108,N111)","v":0},{"$f":"SUM(O102,O105,O108,O111)","v":364},{"$f":"SUM(P102,P105,P108,P111)","v":79},{"$f":"SUM(Q102,Q105,Q108,Q111)","v":0},{"$f":"SUM(B103:D103)+SUM(B106:D106)+SUM(B109:D109)+SUM(B112:D112)+SUM(F103:H103)+SUM(F106:H106)+SUM(F109:H109)+SUM(F112:H112)+SUM(J103:L103)+SUM(J106:L106)+SUM(J109:L109)+SUM(J112:L112)+SUM(N103:P103)+SUM(N106:P106)+SUM(N109:P109)+SUM(N112:P112)","v":63},{"$f":"SUM(B103,B106,B109,B112)","v":0},{"$f":"SUM(C103,C106,C109,C112)","v":0},{"$f":"SUM(D103,D106,D109,D112)","v":0},{"$f":"SUM(E103,E106,E109,E112)","v":0},{"$f":"SUM(F103,F106,F109,F112)","v":8},{"$f":"SUM(G103,G106,G109,G112)","v":12},{"$f":"SUM(H103,H106,H109,H112)","v":0},{"$f":"SUM(I103,I106,I109,I112)","v":0},{"$f":"SUM(J103,J106,J109,J112)","v":7},{"$f":"SUM(K103,K106,K109,K112)","v":0},{"$f":"SUM(L103,L106,L109,L112)","v":13},{"$f":"SUM(M103,M106,M109,M112)","v":0},{"$f":"SUM(N103,N106,N109,N112)","v":0},{"$f":"SUM(O103,O106,O109,O112)","v":22},{"$f":"SUM(P103,P106,P109,P112)","v":1},{"$f":"SUM(Q103,Q106,Q109,Q112)","v":0},{"$f":"SUM(B104:D104)+SUM(B107:D107)+SUM(B110:D110)+SUM(B113:D113)+SUM(F104:H104)+SUM(F107:H107)+SUM(F110:H110)+SUM(F113:H113)+SUM(J104:L104)+SUM(J107:L107)+SUM(J110:L110)+SUM(J113:L113)+SUM(N104:P104)+SUM(N107:P107)+SUM(N110:P110)+SUM(N113:P113)","v":51},{"$f":"SUM(B104,B107,B110,B113)","v":0},{"$f":"SUM(C104,C107,C110,C113)","v":0},{"$f":"SUM(D104,D107,D110,D113)","v":0},{"$f":"SUM(E104,E107,E110,E113)","v":0},{"$f":"SUM(F104,F107,F110,F113)","v":6},{"$f":"SUM(G104,G107,G110,G113)","v":10},{"$f":"SUM(H104,H107,H110,H113)","v":0},{"$f":"SUM(I104,I107,I110,I113)","v":0},{"$f":"SUM(J104,J107,J110,J113)","v":7},{"$f":"SUM(K104,K107,K110,K113)","v":0},{"$f":"SUM(L104,L107,L110,L113)","v":11},{"$f":"SUM(M104,M107,M110,M113)","v":0},{"$f":"SUM(N104,N107,N110,N113)","v":0},{"$f":"SUM(O104,O107,O110,O113)","v":10},{"$f":"SUM(P104,P107,P110,P113)","v":7},{"$f":"SUM(Q104,Q107,Q110,Q113)","v":0}]
["15:00:01.786",{"$f":"ROUND('Import Tab'!E103*'Base Information'!$V$22,0)","v":0},{"$f":"ROUND('Import Tab'!D103*'Base Information'!$V$22,0)","v":0},{"$f":"ROUND('Import Tab'!C103*'Base Information'!$V$22,0)","v":0},{"$f":"ROUND('Import Tab'!F103,0)","v":0},{"$f":"ROUND('Import Tab'!I103*'Base Information'!$V$22,0)","v":2},{"$f":"ROUND('Import Tab'!H103*'Base Information'!$V$22,0)","v":5},{"$f":"ROUND('Import Tab'!G103*'Base Information'!$V$22,0)","v":0},{"$f":"ROUND('Import Tab'!J103,0)","v":0},{"$f":"ROUND('Import Tab'!M103*'Base Information'!$V$22,0)","v":0},{"$f":"ROUND('Import Tab'!L103*'Base Information'!$V$22,0)","v":0},{"$f":"ROUND('Import Tab'!K103*'Base Information'!$V$22,0)","v":4},{"$f":"ROUND('Import Tab'!N103,0)","v":0},{"$f":"ROUND('Import Tab'!Q103*'Base Information'!$V$22,0)","v":0},{"$f":"ROUND('Import Tab'!P103*'Base Information'!$V$22,0)","v":3},{"$f":"ROUND('Import Tab'!O103*'Base Information'!$V$22,0)","v":0},{"$f":"ROUND('Import Tab'!R103,0)","v":0}]
["15:00:01.786",{"$f":"ROUND('Import Tab'!E104*'Base Information'!$V$22,0)","v":0},{"$f":"ROUND('Import Tab'!D104*'Base Information'!$V$22,0)","v":0},{"$f":"ROUND('Import Tab'!C104*'Base Information'!$V$22,0)","v":0},{"$f":"ROUND('Import Tab'!F104,0)","v":0},{"$f":"ROUND('Import Tab'!I104*'Base Information'!$V$22,0)","v":2},{"$f":"ROUND('Import Tab'!H104*'Base Information'!$V$22,0)","v":5},{"$f":"ROUND('Import Tab'!G104*'Base Information'!$V$22,0)","v":0},{"$f":"ROUND('Import Tab'!J104,0)","v":0},{"$f":"ROUND('Import Tab'!M104*'Base Information'!$V$22,0)","v":2},{"$f":"ROUND('Import Tab'!L104*'Base Information'!$V$22,0)","v":0},{"$f":"ROUND('Import Tab'!K104*'Base Information'!$V$22,0)","v":4},{"$f":"ROUND('Import Tab'!N104,0)","v":0},{"$f":"ROUND('Import Tab'!Q104*'Base Information'!$V$22,0)","v":0},{"$f":"ROUND('Import Tab'!P104*'Base Information'!$V$22,0)","v":3},{"$f":"ROUND('Import Tab'!O104*'Base Information'!$V$22,0)","v":2},{"$f":"ROUND('Import Tab'!R104,0)","v":0}]
["15:15:01.814",{"$f":"ROUND('Import Tab'!E105*'Base Information'!$V$22,0)","v":0},{"$f":"ROUND('Import Tab'!D105*'Base Information'!$V$22,0)","v":0},{"$f":"ROUND('Import Tab'!C105*'Base Information'!$V$22,0)","v":0},{"$f":"ROUND('Import Tab'!F105,0)","v":0},{"$f":"ROUND('Import Tab'!I105*'Base Information'!$V$22,0)","v":9},{"$f":"ROUND('Import Tab'!H105*'Base Information'!$V$22,0)","v":110},{"$f":"ROUND('Import Tab'!G105*'Base Information'!$V$22,0)","v":0},{"$f":"ROUND('Import Tab'!J105,0)","v":0},{"$f":"ROUND('Import Tab'!M105*'Base Information'!$V$22,0)","v":77},{"$f":"ROUND('Import Tab'!L105*'Base Information'!$V$22,0)","v":0},{"$f":"ROUND('Import Tab'!K105*'Base Information'!$V$22,0)","v":112},{"$f":"ROUND('Import Tab'!N105,0)","v":0},{"$f":"ROUND('Import Tab'!Q105*'Base Information'!$V$22,0)","v":0},{"$f":"ROUND('Import Tab'!P105*'Base Information'!$V$22,0)","v":82},{"$f":"ROUND('Import Tab'!O105*'Base Information'!$V$22,0)","v":8},{"$f":"ROUND('Import Tab'!R105,0)","v":0},{"$f":"SUM(B105:D107)+SUM(F105:H107)+SUM(J105:L107)+SUM(N105:P107)+E107+I107+M107+Q107","v":423},{"$f":"B105+B106+B107","v":0},0,0,{"$f":"E105","v":0},{"$f":"E106","v":0},{"$f":"E107","v":0},{"$f":"F105+F106+F107","v":12},{"$f":"G105+G106+G107","v":114},{"$f":"H105+H106+H107","v":0},{"$f":"I105","v":0},{"$f":"I106","v":0},{"$f":"I107","v":0},{"$f":"J105+J106+J107","v":79},{"$f":"K105+K106+K107","v":0},{"$f":"L105+L106+L107","v":119},{"$f":"M105","v":0},{"$f":"M106","v":0},{"$f":"M107","v":0},{"$f":"N105+N106+N107","v":0},{"$f":"O105+O106+O107","v":90},{"$f":"P105+P106+P107","v":9},{"$f":"Q105","v":0},{"$f":"Q106","v":0},{"$f":"Q107","v":0},{"$f":"SUM(B105:D105)+SUM(F105:H105)+SUM(J105:L105)+SUM(N105:P105)+E107+I107+M107+Q107","v":398},{"$f":"B105","v":0},{"$f":"C105","v":0},{"$f":"D105","v":0},{"$f":"E105","v":0},{"$f":"F105","v":9},{"$f":"G105","v":110},{"$f":"H105","v":0},{"$f":"I105","v":0},{"$f":"J105","v":77},{"$f":"K105","v":0},{"$f":"L105","v":112},{"$f":"M105","v":0},{"$f":"N105","v":0},{"$f":"O105","v":82},{"$f":"P105","v":8},{"$f":"Q105","v":0},{"$f":"SUM(B106:D106)+SUM(F106:H106)+SUM(J106:L106)+SUM(N106:P106)","v":16},{"$f":"B106","v":0},{"$f":"C106","v":0},{"$f":"D106","v":0},{"$f":"E106","v":0},{"$f":"F106","v":2},{"$f":"G106","v":4},{"$f":"H106","v":0},{"$f":"I106","v":0},{"$f":"J106","v":2},{"$f":"K106","v":0},{"$f":"L106","v":1},{"$f":"M106","v":0},{"$f":"N106","v":0},{"$f":"O106","v":7},{"$f":"P106","v":0},{"$f":"Q106","v":0},{"$f":"SUM(B107:D107)+SUM(F107:H107)+SUM(J107:L107)+SUM(N107:P107)","v":9},{"$f":"B107","v":0},{"$f":"C107","v":0},{"$f":"D107","v":0},{"$f":"E107","v":0},{"$f":"F107","v":1},{"$f":"G107","v":0},{"$f":"H107","v":0},{"$f":"I107","v":0},{"$f":"J107","v":0},{"$f":"K107","v":0},{"$f":"L107","v":6},{"$f":"M107","v":0},{"$f":"N107","v":0},{"$f":"O107","v":1},{"$f":"P107","v":1},{"$f":"Q107","v":0},{"$f":"SUM(B105:D116,E107,E110,E113,E116,F105:H116,I107,I110,I113,I116,J105:L116,M107,M110,M113,M116,N105:P116,Q107,Q110,Q113,Q116)","v":1749},{"$f":"SUM(B105:B116)","v":0},{"$f":"SUM(C105:C116)","v":0},{"$f":"SUM(D105:D116)","v":0},{"$f":"SUM(E105+E108+E111+E114)","v":0},{"$f":"SUM(E106+E109+E112+E115)","v":0},{"$f":"SUM(E107+E110+E113+E116)","v":0},{"$f":"SUM(F105:F116)","v":65},{"$f":"SUM(G105:G116)","v":443},{"$f":"SUM(H105:H116)","v":0},{"$f":"SUM(I105+I108+I111+I114)","v":2},{"$f":"SUM(I106+I109+I112+I115)","v":0},{"$f":"SUM(I107+I110+I113+I116)","v":0},{"$f":"SUM(J105:J116)","v":303},{"$f":"SUM(K105:K116)","v":0},{"$f":"SUM(L105:L116)","v":440},{"$f":"SUM(M105+M108+M111+M114)","v":1},{"$f":"SUM(M106+M109+M112+M115)","v":0},{"$f":"SUM(M107+M110+M113+M116)","v":0},{"$f":"SUM(N105:N116)","v":0},{"$f":"SUM(O105:O116)","v":410},{"$f":"SUM(P105:P116)","v":88},{"$f":"SUM(Q105+Q108+Q111+Q114)","v":0},{"$f":"SUM(Q106+Q109+Q112+Q115)","v":0},{"$f":"SUM(Q107+Q110+Q113+Q116)","v":0},{"$f":"SUM(B105:D105)+SUM(B108:D108)+SUM(B111:D111)+SUM(B114:D114)+SUM(F105:H105)+SUM(F108:H108)+SUM(F111:H111)+SUM(F114:H114)+SUM(J105:L105)+SUM(J108:L108)+SUM(J111:L111)+SUM(J114:L114)+SUM(N105:P105)+SUM(N108:P108)+SUM(N111:P111)+SUM(N114:P114)+E107+E110+E113+E116+I107+I110+I113+I116+M107+M110+M113+M116+Q107+Q110+Q113+Q116","v":1638},{"$f":"SUM(B105,B108,B111,B114)","v":0},{"$f":"SUM(C105,C108,C111,C114)","v":0},{"$f":"SUM(D105,D108,D111,D114)","v":0},{"$f":"SUM(E105,E108,E111,E114)","v":0},{"$f":"SUM(F105,F108,F111,F114)","v":51},{"$f":"SUM(G105,G108,G111,G114)","v":426},{"$f":"SUM(H105,H108,H111,H114)","v":0},{"$f":"SUM(I105,I108,I111,I114)","v":2},{"$f":"SUM(J105,J108,J111,J114)","v":288},{"$f":"SUM(K105,K108,K111,K114)","v":0},{"$f":"SUM(L105,L108,L111,L114)","v":413},{"$f":"SUM(M105,M108,M111,M114)","v":1},{"$f":"SUM(N105,N108,N111,N114)","v":0},{"$f":"SUM(O105,O108,O111,O114)","v":378},{"$f":"SUM(P105,P108,P111,P114)","v":82},{"$f":"SUM(Q105,Q108,Q111,Q114)","v":0},{"$f":"SUM(B106:D106)+SUM(B109:D109)+SUM(B112:D112)+SUM(B115:D115)+SUM(F106:H106)+SUM(F109:H109)+SUM(F112:H112)+SUM(F115:H115)+SUM(J106:L106)+SUM(J109:L109)+SUM(J112:L112)+SUM(J115:L115)+SUM(N106:P106)+SUM(N109:P109)+SUM(N112:P112)+SUM(N115:P115)","v":65},{"$f":"SUM(B106,B109,B112,B115)","v":0},{"$f":"SUM(C106,C109,C112,C115)","v":0},{"$f":"SUM(D106,D109,D112,D115)","v":0},{"$f":"SUM(E106,E109,E112,E115)","v":0},{"$f":"SUM(F106,F109,F112,F115)","v":8},{"$f":"SUM(G106,G109,G112,G115)","v":9},{"$f":"SUM(H106,H109,H112,H115)","v":0},{"$f":"SUM(I106,I109,I112,I115)","v":0},{"$f":"SUM(J106,J109,J112,J115)","v":7},{"$f":"SUM(K106,K109,K112,K115)","v":0},{"$f":"SUM(L106,L109,L112,L115)","v":18},{"$f":"SUM(M106,M109,M112,M115)","v":0},{"$f":"SUM(N106,N109,N112,N115)","v":0},{"$f":"SUM(O106,O109,O112,O115)","v":22},{"$f":"SUM(P106,P109,P112,P115)","v":1},{"$f":"SUM(Q106,Q109,Q112,Q115)","v":0},{"$f":"SUM(B107:D107)+SUM(B110:D110)+SUM(B113:D113)+SUM(B116:D116)+SUM(F107:H107)+SUM(F110:H110)+SUM(F113:H113)+SUM(F116:H116)+SUM(J107:L107)+SUM(J110:L110)+SUM(J113:L113)+SUM(J116:L116)+SUM(N107:P107)+SUM(N110:P110)+SUM(N113:P113)+SUM(N116:P116)","v":46},{"$f":"SUM(B107,B110,B113,B116)","v":0},{"$f":"SUM(C107,C110,C113,C116)","v":0},{"$f":"SUM(D107,D110,D113,D116)","v":0},{"$f":"SUM(E107,E110,E113,E116)","v":0},{"$f":"SUM(F107,F110,F113,F116)","v":6},{"$f":"SUM(G107,G110,G113,G116)","v":8},{"$f":"SUM(H107,H110,H113,H116)","v":0},{"$f":"SUM(I107,I110,I113,I116)","v":0},{"$f":"SUM(J107,J110,J113,J116)","v":8},{"$f":"SUM(K107,K110,K113,K116)","v":0},{"$f":"SUM(L107,L110,L113,L116)","v":9},{"$f":"SUM(M107,M110,M113,M116)","v":0},{"$f":"SUM(N107,N110,N113,N116)","v":0},{"$f":"SUM(O107,O110,O113,O116)","v":10},{"$f":"SUM(P107,P110,P113,P116)","v":5},{"$f":"SUM(Q107,Q110,Q113,Q116)","v":0}]
["15:15:01.814",{"$f":"ROUND('Import Tab'!E106*'Base Information'!$V$22,0)","v":0},{"$f":"ROUND('Import Tab'!D106*'Base Information'!$V$22,0)","v":0},{"$f":"ROUND('Import Tab'!C106*'Base Information'!$V$22,0)","v":0},{"$f":"ROUND('Import Tab'!F106,0)","v":0},{"$f":"ROUND('Import Tab'!I106*'Base Information'!$V$22,0)","v":2},{"$f":"ROUND('Import Tab'!H106*'Base Information'!$V$22,0)","v":4},{"$f":"ROUND('Import Tab'!G106*'Base Information'!$V$22,0)","v":0},{"$f":"ROUND('Import Tab'!J106,0)","v":0},{"$f":"ROUND('Import Tab'!M106*'Base Information'!$V$22,0)","v":2},{"$f":"ROUND('Import Tab'!L106*'Base Information'!$V$22,0)","v":0},{"$f":"ROUND('Import Tab'!K106*'Base Information'!$V$22,0)","v":1},{"$f":"ROUND('Import Tab'!N106,0)","v":0},{"$f":"ROUND('Import Tab'!Q106*'Base Information'!$V$22,0)","v":0},{"$f":"ROUND('Import Tab'!P106*'Base Information'!$V$22,0)","v":7},{"$f":"ROUND('Import Tab'!O106*'Base Information'!$V$22,0)","v":0},{"$f":"ROUND('Import Tab'!R106,0)","v":0}]
["15:15:01.814",{"$f":"ROUND('Import Tab'!E107*'Base Information'!$V$22,0)","v":0},{"$f":"ROUND('Import Tab'!D107*'Base Information'!$V$22,0)","v":0},{"$f":"ROUND('Import Tab'!C107*'Base Information'!$V$22,0)","v":0},{"$f":"ROUND('Import Tab'!F107,0)","v":0},{"$f":"ROUND('Import Tab'!I107*'Base Information'!$V$22,0)","v":1},{"$f":"ROUND('Import Tab'!H107*'Base Information'!$V$22,0)","v":0},{"$f":"ROUND('Import Tab'!G107*'Base Information'!$V$22,0)","v":0},{"$f":"ROUND('Import Tab'!J107,0)","v":0},{"$f":"ROUND('Import Tab'!M107*'Base Information'!$V$22,0)","v":0},{"$f":"ROUND('Import Tab'!L107*'Base Information'!$V$22,0)","v":0},{"$f":"ROUND('Import Tab'!K107*'Base Information'!$V$22,0)","v":6},{"$f":"ROUND('Import Tab'!N107,0)","v":0},{"$f":"ROUND('Import Tab'!Q107*'Base Information'!$V$22,0)","v":0},{"$f":"ROUND('Import Tab'!P107*'Base Information'!$V$22,0)","v":1},{"$f":"ROUND('Import Tab'!O107*'Base Information'!$V$22,0)","v":1},{"$f":"ROUND('Import Tab'!R107,0)","v":0}]
["15:30:01.843",{"$f":"ROUND('Import Tab'!E108*'Base Information'!$V$22,0)","v":0},{"$f":"ROUND('Import Tab'!D108*'Base Information'!$V$22,0)","v":0},{"$f":"ROUND('Import Tab'!C108*'Base Information'!$V$22,0)","v":0},{"$f":"ROUND('Import Tab'!F108,0)","v":0},{"$f":"ROUND('Import Tab'!I108*'Base Information'!$V$22,0)","v":13},{"$f":"ROUND('Import Tab'!H108*'Base Information'!$V$22,0)","v":100},{"$f":"ROUND('Import Tab'!G108*'Base Information'!$V$22,0)","v":0},{"$f":"ROUND('Import Tab'!J108,0)","v":0},{"$f":"ROUND('Import Tab'!M108*'Base Information'!$V$22,0)","v":70},{"$f":"ROUND('Import Tab'!L108*'Base Information'!$V$22,0)","v":0},{"$f":"ROUND('Import Tab'!K108*'Base Information'!$V$22,0)","v":85},{"$f":"ROUND('Import Tab'!N108,0)","v":0},{"$f":"ROUND('Import Tab'!Q108*'Base Information'!$V$22,0)","v":0},{"$f":"ROUND('Import Tab'!P108*'Base Information'!$V$22,0)","v":112},{"$f":"ROUND('Import Tab'!O108*'Base Information'!$V$22,0)","v":29},{"$f":"ROUND('Import Tab'!R108,0)","v":0},{"$f":"SUM(B108:D110)+SUM(F108:H110)+SUM(J108:L110)+SUM(N108:P110)+E110+I110+M110+Q110","v":435},{"$f":"B108+B109+B110","v":0},0,0,{"$f":"E108","v":0},{"$f":"E109","v":0},{"$f":"E110","v":0},{"$f":"F108+F109+F110","v":14},{"$f":"G108+G109+G110","v":102},{"$f":"H108+H109+H110","v":0},{"$f":"I108","v":0},{"$f":"I109","v":0},{"$f":"I110","v":0},{"$f":"J108+J109+J110","v":75},{"$f":"K108+K109+K110","v":0},{"$f":"L108+L109+L110","v":91},{"$f":"M108","v":0},{"$f":"M109","v":0},{"$f":"M110","v":0},{"$f":"N108+N109+N110","v":0},{"$f":"O108+O109+O110","v":120},{"$f":"P108+P109+P110","v":33},{"$f":"Q108","v":0},{"$f":"Q109","v":0},{"$f":"Q110","v":0},{"$f":"SUM(B108:D108)+SUM(F108:H108)+SUM(J108:L108)+SUM(N108:P108)+E110+I110+M110+Q110","v":409},{"$f":"B108","v":0},{"$f":"C108","v":0},{"$f":"D108","v":0},{"$f":"E108","v":0},{"$f":"F108","v":13},{"$f":"G108","v":100},{"$f":"H108","v":0},{"$f":"I108","v":0},{"$f":"J108","v":70},{"$f":"K108","v":0},{"$f":"L108","v":85},{"$f":"M108","v":0},{"$f":"N108","v":0},{"$f":"O108","v":112},{"$f":"P108","v":29},{"$f":"Q108","v":0},{"$f":"SUM(B109:D109)+SUM(F109:H109)+SUM(J109:L109)+SUM(N109:P109)","v":13},{"$f":"B109","v":0},{"$f":"C109","v":0},{"$f":"D109","v":0},{"$f":"E109","v":0},{"$f":"F109","v":1},{"$f":"G109","v":1},{"$f":"H109","v":0},{"$f":"I109","v":0},{"$f":"J109","v":1},{"$f":"K109","v":0},{"$f":"L109","v":5},{"$f":"M109","v":0},{"$f":"N109","v":0},{"$f":"O109","v":4},{"$f":"P109","v":1},{"$f":"Q109","v":0},{"$f":"SUM(B110:D110)+SUM(F110:H110)+SUM(J110:L110)+SUM(N110:P110)","v":13},{"$f":"B110","v":0},{"$f":"C110","v":0},{"$f":"D110","v":0},{"$f":"E110","v":0},{"$f":"F110","v":0},{"$f":"G110","v":1},{"$f":"H110","v":0},{"$f":"I110","v":0},{"$f":"J110","v":4},{"$f":"K110","v":0},{"$f":"L110","v":1},{"$f":"M110","v":0},{"$f":"N110","v":0},{"$f":"O110","v":4},{"$f":"P110","v":3},{"$f":"Q110","v":0},{"$f":"SUM(B108:D119,E110,E113,E116,E119,F108:H119,I110,I113,I116,I119,J108:L119,M110,M113,M116,M119,N108:P119,Q110,Q113,Q116,Q119)","v":1793},{"$f":"SUM(B108:B119)","v":0},{"$f":"SUM(C108:C119)","v":0},{"$f":"SUM(D108:D119)","v":0},{"$f":"SUM(E108+E111+E114+E117)","v":0},{"$f":"SUM(E109+E112+E115+E118)","v":0},{"$f":"SUM(E110+E113+E116+E119)","v":0},{"$f":"SUM(F108:F119)","v":72},{"$f":"SUM(G108:G119)","v":483},{"$f":"SUM(H108:H119)","v":0},{"$f":"SUM(I108+I111+I114+I117)","v":2},{"$f":"SUM(I109+I112+I115+I118)","v":1},{"$f":"SUM(I110+I113+I116+I119)","v":0},{"$f":"SUM(J108:J119)","v":300},{"$f":"SUM(K108:K119)","v":0},{"$f":"SUM(L108:L119)","v":415},{"$f":"SUM(M108+M111+M114+M117)","v":1},{"$f":"SUM(M109+M112+M115+M118)","v":0},{"$f":"SUM(M110+M113+M116+M119)","v":0},{"$f":"SUM(N108:N119)","v":0},{"$f":"SUM(O108:O119)","v":432},{"$f":"SUM(P108:P119)","v":91},{"$f":"SUM(Q108+Q111+Q114+Q117)","v":0},{"$f":"SUM(Q109+Q112+Q115+Q118)","v":0},{"$f":"SUM(Q110+Q113+Q116+Q119)","v":0},{"$f":"SUM(B108:D108)+SUM(B111:D111)+SUM(B114:D114)+SUM(B117:D117)+SUM(F108:H108)+SUM(F111:H111)+SUM(F114:H114)+SUM(F117:H117)+SUM(J108:L108)+SUM(J111:L111)+SUM(J114:L114)+SUM(J117:L117)+SUM(N108:P108)+SUM(N111:P111)+SUM(N114:P114)+SUM(N117:P117)+E110+E113+E116+E119+I110+I113+I116+I119+M110+M113+M116+M119+Q110+Q113+Q116+Q119","v":1688},{"$f":"SUM(B108,B111,B114,B117)","v":0},{"$f":"SUM(C108,C111,C114,C117)","v":0},{"$f":"SUM(D108,D111,D114,D117)","v":0},{"$f":"SUM(E108,E111,E114,E117)","v":0},{"$f":"SUM(F108,F111,F114,F117)","v":55},{"$f":"SUM(G108,G111,G114,G117)","v":465},{"$f":"SUM(H108,H111,H114,H117)","v":0},{"$f":"SUM(I108,I111,I114,I117)","v":2},{"$f":"SUM(J108,J111,J114,J117)","v":285},{"$f":"SUM(K108,K111,K114,K117)","v":0},{"$f":"SUM(L108,L111,L114,L117)","v":392},{"$f":"SUM(M108,M111,M114,M117)","v":1},{"$f":"SUM(N108,N111,N114,N117)","v":0},{"$f":"SUM(O108,O111,O114,O117)","v":405},{"$f":"SUM(P108,P111,P114,P117)","v":86},{"$f":"SUM(Q108,Q111,Q114,Q117)","v":0},{"$f":"SUM(B109:D109)+SUM(B112:D112)+SUM(B115:D115)+SUM(B118:D118)+SUM(F109:H109)+SUM(F112:H112)+SUM(F115:H115)+SUM(F118:H118)+SUM(J109:L109)+SUM(J112:L112)+SUM(J115:L115)+SUM(J118:L118)+SUM(N109:P109)+SUM(N112:P112)+SUM(N115:P115)+SUM(N118:P118)","v":59},{"$f":"SUM(B109,B112,B115,B118)","v":0},{"$f":"SUM(C109,C112,C115,C118)","v":0},{"$f":"SUM(D109,D112,D115,D118)","v":0},{"$f":"SUM(E109,E112,E115,E118)","v":0},{"$f":"SUM(F109,F112,F115,F118)","v":10},{"$f":"SUM(G109,G112,G115,G118)","v":10},{"$f":"SUM(H109,H112,H115,H118)","v":0},{"$f":"SUM(I109,I112,I115,I118)","v":1},{"$f":"SUM(J109,J112,J115,J118)","v":5},{"$f":"SUM(K109,K112,K115,K118)","v":0},{"$f":"SUM(L109,L112,L115,L118)","v":17},{"$f":"SUM(M109,M112,M115,M118)","v":0},{"$f":"SUM(N109,N112,N115,N118)","v":0},{"$f":"SUM(O109,O112,O115,O118)","v":16},{"$f":"SUM(P109,P112,P115,P118)","v":1},{"$f":"SUM(Q109,Q112,Q115,Q118)","v":0},{"$f":"SUM(B110:D110)+SUM(B113:D113)+SUM(B116:D116)+SUM(B119:D119)+SUM(F110:H110)+SUM(F113:H113)+SUM(F116:H116)+SUM(F119:H119)+SUM(J110:L110)+SUM(J113:L113)+SUM(J116:L116)+SUM(J119:L119)+SUM(N110:P110)+SUM(N113:P113)+SUM(N116:P116)+SUM(N119:P119)","v":46},{"$f":"SUM(B110,B113,B116,B119)","v":0},{"$f":"SUM(C110,C113,C116,C119)","v":0},{"$f":"SUM(D110,D113,D116,D119)","v":0},{"$f":"SUM(E110,E113,E116,E119)","v":0},{"$f":"SUM(F110,F113,F116,F119)","v":7},{"$f":"SUM(G110,G113,G116,G119)","v":8},{"$f":"SUM(H110,H113,H116,H119)","v":0},{"$f":"SUM(I110,I113,I116,I119)","v":0},{"$f":"SUM(J110,J113,J116,J119)","v":10},{"$f":"SUM(K110,K113,K116,K119)","v":0},{"$f":"SUM(L110,L113,L116,L119)","v":6},{"$f":"SUM(M110,M113,M116,M119)","v":0},{"$f":"SUM(N110,N113,N116,N119)","v":0},{"$f":"SUM(O110,O113,O116,O119)","v":11},{"$f":"SUM(P110,P113,P116,P119)","v":4},{"$f":"SUM(Q110,Q113,Q116,Q119)","v":0}]
["15:30:01.843",{"$f":"ROUND('Import Tab'!E109*'Base Information'!$V$22,0)","v":0},{"$f":"ROUND('Import Tab'!D109*'Base Information'!$V$22,0)","v":0},{"$f":"ROUND('Import Tab'!C109*'Base Information'!$V$22,0)","v":0},{"$f":"ROUND('Import Tab'!F109,0)","v":0},{"$f":"ROUND('Import Tab'!I109*'Base Information'!$V$22,0)","v":1},{"$f":"ROUND('Import Tab'!H109*'Base Information'!$V$22,0)","v":1},{"$f":"ROUND('Import Tab'!G109*'Base Information'!$V$22,0)","v":0},{"$f":"ROUND('Import Tab'!J109,0)","v":0},{"$f":"ROUND('Import Tab'!M109*'Base Information'!$V$22,0)","v":1},{"$f":"ROUND('Import Tab'!L109*'Base Information'!$V$22,0)","v":0},{"$f":"ROUND('Import Tab'!K109*'Base Information'!$V$22,0)","v":5},{"$f":"ROUND('Import Tab'!N109,0)","v":0},{"$f":"ROUND('Import Tab'!Q109*'Base Information'!$V$22,0)","v":0},{"$f":"ROUND('Import Tab'!P109*'Base Information'!$V$22,0)","v":4},{"$f":"ROUND('Import Tab'!O109*'Base Information'!$V$22,0)","v":1},{"$f":"ROUND('Import Tab'!R109,0)","v":0}]
["15:30:01.843",{"$f":"ROUND('Import Tab'!E110*'Base Information'!$V$22,0)","v":0},{"$f":"ROUND('Import Tab'!D110*'Base Information'!$V$22,0)","v":0},{"$f":"ROUND('Import Tab'!C110*'Base Information'!$V$22,0)","v":0},{"$f":"ROUND('Import Tab'!F110,0)","v":0},{"$f":"ROUND('Import Tab'!I110*'Base Information'!$V$22,0)","v":0},{"$f":"ROUND('Import Tab'!H110*'Base Information'!$V$22,0)","v":1},{"$f":"ROUND('Import Tab'!G110*'Base Information'!$V$22,0)","v":0},{"$f":"ROUND('Import Tab'!J110,0)","v":0},{"$f":"ROUND('Import Tab'!M110*'Base Information'!$V$22,0)","v":4},{"$f":"ROUND('Import Tab'!L110*'Base Information'!$V$22,0)","v":0},{"$f":"ROUND('Import Tab'!K110*'Base Information'!$V$22,0)","v":1},{"$f":"ROUND('Import Tab'!N110,0)","v":0},{"$f":"ROUND('Import Tab'!Q110*'Base Information'!$V$22,0)","v":0},{"$f":"ROUND('Import Tab'!P110*'Base Information'!$V$22,0)","v":4},{"$f":"ROUND('Import Tab'!O110*'Base Information'!$V$22,0)","v":3},{"$f":"ROUND('Import Tab'!R110,0)","v":0}]
["15:45:01.872",{"$f":"ROUND('Import Tab'!E111*'Base Information'!$V$22,0)","v":0},{"$f":"ROUND('Import Tab'!D111*'Base Information'!$V$22,0)","v":0},{"$f":"ROUND('Import Tab'!C111*'Base Information'!$V$22,0)","v":0},{"$f":"ROUND('Import Tab'!F111,0)","v":0},{"$f":"ROUND('Import Tab'!I111*'Base Information'!$V$22,0)","v":17},{"$f":"ROUND('Import Tab'!H111*'Base Information'!$V$22,0)","v":104},{"$f":"ROUND('Import Tab'!G111*'Base Information'!$V$22,0)","v":0},{"$f":"ROUND('Import Tab'!J111,0)","v":1},{"$f":"ROUND('Import Tab'!M111*'Base Information'!$V$22,0)","v":75},{"$f":"ROUND('Import Tab'!L111*'Base Information'!$V$22,0)","v":0},{"$f":"ROUND('Import Tab'!K111*'Base Information'!$V$22,0)","v":106},{"$f":"ROUND('Import Tab'!N111,0)","v":1},{"$f":"ROUND('Import Tab'!Q111*'Base Information'!$V$22,0)","v":0},{"$f":"ROUND('Import Tab'!P111*'Base Information'!$V$22,0)","v":99},{"$f":"ROUND('Import Tab'!O111*'Base Information'!$V$22,0)","v":30},{"$f":"ROUND('Import Tab'!R111,0)","v":0},{"$f":"SUM(B111:D113)+SUM(F111:H113)+SUM(J111:L113)+SUM(N111:P113)+E113+I113+M113+Q113","v":462},{"$f":"B111+B112+B113","v":0},0,0,{"$f":"E111","v":0},{"$f":"E112","v":0},{"$f":"E113","v":0},{"$f":"F111+F112+F113","v":23},{"$f":"G111+G112+G113","v":110},{"$f":"H111+H112+H113","v":0},{"$f":"I111","v":1},{"$f":"I112","v":0},{"$f":"I113","v":0},{"$f":"J111+J112+J113","v":80},{"$f":"K111+K112+K113","v":0},{"$f":"L111+L112+L113","v":109},{"$f":"M111","v":1},{"$f":"M112","v":0},{"$f":"M113","v":0},{"$f":"N111+N112+N113","v":0},{"$f":"O111+O112+O113","v":109},{"$f":"P111+P112+P113","v":31},{"$f":"Q111","v":0},{"$f":"Q112","v":0},{"$f":"Q113","v":0},{"$f":"SUM(B111:D111)+SUM(F111:H111)+SUM(J111:L111)+SUM(N111:P111)+E113+I113+M113+Q113","v":431},{"$f":"B111","v":0},{"$f":"C111","v":0},{"$f":"D111","v":0},{"$f":"E111","v":0},{"$f":"F111","v":17},{"$f":"G111","v":104},{"$f":"H111","v":0},{"$f":"I111","v":1},{"$f":"J111","v":75},{"$f":"K111","v":0},{"$f":"L111","v":106},{"$f":"M111","v":1},{"$f":"N111","v":0},{"$f":"O111","v":99},{"$f":"P111","v":30},{"$f":"Q111","v":0},{"$f":"SUM(B112:D112)+SUM(F112:H112)+SUM(J112:L112)+SUM(N112:P112)","v":20},{"$f":"B112","v":0},{"$f":"C112","v":0},{"$f":"D112","v":0},{"$f":"E112","v":0},{"$f":"F112","v":3},{"$f":"G112","v":2},{"$f":"H112","v":0},{"$f":"I112","v":0},{"$f":"J112","v":4},{"$f":"K112","v":0},{"$f":"L112","v":3},{"$f":"M112","v":0},{"$f":"N112","v":0},{"$f":"O112","v":8},{"$f":"P112","v":0},{"$f":"Q112","v":0},{"$f":"SUM(B113:D113)+SUM(F113:H113)+SUM(J113:L113)+SUM(N113:P113)","v":11},{"$f":"B113","v":0},{"$f":"C113","v":0},{"$f":"D113","v":0},{"$f":"E113","v":0},{"$f":"F113","v":3},{"$f":"G113","v":4},{"$f":"H113","v":0},{"$f":"I113","v":0},{"$f":"J113","v":1},{"$f":"K113","v":0},{"$f":"L113","v":0},{"$f":"M113","v":0},{"$f":"N113","v":0},{"$f":"O113","v":2},{"$f":"P113","v":1},{"$f":"Q113","v":0},{"$f":"SUM(B111:D122,E113,E116,E119,E122,F111:H122,I113,I116,I119,I122,J111:L122,M113,M116,M119,M122,N111:P122,Q113,Q116,Q119,Q122)","v":1884},{"$f":"SUM(B111:B122)","v":0},{"$f":"SUM(C111:C122)","v":0},{"$f":"SUM(D111:D122)","v":0},{"$f":"SUM(E111+E114+E117+E120)","v":0},{"$f":"SUM(E112+E115+E118+E121)","v":0},{"$f":"SUM(E113+E116+E119+E122)","v":0},{"$f":"SUM(F111:F122)","v":74},{"$f":"SUM(G111:G122)","v":536},{"$f":"SUM(H111:H122)","v":0},{"$f":"SUM(I111+I114+I117+I120)","v":4},{"$f":"SUM(I112+I115+I118+I121)","v":1},{"$f":"SUM(I113+I116+I119+I122)","v":0},{"$f":"SUM(J111:J122)","v":316},{"$f":"SUM(K111:K122)","v":0},{"$f":"SUM(L111:L122)","v":446},{"$f":"SUM(M111+M114+M117+M120)","v":1},{"$f":"SUM(M112+M115+M118+M121)","v":0},{"$f":"SUM(M113+M116+M119+M122)","v":0},{"$f":"SUM(N111:N122)","v":0},{"$f":"SUM(O111:O122)","v":437},{"$f":"SUM(P111:P122)","v":75},{"$f":"SUM(Q111+Q114+Q117+Q120)","v":0},{"$f":"SUM(Q112+Q115+Q118+Q121)","v":0},{"$f":"SUM(Q113+Q116+Q119+Q122)","v":0},{"$f":"SUM(B111:D111)+SUM(B114:D114)+SUM(B117:D117)+SUM(B120:D120)+SUM(F111:H111)+SUM(F114:H114)+SUM(F117:H117)+SUM(F120:H120)+SUM(J111:L111)+SUM(J114:L114)+SUM(J117:L117)+SUM(J120:L120)+SUM(N111:P111)+SUM(N114:P114)+SUM(N117:P117)+SUM(N120:P120)+E113+E116+E119+E122+I113+I116+I119+I122+M113+M116+M119+M122+Q113+Q116+Q119+Q122","v":1783},{"$f":"SUM(B111,B114,B117,B120)","v":0},{"$f":"SUM(C111,C114,C117,C120)","v":0},{"$f":"SUM(D111,D114,D117,D120)","v":0},{"$f":"SUM(E111,E114,E117,E120)","v":0},{"$f":"SUM(F111,F114,F117,F120)","v":55},{"$f":"SUM(G111,G114,G117,G120)","v":515},{"$f":"SUM(H111,H114,H117,H120)","v":0},{"$f":"SUM(I111,I114,I117,I120)","v":4},{"$f":"SUM(J111,J114,J117,J120)","v":304},{"$f":"SUM(K111,K114,K117,K120)","v":0},{"$f":"SUM(L111,L114,L117,L120)","v":421},{"$f":"SUM(M111,M114,M117,M120)","v":1},{"$f":"SUM(N111,N114,N117,N120)","v":0},{"$f":"SUM(O111,O114,O117,O120)","v":414},{"$f":"SUM(P111,P114,P117,P120)","v":74},{"$f":"SUM(Q111,Q114,Q117,Q120)","v":0},{"$f":"SUM(B112:D112)+SUM(B115:D115)+SUM(B118:D118)+SUM(B121:D121)+SUM(F112:H112)+SUM(F115:H115)+SUM(F118:H118)+SUM(F121:H121)+SUM(J112:L112)+SUM(J115:L115)+SUM(J118:L118)+SUM(J121:L121)+SUM(N112:P112)+SUM(N115:P115)+SUM(N118:P118)+SUM(N121:P121)","v":60},{"$f":"SUM(B112,B115,B118,B121)","v":0},{"$f":"SUM(C112,C115,C118,C121)","v":0},{"$f":"SUM(D112,D115,D118,D121)","v":0},{"$f":"SUM(E112,E115,E118,E121)","v":0},{"$f":"SUM(F112,F115,F118,F121)","v":10},{"$f":"SUM(G112,G115,G118,G121)","v":13},{"$f":"SUM(H112,H115,H118,H121)","v":0},{"$f":"SUM(I112,I115,I118,I121)","v":1},{"$f":"SUM(J112,J115,J118,J121)","v":6},{"$f":"SUM(K112,K115,K118,K121)","v":0},{"$f":"SUM(L112,L115,L118,L121)","v":16},{"$f":"SUM(M112,M115,M118,M121)","v":0},{"$f":"SUM(N112,N115,N118,N121)","v":0},{"$f":"SUM(O112,O115,O118,O121)","v":15},{"$f":"SUM(P112,P115,P118,P121)","v":0},{"$f":"SUM(Q112,Q115,Q118,Q121)","v":0},{"$f":"SUM(B113:D113)+SUM(B116:D116)+SUM(B119:D119)+SUM(B122:D122)+SUM(F113:H113)+SUM(F116:H116)+SUM(F119:H119)+SUM(F122:H122)+SUM(J113:L113)+SUM(J116:L116)+SUM(J119:L119)+SUM(J122:L122)+SUM(N113:P113)+SUM(N116:P116)+SUM(N119:P119)+SUM(N122:P122)","v":41},{"$f":"SUM(B113,B116,B119,B122)","v":0},{"$f":"SUM(C113,C116,C119,C122)","v":0},{"$f":"SUM(D113,D116,D119,D122)","v":0},{"$f":"SUM(E113,E116,E119,E122)","v":0},{"$f":"SUM(F113,F116,F119,F122)","v":9},{"$f":"SUM(G113,G116,G119,G122)","v":8},{"$f":"SUM(H113,H116,H119,H122)","v":0},{"$f":"SUM(I113,I116,I119,I122)","v":0},{"$f":"SUM(J113,J116,J119,J122)","v":6},{"$f":"SUM(K113,K116,K119,K122)","v":0},{"$f":"SUM(L113,L116,L119,L122)","v":9},{"$f":"SUM(M113,M116,M119,M122)","v":0},{"$f":"SUM(N113,N116,N119,N122)","v":0},{"$f":"SUM(O113,O116,O119,O122)","v":8},{"$f":"SUM(P113,P116,P119,P122)","v":1},{"$f":"SUM(Q113,Q116,Q119,Q122)","v":0}]
["15:45:01.872",{"$f":"ROUND('Import Tab'!E112*'Base Information'!$V$22,0)","v":0},{"$f":"ROUND('Import Tab'!D112*'Base Information'!$V$22,0)","v":0},{"$f":"ROUND('Import Tab'!C112*'Base Information'!$V$22,0)","v":0},{"$f":"ROUND('Import Tab'!F112,0)","v":0},{"$f":"ROUND('Import Tab'!I112*'Base Information'!$V$22,0)","v":3},{"$f":"ROUND('Import Tab'!H112*'Base Information'!$V$22,0)","v":2},{"$f":"ROUND('Import Tab'!G112*'Base Information'!$V$22,0)","v":0},{"$f":"ROUND('Import Tab'!J112,0)","v":0},{"$f":"ROUND('Import Tab'!M112*'Base Information'!$V$22,0)","v":4},{"$f":"ROUND('Import Tab'!L112*'Base Information'!$V$22,0)","v":0},{"$f":"ROUND('Import Tab'!K112*'Base Information'!$V$22,0)","v":3},{"$f":"ROUND('Import Tab'!N112,0)","v":0},{"$f":"ROUND('Import Tab'!Q112*'Base Information'!$V$22,0)","v":0},{"$f":"ROUND('Import Tab'!P112*'Base Information'!$V$22,0)","v":8},{"$f":"ROUND('Import Tab'!O112*'Base Information'!$V$22,0)","v":0},{"$f":"ROUND('Import Tab'!R112,0)","v":0}]
["15:45:01.872",{"$f":"ROUND('Import Tab'!E113*'Base Information'!$V$22,0)","v":0},{"$f":"ROUND('Import Tab'!D113*'Base Information'!$V$22,0)","v":0},{"$f":"ROUND('Import Tab'!C113*'Base Information'!$V$22,0)","v":0},{"$f":"ROUND('Import Tab'!F113,0)","v":0},{"$f":"ROUND('Import Tab'!I113*'Base Information'!$V$22,0)","v":3},{"$f":"ROUND('Import Tab'!H113*'Base Information'!$V$22,0)","v":4},{"$f":"ROUND('Import Tab'!G113*'Base Information'!$V$22,0)","v":0},{"$f":"ROUND('Import Tab'!J113,0)","v":0},{"$f":"ROUND('Import Tab'!M113*'Base Information'!$V$22,0)","v":1},{"$f":"ROUND('Import Tab'!L113*'Base Information'!$V$22,0)","v":0},{"$f":"ROUND('Import Tab'!K113*'Base Information'!$V$22,0)","v":0},{"$f":"ROUND('Import Tab'!N113,0)","v":0},{"$f":"ROUND('Import Tab'!Q113*'Base Information'!$V$22,0)","v":0},{"$f":"ROUND('Import Tab'!P113*'Base Information'!$V$22,0)","v":2},{"$f":"ROUND('Import Tab'!O113*'Base Information'!$V$22,0)","v":1},{"$f":"ROUND('Import Tab'!R113,0)","v":0}]
["16:00:01.901",{"$f":"ROUND('Import Tab'!E114*'Base Information'!$V$22,0)","v":0},{"$f":"ROUND('Import Tab'!D114*'Base Information'!$V$22,0)","v":0},{"$f":"ROUND('Import Tab'!C114*'Base Information'!$V$22,0)","v":0},{"$f":"ROUND('Import Tab'!F114,0)","v":0},{"$f":"ROUND('Import Tab'!I114*'Base Information'!$V$22,0)","v":12},{"$f":"ROUND('Import Tab'!H114*'Base Information'!$V$22,0)","v":112},{"$f":"ROUND('Import Tab'!G114*'Base Information'!$V$22,0)","v":0},{"$f":"ROUND('Import Tab'!J114,0)","v":1},{"$f":"ROUND('Import Tab'!M114*'Base Information'!$V$22,0)","v":66},{"$f":"ROUND('Import Tab'!L114*'Base Information'!$V$22,0)","v":0},{"$f":"ROUND('Import Tab'!K114*'Base Information'!$V$22,0)","v":110},{"$f":"ROUND('Import Tab'!N114,0)","v":0},{"$f":"ROUND('Import Tab'!Q114*'Base Information'!$V$22,0)","v":0},{"$f":"ROUND('Import Tab'!P114*'Base Information'!$V$22,0)","v":85},{"$f":"ROUND('Import Tab'!O114*'Base Information'!$V$22,0)","v":15},{"$f":"ROUND('Import Tab'!R114,0)","v":0},{"$f":"SUM(B114:D116)+SUM(F114:H116)+SUM(J114:L116)+SUM(N114:P116)+E116+I116+M116+Q116","v":429},{"$f":"B114+B115+B116","v":0},0,0,{"$f":"E114","v":0},{"$f":"E115","v":0},{"$f":"E116","v":0},{"$f":"F114+F115+F116","v":16},{"$f":"G114+G115+G116","v":117},{"$f":"H114+H115+H116","v":0},{"$f":"I114","v":1},{"$f":"I115","v":0},{"$f":"I116","v":0},{"$f":"J114+J115+J116","v":69},{"$f":"K114+K115+K116","v":0},{"$f":"L114+L115+L116","v":121},{"$f":"M114","v":0},{"$f":"M115","v":0},{"$f":"M116","v":0},{"$f":"N114+N115+N116","v":0},{"$f":"O114+O115+O116","v":91},{"$f":"P114+P115+P116","v":15},{"$f":"Q114","v":0},{"$f":"Q115","v":0},{"$f":"Q116","v":0},{"$f":"SUM(B114:D114)+SUM(F114:H114)+SUM(J114:L114)+SUM(N114:P114)+E116+I116+M116+Q116","v":400},{"$f":"B114","v":0},{"$f":"C114","v":0},{"$f":"D114","v":0},{"$f":"E114","v":0},{"$f":"F114","v":12},{"$f":"G114","v":112},{"$f":"H114","v":0},{"$f":"I114","v":1},{"$f":"J114","v":66},{"$f":"K114","v":0},{"$f":"L114","v":110},{"$f":"M114","v":0},{"$f":"N114","v":0},{"$f":"O114","v":85},{"$f":"P114","v":15},{"$f":"Q114","v":0},{"$f":"SUM(B115:D115)+SUM(F115:H115)+SUM(J115:L115)+SUM(N115:P115)","v":16},{"$f":"B115","v":0},{"$f":"C115","v":0},{"$f":"D115","v":0},{"$f":"E115","v":0},{"$f":"F115","v":2},{"$f":"G115","v":2},{"$f":"H115","v":0},{"$f":"I115","v":0},{"$f":"J115","v":0},{"$f":"K115","v":0},{"$f":"L115","v":9},{"$f":"M115","v":0},{"$f":"N115","v":0},{"$f":"O115","v":3},{"$f":"P115","v":0},{"$f":"Q115","v":0},{"$f":"SUM(B116:D116)+SUM(F116:H116)+SUM(J116:L116)+SUM(N116:P116)","v":13},{"$f":"B116","v":0},{"$f":"C116","v":0},{"$f":"D116","v":0},{"$f":"E116","v":0},{"$f":"F116","v":2},{"$f":"G116","v":3},{"$f":"H116","v":0},{"$f":"I116","v":0},{"$f":"J116","v":3},{"$f":"K116","v":0},{"$f":"L116","v":2},{"$f":"M116","v":0},{"$f":"N116","v":0},{"$f":"O116","v":3},{"$f":"P116","v":0},{"$f":"Q116","v":0},{"$f":"SUM(B114:D125,E116,E119,E122,E125,F114:H125,I116,I119,I122,I125,J114:L125,M116,M119,M122,M125,N114:P125,Q116,Q119,Q122,Q125)","v":1905},{"$f":"SUM(B114:B125)","v":0},{"$f":"SUM(C114:C125)","v":0},{"$f":"SUM(D114:D125)","v":0},{"$f":"SUM(E114+E117+E120+E123)","v":0},{"$f":"SUM(E115+E118+E121+E124)","v":0},{"$f":"SUM(E116+E119+E122+E125)","v":0},{"$f":"SUM(F114:F125)","v":76},{"$f":"SUM(G114:G125)","v":535},{"$f":"SUM(H114:H125)","v":0},{"$f":"SUM(I114+I117+I120+I123)","v":3},{"$f":"SUM(I115+I118+I121+I124)","v":1},{"$f":"SUM(I116+I119+I122+I125)","v":0},{"$f":"SUM(J114:J125)","v":344},{"$f":"SUM(K114:K125)","v":0},{"$f":"SUM(L114:L125)","v":442},{"$f":"SUM(M114+M117+M120+M123)","v":0},{"$f":"SUM(M115+M118+M121+M124)","v":0},{"$f":"SUM(M116+M119+M122+M125)","v":0},{"$f":"SUM(N114:N125)","v":0},{"$f":"SUM(O114:O125)","v":448},{"$f":"SUM(P114:P125)","v":60},{"$f":"SUM(Q114+Q117+Q120+Q123)","v":0},{"$f":"SUM(Q115+Q118+Q121+Q124)","v":0},{"$f":"SUM(Q116+Q119+Q122+Q125)","v":0},{"$f":"SUM(B114:D114)+SUM(B117:D117)+SUM(B120:D120)+SUM(B123:D123)+SUM(F114:H114)+SUM(F117:H117)+SUM(F120:H120)+SUM(F123:H123)+SUM(J114:L114)+SUM(J117:L117)+SUM(J120:L120)+SUM(J123:L123)+SUM(N114:P114)+SUM(N117:P117)+SUM(N120:P120)+SUM(N123:P123)+E116+E119+E122+E125+I116+I119+I122+I125+M116+M119+M122+M125+Q116+Q119+Q122+Q125","v":1818},{"$f":"SUM(B114,B117,B120,B123)","v":0},{"$f":"SUM(C114,C117,C120,C123)","v":0},{"$f":"SUM(D114,D117,D120,D123)","v":0},{"$f":"SUM(E114,E117,E120,E123)","v":0},{"$f":"SUM(F114,F117,F120,F123)","v":60},{"$f":"SUM(G114,G117,G120,G123)","v":516},{"$f":"SUM(H114,H117,H120,H123)","v":0},{"$f":"SUM(I114,I117,I120,I123)","v":3},{"$f":"SUM(J114,J117,J120,J123)","v":334},{"$f":"SUM(K114,K117,K120,K123)","v":0},{"$f":"SUM(L114,L117,L120,L123)","v":417},{"$f":"SUM(M114,M117,M120,M123)","v":0},{"$f":"SUM(N114,N117,N120,N123)","v":0},{"$f":"SUM(O114,O117,O120,O123)","v":432},{"$f":"SUM(P114,P117,P120,P123)","v":59},{"$f":"SUM(Q114,Q117,Q120,Q123)","v":0},{"$f":"SUM(B115:D115)+SUM(B118:D118)+SUM(B121:D121)+SUM(B124:D124)+SUM(F115:H115)+SUM(F118:H118)+SUM(F121:H121)+SUM(F124:H124)+SUM(J115:L115)+SUM(J118:L118)+SUM(J121:L121)+SUM(J124:L124)+SUM(N115:P115)+SUM(N118:P118)+SUM(N121:P121)+SUM(N124:P124)","v":51},{"$f":"SUM(B115,B118,B121,B124)","v":0},{"$f":"SUM(C115,C118,C121,C124)","v":0},{"$f":"SUM(D115,D118,D121,D124)","v":0},{"$f":"SUM(E115,E118,E121,E124)","v":0},{"$f":"SUM(F115,F118,F121,F124)","v":9},{"$f":"SUM(G115,G118,G121,G124)","v":15},{"$f":"SUM(H115,H118,H121,H124)","v":0},{"$f":"SUM(I115,I118,I121,I124)","v":1},{"$f":"SUM(J115,J118,J121,J124)","v":4},{"$f":"SUM(K115,K118,K121,K124)","v":0},{"$f":"SUM(L115,L118,L121,L124)","v":14},{"$f":"SUM(M115,M118,M121,M124)","v":0},{"$f":"SUM(N115,N118,N121,N124)","v":0},{"$f":"SUM(O115,O118,O121,O124)","v":9},{"$f":"SUM(P115,P118,P121,P124)","v":0},{"$f":"SUM(Q115,Q118,Q121,Q124)","v":0},{"$f":"SUM(B116:D116)+SUM(B119:D119)+SUM(B122:D122)+SUM(B125:D125)+SUM(F116:H116)+SUM(F119:H119)+SUM(F122:H122)+SUM(F125:H125)+SUM(J116:L116)+SUM(J119:L119)+SUM(J122:L122)+SUM(J125:L125)+SUM(N116:P116)+SUM(N119:P119)+SUM(N122:P122)+SUM(N125:P125)","v":36},{"$f":"SUM(B116,B119,B122,B125)","v":0},{"$f":"SUM(C116,C119,C122,C125)","v":0},{"$f":"SUM(D116,D119,D122,D125)","v":0},{"$f":"SUM(E116,E119,E122,E125)","v":0},{"$f":"SUM(F116,F119,F122,F125)","v":7},{"$f":"SUM(G116,G119,G122,G125)","v":4},{"$f":"SUM(H116,H119,H122,H125)","v":0},{"$f":"SUM(I116,I119,I122,I125)","v":0},{"$f":"SUM(J116,J119,J122,J125)","v":6},{"$f":"SUM(K116,K119,K122,K125)","v":0},{"$f":"SUM(L116,L119,L122,L125)","v":11},{"$f":"SUM(M116,M119,M122,M125)","v":0},{"$f":"SUM(N116,N119,N122,N125)","v":0},{"$f":"SUM(O116,O119,O122,O125)","v":7},{"$f":"SUM(P116,P119,P122,P125)","v":1},{"$f":"SUM(Q116,Q119,Q122,Q125)","v":0}]
["16:00:01.901",{"$f":"ROUND('Import Tab'!E115*'Base Information'!$V$22,0)","v":0},{"$f":"ROUND('Import Tab'!D115*'Base Information'!$V$22,0)","v":0},{"$f":"ROUND('Import Tab'!C115*'Base Information'!$V$22,0)","v":0},{"$f":"ROUND('Import Tab'!F115,0)","v":0},{"$f":"ROUND('Import Tab'!I115*'Base Information'!$V$22,0)","v":2},{"$f":"ROUND('Import Tab'!H115*'Base Information'!$V$22,0)","v":2},{"$f":"ROUND('Import Tab'!G115*'Base Information'!$V$22,0)","v":0},{"$f":"ROUND('Import Tab'!J115,0)","v":0},{"$f":"ROUND('Import Tab'!M115*'Base Information'!$V$22,0)","v":0},{"$f":"ROUND('Import Tab'!L115*'Base Information'!$V$22,0)","v":0},{"$f":"ROUND('Import Tab'!K115*'Base Information'!$V$22,0)","v":9},{"$f":"ROUND('Import Tab'!N115,0)","v":0},{"$f":"ROUND('Import Tab'!Q115*'Base Information'!$V$22,0)","v":0},{"$f":"ROUND('Import Tab'!P115*'Base Information'!$V$22,0)","v":3},{"$f":"ROUND('Import Tab'!O115*'Base Information'!$V$22,0)","v":0},{"$f":"ROUND('Import Tab'!R115,0)","v":0}]
["16:00:01.901",{"$f":"ROUND('Import Tab'!E116*'Base Information'!$V$22,0)","v":0},{"$f":"ROUND('Import Tab'!D116*'Base Information'!$V$22,0)","v":0},{"$f":"ROUND('Import Tab'!C116*'Base Information'!$V$22,0)","v":0},{"$f":"ROUND('Import Tab'!F116,0)","v":0},{"$f":"ROUND('Import Tab'!I116*'Base Information'!$V$22,0)","v":2},{"$f":"ROUND('Import Tab'!H116*'Base Information'!$V$22,0)","v":3},{"$f":"ROUND('Import Tab'!G116*'Base Information'!$V$22,0)","v":0},{"$f":"ROUND('Import Tab'!J116,0)","v":0},{"$f":"ROUND('Import Tab'!M116*'Base Information'!$V$22,0)","v":3},{"$f":"ROUND('Import Tab'!L116*'Base Information'!$V$22,0)","v":0},{"$f":"ROUND('Import Tab'!K116*'Base Information'!$V$22,0)","v":2},{"$f":"ROUND('Import Tab'!N116,0)","v":0},{"$f":"ROUND('Import Tab'!Q116*'Base Information'!$V$22,0)","v":0},{"$f":"ROUND('Import Tab'!P116*'Base Information'!$V$22,0)","v":3},{"$f":"ROUND('Import Tab'!O116*'Base Information'!$V$22,0)","v":0},{"$f":"ROUND('Import Tab'!R116,0)","v":0}]
["16:15:01.930",{"$f":"ROUND('Import Tab'!E117*'Base Information'!$V$22,0)","v":0},{"$f":"ROUND('Import Tab'!D117*'Base Information'!$V$22,0)","v":0},{"$f":"ROUND('Import Tab'!C117*'Base Information'!$V$22,0)","v":0},{"$f":"ROUND('Import Tab'!F117,0)","v":0},{"$f":"ROUND('Import Tab'!I117*'Base Information'!$V$22,0)","v":13},{"$f":"ROUND('Import Tab'!H117*'Base Information'!$V$22,0)","v":149},{"$f":"ROUND('Import Tab'!G117*'Base Information'!$V$22,0)","v":0},{"$f":"ROUND('Import Tab'!J117,0)","v":0},{"$f":"ROUND('Import Tab'!M117*'Base Information'!$V$22,0)","v":74},{"$f":"ROUND('Import Tab'!L117*'Base Information'!$V$22,0)","v":0},{"$f":"ROUND('Import Tab'!K117*'Base Information'!$V$22,0)","v":91},{"$f":"ROUND('Import Tab'!N117,0)","v":0},{"$f":"ROUND('Import Tab'!Q117*'Base Information'!$V$22,0)","v":0},{"$f":"ROUND('Import Tab'!P117*'Base Information'!$V$22,0)","v":109},{"$f":"ROUND('Import Tab'!O117*'Base Information'!$V$22,0)","v":12},{"$f":"ROUND('Import Tab'!R117,0)","v":0},{"$f":"SUM(B117:D119)+SUM(F117:H119)+SUM(J117:L119)+SUM(N117:P119)+E119+I119+M119+Q119","v":467},{"$f":"B117+B118+B119","v":0},0,0,{"$f":"E117","v":0},{"$f":"E118","v":0},{"$f":"E119","v":0},{"$f":"F117+F118+F119","v":19},{"$f":"G117+G118+G119","v":154},{"$f":"H117+H118+H119","v":0},{"$f":"I117","v":0},{"$f":"I118","v":1},{"$f":"I119","v":0},{"$f":"J117+J118+J119","v":76},{"$f":"K117+K118+K119","v":0},{"$f":"L117+L118+L119","v":94},{"$f":"M117","v":0},{"$f":"M118","v":0},{"$f":"M119","v":0},{"$f":"N117+N118+N119","v":0},{"$f":"O117+O118+O119","v":112},{"$f":"P117+P118+P119","v":12},{"$f":"Q117","v":0},{"$f":"Q118","v":0},{"$f":"Q119","v":0},{"$f":"SUM(B117:D117)+SUM(F117:H117)+SUM(J117:L117)+SUM(N117:P117)+E119+I119+M119+Q119","v":448},{"$f":"B117","v":0},{"$f":"C117","v":0},{"$f":"D117","v":0},{"$f":"E117","v":0},{"$f":"F117","v":13},{"$f":"G117","v":149},{"$f":"H117","v":0},{"$f":"I117","v":0},{"$f":"J117","v":74},{"$f":"K117","v":0},{"$f":"L117","v":91},{"$f":"M117","v":0},{"$f":"N117","v":0},{"$f":"O117","v":109},{"$f":"P117","v":12},{"$f":"Q117","v":0},{"$f":"SUM(B118:D118)+SUM(F118:H118)+SUM(J118:L118)+SUM(N118:P118)","v":10},{"$f":"B118","v":0},{"$f":"C118","v":0},{"$f":"D118","v":0},{"$f":"E118","v":0},{"$f":"F118","v":4},{"$f":"G118","v":5},{"$f":"H118","v":0},{"$f":"I118","v":1},{"$f":"J118","v":0},{"$f":"K118","v":0},{"$f":"L118","v":0},{"$f":"M118","v":0},{"$f":"N118","v":0},{"$f":"O118","v":1},{"$f":"P118","v":0},{"$f":"Q118","v":0},{"$f":"SUM(B119:D119)+SUM(F119:H119)+SUM(J119:L119)+SUM(N119:P119)","v":9},{"$f":"B119","v":0},{"$f":"C119","v":0},{"$f":"D119","v":0},{"$f":"E119","v":0},{"$f":"F119","v":2},{"$f":"G119","v":0},{"$f":"H119","v":0},{"$f":"I119","v":0},{"$f":"J119","v":2},{"$f":"K119","v":0},{"$f":"L119","v":3},{"$f":"M119","v":0},{"$f":"N119","v":0},{"$f":"O119","v":2},{"$f":"P119","v":0},{"$f":"Q119","v":0},{"$f":"SUM(B117:D128,E119,E122,E125,E128,F117:H128,I119,I122,I125,I128,J117:L128,M119,M122,M125,M128,N117:P128,Q119,Q122,Q125,Q128)","v":1952},{"$f":"SUM(B117:B128)","v":0},{"$f":"SUM(C117:C128)","v":0},{"$f":"SUM(D117:D128)","v":0},{"$f":"SUM(E117+E120+E123+E126)","v":0},{"$f":"SUM(E118+E121+E124+E127)","v":0},{"$f":"SUM(E119+E122+E125+E128)","v":0},{"$f":"SUM(F117:F128)","v":74},{"$f":"SUM(G117:G128)","v":551},{"$f":"SUM(H117:H128)","v":0},{"$f":"SUM(I117+I120+I123+I126)","v":2},{"$f":"SUM(I118+I121+I124+I127)","v":1},{"$f":"SUM(I119+I122+I125+I128)","v":0},{"$f":"SUM(J117:J128)","v":356},{"$f":"SUM(K117:K128)","v":0},{"$f":"SUM(L117:L128)","v":411},{"$f":"SUM(M117+M120+M123+M126)","v":3},{"$f":"SUM(M118+M121+M124+M127)","v":0},{"$f":"SUM(M119+M122+M125+M128)","v":0},{"$f":"SUM(N117:N128)","v":0},{"$f":"SUM(O117:O128)","v":475},{"$f":"SUM(P117:P128)","v":85},{"$f":"SUM(Q117+Q120+Q123+Q126)","v":0},{"$f":"SUM(Q118+Q121+Q124+Q127)","v":0},{"$f":"SUM(Q119+Q122+Q125+Q128)","v":0},{"$f":"SUM(B117:D117)+SUM(B120:D120)+SUM(B123:D123)+SUM(B126:D126)+SUM(F117:H117)+SUM(F120:H120)+SUM(F123:H123)+SUM(F126:H126)+SUM(J117:L117)+SUM(J120:L120)+SUM(J123:L123)+SUM(J126:L126)+SUM(N117:P117)+SUM(N120:P120)+SUM(N123:P123)+SUM(N126:P126)+E119+E122+E125+E128+I119+I122+I125+I128+M119+M122+M125+M128+Q119+Q122+Q125+Q128","v":1876},{"$f":"SUM(B117,B120,B123,B126)","v":0},{"$f":"SUM(C117,C120,C123,C126)","v":0},{"$f":"SUM(D117,D120,D123,D126)","v":0},{"$f":"SUM(E117,E120,E123,E126)","v":0},{"$f":"SUM(F117,F120,F123,F126)","v":60},{"$f":"SUM(G117,G120,G123,G126)","v":533},{"$f":"SUM(H117,H120,H123,H126)","v":0},{"$f":"SUM(I117,I120,I123,I126)","v":2},{"$f":"SUM(J117,J120,J123,J126)","v":344},{"$f":"SUM(K117,K120,K123,K126)","v":0},{"$f":"SUM(L117,L120,L123,L126)","v":394},{"$f":"SUM(M117,M120,M123,M126)","v":3},{"$f":"SUM(N117,N120,N123,N126)","v":0},{"$f":"SUM(O117,O120,O123,O126)","v":464},{"$f":"SUM(P117,P120,P123,P126)","v":81},{"$f":"SUM(Q117,Q120,Q123,Q126)","v":0},{"$f":"SUM(B118:D118)+SUM(B121:D121)+SUM(B124:D124)+SUM(B127:D127)+SUM(F118:H118)+SUM(F121:H121)+SUM(F124:H124)+SUM(F127:H127)+SUM(J118:L118)+SUM(J121:L121)+SUM(J124:L124)+SUM(J127:L127)+SUM(N118:P118)+SUM(N121:P121)+SUM(N124:P124)+SUM(N127:P127)","v":50},{"$f":"SUM(B118,B121,B124,B127)","v":0},{"$f":"SUM(C118,C121,C124,C127)","v":0},{"$f":"SUM(D118,D121,D124,D127)","v":0},{"$f":"SUM(E118,E121,E124,E127)","v":0},{"$f":"SUM(F118,F121,F124,F127)","v":9},{"$f":"SUM(G118,G121,G124,G127)","v":16},{"$f":"SUM(H118,H121,H124,H127)","v":0},{"$f":"SUM(I118,I121,I124,I127)","v":1},{"$f":"SUM(J118,J121,J124,J127)","v":7},{"$f":"SUM(K118,K121,K124,K127)","v":0},{"$f":"SUM(L118,L121,L124,L127)","v":8},{"$f":"SUM(M118,M121,M124,M127)","v":0},{"$f":"SUM(N118,N121,N124,N127)","v":0},{"$f":"SUM(O118,O121,O124,O127)","v":7},{"$f":"SUM(P118,P121,P124,P127)","v":3},{"$f":"SUM(Q118,Q121,Q124,Q127)","v":0},{"$f":"SUM(B119:D119)+SUM(B122:D122)+SUM(B125:D125)+SUM(B128:D128)+SUM(F119:H119)+SUM(F122:H122)+SUM(F125:H125)+SUM(F128:H128)+SUM(J119:L119)+SUM(J122:L122)+SUM(J125:L125)+SUM(J128:L128)+SUM(N119:P119)+SUM(N122:P122)+SUM(N125:P125)+SUM(N128:P128)","v":26},{"$f":"SUM(B119,B122,B125,B128)","v":0},{"$f":"SUM(C119,C122,C125,C128)","v":0},{"$f":"SUM(D119,D122,D125,D128)","v":0},{"$f":"SUM(E119,E122,E125,E128)","v":0},{"$f":"SUM(F119,F122,F125,F128)","v":5},{"$f":"SUM(G119,G122,G125,G128)","v":2},{"$f":"SUM(H119,H122,H125,H128)","v":0},{"$f":"SUM(I119,I122,I125,I128)","v":0},{"$f":"SUM(J119,J122,J125,J128)","v":5},{"$f":"SUM(K119,K122,K125,K128)","v":0},{"$f":"SUM(L119,L122,L125,L128)","v":9},{"$f":"SUM(M119,M122,M125,M128)","v":0},{"$f":"SUM(N119,N122,N125,N128)","v":0},{"$f":"SUM(O119,O122,O125,O128)","v":4},{"$f":"SUM(P119,P122,P125,P128)","v":1},{"$f":"SUM(Q119,Q122,Q125,Q128)","v":0}]
["16:15:01.930",{"$f":"ROUND('Import Tab'!E118*'Base Information'!$V$22,0)","v":0},{"$f":"ROUND('Import Tab'!D118*'Base Information'!$V$22,0)","v":0},{"$f":"ROUND('Import Tab'!C118*'Base Information'!$V$22,0)","v":0},{"$f":"ROUND('Import Tab'!F118,0)","v":0},{"$f":"ROUND('Import Tab'!I118*'Base Information'!$V$22,0)","v":4},{"$f":"ROUND('Import Tab'!H118*'Base Information'!$V$22,0)","v":5},{"$f":"ROUND('Import Tab'!G118*'Base Information'!$V$22,0)","v":0},{"$f":"ROUND('Import Tab'!J118,0)","v":1},{"$f":"ROUND('Import Tab'!M118*'Base Information'!$V$22,0)","v":0},{"$f":"ROUND('Import Tab'!L118*'Base Information'!$V$22,0)","v":0},{"$f":"ROUND('Import Tab'!K118*'Base Information'!$V$22,0)","v":0},{"$f":"ROUND('Import Tab'!N118,0)","v":0},{"$f":"ROUND('Import Tab'!Q118*'Base Information'!$V$22,0)","v":0},{"$f":"ROUND('Import Tab'!P118*'Base Information'!$V$22,0)","v":1},{"$f":"ROUND('Import Tab'!O118*'Base Information'!$V$22,0)","v":0},{"$f":"ROUND('Import Tab'!R118,0)","v":0}]
["16:15:01.930",{"$f":"ROUND('Import Tab'!E119*'Base Information'!$V$22,0)","v":0},{"$f":"ROUND('Import Tab'!D119*'Base Information'!$V$22,0)","v":0},{"$f":"ROUND('Import Tab'!C119*'Base Information'!$V$22,0)","v":0},{"$f":"ROUND('Import Tab'!F119,0)","v":0},{"$f":"ROUND('Import Tab'!I119*'Base Information'!$V$22,0)","v":2},{"$f":"ROUND('Import Tab'!H119*'Base Information'!$V$22,0)","v":0},{"$f":"ROUND('Import Tab'!G119*'Base Information'!$V$22,0)","v":0},{"$f":"ROUND('Import Tab'!J119,0)","v":0},{"$f":"ROUND('Import Tab'!M119*'Base Information'!$V$22,0)","v":2},{"$f":"ROUND('Import Tab'!L119*'Base Information'!$V$22,0)","v":0},{"$f":"ROUND('Import Tab'!K119*'Base Information'!$V$22,0)","v":3},{"$f":"ROUND('Import Tab'!N119,0)","v":0},{"$f":"ROUND('Import Tab'!Q119*'Base Information'!$V$22,0)","v":0},{"$f":"ROUND('Import Tab'!P119*'Base Information'!$V$22,0)","v":2},{"$f":"ROUND('Import Tab'!O119*'Base Information'!$V$22,0)","v":0},{"$f":"ROUND('Import Tab'!R119,0)","v":0}]
["16:30:01.958",{"$f":"ROUND('Import Tab'!E120*'Base Information'!$V$22,0)","v":0},{"$f":"ROUND('Import Tab'!D120*'Base Information'!$V$22,0)","v":0},{"$f":"ROUND('Import Tab'!C120*'Base Information'!$V$22,0)","v":0},{"$f":"ROUND('Import Tab'!F120,0)","v":0},{"$f":"ROUND('Import Tab'!I120*'Base Information'!$V$22,0)","v":13},{"$f":"ROUND('Import Tab'!H120*'Base Information'!$V$22,0)","v":150},{"$f":"ROUND('Import Tab'!G120*'Base Information'!$V$22,0)","v":0},{"$f":"ROUND('Import Tab'!J120,0)","v":2},{"$f":"ROUND('Import Tab'!M120*'Base Information'!$V$22,0)","v":89},{"$f":"ROUND('Import Tab'!L120*'Base Information'!$V$22,0)","v":0},{"$f":"ROUND('Import Tab'!K120*'Base Information'!$V$22,0)","v":114},{"$f":"ROUND('Import Tab'!N120,0)","v":0},{"$f":"ROUND('Import Tab'!Q120*'Base Information'!$V$22,0)","v":0},{"$f":"ROUND('Import Tab'!P120*'Base Information'!$V$22,0)","v":121},{"$f":"ROUND('Import Tab'!O120*'Base Information'!$V$22,0)","v":17},{"$f":"ROUND('Import Tab'!R120,0)","v":0},{"$f":"SUM(B120:D122)+SUM(F120:H122)+SUM(J120:L122)+SUM(N120:P122)+E122+I122+M122+Q122","v":526},{"$f":"B120+B121+B122","v":0},0,0,{"$f":"E120","v":0},{"$f":"E121","v":0},{"$f":"E122","v":0},{"$f":"F120+F121+F122","v":16},{"$f":"G120+G121+G122","v":155},{"$f":"H120+H121+H122","v":0},{"$f":"I120","v":2},{"$f":"I121","v":0},{"$f":"I122","v":0},{"$f":"J120+J121+J122","v":91},{"$f":"K120+K121+K122","v":0},{"$f":"L120+L121+L122","v":122},{"$f":"M120","v":0},{"$f":"M121","v":0},{"$f":"M122","v":0},{"$f":"N120+N121+N122","v":0},{"$f":"O120+O121+O122","v":125},{"$f":"P120+P121+P122","v":17},{"$f":"Q120","v":0},{"$f":"Q121","v":0},{"$f":"Q122","v":0},{"$f":"SUM(B120:D120)+SUM(F120:H120)+SUM(J120:L120)+SUM(N120:P120)+E122+I122+M122+Q122","v":504},{"$f":"B120","v":0},{"$f":"C120","v":0},{"$f":"D120","v":0},{"$f":"E120","v":0},{"$f":"F120","v":13},{"$f":"G120","v":150},{"$f":"H120","v":0},{"$f":"I120","v":2},{"$f":"J120","v":89},{"$f":"K120","v":0},{"$f":"L120","v":114},{"$f":"M120","v":0},{"$f":"N120","v":0},{"$f":"O120","v":121},{"$f":"P120","v":17},{"$f":"Q120","v":0},{"$f":"SUM(B121:D121)+SUM(F121:H121)+SUM(J121:L121)+SUM(N121:P121)","v":14},{"$f":"B121","v":0},{"$f":"C121","v":0},{"$f":"D121","v":0},{"$f":"E121","v":0},{"$f":"F121","v":1},{"$f":"G121","v":4},{"$f":"H121","v":0},{"$f":"I121","v":0},{"$f":"J121","v":2},{"$f":"K121","v":0},{"$f":"L121","v":4},{"$f":"M121","v":0},{"$f":"N121","v":0},{"$f":"O121","v":3},{"$f":"P121","v":0},{"$f":"Q121","v":0},{"$f":"SUM(B122:D122)+SUM(F122:H122)+SUM(J122:L122)+SUM(N122:P122)","v":8},{"$f":"B122","v":0},{"$f":"C122","v":0},{"$f":"D122","v":0},{"$f":"E122","v":0},{"$f":"F122","v":2},{"$f":"G122","v":1},{"$f":"H122","v":0},{"$f":"I122","v":0},{"$f":"J122","v":0},{"$f":"K122","v":0},{"$f":"L122","v":4},{"$f":"M122","v":0},{"$f":"N122","v":0},{"$f":"O122","v":1},{"$f":"P122","v":0},{"$f":"Q122","v":0},{"$f":"SUM(B120:D131,E122,E125,E128,E131,F120:H131,I122,I125,I128,I131,J120:L131,M122,M125,M128,M131,N120:P131,Q122,Q125,Q128,Q131)","v":2017},{"$f":"SUM(B120:B131)","v":0},{"$f":"SUM(C120:C131)","v":0},{"$f":"SUM(D120:D131)","v":0},{"$f":"SUM(E120+E123+E126+E129)","v":0},{"$f":"SUM(E121+E124+E127+E130)","v":0},{"$f":"SUM(E122+E125+E128+E131)","v":0},{"$f":"SUM(F120:F131)","v":65},{"$f":"SUM(G120:G131)","v":522},{"$f":"SUM(H120:H131)","v":0},{"$f":"SUM(I120+I123+I126+I129)","v":2},{"$f":"SUM(I121+I124+I127+I130)","v":0},{"$f":"SUM(I122+I125+I128+I131)","v":0},{"$f":"SUM(J120:J131)","v":409},{"$f":"SUM(K120:K131)","v":0},{"$f":"SUM(L120:L131)","v":432},{"$f":"SUM(M120+M123+M126+M129)","v":3},{"$f":"SUM(M121+M124+M127+M130)","v":0},{"$f":"SUM(M122+M125+M128+M131)","v":0},{"$f":"SUM(N120:N131)","v":0},{"$f":"SUM(O120:O131)","v":489},{"$f":"SUM(P120:P131)","v":100},{"$f":"SUM(Q120+Q123+Q126+Q129)","v":0},{"$f":"SUM(Q121+Q124+Q127+Q130)","v":0},{"$f":"SUM(Q122+Q125+Q128+Q131)","v":0},{"$f":"SUM(B120:D120)+SUM(B123:D123)+SUM(B126:D126)+SUM(B129:D129)+SUM(F120:H120)+SUM(F123:H123)+SUM(F126:H126)+SUM(F129:H129)+SUM(J120:L120)+SUM(J123:L123)+SUM(J126:L126)+SUM(J129:L129)+SUM(N120:P120)+SUM(N123:P123)+SUM(N126:P126)+SUM(N129:P129)+E122+E125+E128+E131+I122+I125+I128+I131+M122+M125+M128+M131+Q122+Q125+Q128+Q131","v":1946},{"$f":"SUM(B120,B123,B126,B129)","v":0},{"$f":"SUM(C120,C123,C126,C129)","v":0},{"$f":"SUM(D120,D123,D126,D129)","v":0},{"$f":"SUM(E120,E123,E126,E129)","v":0},{"$f":"SUM(F120,F123,F126,F129)","v":57},{"$f":"SUM(G120,G123,G126,G129)","v":508},{"$f":"SUM(H120,H123,H126,H129)","v":0},{"$f":"SUM(I120,I123,I126,I129)","v":2},{"$f":"SUM(J120,J123,J126,J129)","v":394},{"$f":"SUM(K120,K123,K126,K129)","v":0},{"$f":"SUM(L120,L123,L126,L129)","v":411},{"$f":"SUM(M120,M123,M126,M129)","v":3},{"$f":"SUM(N120,N123,N126,N129)","v":0},{"$f":"SUM(O120,O123,O126,O129)","v":480},{"$f":"SUM(P120,P123,P126,P129)","v":96},{"$f":"SUM(Q120,Q123,Q126,Q129)","v":0},{"$f":"SUM(B121:D121)+SUM(B124:D124)+SUM(B127:D127)+SUM(B130:D130)+SUM(F121:H121)+SUM(F124:H124)+SUM(F127:H127)+SUM(F130:H130)+SUM(J121:L121)+SUM(J124:L124)+SUM(J127:L127)+SUM(J130:L130)+SUM(N121:P121)+SUM(N124:P124)+SUM(N127:P127)+SUM(N130:P130)","v":48},{"$f":"SUM(B121,B124,B127,B130)","v":0},{"$f":"SUM(C121,C124,C127,C130)","v":0},{"$f":"SUM(D121,D124,D127,D130)","v":0},{"$f":"SUM(E121,E124,E127,E130)","v":0},{"$f":"SUM(F121,F124,F127,F130)","v":5},{"$f":"SUM(G121,G124,G127,G130)","v":12},{"$f":"SUM(H121,H124,H127,H130)","v":0},{"$f":"SUM(I121,I124,I127,I130)","v":0},{"$f":"SUM(J121,J124,J127,J130)","v":10},{"$f":"SUM(K121,K124,K127,K130)","v":0},{"$f":"SUM(L121,L124,L127,L130)","v":12},{"$f":"SUM(M121,M124,M127,M130)","v":0},{"$f":"SUM(N121,N124,N127,N130)","v":0},{"$f":"SUM(O121,O124,O127,O130)","v":6},{"$f":"SUM(P121,P124,P127,P130)","v":3},{"$f":"SUM(Q121,Q124,Q127,Q130)","v":0},{"$f":"SUM(B122:D122)+SUM(B125:D125)+SUM(B128:D128)+SUM(B131:D131)+SUM(F122:H122)+SUM(F125:H125)+SUM(F128:H128)+SUM(F131:H131)+SUM(J122:L122)+SUM(J125:L125)+SUM(J128:L128)+SUM(J131:L131)+SUM(N122:P122)+SUM(N125:P125)+SUM(N128:P128)+SUM(N131:P131)","v":23},{"$f":"SUM(B122,B125,B128,B131)","v":0},{"$f":"SUM(C122,C125,C128,C131)","v":0},{"$f":"SUM(D122,D125,D128,D131)","v":0},{"$f":"SUM(E122,E125,E128,E131)","v":0},{"$f":"SUM(F122,F125,F128,F131)","v":3},{"$f":"SUM(G122,G125,G128,G131)","v":2},{"$f":"SUM(H122,H125,H128,H131)","v":0},{"$f":"SUM(I122,I125,I128,I131)","v":0},{"$f":"SUM(J122,J125,J128,J131)","v":5},{"$f":"SUM(K122,K125,K128,K131)","v":0},{"$f":"SUM(L122,L125,L128,L131)","v":9},{"$f":"SUM(M122,M125,M128,M131)","v":0},{"$f":"SUM(N122,N125,N128,N131)","v":0},{"$f":"SUM(O122,O125,O128,O131)","v":3},{"$f":"SUM(P122,P125,P128,P131)","v":1},{"$f":"SUM(Q122,Q125,Q128,Q131)","v":0}]
["16:30:01.958",{"$f":"ROUND('Import Tab'!E121*'Base Information'!$V$22,0)","v":0},{"$f":"ROUND('Import Tab'!D121*'Base Information'!$V$22,0)","v":0},{"$f":"ROUND('Import Tab'!C121*'Base Information'!$V$22,0)","v":0},{"$f":"ROUND('Import Tab'!F121,0)","v":0},{"$f":"ROUND('Import Tab'!I121*'Base Information'!$V$22,0)","v":1},{"$f":"ROUND('Import Tab'!H121*'Base Information'!$V$22,0)","v":4},{"$f":"ROUND('Import Tab'!G121*'Base Information'!$V$22,0)","v":0},{"$f":"ROUND('Import Tab'!J121,0)","v":0},{"$f":"ROUND('Import Tab'!M121*'Base Information'!$V$22,0)","v":2},{"$f":"ROUND('Import Tab'!L121*'Base Information'!$V$22,0)","v":0},{"$f":"ROUND('Import Tab'!K121*'Base Information'!$V$22,0)","v":4},{"$f":"ROUND('Import Tab'!N121,0)","v":0},{"$f":"ROUND('Import Tab'!Q121*'Base Information'!$V$22,0)","v":0},{"$f":"ROUND('Import Tab'!P121*'Base Information'!$V$22,0)","v":3},{"$f":"ROUND('Import Tab'!O121*'Base Information'!$V$22,0)","v":0},{"$f":"ROUND('Import Tab'!R121,0)","v":0}]
["16:30:01.958",{"$f":"ROUND('Import Tab'!E122*'Base Information'!$V$22,0)","v":0},{"$f":"ROUND('Import Tab'!D122*'Base Information'!$V$22,0)","v":0},{"$f":"ROUND('Import Tab'!C122*'Base Information'!$V$22,0)","v":0},{"$f":"ROUND('Import Tab'!F122,0)","v":0},{"$f":"ROUND('Import Tab'!I122*'Base Information'!$V$22,0)","v":2},{"$f":"ROUND('Import Tab'!H122*'Base Information'!$V$22,0)","v":1},{"$f":"ROUND('Import Tab'!G122*'Base Information'!$V$22,0)","v":0},{"$f":"ROUND('Import Tab'!J122,0)","v":0},{"$f":"ROUND('Import Tab'!M122*'Base Information'!$V$22,0)","v":0},{"$f":"ROUND('Import Tab'!L122*'Base Information'!$V$22,0)","v":0},{"$f":"ROUND('Import Tab'!K122*'Base Information'!$V$22,0)","v":4},{"$f":"ROUND('Import Tab'!N122,0)","v":0},{"$f":"ROUND('Import Tab'!Q122*'Base Information'!$V$22,0)","v":0},{"$f":"ROUND('Import Tab'!P122*'Base Information'!$V$22,0)","v":1},{"$f":"ROUND('Import Tab'!O122*'Base Information'!$V$22,0)","v":0},{"$f":"ROUND('Import Tab'!R122,0)","v":0}]
["16:45:01.987",{"$f":"ROUND('Import Tab'!E123*'Base Information'!$V$22,0)","v":0},{"$f":"ROUND('Import Tab'!D123*'Base Information'!$V$22,0)","v":0},{"$f":"ROUND('Import Tab'!C123*'Base Information'!$V$22,0)","v":0},{"$f":"ROUND('Import Tab'!F123,0)","v":0},{"$f":"ROUND('Import Tab'!I123*'Base Information'!$V$22,0)","v":22},{"$f":"ROUND('Import Tab'!H123*'Base Information'!$V$22,0)","v":105},{"$f":"ROUND('Import Tab'!G123*'Base Information'!$V$22,0)","v":0},{"$f":"ROUND('Import Tab'!J123,0)","v":0},{"$f":"ROUND('Import Tab'!M123*'Base Information'!$V$22,0)","v":105},{"$f":"ROUND('Import Tab'!L123*'Base Information'!$V$22,0)","v":0},{"$f":"ROUND('Import Tab'!K123*'Base Information'!$V$22,0)","v":102},{"$f":"ROUND('Import Tab'!N123,0)","v":0},{"$f":"ROUND('Import Tab'!Q123*'Base Information'!$V$22,0)","v":0},{"$f":"ROUND('Import Tab'!P123*'Base Information'!$V$22,0)","v":117},{"$f":"ROUND('Import Tab'!O123*'Base Information'!$V$22,0)","v":15},{"$f":"ROUND('Import Tab'!R123,0)","v":0},{"$f":"SUM(B123:D125)+SUM(F123:H125)+SUM(J123:L125)+SUM(N123:P125)+E125+I125+M125+Q125","v":483},{"$f":"B123+B124+B125","v":0},0,0,{"$f":"E123","v":0},{"$f":"E124","v":0},{"$f":"E125","v":0},{"$f":"F123+F124+F125","v":25},{"$f":"G123+G124+G125","v":109},{"$f":"H123+H124+H125","v":0},{"$f":"I123","v":0},{"$f":"I124","v":0},{"$f":"I125","v":0},{"$f":"J123+J124+J125","v":108},{"$f":"K123+K124+K125","v":0},{"$f":"L123+L124+L125","v":105},{"$f":"M123","v":0},{"$f":"M124","v":0},{"$f":"M125","v":0},{"$f":"N123+N124+N125","v":0},{"$f":"O123+O124+O125","v":120},{"$f":"P123+P124+P125","v":16},{"$f":"Q123","v":0},{"$f":"Q124","v":0},{"$f":"Q125","v":0},{"$f":"SUM(B123:D123)+SUM(F123:H123)+SUM(J123:L123)+SUM(N123:P123)+E125+I125+M125+Q125","v":466},{"$f":"B123","v":0},{"$f":"C123","v":0},{"$f":"D123","v":0},{"$f":"E123","v":0},{"$f":"F123","v":22},{"$f":"G123","v":105},{"$f":"H123","v":0},{"$f":"I123","v":0},{"$f":"J123","v":105},{"$f":"K123","v":0},{"$f":"L123","v":102},{"$f":"M123","v":0},{"$f":"N123","v":0},{"$f":"O123","v":117},{"$f":"P123","v":15},{"$f":"Q123","v":0},{"$f":"SUM(B124:D124)+SUM(F124:H124)+SUM(J124:L124)+SUM(N124:P124)","v":11},{"$f":"B124","v":0},{"$f":"C124","v":0},{"$f":"D124","v":0},{"$f":"E124","v":0},{"$f":"F124","v":2},{"$f":"G124","v":4},{"$f":"H124","v":0},{"$f":"I124","v":0},{"$f":"J124","v":2},{"$f":"K124","v":0},{"$f":"L124","v":1},{"$f":"M124","v":0},{"$f":"N124","v":0},{"$f":"O124","v":2},{"$f":"P124","v":0},{"$f":"Q124","v":0},{"$f":"SUM(B125:D125)+SUM(F125:H125)+SUM(J125:L125)+SUM(N125:P125)","v":6},{"$f":"B125","v":0},{"$f":"C125","v":0},{"$f":"D125","v":0},{"$f":"E125","v":0},{"$f":"F125","v":1},{"$f":"G125","v":0},{"$f":"H125","v":0},{"$f":"I125","v":0},{"$f":"J125","v":1},{"$f":"K125","v":0},{"$f":"L125","v":2},{"$f":"M125","v":0},{"$f":"N125","v":0},{"$f":"O125","v":1},{"$f":"P125","v":1},{"$f":"Q125","v":0},{"$f":"SUM(B123:D134,E125,E128,E131,E134,F123:H134,I125,I128,I131,I134,J123:L134,M125,M128,M131,M134,N123:P134,Q125,Q128,Q131,Q134)","v":2050},{"$f":"SUM(B123:B134)","v":0},{"$f":"SUM(C123:C134)","v":0},{"$f":"SUM(D123:D134)","v":0},{"$f":"SUM(E123+E126+E129+E132)","v":0},{"$f":"SUM(E124+E127+E130+E133)","v":0},{"$f":"SUM(E125+E128+E131+E134)","v":0},{"$f":"SUM(F123:F134)","v":65},{"$f":"SUM(G123:G134)","v":511},{"$f":"SUM(H123:H134)","v":0},{"$f":"SUM(I123+I126+I129+I132)","v":0},{"$f":"SUM(I124+I127+I130+I133)","v":0},{"$f":"SUM(I125+I128+I131+I134)","v":0},{"$f":"SUM(J123:J134)","v":446},{"$f":"SUM(K123:K134)","v":0},{"$f":"SUM(L123:L134)","v":402},{"$f":"SUM(M123+M126+M129+M132)","v":3},{"$f":"SUM(M124+M127+M130+M133)","v":0},{"$f":"SUM(M125+M128+M131+M134)","v":0},{"$f":"SUM(N123:N134)","v":0},{"$f":"SUM(O123:O134)","v":512},{"$f":"SUM(P123:P134)","v":114},{"$f":"SUM(Q123+Q126+Q129+Q132)","v":0},{"$f":"SUM(Q124+Q127+Q130+Q133)","v":0},{"$f":"SUM(Q125+Q128+Q131+Q134)","v":0},{"$f":"SUM(B123:D123)+SUM(B126:D126)+SUM(B129:D129)+SUM(B132:D132)+SUM(F123:H123)+SUM(F126:H126)+SUM(F129:H129)+SUM(F132:H132)+SUM(J123:L123)+SUM(J126:L126)+SUM(J129:L129)+SUM(J132:L132)+SUM(N123:P123)+SUM(N126:P126)+SUM(N129:P129)+SUM(N132:P132)+E125+E128+E131+E134+I125+I128+I131+I134+M125+M128+M131+M134+Q125+Q128+Q131+Q134","v":1983},{"$f":"SUM(B123,B126,B129,B132)","v":0},{"$f":"SUM(C123,C126,C129,C132)","v":0},{"$f":"SUM(D123,D126,D129,D132)","v":0},{"$f":"SUM(E123,E126,E129,E132)","v":0},{"$f":"SUM(F123,F126,F129,F132)","v":58},{"$f":"SUM(G123,G126,G129,G132)","v":500},{"$f":"SUM(H123,H126,H129,H132)","v":0},{"$f":"SUM(I123,I126,I129,I132)","v":0},{"$f":"SUM(J123,J126,J129,J132)","v":429},{"$f":"SUM(K123,K126,K129,K132)","v":0},{"$f":"SUM(L123,L126,L129,L132)","v":386},{"$f":"SUM(M123,M126,M129,M132)","v":3},{"$f":"SUM(N123,N126,N129,N132)","v":0},{"$f":"SUM(O123,O126,O129,O132)","v":502},{"$f":"SUM(P123,P126,P129,P132)","v":108},{"$f":"SUM(Q123,Q126,Q129,Q132)","v":0},{"$f":"SUM(B124:D124)+SUM(B127:D127)+SUM(B130:D130)+SUM(B133:D133)+SUM(F124:H124)+SUM(F127:H127)+SUM(F130:H130)+SUM(F133:H133)+SUM(J124:L124)+SUM(J127:L127)+SUM(J130:L130)+SUM(J133:L133)+SUM(N124:P124)+SUM(N127:P127)+SUM(N130:P130)+SUM(N133:P133)","v":39},{"$f":"SUM(B124,B127,B130,B133)","v":0},{"$f":"SUM(C124,C127,C130,C133)","v":0},{"$f":"SUM(D124,D127,D130,D133)","v":0},{"$f":"SUM(E124,E127,E130,E133)","v":0},{"$f":"SUM(F124,F127,F130,F133)","v":5},{"$f":"SUM(G124,G127,G130,G133)","v":10},{"$f":"SUM(H124,H127,H130,H133)","v":0},{"$f":"SUM(I124,I127,I130,I133)","v":0},{"$f":"SUM(J124,J127,J130,J133)","v":9},{"$f":"SUM(K124,K127,K130,K133)","v":0},{"$f":"SUM(L124,L127,L130,L133)","v":9},{"$f":"SUM(M124,M127,M130,M133)","v":0},{"$f":"SUM(N124,N127,N130,N133)","v":0},{"$f":"SUM(O124,O127,O130,O133)","v":3},{"$f":"SUM(P124,P127,P130,P133)","v":3},{"$f":"SUM(Q124,Q127,Q130,Q133)","v":0},{"$f":"SUM(B125:D125)+SUM(B128:D128)+SUM(B131:D131)+SUM(B134:D134)+SUM(F125:H125)+SUM(F128:H128)+SUM(F131:H131)+SUM(F134:H134)+SUM(J125:L125)+SUM(J128:L128)+SUM(J131:L131)+SUM(J134:L134)+SUM(N125:P125)+SUM(N128:P128)+SUM(N131:P131)+SUM(N134:P134)","v":28},{"$f":"SUM(B125,B128,B131,B134)","v":0},{"$f":"SUM(C125,C128,C131,C134)","v":0},{"$f":"SUM(D125,D128,D131,D134)","v":0},{"$f":"SUM(E125,E128,E131,E134)","v":0},{"$f":"SUM(F125,F128,F131,F134)","v":2},{"$f":"SUM(G125,G128,G131,G134)","v":1},{"$f":"SUM(H125,H128,H131,H134)","v":0},{"$f":"SUM(I125,I128,I131,I134)","v":0},{"$f":"SUM(J125,J128,J131,J134)","v":8},{"$f":"SUM(K125,K128,K131,K134)","v":0},{"$f":"SUM(L125,L128,L131,L134)","v":7},{"$f":"SUM(M125,M128,M131,M134)","v":0},{"$f":"SUM(N125,N128,N131,N134)","v":0},{"$f":"SUM(O125,O128,O131,O134)","v":7},{"$f":"SUM(P125,P128,P131,P134)","v":3},{"$f":"SUM(Q125,Q128,Q131,Q134)","v":0}]
["16:45:01.987",{"$f":"ROUND('Import Tab'!E124*'Base Information'!$V$22,0)","v":0},{"$f":"ROUND('Import Tab'!D124*'Base Information'!$V$22,0)","v":0},{"$f":"ROUND('Import Tab'!C124*'Base Information'!$V$22,0)","v":0},{"$f":"ROUND('Import Tab'!F124,0)","v":0},{"$f":"ROUND('Import Tab'!I124*'Base Information'!$V$22,0)","v":2},{"$f":"ROUND('Import Tab'!H124*'Base Information'!$V$22,0)","v":4},{"$f":"ROUND('Import Tab'!G124*'Base Information'!$V$22,0)","v":0},{"$f":"ROUND('Import Tab'!J124,0)","v":0},{"$f":"ROUND('Import Tab'!M124*'Base Information'!$V$22,0)","v":2},{"$f":"ROUND('Import Tab'!L124*'Base Information'!$V$22,0)","v":0},{"$f":"ROUND('Import Tab'!K124*'Base Information'!$V$22,0)","v":1},{"$f":"ROUND('Import Tab'!N124,0)","v":0},{"$f":"ROUND('Import Tab'!Q124*'Base Information'!$V$22,0)","v":0},{"$f":"ROUND('Import Tab'!P124*'Base Information'!$V$22,0)","v":2},{"$f":"ROUND('Import Tab'!O124*'Base Information'!$V$22,0)","v":0},{"$f":"ROUND('Import Tab'!R124,0)","v":0}]
["16:45:01.987",{"$f":"ROUND('Import Tab'!E125*'Base Information'!$V$22,0)","v":0},{"$f":"ROUND('Import Tab'!D125*'Base Information'!$V$22,0)","v":0},{"$f":"ROUND('Import Tab'!C125*'Base Information'!$V$22,0)","v":0},{"$f":"ROUND('Import Tab'!F125,0)","v":0},{"$f":"ROUND('Import Tab'!I125*'Base Information'!$V$22,0)","v":1},{"$f":"ROUND('Import Tab'!H125*'Base Information'!$V$22,0)","v":0},{"$f":"ROUND('Import Tab'!G125*'Base Information'!$V$22,0)","v":0},{"$f":"ROUND('Import Tab'!J125,0)","v":0},{"$f":"ROUND('Import Tab'!M125*'Base Information'!$V$22,0)","v":1},{"$f":"ROUND('Import Tab'!L125*'Base Information'!$V$22,0)","v":0},{"$f":"ROUND('Import Tab'!K125*'Base Information'!$V$22,0)","v":2},{"$f":"ROUND('Import Tab'!N125,0)","v":0},{"$f":"ROUND('Import Tab'!Q125*'Base Information'!$V$22,0)","v":0},{"$f":"ROUND('Import Tab'!P125*'Base Information'!$V$22,0)","v":1},{"$f":"ROUND('Import Tab'!O125*'Base Information'!$V$22,0)","v":1},{"$f":"ROUND('Import Tab'!R125,0)","v":0}]
["17:00:02.016",{"$f":"ROUND('Import Tab'!E126*'Base Information'!$V$22,0)","v":0},{"$f":"ROUND('Import Tab'!D126*'Base Information'!$V$22,0)","v":0},{"$f":"ROUND('Import Tab'!C126*'Base Information'!$V$22,0)","v":0},{"$f":"ROUND('Import Tab'!F126,0)","v":0},{"$f":"ROUND('Import Tab'!I126*'Base Information'!$V$22,0)","v":12},{"$f":"ROUND('Import Tab'!H126*'Base Information'!$V$22,0)","v":129},{"$f":"ROUND('Import Tab'!G126*'Base Information'!$V$22,0)","v":0},{"$f":"ROUND('Import Tab'!J126,0)","v":0},{"$f":"ROUND('Import Tab'!M126*'Base Information'!$V$22,0)","v":76},{"$f":"ROUND('Import Tab'!L126*'Base Information'!$V$22,0)","v":0},{"$f":"ROUND('Import Tab'!K126*'Base Information'!$V$22,0)","v":87},{"$f":"ROUND('Import Tab'!N126,0)","v":3},{"$f":"ROUND('Import Tab'!Q126*'Base Information'!$V$22,0)","v":0},{"$f":"ROUND('Import Tab'!P126*'Base Information'!$V$22,0)","v":117},{"$f":"ROUND('Import Tab'!O126*'Base Information'!$V$22,0)","v":37},{"$f":"ROUND('Import Tab'!R126,0)","v":0},{"$f":"SUM(B126:D128)+SUM(F126:H128)+SUM(J126:L128)+SUM(N126:P128)+E128+I128+M128+Q128","v":476},{"$f":"B126+B127+B128","v":0},0,0,{"$f":"E126","v":0},{"$f":"E127","v":0},{"$f":"E128","v":0},{"$f":"F126+F127+F128","v":14},{"$f":"G126+G127+G128","v":133},{"$f":"H126+H127+H128","v":0},{"$f":"I126","v":0},{"$f":"I127","v":0},{"$f":"I128","v":0},{"$f":"J126+J127+J128","v":81},{"$f":"K126+K127+K128","v":0},{"$f":"L126+L127+L128","v":90},{"$f":"M126","v":3},{"$f":"M127","v":0},{"$f":"M128","v":0},{"$f":"N126+N127+N128","v":0},{"$f":"O126+O127+O128","v":118},{"$f":"P126+P127+P128","v":40},{"$f":"Q126","v":0},{"$f":"Q127","v":0},{"$f":"Q128","v":0},{"$f":"SUM(B126:D126)+SUM(F126:H126)+SUM(J126:L126)+SUM(N126:P126)+E128+I128+M128+Q128","v":458},{"$f":"B126","v":0},{"$f":"C126","v":0},{"$f":"D126","v":0},{"$f":"E126","v":0},{"$f":"F126","v":12},{"$f":"G126","v":129},{"$f":"H126","v":0},{"$f":"I126","v":0},{"$f":"J126","v":76},{"$f":"K126","v":0},{"$f":"L126","v":87},{"$f":"M126","v":3},{"$f":"N126","v":0},{"$f":"O126","v":117},{"$f":"P126","v":37},{"$f":"Q126","v":0},{"$f":"SUM(B127:D127)+SUM(F127:H127)+SUM(J127:L127)+SUM(N127:P127)","v":15},{"$f":"B127","v":0},{"$f":"C127","v":0},{"$f":"D127","v":0},{"$f":"E127","v":0},{"$f":"F127","v":2},{"$f":"G127","v":3},{"$f":"H127","v":0},{"$f":"I127","v":0},{"$f":"J127","v":3},{"$f":"K127","v":0},{"$f":"L127","v":3},{"$f":"M127","v":0},{"$f":"N127","v":0},{"$f":"O127","v":1},{"$f":"P127","v":3},{"$f":"Q127","v":0},{"$f":"SUM(B128:D128)+SUM(F128:H128)+SUM(J128:L128)+SUM(N128:P128)","v":3},{"$f":"B128","v":0},{"$f":"C128","v":0},{"$f":"D128","v":0},{"$f":"E128","v":0},{"$f":"F128","v":0},{"$f":"G128","v":1},{"$f":"H128","v":0},{"$f":"I128","v":0},{"$f":"J128","v":2},{"$f":"K128","v":0},{"$f":"L128","v":0},{"$f":"M128","v":0},{"$f":"N128","v":0},{"$f":"O128","v":0},{"$f":"P128","v":0},{"$f":"Q128","v":0},{"$f":"SUM(B126:D137,E128,E131,E134,E137,F126:H137,I128,I131,I134,I137,J126:L137,M128,M131,M134,M137,N126:P137,Q128,Q131,Q134,Q137)","v":2172},{"$f":"SUM(B126:B137)","v":0},{"$f":"SUM(C126:C137)","v":0},{"$f":"SUM(D126:D137)","v":0},{"$f":"SUM(E126+E129+E132+E135)","v":0},{"$f":"SUM(E127+E130+E133+E136)","v":0},{"$f":"SUM(E128+E131+E134+E137)","v":0},{"$f":"SUM(F126:F137)","v":56},{"$f":"SUM(G126:G137)","v":559},{"$f":"SUM(H126:H137)","v":0},{"$f":"SUM(I126+I129+I132+I135)","v":0},{"$f":"SUM(I127+I130+I133+I136)","v":0},{"$f":"SUM(I128+I131+I134+I137)","v":0},{"$f":"SUM(J126:J137)","v":490},{"$f":"SUM(K126:K137)","v":0},{"$f":"SUM(L126:L137)","v":414},{"$f":"SUM(M126+M129+M132+M135)","v":4},{"$f":"SUM(M127+M130+M133+M136)","v":0},{"$f":"SUM(M128+M131+M134+M137)","v":0},{"$f":"SUM(N126:N137)","v":0},{"$f":"SUM(O126:O137)","v":520},{"$f":"SUM(P126:P137)","v":133},{"$f":"SUM(Q126+Q129+Q132+Q135)","v":0},{"$f":"SUM(Q127+Q130+Q133+Q136)","v":0},{"$f":"SUM(Q128+Q131+Q134+Q137)","v":0},{"$f":"SUM(B126:D126)+SUM(B129:D129)+SUM(B132:D132)+SUM(B135:D135)+SUM(F126:H126)+SUM(F129:H129)+SUM(F132:H132)+SUM(F135:H135)+SUM(J126:L126)+SUM(J129:L129)+SUM(J132:L132)+SUM(J135:L135)+SUM(N126:P126)+SUM(N129:P129)+SUM(N132:P132)+SUM(N135:P135)+E128+E131+E134+E137+I128+I131+I134+I137+M128+M131+M134+M137+Q128+Q131+Q134+Q137","v":2116},{"$f":"SUM(B126,B129,B132,B135)","v":0},{"$f":"SUM(C126,C129,C132,C135)","v":0},{"$f":"SUM(D126,D129,D132,D135)","v":0},{"$f":"SUM(E126,E129,E132,E135)","v":0},{"$f":"SUM(F126,F129,F132,F135)","v":52},{"$f":"SUM(G126,G129,G132,G135)","v":552},{"$f":"SUM(H126,H129,H132,H135)","v":0},{"$f":"SUM(I126,I129,I132,I135)","v":0},{"$f":"SUM(J126,J129,J132,J135)","v":471},{"$f":"SUM(K126,K129,K132,K135)","v":0},{"$f":"SUM(L126,L129,L132,L135)","v":401},{"$f":"SUM(M126,M129,M132,M135)","v":4},{"$f":"SUM(N126,N129,N132,N135)","v":0},{"$f":"SUM(O126,O129,O132,O135)","v":512},{"$f":"SUM(P126,P129,P132,P135)","v":128},{"$f":"SUM(Q126,Q129,Q132,Q135)","v":0},{"$f":"SUM(B127:D127)+SUM(B130:D130)+SUM(B133:D133)+SUM(B136:D136)+SUM(F127:H127)+SUM(F130:H130)+SUM(F133:H133)+SUM(F136:H136)+SUM(J127:L127)+SUM(J130:L130)+SUM(J133:L133)+SUM(J136:L136)+SUM(N127:P127)+SUM(N130:P130)+SUM(N133:P133)+SUM(N136:P136)","v":29},{"$f":"SUM(B127,B130,B133,B136)","v":0},{"$f":"SUM(C127,C130,C133,C136)","v":0},{"$f":"SUM(D127,D130,D133,D136)","v":0},{"$f":"SUM(E127,E130,E133,E136)","v":0},{"$f":"SUM(F127,F130,F133,F136)","v":3},{"$f":"SUM(G127,G130,G133,G136)","v":6},{"$f":"SUM(H127,H130,H133,H136)","v":0},{"$f":"SUM(I127,I130,I133,I136)","v":0},{"$f":"SUM(J127,J130,J133,J136)","v":8},{"$f":"SUM(K127,K130,K133,K136)","v":0},{"$f":"SUM(L127,L130,L133,L136)","v":8},{"$f":"SUM(M127,M130,M133,M136)","v":0},{"$f":"SUM(N127,N130,N133,N136)","v":0},{"$f":"SUM(O127,O130,O133,O136)","v":1},{"$f":"SUM(P127,P130,P133,P136)","v":3},{"$f":"SUM(Q127,Q130,Q133,Q136)","v":0},{"$f":"SUM(B128:D128)+SUM(B131:D131)+SUM(B134:D134)+SUM(B137:D137)+SUM(F128:H128)+SUM(F131:H131)+SUM(F134:H134)+SUM(F137:H137)+SUM(J128:L128)+SUM(J131:L131)+SUM(J134:L134)+SUM(J137:L137)+SUM(N128:P128)+SUM(N131:P131)+SUM(N134:P134)+SUM(N137:P137)","v":27},{"$f":"SUM(B128,B131,B134,B137)","v":0},{"$f":"SUM(C128,C131,C134,C137)","v":0},{"$f":"SUM(D128,D131,D134,D137)","v":0},{"$f":"SUM(E128,E131,E134,E137)","v":0},{"$f":"SUM(F128,F131,F134,F137)","v":1},{"$f":"SUM(G128,G131,G134,G137)","v":1},{"$f":"SUM(H128,H131,H134,H137)","v":0},{"$f":"SUM(I128,I131,I134,I137)","v":0},{"$f":"SUM(J128,J131,J134,J137)","v":11},{"$f":"SUM(K128,K131,K134,K137)","v":0},{"$f":"SUM(L128,L131,L134,L137)","v":5},{"$f":"SUM(M128,M131,M134,M137)","v":0},{"$f":"SUM(N128,N131,N134,N137)","v":0},{"$f":"SUM(O128,O131,O134,O137)","v":7},{"$f":"SUM(P128,P131,P134,P137)","v":2},{"$f":"SUM(Q128,Q131,Q134,Q137)","v":0}]
["17:00:02.016",{"$f":"ROUND('Import Tab'!E127*'Base Information'!$V$22,0)","v":0},{"$f":"ROUND('Import Tab'!D127*'Base Information'!$V$22,0)","v":0},{"$f":"ROUND('Import Tab'!C127*'Base Information'!$V$22,0)","v":0},{"$f":"ROUND('Import Tab'!F127,0)","v":0},{"$f":"ROUND('Import Tab'!I127*'Base Information'!$V$22,0)","v":2},{"$f":"ROUND('Import Tab'!H127*'Base Information'!$V$22,0)","v":3},{"$f":"ROUND('Import Tab'!G127*'Base Information'!$V$22,0)","v":0},{"$f":"ROUND('Import Tab'!J127,0)","v":0},{"$f":"ROUND('Import Tab'!M127*'Base Information'!$V$22,0)","v":3},{"$f":"ROUND('Import Tab'!L127*'Base Information'!$V$22,0)","v":0},{"$f":"ROUND('Import Tab'!K127*'Base Information'!$V$22,0)","v":3},{"$f":"ROUND('Import Tab'!N127,0)","v":0},{"$f":"ROUND('Import Tab'!Q127*'Base Information'!$V$22,0)","v":0},{"$f":"ROUND('Import Tab'!P127*'Base Information'!$V$22,0)","v":1},{"$f":"ROUND('Import Tab'!O127*'Base Information'!$V$22,0)","v":3},{"$f":"ROUND('Import Tab'!R127,0)","v":0}]
["17:00:02.016",{"$f":"ROUND('Import Tab'!E128*'Base Information'!$V$22,0)","v":0},{"$f":"ROUND('Import Tab'!D128*'Base Information'!$V$22,0)","v":0},{"$f":"ROUND('Import Tab'!C128*'Base Information'!$V$22,0)","v":0},{"$f":"ROUND('Import Tab'!F128,0)","v":0},{"$f":"ROUND('Import Tab'!I128*'Base Information'!$V$22,0)","v":0},{"$f":"ROUND('Import Tab'!H128*'Base Information'!$V$22,0)","v":1},{"$f":"ROUND('Import Tab'!G128*'Base Information'!$V$22,0)","v":0},{"$f":"ROUND('Import Tab'!J128,0)","v":0},{"$f":"ROUND('Import Tab'!M128*'Base Information'!$V$22,0)","v":2},{"$f":"ROUND('Import Tab'!L128*'Base Information'!$V$22,0)","v":0},{"$f":"ROUND('Import Tab'!K128*'Base Information'!$V$22,0)","v":0},{"$f":"ROUND('Import Tab'!N128,0)","v":0},{"$f":"ROUND('Import Tab'!Q128*'Base Information'!$V$22,0)","v":0},{"$f":"ROUND('Import Tab'!P128*'Base Information'!$V$22,0)","v":0},{"$f":"ROUND('Import Tab'!O128*'Base Information'!$V$22,0)","v":0},{"$f":"ROUND('Import Tab'!R128,0)","v":0}]
["17:15:02.045",{"$f":"ROUND('Import Tab'!E129*'Base Information'!$V$22,0)","v":0},{"$f":"ROUND('Import Tab'!D129*'Base Information'!$V$22,0)","v":0},{"$f":"ROUND('Import Tab'!C129*'Base Information'!$V$22,0)","v":0},{"$f":"ROUND('Import Tab'!F129,0)","v":0},{"$f":"ROUND('Import Tab'!I129*'Base Information'!$V$22,0)","v":10},{"$f":"ROUND('Import Tab'!H129*'Base Information'!$V$22,0)","v":124},{"$f":"ROUND('Import Tab'!G129*'Base Information'!$V$22,0)","v":0},{"$f":"ROUND('Import Tab'!J129,0)","v":0},{"$f":"ROUND('Import Tab'!M129*'Base Information'!$V$22,0)","v":124},{"$f":"ROUND('Import Tab'!L129*'Base Information'!$V$22,0)","v":0},{"$f":"ROUND('Import Tab'!K129*'Base Information'!$V$22,0)","v":108},{"$f":"ROUND('Import Tab'!N129,0)","v":0},{"$f":"ROUND('Import Tab'!Q129*'Base Information'!$V$22,0)","v":0},{"$f":"ROUND('Import Tab'!P129*'Base Information'!$V$22,0)","v":125},{"$f":"ROUND('Import Tab'!O129*'Base Information'!$V$22,0)","v":27},{"$f":"ROUND('Import Tab'!R129,0)","v":0},{"$f":"SUM(B129:D131)+SUM(F129:H131)+SUM(J129:L131)+SUM(N129:P131)+E131+I131+M131+Q131","v":532},{"$f":"B129+B130+B131","v":0},0,0,{"$f":"E129","v":0},{"$f":"E130","v":0},{"$f":"E131","v":0},{"$f":"F129+F130+F131","v":10},{"$f":"G129+G130+G131","v":125},{"$f":"H129+H130+H131","v":0},{"$f":"I129","v":0},{"$f":"I130","v":0},{"$f":"I131","v":0},{"$f":"J129+J130+J131","v":129},{"$f":"K129+K130+K131","v":0},{"$f":"L129+L130+L131","v":115},{"$f":"M129","v":0},{"$f":"M130","v":0},{"$f":"M131","v":0},{"$f":"N129+N130+N131","v":0},{"$f":"O129+O130+O131","v":126},{"$f":"P129+P130+P131","v":27},{"$f":"Q129","v":0},{"$f":"Q130","v":0},{"$f":"Q131","v":0},{"$f":"SUM(B129:D129)+SUM(F129:H129)+SUM(J129:L129)+SUM(N129:P129)+E131+I131+M131+Q131","v":518},{"$f":"B129","v":0},{"$f":"C129","v":0},{"$f":"D129","v":0},{"$f":"E129","v":0},{"$f":"F129","v":10},{"$f":"G129","v":124},{"$f":"H129","v":0},{"$f":"I129","v":0},{"$f":"J129","v":124},{"$f":"K129","v":0},{"$f":"L129","v":108},{"$f":"M129","v":0},{"$f":"N129","v":0},{"$f":"O129","v":125},{"$f":"P129","v":27},{"$f":"Q129","v":0},{"$f":"SUM(B130:D130)+SUM(F130:H130)+SUM(J130:L130)+SUM(N130:P130)","v":8},{"$f":"B130","v":0},{"$f":"C130","v":0},{"$f":"D130","v":0},{"$f":"E130","v":0},{"$f":"F130","v":0},{"$f":"G130","v":1},{"$f":"H130","v":0},{"$f":"I130","v":0},{"$f":"J130","v":3},{"$f":"K130","v":0},{"$f":"L130","v":4},{"$f":"M130","v":0},{"$f":"N130","v":0},{"$f":"O130","v":0},{"$f":"P130","v":0},{"$f":"Q130","v":0},{"$f":"SUM(B131:D131)+SUM(F131:H131)+SUM(J131:L131)+SUM(N131:P131)","v":6},{"$f":"B131","v":0},{"$f":"C131","v":0},{"$f":"D131","v":0},{"$f":"E131","v":0},{"$f":"F131","v":0},{"$f":"G131","v":0},{"$f":"H131","v":0},{"$f":"I131","v":0},{"$f":"J131","v":2},{"$f":"K131","v":0},{"$f":"L131","v":3},{"$f":"M131","v":0},{"$f":"N131","v":0},{"$f":"O131","v":1},{"$f":"P131","v":0},{"$f":"Q131","v":0},{"$f":"SUM(B129:D140,E131,E134,E137,E140,F129:H140,I131,I134,I137,I140,J129:L140,M131,M134,M137,M140,N129:P140,Q131,Q134,Q137,Q140)","v":2205},{"$f":"SUM(B129:B140)","v":0},{"$f":"SUM(C129:C140)","v":0},{"$f":"SUM(D129:D140)","v":0},{"$f":"SUM(E129+E132+E135+E138)","v":0},{"$f":"SUM(E130+E133+E136+E139)","v":0},{"$f":"SUM(E131+E134+E137+E140)","v":0},{"$f":"SUM(F129:F140)","v":62},{"$f":"SUM(G129:G140)","v":565},{"$f":"SUM(H129:H140)","v":0},{"$f":"SUM(I129+I132+I135+I138)","v":0},{"$f":"SUM(I130+I133+I136+I139)","v":0},{"$f":"SUM(I131+I134+I137+I140)","v":0},{"$f":"SUM(J129:J140)","v":513},{"$f":"SUM(K129:K140)","v":0},{"$f":"SUM(L129:L140)","v":420},{"$f":"SUM(M129+M132+M135+M138)","v":1},{"$f":"SUM(M130+M133+M136+M139)","v":0},{"$f":"SUM(M131+M134+M137+M140)","v":0},{"$f":"SUM(N129:N140)","v":0},{"$f":"SUM(O129:O140)","v":528},{"$f":"SUM(P129:P140)","v":117},{"$f":"SUM(Q129+Q132+Q135+Q138)","v":0},{"$f":"SUM(Q130+Q133+Q136+Q139)","v":0},{"$f":"SUM(Q131+Q134+Q137+Q140)","v":0},{"$f":"SUM(B129:D129)+SUM(B132:D132)+SUM(B135:D135)+SUM(B138:D138)+SUM(F129:H129)+SUM(F132:H132)+SUM(F135:H135)+SUM(F138:H138)+SUM(J129:L129)+SUM(J132:L132)+SUM(J135:L135)+SUM(J138:L138)+SUM(N129:P129)+SUM(N132:P132)+SUM(N135:P135)+SUM(N138:P138)+E131+E134+E137+E140+I131+I134+I137+I140+M131+M134+M137+M140+Q131+Q134+Q137+Q140","v":2163},{"$f":"SUM(B129,B132,B135,B138)","v":0},{"$f":"SUM(C129,C132,C135,C138)","v":0},{"$f":"SUM(D129,D132,D135,D138)","v":0},{"$f":"SUM(E129,E132,E135,E138)","v":0},{"$f":"SUM(F129,F132,F135,F138)","v":60},{"$f":"SUM(G129,G132,G135,G138)","v":561},{"$f":"SUM(H129,H132,H135,H138)","v":0},{"$f":"SUM(I129,I132,I135,I138)","v":0},{"$f":"SUM(J129,J132,J135,J138)","v":498},{"$f":"SUM(K129,K132,K135,K138)","v":0},{"$f":"SUM(L129,L132,L135,L138)","v":408},{"$f":"SUM(M129,M132,M135,M138)","v":1},{"$f":"SUM(N129,N132,N135,N138)","v":0},{"$f":"SUM(O129,O132,O135,O138)","v":521},{"$f":"SUM(P129,P132,P135,P138)","v":115},{"$f":"SUM(Q129,Q132,Q135,Q138)","v":0},{"$f":"SUM(B130:D130)+SUM(B133:D133)+SUM(B136:D136)+SUM(B139:D139)+SUM(F130:H130)+SUM(F133:H133)+SUM(F136:H136)+SUM(F139:H139)+SUM(J130:L130)+SUM(J133:L133)+SUM(J136:L136)+SUM(J139:L139)+SUM(N130:P130)+SUM(N133:P133)+SUM(N136:P136)+SUM(N139:P139)","v":16},{"$f":"SUM(B130,B133,B136,B139)","v":0},{"$f":"SUM(C130,C133,C136,C139)","v":0},{"$f":"SUM(D130,D133,D136,D139)","v":0},{"$f":"SUM(E130,E133,E136,E139)","v":0},{"$f":"SUM(F130,F133,F136,F139)","v":1},{"$f":"SUM(G130,G133,G136,G139)","v":4},{"$f":"SUM(H130,H133,H136,H139)","v":0},{"$f":"SUM(I130,I133,I136,I139)","v":0},{"$f":"SUM(J130,J133,J136,J139)","v":5},{"$f":"SUM(K130,K133,K136,K139)","v":0},{"$f":"SUM(L130,L133,L136,L139)","v":6},{"$f":"SUM(M130,M133,M136,M139)","v":0},{"$f":"SUM(N130,N133,N136,N139)","v":0},{"$f":"SUM(O130,O133,O136,O139)","v":0},{"$f":"SUM(P130,P133,P136,P139)","v":0},{"$f":"SUM(Q130,Q133,Q136,Q139)","v":0},{"$f":"SUM(B131:D131)+SUM(B134:D134)+SUM(B137:D137)+SUM(B140:D140)+SUM(F131:H131)+SUM(F134:H134)+SUM(F137:H137)+SUM(F140:H140)+SUM(J131:L131)+SUM(J134:L134)+SUM(J137:L137)+SUM(J140:L140)+SUM(N131:P131)+SUM(N134:P134)+SUM(N137:P137)+SUM(N140:P140)","v":26},{"$f":"SUM(B131,B134,B137,B140)","v":0},{"$f":"SUM(C131,C134,C137,C140)","v":0},{"$f":"SUM(D131,D134,D137,D140)","v":0},{"$f":"SUM(E131,E134,E137,E140)","v":0},{"$f":"SUM(F131,F134,F137,F140)","v":1},{"$f":"SUM(G131,G134,G137,G140)","v":0},{"$f":"SUM(H131,H134,H137,H140)","v":0},{"$f":"SUM(I131,I134,I137,I140)","v":0},{"$f":"SUM(J131,J134,J137,J140)","v":10},{"$f":"SUM(K131,K134,K137,K140)","v":0},{"$f":"SUM(L131,L134,L137,L140)","v":6},{"$f":"SUM(M131,M134,M137,M140)","v":0},{"$f":"SUM(N131,N134,N137,N140)","v":0},{"$f":"SUM(O131,O134,O137,O140)","v":7},{"$f":"SUM(P131,P134,P137,P140)","v":2},{"$f":"SUM(Q131,Q134,Q137,Q140)","v":0}]
["17:15:02.045",{"$f":"ROUND('Import Tab'!E130*'Base Information'!$V$22,0)","v":0},{"$f":"ROUND('Import Tab'!D130*'Base Information'!$V$22,0)","v":0},{"$f":"ROUND('Import Tab'!C130*'Base Information'!$V$22,0)","v":0},{"$f":"ROUND('Import Tab'!F130,0)","v":0},{"$f":"ROUND('Import Tab'!I130*'Base Information'!$V$22,0)","v":0},{"$f":"ROUND('Import Tab'!H130*'Base Information'!$V$22,0)","v":1},{"$f":"ROUND('Import Tab'!G130*'Base Information'!$V$22,0)","v":0},{"$f":"ROUND('Import Tab'!J130,0)","v":0},{"$f":"ROUND('Import Tab'!M130*'Base Information'!$V$22,0)","v":3},{"$f":"ROUND('Import Tab'!L130*'Base Information'!$V$22,0)","v":0},{"$f":"ROUND('Import Tab'!K130*'Base Information'!$V$22,0)","v":4},{"$f":"ROUND('Import Tab'!N130,0)","v":0},{"$f":"ROUND('Import Tab'!Q130*'Base Information'!$V$22,0)","v":0},{"$f":"ROUND('Import Tab'!P130*'Base Information'!$V$22,0)","v":0},{"$f":"ROUND('Import Tab'!O130*'Base Information'!$V$22,0)","v":0},{"$f":"ROUND('Import Tab'!R130,0)","v":0}]
["17:15:02.045",{"$f":"ROUND('Import Tab'!E131*'Base Information'!$V$22,0)","v":0},{"$f":"ROUND('Import Tab'!D131*'Base Information'!$V$22,0)","v":0},{"$f":"ROUND('Import Tab'!C131*'Base Information'!$V$22,0)","v":0},{"$f":"ROUND('Import Tab'!F131,0)","v":0},{"$f":"ROUND('Import Tab'!I131*'Base Information'!$V$22,0)","v":0},{"$f":"ROUND('Import Tab'!H131*'Base Information'!$V$22,0)","v":0},{"$f":"ROUND('Import Tab'!G131*'Base Information'!$V$22,0)","v":0},{"$f":"ROUND('Import Tab'!J131,0)","v":0},{"$f":"ROUND('Import Tab'!M131*'Base Information'!$V$22,0)","v":2},{"$f":"ROUND('Import Tab'!L131*'Base Information'!$V$22,0)","v":0},{"$f":"ROUND('Import Tab'!K131*'Base Information'!$V$22,0)","v":3},{"$f":"ROUND('Import Tab'!N131,0)","v":0},{"$f":"ROUND('Import Tab'!Q131*'Base Information'!$V$22,0)","v":0},{"$f":"ROUND('Import Tab'!P131*'Base Information'!$V$22,0)","v":1},{"$f":"ROUND('Import Tab'!O131*'Base Information'!$V$22,0)","v":0},{"$f":"ROUND('Import Tab'!R131,0)","v":0}]
["17:30:02.074",{"$f":"ROUND('Import Tab'!E132*'Base Information'!$V$22,0)","v":0},{"$f":"ROUND('Import Tab'!D132*'Base Information'!$V$22,0)","v":0},{"$f":"ROUND('Import Tab'!C132*'Base Information'!$V$22,0)","v":0},{"$f":"ROUND('Import Tab'!F132,0)","v":0},{"$f":"ROUND('Import Tab'!I132*'Base Information'!$V$22,0)","v":14},{"$f":"ROUND('Import Tab'!H132*'Base Information'!$V$22,0)","v":142},{"$f":"ROUND('Import Tab'!G132*'Base Information'!$V$22,0)","v":0},{"$f":"ROUND('Import Tab'!J132,0)","v":0},{"$f":"ROUND('Import Tab'!M132*'Base Information'!$V$22,0)","v":124},{"$f":"ROUND('Import Tab'!L132*'Base Information'!$V$22,0)","v":0},{"$f":"ROUND('Import Tab'!K132*'Base Information'!$V$22,0)","v":89},{"$f":"ROUND('Import Tab'!N132,0)","v":0},{"$f":"ROUND('Import Tab'!Q132*'Base Information'!$V$22,0)","v":0},{"$f":"ROUND('Import Tab'!P132*'Base Information'!$V$22,0)","v":143},{"$f":"ROUND('Import Tab'!O132*'Base Information'!$V$22,0)","v":29},{"$f":"ROUND('Import Tab'!R132,0)","v":0},{"$f":"SUM(B132:D134)+SUM(F132:H134)+SUM(J132:L134)+SUM(N132:P134)+E134+I134+M134+Q134","v":559},{"$f":"B132+B133+B134","v":0},0,0,{"$f":"E132","v":0},{"$f":"E133","v":0},{"$f":"E134","v":0},{"$f":"F132+F133+F134","v":16},{"$f":"G132+G133+G134","v":144},{"$f":"H132+H133+H134","v":0},{"$f":"I132","v":0},{"$f":"I133","v":0},{"$f":"I134","v":0},{"$f":"J132+J133+J134","v":128},{"$f":"K132+K133+K134","v":0},{"$f":"L132+L133+L134","v":92},{"$f":"M132","v":0},{"$f":"M133","v":0},{"$f":"M134","v":0},{"$f":"N132+N133+N134","v":0},{"$f":"O132+O133+O134","v":148},{"$f":"P132+P133+P134","v":31},{"$f":"Q132","v":0},{"$f":"Q133","v":0},{"$f":"Q134","v":0},{"$f":"SUM(B132:D132)+SUM(F132:H132)+SUM(J132:L132)+SUM(N132:P132)+E134+I134+M134+Q134","v":541},{"$f":"B132","v":0},{"$f":"C132","v":0},{"$f":"D132","v":0},{"$f":"E132","v":0},{"$f":"F132","v":14},{"$f":"G132","v":142},{"$f":"H132","v":0},{"$f":"I132","v":0},{"$f":"J132","v":124},{"$f":"K132","v":0},{"$f":"L132","v":89},{"$f":"M132","v":0},{"$f":"N132","v":0},{"$f":"O132","v":143},{"$f":"P132","v":29},{"$f":"Q132","v":0},{"$f":"SUM(B133:D133)+SUM(F133:H133)+SUM(J133:L133)+SUM(N133:P133)","v":5},{"$f":"B133","v":0},{"$f":"C133","v":0},{"$f":"D133","v":0},{"$f":"E133","v":0},{"$f":"F133","v":1},{"$f":"G133","v":2},{"$f":"H133","v":0},{"$f":"I133","v":0},{"$f":"J133","v":1},{"$f":"K133","v":0},{"$f":"L133","v":1},{"$f":"M133","v":0},{"$f":"N133","v":0},{"$f":"O133","v":0},{"$f":"P133","v":0},{"$f":"Q133","v":0},{"$f":"SUM(B134:D134)+SUM(F134:H134)+SUM(J134:L134)+SUM(N134:P134)","v":13},{"$f":"B134","v":0},{"$f":"C134","v":0},{"$f":"D134","v":0},{"$f":"E134","v":0},{"$f":"F134","v":1},{"$f":"G134","v":0},{"$f":"H134","v":0},{"$f":"I134","v":0},{"$f":"J134","v":3},{"$f":"K134","v":0},{"$f":"L134","v":2},{"$f":"M134","v":0},{"$f":"N134","v":0},{"$f":"O134","v":5},{"$f":"P134","v":2},{"$f":"Q134","v":0},{"$f":"SUM(B132:D143,E134,E137,E140,E143,F132:H143,I134,I137,I140,I143,J132:L143,M134,M137,M140,M143,N132:P143,Q134,Q137,Q140,Q143)","v":2241},{"$f":"SUM(B132:B143)","v":0},{"$f":"SUM(C132:C143)","v":0},{"$f":"SUM(D132:D143)","v":0},{"$f":"SUM(E132+E135+E138+E141)","v":0},{"$f":"SUM(E133+E136+E139+E142)","v":0},{"$f":"SUM(E134+E137+E140+E143)","v":0},{"$f":"SUM(F132:F143)","v":64},{"$f":"SUM(G132:G143)","v":590},{"$f":"SUM(H132:H143)","v":0},{"$f":"SUM(I132+I135+I138+I141)","v":0},{"$f":"SUM(I133+I136+I139+I142)","v":0},{"$f":"SUM(I134+I137+I140+I143)","v":0},{"$f":"SUM(J132:J143)","v":521},{"$f":"SUM(K132:K143)","v":0},{"$f":"SUM(L132:L143)","v":413},{"$f":"SUM(M132+M135+M138+M141)","v":3},{"$f":"SUM(M133+M136+M139+M142)","v":0},{"$f":"SUM(M134+M137+M140+M143)","v":0},{"$f":"SUM(N132:N143)","v":0},{"$f":"SUM(O132:O143)","v":544},{"$f":"SUM(P132:P143)","v":109},{"$f":"SUM(Q132+Q135+Q138+Q141)","v":0},{"$f":"SUM(Q133+Q136+Q139+Q142)","v":0},{"$f":"SUM(Q134+Q137+Q140+Q143)","v":0},{"$f":"SUM(B132:D132)+SUM(B135:D135)+SUM(B138:D138)+SUM(B141:D141)+SUM(F132:H132)+SUM(F135:H135)+SUM(F138:H138)+SUM(F141:H141)+SUM(J132:L132)+SUM(J135:L135)+SUM(J138:L138)+SUM(J141:L141)+SUM(N132:P132)+SUM(N135:P135)+SUM(N138:P138)+SUM(N141:P141)+E134+E137+E140+E143+I134+I137+I140+I143+M134+M137+M140+M143+Q134+Q137+Q140+Q143","v":2200},{"$f":"SUM(B132,B135,B138,B141)","v":0},{"$f":"SUM(C132,C135,C138,C141)","v":0},{"$f":"SUM(D132,D135,D138,D141)","v":0},{"$f":"SUM(E132,E135,E138,E141)","v":0},{"$f":"SUM(F132,F135,F138,F141)","v":61},{"$f":"SUM(G132,G135,G138,G141)","v":582},{"$f":"SUM(H132,H135,H138,H141)","v":0},{"$f":"SUM(I132,I135,I138,I141)","v":0},{"$f":"SUM(J132,J135,J138,J141)","v":506},{"$f":"SUM(K132,K135,K138,K141)","v":0},{"$f":"SUM(L132,L135,L138,L141)","v":407},{"$f":"SUM(M132,M135,M138,M141)","v":3},{"$f":"SUM(N132,N135,N138,N141)","v":0},{"$f":"SUM(O132,O135,O138,O141)","v":538},{"$f":"SUM(P132,P135,P138,P141)","v":106},{"$f":"SUM(Q132,Q135,Q138,Q141)","v":0},{"$f":"SUM(B133:D133)+SUM(B136:D136)+SUM(B139:D139)+SUM(B142:D142)+SUM(F133:H133)+SUM(F136:H136)+SUM(F139:H139)+SUM(F142:H142)+SUM(J133:L133)+SUM(J136:L136)+SUM(J139:L139)+SUM(J142:L142)+SUM(N133:P133)+SUM(N136:P136)+SUM(N139:P139)+SUM(N142:P142)","v":10},{"$f":"SUM(B133,B136,B139,B142)","v":0},{"$f":"SUM(C133,C136,C139,C142)","v":0},{"$f":"SUM(D133,D136,D139,D142)","v":0},{"$f":"SUM(E133,E136,E139,E142)","v":0},{"$f":"SUM(F133,F136,F139,F142)","v":1},{"$f":"SUM(G133,G136,G139,G142)","v":4},{"$f":"SUM(H133,H136,H139,H142)","v":0},{"$f":"SUM(I133,I136,I139,I142)","v":0},{"$f":"SUM(J133,J136,J139,J142)","v":3},{"$f":"SUM(K133,K136,K139,K142)","v":0},{"$f":"SUM(L133,L136,L139,L142)","v":2},{"$f":"SUM(M133,M136,M139,M142)","v":0},{"$f":"SUM(N133,N136,N139,N142)","v":0},{"$f":"SUM(O133,O136,O139,O142)","v":0},{"$f":"SUM(P133,P136,P139,P142)","v":0},{"$f":"SUM(Q133,Q136,Q139,Q142)","v":0},{"$f":"SUM(B134:D134)+SUM(B137:D137)+SUM(B140:D140)+SUM(B143:D143)+SUM(F134:H134)+SUM(F137:H137)+SUM(F140:H140)+SUM(F143:H143)+SUM(J134:L134)+SUM(J137:L137)+SUM(J140:L140)+SUM(J143:L143)+SUM(N134:P134)+SUM(N137:P137)+SUM(N140:P140)+SUM(N143:P143)","v":31},{"$f":"SUM(B134,B137,B140,B143)","v":0},{"$f":"SUM(C134,C137,C140,C143)","v":0},{"$f":"SUM(D134,D137,D140,D143)","v":0},{"$f":"SUM(E134,E137,E140,E143)","v":0},{"$f":"SUM(F134,F137,F140,F143)","v":2},{"$f":"SUM(G134,G137,G140,G143)","v":4},{"$f":"SUM(H134,H137,H140,H143)","v":0},{"$f":"SUM(I134,I137,I140,I143)","v":0},{"$f":"SUM(J134,J137,J140,J143)","v":12},{"$f":"SUM(K134,K137,K140,K143)","v":0},{"$f":"SUM(L134,L137,L140,L143)","v":4},{"$f":"SUM(M134,M137,M140,M143)","v":0},{"$f":"SUM(N134,N137,N140,N143)","v":0},{"$f":"SUM(O134,O137,O140,O143)","v":6},{"$f":"SUM(P134,P137,P140,P143)","v":3},{"$f":"SUM(Q134,Q137,Q140,Q143)","v":0}]
["17:30:02.074",{"$f":"ROUND('Import Tab'!E133*'Base Information'!$V$22,0)","v":0},{"$f":"ROUND('Import Tab'!D133*'Base Information'!$V$22,0)","v":0},{"$f":"ROUND('Import Tab'!C133*'Base Information'!$V$22,0)","v":0},{"$f":"ROUND('Import Tab'!F133,0)","v":0},{"$f":"ROUND('Import Tab'!I133*'Base Information'!$V$22,0)","v":1},{"$f":"ROUND('Import Tab'!H133*'Base Information'!$V$22,0)","v":2},{"$f":"ROUND('Import Tab'!G133*'Base Information'!$V$22,0)","v":0},{"$f":"ROUND('Import Tab'!J133,0)","v":0},{"$f":"ROUND('Import Tab'!M133*'Base Information'!$V$22,0)","v":1},{"$f":"ROUND('Import Tab'!L133*'Base Information'!$V$22,0)","v":0},{"$f":"ROUND('Import Tab'!K133*'Base Information'!$V$22,0)","v":1},{"$f":"ROUND('Import Tab'!N133,0)","v":0},{"$f":"ROUND('Import Tab'!Q133*'Base Information'!$V$22,0)","v":0},{"$f":"ROUND('Import Tab'!P133*'Base Information'!$V$22,0)","v":0},{"$f":"ROUND('Import Tab'!O133*'Base Information'!$V$22,0)","v":0},{"$f":"ROUND('Import Tab'!R133,0)","v":0}]
["17:30:02.074",{"$f":"ROUND('Import Tab'!E134*'Base Information'!$V$22,0)","v":0},{"$f":"ROUND('Import Tab'!D134*'Base Information'!$V$22,0)","v":0},{"$f":"ROUND('Import Tab'!C134*'Base Information'!$V$22,0)","v":0},{"$f":"ROUND('Import Tab'!F134,0)","v":0},{"$f":"ROUND('Import Tab'!I134*'Base Information'!$V$22,0)","v":1},{"$f":"ROUND('Import Tab'!H134*'Base Information'!$V$22,0)","v":0},{"$f":"ROUND('Import Tab'!G134*'Base Information'!$V$22,0)","v":0},{"$f":"ROUND('Import Tab'!J134,0)","v":0},{"$f":"ROUND('Import Tab'!M134*'Base Information'!$V$22,0)","v":3},{"$f":"ROUND('Import Tab'!L134*'Base Information'!$V$22,0)","v":0},{"$f":"ROUND('Import Tab'!K134*'Base Information'!$V$22,0)","v":2},{"$f":"ROUND('Import Tab'!N134,0)","v":0},{"$f":"ROUND('Import Tab'!Q134*'Base Information'!$V$22,0)","v":0},{"$f":"ROUND('Import Tab'!P134*'Base Information'!$V$22,0)","v":5},{"$f":"ROUND('Import Tab'!O134*'Base Information'!$V$22,0)","v":2},{"$f":"ROUND('Import Tab'!R134,0)","v":0}]
["17:45:02.102",{"$f":"ROUND('Import Tab'!E135*'Base Information'!$V$22,0)","v":0},{"$f":"ROUND('Import Tab'!D135*'Base Information'!$V$22,0)","v":0},{"$f":"ROUND('Import Tab'!C135*'Base Information'!$V$22,0)","v":0},{"$f":"ROUND('Import Tab'!F135,0)","v":0},{"$f":"ROUND('Import Tab'!I135*'Base Information'!$V$22,0)","v":16},{"$f":"ROUND('Import Tab'!H135*'Base Information'!$V$22,0)","v":157},{"$f":"ROUND('Import Tab'!G135*'Base Information'!$V$22,0)","v":0},{"$f":"ROUND('Import Tab'!J135,0)","v":0},{"$f":"ROUND('Import Tab'!M135*'Base Information'!$V$22,0)","v":147},{"$f":"ROUND('Import Tab'!L135*'Base Information'!$V$22,0)","v":0},{"$f":"ROUND('Import Tab'!K135*'Base Information'!$V$22,0)","v":117},{"$f":"ROUND('Import Tab'!N135,0)","v":1},{"$f":"ROUND('Import Tab'!Q135*'Base Information'!$V$22,0)","v":0},{"$f":"ROUND('Import Tab'!P135*'Base Information'!$V$22,0)","v":127},{"$f":"ROUND('Import Tab'!O135*'Base Information'!$V$22,0)","v":35},{"$f":"ROUND('Import Tab'!R135,0)","v":0},{"$f":"SUM(B135:D137)+SUM(F135:H137)+SUM(J135:L137)+SUM(N135:P137)+E137+I137+M137+Q137","v":605},{"$f":"B135+B136+B137","v":0},0,0,{"$f":"E135","v":0},{"$f":"E136","v":0},{"$f":"E137","v":0},{"$f":"F135+F136+F137","v":16},{"$f":"G135+G136+G137","v":157},{"$f":"H135+H136+H137","v":0},{"$f":"I135","v":0},{"$f":"I136","v":0},{"$f":"I137","v":0},{"$f":"J135+J136+J137","v":152},{"$f":"K135+K136+K137","v":0},{"$f":"L135+L136+L137","v":117},{"$f":"M135","v":1},{"$f":"M136","v":0},{"$f":"M137","v":0},{"$f":"N135+N136+N137","v":0},{"$f":"O135+O136+O137","v":128},{"$f":"P135+P136+P137","v":35},{"$f":"Q135","v":0},{"$f":"Q136","v":0},{"$f":"Q137","v":0},{"$f":"SUM(B135:D135)+SUM(F135:H135)+SUM(J135:L135)+SUM(N135:P135)+E137+I137+M137+Q137","v":599},{"$f":"B135","v":0},{"$f":"C135","v":0},{"$f":"D135","v":0},{"$f":"E135","v":0},{"$f":"F135","v":16},{"$f":"G135","v":157},{"$f":"H135","v":0},{"$f":"I135","v":0},{"$f":"J135","v":147},{"$f":"K135","v":0},{"$f":"L135","v":117},{"$f":"M135","v":1},{"$f":"N135","v":0},{"$f":"O135","v":127},{"$f":"P135","v":35},{"$f":"Q135","v":0},{"$f":"SUM(B136:D136)+SUM(F136:H136)+SUM(J136:L136)+SUM(N136:P136)","v":1},{"$f":"B136","v":0},{"$f":"C136","v":0},{"$f":"D136","v":0},{"$f":"E136","v":0},{"$f":"F136","v":0},{"$f":"G136","v":0},{"$f":"H136","v":0},{"$f":"I136","v":0},{"$f":"J136","v":1},{"$f":"K136","v":0},{"$f":"L136","v":0},{"$f":"M136","v":0},{"$f":"N136","v":0},{"$f":"O136","v":0},{"$f":"P136","v":0},{"$f":"Q136","v":0},{"$f":"SUM(B137:D137)+SUM(F137:H137)+SUM(J137:L137)+SUM(N137:P137)","v":5},{"$f":"B137","v":0},{"$f":"C137","v":0},{"$f":"D137","v":0},{"$f":"E137","v":0},{"$f":"F137","v":0},{"$f":"G137","v":0},{"$f":"H137","v":0},{"$f":"I137","v":0},{"$f":"J137","v":4},{"$f":"K137","v":0},{"$f":"L137","v":0},{"$f":"M137","v":0},{"$f":"N137","v":0},{"$f":"O137","v":1},{"$f":"P137","v":0},{"$f":"Q137","v":0},{"$f":"SUM(B135:D146,E137,E140,E143,E146,F135:H146,I137,I140,I143,I146,J135:L146,M137,M140,M143,M146,N135:P146,Q137,Q140,Q143,Q146)","v":2118},{"$f":"SUM(B135:B146)","v":0},{"$f":"SUM(C135:C146)","v":0},{"$f":"SUM(D135:D146)","v":0},{"$f":"SUM(E135+E138+E141+E144)","v":0},{"$f":"SUM(E136+E139+E142+E145)","v":0},{"$f":"SUM(E137+E140+E143+E146)","v":0},{"$f":"SUM(F135:F146)","v":68},{"$f":"SUM(G135:G146)","v":568},{"$f":"SUM(H135:H146)","v":0},{"$f":"SUM(I135+I138+I141+I144)","v":0},{"$f":"SUM(I136+I139+I142+I145)","v":0},{"$f":"SUM(I137+I140+I143+I146)","v":0},{"$f":"SUM(J135:J146)","v":500},{"$f":"SUM(K135:K146)","v":0},{"$f":"SUM(L135:L146)","v":395},{"$f":"SUM(M135+M138+M141+M144)","v":3},{"$f":"SUM(M136+M139+M142+M145)","v":0},{"$f":"SUM(M137+M140+M143+M146)","v":0},{"$f":"SUM(N135:N146)","v":0},{"$f":"SUM(O135:O146)","v":490},{"$f":"SUM(P135:P146)","v":97},{"$f":"SUM(Q135+Q138+Q141+Q144)","v":0},{"$f":"SUM(Q136+Q139+Q142+Q145)","v":0},{"$f":"SUM(Q137+Q140+Q143+Q146)","v":0},{"$f":"SUM(B135:D135)+SUM(B138:D138)+SUM(B141:D141)+SUM(B144:D144)+SUM(F135:H135)+SUM(F138:H138)+SUM(F141:H141)+SUM(F144:H144)+SUM(J135:L135)+SUM(J138:L138)+SUM(J141:L141)+SUM(J144:L144)+SUM(N135:P135)+SUM(N138:P138)+SUM(N141:P141)+SUM(N144:P144)+E137+E140+E143+E146+I137+I140+I143+I146+M137+M140+M143+M146+Q137+Q140+Q143+Q146","v":2090},{"$f":"SUM(B135,B138,B141,B144)","v":0},{"$f":"SUM(C135,C138,C141,C144)","v":0},{"$f":"SUM(D135,D138,D141,D144)","v":0},{"$f":"SUM(E135,E138,E141,E144)","v":0},{"$f":"SUM(F135,F138,F141,F144)","v":66},{"$f":"SUM(G135,G138,G141,G144)","v":559},{"$f":"SUM(H135,H138,H141,H144)","v":0},{"$f":"SUM(I135,I138,I141,I144)","v":0},{"$f":"SUM(J135,J138,J141,J144)","v":489},{"$f":"SUM(K135,K138,K141,K144)","v":0},{"$f":"SUM(L135,L138,L141,L144)","v":392},{"$f":"SUM(M135,M138,M141,M144)","v":3},{"$f":"SUM(N135,N138,N141,N144)","v":0},{"$f":"SUM(O135,O138,O141,O144)","v":489},{"$f":"SUM(P135,P138,P141,P144)","v":95},{"$f":"SUM(Q135,Q138,Q141,Q144)","v":0},{"$f":"SUM(B136:D136)+SUM(B139:D139)+SUM(B142:D142)+SUM(B145:D145)+SUM(F136:H136)+SUM(F139:H139)+SUM(F142:H142)+SUM(F145:H145)+SUM(J136:L136)+SUM(J139:L139)+SUM(J142:L142)+SUM(J145:L145)+SUM(N136:P136)+SUM(N139:P139)+SUM(N142:P142)+SUM(N145:P145)","v":5},{"$f":"SUM(B136,B139,B142,B145)","v":0},{"$f":"SUM(C136,C139,C142,C145)","v":0},{"$f":"SUM(D136,D139,D142,D145)","v":0},{"$f":"SUM(E136,E139,E142,E145)","v":0},{"$f":"SUM(F136,F139,F142,F145)","v":0},{"$f":"SUM(G136,G139,G142,G145)","v":2},{"$f":"SUM(H136,H139,H142,H145)","v":0},{"$f":"SUM(I136,I139,I142,I145)","v":0},{"$f":"SUM(J136,J139,J142,J145)","v":2},{"$f":"SUM(K136,K139,K142,K145)","v":0},{"$f":"SUM(L136,L139,L142,L145)","v":1},{"$f":"SUM(M136,M139,M142,M145)","v":0},{"$f":"SUM(N136,N139,N142,N145)","v":0},{"$f":"SUM(O136,O139,O142,O145)","v":0},{"$f":"SUM(P136,P139,P142,P145)","v":0},{"$f":"SUM(Q136,Q139,Q142,Q145)","v":0},{"$f":"SUM(B137:D137)+SUM(B140:D140)+SUM(B143:D143)+SUM(B146:D146)+SUM(F137:H137)+SUM(F140:H140)+SUM(F143:H143)+SUM(F146:H146)+SUM(J137:L137)+SUM(J140:L140)+SUM(J143:L143)+SUM(J146:L146)+SUM(N137:P137)+SUM(N140:P140)+SUM(N143:P143)+SUM(N146:P146)","v":23},{"$f":"SUM(B137,B140,B143,B146)","v":0},{"$f":"SUM(C137,C140,C143,C146)","v":0},{"$f":"SUM(D137,D140,D143,D146)","v":0},{"$f":"SUM(E137,E140,E143,E146)","v":0},{"$f":"SUM(F137,F140,F143,F146)","v":2},{"$f":"SUM(G137,G140,G143,G146)","v":7},{"$f":"SUM(H137,H140,H143,H146)","v":0},{"$f":"SUM(I137,I140,I143,I146)","v":0},{"$f":"SUM(J137,J140,J143,J146)","v":9},{"$f":"SUM(K137,K140,K143,K146)","v":0},{"$f":"SUM(L137,L140,L143,L146)","v":2},{"$f":"SUM(M137,M140,M143,M146)","v":0},{"$f":"SUM(N137,N140,N143,N146)","v":0},{"$f":"SUM(O137,O140,O143,O146)","v":1},{"$f":"SUM(P137,P140,P143,P146)","v":2},{"$f":"SUM(Q137,Q140,Q143,Q146)","v":0}]
["17:45:02.102",{"$f":"ROUND('Import Tab'!E136*'Base Information'!$V$22,0)","v":0},{"$f":"ROUND('Import Tab'!D136*'Base Information'!$V$22,0)","v":0},{"$f":"ROUND('Import Tab'!C136*'Base Information'!$V$22,0)","v":0},{"$f":"ROUND('Import Tab'!F136,0)","v":0},{"$f":"ROUND('Import Tab'!I136*'Base Information'!$V$22,0)","v":0},{"$f":"ROUND('Import Tab'!H136*'Base Information'!$V$22,0)","v":0},{"$f":"ROUND('Import Tab'!G136*'Base Information'!$V$22,0)","v":0},{"$f":"ROUND('Import Tab'!J136,0)","v":0},{"$f":"ROUND('Import Tab'!M136*'Base Information'!$V$22,0)","v":1},{"$f":"ROUND('Import Tab'!L136*'Base Information'!$V$22,0)","v":0},{"$f":"ROUND('Import Tab'!K136*'Base Information'!$V$22,0)","v":0},{"$f":"ROUND('Import Tab'!N136,0)","v":0},{"$f":"ROUND('Import Tab'!Q136*'Base Information'!$V$22,0)","v":0},{"$f":"ROUND('Import Tab'!P136*'Base Information'!$V$22,0)","v":0},{"$f":"ROUND('Import Tab'!O136*'Base Information'!$V$22,0)","v":0},{"$f":"ROUND('Import Tab'!R136,0)","v":0}]
["17:45:02.102",{"$f":"ROUND('Import Tab'!E137*'Base Information'!$V$22,0)","v":0},{"$f":"ROUND('Import Tab'!D137*'Base Information'!$V$22,0)","v":0},{"$f":"ROUND('Import Tab'!C137*'Base Information'!$V$22,0)","v":0},{"$f":"ROUND('Import Tab'!F137,0)","v":0},{"$f":"ROUND('Import Tab'!I137*'Base Information'!$V$22,0)","v":0},{"$f":"ROUND('Import Tab'!H137*'Base Information'!$V$22,0)","v":0},{"$f":"ROUND('Import Tab'!G137*'Base Information'!$V$22,0)","v":0},{"$f":"ROUND('Import Tab'!J137,0)","v":0},{"$f":"ROUND('Import Tab'!M137*'Base Information'!$V$22,0)","v":4},{"$f":"ROUND('Import Tab'!L137*'Base Information'!$V$22,0)","v":0},{"$f":"ROUND('Import Tab'!K137*'Base Information'!$V$22,0)","v":0},{"$f":"ROUND('Import Tab'!N137,0)","v":0},{"$f":"ROUND('Import Tab'!Q137*'Base Information'!$V$22,0)","v":0},{"$f":"ROUND('Import Tab'!P137*'Base Information'!$V$22,0)","v":1},{"$f":"ROUND('Import Tab'!O137*'Base Information'!$V$22,0)","v":0},{"$f":"ROUND('Import Tab'!R137,0)","v":0}]
[{"$f":"A135+(0.010417)","v":"18:00:02.131"},{"$f":"ROUND('Import Tab'!E138*'Base Information'!$V$22,0)","v":0},{"$f":"ROUND('Import Tab'!D138*'Base Information'!$V$22,0)","v":0},{"$f":"ROUND('Import Tab'!C138*'Base Information'!$V$22,0)","v":0},{"$f":"ROUND('Import Tab'!F138,0)","v":0},{"$f":"ROUND('Import Tab'!I138*'Base Information'!$V$22,0)","v":20},{"$f":"ROUND('Import Tab'!H138*'Base Information'!$V$22,0)","v":138},{"$f":"ROUND('Import Tab'!G138*'Base Information'!$V$22,0)","v":0},{"$f":"ROUND('Import Tab'!J138,0)","v":0},{"$f":"ROUND('Import Tab'!M138*'Base Information'!$V$22,0)","v":103},{"$f":"ROUND('Import Tab'!L138*'Base Information'!$V$22,0)","v":0},{"$f":"ROUND('Import Tab'!K138*'Base Information'!$V$22,0)","v":94},{"$f":"ROUND('Import Tab'!N138,0)","v":0},{"$f":"ROUND('Import Tab'!Q138*'Base Information'!$V$22,0)","v":0},{"$f":"ROUND('Import Tab'!P138*'Base Information'!$V$22,0)","v":126},{"$f":"ROUND('Import Tab'!O138*'Base Information'!$V$22,0)","v":24},{"$f":"ROUND('Import Tab'!R138,0)","v":0},{"$f":"SUM(B138:D140)+SUM(F138:H140)+SUM(J138:L140)+SUM(N138:P140)+E140+I140+M140+Q140","v":509},{"$f":"B138+B139+B140","v":0},0,0,{"$f":"E138","v":0},{"$f":"E139","v":0},{"$f":"E140","v":0},{"$f":"F138+F139+F140","v":20},{"$f":"G138+G139+G140","v":139},{"$f":"H138+H139+H140","v":0},{"$f":"I138","v":0},{"$f":"I139","v":0},{"$f":"I140","v":0},{"$f":"J138+J139+J140","v":104},{"$f":"K138+K139+K140","v":0},{"$f":"L138+L139+L140","v":96},{"$f":"M138","v":0},{"$f":"M139","v":0},{"$f":"M140","v":0},{"$f":"N138+N139+N140","v":0},{"$f":"O138+O139+O140","v":126},{"$f":"P138+P139+P140","v":24},{"$f":"Q138","v":0},{"$f":"Q139","v":0},{"$f":"Q140","v":0},{"$f":"SUM(B138:D138)+SUM(F138:H138)+SUM(J138:L138)+SUM(N138:P138)+E140+I140+M140+Q140","v":505},{"$f":"B138","v":0},{"$f":"C138","v":0},{"$f":"D138","v":0},{"$f":"E138","v":0},{"$f":"F138","v":20},{"$f":"G138","v":138},{"$f":"H138","v":0},{"$f":"I138","v":0},{"$f":"J138","v":103},{"$f":"K138","v":0},{"$f":"L138","v":94},{"$f":"M138","v":0},{"$f":"N138","v":0},{"$f":"O138","v":126},{"$f":"P138","v":24},{"$f":"Q138","v":0},{"$f":"SUM(B139:D139)+SUM(F139:H139)+SUM(J139:L139)+SUM(N139:P139)","v":2},{"$f":"B139","v":0},{"$f":"C139","v":0},{"$f":"D139","v":0},{"$f":"E139","v":0},{"$f":"F139","v":0},{"$f":"G139","v":1},{"$f":"H139","v":0},{"$f":"I139","v":0},{"$f":"J139","v":0},{"$f":"K139","v":0},{"$f":"L139","v":1},{"$f":"M139","v":0},{"$f":"N139","v":0},{"$f":"O139","v":0},{"$f":"P139","v":0},{"$f":"Q139","v":0},{"$f":"SUM(B140:D140)+SUM(F140:H140)+SUM(J140:L140)+SUM(N140:P140)","v":2},{"$f":"B140","v":0},{"$f":"C140","v":0},{"$f":"D140","v":0},{"$f":"E140","v":0},{"$f":"F140","v":0},{"$f":"G140","v":0},{"$f":"H140","v":0},{"$f":"I140","v":0},{"$f":"J140","v":1},{"$f":"K140","v":0},{"$f":"L140","v":1},{"$f":"M140","v":0},{"$f":"N140","v":0},{"$f":"O140","v":0},{"$f":"P140","v":0},{"$f":"Q140","v":0},{"$f":"SUM(B138:D149,E140,E143,E146,E149,F138:H149,I140,I143,I146,I149,J138:L149,M140,M143,M146,M149,N138:P149,Q140,Q143,Q146,Q149)","v":1923},{"$f":"SUM(B138:B149)","v":0},{"$f":"SUM(C138:C149)","v":0},{"$f":"SUM(D138:D149)","v":0},{"$f":"SUM(E138+E141+E144+E147)","v":0},{"$f":"SUM(E139+E142+E145+E148)","v":0},{"$f":"SUM(E140+E143+E146+E149)","v":0},{"$f":"SUM(F138:F149)","v":56},{"$f":"SUM(G138:G149)","v":526},{"$f":"SUM(H138:H149)","v":0},{"$f":"SUM(I138+I141+I144+I147)","v":0},{"$f":"SUM(I139+I142+I145+I148)","v":0},{"$f":"SUM(I140+I143+I146+I149)","v":0},{"$f":"SUM(J138:J149)","v":444},{"$f":"SUM(K138:K149)","v":0},{"$f":"SUM(L138:L149)","v":367},{"$f":"SUM(M138+M141+M144+M147)","v":2},{"$f":"SUM(M139+M142+M145+M148)","v":0},{"$f":"SUM(M140+M143+M146+M149)","v":0},{"$f":"SUM(N138:N149)","v":0},{"$f":"SUM(O138:O149)","v":459},{"$f":"SUM(P138:P149)","v":71},{"$f":"SUM(Q138+Q141+Q144+Q147)","v":0},{"$f":"SUM(Q139+Q142+Q145+Q148)","v":0},{"$f":"SUM(Q140+Q143+Q146+Q149)","v":0},{"$f":"SUM(B138:D138)+SUM(B141:D141)+SUM(B144:D144)+SUM(B147:D147)+SUM(F138:H138)+SUM(F141:H141)+SUM(F144:H144)+SUM(F147:H147)+SUM(J138:L138)+SUM(J141:L141)+SUM(J144:L144)+SUM(J147:L147)+SUM(N138:P138)+SUM(N141:P141)+SUM(N144:P144)+SUM(N147:P147)+E140+E143+E146+E149+I140+I143+I146+I149+M140+M143+M146+M149+Q140+Q143+Q146+Q149","v":1896},{"$f":"SUM(B138,B141,B144,B147)","v":0},{"$f":"SUM(C138,C141,C144,C147)","v":0},{"$f":"SUM(D138,D141,D144,D147)","v":0},{"$f":"SUM(E138,E141,E144,E147)","v":0},{"$f":"SUM(F138,F141,F144,F147)","v":53},{"$f":"SUM(G138,G141,G144,G147)","v":516},{"$f":"SUM(H138,H141,H144,H147)","v":0},{"$f":"SUM(I138,I141,I144,I147)","v":0},{"$f":"SUM(J138,J141,J144,J147)","v":436},{"$f":"SUM(K138,K141,K144,K147)","v":0},{"$f":"SUM(L138,L141,L144,L147)","v":364},{"$f":"SUM(M138,M141,M144,M147)","v":2},{"$f":"SUM(N138,N141,N144,N147)","v":0},{"$f":"SUM(O138,O141,O144,O147)","v":458},{"$f":"SUM(P138,P141,P144,P147)","v":69},{"$f":"SUM(Q138,Q141,Q144,Q147)","v":0},{"$f":"SUM(B139:D139)+SUM(B142:D142)+SUM(B145:D145)+SUM(B148:D148)+SUM(F139:H139)+SUM(F142:H142)+SUM(F145:H145)+SUM(F148:H148)+SUM(J139:L139)+SUM(J142:L142)+SUM(J145:L145)+SUM(J148:L148)+SUM(N139:P139)+SUM(N142:P142)+SUM(N145:P145)+SUM(N148:P148)","v":5},{"$f":"SUM(B139,B142,B145,B148)","v":0},{"$f":"SUM(C139,C142,C145,C148)","v":0},{"$f":"SUM(D139,D142,D145,D148)","v":0},{"$f":"SUM(E139,E142,E145,E148)","v":0},{"$f":"SUM(F139,F142,F145,F148)","v":0},{"$f":"SUM(G139,G142,G145,G148)","v":2},{"$f":"SUM(H139,H142,H145,H148)","v":0},{"$f":"SUM(I139,I142,I145,I148)","v":0},{"$f":"SUM(J139,J142,J145,J148)","v":2},{"$f":"SUM(K139,K142,K145,K148)","v":0},{"$f":"SUM(L139,L142,L145,L148)","v":1},{"$f":"SUM(M139,M142,M145,M148)","v":0},{"$f":"SUM(N139,N142,N145,N148)","v":0},{"$f":"SUM(O139,O142,O145,O148)","v":0},{"$f":"SUM(P139,P142,P145,P148)","v":0},{"$f":"SUM(Q139,Q142,Q145,Q148)","v":0},{"$f":"SUM(B140:D140)+SUM(B143:D143)+SUM(B146:D146)+SUM(B149:D149)+SUM(F140:H140)+SUM(F143:H143)+SUM(F146:H146)+SUM(F149:H149)+SUM(J140:L140)+SUM(J143:L143)+SUM(J146:L146)+SUM(J149:L149)+SUM(N140:P140)+SUM(N143:P143)+SUM(N146:P146)+SUM(N149:P149)","v":22},{"$f":"SUM(B140,B143,B146,B149)","v":0},{"$f":"SUM(C140,C143,C146,C149)","v":0},{"$f":"SUM(D140,D143,D146,D149)","v":0},{"$f":"SUM(E140,E143,E146,E149)","v":0},{"$f":"SUM(F140,F143,F146,F149)","v":3},{"$f":"SUM(G140,G143,G146,G149)","v":8},{"$f":"SUM(H140,H143,H146,H149)","v":0},{"$f":"SUM(I140,I143,I146,I149)","v":0},{"$f":"SUM(J140,J143,J146,J149)","v":6},{"$f":"SUM(K140,K143,K146,K149)","v":0},{"$f":"SUM(L140,L143,L146,L149)","v":2},{"$f":"SUM(M140,M143,M146,M149)","v":0},{"$f":"SUM(N140,N143,N146,N149)","v":0},{"$f":"SUM(O140,O143,O146,O149)","v":1},{"$f":"SUM(P140,P143,P146,P149)","v":2},{"$f":"SUM(Q140,Q143,Q146,Q149)","v":0}]
["18:00:02.131",{"$f":"ROUND('Import Tab'!E139*'Base Information'!$V$22,0)","v":0},{"$f":"ROUND('Import Tab'!D139*'Base Information'!$V$22,0)","v":0},{"$f":"ROUND('Import Tab'!C139*'Base Information'!$V$22,0)","v":0},{"$f":"ROUND('Import Tab'!F139,0)","v":0},{"$f":"ROUND('Import Tab'!I139*'Base Information'!$V$22,0)","v":0},{"$f":"ROUND('Import Tab'!H139*'Base Information'!$V$22,0)","v":1},{"$f":"ROUND('Import Tab'!G139*'Base Information'!$V$22,0)","v":0},{"$f":"ROUND('Import Tab'!J139,0)","v":0},{"$f":"ROUND('Import Tab'!M139*'Base Information'!$V$22,0)","v":0},{"$f":"ROUND('Import Tab'!L139*'Base Information'!$V$22,0)","v":0},{"$f":"ROUND('Import Tab'!K139*'Base Information'!$V$22,0)","v":1},{"$f":"ROUND('Import Tab'!N139,0)","v":0},{"$f":"ROUND('Import Tab'!Q139*'Base Information'!$V$22,0)","v":0},{"$f":"ROUND('Import Tab'!P139*'Base Information'!$V$22,0)","v":0},{"$f":"ROUND('Import Tab'!O139*'Base Information'!$V$22,0)","v":0},{"$f":"ROUND('Import Tab'!R139,0)","v":0}]
["18:00:02.131",{"$f":"ROUND('Import Tab'!E140*'Base Information'!$V$22,0)","v":0},{"$f":"ROUND('Import Tab'!D140*'Base Information'!$V$22,0)","v":0},{"$f":"ROUND('Import Tab'!C140*'Base Information'!$V$22,0)","v":0},{"$f":"ROUND('Import Tab'!F140,0)","v":0},{"$f":"ROUND('Import Tab'!I140*'Base Information'!$V$22,0)","v":0},{"$f":"ROUND('Import Tab'!H140*'Base Information'!$V$22,0)","v":0},{"$f":"ROUND('Import Tab'!G140*'Base Information'!$V$22,0)","v":0},{"$f":"ROUND('Import Tab'!J140,0)","v":0},{"$f":"ROUND('Import Tab'!M140*'Base Information'!$V$22,0)","v":1},{"$f":"ROUND('Import Tab'!L140*'Base Information'!$V$22,0)","v":0},{"$f":"ROUND('Import Tab'!K140*'Base Information'!$V$22,0)","v":1},{"$f":"ROUND('Import Tab'!N140,0)","v":0},{"$f":"ROUND('Import Tab'!Q140*'Base Information'!$V$22,0)","v":0},{"$f":"ROUND('Import Tab'!P140*'Base Information'!$V$22,0)","v":0},{"$f":"ROUND('Import Tab'!O140*'Base Information'!$V$22,0)","v":0},{"$f":"ROUND('Import Tab'!R140,0)","v":0}]
["18:15:02.160",{"$f":"ROUND('Import Tab'!E141*'Base Information'!$V$22,0)","v":0},{"$f":"ROUND('Import Tab'!D141*'Base Information'!$V$22,0)","v":0},{"$f":"ROUND('Import Tab'!C141*'Base Information'!$V$22,0)","v":0},{"$f":"ROUND('Import Tab'!F141,0)","v":0},{"$f":"ROUND('Import Tab'!I141*'Base Information'!$V$22,0)","v":11},{"$f":"ROUND('Import Tab'!H141*'Base Information'!$V$22,0)","v":145},{"$f":"ROUND('Import Tab'!G141*'Base Information'!$V$22,0)","v":0},{"$f":"ROUND('Import Tab'!J141,0)","v":0},{"$f":"ROUND('Import Tab'!M141*'Base Information'!$V$22,0)","v":132},{"$f":"ROUND('Import Tab'!L141*'Base Information'!$V$22,0)","v":0},{"$f":"ROUND('Import Tab'!K141*'Base Information'!$V$22,0)","v":107},{"$f":"ROUND('Import Tab'!N141,0)","v":2},{"$f":"ROUND('Import Tab'!Q141*'Base Information'!$V$22,0)","v":0},{"$f":"ROUND('Import Tab'!P141*'Base Information'!$V$22,0)","v":142},{"$f":"ROUND('Import Tab'!O141*'Base Information'!$V$22,0)","v":18},{"$f":"ROUND('Import Tab'!R141,0)","v":0},{"$f":"SUM(B141:D143)+SUM(F141:H143)+SUM(J141:L143)+SUM(N141:P143)+E143+I143+M143+Q143","v":568},{"$f":"B141+B142+B143","v":0},0,0,{"$f":"E141","v":0},{"$f":"E142","v":0},{"$f":"E143","v":0},{"$f":"F141+F142+F143","v":12},{"$f":"G141+G142+G143","v":150},{"$f":"H141+H142+H143","v":0},{"$f":"I141","v":0},{"$f":"I142","v":0},{"$f":"I143","v":0},{"$f":"J141+J142+J143","v":137},{"$f":"K141+K142+K143","v":0},{"$f":"L141+L142+L143","v":108},{"$f":"M141","v":2},{"$f":"M142","v":0},{"$f":"M143","v":0},{"$f":"N141+N142+N143","v":0},{"$f":"O141+O142+O143","v":142},{"$f":"P141+P142+P143","v":19},{"$f":"Q141","v":0},{"$f":"Q142","v":0},{"$f":"Q143","v":0},{"$f":"SUM(B141:D141)+SUM(F141:H141)+SUM(J141:L141)+SUM(N141:P141)+E143+I143+M143+Q143","v":555},{"$f":"B141","v":0},{"$f":"C141","v":0},{"$f":"D141","v":0},{"$f":"E141","v":0},{"$f":"F141","v":11},{"$f":"G141","v":145},{"$f":"H141","v":0},{"$f":"I141","v":0},{"$f":"J141","v":132},{"$f":"K141","v":0},{"$f":"L141","v":107},{"$f":"M141","v":2},{"$f":"N141","v":0},{"$f":"O141","v":142},{"$f":"P141","v":18},{"$f":"Q141","v":0},{"$f":"SUM(B142:D142)+SUM(F142:H142)+SUM(J142:L142)+SUM(N142:P142)","v":2},{"$f":"B142","v":0},{"$f":"C142","v":0},{"$f":"D142","v":0},{"$f":"E142","v":0},{"$f":"F142","v":0},{"$f":"G142","v":1},{"$f":"H142","v":0},{"$f":"I142","v":0},{"$f":"J142","v":1},{"$f":"K142","v":0},{"$f":"L142","v":0},{"$f":"M142","v":0},{"$f":"N142","v":0},{"$f":"O142","v":0},{"$f":"P142","v":0},{"$f":"Q142","v":0},{"$f":"SUM(B143:D143)+SUM(F143:H143)+SUM(J143:L143)+SUM(N143:P143)","v":11},{"$f":"B143","v":0},{"$f":"C143","v":0},{"$f":"D143","v":0},{"$f":"E143","v":0},{"$f":"F143","v":1},{"$f":"G143","v":4},{"$f":"H143","v":0},{"$f":"I143","v":0},{"$f":"J143","v":4},{"$f":"K143","v":0},{"$f":"L143","v":1},{"$f":"M143","v":0},{"$f":"N143","v":0},{"$f":"O143","v":0},{"$f":"P143","v":1},{"$f":"Q143","v":0},{"$f":"SUM(B141:D152,E143,E146,E149,E152,F141:H152,I143,I146,I149,I152,J141:L152,M143,M146,M149,M152,N141:P152,Q143,Q146,Q149,Q152)","v":1414},{"$f":"SUM(B141:B152)","v":0},{"$f":"SUM(C141:C152)","v":0},{"$f":"SUM(D141:D152)","v":0},{"$f":"SUM(E141+E144+E147+E150)","v":0},{"$f":"SUM(E142+E145+E148+E151)","v":0},{"$f":"SUM(E143+E146+E149+E152)","v":0},{"$f":"SUM(F141:F152)","v":36},{"$f":"SUM(G141:G152)","v":387},{"$f":"SUM(H141:H152)","v":0},{"$f":"SUM(I141+I144+I147+I150)","v":0},{"$f":"SUM(I142+I145+I148+I151)","v":0},{"$f":"SUM(I143+I146+I149+I152)","v":0},{"$f":"SUM(J141:J152)","v":340},{"$f":"SUM(K141:K152)","v":0},{"$f":"SUM(L141:L152)","v":271},{"$f":"SUM(M141+M144+M147+M150)","v":2},{"$f":"SUM(M142+M145+M148+M151)","v":0},{"$f":"SUM(M143+M146+M149+M152)","v":0},{"$f":"SUM(N141:N152)","v":0},{"$f":"SUM(O141:O152)","v":333},{"$f":"SUM(P141:P152)","v":47},{"$f":"SUM(Q141+Q144+Q147+Q150)","v":0},{"$f":"SUM(Q142+Q145+Q148+Q151)","v":0},{"$f":"SUM(Q143+Q146+Q149+Q152)","v":0},{"$f":"SUM(B141:D141)+SUM(B144:D144)+SUM(B147:D147)+SUM(B150:D150)+SUM(F141:H141)+SUM(F144:H144)+SUM(F147:H147)+SUM(F150:H150)+SUM(J141:L141)+SUM(J144:L144)+SUM(J147:L147)+SUM(J150:L150)+SUM(N141:P141)+SUM(N144:P144)+SUM(N147:P147)+SUM(N150:P150)+E143+E146+E149+E152+I143+I146+I149+I152+M143+M146+M149+M152+Q143+Q146+Q149+Q152","v":1391},{"$f":"SUM(B141,B144,B147,B150)","v":0},{"$f":"SUM(C141,C144,C147,C150)","v":0},{"$f":"SUM(D141,D144,D147,D150)","v":0},{"$f":"SUM(E141,E144,E147,E150)","v":0},{"$f":"SUM(F141,F144,F147,F150)","v":33},{"$f":"SUM(G141,G144,G147,G150)","v":378},{"$f":"SUM(H141,H144,H147,H150)","v":0},{"$f":"SUM(I141,I144,I147,I150)","v":0},{"$f":"SUM(J141,J144,J147,J150)","v":333},{"$f":"SUM(K141,K144,K147,K150)","v":0},{"$f":"SUM(L141,L144,L147,L150)","v":270},{"$f":"SUM(M141,M144,M147,M150)","v":2},{"$f":"SUM(N141,N144,N147,N150)","v":0},{"$f":"SUM(O141,O144,O147,O150)","v":332},{"$f":"SUM(P141,P144,P147,P150)","v":45},{"$f":"SUM(Q141,Q144,Q147,Q150)","v":0},{"$f":"SUM(B142:D142)+SUM(B145:D145)+SUM(B148:D148)+SUM(B151:D151)+SUM(F142:H142)+SUM(F145:H145)+SUM(F148:H148)+SUM(F151:H151)+SUM(J142:L142)+SUM(J145:L145)+SUM(J148:L148)+SUM(J151:L151)+SUM(N142:P142)+SUM(N145:P145)+SUM(N148:P148)+SUM(N151:P151)","v":3},{"$f":"SUM(B142,B145,B148,B151)","v":0},{"$f":"SUM(C142,C145,C148,C151)","v":0},{"$f":"SUM(D142,D145,D148,D151)","v":0},{"$f":"SUM(E142,E145,E148,E151)","v":0},{"$f":"SUM(F142,F145,F148,F151)","v":0},{"$f":"SUM(G142,G145,G148,G151)","v":1},{"$f":"SUM(H142,H145,H148,H151)","v":0},{"$f":"SUM(I142,I145,I148,I151)","v":0},{"$f":"SUM(J142,J145,J148,J151)","v":2},{"$f":"SUM(K142,K145,K148,K151)","v":0},{"$f":"SUM(L142,L145,L148,L151)","v":0},{"$f":"SUM(M142,M145,M148,M151)","v":0},{"$f":"SUM(N142,N145,N148,N151)","v":0},{"$f":"SUM(O142,O145,O148,O151)","v":0},{"$f":"SUM(P142,P145,P148,P151)","v":0},{"$f":"SUM(Q142,Q145,Q148,Q151)","v":0},{"$f":"SUM(B143:D143)+SUM(B146:D146)+SUM(B149:D149)+SUM(B152:D152)+SUM(F143:H143)+SUM(F146:H146)+SUM(F149:H149)+SUM(F152:H152)+SUM(J143:L143)+SUM(J146:L146)+SUM(J149:L149)+SUM(J152:L152)+SUM(N143:P143)+SUM(N146:P146)+SUM(N149:P149)+SUM(N152:P152)","v":20},{"$f":"SUM(B143,B146,B149,B152)","v":0},{"$f":"SUM(C143,C146,C149,C152)","v":0},{"$f":"SUM(D143,D146,D149,D152)","v":0},{"$f":"SUM(E143,E146,E149,E152)","v":0},{"$f":"SUM(F143,F146,F149,F152)","v":3},{"$f":"SUM(G143,G146,G149,G152)","v":8},{"$f":"SUM(H143,H146,H149,H152)","v":0},{"$f":"SUM(I143,I146,I149,I152)","v":0},{"$f":"SUM(J143,J146,J149,J152)","v":5},{"$f":"SUM(K143,K146,K149,K152)","v":0},{"$f":"SUM(L143,L146,L149,L152)","v":1},{"$f":"SUM(M143,M146,M149,M152)","v":0},{"$f":"SUM(N143,N146,N149,N152)","v":0},{"$f":"SUM(O143,O146,O149,O152)","v":1},{"$f":"SUM(P143,P146,P149,P152)","v":2},{"$f":"SUM(Q143,Q146,Q149,Q152)","v":0}]
["18:15:02.160",{"$f":"ROUND('Import Tab'!E142*'Base Information'!$V$22,0)","v":0},{"$f":"ROUND('Import Tab'!D142*'Base Information'!$V$22,0)","v":0},{"$f":"ROUND('Import Tab'!C142*'Base Information'!$V$22,0)","v":0},{"$f":"ROUND('Import Tab'!F142,0)","v":0},{"$f":"ROUND('Import Tab'!I142*'Base Information'!$V$22,0)","v":0},{"$f":"ROUND('Import Tab'!H142*'Base Information'!$V$22,0)","v":1},{"$f":"ROUND('Import Tab'!G142*'Base Information'!$V$22,0)","v":0},{"$f":"ROUND('Import Tab'!J142,0)","v":0},{"$f":"ROUND('Import Tab'!M142*'Base Information'!$V$22,0)","v":1},{"$f":"ROUND('Import Tab'!L142*'Base Information'!$V$22,0)","v":0},{"$f":"ROUND('Import Tab'!K142*'Base Information'!$V$22,0)","v":0},{"$f":"ROUND('Import Tab'!N142,0)","v":0},{"$f":"ROUND('Import Tab'!Q142*'Base Information'!$V$22,0)","v":0},{"$f":"ROUND('Import Tab'!P142*'Base Information'!$V$22,0)","v":0},{"$f":"ROUND('Import Tab'!O142*'Base Information'!$V$22,0)","v":0},{"$f":"ROUND('Import Tab'!R142,0)","v":0}]
["18:15:02.160",{"$f":"ROUND('Import Tab'!E143*'Base Information'!$V$22,0)","v":0},{"$f":"ROUND('Import Tab'!D143*'Base Information'!$V$22,0)","v":0},{"$f":"ROUND('Import Tab'!C143*'Base Information'!$V$22,0)","v":0},{"$f":"ROUND('Import Tab'!F143,0)","v":0},{"$f":"ROUND('Import Tab'!I143*'Base Information'!$V$22,0)","v":1},{"$f":"ROUND('Import Tab'!H143*'Base Information'!$V$22,0)","v":4},{"$f":"ROUND('Import Tab'!G143*'Base Information'!$V$22,0)","v":0},{"$f":"ROUND('Import Tab'!J143,0)","v":0},{"$f":"ROUND('Import Tab'!M143*'Base Information'!$V$22,0)","v":4},{"$f":"ROUND('Import Tab'!L143*'Base Information'!$V$22,0)","v":0},{"$f":"ROUND('Import Tab'!K143*'Base Information'!$V$22,0)","v":1},{"$f":"ROUND('Import Tab'!N143,0)","v":0},{"$f":"ROUND('Import Tab'!Q143*'Base Information'!$V$22,0)","v":0},{"$f":"ROUND('Import Tab'!P143*'Base Information'!$V$22,0)","v":0},{"$f":"ROUND('Import Tab'!O143*'Base Information'!$V$22,0)","v":1},{"$f":"ROUND('Import Tab'!R143,0)","v":0}]
["18:30:02.189",{"$f":"ROUND('Import Tab'!E144*'Base Information'!$V$22,0)","v":0},{"$f":"ROUND('Import Tab'!D144*'Base Information'!$V$22,0)","v":0},{"$f":"ROUND('Import Tab'!C144*'Base Information'!$V$22,0)","v":0},{"$f":"ROUND('Import Tab'!F144,0)","v":0},{"$f":"ROUND('Import Tab'!I144*'Base Information'!$V$22,0)","v":19},{"$f":"ROUND('Import Tab'!H144*'Base Information'!$V$22,0)","v":119},{"$f":"ROUND('Import Tab'!G144*'Base Information'!$V$22,0)","v":0},{"$f":"ROUND('Import Tab'!J144,0)","v":0},{"$f":"ROUND('Import Tab'!M144*'Base Information'!$V$22,0)","v":107},{"$f":"ROUND('Import Tab'!L144*'Base Information'!$V$22,0)","v":0},{"$f":"ROUND('Import Tab'!K144*'Base Information'!$V$22,0)","v":74},{"$f":"ROUND('Import Tab'!N144,0)","v":0},{"$f":"ROUND('Import Tab'!Q144*'Base Information'!$V$22,0)","v":0},{"$f":"ROUND('Import Tab'!P144*'Base Information'!$V$22,0)","v":94},{"$f":"ROUND('Import Tab'!O144*'Base Information'!$V$22,0)","v":18},{"$f":"ROUND('Import Tab'!R144,0)","v":0},{"$f":"SUM(B144:D146)+SUM(F144:H146)+SUM(J144:L146)+SUM(N144:P146)+E146+I146+M146+Q146","v":436},{"$f":"B144+B145+B146","v":0},0,0,{"$f":"E144","v":0},{"$f":"E145","v":0},{"$f":"E146","v":0},{"$f":"F144+F145+F146","v":20},{"$f":"G144+G145+G146","v":122},{"$f":"H144+H145+H146","v":0},{"$f":"I144","v":0},{"$f":"I145","v":0},{"$f":"I146","v":0},{"$f":"J144+J145+J146","v":107},{"$f":"K144+K145+K146","v":0},{"$f":"L144+L145+L146","v":74},{"$f":"M144","v":0},{"$f":"M145","v":0},{"$f":"M146","v":0},{"$f":"N144+N145+N146","v":0},{"$f":"O144+O145+O146","v":94},{"$f":"P144+P145+P146","v":19},{"$f":"Q144","v":0},{"$f":"Q145","v":0},{"$f":"Q146","v":0},{"$f":"SUM(B144:D144)+SUM(F144:H144)+SUM(J144:L144)+SUM(N144:P144)+E146+I146+M146+Q146","v":431},{"$f":"B144","v":0},{"$f":"C144","v":0},{"$f":"D144","v":0},{"$f":"E144","v":0},{"$f":"F144","v":19},{"$f":"G144","v":119},{"$f":"H144","v":0},{"$f":"I144","v":0},{"$f":"J144","v":107},{"$f":"K144","v":0},{"$f":"L144","v":74},{"$f":"M144","v":0},{"$f":"N144","v":0},{"$f":"O144","v":94},{"$f":"P144","v":18},{"$f":"Q144","v":0},{"$f":"SUM(B145:D145)+SUM(F145:H145)+SUM(J145:L145)+SUM(N145:P145)","v":0},{"$f":"B145","v":0},{"$f":"C145","v":0},{"$f":"D145","v":0},{"$f":"E145","v":0},{"$f":"F145","v":0},{"$f":"G145","v":0},{"$f":"H145","v":0},{"$f":"I145","v":0},{"$f":"J145","v":0},{"$f":"K145","v":0},{"$f":"L145","v":0},{"$f":"M145","v":0},{"$f":"N145","v":0},{"$f":"O145","v":0},{"$f":"P145","v":0},{"$f":"Q145","v":0},{"$f":"SUM(B146:D146)+SUM(F146:H146)+SUM(J146:L146)+SUM(N146:P146)","v":5},{"$f":"B146","v":0},{"$f":"C146","v":0},{"$f":"D146","v":0},{"$f":"E146","v":0},{"$f":"F146","v":1},{"$f":"G146","v":3},{"$f":"H146","v":0},{"$f":"I146","v":0},{"$f":"J146","v":0},{"$f":"K146","v":0},{"$f":"L146","v":0},{"$f":"M146","v":0},{"$f":"N146","v":0},{"$f":"O146","v":0},{"$f":"P146","v":1},{"$f":"Q146","v":0},{"$f":"SUM(B144:D155,E146,E149,E152,E155,F144:H155,I146,I149,I152,I155,J144:L155,M146,M149,M152,M155,N144:P155,Q146,Q149,Q152,Q155)","v":846},{"$f":"SUM(B144:B155)","v":0},{"$f":"SUM(C144:C155)","v":0},{"$f":"SUM(D144:D155)","v":0},{"$f":"SUM(E144+E147+E150+E153)","v":0},{"$f":"SUM(E145+E148+E151+E154)","v":0},{"$f":"SUM(E146+E149+E152+E155)","v":0},{"$f":"SUM(F144:F155)","v":24},{"$f":"SUM(G144:G155)","v":237},{"$f":"SUM(H144:H155)","v":0},{"$f":"SUM(I144+I147+I150+I153)","v":0},{"$f":"SUM(I145+I148+I151+I154)","v":0},{"$f":"SUM(I146+I149+I152+I155)","v":0},{"$f":"SUM(J144:J155)","v":203},{"$f":"SUM(K144:K155)","v":0},{"$f":"SUM(L144:L155)","v":163},{"$f":"SUM(M144+M147+M150+M153)","v":0},{"$f":"SUM(M145+M148+M151+M154)","v":0},{"$f":"SUM(M146+M149+M152+M155)","v":0},{"$f":"SUM(N144:N155)","v":0},{"$f":"SUM(O144:O155)","v":191},{"$f":"SUM(P144:P155)","v":28},{"$f":"SUM(Q144+Q147+Q150+Q153)","v":0},{"$f":"SUM(Q145+Q148+Q151+Q154)","v":0},{"$f":"SUM(Q146+Q149+Q152+Q155)","v":0},{"$f":"SUM(B144:D144)+SUM(B147:D147)+SUM(B150:D150)+SUM(B153:D153)+SUM(F144:H144)+SUM(F147:H147)+SUM(F150:H150)+SUM(F153:H153)+SUM(J144:L144)+SUM(J147:L147)+SUM(J150:L150)+SUM(J153:L153)+SUM(N144:P144)+SUM(N147:P147)+SUM(N150:P150)+SUM(N153:P153)+E146+E149+E152+E155+I146+I149+I152+I155+M146+M149+M152+M155+Q146+Q149+Q152+Q155","v":836},{"$f":"SUM(B144,B147,B150,B153)","v":0},{"$f":"SUM(C144,C147,C150,C153)","v":0},{"$f":"SUM(D144,D147,D150,D153)","v":0},{"$f":"SUM(E144,E147,E150,E153)","v":0},{"$f":"SUM(F144,F147,F150,F153)","v":22},{"$f":"SUM(G144,G147,G150,G153)","v":233},{"$f":"SUM(H144,H147,H150,H153)","v":0},{"$f":"SUM(I144,I147,I150,I153)","v":0},{"$f":"SUM(J144,J147,J150,J153)","v":201},{"$f":"SUM(K144,K147,K150,K153)","v":0},{"$f":"SUM(L144,L147,L150,L153)","v":163},{"$f":"SUM(M144,M147,M150,M153)","v":0},{"$f":"SUM(N144,N147,N150,N153)","v":0},{"$f":"SUM(O144,O147,O150,O153)","v":190},{"$f":"SUM(P144,P147,P150,P153)","v":27},{"$f":"SUM(Q144,Q147,Q150,Q153)","v":0},{"$f":"SUM(B145:D145)+SUM(B148:D148)+SUM(B151:D151)+SUM(B154:D154)+SUM(F145:H145)+SUM(F148:H148)+SUM(F151:H151)+SUM(F154:H154)+SUM(J145:L145)+SUM(J148:L148)+SUM(J151:L151)+SUM(J154:L154)+SUM(N145:P145)+SUM(N148:P148)+SUM(N151:P151)+SUM(N154:P154)","v":1},{"$f":"SUM(B145,B148,B151,B154)","v":0},{"$f":"SUM(C145,C148,C151,C154)","v":0},{"$f":"SUM(D145,D148,D151,D154)","v":0},{"$f":"SUM(E145,E148,E151,E154)","v":0},{"$f":"SUM(F145,F148,F151,F154)","v":0},{"$f":"SUM(G145,G148,G151,G154)","v":0},{"$f":"SUM(H145,H148,H151,H154)","v":0},{"$f":"SUM(I145,I148,I151,I154)","v":0},{"$f":"SUM(J145,J148,J151,J154)","v":1},{"$f":"SUM(K145,K148,K151,K154)","v":0},{"$f":"SUM(L145,L148,L151,L154)","v":0},{"$f":"SUM(M145,M148,M151,M154)","v":0},{"$f":"SUM(N145,N148,N151,N154)","v":0},{"$f":"SUM(O145,O148,O151,O154)","v":0},{"$f":"SUM(P145,P148,P151,P154)","v":0},{"$f":"SUM(Q145,Q148,Q151,Q154)","v":0},{"$f":"SUM(B146:D146)+SUM(B149:D149)+SUM(B152:D152)+SUM(B155:D155)+SUM(F146:H146)+SUM(F149:H149)+SUM(F152:H152)+SUM(F155:H155)+SUM(J146:L146)+SUM(J149:L149)+SUM(J152:L152)+SUM(J155:L155)+SUM(N146:P146)+SUM(N149:P149)+SUM(N152:P152)+SUM(N155:P155)","v":9},{"$f":"SUM(B146,B149,B152,B155)","v":0},{"$f":"SUM(C146,C149,C152,C155)","v":0},{"$f":"SUM(D146,D149,D152,D155)","v":0},{"$f":"SUM(E146,E149,E152,E155)","v":0},{"$f":"SUM(F146,F149,F152,F155)","v":2},{"$f":"SUM(G146,G149,G152,G155)","v":4},{"$f":"SUM(H146,H149,H152,H155)","v":0},{"$f":"SUM(I146,I149,I152,I155)","v":0},{"$f":"SUM(J146,J149,J152,J155)","v":1},{"$f":"SUM(K146,K149,K152,K155)","v":0},{"$f":"SUM(L146,L149,L152,L155)","v":0},{"$f":"SUM(M146,M149,M152,M155)","v":0},{"$f":"SUM(N146,N149,N152,N155)","v":0},{"$f":"SUM(O146,O149,O152,O155)","v":1},{"$f":"SUM(P146,P149,P152,P155)","v":1},{"$f":"SUM(Q146,Q149,Q152,Q155)","v":0}]
["18:30:02.189",{"$f":"ROUND('Import Tab'!E145*'Base Information'!$V$22,0)","v":0},{"$f":"ROUND('Import Tab'!D145*'Base Information'!$V$22,0)","v":0},{"$f":"ROUND('Import Tab'!C145*'Base Information'!$V$22,0)","v":0},{"$f":"ROUND('Import Tab'!F145,0)","v":0},{"$f":"ROUND('Import Tab'!I145*'Base Information'!$V$22,0)","v":0},{"$f":"ROUND('Import Tab'!H145*'Base Information'!$V$22,0)","v":0},{"$f":"ROUND('Import Tab'!G145*'Base Information'!$V$22,0)","v":0},{"$f":"ROUND('Import Tab'!J145,0)","v":0},{"$f":"ROUND('Import Tab'!M145*'Base Information'!$V$22,0)","v":0},{"$f":"ROUND('Import Tab'!L145*'Base Information'!$V$22,0)","v":0},{"$f":"ROUND('Import Tab'!K145*'Base Information'!$V$22,0)","v":0},{"$f":"ROUND('Import Tab'!N145,0)","v":0},{"$f":"ROUND('Import Tab'!Q145*'Base Information'!$V$22,0)","v":0},{"$f":"ROUND('Import Tab'!P145*'Base Information'!$V$22,0)","v":0},{"$f":"ROUND('Import Tab'!O145*'Base Information'!$V$22,0)","v":0},{"$f":"ROUND('Import Tab'!R145,0)","v":0}]
["18:30:02.189",{"$f":"ROUND('Import Tab'!E146*'Base Information'!$V$22,0)","v":0},{"$f":"ROUND('Import Tab'!D146*'Base Information'!$V$22,0)","v":0},{"$f":"ROUND('Import Tab'!C146*'Base Information'!$V$22,0)","v":0},{"$f":"ROUND('Import Tab'!F146,0)","v":0},{"$f":"ROUND('Import Tab'!I146*'Base Information'!$V$22,0)","v":1},{"$f":"ROUND('Import Tab'!H146*'Base Information'!$V$22,0)","v":3},{"$f":"ROUND('Import Tab'!G146*'Base Information'!$V$22,0)","v":0},{"$f":"ROUND('Import Tab'!J146,0)","v":0},{"$f":"ROUND('Import Tab'!M146*'Base Information'!$V$22,0)","v":0},{"$f":"ROUND('Import Tab'!L146*'Base Information'!$V$22,0)","v":0},{"$f":"ROUND('Import Tab'!K146*'Base Information'!$V$22,0)","v":0},{"$f":"ROUND('Import Tab'!N146,0)","v":0},{"$f":"ROUND('Import Tab'!Q146*'Base Information'!$V$22,0)","v":0},{"$f":"ROUND('Import Tab'!P146*'Base Information'!$V$22,0)","v":0},{"$f":"ROUND('Import Tab'!O146*'Base Information'!$V$22,0)","v":1},{"$f":"ROUND('Import Tab'!R146,0)","v":0}]
["18:45:02.218",{"$f":"ROUND('Import Tab'!E147*'Base Information'!$V$22,0)","v":0},{"$f":"ROUND('Import Tab'!D147*'Base Information'!$V$22,0)","v":0},{"$f":"ROUND('Import Tab'!C147*'Base Information'!$V$22,0)","v":0},{"$f":"ROUND('Import Tab'!F147,0)","v":0},{"$f":"ROUND('Import Tab'!I147*'Base Information'!$V$22,0)","v":3},{"$f":"ROUND('Import Tab'!H147*'Base Information'!$V$22,0)","v":114},{"$f":"ROUND('Import Tab'!G147*'Base Information'!$V$22,0)","v":0},{"$f":"ROUND('Import Tab'!J147,0)","v":0},{"$f":"ROUND('Import Tab'!M147*'Base Information'!$V$22,0)","v":94},{"$f":"ROUND('Import Tab'!L147*'Base Information'!$V$22,0)","v":0},{"$f":"ROUND('Import Tab'!K147*'Base Information'!$V$22,0)","v":89},{"$f":"ROUND('Import Tab'!N147,0)","v":0},{"$f":"ROUND('Import Tab'!Q147*'Base Information'!$V$22,0)","v":0},{"$f":"ROUND('Import Tab'!P147*'Base Information'!$V$22,0)","v":96},{"$f":"ROUND('Import Tab'!O147*'Base Information'!$V$22,0)","v":9},{"$f":"ROUND('Import Tab'!R147,0)","v":0},{"$f":"SUM(B147:D149)+SUM(F147:H149)+SUM(J147:L149)+SUM(N147:P149)+E149+I149+M149+Q149","v":410},{"$f":"B147+B148+B149","v":0},0,0,{"$f":"E147","v":0},{"$f":"E148","v":0},{"$f":"E149","v":0},{"$f":"F147+F148+F149","v":4},{"$f":"G147+G148+G149","v":115},{"$f":"H147+H148+H149","v":0},{"$f":"I147","v":0},{"$f":"I148","v":0},{"$f":"I149","v":0},{"$f":"J147+J148+J149","v":96},{"$f":"K147+K148+K149","v":0},{"$f":"L147+L148+L149","v":89},{"$f":"M147","v":0},{"$f":"M148","v":0},{"$f":"M149","v":0},{"$f":"N147+N148+N149","v":0},{"$f":"O147+O148+O149","v":97},{"$f":"P147+P148+P149","v":9},{"$f":"Q147","v":0},{"$f":"Q148","v":0},{"$f":"Q149","v":0},{"$f":"SUM(B147:D147)+SUM(F147:H147)+SUM(J147:L147)+SUM(N147:P147)+E149+I149+M149+Q149","v":405},{"$f":"B147","v":0},{"$f":"C147","v":0},{"$f":"D147","v":0},{"$f":"E147","v":0},{"$f":"F147","v":3},{"$f":"G147","v":114},{"$f":"H147","v":0},{"$f":"I147","v":0},{"$f":"J147","v":94},{"$f":"K147","v":0},{"$f":"L147","v":89},{"$f":"M147","v":0},{"$f":"N147","v":0},{"$f":"O147","v":96},{"$f":"P147","v":9},{"$f":"Q147","v":0},{"$f":"SUM(B148:D148)+SUM(F148:H148)+SUM(J148:L148)+SUM(N148:P148)","v":1},{"$f":"B148","v":0},{"$f":"C148","v":0},{"$f":"D148","v":0},{"$f":"E148","v":0},{"$f":"F148","v":0},{"$f":"G148","v":0},{"$f":"H148","v":0},{"$f":"I148","v":0},{"$f":"J148","v":1},{"$f":"K148","v":0},{"$f":"L148","v":0},{"$f":"M148","v":0},{"$f":"N148","v":0},{"$f":"O148","v":0},{"$f":"P148","v":0},{"$f":"Q148","v":0},{"$f":"SUM(B149:D149)+SUM(F149:H149)+SUM(J149:L149)+SUM(N149:P149)","v":4},{"$f":"B149","v":0},{"$f":"C149","v":0},{"$f":"D149","v":0},{"$f":"E149","v":0},{"$f":"F149","v":1},{"$f":"G149","v":1},{"$f":"H149","v":0},{"$f":"I149","v":0},{"$f":"J149","v":1},{"$f":"K149","v":0},{"$f":"L149","v":0},{"$f":"M149","v":0},{"$f":"N149","v":0},{"$f":"O149","v":1},{"$f":"P149","v":0},{"$f":"Q149","v":0},{"$f":"SUM(B147:D158,E149,E152,E155,E158,F147:H158,I149,I152,I155,I158,J147:L158,M149,M152,M155,M158,N147:P158,Q149,Q152,Q155,Q158)","v":410},{"$f":"SUM(B147:B158)","v":0},{"$f":"SUM(C147:C158)","v":0},{"$f":"SUM(D147:D158)","v":0},{"$f":"SUM(E147+E150+E153+E156)","v":0},{"$f":"SUM(E148+E151+E154+E157)","v":0},{"$f":"SUM(E149+E152+E155+E158)","v":0},{"$f":"SUM(F147:F158)","v":4},{"$f":"SUM(G147:G158)","v":115},{"$f":"SUM(H147:H158)","v":0},{"$f":"SUM(I147+I150+I153+I156)","v":0},{"$f":"SUM(I148+I151+I154+I157)","v":0},{"$f":"SUM(I149+I152+I155+I158)","v":0},{"$f":"SUM(J147:J158)","v":96},{"$f":"SUM(K147:K158)","v":0},{"$f":"SUM(L147:L158)","v":89},{"$f":"SUM(M147+M150+M153+M156)","v":0},{"$f":"SUM(M148+M151+M154+M157)","v":0},{"$f":"SUM(M149+M152+M155+M158)","v":0},{"$f":"SUM(N147:N158)","v":0},{"$f":"SUM(O147:O158)","v":97},{"$f":"SUM(P147:P158)","v":9},{"$f":"SUM(Q147+Q150+Q153+Q156)","v":0},{"$f":"SUM(Q148+Q151+Q154+Q157)","v":0},{"$f":"SUM(Q149+Q152+Q155+Q158)","v":0},{"$f":"SUM(B147:D147)+SUM(B150:D150)+SUM(B153:D153)+SUM(B156:D156)+SUM(F147:H147)+SUM(F150:H150)+SUM(F153:H153)+SUM(F156:H156)+SUM(J147:L147)+SUM(J150:L150)+SUM(J153:L153)+SUM(J156:L156)+SUM(N147:P147)+SUM(N150:P150)+SUM(N153:P153)+SUM(N156:P156)+E149+E152+E155+E158+I149+I152+I155+I158+M149+M152+M155+M158+Q149+Q152+Q155+Q158","v":405},{"$f":"SUM(B147,B150,B153,B156)","v":0},{"$f":"SUM(C147,C150,C153,C156)","v":0},{"$f":"SUM(D147,D150,D153,D156)","v":0},{"$f":"SUM(E147,E150,E153,E156)","v":0},{"$f":"SUM(F147,F150,F153,F156)","v":3},{"$f":"SUM(G147,G150,G153,G156)","v":114},{"$f":"SUM(H147,H150,H153,H156)","v":0},{"$f":"SUM(I147,I150,I153,I156)","v":0},{"$f":"SUM(J147,J150,J153,J156)","v":94},{"$f":"SUM(K147,K150,K153,K156)","v":0},{"$f":"SUM(L147,L150,L153,L156)","v":89},{"$f":"SUM(M147,M150,M153,M156)","v":0},{"$f":"SUM(N147,N150,N153,N156)","v":0},{"$f":"SUM(O147,O150,O153,O156)","v":96},{"$f":"SUM(P147,P150,P153,P156)","v":9},{"$f":"SUM(Q147,Q150,Q153,Q156)","v":0},{"$f":"SUM(B148:D148)+SUM(B151:D151)+SUM(B154:D154)+SUM(B157:D157)+SUM(F148:H148)+SUM(F151:H151)+SUM(F154:H154)+SUM(F157:H157)+SUM(J148:L148)+SUM(J151:L151)+SUM(J154:L154)+SUM(J157:L157)+SUM(N148:P148)+SUM(N151:P151)+SUM(N154:P154)+SUM(N157:P157)","v":1},{"$f":"SUM(B148,B151,B154,B157)","v":0},{"$f":"SUM(C148,C151,C154,C157)","v":0},{"$f":"SUM(D148,D151,D154,D157)","v":0},{"$f":"SUM(E148,E151,E154,E157)","v":0},{"$f":"SUM(F148,F151,F154,F157)","v":0},{"$f":"SUM(G148,G151,G154,G157)","v":0},{"$f":"SUM(H148,H151,H154,H157)","v":0},{"$f":"SUM(I148,I151,I154,I157)","v":0},{"$f":"SUM(J148,J151,J154,J157)","v":1},{"$f":"SUM(K148,K151,K154,K157)","v":0},{"$f":"SUM(L148,L151,L154,L157)","v":0},{"$f":"SUM(M148,M151,M154,M157)","v":0},{"$f":"SUM(N148,N151,N154,N157)","v":0},{"$f":"SUM(O148,O151,O154,O157)","v":0},{"$f":"SUM(P148,P151,P154,P157)","v":0},{"$f":"SUM(Q148,Q151,Q154,Q157)","v":0},{"$f":"SUM(B149:D149)+SUM(B152:D152)+SUM(B155:D155)+SUM(B158:D158)+SUM(F149:H149)+SUM(F152:H152)+SUM(F155:H155)+SUM(F158:H158)+SUM(J149:L149)+SUM(J152:L152)+SUM(J155:L155)+SUM(J158:L158)+SUM(N149:P149)+SUM(N152:P152)+SUM(N155:P155)+SUM(N158:P158)","v":4},{"$f":"SUM(B149,B152,B155,B158)","v":0},{"$f":"SUM(C149,C152,C155,C158)","v":0},{"$f":"SUM(D149,D152,D155,D158)","v":0},{"$f":"SUM(E149,E152,E155,E158)","v":0},{"$f":"SUM(F149,F152,F155,F158)","v":1},{"$f":"SUM(G149,G152,G155,G158)","v":1},{"$f":"SUM(H149,H152,H155,H158)","v":0},{"$f":"SUM(I149,I152,I155,I158)","v":0},{"$f":"SUM(J149,J152,J155,J158)","v":1},{"$f":"SUM(K149,K152,K155,K158)","v":0},{"$f":"SUM(L149,L152,L155,L158)","v":0},{"$f":"SUM(M149,M152,M155,M158)","v":0},{"$f":"SUM(N149,N152,N155,N158)","v":0},{"$f":"SUM(O149,O152,O155,O158)","v":1},{"$f":"SUM(P149,P152,P155,P158)","v":0},{"$f":"SUM(Q149,Q152,Q155,Q158)","v":0}]
["18:45:02.218",{"$f":"ROUND('Import Tab'!E148*'Base Information'!$V$22,0)","v":0},{"$f":"ROUND('Import Tab'!D148*'Base Information'!$V$22,0)","v":0},{"$f":"ROUND('Import Tab'!C148*'Base Information'!$V$22,0)","v":0},{"$f":"ROUND('Import Tab'!F148,0)","v":0},{"$f":"ROUND('Import Tab'!I148*'Base Information'!$V$22,0)","v":0},{"$f":"ROUND('Import Tab'!H148*'Base Information'!$V$22,0)","v":0},{"$f":"ROUND('Import Tab'!G148*'Base Information'!$V$22,0)","v":0},{"$f":"ROUND('Import Tab'!J148,0)","v":0},{"$f":"ROUND('Import Tab'!M148*'Base Information'!$V$22,0)","v":1},{"$f":"ROUND('Import Tab'!L148*'Base Information'!$V$22,0)","v":0},{"$f":"ROUND('Import Tab'!K148*'Base Information'!$V$22,0)","v":0},{"$f":"ROUND('Import Tab'!N148,0)","v":0},{"$f":"ROUND('Import Tab'!Q148*'Base Information'!$V$22,0)","v":0},{"$f":"ROUND('Import Tab'!P148*'Base Information'!$V$22,0)","v":0},{"$f":"ROUND('Import Tab'!O148*'Base Information'!$V$22,0)","v":0},{"$f":"ROUND('Import Tab'!R148,0)","v":0}]
["18:45:02.218",{"$f":"ROUND('Import Tab'!E149*'Base Information'!$V$22,0)","v":0},{"$f":"ROUND('Import Tab'!D149*'Base Information'!$V$22,0)","v":0},{"$f":"ROUND('Import Tab'!C149*'Base Information'!$V$22,0)","v":0},{"$f":"ROUND('Import Tab'!F149,0)","v":0},{"$f":"ROUND('Import Tab'!I149*'Base Information'!$V$22,0)","v":1},{"$f":"ROUND('Import Tab'!H149*'Base Information'!$V$22,0)","v":1},{"$f":"ROUND('Import Tab'!G149*'Base Information'!$V$22,0)","v":0},{"$f":"ROUND('Import Tab'!J149,0)","v":0},{"$f":"ROUND('Import Tab'!M149*'Base Information'!$V$22,0)","v":1},{"$f":"ROUND('Import Tab'!L149*'Base Information'!$V$22,0)","v":0},{"$f":"ROUND('Import Tab'!K149*'Base Information'!$V$22,0)","v":0},{"$f":"ROUND('Import Tab'!N149,0)","v":0},{"$f":"ROUND('Import Tab'!Q149*'Base Information'!$V$22,0)","v":0},{"$f":"ROUND('Import Tab'!P149*'Base Information'!$V$22,0)","v":1},{"$f":"ROUND('Import Tab'!O149*'Base Information'!$V$22,0)","v":0},{"$f":"ROUND('Import Tab'!R149,0)","v":0}]
["19:00:02.246",{"$f":"ROUND('Import Tab'!E150*'Base Information'!$V$22,0)","v":0},{"$f":"ROUND('Import Tab'!D150*'Base Information'!$V$22,0)","v":0},{"$f":"ROUND('Import Tab'!C150*'Base Information'!$V$22,0)","v":0},{"$f":"ROUND('Import Tab'!F150,0)","v":0},{"$f":"ROUND('Import Tab'!I150*'Base Information'!$V$22,0)","v":0},{"$f":"ROUND('Import Tab'!H150*'Base Information'!$V$22,0)","v":0},{"$f":"ROUND('Import Tab'!G150*'Base Information'!$V$22,0)","v":0},{"$f":"ROUND('Import Tab'!J150,0)","v":0},{"$f":"ROUND('Import Tab'!M150*'Base Information'!$V$22,0)","v":0},{"$f":"ROUND('Import Tab'!L150*'Base Information'!$V$22,0)","v":0},{"$f":"ROUND('Import Tab'!K150*'Base Information'!$V$22,0)","v":0},{"$f":"ROUND('Import Tab'!N150,0)","v":0},{"$f":"ROUND('Import Tab'!Q150*'Base Information'!$V$22,0)","v":0},{"$f":"ROUND('Import Tab'!P150*'Base Information'!$V$22,0)","v":0},{"$f":"ROUND('Import Tab'!O150*'Base Information'!$V$22,0)","v":0},{"$f":"ROUND('Import Tab'!R150,0)","v":0},{"$f":"SUM(B150:D152)+SUM(F150:H152)+SUM(J150:L152)+SUM(N150:P152)+E152+I152+M152+Q152","v":0},{"$f":"B150+B151+B152","v":0},0,0,{"$f":"E150","v":0},{"$f":"E151","v":0},{"$f":"E152","v":0},{"$f":"F150+F151+F152","v":0},{"$f":"G150+G151+G152","v":0},{"$f":"H150+H151+H152","v":0},{"$f":"I150","v":0},{"$f":"I151","v":0},{"$f":"I152","v":0},{"$f":"J150+J151+J152","v":0},{"$f":"K150+K151+K152","v":0},{"$f":"L150+L151+L152","v":0},{"$f":"M150","v":0},{"$f":"M151","v":0},{"$f":"M152","v":0},{"$f":"N150+N151+N152","v":0},{"$f":"O150+O151+O152","v":0},{"$f":"P150+P151+P152","v":0},{"$f":"Q150","v":0},{"$f":"Q151","v":0},{"$f":"Q152","v":0},{"$f":"SUM(B150:D150)+SUM(F150:H150)+SUM(J150:L150)+SUM(N150:P150)+E152+I152+M152+Q152","v":0},{"$f":"B150","v":0},{"$f":"C150","v":0},{"$f":"D150","v":0},{"$f":"E150","v":0},{"$f":"F150","v":0},{"$f":"G150","v":0},{"$f":"H150","v":0},{"$f":"I150","v":0},{"$f":"J150","v":0},{"$f":"K150","v":0},{"$f":"L150","v":0},{"$f":"M150","v":0},{"$f":"N150","v":0},{"$f":"O150","v":0},{"$f":"P150","v":0},{"$f":"Q150","v":0},{"$f":"SUM(B151:D151)+SUM(F151:H151)+SUM(J151:L151)+SUM(N151:P151)","v":0},{"$f":"B151","v":0},{"$f":"C151","v":0},{"$f":"D151","v":0},{"$f":"E151","v":0},{"$f":"F151","v":0},{"$f":"G151","v":0},{"$f":"H151","v":0},{"$f":"I151","v":0},{"$f":"J151","v":0},{"$f":"K151","v":0},{"$f":"L151","v":0},{"$f":"M151","v":0},{"$f":"N151","v":0},{"$f":"O151","v":0},{"$f":"P151","v":0},{"$f":"Q151","v":0},{"$f":"SUM(B152:D152)+SUM(F152:H152)+SUM(J152:L152)+SUM(N152:P152)","v":0},{"$f":"B152","v":0},{"$f":"C152","v":0},{"$f":"D152","v":0},{"$f":"E152","v":0},{"$f":"F152","v":0},{"$f":"G152","v":0},{"$f":"H152","v":0},{"$f":"I152","v":0},{"$f":"J152","v":0},{"$f":"K152","v":0},{"$f":"L152","v":0},{"$f":"M152","v":0},{"$f":"N152","v":0},{"$f":"O152","v":0},{"$f":"P152","v":0},{"$f":"Q152","v":0},{"$f":"SUM(B150:D161,E152,E155,E158,E161,F150:H161,I152,I155,I158,I161,J150:L161,M152,M155,M158,M161,N150:P161,Q152,Q155,Q158,Q161)","v":0},{"$f":"SUM(B150:B161)","v":0},{"$f":"SUM(C150:C161)","v":0},{"$f":"SUM(D150:D161)","v":0},{"$f":"SUM(E150+E153+E156+E159)","v":0},{"$f":"SUM(E151+E154+E157+E160)","v":0},{"$f":"SUM(E152+E155+E158+E161)","v":0},{"$f":"SUM(F150:F161)","v":0},{"$f":"SUM(G150:G161)","v":0},{"$f":"SUM(H150:H161)","v":0},{"$f":"SUM(I150+I153+I156+I159)","v":0},{"$f":"SUM(I151+I154+I157+I160)","v":0},{"$f":"SUM(I152+I155+I158+I161)","v":0},{"$f":"SUM(J150:J161)","v":0},{"$f":"SUM(K150:K161)","v":0},{"$f":"SUM(L150:L161)","v":0},{"$f":"SUM(M150+M153+M156+M159)","v":0},{"$f":"SUM(M151+M154+M157+M160)","v":0},{"$f":"SUM(M152+M155+M158+M161)","v":0},{"$f":"SUM(N150:N161)","v":0},{"$f":"SUM(O150:O161)","v":0},{"$f":"SUM(P150:P161)","v":0},{"$f":"SUM(Q150+Q153+Q156+Q159)","v":0},{"$f":"SUM(Q151+Q154+Q157+Q160)","v":0},{"$f":"SUM(Q152+Q155+Q158+Q161)","v":0},{"$f":"SUM(B150:D150)+SUM(B153:D153)+SUM(B156:D156)+SUM(B159:D159)+SUM(F150:H150)+SUM(F153:H153)+SUM(F156:H156)+SUM(F159:H159)+SUM(J150:L150)+SUM(J153:L153)+SUM(J156:L156)+SUM(J159:L159)+SUM(N150:P150)+SUM(N153:P153)+SUM(N156:P156)+SUM(N159:P159)+E152+E155+E158+E161+I152+I155+I158+I161+M152+M155+M158+M161+Q152+Q155+Q158+Q161","v":0},{"$f":"SUM(B150,B153,B156,B159)","v":0},{"$f":"SUM(C150,C153,C156,C159)","v":0},{"$f":"SUM(D150,D153,D156,D159)","v":0},{"$f":"SUM(E150,E153,E156,E159)","v":0},{"$f":"SUM(F150,F153,F156,F159)","v":0},{"$f":"SUM(G150,G153,G156,G159)","v":0},{"$f":"SUM(H150,H153,H156,H159)","v":0},{"$f":"SUM(I150,I153,I156,I159)","v":0},{"$f":"SUM(J150,J153,J156,J159)","v":0},{"$f":"SUM(K150,K153,K156,K159)","v":0},{"$f":"SUM(L150,L153,L156,L159)","v":0},{"$f":"SUM(M150,M153,M156,M159)","v":0},{"$f":"SUM(N150,N153,N156,N159)","v":0},{"$f":"SUM(O150,O153,O156,O159)","v":0},{"$f":"SUM(P150,P153,P156,P159)","v":0},{"$f":"SUM(Q150,Q153,Q156,Q159)","v":0},{"$f":"SUM(B151:D151)+SUM(B154:D154)+SUM(B157:D157)+SUM(B160:D160)+SUM(F151:H151)+SUM(F154:H154)+SUM(F157:H157)+SUM(F160:H160)+SUM(J151:L151)+SUM(J154:L154)+SUM(J157:L157)+SUM(J160:L160)+SUM(N151:P151)+SUM(N154:P154)+SUM(N157:P157)+SUM(N160:P160)","v":0},{"$f":"SUM(B151,B154,B157,B160)","v":0},{"$f":"SUM(C151,C154,C157,C160)","v":0},{"$f":"SUM(D151,D154,D157,D160)","v":0},{"$f":"SUM(E151,E154,E157,E160)","v":0},{"$f":"SUM(F151,F154,F157,F160)","v":0},{"$f":"SUM(G151,G154,G157,G160)","v":0},{"$f":"SUM(H151,H154,H157,H160)","v":0},{"$f":"SUM(I151,I154,I157,I160)","v":0},{"$f":"SUM(J151,J154,J157,J160)","v":0},{"$f":"SUM(K151,K154,K157,K160)","v":0},{"$f":"SUM(L151,L154,L157,L160)","v":0},{"$f":"SUM(M151,M154,M157,M160)","v":0},{"$f":"SUM(N151,N154,N157,N160)","v":0},{"$f":"SUM(O151,O154,O157,O160)","v":0},{"$f":"SUM(P151,P154,P157,P160)","v":0},{"$f":"SUM(Q151,Q154,Q157,Q160)","v":0},{"$f":"SUM(B152:D152)+SUM(B155:D155)+SUM(B158:D158)+SUM(B161:D161)+SUM(F152:H152)+SUM(F155:H155)+SUM(F158:H158)+SUM(F161:H161)+SUM(J152:L152)+SUM(J155:L155)+SUM(J158:L158)+SUM(J161:L161)+SUM(N152:P152)+SUM(N155:P155)+SUM(N158:P158)+SUM(N161:P161)","v":0},{"$f":"SUM(B152,B155,B158,B161)","v":0},{"$f":"SUM(C152,C155,C158,C161)","v":0},{"$f":"SUM(D152,D155,D158,D161)","v":0},{"$f":"SUM(E152,E155,E158,E161)","v":0},{"$f":"SUM(F152,F155,F158,F161)","v":0},{"$f":"SUM(G152,G155,G158,G161)","v":0},{"$f":"SUM(H152,H155,H158,H161)","v":0},{"$f":"SUM(I152,I155,I158,I161)","v":0},{"$f":"SUM(J152,J155,J158,J161)","v":0},{"$f":"SUM(K152,K155,K158,K161)","v":0},{"$f":"SUM(L152,L155,L158,L161)","v":0},{"$f":"SUM(M152,M155,M158,M161)","v":0},{"$f":"SUM(N152,N155,N158,N161)","v":0},{"$f":"SUM(O152,O155,O158,O161)","v":0},{"$f":"SUM(P152,P155,P158,P161)","v":0},{"$f":"SUM(Q152,Q155,Q158,Q161)","v":0}]
["19:00:02.246",{"$f":"ROUND('Import Tab'!E151*'Base Information'!$V$22,0)","v":0},{"$f":"ROUND('Import Tab'!D151*'Base Information'!$V$22,0)","v":0},{"$f":"ROUND('Import Tab'!C151*'Base Information'!$V$22,0)","v":0},{"$f":"ROUND('Import Tab'!F151,0)","v":0},{"$f":"ROUND('Import Tab'!I151*'Base Information'!$V$22,0)","v":0},{"$f":"ROUND('Import Tab'!H151*'Base Information'!$V$22,0)","v":0},{"$f":"ROUND('Import Tab'!G151*'Base Information'!$V$22,0)","v":0},{"$f":"ROUND('Import Tab'!J151,0)","v":0},{"$f":"ROUND('Import Tab'!M151*'Base Information'!$V$22,0)","v":0},{"$f":"ROUND('Import Tab'!L151*'Base Information'!$V$22,0)","v":0},{"$f":"ROUND('Import Tab'!K151*'Base Information'!$V$22,0)","v":0},{"$f":"ROUND('Import Tab'!N151,0)","v":0},{"$f":"ROUND('Import Tab'!Q151*'Base Information'!$V$22,0)","v":0},{"$f":"ROUND('Import Tab'!P151*'Base Information'!$V$22,0)","v":0},{"$f":"ROUND('Import Tab'!O151*'Base Information'!$V$22,0)","v":0},{"$f":"ROUND('Import Tab'!R151,0)","v":0}]
["19:00:02.246",{"$f":"ROUND('Import Tab'!E152*'Base Information'!$V$22,0)","v":0},{"$f":"ROUND('Import Tab'!D152*'Base Information'!$V$22,0)","v":0},{"$f":"ROUND('Import Tab'!C152*'Base Information'!$V$22,0)","v":0},{"$f":"ROUND('Import Tab'!F152,0)","v":0},{"$f":"ROUND('Import Tab'!I152*'Base Information'!$V$22,0)","v":0},{"$f":"ROUND('Import Tab'!H152*'Base Information'!$V$22,0)","v":0},{"$f":"ROUND('Import Tab'!G152*'Base Information'!$V$22,0)","v":0},{"$f":"ROUND('Import Tab'!J152,0)","v":0},{"$f":"ROUND('Import Tab'!M152*'Base Information'!$V$22,0)","v":0},{"$f":"ROUND('Import Tab'!L152*'Base Information'!$V$22,0)","v":0},{"$f":"ROUND('Import Tab'!K152*'Base Information'!$V$22,0)","v":0},{"$f":"ROUND('Import Tab'!N152,0)","v":0},{"$f":"ROUND('Import Tab'!Q152*'Base Information'!$V$22,0)","v":0},{"$f":"ROUND('Import Tab'!P152*'Base Information'!$V$22,0)","v":0},{"$f":"ROUND('Import Tab'!O152*'Base Information'!$V$22,0)","v":0},{"$f":"ROUND('Import Tab'!R152,0)","v":0}]
["19:15:02.275",{"$f":"ROUND('Import Tab'!E153*'Base Information'!$V$22,0)","v":0},{"$f":"ROUND('Import Tab'!D153*'Base Information'!$V$22,0)","v":0},{"$f":"ROUND('Import Tab'!C153*'Base Information'!$V$22,0)","v":0},{"$f":"ROUND('Import Tab'!F153,0)","v":0},{"$f":"ROUND('Import Tab'!I153*'Base Information'!$V$22,0)","v":0},{"$f":"ROUND('Import Tab'!H153*'Base Information'!$V$22,0)","v":0},{"$f":"ROUND('Import Tab'!G153*'Base Information'!$V$22,0)","v":0},{"$f":"ROUND('Import Tab'!J153,0)","v":0},{"$f":"ROUND('Import Tab'!M153*'Base Information'!$V$22,0)","v":0},{"$f":"ROUND('Import Tab'!L153*'Base Information'!$V$22,0)","v":0},{"$f":"ROUND('Import Tab'!K153*'Base Information'!$V$22,0)","v":0},{"$f":"ROUND('Import Tab'!N153,0)","v":0},{"$f":"ROUND('Import Tab'!Q153*'Base Information'!$V$22,0)","v":0},{"$f":"ROUND('Import Tab'!P153*'Base Information'!$V$22,0)","v":0},{"$f":"ROUND('Import Tab'!O153*'Base Information'!$V$22,0)","v":0},{"$f":"ROUND('Import Tab'!R153,0)","v":0},{"$f":"SUM(B153:D155)+SUM(F153:H155)+SUM(J153:L155)+SUM(N153:P155)+E155+I155+M155+Q155","v":0},{"$f":"B153+B154+B155","v":0},0,0,{"$f":"E153","v":0},{"$f":"E154","v":0},{"$f":"E155","v":0},{"$f":"F153+F154+F155","v":0},{"$f":"G153+G154+G155","v":0},{"$f":"H153+H154+H155","v":0},{"$f":"I153","v":0},{"$f":"I154","v":0},{"$f":"I155","v":0},{"$f":"J153+J154+J155","v":0},{"$f":"K153+K154+K155","v":0},{"$f":"L153+L154+L155","v":0},{"$f":"M153","v":0},{"$f":"M154","v":0},{"$f":"M155","v":0},{"$f":"N153+N154+N155","v":0},{"$f":"O153+O154+O155","v":0},{"$f":"P153+P154+P155","v":0},{"$f":"Q153","v":0},{"$f":"Q154","v":0},{"$f":"Q155","v":0},{"$f":"SUM(B153:D153)+SUM(F153:H153)+SUM(J153:L153)+SUM(N153:P153)+E155+I155+M155+Q155","v":0},{"$f":"B153","v":0},{"$f":"C153","v":0},{"$f":"D153","v":0},{"$f":"E153","v":0},{"$f":"F153","v":0},{"$f":"G153","v":0},{"$f":"H153","v":0},{"$f":"I153","v":0},{"$f":"J153","v":0},{"$f":"K153","v":0},{"$f":"L153","v":0},{"$f":"M153","v":0},{"$f":"N153","v":0},{"$f":"O153","v":0},{"$f":"P153","v":0},{"$f":"Q153","v":0},{"$f":"SUM(B154:D154)+SUM(F154:H154)+SUM(J154:L154)+SUM(N154:P154)","v":0},{"$f":"B154","v":0},{"$f":"C154","v":0},{"$f":"D154","v":0},{"$f":"E154","v":0},{"$f":"F154","v":0},{"$f":"G154","v":0},{"$f":"H154","v":0},{"$f":"I154","v":0},{"$f":"J154","v":0},{"$f":"K154","v":0},{"$f":"L154","v":0},{"$f":"M154","v":0},{"$f":"N154","v":0},{"$f":"O154","v":0},{"$f":"P154","v":0},{"$f":"Q154","v":0},{"$f":"SUM(B155:D155)+SUM(F155:H155)+SUM(J155:L155)+SUM(N155:P155)","v":0},{"$f":"B155","v":0},{"$f":"C155","v":0},{"$f":"D155","v":0},{"$f":"E155","v":0},{"$f":"F155","v":0},{"$f":"G155","v":0},{"$f":"H155","v":0},{"$f":"I155","v":0},{"$f":"J155","v":0},{"$f":"K155","v":0},{"$f":"L155","v":0},{"$f":"M155","v":0},{"$f":"N155","v":0},{"$f":"O155","v":0},{"$f":"P155","v":0},{"$f":"Q155","v":0},{"$f":"SUM(B153:D164,E155,E158,E161,E164,F153:H164,I155,I158,I161,I164,J153:L164,M155,M158,M161,M164,N153:P164,Q155,Q158,Q161,Q164)","v":0},{"$f":"SUM(B153:B164)","v":0},{"$f":"SUM(C153:C164)","v":0},{"$f":"SUM(D153:D164)","v":0},{"$f":"SUM(E153+E156+E159+E162)","v":0},{"$f":"SUM(E154+E157+E160+E163)","v":0},{"$f":"SUM(E155+E158+E161+E164)","v":0},{"$f":"SUM(F153:F164)","v":0},{"$f":"SUM(G153:G164)","v":0},{"$f":"SUM(H153:H164)","v":0},{"$f":"SUM(I153+I156+I159+I162)","v":0},{"$f":"SUM(I154+I157+I160+I163)","v":0},{"$f":"SUM(I155+I158+I161+I164)","v":0},{"$f":"SUM(J153:J164)","v":0},{"$f":"SUM(K153:K164)","v":0},{"$f":"SUM(L153:L164)","v":0},{"$f":"SUM(M153+M156+M159+M162)","v":0},{"$f":"SUM(M154+M157+M160+M163)","v":0},{"$f":"SUM(M155+M158+M161+M164)","v":0},{"$f":"SUM(N153:N164)","v":0},{"$f":"SUM(O153:O164)","v":0},{"$f":"SUM(P153:P164)","v":0},{"$f":"SUM(Q153+Q156+Q159+Q162)","v":0},{"$f":"SUM(Q154+Q157+Q160+Q163)","v":0},{"$f":"SUM(Q155+Q158+Q161+Q164)","v":0},{"$f":"SUM(B153:D153)+SUM(B156:D156)+SUM(B159:D159)+SUM(B162:D162)+SUM(F153:H153)+SUM(F156:H156)+SUM(F159:H159)+SUM(F162:H162)+SUM(J153:L153)+SUM(J156:L156)+SUM(J159:L159)+SUM(J162:L162)+SUM(N153:P153)+SUM(N156:P156)+SUM(N159:P159)+SUM(N162:P162)+E155+E158+E161+E164+I155+I158+I161+I164+M155+M158+M161+M164+Q155+Q158+Q161+Q164","v":0},{"$f":"SUM(B153,B156,B159,B162)","v":0},{"$f":"SUM(C153,C156,C159,C162)","v":0},{"$f":"SUM(D153,D156,D159,D162)","v":0},{"$f":"SUM(E153,E156,E159,E162)","v":0},{"$f":"SUM(F153,F156,F159,F162)","v":0},{"$f":"SUM(G153,G156,G159,G162)","v":0},{"$f":"SUM(H153,H156,H159,H162)","v":0},{"$f":"SUM(I153,I156,I159,I162)","v":0},{"$f":"SUM(J153,J156,J159,J162)","v":0},{"$f":"SUM(K153,K156,K159,K162)","v":0},{"$f":"SUM(L153,L156,L159,L162)","v":0},{"$f":"SUM(M153,M156,M159,M162)","v":0},{"$f":"SUM(N153,N156,N159,N162)","v":0},{"$f":"SUM(O153,O156,O159,O162)","v":0},{"$f":"SUM(P153,P156,P159,P162)","v":0},{"$f":"SUM(Q153,Q156,Q159,Q162)","v":0},{"$f":"SUM(B154:D154)+SUM(B157:D157)+SUM(B160:D160)+SUM(B163:D163)+SUM(F154:H154)+SUM(F157:H157)+SUM(F160:H160)+SUM(F163:H163)+SUM(J154:L154)+SUM(J157:L157)+SUM(J160:L160)+SUM(J163:L163)+SUM(N154:P154)+SUM(N157:P157)+SUM(N160:P160)+SUM(N163:P163)","v":0},{"$f":"SUM(B154,B157,B160,B163)","v":0},{"$f":"SUM(C154,C157,C160,C163)","v":0},{"$f":"SUM(D154,D157,D160,D163)","v":0},{"$f":"SUM(E154,E157,E160,E163)","v":0},{"$f":"SUM(F154,F157,F160,F163)","v":0},{"$f":"SUM(G154,G157,G160,G163)","v":0},{"$f":"SUM(H154,H157,H160,H163)","v":0},{"$f":"SUM(I154,I157,I160,I163)","v":0},{"$f":"SUM(J154,J157,J160,J163)","v":0},{"$f":"SUM(K154,K157,K160,K163)","v":0},{"$f":"SUM(L154,L157,L160,L163)","v":0},{"$f":"SUM(M154,M157,M160,M163)","v":0},{"$f":"SUM(N154,N157,N160,N163)","v":0},{"$f":"SUM(O154,O157,O160,O163)","v":0},{"$f":"SUM(P154,P157,P160,P163)","v":0},{"$f":"SUM(Q154,Q157,Q160,Q163)","v":0},{"$f":"SUM(B155:D155)+SUM(B158:D158)+SUM(B161:D161)+SUM(B164:D164)+SUM(F155:H155)+SUM(F158:H158)+SUM(F161:H161)+SUM(F164:H164)+SUM(J155:L155)+SUM(J158:L158)+SUM(J161:L161)+SUM(J164:L164)+SUM(N155:P155)+SUM(N158:P158)+SUM(N161:P161)+SUM(N164:P164)","v":0},{"$f":"SUM(B155,B158,B161,B164)","v":0},{"$f":"SUM(C155,C158,C161,C164)","v":0},{"$f":"SUM(D155,D158,D161,D164)","v":0},{"$f":"SUM(E155,E158,E161,E164)","v":0},{"$f":"SUM(F155,F158,F161,F164)","v":0},{"$f":"SUM(G155,G158,G161,G164)","v":0},{"$f":"SUM(H155,H158,H161,H164)","v":0},{"$f":"SUM(I155,I158,I161,I164)","v":0},{"$f":"SUM(J155,J158,J161,J164)","v":0},{"$f":"SUM(K155,K158,K161,K164)","v":0},{"$f":"SUM(L155,L158,L161,L164)","v":0},{"$f":"SUM(M155,M158,M161,M164)","v":0},{"$f":"SUM(N155,N158,N161,N164)","v":0},{"$f":"SUM(O155,O158,O161,O164)","v":0},{"$f":"SUM(P155,P158,P161,P164)","v":0},{"$f":"SUM(Q155,Q158,Q161,Q164)","v":0}]
["19:15:02.275",{"$f":"ROUND('Import Tab'!E154*'Base Information'!$V$22,0)","v":0},{"$f":"ROUND('Import Tab'!D154*'Base Information'!$V$22,0)","v":0},{"$f":"ROUND('Import Tab'!C154*'Base Information'!$V$22,0)","v":0},{"$f":"ROUND('Import Tab'!F154,0)","v":0},{"$f":"ROUND('Import Tab'!I154*'Base Information'!$V$22,0)","v":0},{"$f":"ROUND('Import Tab'!H154*'Base Information'!$V$22,0)","v":0},{"$f":"ROUND('Import Tab'!G154*'Base Information'!$V$22,0)","v":0},{"$f":"ROUND('Import Tab'!J154,0)","v":0},{"$f":"ROUND('Import Tab'!M154*'Base Information'!$V$22,0)","v":0},{"$f":"ROUND('Import Tab'!L154*'Base Information'!$V$22,0)","v":0},{"$f":"ROUND('Import Tab'!K154*'Base Information'!$V$22,0)","v":0},{"$f":"ROUND('Import Tab'!N154,0)","v":0},{"$f":"ROUND('Import Tab'!Q154*'Base Information'!$V$22,0)","v":0},{"$f":"ROUND('Import Tab'!P154*'Base Information'!$V$22,0)","v":0},{"$f":"ROUND('Import Tab'!O154*'Base Information'!$V$22,0)","v":0},{"$f":"ROUND('Import Tab'!R154,0)","v":0}]
["19:15:02.275",{"$f":"ROUND('Import Tab'!E155*'Base Information'!$V$22,0)","v":0},{"$f":"ROUND('Import Tab'!D155*'Base Information'!$V$22,0)","v":0},{"$f":"ROUND('Import Tab'!C155*'Base Information'!$V$22,0)","v":0},{"$f":"ROUND('Import Tab'!F155,0)","v":0},{"$f":"ROUND('Import Tab'!I155*'Base Information'!$V$22,0)","v":0},{"$f":"ROUND('Import Tab'!H155*'Base Information'!$V$22,0)","v":0},{"$f":"ROUND('Import Tab'!G155*'Base Information'!$V$22,0)","v":0},{"$f":"ROUND('Import Tab'!J155,0)","v":0},{"$f":"ROUND('Import Tab'!M155*'Base Information'!$V$22,0)","v":0},{"$f":"ROUND('Import Tab'!L155*'Base Information'!$V$22,0)","v":0},{"$f":"ROUND('Import Tab'!K155*'Base Information'!$V$22,0)","v":0},{"$f":"ROUND('Import Tab'!N155,0)","v":0},{"$f":"ROUND('Import Tab'!Q155*'Base Information'!$V$22,0)","v":0},{"$f":"ROUND('Import Tab'!P155*'Base Information'!$V$22,0)","v":0},{"$f":"ROUND('Import Tab'!O155*'Base Information'!$V$22,0)","v":0},{"$f":"ROUND('Import Tab'!R155,0)","v":0}]
["19:30:02.304",{"$f":"ROUND('Import Tab'!E156*'Base Information'!$V$22,0)","v":0},{"$f":"ROUND('Import Tab'!D156*'Base Information'!$V$22,0)","v":0},{"$f":"ROUND('Import Tab'!C156*'Base Information'!$V$22,0)","v":0},{"$f":"ROUND('Import Tab'!F156,0)","v":0},{"$f":"ROUND('Import Tab'!I156*'Base Information'!$V$22,0)","v":0},{"$f":"ROUND('Import Tab'!H156*'Base Information'!$V$22,0)","v":0},{"$f":"ROUND('Import Tab'!G156*'Base Information'!$V$22,0)","v":0},{"$f":"ROUND('Import Tab'!J156,0)","v":0},{"$f":"ROUND('Import Tab'!M156*'Base Information'!$V$22,0)","v":0},{"$f":"ROUND('Import Tab'!L156*'Base Information'!$V$22,0)","v":0},{"$f":"ROUND('Import Tab'!K156*'Base Information'!$V$22,0)","v":0},{"$f":"ROUND('Import Tab'!N156,0)","v":0},{"$f":"ROUND('Import Tab'!Q156*'Base Information'!$V$22,0)","v":0},{"$f":"ROUND('Import Tab'!P156*'Base Information'!$V$22,0)","v":0},{"$f":"ROUND('Import Tab'!O156*'Base Information'!$V$22,0)","v":0},{"$f":"ROUND('Import Tab'!R156,0)","v":0},{"$f":"SUM(B156:D158)+SUM(F156:H158)+SUM(J156:L158)+SUM(N156:P158)+E158+I158+M158+Q158","v":0},{"$f":"B156+B157+B158","v":0},0,0,{"$f":"E156","v":0},{"$f":"E157","v":0},{"$f":"E158","v":0},{"$f":"F156+F157+F158","v":0},{"$f":"G156+G157+G158","v":0},{"$f":"H156+H157+H158","v":0},{"$f":"I156","v":0},{"$f":"I157","v":0},{"$f":"I158","v":0},{"$f":"J156+J157+J158","v":0},{"$f":"K156+K157+K158","v":0},{"$f":"L156+L157+L158","v":0},{"$f":"M156","v":0},{"$f":"M157","v":0},{"$f":"M158","v":0},{"$f":"N156+N157+N158","v":0},{"$f":"O156+O157+O158","v":0},{"$f":"P156+P157+P158","v":0},{"$f":"Q156","v":0},{"$f":"Q157","v":0},{"$f":"Q158","v":0},{"$f":"SUM(B156:D156)+SUM(F156:H156)+SUM(J156:L156)+SUM(N156:P156)+E158+I158+M158+Q158","v":0},{"$f":"B156","v":0},{"$f":"C156","v":0},{"$f":"D156","v":0},{"$f":"E156","v":0},{"$f":"F156","v":0},{"$f":"G156","v":0},{"$f":"H156","v":0},{"$f":"I156","v":0},{"$f":"J156","v":0},{"$f":"K156","v":0},{"$f":"L156","v":0},{"$f":"M156","v":0},{"$f":"N156","v":0},{"$f":"O156","v":0},{"$f":"P156","v":0},{"$f":"Q156","v":0},{"$f":"SUM(B157:D157)+SUM(F157:H157)+SUM(J157:L157)+SUM(N157:P157)","v":0},{"$f":"B157","v":0},{"$f":"C157","v":0},{"$f":"D157","v":0},{"$f":"E157","v":0},{"$f":"F157","v":0},{"$f":"G157","v":0},{"$f":"H157","v":0},{"$f":"I157","v":0},{"$f":"J157","v":0},{"$f":"K157","v":0},{"$f":"L157","v":0},{"$f":"M157","v":0},{"$f":"N157","v":0},{"$f":"O157","v":0},{"$f":"P157","v":0},{"$f":"Q157","v":0},{"$f":"SUM(B158:D158)+SUM(F158:H158)+SUM(J158:L158)+SUM(N158:P158)","v":0},{"$f":"B158","v":0},{"$f":"C158","v":0},{"$f":"D158","v":0},{"$f":"E158","v":0},{"$f":"F158","v":0},{"$f":"G158","v":0},{"$f":"H158","v":0},{"$f":"I158","v":0},{"$f":"J158","v":0},{"$f":"K158","v":0},{"$f":"L158","v":0},{"$f":"M158","v":0},{"$f":"N158","v":0},{"$f":"O158","v":0},{"$f":"P158","v":0},{"$f":"Q158","v":0},{"$f":"SUM(B156:D167,E158,E161,E164,E167,F156:H167,I158,I161,I164,I167,J156:L167,M158,M161,M164,M167,N156:P167,Q158,Q161,Q164,Q167)","v":0},{"$f":"SUM(B156:B167)","v":0},{"$f":"SUM(C156:C167)","v":0},{"$f":"SUM(D156:D167)","v":0},{"$f":"SUM(E156+E159+E162+E165)","v":0},{"$f":"SUM(E157+E160+E163+E166)","v":0},{"$f":"SUM(E158+E161+E164+E167)","v":0},{"$f":"SUM(F156:F167)","v":0},{"$f":"SUM(G156:G167)","v":0},{"$f":"SUM(H156:H167)","v":0},{"$f":"SUM(I156+I159+I162+I165)","v":0},{"$f":"SUM(I157+I160+I163+I166)","v":0},{"$f":"SUM(I158+I161+I164+I167)","v":0},{"$f":"SUM(J156:J167)","v":0},{"$f":"SUM(K156:K167)","v":0},{"$f":"SUM(L156:L167)","v":0},{"$f":"SUM(M156+M159+M162+M165)","v":0},{"$f":"SUM(M157+M160+M163+M166)","v":0},{"$f":"SUM(M158+M161+M164+M167)","v":0},{"$f":"SUM(N156:N167)","v":0},{"$f":"SUM(O156:O167)","v":0},{"$f":"SUM(P156:P167)","v":0},{"$f":"SUM(Q156+Q159+Q162+Q165)","v":0},{"$f":"SUM(Q157+Q160+Q163+Q166)","v":0},{"$f":"SUM(Q158+Q161+Q164+Q167)","v":0},{"$f":"SUM(B156:D156)+SUM(B159:D159)+SUM(B162:D162)+SUM(B165:D165)+SUM(F156:H156)+SUM(F159:H159)+SUM(F162:H162)+SUM(F165:H165)+SUM(J156:L156)+SUM(J159:L159)+SUM(J162:L162)+SUM(J165:L165)+SUM(N156:P156)+SUM(N159:P159)+SUM(N162:P162)+SUM(N165:P165)+E158+E161+E164+E167+I158+I161+I164+I167+M158+M161+M164+M167+Q158+Q161+Q164+Q167","v":0},{"$f":"SUM(B156,B159,B162,B165)","v":0},{"$f":"SUM(C156,C159,C162,C165)","v":0},{"$f":"SUM(D156,D159,D162,D165)","v":0},{"$f":"SUM(E156,E159,E162,E165)","v":0},{"$f":"SUM(F156,F159,F162,F165)","v":0},{"$f":"SUM(G156,G159,G162,G165)","v":0},{"$f":"SUM(H156,H159,H162,H165)","v":0},{"$f":"SUM(I156,I159,I162,I165)","v":0},{"$f":"SUM(J156,J159,J162,J165)","v":0},{"$f":"SUM(K156,K159,K162,K165)","v":0},{"$f":"SUM(L156,L159,L162,L165)","v":0},{"$f":"SUM(M156,M159,M162,M165)","v":0},{"$f":"SUM(N156,N159,N162,N165)","v":0},{"$f":"SUM(O156,O159,O162,O165)","v":0},{"$f":"SUM(P156,P159,P162,P165)","v":0},{"$f":"SUM(Q156,Q159,Q162,Q165)","v":0},{"$f":"SUM(B157:D157)+SUM(B160:D160)+SUM(B163:D163)+SUM(B166:D166)+SUM(F157:H157)+SUM(F160:H160)+SUM(F163:H163)+SUM(F166:H166)+SUM(J157:L157)+SUM(J160:L160)+SUM(J163:L163)+SUM(J166:L166)+SUM(N157:P157)+SUM(N160:P160)+SUM(N163:P163)+SUM(N166:P166)","v":0},{"$f":"SUM(B157,B160,B163,B166)","v":0},{"$f":"SUM(C157,C160,C163,C166)","v":0},{"$f":"SUM(D157,D160,D163,D166)","v":0},{"$f":"SUM(E157,E160,E163,E166)","v":0},{"$f":"SUM(F157,F160,F163,F166)","v":0},{"$f":"SUM(G157,G160,G163,G166)","v":0},{"$f":"SUM(H157,H160,H163,H166)","v":0},{"$f":"SUM(I157,I160,I163,I166)","v":0},{"$f":"SUM(J157,J160,J163,J166)","v":0},{"$f":"SUM(K157,K160,K163,K166)","v":0},{"$f":"SUM(L157,L160,L163,L166)","v":0},{"$f":"SUM(M157,M160,M163,M166)","v":0},{"$f":"SUM(N157,N160,N163,N166)","v":0},{"$f":"SUM(O157,O160,O163,O166)","v":0},{"$f":"SUM(P157,P160,P163,P166)","v":0},{"$f":"SUM(Q157,Q160,Q163,Q166)","v":0},{"$f":"SUM(B158:D158)+SUM(B161:D161)+SUM(B164:D164)+SUM(B167:D167)+SUM(F158:H158)+SUM(F161:H161)+SUM(F164:H164)+SUM(F167:H167)+SUM(J158:L158)+SUM(J161:L161)+SUM(J164:L164)+SUM(J167:L167)+SUM(N158:P158)+SUM(N161:P161)+SUM(N164:P164)+SUM(N167:P167)","v":0},{"$f":"SUM(B158,B161,B164,B167)","v":0},{"$f":"SUM(C158,C161,C164,C167)","v":0},{"$f":"SUM(D158,D161,D164,D167)","v":0},{"$f":"SUM(E158,E161,E164,E167)","v":0},{"$f":"SUM(F158,F161,F164,F167)","v":0},{"$f":"SUM(G158,G161,G164,G167)","v":0},{"$f":"SUM(H158,H161,H164,H167)","v":0},{"$f":"SUM(I158,I161,I164,I167)","v":0},{"$f":"SUM(J158,J161,J164,J167)","v":0},{"$f":"SUM(K158,K161,K164,K167)","v":0},{"$f":"SUM(L158,L161,L164,L167)","v":0},{"$f":"SUM(M158,M161,M164,M167)","v":0},{"$f":"SUM(N158,N161,N164,N167)","v":0},{"$f":"SUM(O158,O161,O164,O167)","v":0},{"$f":"SUM(P158,P161,P164,P167)","v":0},{"$f":"SUM(Q158,Q161,Q164,Q167)","v":0}]
["19:30:02.304",{"$f":"ROUND('Import Tab'!E157*'Base Information'!$V$22,0)","v":0},{"$f":"ROUND('Import Tab'!D157*'Base Information'!$V$22,0)","v":0},{"$f":"ROUND('Import Tab'!C157*'Base Information'!$V$22,0)","v":0},{"$f":"ROUND('Import Tab'!F157,0)","v":0},{"$f":"ROUND('Import Tab'!I157*'Base Information'!$V$22,0)","v":0},{"$f":"ROUND('Import Tab'!H157*'Base Information'!$V$22,0)","v":0},{"$f":"ROUND('Import Tab'!G157*'Base Information'!$V$22,0)","v":0},{"$f":"ROUND('Import Tab'!J157,0)","v":0},{"$f":"ROUND('Import Tab'!M157*'Base Information'!$V$22,0)","v":0},{"$f":"ROUND('Import Tab'!L157*'Base Information'!$V$22,0)","v":0},{"$f":"ROUND('Import Tab'!K157*'Base Information'!$V$22,0)","v":0},{"$f":"ROUND('Import Tab'!N157,0)","v":0},{"$f":"ROUND('Import Tab'!Q157*'Base Information'!$V$22,0)","v":0},{"$f":"ROUND('Import Tab'!P157*'Base Information'!$V$22,0)","v":0},{"$f":"ROUND('Import Tab'!O157*'Base Information'!$V$22,0)","v":0},{"$f":"ROUND('Import Tab'!R157,0)","v":0}]
["19:30:02.304",{"$f":"ROUND('Import Tab'!E158*'Base Information'!$V$22,0)","v":0},{"$f":"ROUND('Import Tab'!D158*'Base Information'!$V$22,0)","v":0},{"$f":"ROUND('Import Tab'!C158*'Base Information'!$V$22,0)","v":0},{"$f":"ROUND('Import Tab'!F158,0)","v":0},{"$f":"ROUND('Import Tab'!I158*'Base Information'!$V$22,0)","v":0},{"$f":"ROUND('Import Tab'!H158*'Base Information'!$V$22,0)","v":0},{"$f":"ROUND('Import Tab'!G158*'Base Information'!$V$22,0)","v":0},{"$f":"ROUND('Import Tab'!J158,0)","v":0},{"$f":"ROUND('Import Tab'!M158*'Base Information'!$V$22,0)","v":0},{"$f":"ROUND('Import Tab'!L158*'Base Information'!$V$22,0)","v":0},{"$f":"ROUND('Import Tab'!K158*'Base Information'!$V$22,0)","v":0},{"$f":"ROUND('Import Tab'!N158,0)","v":0},{"$f":"ROUND('Import Tab'!Q158*'Base Information'!$V$22,0)","v":0},{"$f":"ROUND('Import Tab'!P158*'Base Information'!$V$22,0)","v":0},{"$f":"ROUND('Import Tab'!O158*'Base Information'!$V$22,0)","v":0},{"$f":"ROUND('Import Tab'!R158,0)","v":0}]
["19:45:02.333",{"$f":"ROUND('Import Tab'!E159*'Base Information'!$V$22,0)","v":0},{"$f":"ROUND('Import Tab'!D159*'Base Information'!$V$22,0)","v":0},{"$f":"ROUND('Import Tab'!C159*'Base Information'!$V$22,0)","v":0},{"$f":"ROUND('Import Tab'!F159,0)","v":0},{"$f":"ROUND('Import Tab'!I159*'Base Information'!$V$22,0)","v":0},{"$f":"ROUND('Import Tab'!H159*'Base Information'!$V$22,0)","v":0},{"$f":"ROUND('Import Tab'!G159*'Base Information'!$V$22,0)","v":0},{"$f":"ROUND('Import Tab'!J159,0)","v":0},{"$f":"ROUND('Import Tab'!M159*'Base Information'!$V$22,0)","v":0},{"$f":"ROUND('Import Tab'!L159*'Base Information'!$V$22,0)","v":0},{"$f":"ROUND('Import Tab'!K159*'Base Information'!$V$22,0)","v":0},{"$f":"ROUND('Import Tab'!N159,0)","v":0},{"$f":"ROUND('Import Tab'!Q159*'Base Information'!$V$22,0)","v":0},{"$f":"ROUND('Import Tab'!P159*'Base Information'!$V$22,0)","v":0},{"$f":"ROUND('Import Tab'!O159*'Base Information'!$V$22,0)","v":0},{"$f":"ROUND('Import Tab'!R159,0)","v":0},{"$f":"SUM(B159:D161)+SUM(F159:H161)+SUM(J159:L161)+SUM(N159:P161)+E161+I161+M161+Q161","v":0},{"$f":"B159+B160+B161","v":0},0,0,{"$f":"E159","v":0},{"$f":"E160","v":0},{"$f":"E161","v":0},{"$f":"F159+F160+F161","v":0},{"$f":"G159+G160+G161","v":0},{"$f":"H159+H160+H161","v":0},{"$f":"I159","v":0},{"$f":"I160","v":0},{"$f":"I161","v":0},{"$f":"J159+J160+J161","v":0},{"$f":"K159+K160+K161","v":0},{"$f":"L159+L160+L161","v":0},{"$f":"M159","v":0},{"$f":"M160","v":0},{"$f":"M161","v":0},{"$f":"N159+N160+N161","v":0},{"$f":"O159+O160+O161","v":0},{"$f":"P159+P160+P161","v":0},{"$f":"Q159","v":0},{"$f":"Q160","v":0},{"$f":"Q161","v":0},{"$f":"SUM(B159:D159)+SUM(F159:H159)+SUM(J159:L159)+SUM(N159:P159)+E161+I161+M161+Q161","v":0},{"$f":"B159","v":0},{"$f":"C159","v":0},{"$f":"D159","v":0},{"$f":"E159","v":0},{"$f":"F159","v":0},{"$f":"G159","v":0},{"$f":"H159","v":0},{"$f":"I159","v":0},{"$f":"J159","v":0},{"$f":"K159","v":0},{"$f":"L159","v":0},{"$f":"M159","v":0},{"$f":"N159","v":0},{"$f":"O159","v":0},{"$f":"P159","v":0},{"$f":"Q159","v":0},{"$f":"SUM(B160:D160)+SUM(F160:H160)+SUM(J160:L160)+SUM(N160:P160)","v":0},{"$f":"B160","v":0},{"$f":"C160","v":0},{"$f":"D160","v":0},{"$f":"E160","v":0},{"$f":"F160","v":0},{"$f":"G160","v":0},{"$f":"H160","v":0},{"$f":"I160","v":0},{"$f":"J160","v":0},{"$f":"K160","v":0},{"$f":"L160","v":0},{"$f":"M160","v":0},{"$f":"N160","v":0},{"$f":"O160","v":0},{"$f":"P160","v":0},{"$f":"Q160","v":0},{"$f":"SUM(B161:D161)+SUM(F161:H161)+SUM(J161:L161)+SUM(N161:P161)","v":0},{"$f":"B161","v":0},{"$f":"C161","v":0},{"$f":"D161","v":0},{"$f":"E161","v":0},{"$f":"F161","v":0},{"$f":"G161","v":0},{"$f":"H161","v":0},{"$f":"I161","v":0},{"$f":"J161","v":0},{"$f":"K161","v":0},{"$f":"L161","v":0},{"$f":"M161","v":0},{"$f":"N161","v":0},{"$f":"O161","v":0},{"$f":"P161","v":0},{"$f":"Q161","v":0},{"$f":"SUM(B159:D170,E161,E164,E167,E170,F159:H170,I161,I164,I167,I170,J159:L170,M161,M164,M167,M170,N159:P170,Q161,Q164,Q167,Q170)","v":0},{"$f":"SUM(B159:B170)","v":0},{"$f":"SUM(C159:C170)","v":0},{"$f":"SUM(D159:D170)","v":0},{"$f":"SUM(E159+E162+E165+E168)","v":0},{"$f":"SUM(E160+E163+E166+E169)","v":0},{"$f":"SUM(E161+E164+E167+E170)","v":0},{"$f":"SUM(F159:F170)","v":0},{"$f":"SUM(G159:G170)","v":0},{"$f":"SUM(H159:H170)","v":0},{"$f":"SUM(I159+I162+I165+I168)","v":0},{"$f":"SUM(I160+I163+I166+I169)","v":0},{"$f":"SUM(I161+I164+I167+I170)","v":0},{"$f":"SUM(J159:J170)","v":0},{"$f":"SUM(K159:K170)","v":0},{"$f":"SUM(L159:L170)","v":0},{"$f":"SUM(M159+M162+M165+M168)","v":0},{"$f":"SUM(M160+M163+M166+M169)","v":0},{"$f":"SUM(M161+M164+M167+M170)","v":0},{"$f":"SUM(N159:N170)","v":0},{"$f":"SUM(O159:O170)","v":0},{"$f":"SUM(P159:P170)","v":0},{"$f":"SUM(Q159+Q162+Q165+Q168)","v":0},{"$f":"SUM(Q160+Q163+Q166+Q169)","v":0},{"$f":"SUM(Q161+Q164+Q167+Q170)","v":0},{"$f":"SUM(B159:D159)+SUM(B162:D162)+SUM(B165:D165)+SUM(B168:D168)+SUM(F159:H159)+SUM(F162:H162)+SUM(F165:H165)+SUM(F168:H168)+SUM(J159:L159)+SUM(J162:L162)+SUM(J165:L165)+SUM(J168:L168)+SUM(N159:P159)+SUM(N162:P162)+SUM(N165:P165)+SUM(N168:P168)+E161+E164+E167+E170+I161+I164+I167+I170+M161+M164+M167+M170+Q161+Q164+Q167+Q170","v":0},{"$f":"SUM(B159,B162,B165,B168)","v":0},{"$f":"SUM(C159,C162,C165,C168)","v":0},{"$f":"SUM(D159,D162,D165,D168)","v":0},{"$f":"SUM(E159,E162,E165,E168)","v":0},{"$f":"SUM(F159,F162,F165,F168)","v":0},{"$f":"SUM(G159,G162,G165,G168)","v":0},{"$f":"SUM(H159,H162,H165,H168)","v":0},{"$f":"SUM(I159,I162,I165,I168)","v":0},{"$f":"SUM(J159,J162,J165,J168)","v":0},{"$f":"SUM(K159,K162,K165,K168)","v":0},{"$f":"SUM(L159,L162,L165,L168)","v":0},{"$f":"SUM(M159,M162,M165,M168)","v":0},{"$f":"SUM(N159,N162,N165,N168)","v":0},{"$f":"SUM(O159,O162,O165,O168)","v":0},{"$f":"SUM(P159,P162,P165,P168)","v":0},{"$f":"SUM(Q159,Q162,Q165,Q168)","v":0},{"$f":"SUM(B160:D160)+SUM(B163:D163)+SUM(B166:D166)+SUM(B169:D169)+SUM(F160:H160)+SUM(F163:H163)+SUM(F166:H166)+SUM(F169:H169)+SUM(J160:L160)+SUM(J163:L163)+SUM(J166:L166)+SUM(J169:L169)+SUM(N160:P160)+SUM(N163:P163)+SUM(N166:P166)+SUM(N169:P169)","v":0},{"$f":"SUM(B160,B163,B166,B169)","v":0},{"$f":"SUM(C160,C163,C166,C169)","v":0},{"$f":"SUM(D160,D163,D166,D169)","v":0},{"$f":"SUM(E160,E163,E166,E169)","v":0},{"$f":"SUM(F160,F163,F166,F169)","v":0},{"$f":"SUM(G160,G163,G166,G169)","v":0},{"$f":"SUM(H160,H163,H166,H169)","v":0},{"$f":"SUM(I160,I163,I166,I169)","v":0},{"$f":"SUM(J160,J163,J166,J169)","v":0},{"$f":"SUM(K160,K163,K166,K169)","v":0},{"$f":"SUM(L160,L163,L166,L169)","v":0},{"$f":"SUM(M160,M163,M166,M169)","v":0},{"$f":"SUM(N160,N163,N166,N169)","v":0},{"$f":"SUM(O160,O163,O166,O169)","v":0},{"$f":"SUM(P160,P163,P166,P169)","v":0},{"$f":"SUM(Q160,Q163,Q166,Q169)","v":0},{"$f":"SUM(B161:D161)+SUM(B164:D164)+SUM(B167:D167)+SUM(B170:D170)+SUM(F161:H161)+SUM(F164:H164)+SUM(F167:H167)+SUM(F170:H170)+SUM(J161:L161)+SUM(J164:L164)+SUM(J167:L167)+SUM(J170:L170)+SUM(N161:P161)+SUM(N164:P164)+SUM(N167:P167)+SUM(N170:P170)","v":0},{"$f":"SUM(B161,B164,B167,B170)","v":0},{"$f":"SUM(C161,C164,C167,C170)","v":0},{"$f":"SUM(D161,D164,D167,D170)","v":0},{"$f":"SUM(E161,E164,E167,E170)","v":0},{"$f":"SUM(F161,F164,F167,F170)","v":0},{"$f":"SUM(G161,G164,G167,G170)","v":0},{"$f":"SUM(H161,H164,H167,H170)","v":0},{"$f":"SUM(I161,I164,I167,I170)","v":0},{"$f":"SUM(J161,J164,J167,J170)","v":0},{"$f":"SUM(K161,K164,K167,K170)","v":0},{"$f":"SUM(L161,L164,L167,L170)","v":0},{"$f":"SUM(M161,M164,M167,M170)","v":0},{"$f":"SUM(N161,N164,N167,N170)","v":0},{"$f":"SUM(O161,O164,O167,O170)","v":0},{"$f":"SUM(P161,P164,P167,P170)","v":0},{"$f":"SUM(Q161,Q164,Q167,Q170)","v":0}]
["19:45:02.333",{"$f":"ROUND('Import Tab'!E160*'Base Information'!$V$22,0)","v":0},{"$f":"ROUND('Import Tab'!D160*'Base Information'!$V$22,0)","v":0},{"$f":"ROUND('Import Tab'!C160*'Base Information'!$V$22,0)","v":0},{"$f":"ROUND('Import Tab'!F160,0)","v":0},{"$f":"ROUND('Import Tab'!I160*'Base Information'!$V$22,0)","v":0},{"$f":"ROUND('Import Tab'!H160*'Base Information'!$V$22,0)","v":0},{"$f":"ROUND('Import Tab'!G160*'Base Information'!$V$22,0)","v":0},{"$f":"ROUND('Import Tab'!J160,0)","v":0},{"$f":"ROUND('Import Tab'!M160*'Base Information'!$V$22,0)","v":0},{"$f":"ROUND('Import Tab'!L160*'Base Information'!$V$22,0)","v":0},{"$f":"ROUND('Import Tab'!K160*'Base Information'!$V$22,0)","v":0},{"$f":"ROUND('Import Tab'!N160,0)","v":0},{"$f":"ROUND('Import Tab'!Q160*'Base Information'!$V$22,0)","v":0},{"$f":"ROUND('Import Tab'!P160*'Base Information'!$V$22,0)","v":0},{"$f":"ROUND('Import Tab'!O160*'Base Information'!$V$22,0)","v":0},{"$f":"ROUND('Import Tab'!R160,0)","v":0}]
["19:45:02.333",{"$f":"ROUND('Import Tab'!E161*'Base Information'!$V$22,0)","v":0},{"$f":"ROUND('Import Tab'!D161*'Base Information'!$V$22,0)","v":0},{"$f":"ROUND('Import Tab'!C161*'Base Information'!$V$22,0)","v":0},{"$f":"ROUND('Import Tab'!F161,0)","v":0},{"$f":"ROUND('Import Tab'!I161*'Base Information'!$V$22,0)","v":0},{"$f":"ROUND('Import Tab'!H161*'Base Information'!$V$22,0)","v":0},{"$f":"ROUND('Import Tab'!G161*'Base Information'!$V$22,0)","v":0},{"$f":"ROUND('Import Tab'!J161,0)","v":0},{"$f":"ROUND('Import Tab'!M161*'Base Information'!$V$22,0)","v":0},{"$f":"ROUND('Import Tab'!L161*'Base Information'!$V$22,0)","v":0},{"$f":"ROUND('Import Tab'!K161*'Base Information'!$V$22,0)","v":0},{"$f":"ROUND('Import Tab'!N161,0)","v":0},{"$f":"ROUND('Import Tab'!Q161*'Base Information'!$V$22,0)","v":0},{"$f":"ROUND('Import Tab'!P161*'Base Information'!$V$22,0)","v":0},{"$f":"ROUND('Import Tab'!O161*'Base Information'!$V$22,0)","v":0},{"$f":"ROUND('Import Tab'!R161,0)","v":0}]
["20:00:02.362",{"$f":"ROUND('Import Tab'!E162*'Base Information'!$V$22,0)","v":0},{"$f":"ROUND('Import Tab'!D162*'Base Information'!$V$22,0)","v":0},{"$f":"ROUND('Import Tab'!C162*'Base Information'!$V$22,0)","v":0},{"$f":"ROUND('Import Tab'!F162,0)","v":0},{"$f":"ROUND('Import Tab'!I162*'Base Information'!$V$22,0)","v":0},{"$f":"ROUND('Import Tab'!H162*'Base Information'!$V$22,0)","v":0},{"$f":"ROUND('Import Tab'!G162*'Base Information'!$V$22,0)","v":0},{"$f":"ROUND('Import Tab'!J162,0)","v":0},{"$f":"ROUND('Import Tab'!M162*'Base Information'!$V$22,0)","v":0},{"$f":"ROUND('Import Tab'!L162*'Base Information'!$V$22,0)","v":0},{"$f":"ROUND('Import Tab'!K162*'Base Information'!$V$22,0)","v":0},{"$f":"ROUND('Import Tab'!N162,0)","v":0},{"$f":"ROUND('Import Tab'!Q162*'Base Information'!$V$22,0)","v":0},{"$f":"ROUND('Import Tab'!P162*'Base Information'!$V$22,0)","v":0},{"$f":"ROUND('Import Tab'!O162*'Base Information'!$V$22,0)","v":0},{"$f":"ROUND('Import Tab'!R162,0)","v":0},{"$f":"SUM(B162:D164)+SUM(F162:H164)+SUM(J162:L164)+SUM(N162:P164)+E164+I164+M164+Q164","v":0},{"$f":"B162+B163+B164","v":0},0,0,{"$f":"E162","v":0},{"$f":"E163","v":0},{"$f":"E164","v":0},{"$f":"F162+F163+F164","v":0},{"$f":"G162+G163+G164","v":0},{"$f":"H162+H163+H164","v":0},{"$f":"I162","v":0},{"$f":"I163","v":0},{"$f":"I164","v":0},{"$f":"J162+J163+J164","v":0},{"$f":"K162+K163+K164","v":0},{"$f":"L162+L163+L164","v":0},{"$f":"M162","v":0},{"$f":"M163","v":0},{"$f":"M164","v":0},{"$f":"N162+N163+N164","v":0},{"$f":"O162+O163+O164","v":0},{"$f":"P162+P163+P164","v":0},{"$f":"Q162","v":0},{"$f":"Q163","v":0},{"$f":"Q164","v":0},{"$f":"SUM(B162:D162)+SUM(F162:H162)+SUM(J162:L162)+SUM(N162:P162)+E164+I164+M164+Q164","v":0},{"$f":"B162","v":0},{"$f":"C162","v":0},{"$f":"D162","v":0},{"$f":"E162","v":0},{"$f":"F162","v":0},{"$f":"G162","v":0},{"$f":"H162","v":0},{"$f":"I162","v":0},{"$f":"J162","v":0},{"$f":"K162","v":0},{"$f":"L162","v":0},{"$f":"M162","v":0},{"$f":"N162","v":0},{"$f":"O162","v":0},{"$f":"P162","v":0},{"$f":"Q162","v":0},{"$f":"SUM(B163:D163)+SUM(F163:H163)+SUM(J163:L163)+SUM(N163:P163)","v":0},{"$f":"B163","v":0},{"$f":"C163","v":0},{"$f":"D163","v":0},{"$f":"E163","v":0},{"$f":"F163","v":0},{"$f":"G163","v":0},{"$f":"H163","v":0},{"$f":"I163","v":0},{"$f":"J163","v":0},{"$f":"K163","v":0},{"$f":"L163","v":0},{"$f":"M163","v":0},{"$f":"N163","v":0},{"$f":"O163","v":0},{"$f":"P163","v":0},{"$f":"Q163","v":0},{"$f":"SUM(B164:D164)+SUM(F164:H164)+SUM(J164:L164)+SUM(N164:P164)","v":0},{"$f":"B164","v":0},{"$f":"C164","v":0},{"$f":"D164","v":0},{"$f":"E164","v":0},{"$f":"F164","v":0},{"$f":"G164","v":0},{"$f":"H164","v":0},{"$f":"I164","v":0},{"$f":"J164","v":0},{"$f":"K164","v":0},{"$f":"L164","v":0},{"$f":"M164","v":0},{"$f":"N164","v":0},{"$f":"O164","v":0},{"$f":"P164","v":0},{"$f":"Q164","v":0},{"$f":"SUM(B162:D173,E164,E167,E170,E173,F162:H173,I164,I167,I170,I173,J162:L173,M164,M167,M170,M173,N162:P173,Q164,Q167,Q170,Q173)","v":0},{"$f":"SUM(B162:B173)","v":0},{"$f":"SUM(C162:C173)","v":0},{"$f":"SUM(D162:D173)","v":0},{"$f":"SUM(E162+E165+E168+E171)","v":0},{"$f":"SUM(E163+E166+E169+E172)","v":0},{"$f":"SUM(E164+E167+E170+E173)","v":0},{"$f":"SUM(F162:F173)","v":0},{"$f":"SUM(G162:G173)","v":0},{"$f":"SUM(H162:H173)","v":0},{"$f":"SUM(I162+I165+I168+I171)","v":0},{"$f":"SUM(I163+I166+I169+I172)","v":0},{"$f":"SUM(I164+I167+I170+I173)","v":0},{"$f":"SUM(J162:J173)","v":0},{"$f":"SUM(K162:K173)","v":0},{"$f":"SUM(L162:L173)","v":0},{"$f":"SUM(M162+M165+M168+M171)","v":0},{"$f":"SUM(M163+M166+M169+M172)","v":0},{"$f":"SUM(M164+M167+M170+M173)","v":0},{"$f":"SUM(N162:N173)","v":0},{"$f":"SUM(O162:O173)","v":0},{"$f":"SUM(P162:P173)","v":0},{"$f":"SUM(Q162+Q165+Q168+Q171)","v":0},{"$f":"SUM(Q163+Q166+Q169+Q172)","v":0},{"$f":"SUM(Q164+Q167+Q170+Q173)","v":0},{"$f":"SUM(B162:D162)+SUM(B165:D165)+SUM(B168:D168)+SUM(B171:D171)+SUM(F162:H162)+SUM(F165:H165)+SUM(F168:H168)+SUM(F171:H171)+SUM(J162:L162)+SUM(J165:L165)+SUM(J168:L168)+SUM(J171:L171)+SUM(N162:P162)+SUM(N165:P165)+SUM(N168:P168)+SUM(N171:P171)+E164+E167+E170+E173+I164+I167+I170+I173+M164+M167+M170+M173+Q164+Q167+Q170+Q173","v":0},{"$f":"SUM(B162,B165,B168,B171)","v":0},{"$f":"SUM(C162,C165,C168,C171)","v":0},{"$f":"SUM(D162,D165,D168,D171)","v":0},{"$f":"SUM(E162,E165,E168,E171)","v":0},{"$f":"SUM(F162,F165,F168,F171)","v":0},{"$f":"SUM(G162,G165,G168,G171)","v":0},{"$f":"SUM(H162,H165,H168,H171)","v":0},{"$f":"SUM(I162,I165,I168,I171)","v":0},{"$f":"SUM(J162,J165,J168,J171)","v":0},{"$f":"SUM(K162,K165,K168,K171)","v":0},{"$f":"SUM(L162,L165,L168,L171)","v":0},{"$f":"SUM(M162,M165,M168,M171)","v":0},{"$f":"SUM(N162,N165,N168,N171)","v":0},{"$f":"SUM(O162,O165,O168,O171)","v":0},{"$f":"SUM(P162,P165,P168,P171)","v":0},{"$f":"SUM(Q162,Q165,Q168,Q171)","v":0},{"$f":"SUM(B163:D163)+SUM(B166:D166)+SUM(B169:D169)+SUM(B172:D172)+SUM(F163:H163)+SUM(F166:H166)+SUM(F169:H169)+SUM(F172:H172)+SUM(J163:L163)+SUM(J166:L166)+SUM(J169:L169)+SUM(J172:L172)+SUM(N163:P163)+SUM(N166:P166)+SUM(N169:P169)+SUM(N172:P172)","v":0},{"$f":"SUM(B163,B166,B169,B172)","v":0},{"$f":"SUM(C163,C166,C169,C172)","v":0},{"$f":"SUM(D163,D166,D169,D172)","v":0},{"$f":"SUM(E163,E166,E169,E172)","v":0},{"$f":"SUM(F163,F166,F169,F172)","v":0},{"$f":"SUM(G163,G166,G169,G172)","v":0},{"$f":"SUM(H163,H166,H169,H172)","v":0},{"$f":"SUM(I163,I166,I169,I172)","v":0},{"$f":"SUM(J163,J166,J169,J172)","v":0},{"$f":"SUM(K163,K166,K169,K172)","v":0},{"$f":"SUM(L163,L166,L169,L172)","v":0},{"$f":"SUM(M163,M166,M169,M172)","v":0},{"$f":"SUM(N163,N166,N169,N172)","v":0},{"$f":"SUM(O163,O166,O169,O172)","v":0},{"$f":"SUM(P163,P166,P169,P172)","v":0},{"$f":"SUM(Q163,Q166,Q169,Q172)","v":0},{"$f":"SUM(B164:D164)+SUM(B167:D167)+SUM(B170:D170)+SUM(B173:D173)+SUM(F164:H164)+SUM(F167:H167)+SUM(F170:H170)+SUM(F173:H173)+SUM(J164:L164)+SUM(J167:L167)+SUM(J170:L170)+SUM(J173:L173)+SUM(N164:P164)+SUM(N167:P167)+SUM(N170:P170)+SUM(N173:P173)","v":0},{"$f":"SUM(B164,B167,B170,B173)","v":0},{"$f":"SUM(C164,C167,C170,C173)","v":0},{"$f":"SUM(D164,D167,D170,D173)","v":0},{"$f":"SUM(E164,E167,E170,E173)","v":0},{"$f":"SUM(F164,F167,F170,F173)","v":0},{"$f":"SUM(G164,G167,G170,G173)","v":0},{"$f":"SUM(H164,H167,H170,H173)","v":0},{"$f":"SUM(I164,I167,I170,I173)","v":0},{"$f":"SUM(J164,J167,J170,J173)","v":0},{"$f":"SUM(K164,K167,K170,K173)","v":0},{"$f":"SUM(L164,L167,L170,L173)","v":0},{"$f":"SUM(M164,M167,M170,M173)","v":0},{"$f":"SUM(N164,N167,N170,N173)","v":0},{"$f":"SUM(O164,O167,O170,O173)","v":0},{"$f":"SUM(P164,P167,P170,P173)","v":0},{"$f":"SUM(Q164,Q167,Q170,Q173)","v":0}]
["20:00:02.362",{"$f":"ROUND('Import Tab'!E163*'Base Information'!$V$22,0)","v":0},{"$f":"ROUND('Import Tab'!D163*'Base Information'!$V$22,0)","v":0},{"$f":"ROUND('Import Tab'!C163*'Base Information'!$V$22,0)","v":0},{"$f":"ROUND('Import Tab'!F163,0)","v":0},{"$f":"ROUND('Import Tab'!I163*'Base Information'!$V$22,0)","v":0},{"$f":"ROUND('Import Tab'!H163*'Base Information'!$V$22,0)","v":0},{"$f":"ROUND('Import Tab'!G163*'Base Information'!$V$22,0)","v":0},{"$f":"ROUND('Import Tab'!J163,0)","v":0},{"$f":"ROUND('Import Tab'!M163*'Base Information'!$V$22,0)","v":0},{"$f":"ROUND('Import Tab'!L163*'Base Information'!$V$22,0)","v":0},{"$f":"ROUND('Import Tab'!K163*'Base Information'!$V$22,0)","v":0},{"$f":"ROUND('Import Tab'!N163,0)","v":0},{"$f":"ROUND('Import Tab'!Q163*'Base Information'!$V$22,0)","v":0},{"$f":"ROUND('Import Tab'!P163*'Base Information'!$V$22,0)","v":0},{"$f":"ROUND('Import Tab'!O163*'Base Information'!$V$22,0)","v":0},{"$f":"ROUND('Import Tab'!R163,0)","v":0}]
["20:00:02.362",{"$f":"ROUND('Import Tab'!E164*'Base Information'!$V$22,0)","v":0},{"$f":"ROUND('Import Tab'!D164*'Base Information'!$V$22,0)","v":0},{"$f":"ROUND('Import Tab'!C164*'Base Information'!$V$22,0)","v":0},{"$f":"ROUND('Import Tab'!F164,0)","v":0},{"$f":"ROUND('Import Tab'!I164*'Base Information'!$V$22,0)","v":0},{"$f":"ROUND('Import Tab'!H164*'Base Information'!$V$22,0)","v":0},{"$f":"ROUND('Import Tab'!G164*'Base Information'!$V$22,0)","v":0},{"$f":"ROUND('Import Tab'!J164,0)","v":0},{"$f":"ROUND('Import Tab'!M164*'Base Information'!$V$22,0)","v":0},{"$f":"ROUND('Import Tab'!L164*'Base Information'!$V$22,0)","v":0},{"$f":"ROUND('Import Tab'!K164*'Base Information'!$V$22,0)","v":0},{"$f":"ROUND('Import Tab'!N164,0)","v":0},{"$f":"ROUND('Import Tab'!Q164*'Base Information'!$V$22,0)","v":0},{"$f":"ROUND('Import Tab'!P164*'Base Information'!$V$22,0)","v":0},{"$f":"ROUND('Import Tab'!O164*'Base Information'!$V$22,0)","v":0},{"$f":"ROUND('Import Tab'!R164,0)","v":0}]
["20:15:02.390",{"$f":"ROUND('Import Tab'!E165*'Base Information'!$V$22,0)","v":0},{"$f":"ROUND('Import Tab'!D165*'Base Information'!$V$22,0)","v":0},{"$f":"ROUND('Import Tab'!C165*'Base Information'!$V$22,0)","v":0},{"$f":"ROUND('Import Tab'!F165,0)","v":0},{"$f":"ROUND('Import Tab'!I165*'Base Information'!$V$22,0)","v":0},{"$f":"ROUND('Import Tab'!H165*'Base Information'!$V$22,0)","v":0},{"$f":"ROUND('Import Tab'!G165*'Base Information'!$V$22,0)","v":0},{"$f":"ROUND('Import Tab'!J165,0)","v":0},{"$f":"ROUND('Import Tab'!M165*'Base Information'!$V$22,0)","v":0},{"$f":"ROUND('Import Tab'!L165*'Base Information'!$V$22,0)","v":0},{"$f":"ROUND('Import Tab'!K165*'Base Information'!$V$22,0)","v":0},{"$f":"ROUND('Import Tab'!N165,0)","v":0},{"$f":"ROUND('Import Tab'!Q165*'Base Information'!$V$22,0)","v":0},{"$f":"ROUND('Import Tab'!P165*'Base Information'!$V$22,0)","v":0},{"$f":"ROUND('Import Tab'!O165*'Base Information'!$V$22,0)","v":0},{"$f":"ROUND('Import Tab'!R165,0)","v":0},{"$f":"SUM(B165:D167)+SUM(F165:H167)+SUM(J165:L167)+SUM(N165:P167)+E167+I167+M167+Q167","v":0},{"$f":"B165+B166+B167","v":0},0,0,{"$f":"E165","v":0},{"$f":"E166","v":0},{"$f":"E167","v":0},{"$f":"F165+F166+F167","v":0},{"$f":"G165+G166+G167","v":0},{"$f":"H165+H166+H167","v":0},{"$f":"I165","v":0},{"$f":"I166","v":0},{"$f":"I167","v":0},{"$f":"J165+J166+J167","v":0},{"$f":"K165+K166+K167","v":0},{"$f":"L165+L166+L167","v":0},{"$f":"M165","v":0},{"$f":"M166","v":0},{"$f":"M167","v":0},{"$f":"N165+N166+N167","v":0},{"$f":"O165+O166+O167","v":0},{"$f":"P165+P166+P167","v":0},{"$f":"Q165","v":0},{"$f":"Q166","v":0},{"$f":"Q167","v":0},{"$f":"SUM(B165:D165)+SUM(F165:H165)+SUM(J165:L165)+SUM(N165:P165)+E167+I167+M167+Q167","v":0},{"$f":"B165","v":0},{"$f":"C165","v":0},{"$f":"D165","v":0},{"$f":"E165","v":0},{"$f":"F165","v":0},{"$f":"G165","v":0},{"$f":"H165","v":0},{"$f":"I165","v":0},{"$f":"J165","v":0},{"$f":"K165","v":0},{"$f":"L165","v":0},{"$f":"M165","v":0},{"$f":"N165","v":0},{"$f":"O165","v":0},{"$f":"P165","v":0},{"$f":"Q165","v":0},{"$f":"SUM(B166:D166)+SUM(F166:H166)+SUM(J166:L166)+SUM(N166:P166)","v":0},{"$f":"B166","v":0},{"$f":"C166","v":0},{"$f":"D166","v":0},{"$f":"E166","v":0},{"$f":"F166","v":0},{"$f":"G166","v":0},{"$f":"H166","v":0},{"$f":"I166","v":0},{"$f":"J166","v":0},{"$f":"K166","v":0},{"$f":"L166","v":0},{"$f":"M166","v":0},{"$f":"N166","v":0},{"$f":"O166","v":0},{"$f":"P166","v":0},{"$f":"Q166","v":0},{"$f":"SUM(B167:D167)+SUM(F167:H167)+SUM(J167:L167)+SUM(N167:P167)","v":0},{"$f":"B167","v":0},{"$f":"C167","v":0},{"$f":"D167","v":0},{"$f":"E167","v":0},{"$f":"F167","v":0},{"$f":"G167","v":0},{"$f":"H167","v":0},{"$f":"I167","v":0},{"$f":"J167","v":0},{"$f":"K167","v":0},{"$f":"L167","v":0},{"$f":"M167","v":0},{"$f":"N167","v":0},{"$f":"O167","v":0},{"$f":"P167","v":0},{"$f":"Q167","v":0},{"$f":"SUM(B165:D176,E167,E170,E173,E176,F165:H176,I167,I170,I173,I176,J165:L176,M167,M170,M173,M176,N165:P176,Q167,Q170,Q173,Q176)","v":0},{"$f":"SUM(B165:B176)","v":0},{"$f":"SUM(C165:C176)","v":0},{"$f":"SUM(D165:D176)","v":0},{"$f":"SUM(E165+E168+E171+E174)","v":0},{"$f":"SUM(E166+E169+E172+E175)","v":0},{"$f":"SUM(E167+E170+E173+E176)","v":0},{"$f":"SUM(F165:F176)","v":0},{"$f":"SUM(G165:G176)","v":0},{"$f":"SUM(H165:H176)","v":0},{"$f":"SUM(I165+I168+I171+I174)","v":0},{"$f":"SUM(I166+I169+I172+I175)","v":0},{"$f":"SUM(I167+I170+I173+I176)","v":0},{"$f":"SUM(J165:J176)","v":0},{"$f":"SUM(K165:K176)","v":0},{"$f":"SUM(L165:L176)","v":0},{"$f":"SUM(M165+M168+M171+M174)","v":0},{"$f":"SUM(M166+M169+M172+M175)","v":0},{"$f":"SUM(M167+M170+M173+M176)","v":0},{"$f":"SUM(N165:N176)","v":0},{"$f":"SUM(O165:O176)","v":0},{"$f":"SUM(P165:P176)","v":0},{"$f":"SUM(Q165+Q168+Q171+Q174)","v":0},{"$f":"SUM(Q166+Q169+Q172+Q175)","v":0},{"$f":"SUM(Q167+Q170+Q173+Q176)","v":0},{"$f":"SUM(B165:D165)+SUM(B168:D168)+SUM(B171:D171)+SUM(B174:D174)+SUM(F165:H165)+SUM(F168:H168)+SUM(F171:H171)+SUM(F174:H174)+SUM(J165:L165)+SUM(J168:L168)+SUM(J171:L171)+SUM(J174:L174)+SUM(N165:P165)+SUM(N168:P168)+SUM(N171:P171)+SUM(N174:P174)+E167+E170+E173+E176+I167+I170+I173+I176+M167+M170+M173+M176+Q167+Q170+Q173+Q176","v":0},{"$f":"SUM(B165,B168,B171,B174)","v":0},{"$f":"SUM(C165,C168,C171,C174)","v":0},{"$f":"SUM(D165,D168,D171,D174)","v":0},{"$f":"SUM(E165,E168,E171,E174)","v":0},{"$f":"SUM(F165,F168,F171,F174)","v":0},{"$f":"SUM(G165,G168,G171,G174)","v":0},{"$f":"SUM(H165,H168,H171,H174)","v":0},{"$f":"SUM(I165,I168,I171,I174)","v":0},{"$f":"SUM(J165,J168,J171,J174)","v":0},{"$f":"SUM(K165,K168,K171,K174)","v":0},{"$f":"SUM(L165,L168,L171,L174)","v":0},{"$f":"SUM(M165,M168,M171,M174)","v":0},{"$f":"SUM(N165,N168,N171,N174)","v":0},{"$f":"SUM(O165,O168,O171,O174)","v":0},{"$f":"SUM(P165,P168,P171,P174)","v":0},{"$f":"SUM(Q165,Q168,Q171,Q174)","v":0},{"$f":"SUM(B166:D166)+SUM(B169:D169)+SUM(B172:D172)+SUM(B175:D175)+SUM(F166:H166)+SUM(F169:H169)+SUM(F172:H172)+SUM(F175:H175)+SUM(J166:L166)+SUM(J169:L169)+SUM(J172:L172)+SUM(J175:L175)+SUM(N166:P166)+SUM(N169:P169)+SUM(N172:P172)+SUM(N175:P175)","v":0},{"$f":"SUM(B166,B169,B172,B175)","v":0},{"$f":"SUM(C166,C169,C172,C175)","v":0},{"$f":"SUM(D166,D169,D172,D175)","v":0},{"$f":"SUM(E166,E169,E172,E175)","v":0},{"$f":"SUM(F166,F169,F172,F175)","v":0},{"$f":"SUM(G166,G169,G172,G175)","v":0},{"$f":"SUM(H166,H169,H172,H175)","v":0},{"$f":"SUM(I166,I169,I172,I175)","v":0},{"$f":"SUM(J166,J169,J172,J175)","v":0},{"$f":"SUM(K166,K169,K172,K175)","v":0},{"$f":"SUM(L166,L169,L172,L175)","v":0},{"$f":"SUM(M166,M169,M172,M175)","v":0},{"$f":"SUM(N166,N169,N172,N175)","v":0},{"$f":"SUM(O166,O169,O172,O175)","v":0},{"$f":"SUM(P166,P169,P172,P175)","v":0},{"$f":"SUM(Q166,Q169,Q172,Q175)","v":0},{"$f":"SUM(B167:D167)+SUM(B170:D170)+SUM(B173:D173)+SUM(B176:D176)+SUM(F167:H167)+SUM(F170:H170)+SUM(F173:H173)+SUM(F176:H176)+SUM(J167:L167)+SUM(J170:L170)+SUM(J173:L173)+SUM(J176:L176)+SUM(N167:P167)+SUM(N170:P170)+SUM(N173:P173)+SUM(N176:P176)","v":0},{"$f":"SUM(B167,B170,B173,B176)","v":0},{"$f":"SUM(C167,C170,C173,C176)","v":0},{"$f":"SUM(D167,D170,D173,D176)","v":0},{"$f":"SUM(E167,E170,E173,E176)","v":0},{"$f":"SUM(F167,F170,F173,F176)","v":0},{"$f":"SUM(G167,G170,G173,G176)","v":0},{"$f":"SUM(H167,H170,H173,H176)","v":0},{"$f":"SUM(I167,I170,I173,I176)","v":0},{"$f":"SUM(J167,J170,J173,J176)","v":0},{"$f":"SUM(K167,K170,K173,K176)","v":0},{"$f":"SUM(L167,L170,L173,L176)","v":0},{"$f":"SUM(M167,M170,M173,M176)","v":0},{"$f":"SUM(N167,N170,N173,N176)","v":0},{"$f":"SUM(O167,O170,O173,O176)","v":0},{"$f":"SUM(P167,P170,P173,P176)","v":0},{"$f":"SUM(Q167,Q170,Q173,Q176)","v":0}]
["20:15:02.390",{"$f":"ROUND('Import Tab'!E166*'Base Information'!$V$22,0)","v":0},{"$f":"ROUND('Import Tab'!D166*'Base Information'!$V$22,0)","v":0},{"$f":"ROUND('Import Tab'!C166*'Base Information'!$V$22,0)","v":0},{"$f":"ROUND('Import Tab'!F166,0)","v":0},{"$f":"ROUND('Import Tab'!I166*'Base Information'!$V$22,0)","v":0},{"$f":"ROUND('Import Tab'!H166*'Base Information'!$V$22,0)","v":0},{"$f":"ROUND('Import Tab'!G166*'Base Information'!$V$22,0)","v":0},{"$f":"ROUND('Import Tab'!J166,0)","v":0},{"$f":"ROUND('Import Tab'!M166*'Base Information'!$V$22,0)","v":0},{"$f":"ROUND('Import Tab'!L166*'Base Information'!$V$22,0)","v":0},{"$f":"ROUND('Import Tab'!K166*'Base Information'!$V$22,0)","v":0},{"$f":"ROUND('Import Tab'!N166,0)","v":0},{"$f":"ROUND('Import Tab'!Q166*'Base Information'!$V$22,0)","v":0},{"$f":"ROUND('Import Tab'!P166*'Base Information'!$V$22,0)","v":0},{"$f":"ROUND('Import Tab'!O166*'Base Information'!$V$22,0)","v":0},{"$f":"ROUND('Import Tab'!R166,0)","v":0}]
["20:15:02.390",{"$f":"ROUND('Import Tab'!E167*'Base Information'!$V$22,0)","v":0},{"$f":"ROUND('Import Tab'!D167*'Base Information'!$V$22,0)","v":0},{"$f":"ROUND('Import Tab'!C167*'Base Information'!$V$22,0)","v":0},{"$f":"ROUND('Import Tab'!F167,0)","v":0},{"$f":"ROUND('Import Tab'!I167*'Base Information'!$V$22,0)","v":0},{"$f":"ROUND('Import Tab'!H167*'Base Information'!$V$22,0)","v":0},{"$f":"ROUND('Import Tab'!G167*'Base Information'!$V$22,0)","v":0},{"$f":"ROUND('Import Tab'!J167,0)","v":0},{"$f":"ROUND('Import Tab'!M167*'Base Information'!$V$22,0)","v":0},{"$f":"ROUND('Import Tab'!L167*'Base Information'!$V$22,0)","v":0},{"$f":"ROUND('Import Tab'!K167*'Base Information'!$V$22,0)","v":0},{"$f":"ROUND('Import Tab'!N167,0)","v":0},{"$f":"ROUND('Import Tab'!Q167*'Base Information'!$V$22,0)","v":0},{"$f":"ROUND('Import Tab'!P167*'Base Information'!$V$22,0)","v":0},{"$f":"ROUND('Import Tab'!O167*'Base Information'!$V$22,0)","v":0},{"$f":"ROUND('Import Tab'!R167,0)","v":0}]
["20:30:02.419",{"$f":"ROUND('Import Tab'!E168*'Base Information'!$V$22,0)","v":0},{"$f":"ROUND('Import Tab'!D168*'Base Information'!$V$22,0)","v":0},{"$f":"ROUND('Import Tab'!C168*'Base Information'!$V$22,0)","v":0},{"$f":"ROUND('Import Tab'!F168,0)","v":0},{"$f":"ROUND('Import Tab'!I168*'Base Information'!$V$22,0)","v":0},{"$f":"ROUND('Import Tab'!H168*'Base Information'!$V$22,0)","v":0},{"$f":"ROUND('Import Tab'!G168*'Base Information'!$V$22,0)","v":0},{"$f":"ROUND('Import Tab'!J168,0)","v":0},{"$f":"ROUND('Import Tab'!M168*'Base Information'!$V$22,0)","v":0},{"$f":"ROUND('Import Tab'!L168*'Base Information'!$V$22,0)","v":0},{"$f":"ROUND('Import Tab'!K168*'Base Information'!$V$22,0)","v":0},{"$f":"ROUND('Import Tab'!N168,0)","v":0},{"$f":"ROUND('Import Tab'!Q168*'Base Information'!$V$22,0)","v":0},{"$f":"ROUND('Import Tab'!P168*'Base Information'!$V$22,0)","v":0},{"$f":"ROUND('Import Tab'!O168*'Base Information'!$V$22,0)","v":0},{"$f":"ROUND('Import Tab'!R168,0)","v":0},{"$f":"SUM(B168:D170)+SUM(F168:H170)+SUM(J168:L170)+SUM(N168:P170)+E170+I170+M170+Q170","v":0},{"$f":"B168+B169+B170","v":0},0,0,{"$f":"E168","v":0},{"$f":"E169","v":0},{"$f":"E170","v":0},{"$f":"F168+F169+F170","v":0},{"$f":"G168+G169+G170","v":0},{"$f":"H168+H169+H170","v":0},{"$f":"I168","v":0},{"$f":"I169","v":0},{"$f":"I170","v":0},{"$f":"J168+J169+J170","v":0},{"$f":"K168+K169+K170","v":0},{"$f":"L168+L169+L170","v":0},{"$f":"M168","v":0},{"$f":"M169","v":0},{"$f":"M170","v":0},{"$f":"N168+N169+N170","v":0},{"$f":"O168+O169+O170","v":0},{"$f":"P168+P169+P170","v":0},{"$f":"Q168","v":0},{"$f":"Q169","v":0},{"$f":"Q170","v":0},{"$f":"SUM(B168:D168)+SUM(F168:H168)+SUM(J168:L168)+SUM(N168:P168)+E170+I170+M170+Q170","v":0},{"$f":"B168","v":0},{"$f":"C168","v":0},{"$f":"D168","v":0},{"$f":"E168","v":0},{"$f":"F168","v":0},{"$f":"G168","v":0},{"$f":"H168","v":0},{"$f":"I168","v":0},{"$f":"J168","v":0},{"$f":"K168","v":0},{"$f":"L168","v":0},{"$f":"M168","v":0},{"$f":"N168","v":0},{"$f":"O168","v":0},{"$f":"P168","v":0},{"$f":"Q168","v":0},{"$f":"SUM(B169:D169)+SUM(F169:H169)+SUM(J169:L169)+SUM(N169:P169)","v":0},{"$f":"B169","v":0},{"$f":"C169","v":0},{"$f":"D169","v":0},{"$f":"E169","v":0},{"$f":"F169","v":0},{"$f":"G169","v":0},{"$f":"H169","v":0},{"$f":"I169","v":0},{"$f":"J169","v":0},{"$f":"K169","v":0},{"$f":"L169","v":0},{"$f":"M169","v":0},{"$f":"N169","v":0},{"$f":"O169","v":0},{"$f":"P169","v":0},{"$f":"Q169","v":0},{"$f":"SUM(B170:D170)+SUM(F170:H170)+SUM(J170:L170)+SUM(N170:P170)","v":0},{"$f":"B170","v":0},{"$f":"C170","v":0},{"$f":"D170","v":0},{"$f":"E170","v":0},{"$f":"F170","v":0},{"$f":"G170","v":0},{"$f":"H170","v":0},{"$f":"I170","v":0},{"$f":"J170","v":0},{"$f":"K170","v":0},{"$f":"L170","v":0},{"$f":"M170","v":0},{"$f":"N170","v":0},{"$f":"O170","v":0},{"$f":"P170","v":0},{"$f":"Q170","v":0},{"$f":"SUM(B168:D179,E170,E173,E176,E179,F168:H179,I170,I173,I176,I179,J168:L179,M170,M173,M176,M179,N168:P179,Q170,Q173,Q176,Q179)","v":0},{"$f":"SUM(B168:B179)","v":0},{"$f":"SUM(C168:C179)","v":0},{"$f":"SUM(D168:D179)","v":0},{"$f":"SUM(E168+E171+E174+E177)","v":0},{"$f":"SUM(E169+E172+E175+E178)","v":0},{"$f":"SUM(E170+E173+E176+E179)","v":0},{"$f":"SUM(F168:F179)","v":0},{"$f":"SUM(G168:G179)","v":0},{"$f":"SUM(H168:H179)","v":0},{"$f":"SUM(I168+I171+I174+I177)","v":0},{"$f":"SUM(I169+I172+I175+I178)","v":0},{"$f":"SUM(I170+I173+I176+I179)","v":0},{"$f":"SUM(J168:J179)","v":0},{"$f":"SUM(K168:K179)","v":0},{"$f":"SUM(L168:L179)","v":0},{"$f":"SUM(M168+M171+M174+M177)","v":0},{"$f":"SUM(M169+M172+M175+M178)","v":0},{"$f":"SUM(M170+M173+M176+M179)","v":0},{"$f":"SUM(N168:N179)","v":0},{"$f":"SUM(O168:O179)","v":0},{"$f":"SUM(P168:P179)","v":0},{"$f":"SUM(Q168+Q171+Q174+Q177)","v":0},{"$f":"SUM(Q169+Q172+Q175+Q178)","v":0},{"$f":"SUM(Q170+Q173+Q176+Q179)","v":0},{"$f":"SUM(B168:D168)+SUM(B171:D171)+SUM(B174:D174)+SUM(B177:D177)+SUM(F168:H168)+SUM(F171:H171)+SUM(F174:H174)+SUM(F177:H177)+SUM(J168:L168)+SUM(J171:L171)+SUM(J174:L174)+SUM(J177:L177)+SUM(N168:P168)+SUM(N171:P171)+SUM(N174:P174)+SUM(N177:P177)+E170+E173+E176+E179+I170+I173+I176+I179+M170+M173+M176+M179+Q170+Q173+Q176+Q179","v":0},{"$f":"SUM(B168,B171,B174,B177)","v":0},{"$f":"SUM(C168,C171,C174,C177)","v":0},{"$f":"SUM(D168,D171,D174,D177)","v":0},{"$f":"SUM(E168,E171,E174,E177)","v":0},{"$f":"SUM(F168,F171,F174,F177)","v":0},{"$f":"SUM(G168,G171,G174,G177)","v":0},{"$f":"SUM(H168,H171,H174,H177)","v":0},{"$f":"SUM(I168,I171,I174,I177)","v":0},{"$f":"SUM(J168,J171,J174,J177)","v":0},{"$f":"SUM(K168,K171,K174,K177)","v":0},{"$f":"SUM(L168,L171,L174,L177)","v":0},{"$f":"SUM(M168,M171,M174,M177)","v":0},{"$f":"SUM(N168,N171,N174,N177)","v":0},{"$f":"SUM(O168,O171,O174,O177)","v":0},{"$f":"SUM(P168,P171,P174,P177)","v":0},{"$f":"SUM(Q168,Q171,Q174,Q177)","v":0},{"$f":"SUM(B169:D169)+SUM(B172:D172)+SUM(B175:D175)+SUM(B178:D178)+SUM(F169:H169)+SUM(F172:H172)+SUM(F175:H175)+SUM(F178:H178)+SUM(J169:L169)+SUM(J172:L172)+SUM(J175:L175)+SUM(J178:L178)+SUM(N169:P169)+SUM(N172:P172)+SUM(N175:P175)+SUM(N178:P178)","v":0},{"$f":"SUM(B169,B172,B175,B178)","v":0},{"$f":"SUM(C169,C172,C175,C178)","v":0},{"$f":"SUM(D169,D172,D175,D178)","v":0},{"$f":"SUM(E169,E172,E175,E178)","v":0},{"$f":"SUM(F169,F172,F175,F178)","v":0},{"$f":"SUM(G169,G172,G175,G178)","v":0},{"$f":"SUM(H169,H172,H175,H178)","v":0},{"$f":"SUM(I169,I172,I175,I178)","v":0},{"$f":"SUM(J169,J172,J175,J178)","v":0},{"$f":"SUM(K169,K172,K175,K178)","v":0},{"$f":"SUM(L169,L172,L175,L178)","v":0},{"$f":"SUM(M169,M172,M175,M178)","v":0},{"$f":"SUM(N169,N172,N175,N178)","v":0},{"$f":"SUM(O169,O172,O175,O178)","v":0},{"$f":"SUM(P169,P172,P175,P178)","v":0},{"$f":"SUM(Q169,Q172,Q175,Q178)","v":0},{"$f":"SUM(B170:D170)+SUM(B173:D173)+SUM(B176:D176)+SUM(B179:D179)+SUM(F170:H170)+SUM(F173:H173)+SUM(F176:H176)+SUM(F179:H179)+SUM(J170:L170)+SUM(J173:L173)+SUM(J176:L176)+SUM(J179:L179)+SUM(N170:P170)+SUM(N173:P173)+SUM(N176:P176)+SUM(N179:P179)","v":0},{"$f":"SUM(B170,B173,B176,B179)","v":0},{"$f":"SUM(C170,C173,C176,C179)","v":0},{"$f":"SUM(D170,D173,D176,D179)","v":0},{"$f":"SUM(E170,E173,E176,E179)","v":0},{"$f":"SUM(F170,F173,F176,F179)","v":0},{"$f":"SUM(G170,G173,G176,G179)","v":0},{"$f":"SUM(H170,H173,H176,H179)","v":0},{"$f":"SUM(I170,I173,I176,I179)","v":0},{"$f":"SUM(J170,J173,J176,J179)","v":0},{"$f":"SUM(K170,K173,K176,K179)","v":0},{"$f":"SUM(L170,L173,L176,L179)","v":0},{"$f":"SUM(M170,M173,M176,M179)","v":0},{"$f":"SUM(N170,N173,N176,N179)","v":0},{"$f":"SUM(O170,O173,O176,O179)","v":0},{"$f":"SUM(P170,P173,P176,P179)","v":0},{"$f":"SUM(Q170,Q173,Q176,Q179)","v":0}]
["20:30:02.419",{"$f":"ROUND('Import Tab'!E169*'Base Information'!$V$22,0)","v":0},{"$f":"ROUND('Import Tab'!D169*'Base Information'!$V$22,0)","v":0},{"$f":"ROUND('Import Tab'!C169*'Base Information'!$V$22,0)","v":0},{"$f":"ROUND('Import Tab'!F169,0)","v":0},{"$f":"ROUND('Import Tab'!I169*'Base Information'!$V$22,0)","v":0},{"$f":"ROUND('Import Tab'!H169*'Base Information'!$V$22,0)","v":0},{"$f":"ROUND('Import Tab'!G169*'Base Information'!$V$22,0)","v":0},{"$f":"ROUND('Import Tab'!J169,0)","v":0},{"$f":"ROUND('Import Tab'!M169*'Base Information'!$V$22,0)","v":0},{"$f":"ROUND('Import Tab'!L169*'Base Information'!$V$22,0)","v":0},{"$f":"ROUND('Import Tab'!K169*'Base Information'!$V$22,0)","v":0},{"$f":"ROUND('Import Tab'!N169,0)","v":0},{"$f":"ROUND('Import Tab'!Q169*'Base Information'!$V$22,0)","v":0},{"$f":"ROUND('Import Tab'!P169*'Base Information'!$V$22,0)","v":0},{"$f":"ROUND('Import Tab'!O169*'Base Information'!$V$22,0)","v":0},{"$f":"ROUND('Import Tab'!R169,0)","v":0}]
["20:30:02.419",{"$f":"ROUND('Import Tab'!E170*'Base Information'!$V$22,0)","v":0},{"$f":"ROUND('Import Tab'!D170*'Base Information'!$V$22,0)","v":0},{"$f":"ROUND('Import Tab'!C170*'Base Information'!$V$22,0)","v":0},{"$f":"ROUND('Import Tab'!F170,0)","v":0},{"$f":"ROUND('Import Tab'!I170*'Base Information'!$V$22,0)","v":0},{"$f":"ROUND('Import Tab'!H170*'Base Information'!$V$22,0)","v":0},{"$f":"ROUND('Import Tab'!G170*'Base Information'!$V$22,0)","v":0},{"$f":"ROUND('Import Tab'!J170,0)","v":0},{"$f":"ROUND('Import Tab'!M170*'Base Information'!$V$22,0)","v":0},{"$f":"ROUND('Import Tab'!L170*'Base Information'!$V$22,0)","v":0},{"$f":"ROUND('Import Tab'!K170*'Base Information'!$V$22,0)","v":0},{"$f":"ROUND('Import Tab'!N170,0)","v":0},{"$f":"ROUND('Import Tab'!Q170*'Base Information'!$V$22,0)","v":0},{"$f":"ROUND('Import Tab'!P170*'Base Information'!$V$22,0)","v":0},{"$f":"ROUND('Import Tab'!O170*'Base Information'!$V$22,0)","v":0},{"$f":"ROUND('Import Tab'!R170,0)","v":0}]
["20:45:02.448",{"$f":"ROUND('Import Tab'!E171*'Base Information'!$V$22,0)","v":0},{"$f":"ROUND('Import Tab'!D171*'Base Information'!$V$22,0)","v":0},{"$f":"ROUND('Import Tab'!C171*'Base Information'!$V$22,0)","v":0},{"$f":"ROUND('Import Tab'!F171,0)","v":0},{"$f":"ROUND('Import Tab'!I171*'Base Information'!$V$22,0)","v":0},{"$f":"ROUND('Import Tab'!H171*'Base Information'!$V$22,0)","v":0},{"$f":"ROUND('Import Tab'!G171*'Base Information'!$V$22,0)","v":0},{"$f":"ROUND('Import Tab'!J171,0)","v":0},{"$f":"ROUND('Import Tab'!M171*'Base Information'!$V$22,0)","v":0},{"$f":"ROUND('Import Tab'!L171*'Base Information'!$V$22,0)","v":0},{"$f":"ROUND('Import Tab'!K171*'Base Information'!$V$22,0)","v":0},{"$f":"ROUND('Import Tab'!N171,0)","v":0},{"$f":"ROUND('Import Tab'!Q171*'Base Information'!$V$22,0)","v":0},{"$f":"ROUND('Import Tab'!P171*'Base Information'!$V$22,0)","v":0},{"$f":"ROUND('Import Tab'!O171*'Base Information'!$V$22,0)","v":0},{"$f":"ROUND('Import Tab'!R171,0)","v":0},{"$f":"SUM(B171:D173)+SUM(F171:H173)+SUM(J171:L173)+SUM(N171:P173)+E173+I173+M173+Q173","v":0},{"$f":"B171+B172+B173","v":0},0,0,{"$f":"E171","v":0},{"$f":"E172","v":0},{"$f":"E173","v":0},{"$f":"F171+F172+F173","v":0},{"$f":"G171+G172+G173","v":0},{"$f":"H171+H172+H173","v":0},{"$f":"I171","v":0},{"$f":"I172","v":0},{"$f":"I173","v":0},{"$f":"J171+J172+J173","v":0},{"$f":"K171+K172+K173","v":0},{"$f":"L171+L172+L173","v":0},{"$f":"M171","v":0},{"$f":"M172","v":0},{"$f":"M173","v":0},{"$f":"N171+N172+N173","v":0},{"$f":"O171+O172+O173","v":0},{"$f":"P171+P172+P173","v":0},{"$f":"Q171","v":0},{"$f":"Q172","v":0},{"$f":"Q173","v":0},{"$f":"SUM(B171:D171)+SUM(F171:H171)+SUM(J171:L171)+SUM(N171:P171)+E173+I173+M173+Q173","v":0},{"$f":"B171","v":0},{"$f":"C171","v":0},{"$f":"D171","v":0},{"$f":"E171","v":0},{"$f":"F171","v":0},{"$f":"G171","v":0},{"$f":"H171","v":0},{"$f":"I171","v":0},{"$f":"J171","v":0},{"$f":"K171","v":0},{"$f":"L171","v":0},{"$f":"M171","v":0},{"$f":"N171","v":0},{"$f":"O171","v":0},{"$f":"P171","v":0},{"$f":"Q171","v":0},{"$f":"SUM(B172:D172)+SUM(F172:H172)+SUM(J172:L172)+SUM(N172:P172)","v":0},{"$f":"B172","v":0},{"$f":"C172","v":0},{"$f":"D172","v":0},{"$f":"E172","v":0},{"$f":"F172","v":0},{"$f":"G172","v":0},{"$f":"H172","v":0},{"$f":"I172","v":0},{"$f":"J172","v":0},{"$f":"K172","v":0},{"$f":"L172","v":0},{"$f":"M172","v":0},{"$f":"N172","v":0},{"$f":"O172","v":0},{"$f":"P172","v":0},{"$f":"Q172","v":0},{"$f":"SUM(B173:D173)+SUM(F173:H173)+SUM(J173:L173)+SUM(N173:P173)","v":0},{"$f":"B173","v":0},{"$f":"C173","v":0},{"$f":"D173","v":0},{"$f":"E173","v":0},{"$f":"F173","v":0},{"$f":"G173","v":0},{"$f":"H173","v":0},{"$f":"I173","v":0},{"$f":"J173","v":0},{"$f":"K173","v":0},{"$f":"L173","v":0},{"$f":"M173","v":0},{"$f":"N173","v":0},{"$f":"O173","v":0},{"$f":"P173","v":0},{"$f":"Q173","v":0},{"$f":"SUM(B171:D182,E173,E176,E179,E182,F171:H182,I173,I176,I179,I182,J171:L182,M173,M176,M179,M182,N171:P182,Q173,Q176,Q179,Q182)","v":0},{"$f":"SUM(B171:B182)","v":0},{"$f":"SUM(C171:C182)","v":0},{"$f":"SUM(D171:D182)","v":0},{"$f":"SUM(E171+E174+E177+E180)","v":0},{"$f":"SUM(E172+E175+E178+E181)","v":0},{"$f":"SUM(E173+E176+E179+E182)","v":0},{"$f":"SUM(F171:F182)","v":0},{"$f":"SUM(G171:G182)","v":0},{"$f":"SUM(H171:H182)","v":0},{"$f":"SUM(I171+I174+I177+I180)","v":0},{"$f":"SUM(I172+I175+I178+I181)","v":0},{"$f":"SUM(I173+I176+I179+I182)","v":0},{"$f":"SUM(J171:J182)","v":0},{"$f":"SUM(K171:K182)","v":0},{"$f":"SUM(L171:L182)","v":0},{"$f":"SUM(M171+M174+M177+M180)","v":0},{"$f":"SUM(M172+M175+M178+M181)","v":0},{"$f":"SUM(M173+M176+M179+M182)","v":0},{"$f":"SUM(N171:N182)","v":0},{"$f":"SUM(O171:O182)","v":0},{"$f":"SUM(P171:P182)","v":0},{"$f":"SUM(Q171+Q174+Q177+Q180)","v":0},{"$f":"SUM(Q172+Q175+Q178+Q181)","v":0},{"$f":"SUM(Q173+Q176+Q179+Q182)","v":0},{"$f":"SUM(B171:D171)+SUM(B174:D174)+SUM(B177:D177)+SUM(B180:D180)+SUM(F171:H171)+SUM(F174:H174)+SUM(F177:H177)+SUM(F180:H180)+SUM(J171:L171)+SUM(J174:L174)+SUM(J177:L177)+SUM(J180:L180)+SUM(N171:P171)+SUM(N174:P174)+SUM(N177:P177)+SUM(N180:P180)+E173+E176+E179+E182+I173+I176+I179+I182+M173+M176+M179+M182+Q173+Q176+Q179+Q182","v":0},{"$f":"SUM(B171,B174,B177,B180)","v":0},{"$f":"SUM(C171,C174,C177,C180)","v":0},{"$f":"SUM(D171,D174,D177,D180)","v":0},{"$f":"SUM(E171,E174,E177,E180)","v":0},{"$f":"SUM(F171,F174,F177,F180)","v":0},{"$f":"SUM(G171,G174,G177,G180)","v":0},{"$f":"SUM(H171,H174,H177,H180)","v":0},{"$f":"SUM(I171,I174,I177,I180)","v":0},{"$f":"SUM(J171,J174,J177,J180)","v":0},{"$f":"SUM(K171,K174,K177,K180)","v":0},{"$f":"SUM(L171,L174,L177,L180)","v":0},{"$f":"SUM(M171,M174,M177,M180)","v":0},{"$f":"SUM(N171,N174,N177,N180)","v":0},{"$f":"SUM(O171,O174,O177,O180)","v":0},{"$f":"SUM(P171,P174,P177,P180)","v":0},{"$f":"SUM(Q171,Q174,Q177,Q180)","v":0},{"$f":"SUM(B172:D172)+SUM(B175:D175)+SUM(B178:D178)+SUM(B181:D181)+SUM(F172:H172)+SUM(F175:H175)+SUM(F178:H178)+SUM(F181:H181)+SUM(J172:L172)+SUM(J175:L175)+SUM(J178:L178)+SUM(J181:L181)+SUM(N172:P172)+SUM(N175:P175)+SUM(N178:P178)+SUM(N181:P181)","v":0},{"$f":"SUM(B172,B175,B178,B181)","v":0},{"$f":"SUM(C172,C175,C178,C181)","v":0},{"$f":"SUM(D172,D175,D178,D181)","v":0},{"$f":"SUM(E172,E175,E178,E181)","v":0},{"$f":"SUM(F172,F175,F178,F181)","v":0},{"$f":"SUM(G172,G175,G178,G181)","v":0},{"$f":"SUM(H172,H175,H178,H181)","v":0},{"$f":"SUM(I172,I175,I178,I181)","v":0},{"$f":"SUM(J172,J175,J178,J181)","v":0},{"$f":"SUM(K172,K175,K178,K181)","v":0},{"$f":"SUM(L172,L175,L178,L181)","v":0},{"$f":"SUM(M172,M175,M178,M181)","v":0},{"$f":"SUM(N172,N175,N178,N181)","v":0},{"$f":"SUM(O172,O175,O178,O181)","v":0},{"$f":"SUM(P172,P175,P178,P181)","v":0},{"$f":"SUM(Q172,Q175,Q178,Q181)","v":0},{"$f":"SUM(B173:D173)+SUM(B176:D176)+SUM(B179:D179)+SUM(B182:D182)+SUM(F173:H173)+SUM(F176:H176)+SUM(F179:H179)+SUM(F182:H182)+SUM(J173:L173)+SUM(J176:L176)+SUM(J179:L179)+SUM(J182:L182)+SUM(N173:P173)+SUM(N176:P176)+SUM(N179:P179)+SUM(N182:P182)","v":0},{"$f":"SUM(B173,B176,B179,B182)","v":0},{"$f":"SUM(C173,C176,C179,C182)","v":0},{"$f":"SUM(D173,D176,D179,D182)","v":0},{"$f":"SUM(E173,E176,E179,E182)","v":0},{"$f":"SUM(F173,F176,F179,F182)","v":0},{"$f":"SUM(G173,G176,G179,G182)","v":0},{"$f":"SUM(H173,H176,H179,H182)","v":0},{"$f":"SUM(I173,I176,I179,I182)","v":0},{"$f":"SUM(J173,J176,J179,J182)","v":0},{"$f":"SUM(K173,K176,K179,K182)","v":0},{"$f":"SUM(L173,L176,L179,L182)","v":0},{"$f":"SUM(M173,M176,M179,M182)","v":0},{"$f":"SUM(N173,N176,N179,N182)","v":0},{"$f":"SUM(O173,O176,O179,O182)","v":0},{"$f":"SUM(P173,P176,P179,P182)","v":0},{"$f":"SUM(Q173,Q176,Q179,Q182)","v":0}]
["20:45:02.448",{"$f":"ROUND('Import Tab'!E172*'Base Information'!$V$22,0)","v":0},{"$f":"ROUND('Import Tab'!D172*'Base Information'!$V$22,0)","v":0},{"$f":"ROUND('Import Tab'!C172*'Base Information'!$V$22,0)","v":0},{"$f":"ROUND('Import Tab'!F172,0)","v":0},{"$f":"ROUND('Import Tab'!I172*'Base Information'!$V$22,0)","v":0},{"$f":"ROUND('Import Tab'!H172*'Base Information'!$V$22,0)","v":0},{"$f":"ROUND('Import Tab'!G172*'Base Information'!$V$22,0)","v":0},{"$f":"ROUND('Import Tab'!J172,0)","v":0},{"$f":"ROUND('Import Tab'!M172*'Base Information'!$V$22,0)","v":0},{"$f":"ROUND('Import Tab'!L172*'Base Information'!$V$22,0)","v":0},{"$f":"ROUND('Import Tab'!K172*'Base Information'!$V$22,0)","v":0},{"$f":"ROUND('Import Tab'!N172,0)","v":0},{"$f":"ROUND('Import Tab'!Q172*'Base Information'!$V$22,0)","v":0},{"$f":"ROUND('Import Tab'!P172*'Base Information'!$V$22,0)","v":0},{"$f":"ROUND('Import Tab'!O172*'Base Information'!$V$22,0)","v":0},{"$f":"ROUND('Import Tab'!R172,0)","v":0}]
["20:45:02.448",{"$f":"ROUND('Import Tab'!E173*'Base Information'!$V$22,0)","v":0},{"$f":"ROUND('Import Tab'!D173*'Base Information'!$V$22,0)","v":0},{"$f":"ROUND('Import Tab'!C173*'Base Information'!$V$22,0)","v":0},{"$f":"ROUND('Import Tab'!F173,0)","v":0},{"$f":"ROUND('Import Tab'!I173*'Base Information'!$V$22,0)","v":0},{"$f":"ROUND('Import Tab'!H173*'Base Information'!$V$22,0)","v":0},{"$f":"ROUND('Import Tab'!G173*'Base Information'!$V$22,0)","v":0},{"$f":"ROUND('Import Tab'!J173,0)","v":0},{"$f":"ROUND('Import Tab'!M173*'Base Information'!$V$22,0)","v":0},{"$f":"ROUND('Import Tab'!L173*'Base Information'!$V$22,0)","v":0},{"$f":"ROUND('Import Tab'!K173*'Base Information'!$V$22,0)","v":0},{"$f":"ROUND('Import Tab'!N173,0)","v":0},{"$f":"ROUND('Import Tab'!Q173*'Base Information'!$V$22,0)","v":0},{"$f":"ROUND('Import Tab'!P173*'Base Information'!$V$22,0)","v":0},{"$f":"ROUND('Import Tab'!O173*'Base Information'!$V$22,0)","v":0},{"$f":"ROUND('Import Tab'!R173,0)","v":0}]
["21:00:02.477",{"$f":"ROUND('Import Tab'!E174*'Base Information'!$V$22,0)","v":0},{"$f":"ROUND('Import Tab'!D174*'Base Information'!$V$22,0)","v":0},{"$f":"ROUND('Import Tab'!C174*'Base Information'!$V$22,0)","v":0},{"$f":"ROUND('Import Tab'!F174,0)","v":0},{"$f":"ROUND('Import Tab'!I174*'Base Information'!$V$22,0)","v":0},{"$f":"ROUND('Import Tab'!H174*'Base Information'!$V$22,0)","v":0},{"$f":"ROUND('Import Tab'!G174*'Base Information'!$V$22,0)","v":0},{"$f":"ROUND('Import Tab'!J174,0)","v":0},{"$f":"ROUND('Import Tab'!M174*'Base Information'!$V$22,0)","v":0},{"$f":"ROUND('Import Tab'!L174*'Base Information'!$V$22,0)","v":0},{"$f":"ROUND('Import Tab'!K174*'Base Information'!$V$22,0)","v":0},{"$f":"ROUND('Import Tab'!N174,0)","v":0},{"$f":"ROUND('Import Tab'!Q174*'Base Information'!$V$22,0)","v":0},{"$f":"ROUND('Import Tab'!P174*'Base Information'!$V$22,0)","v":0},{"$f":"ROUND('Import Tab'!O174*'Base Information'!$V$22,0)","v":0},{"$f":"ROUND('Import Tab'!R174,0)","v":0},{"$f":"SUM(B174:D176)+SUM(F174:H176)+SUM(J174:L176)+SUM(N174:P176)+E176+I176+M176+Q176","v":0},{"$f":"B174+B175+B176","v":0},0,0,{"$f":"E174","v":0},{"$f":"E175","v":0},{"$f":"E176","v":0},{"$f":"F174+F175+F176","v":0},{"$f":"G174+G175+G176","v":0},{"$f":"H174+H175+H176","v":0},{"$f":"I174","v":0},{"$f":"I175","v":0},{"$f":"I176","v":0},{"$f":"J174+J175+J176","v":0},{"$f":"K174+K175+K176","v":0},{"$f":"L174+L175+L176","v":0},{"$f":"M174","v":0},{"$f":"M175","v":0},{"$f":"M176","v":0},{"$f":"N174+N175+N176","v":0},{"$f":"O174+O175+O176","v":0},{"$f":"P174+P175+P176","v":0},{"$f":"Q174","v":0},{"$f":"Q175","v":0},{"$f":"Q176","v":0},{"$f":"SUM(B174:D174)+SUM(F174:H174)+SUM(J174:L174)+SUM(N174:P174)+E176+I176+M176+Q176","v":0},{"$f":"B174","v":0},{"$f":"C174","v":0},{"$f":"D174","v":0},{"$f":"E174","v":0},{"$f":"F174","v":0},{"$f":"G174","v":0},{"$f":"H174","v":0},{"$f":"I174","v":0},{"$f":"J174","v":0},{"$f":"K174","v":0},{"$f":"L174","v":0},{"$f":"M174","v":0},{"$f":"N174","v":0},{"$f":"O174","v":0},{"$f":"P174","v":0},{"$f":"Q174","v":0},{"$f":"SUM(B175:D175)+SUM(F175:H175)+SUM(J175:L175)+SUM(N175:P175)","v":0},{"$f":"B175","v":0},{"$f":"C175","v":0},{"$f":"D175","v":0},{"$f":"E175","v":0},{"$f":"F175","v":0},{"$f":"G175","v":0},{"$f":"H175","v":0},{"$f":"I175","v":0},{"$f":"J175","v":0},{"$f":"K175","v":0},{"$f":"L175","v":0},{"$f":"M175","v":0},{"$f":"N175","v":0},{"$f":"O175","v":0},{"$f":"P175","v":0},{"$f":"Q175","v":0},{"$f":"SUM(B176:D176)+SUM(F176:H176)+SUM(J176:L176)+SUM(N176:P176)","v":0},{"$f":"B176","v":0},{"$f":"C176","v":0},{"$f":"D176","v":0},{"$f":"E176","v":0},{"$f":"F176","v":0},{"$f":"G176","v":0},{"$f":"H176","v":0},{"$f":"I176","v":0},{"$f":"J176","v":0},{"$f":"K176","v":0},{"$f":"L176","v":0},{"$f":"M176","v":0},{"$f":"N176","v":0},{"$f":"O176","v":0},{"$f":"P176","v":0},{"$f":"Q176","v":0},{"$f":"SUM(B174:D185,E176,E179,E182,E185,F174:H185,I176,I179,I182,I185,J174:L185,M176,M179,M182,M185,N174:P185,Q176,Q179,Q182,Q185)","v":0},{"$f":"SUM(B174:B185)","v":0},{"$f":"SUM(C174:C185)","v":0},{"$f":"SUM(D174:D185)","v":0},{"$f":"SUM(E174+E177+E180+E183)","v":0},{"$f":"SUM(E175+E178+E181+E184)","v":0},{"$f":"SUM(E176+E179+E182+E185)","v":0},{"$f":"SUM(F174:F185)","v":0},{"$f":"SUM(G174:G185)","v":0},{"$f":"SUM(H174:H185)","v":0},{"$f":"SUM(I174+I177+I180+I183)","v":0},{"$f":"SUM(I175+I178+I181+I184)","v":0},{"$f":"SUM(I176+I179+I182+I185)","v":0},{"$f":"SUM(J174:J185)","v":0},{"$f":"SUM(K174:K185)","v":0},{"$f":"SUM(L174:L185)","v":0},{"$f":"SUM(M174+M177+M180+M183)","v":0},{"$f":"SUM(M175+M178+M181+M184)","v":0},{"$f":"SUM(M176+M179+M182+M185)","v":0},{"$f":"SUM(N174:N185)","v":0},{"$f":"SUM(O174:O185)","v":0},{"$f":"SUM(P174:P185)","v":0},{"$f":"SUM(Q174+Q177+Q180+Q183)","v":0},{"$f":"SUM(Q175+Q178+Q181+Q184)","v":0},{"$f":"SUM(Q176+Q179+Q182+Q185)","v":0},{"$f":"SUM(B174:D174)+SUM(B177:D177)+SUM(B180:D180)+SUM(B183:D183)+SUM(F174:H174)+SUM(F177:H177)+SUM(F180:H180)+SUM(F183:H183)+SUM(J174:L174)+SUM(J177:L177)+SUM(J180:L180)+SUM(J183:L183)+SUM(N174:P174)+SUM(N177:P177)+SUM(N180:P180)+SUM(N183:P183)+E176+E179+E182+E185+I176+I179+I182+I185+M176+M179+M182+M185+Q176+Q179+Q182+Q185","v":0},{"$f":"SUM(B174,B177,B180,B183)","v":0},{"$f":"SUM(C174,C177,C180,C183)","v":0},{"$f":"SUM(D174,D177,D180,D183)","v":0},{"$f":"SUM(E174,E177,E180,E183)","v":0},{"$f":"SUM(F174,F177,F180,F183)","v":0},{"$f":"SUM(G174,G177,G180,G183)","v":0},{"$f":"SUM(H174,H177,H180,H183)","v":0},{"$f":"SUM(I174,I177,I180,I183)","v":0},{"$f":"SUM(J174,J177,J180,J183)","v":0},{"$f":"SUM(K174,K177,K180,K183)","v":0},{"$f":"SUM(L174,L177,L180,L183)","v":0},{"$f":"SUM(M174,M177,M180,M183)","v":0},{"$f":"SUM(N174,N177,N180,N183)","v":0},{"$f":"SUM(O174,O177,O180,O183)","v":0},{"$f":"SUM(P174,P177,P180,P183)","v":0},{"$f":"SUM(Q174,Q177,Q180,Q183)","v":0},{"$f":"SUM(B175:D175)+SUM(B178:D178)+SUM(B181:D181)+SUM(B184:D184)+SUM(F175:H175)+SUM(F178:H178)+SUM(F181:H181)+SUM(F184:H184)+SUM(J175:L175)+SUM(J178:L178)+SUM(J181:L181)+SUM(J184:L184)+SUM(N175:P175)+SUM(N178:P178)+SUM(N181:P181)+SUM(N184:P184)","v":0},{"$f":"SUM(B175,B178,B181,B184)","v":0},{"$f":"SUM(C175,C178,C181,C184)","v":0},{"$f":"SUM(D175,D178,D181,D184)","v":0},{"$f":"SUM(E175,E178,E181,E184)","v":0},{"$f":"SUM(F175,F178,F181,F184)","v":0},{"$f":"SUM(G175,G178,G181,G184)","v":0},{"$f":"SUM(H175,H178,H181,H184)","v":0},{"$f":"SUM(I175,I178,I181,I184)","v":0},{"$f":"SUM(J175,J178,J181,J184)","v":0},{"$f":"SUM(K175,K178,K181,K184)","v":0},{"$f":"SUM(L175,L178,L181,L184)","v":0},{"$f":"SUM(M175,M178,M181,M184)","v":0},{"$f":"SUM(N175,N178,N181,N184)","v":0},{"$f":"SUM(O175,O178,O181,O184)","v":0},{"$f":"SUM(P175,P178,P181,P184)","v":0},{"$f":"SUM(Q175,Q178,Q181,Q184)","v":0},{"$f":"SUM(B176:D176)+SUM(B179:D179)+SUM(B182:D182)+SUM(B185:D185)+SUM(F176:H176)+SUM(F179:H179)+SUM(F182:H182)+SUM(F185:H185)+SUM(J176:L176)+SUM(J179:L179)+SUM(J182:L182)+SUM(J185:L185)+SUM(N176:P176)+SUM(N179:P179)+SUM(N182:P182)+SUM(N185:P185)","v":0},{"$f":"SUM(B176,B179,B182,B185)","v":0},{"$f":"SUM(C176,C179,C182,C185)","v":0},{"$f":"SUM(D176,D179,D182,D185)","v":0},{"$f":"SUM(E176,E179,E182,E185)","v":0},{"$f":"SUM(F176,F179,F182,F185)","v":0},{"$f":"SUM(G176,G179,G182,G185)","v":0},{"$f":"SUM(H176,H179,H182,H185)","v":0},{"$f":"SUM(I176,I179,I182,I185)","v":0},{"$f":"SUM(J176,J179,J182,J185)","v":0},{"$f":"SUM(K176,K179,K182,K185)","v":0},{"$f":"SUM(L176,L179,L182,L185)","v":0},{"$f":"SUM(M176,M179,M182,M185)","v":0},{"$f":"SUM(N176,N179,N182,N185)","v":0},{"$f":"SUM(O176,O179,O182,O185)","v":0},{"$f":"SUM(P176,P179,P182,P185)","v":0},{"$f":"SUM(Q176,Q179,Q182,Q185)","v":0}]
["21:00:02.477",{"$f":"ROUND('Import Tab'!E175*'Base Information'!$V$22,0)","v":0},{"$f":"ROUND('Import Tab'!D175*'Base Information'!$V$22,0)","v":0},{"$f":"ROUND('Import Tab'!C175*'Base Information'!$V$22,0)","v":0},{"$f":"ROUND('Import Tab'!F175,0)","v":0},{"$f":"ROUND('Import Tab'!I175*'Base Information'!$V$22,0)","v":0},{"$f":"ROUND('Import Tab'!H175*'Base Information'!$V$22,0)","v":0},{"$f":"ROUND('Import Tab'!G175*'Base Information'!$V$22,0)","v":0},{"$f":"ROUND('Import Tab'!J175,0)","v":0},{"$f":"ROUND('Import Tab'!M175*'Base Information'!$V$22,0)","v":0},{"$f":"ROUND('Import Tab'!L175*'Base Information'!$V$22,0)","v":0},{"$f":"ROUND('Import Tab'!K175*'Base Information'!$V$22,0)","v":0},{"$f":"ROUND('Import Tab'!N175,0)","v":0},{"$f":"ROUND('Import Tab'!Q175*'Base Information'!$V$22,0)","v":0},{"$f":"ROUND('Import Tab'!P175*'Base Information'!$V$22,0)","v":0},{"$f":"ROUND('Import Tab'!O175*'Base Information'!$V$22,0)","v":0},{"$f":"ROUND('Import Tab'!R175,0)","v":0}]
["21:00:02.477",{"$f":"ROUND('Import Tab'!E176*'Base Information'!$V$22,0)","v":0},{"$f":"ROUND('Import Tab'!D176*'Base Information'!$V$22,0)","v":0},{"$f":"ROUND('Import Tab'!C176*'Base Information'!$V$22,0)","v":0},{"$f":"ROUND('Import Tab'!F176,0)","v":0},{"$f":"ROUND('Import Tab'!I176*'Base Information'!$V$22,0)","v":0},{"$f":"ROUND('Import Tab'!H176*'Base Information'!$V$22,0)","v":0},{"$f":"ROUND('Import Tab'!G176*'Base Information'!$V$22,0)","v":0},{"$f":"ROUND('Import Tab'!J176,0)","v":0},{"$f":"ROUND('Import Tab'!M176*'Base Information'!$V$22,0)","v":0},{"$f":"ROUND('Import Tab'!L176*'Base Information'!$V$22,0)","v":0},{"$f":"ROUND('Import Tab'!K176*'Base Information'!$V$22,0)","v":0},{"$f":"ROUND('Import Tab'!N176,0)","v":0},{"$f":"ROUND('Import Tab'!Q176*'Base Information'!$V$22,0)","v":0},{"$f":"ROUND('Import Tab'!P176*'Base Information'!$V$22,0)","v":0},{"$f":"ROUND('Import Tab'!O176*'Base Information'!$V$22,0)","v":0},{"$f":"ROUND('Import Tab'!R176,0)","v":0}]
["21:15:02.506",{"$f":"ROUND('Import Tab'!E177*'Base Information'!$V$22,0)","v":0},{"$f":"ROUND('Import Tab'!D177*'Base Information'!$V$22,0)","v":0},{"$f":"ROUND('Import Tab'!C177*'Base Information'!$V$22,0)","v":0},{"$f":"ROUND('Import Tab'!F177,0)","v":0},{"$f":"ROUND('Import Tab'!I177*'Base Information'!$V$22,0)","v":0},{"$f":"ROUND('Import Tab'!H177*'Base Information'!$V$22,0)","v":0},{"$f":"ROUND('Import Tab'!G177*'Base Information'!$V$22,0)","v":0},{"$f":"ROUND('Import Tab'!J177,0)","v":0},{"$f":"ROUND('Import Tab'!M177*'Base Information'!$V$22,0)","v":0},{"$f":"ROUND('Import Tab'!L177*'Base Information'!$V$22,0)","v":0},{"$f":"ROUND('Import Tab'!K177*'Base Information'!$V$22,0)","v":0},{"$f":"ROUND('Import Tab'!N177,0)","v":0},{"$f":"ROUND('Import Tab'!Q177*'Base Information'!$V$22,0)","v":0},{"$f":"ROUND('Import Tab'!P177*'Base Information'!$V$22,0)","v":0},{"$f":"ROUND('Import Tab'!O177*'Base Information'!$V$22,0)","v":0},{"$f":"ROUND('Import Tab'!R177,0)","v":0},{"$f":"SUM(B177:D179)+SUM(F177:H179)+SUM(J177:L179)+SUM(N177:P179)+E179+I179+M179+Q179","v":0},{"$f":"B177+B178+B179","v":0},0,0,{"$f":"E177","v":0},{"$f":"E178","v":0},{"$f":"E179","v":0},{"$f":"F177+F178+F179","v":0},{"$f":"G177+G178+G179","v":0},{"$f":"H177+H178+H179","v":0},{"$f":"I177","v":0},{"$f":"I178","v":0},{"$f":"I179","v":0},{"$f":"J177+J178+J179","v":0},{"$f":"K177+K178+K179","v":0},{"$f":"L177+L178+L179","v":0},{"$f":"M177","v":0},{"$f":"M178","v":0},{"$f":"M179","v":0},{"$f":"N177+N178+N179","v":0},{"$f":"O177+O178+O179","v":0},{"$f":"P177+P178+P179","v":0},{"$f":"Q177","v":0},{"$f":"Q178","v":0},{"$f":"Q179","v":0},{"$f":"SUM(B177:D177)+SUM(F177:H177)+SUM(J177:L177)+SUM(N177:P177)+E179+I179+M179+Q179","v":0},{"$f":"B177","v":0},{"$f":"C177","v":0},{"$f":"D177","v":0},{"$f":"E177","v":0},{"$f":"F177","v":0},{"$f":"G177","v":0},{"$f":"H177","v":0},{"$f":"I177","v":0},{"$f":"J177","v":0},{"$f":"K177","v":0},{"$f":"L177","v":0},{"$f":"M177","v":0},{"$f":"N177","v":0},{"$f":"O177","v":0},{"$f":"P177","v":0},{"$f":"Q177","v":0},{"$f":"SUM(B178:D178)+SUM(F178:H178)+SUM(J178:L178)+SUM(N178:P178)","v":0},{"$f":"B178","v":0},{"$f":"C178","v":0},{"$f":"D178","v":0},{"$f":"E178","v":0},{"$f":"F178","v":0},{"$f":"G178","v":0},{"$f":"H178","v":0},{"$f":"I178","v":0},{"$f":"J178","v":0},{"$f":"K178","v":0},{"$f":"L178","v":0},{"$f":"M178","v":0},{"$f":"N178","v":0},{"$f":"O178","v":0},{"$f":"P178","v":0},{"$f":"Q178","v":0},{"$f":"SUM(B179:D179)+SUM(F179:H179)+SUM(J179:L179)+SUM(N179:P179)","v":0},{"$f":"B179","v":0},{"$f":"C179","v":0},{"$f":"D179","v":0},{"$f":"E179","v":0},{"$f":"F179","v":0},{"$f":"G179","v":0},{"$f":"H179","v":0},{"$f":"I179","v":0},{"$f":"J179","v":0},{"$f":"K179","v":0},{"$f":"L179","v":0},{"$f":"M179","v":0},{"$f":"N179","v":0},{"$f":"O179","v":0},{"$f":"P179","v":0},{"$f":"Q179","v":0},{"$f":"SUM(B177:D188,E179,E182,E185,E188,F177:H188,I179,I182,I185,I188,J177:L188,M179,M182,M185,M188,N177:P188,Q179,Q182,Q185,Q188)","v":0},{"$f":"SUM(B177:B188)","v":0},{"$f":"SUM(C177:C188)","v":0},{"$f":"SUM(D177:D188)","v":0},{"$f":"SUM(E177+E180+E183+E186)","v":0},{"$f":"SUM(E178+E181+E184+E187)","v":0},{"$f":"SUM(E179+E182+E185+E188)","v":0},{"$f":"SUM(F177:F188)","v":0},{"$f":"SUM(G177:G188)","v":0},{"$f":"SUM(H177:H188)","v":0},{"$f":"SUM(I177+I180+I183+I186)","v":0},{"$f":"SUM(I178+I181+I184+I187)","v":0},{"$f":"SUM(I179+I182+I185+I188)","v":0},{"$f":"SUM(J177:J188)","v":0},{"$f":"SUM(K177:K188)","v":0},{"$f":"SUM(L177:L188)","v":0},{"$f":"SUM(M177+M180+M183+M186)","v":0},{"$f":"SUM(M178+M181+M184+M187)","v":0},{"$f":"SUM(M179+M182+M185+M188)","v":0},{"$f":"SUM(N177:N188)","v":0},{"$f":"SUM(O177:O188)","v":0},{"$f":"SUM(P177:P188)","v":0},{"$f":"SUM(Q177+Q180+Q183+Q186)","v":0},{"$f":"SUM(Q178+Q181+Q184+Q187)","v":0},{"$f":"SUM(Q179+Q182+Q185+Q188)","v":0},{"$f":"SUM(B177:D177)+SUM(B180:D180)+SUM(B183:D183)+SUM(B186:D186)+SUM(F177:H177)+SUM(F180:H180)+SUM(F183:H183)+SUM(F186:H186)+SUM(J177:L177)+SUM(J180:L180)+SUM(J183:L183)+SUM(J186:L186)+SUM(N177:P177)+SUM(N180:P180)+SUM(N183:P183)+SUM(N186:P186)+E179+E182+E185+E188+I179+I182+I185+I188+M179+M182+M185+M188+Q179+Q182+Q185+Q188","v":0},{"$f":"SUM(B177,B180,B183,B186)","v":0},{"$f":"SUM(C177,C180,C183,C186)","v":0},{"$f":"SUM(D177,D180,D183,D186)","v":0},{"$f":"SUM(E177,E180,E183,E186)","v":0},{"$f":"SUM(F177,F180,F183,F186)","v":0},{"$f":"SUM(G177,G180,G183,G186)","v":0},{"$f":"SUM(H177,H180,H183,H186)","v":0},{"$f":"SUM(I177,I180,I183,I186)","v":0},{"$f":"SUM(J177,J180,J183,J186)","v":0},{"$f":"SUM(K177,K180,K183,K186)","v":0},{"$f":"SUM(L177,L180,L183,L186)","v":0},{"$f":"SUM(M177,M180,M183,M186)","v":0},{"$f":"SUM(N177,N180,N183,N186)","v":0},{"$f":"SUM(O177,O180,O183,O186)","v":0},{"$f":"SUM(P177,P180,P183,P186)","v":0},{"$f":"SUM(Q177,Q180,Q183,Q186)","v":0},{"$f":"SUM(B178:D178)+SUM(B181:D181)+SUM(B184:D184)+SUM(B187:D187)+SUM(F178:H178)+SUM(F181:H181)+SUM(F184:H184)+SUM(F187:H187)+SUM(J178:L178)+SUM(J181:L181)+SUM(J184:L184)+SUM(J187:L187)+SUM(N178:P178)+SUM(N181:P181)+SUM(N184:P184)+SUM(N187:P187)","v":0},{"$f":"SUM(B178,B181,B184,B187)","v":0},{"$f":"SUM(C178,C181,C184,C187)","v":0},{"$f":"SUM(D178,D181,D184,D187)","v":0},{"$f":"SUM(E178,E181,E184,E187)","v":0},{"$f":"SUM(F178,F181,F184,F187)","v":0},{"$f":"SUM(G178,G181,G184,G187)","v":0},{"$f":"SUM(H178,H181,H184,H187)","v":0},{"$f":"SUM(I178,I181,I184,I187)","v":0},{"$f":"SUM(J178,J181,J184,J187)","v":0},{"$f":"SUM(K178,K181,K184,K187)","v":0},{"$f":"SUM(L178,L181,L184,L187)","v":0},{"$f":"SUM(M178,M181,M184,M187)","v":0},{"$f":"SUM(N178,N181,N184,N187)","v":0},{"$f":"SUM(O178,O181,O184,O187)","v":0},{"$f":"SUM(P178,P181,P184,P187)","v":0},{"$f":"SUM(Q178,Q181,Q184,Q187)","v":0},{"$f":"SUM(B179:D179)+SUM(B182:D182)+SUM(B185:D185)+SUM(B188:D188)+SUM(F179:H179)+SUM(F182:H182)+SUM(F185:H185)+SUM(F188:H188)+SUM(J179:L179)+SUM(J182:L182)+SUM(J185:L185)+SUM(J188:L188)+SUM(N179:P179)+SUM(N182:P182)+SUM(N185:P185)+SUM(N188:P188)","v":0},{"$f":"SUM(B179,B182,B185,B188)","v":0},{"$f":"SUM(C179,C182,C185,C188)","v":0},{"$f":"SUM(D179,D182,D185,D188)","v":0},{"$f":"SUM(E179,E182,E185,E188)","v":0},{"$f":"SUM(F179,F182,F185,F188)","v":0},{"$f":"SUM(G179,G182,G185,G188)","v":0},{"$f":"SUM(H179,H182,H185,H188)","v":0},{"$f":"SUM(I179,I182,I185,I188)","v":0},{"$f":"SUM(J179,J182,J185,J188)","v":0},{"$f":"SUM(K179,K182,K185,K188)","v":0},{"$f":"SUM(L179,L182,L185,L188)","v":0},{"$f":"SUM(M179,M182,M185,M188)","v":0},{"$f":"SUM(N179,N182,N185,N188)","v":0},{"$f":"SUM(O179,O182,O185,O188)","v":0},{"$f":"SUM(P179,P182,P185,P188)","v":0},{"$f":"SUM(Q179,Q182,Q185,Q188)","v":0}]
["21:15:02.506",{"$f":"ROUND('Import Tab'!E178*'Base Information'!$V$22,0)","v":0},{"$f":"ROUND('Import Tab'!D178*'Base Information'!$V$22,0)","v":0},{"$f":"ROUND('Import Tab'!C178*'Base Information'!$V$22,0)","v":0},{"$f":"ROUND('Import Tab'!F178,0)","v":0},{"$f":"ROUND('Import Tab'!I178*'Base Information'!$V$22,0)","v":0},{"$f":"ROUND('Import Tab'!H178*'Base Information'!$V$22,0)","v":0},{"$f":"ROUND('Import Tab'!G178*'Base Information'!$V$22,0)","v":0},{"$f":"ROUND('Import Tab'!J178,0)","v":0},{"$f":"ROUND('Import Tab'!M178*'Base Information'!$V$22,0)","v":0},{"$f":"ROUND('Import Tab'!L178*'Base Information'!$V$22,0)","v":0},{"$f":"ROUND('Import Tab'!K178*'Base Information'!$V$22,0)","v":0},{"$f":"ROUND('Import Tab'!N178,0)","v":0},{"$f":"ROUND('Import Tab'!Q178*'Base Information'!$V$22,0)","v":0},{"$f":"ROUND('Import Tab'!P178*'Base Information'!$V$22,0)","v":0},{"$f":"ROUND('Import Tab'!O178*'Base Information'!$V$22,0)","v":0},{"$f":"ROUND('Import Tab'!R178,0)","v":0}]
["21:15:02.506",{"$f":"ROUND('Import Tab'!E179*'Base Information'!$V$22,0)","v":0},{"$f":"ROUND('Import Tab'!D179*'Base Information'!$V$22,0)","v":0},{"$f":"ROUND('Import Tab'!C179*'Base Information'!$V$22,0)","v":0},{"$f":"ROUND('Import Tab'!F179,0)","v":0},{"$f":"ROUND('Import Tab'!I179*'Base Information'!$V$22,0)","v":0},{"$f":"ROUND('Import Tab'!H179*'Base Information'!$V$22,0)","v":0},{"$f":"ROUND('Import Tab'!G179*'Base Information'!$V$22,0)","v":0},{"$f":"ROUND('Import Tab'!J179,0)","v":0},{"$f":"ROUND('Import Tab'!M179*'Base Information'!$V$22,0)","v":0},{"$f":"ROUND('Import Tab'!L179*'Base Information'!$V$22,0)","v":0},{"$f":"ROUND('Import Tab'!K179*'Base Information'!$V$22,0)","v":0},{"$f":"ROUND('Import Tab'!N179,0)","v":0},{"$f":"ROUND('Import Tab'!Q179*'Base Information'!$V$22,0)","v":0},{"$f":"ROUND('Import Tab'!P179*'Base Information'!$V$22,0)","v":0},{"$f":"ROUND('Import Tab'!O179*'Base Information'!$V$22,0)","v":0},{"$f":"ROUND('Import Tab'!R179,0)","v":0}]
["21:30:02.534",{"$f":"ROUND('Import Tab'!E180*'Base Information'!$V$22,0)","v":0},{"$f":"ROUND('Import Tab'!D180*'Base Information'!$V$22,0)","v":0},{"$f":"ROUND('Import Tab'!C180*'Base Information'!$V$22,0)","v":0},{"$f":"ROUND('Import Tab'!F180,0)","v":0},{"$f":"ROUND('Import Tab'!I180*'Base Information'!$V$22,0)","v":0},{"$f":"ROUND('Import Tab'!H180*'Base Information'!$V$22,0)","v":0},{"$f":"ROUND('Import Tab'!G180*'Base Information'!$V$22,0)","v":0},{"$f":"ROUND('Import Tab'!J180,0)","v":0},{"$f":"ROUND('Import Tab'!M180*'Base Information'!$V$22,0)","v":0},{"$f":"ROUND('Import Tab'!L180*'Base Information'!$V$22,0)","v":0},{"$f":"ROUND('Import Tab'!K180*'Base Information'!$V$22,0)","v":0},{"$f":"ROUND('Import Tab'!N180,0)","v":0},{"$f":"ROUND('Import Tab'!Q180*'Base Information'!$V$22,0)","v":0},{"$f":"ROUND('Import Tab'!P180*'Base Information'!$V$22,0)","v":0},{"$f":"ROUND('Import Tab'!O180*'Base Information'!$V$22,0)","v":0},{"$f":"ROUND('Import Tab'!R180,0)","v":0},{"$f":"SUM(B180:D182)+SUM(F180:H182)+SUM(J180:L182)+SUM(N180:P182)+E182+I182+M182+Q182","v":0},{"$f":"B180+B181+B182","v":0},0,0,{"$f":"E180","v":0},{"$f":"E181","v":0},{"$f":"E182","v":0},{"$f":"F180+F181+F182","v":0},{"$f":"G180+G181+G182","v":0},{"$f":"H180+H181+H182","v":0},{"$f":"I180","v":0},{"$f":"I181","v":0},{"$f":"I182","v":0},{"$f":"J180+J181+J182","v":0},{"$f":"K180+K181+K182","v":0},{"$f":"L180+L181+L182","v":0},{"$f":"M180","v":0},{"$f":"M181","v":0},{"$f":"M182","v":0},{"$f":"N180+N181+N182","v":0},{"$f":"O180+O181+O182","v":0},{"$f":"P180+P181+P182","v":0},{"$f":"Q180","v":0},{"$f":"Q181","v":0},{"$f":"Q182","v":0},{"$f":"SUM(B180:D180)+SUM(F180:H180)+SUM(J180:L180)+SUM(N180:P180)+E182+I182+M182+Q182","v":0},{"$f":"B180","v":0},{"$f":"C180","v":0},{"$f":"D180","v":0},{"$f":"E180","v":0},{"$f":"F180","v":0},{"$f":"G180","v":0},{"$f":"H180","v":0},{"$f":"I180","v":0},{"$f":"J180","v":0},{"$f":"K180","v":0},{"$f":"L180","v":0},{"$f":"M180","v":0},{"$f":"N180","v":0},{"$f":"O180","v":0},{"$f":"P180","v":0},{"$f":"Q180","v":0},{"$f":"SUM(B181:D181)+SUM(F181:H181)+SUM(J181:L181)+SUM(N181:P181)","v":0},{"$f":"B181","v":0},{"$f":"C181","v":0},{"$f":"D181","v":0},{"$f":"E181","v":0},{"$f":"F181","v":0},{"$f":"G181","v":0},{"$f":"H181","v":0},{"$f":"I181","v":0},{"$f":"J181","v":0},{"$f":"K181","v":0},{"$f":"L181","v":0},{"$f":"M181","v":0},{"$f":"N181","v":0},{"$f":"O181","v":0},{"$f":"P181","v":0},{"$f":"Q181","v":0},{"$f":"SUM(B182:D182)+SUM(F182:H182)+SUM(J182:L182)+SUM(N182:P182)","v":0},{"$f":"B182","v":0},{"$f":"C182","v":0},{"$f":"D182","v":0},{"$f":"E182","v":0},{"$f":"F182","v":0},{"$f":"G182","v":0},{"$f":"H182","v":0},{"$f":"I182","v":0},{"$f":"J182","v":0},{"$f":"K182","v":0},{"$f":"L182","v":0},{"$f":"M182","v":0},{"$f":"N182","v":0},{"$f":"O182","v":0},{"$f":"P182","v":0},{"$f":"Q182","v":0},{"$f":"SUM(B180:D191,E182,E185,E188,E191,F180:H191,I182,I185,I188,I191,J180:L191,M182,M185,M188,M191,N180:P191,Q182,Q185,Q188,Q191)","v":0},{"$f":"SUM(B180:B191)","v":0},{"$f":"SUM(C180:C191)","v":0},{"$f":"SUM(D180:D191)","v":0},{"$f":"SUM(E180+E183+E186+E189)","v":0},{"$f":"SUM(E181+E184+E187+E190)","v":0},{"$f":"SUM(E182+E185+E188+E191)","v":0},{"$f":"SUM(F180:F191)","v":0},{"$f":"SUM(G180:G191)","v":0},{"$f":"SUM(H180:H191)","v":0},{"$f":"SUM(I180+I183+I186+I189)","v":0},{"$f":"SUM(I181+I184+I187+I190)","v":0},{"$f":"SUM(I182+I185+I188+I191)","v":0},{"$f":"SUM(J180:J191)","v":0},{"$f":"SUM(K180:K191)","v":0},{"$f":"SUM(L180:L191)","v":0},{"$f":"SUM(M180+M183+M186+M189)","v":0},{"$f":"SUM(M181+M184+M187+M190)","v":0},{"$f":"SUM(M182+M185+M188+M191)","v":0},{"$f":"SUM(N180:N191)","v":0},{"$f":"SUM(O180:O191)","v":0},{"$f":"SUM(P180:P191)","v":0},{"$f":"SUM(Q180+Q183+Q186+Q189)","v":0},{"$f":"SUM(Q181+Q184+Q187+Q190)","v":0},{"$f":"SUM(Q182+Q185+Q188+Q191)","v":0},{"$f":"SUM(B180:D180)+SUM(B183:D183)+SUM(B186:D186)+SUM(B189:D189)+SUM(F180:H180)+SUM(F183:H183)+SUM(F186:H186)+SUM(F189:H189)+SUM(J180:L180)+SUM(J183:L183)+SUM(J186:L186)+SUM(J189:L189)+SUM(N180:P180)+SUM(N183:P183)+SUM(N186:P186)+SUM(N189:P189)+E182+E185+E188+E191+I182+I185+I188+I191+M182+M185+M188+M191+Q182+Q185+Q188+Q191","v":0},{"$f":"SUM(B180,B183,B186,B189)","v":0},{"$f":"SUM(C180,C183,C186,C189)","v":0},{"$f":"SUM(D180,D183,D186,D189)","v":0},{"$f":"SUM(E180,E183,E186,E189)","v":0},{"$f":"SUM(F180,F183,F186,F189)","v":0},{"$f":"SUM(G180,G183,G186,G189)","v":0},{"$f":"SUM(H180,H183,H186,H189)","v":0},{"$f":"SUM(I180,I183,I186,I189)","v":0},{"$f":"SUM(J180,J183,J186,J189)","v":0},{"$f":"SUM(K180,K183,K186,K189)","v":0},{"$f":"SUM(L180,L183,L186,L189)","v":0},{"$f":"SUM(M180,M183,M186,M189)","v":0},{"$f":"SUM(N180,N183,N186,N189)","v":0},{"$f":"SUM(O180,O183,O186,O189)","v":0},{"$f":"SUM(P180,P183,P186,P189)","v":0},{"$f":"SUM(Q180,Q183,Q186,Q189)","v":0},{"$f":"SUM(B181:D181)+SUM(B184:D184)+SUM(B187:D187)+SUM(B190:D190)+SUM(F181:H181)+SUM(F184:H184)+SUM(F187:H187)+SUM(F190:H190)+SUM(J181:L181)+SUM(J184:L184)+SUM(J187:L187)+SUM(J190:L190)+SUM(N181:P181)+SUM(N184:P184)+SUM(N187:P187)+SUM(N190:P190)","v":0},{"$f":"SUM(B181,B184,B187,B190)","v":0},{"$f":"SUM(C181,C184,C187,C190)","v":0},{"$f":"SUM(D181,D184,D187,D190)","v":0},{"$f":"SUM(E181,E184,E187,E190)","v":0},{"$f":"SUM(F181,F184,F187,F190)","v":0},{"$f":"SUM(G181,G184,G187,G190)","v":0},{"$f":"SUM(H181,H184,H187,H190)","v":0},{"$f":"SUM(I181,I184,I187,I190)","v":0},{"$f":"SUM(J181,J184,J187,J190)","v":0},{"$f":"SUM(K181,K184,K187,K190)","v":0},{"$f":"SUM(L181,L184,L187,L190)","v":0},{"$f":"SUM(M181,M184,M187,M190)","v":0},{"$f":"SUM(N181,N184,N187,N190)","v":0},{"$f":"SUM(O181,O184,O187,O190)","v":0},{"$f":"SUM(P181,P184,P187,P190)","v":0},{"$f":"SUM(Q181,Q184,Q187,Q190)","v":0},{"$f":"SUM(B182:D182)+SUM(B185:D185)+SUM(B188:D188)+SUM(B191:D191)+SUM(F182:H182)+SUM(F185:H185)+SUM(F188:H188)+SUM(F191:H191)+SUM(J182:L182)+SUM(J185:L185)+SUM(J188:L188)+SUM(J191:L191)+SUM(N182:P182)+SUM(N185:P185)+SUM(N188:P188)+SUM(N191:P191)","v":0},{"$f":"SUM(B182,B185,B188,B191)","v":0},{"$f":"SUM(C182,C185,C188,C191)","v":0},{"$f":"SUM(D182,D185,D188,D191)","v":0},{"$f":"SUM(E182,E185,E188,E191)","v":0},{"$f":"SUM(F182,F185,F188,F191)","v":0},{"$f":"SUM(G182,G185,G188,G191)","v":0},{"$f":"SUM(H182,H185,H188,H191)","v":0},{"$f":"SUM(I182,I185,I188,I191)","v":0},{"$f":"SUM(J182,J185,J188,J191)","v":0},{"$f":"SUM(K182,K185,K188,K191)","v":0},{"$f":"SUM(L182,L185,L188,L191)","v":0},{"$f":"SUM(M182,M185,M188,M191)","v":0},{"$f":"SUM(N182,N185,N188,N191)","v":0},{"$f":"SUM(O182,O185,O188,O191)","v":0},{"$f":"SUM(P182,P185,P188,P191)","v":0},{"$f":"SUM(Q182,Q185,Q188,Q191)","v":0}]
["21:30:02.534",{"$f":"ROUND('Import Tab'!E181*'Base Information'!$V$22,0)","v":0},{"$f":"ROUND('Import Tab'!D181*'Base Information'!$V$22,0)","v":0},{"$f":"ROUND('Import Tab'!C181*'Base Information'!$V$22,0)","v":0},{"$f":"ROUND('Import Tab'!F181,0)","v":0},{"$f":"ROUND('Import Tab'!I181*'Base Information'!$V$22,0)","v":0},{"$f":"ROUND('Import Tab'!H181*'Base Information'!$V$22,0)","v":0},{"$f":"ROUND('Import Tab'!G181*'Base Information'!$V$22,0)","v":0},{"$f":"ROUND('Import Tab'!J181,0)","v":0},{"$f":"ROUND('Import Tab'!M181*'Base Information'!$V$22,0)","v":0},{"$f":"ROUND('Import Tab'!L181*'Base Information'!$V$22,0)","v":0},{"$f":"ROUND('Import Tab'!K181*'Base Information'!$V$22,0)","v":0},{"$f":"ROUND('Import Tab'!N181,0)","v":0},{"$f":"ROUND('Import Tab'!Q181*'Base Information'!$V$22,0)","v":0},{"$f":"ROUND('Import Tab'!P181*'Base Information'!$V$22,0)","v":0},{"$f":"ROUND('Import Tab'!O181*'Base Information'!$V$22,0)","v":0},{"$f":"ROUND('Import Tab'!R181,0)","v":0}]
["21:30:02.534",{"$f":"ROUND('Import Tab'!E182*'Base Information'!$V$22,0)","v":0},{"$f":"ROUND('Import Tab'!D182*'Base Information'!$V$22,0)","v":0},{"$f":"ROUND('Import Tab'!C182*'Base Information'!$V$22,0)","v":0},{"$f":"ROUND('Import Tab'!F182,0)","v":0},{"$f":"ROUND('Import Tab'!I182*'Base Information'!$V$22,0)","v":0},{"$f":"ROUND('Import Tab'!H182*'Base Information'!$V$22,0)","v":0},{"$f":"ROUND('Import Tab'!G182*'Base Information'!$V$22,0)","v":0},{"$f":"ROUND('Import Tab'!J182,0)","v":0},{"$f":"ROUND('Import Tab'!M182*'Base Information'!$V$22,0)","v":0},{"$f":"ROUND('Import Tab'!L182*'Base Information'!$V$22,0)","v":0},{"$f":"ROUND('Import Tab'!K182*'Base Information'!$V$22,0)","v":0},{"$f":"ROUND('Import Tab'!N182,0)","v":0},{"$f":"ROUND('Import Tab'!Q182*'Base Information'!$V$22,0)","v":0},{"$f":"ROUND('Import Tab'!P182*'Base Information'!$V$22,0)","v":0},{"$f":"ROUND('Import Tab'!O182*'Base Information'!$V$22,0)","v":0},{"$f":"ROUND('Import Tab'!R182,0)","v":0}]
["21:45:02.563",{"$f":"ROUND('Import Tab'!E183*'Base Information'!$V$22,0)","v":0},{"$f":"ROUND('Import Tab'!D183*'Base Information'!$V$22,0)","v":0},{"$f":"ROUND('Import Tab'!C183*'Base Information'!$V$22,0)","v":0},{"$f":"ROUND('Import Tab'!F183,0)","v":0},{"$f":"ROUND('Import Tab'!I183*'Base Information'!$V$22,0)","v":0},{"$f":"ROUND('Import Tab'!H183*'Base Information'!$V$22,0)","v":0},{"$f":"ROUND('Import Tab'!G183*'Base Information'!$V$22,0)","v":0},{"$f":"ROUND('Import Tab'!J183,0)","v":0},{"$f":"ROUND('Import Tab'!M183*'Base Information'!$V$22,0)","v":0},{"$f":"ROUND('Import Tab'!L183*'Base Information'!$V$22,0)","v":0},{"$f":"ROUND('Import Tab'!K183*'Base Information'!$V$22,0)","v":0},{"$f":"ROUND('Import Tab'!N183,0)","v":0},{"$f":"ROUND('Import Tab'!Q183*'Base Information'!$V$22,0)","v":0},{"$f":"ROUND('Import Tab'!P183*'Base Information'!$V$22,0)","v":0},{"$f":"ROUND('Import Tab'!O183*'Base Information'!$V$22,0)","v":0},{"$f":"ROUND('Import Tab'!R183,0)","v":0},{"$f":"SUM(B183:D185)+SUM(F183:H185)+SUM(J183:L185)+SUM(N183:P185)+E185+I185+M185+Q185","v":0},{"$f":"B183+B184+B185","v":0},0,0,{"$f":"E183","v":0},{"$f":"E184","v":0},{"$f":"E185","v":0},{"$f":"F183+F184+F185","v":0},{"$f":"G183+G184+G185","v":0},{"$f":"H183+H184+H185","v":0},{"$f":"I183","v":0},{"$f":"I184","v":0},{"$f":"I185","v":0},{"$f":"J183+J184+J185","v":0},{"$f":"K183+K184+K185","v":0},{"$f":"L183+L184+L185","v":0},{"$f":"M183","v":0},{"$f":"M184","v":0},{"$f":"M185","v":0},{"$f":"N183+N184+N185","v":0},{"$f":"O183+O184+O185","v":0},{"$f":"P183+P184+P185","v":0},{"$f":"Q183","v":0},{"$f":"Q184","v":0},{"$f":"Q185","v":0},{"$f":"SUM(B183:D183)+SUM(F183:H183)+SUM(J183:L183)+SUM(N183:P183)+E185+I185+M185+Q185","v":0},{"$f":"B183","v":0},{"$f":"C183","v":0},{"$f":"D183","v":0},{"$f":"E183","v":0},{"$f":"F183","v":0},{"$f":"G183","v":0},{"$f":"H183","v":0},{"$f":"I183","v":0},{"$f":"J183","v":0},{"$f":"K183","v":0},{"$f":"L183","v":0},{"$f":"M183","v":0},{"$f":"N183","v":0},{"$f":"O183","v":0},{"$f":"P183","v":0},{"$f":"Q183","v":0},{"$f":"SUM(B184:D184)+SUM(F184:H184)+SUM(J184:L184)+SUM(N184:P184)","v":0},{"$f":"B184","v":0},{"$f":"C184","v":0},{"$f":"D184","v":0},{"$f":"E184","v":0},{"$f":"F184","v":0},{"$f":"G184","v":0},{"$f":"H184","v":0},{"$f":"I184","v":0},{"$f":"J184","v":0},{"$f":"K184","v":0},{"$f":"L184","v":0},{"$f":"M184","v":0},{"$f":"N184","v":0},{"$f":"O184","v":0},{"$f":"P184","v":0},{"$f":"Q184","v":0},{"$f":"SUM(B185:D185)+SUM(F185:H185)+SUM(J185:L185)+SUM(N185:P185)","v":0},{"$f":"B185","v":0},{"$f":"C185","v":0},{"$f":"D185","v":0},{"$f":"E185","v":0},{"$f":"F185","v":0},{"$f":"G185","v":0},{"$f":"H185","v":0},{"$f":"I185","v":0},{"$f":"J185","v":0},{"$f":"K185","v":0},{"$f":"L185","v":0},{"$f":"M185","v":0},{"$f":"N185","v":0},{"$f":"O185","v":0},{"$f":"P185","v":0},{"$f":"Q185","v":0},{"$f":"SUM(B183:D194,E185,E188,E191,E194,F183:H194,I185,I188,I191,I194,J183:L194,M185,M188,M191,M194,N183:P194,Q185,Q188,Q191,Q194)","v":0},{"$f":"SUM(B183:B194)","v":0},{"$f":"SUM(C183:C194)","v":0},{"$f":"SUM(D183:D194)","v":0},{"$f":"SUM(E183+E186+E189+E192)","v":0},{"$f":"SUM(E184+E187+E190+E193)","v":0},{"$f":"SUM(E185+E188+E191+E194)","v":0},{"$f":"SUM(F183:F194)","v":0},{"$f":"SUM(G183:G194)","v":0},{"$f":"SUM(H183:H194)","v":0},{"$f":"SUM(I183+I186+I189+I192)","v":0},{"$f":"SUM(I184+I187+I190+I193)","v":0},{"$f":"SUM(I185+I188+I191+I194)","v":0},{"$f":"SUM(J183:J194)","v":0},{"$f":"SUM(K183:K194)","v":0},{"$f":"SUM(L183:L194)","v":0},{"$f":"SUM(M183+M186+M189+M192)","v":0},{"$f":"SUM(M184+M187+M190+M193)","v":0},{"$f":"SUM(M185+M188+M191+M194)","v":0},{"$f":"SUM(N183:N194)","v":0},{"$f":"SUM(O183:O194)","v":0},{"$f":"SUM(P183:P194)","v":0},{"$f":"SUM(Q183+Q186+Q189+Q192)","v":0},{"$f":"SUM(Q184+Q187+Q190+Q193)","v":0},{"$f":"SUM(Q185+Q188+Q191+Q194)","v":0},{"$f":"SUM(B183:D183)+SUM(B186:D186)+SUM(B189:D189)+SUM(B192:D192)+SUM(F183:H183)+SUM(F186:H186)+SUM(F189:H189)+SUM(F192:H192)+SUM(J183:L183)+SUM(J186:L186)+SUM(J189:L189)+SUM(J192:L192)+SUM(N183:P183)+SUM(N186:P186)+SUM(N189:P189)+SUM(N192:P192)+E185+E188+E191+E194+I185+I188+I191+I194+M185+M188+M191+M194+Q185+Q188+Q191+Q194","v":0},{"$f":"SUM(B183,B186,B189,B192)","v":0},{"$f":"SUM(C183,C186,C189,C192)","v":0},{"$f":"SUM(D183,D186,D189,D192)","v":0},{"$f":"SUM(E183,E186,E189,E192)","v":0},{"$f":"SUM(F183,F186,F189,F192)","v":0},{"$f":"SUM(G183,G186,G189,G192)","v":0},{"$f":"SUM(H183,H186,H189,H192)","v":0},{"$f":"SUM(I183,I186,I189,I192)","v":0},{"$f":"SUM(J183,J186,J189,J192)","v":0},{"$f":"SUM(K183,K186,K189,K192)","v":0},{"$f":"SUM(L183,L186,L189,L192)","v":0},{"$f":"SUM(M183,M186,M189,M192)","v":0},{"$f":"SUM(N183,N186,N189,N192)","v":0},{"$f":"SUM(O183,O186,O189,O192)","v":0},{"$f":"SUM(P183,P186,P189,P192)","v":0},{"$f":"SUM(Q183,Q186,Q189,Q192)","v":0},{"$f":"SUM(B184:D184)+SUM(B187:D187)+SUM(B190:D190)+SUM(B193:D193)+SUM(F184:H184)+SUM(F187:H187)+SUM(F190:H190)+SUM(F193:H193)+SUM(J184:L184)+SUM(J187:L187)+SUM(J190:L190)+SUM(J193:L193)+SUM(N184:P184)+SUM(N187:P187)+SUM(N190:P190)+SUM(N193:P193)","v":0},{"$f":"SUM(B184,B187,B190,B193)","v":0},{"$f":"SUM(C184,C187,C190,C193)","v":0},{"$f":"SUM(D184,D187,D190,D193)","v":0},{"$f":"SUM(E184,E187,E190,E193)","v":0},{"$f":"SUM(F184,F187,F190,F193)","v":0},{"$f":"SUM(G184,G187,G190,G193)","v":0},{"$f":"SUM(H184,H187,H190,H193)","v":0},{"$f":"SUM(I184,I187,I190,I193)","v":0},{"$f":"SUM(J184,J187,J190,J193)","v":0},{"$f":"SUM(K184,K187,K190,K193)","v":0},{"$f":"SUM(L184,L187,L190,L193)","v":0},{"$f":"SUM(M184,M187,M190,M193)","v":0},{"$f":"SUM(N184,N187,N190,N193)","v":0},{"$f":"SUM(O184,O187,O190,O193)","v":0},{"$f":"SUM(P184,P187,P190,P193)","v":0},{"$f":"SUM(Q184,Q187,Q190,Q193)","v":0},{"$f":"SUM(B185:D185)+SUM(B188:D188)+SUM(B191:D191)+SUM(B194:D194)+SUM(F185:H185)+SUM(F188:H188)+SUM(F191:H191)+SUM(F194:H194)+SUM(J185:L185)+SUM(J188:L188)+SUM(J191:L191)+SUM(J194:L194)+SUM(N185:P185)+SUM(N188:P188)+SUM(N191:P191)+SUM(N194:P194)","v":0},{"$f":"SUM(B185,B188,B191,B194)","v":0},{"$f":"SUM(C185,C188,C191,C194)","v":0},{"$f":"SUM(D185,D188,D191,D194)","v":0},{"$f":"SUM(E185,E188,E191,E194)","v":0},{"$f":"SUM(F185,F188,F191,F194)","v":0},{"$f":"SUM(G185,G188,G191,G194)","v":0},{"$f":"SUM(H185,H188,H191,H194)","v":0},{"$f":"SUM(I185,I188,I191,I194)","v":0},{"$f":"SUM(J185,J188,J191,J194)","v":0},{"$f":"SUM(K185,K188,K191,K194)","v":0},{"$f":"SUM(L185,L188,L191,L194)","v":0},{"$f":"SUM(M185,M188,M191,M194)","v":0},{"$f":"SUM(N185,N188,N191,N194)","v":0},{"$f":"SUM(O185,O188,O191,O194)","v":0},{"$f":"SUM(P185,P188,P191,P194)","v":0},{"$f":"SUM(Q185,Q188,Q191,Q194)","v":0}]
["21:45:02.563",{"$f":"ROUND('Import Tab'!E184*'Base Information'!$V$22,0)","v":0},{"$f":"ROUND('Import Tab'!D184*'Base Information'!$V$22,0)","v":0},{"$f":"ROUND('Import Tab'!C184*'Base Information'!$V$22,0)","v":0},{"$f":"ROUND('Import Tab'!F184,0)","v":0},{"$f":"ROUND('Import Tab'!I184*'Base Information'!$V$22,0)","v":0},{"$f":"ROUND('Import Tab'!H184*'Base Information'!$V$22,0)","v":0},{"$f":"ROUND('Import Tab'!G184*'Base Information'!$V$22,0)","v":0},{"$f":"ROUND('Import Tab'!J184,0)","v":0},{"$f":"ROUND('Import Tab'!M184*'Base Information'!$V$22,0)","v":0},{"$f":"ROUND('Import Tab'!L184*'Base Information'!$V$22,0)","v":0},{"$f":"ROUND('Import Tab'!K184*'Base Information'!$V$22,0)","v":0},{"$f":"ROUND('Import Tab'!N184,0)","v":0},{"$f":"ROUND('Import Tab'!Q184*'Base Information'!$V$22,0)","v":0},{"$f":"ROUND('Import Tab'!P184*'Base Information'!$V$22,0)","v":0},{"$f":"ROUND('Import Tab'!O184*'Base Information'!$V$22,0)","v":0},{"$f":"ROUND('Import Tab'!R184,0)","v":0}]
["21:45:02.563",{"$f":"ROUND('Import Tab'!E185*'Base Information'!$V$22,0)","v":0},{"$f":"ROUND('Import Tab'!D185*'Base Information'!$V$22,0)","v":0},{"$f":"ROUND('Import Tab'!C185*'Base Information'!$V$22,0)","v":0},{"$f":"ROUND('Import Tab'!F185,0)","v":0},{"$f":"ROUND('Import Tab'!I185*'Base Information'!$V$22,0)","v":0},{"$f":"ROUND('Import Tab'!H185*'Base Information'!$V$22,0)","v":0},{"$f":"ROUND('Import Tab'!G185*'Base Information'!$V$22,0)","v":0},{"$f":"ROUND('Import Tab'!J185,0)","v":0},{"$f":"ROUND('Import Tab'!M185*'Base Information'!$V$22,0)","v":0},{"$f":"ROUND('Import Tab'!L185*'Base Information'!$V$22,0)","v":0},{"$f":"ROUND('Import Tab'!K185*'Base Information'!$V$22,0)","v":0},{"$f":"ROUND('Import Tab'!N185,0)","v":0},{"$f":"ROUND('Import Tab'!Q185*'Base Information'!$V$22,0)","v":0},{"$f":"ROUND('Import Tab'!P185*'Base Information'!$V$22,0)","v":0},{"$f":"ROUND('Import Tab'!O185*'Base Information'!$V$22,0)","v":0},{"$f":"ROUND('Import Tab'!R185,0)","v":0}]
["22:00:02.592",{"$f":"ROUND('Import Tab'!E186*'Base Information'!$V$22,0)","v":0},{"$f":"ROUND('Import Tab'!D186*'Base Information'!$V$22,0)","v":0},{"$f":"ROUND('Import Tab'!C186*'Base Information'!$V$22,0)","v":0},{"$f":"ROUND('Import Tab'!F186,0)","v":0},{"$f":"ROUND('Import Tab'!I186*'Base Information'!$V$22,0)","v":0},{"$f":"ROUND('Import Tab'!H186*'Base Information'!$V$22,0)","v":0},{"$f":"ROUND('Import Tab'!G186*'Base Information'!$V$22,0)","v":0},{"$f":"ROUND('Import Tab'!J186,0)","v":0},{"$f":"ROUND('Import Tab'!M186*'Base Information'!$V$22,0)","v":0},{"$f":"ROUND('Import Tab'!L186*'Base Information'!$V$22,0)","v":0},{"$f":"ROUND('Import Tab'!K186*'Base Information'!$V$22,0)","v":0},{"$f":"ROUND('Import Tab'!N186,0)","v":0},{"$f":"ROUND('Import Tab'!Q186*'Base Information'!$V$22,0)","v":0},{"$f":"ROUND('Import Tab'!P186*'Base Information'!$V$22,0)","v":0},{"$f":"ROUND('Import Tab'!O186*'Base Information'!$V$22,0)","v":0},{"$f":"ROUND('Import Tab'!R186,0)","v":0},{"$f":"SUM(B186:D188)+SUM(F186:H188)+SUM(J186:L188)+SUM(N186:P188)+E188+I188+M188+Q188","v":0},{"$f":"B186+B187+B188","v":0},0,0,{"$f":"E186","v":0},{"$f":"E187","v":0},{"$f":"E188","v":0},{"$f":"F186+F187+F188","v":0},{"$f":"G186+G187+G188","v":0},{"$f":"H186+H187+H188","v":0},{"$f":"I186","v":0},{"$f":"I187","v":0},{"$f":"I188","v":0},{"$f":"J186+J187+J188","v":0},{"$f":"K186+K187+K188","v":0},{"$f":"L186+L187+L188","v":0},{"$f":"M186","v":0},{"$f":"M187","v":0},{"$f":"M188","v":0},{"$f":"N186+N187+N188","v":0},{"$f":"O186+O187+O188","v":0},{"$f":"P186+P187+P188","v":0},{"$f":"Q186","v":0},{"$f":"Q187","v":0},{"$f":"Q188","v":0},{"$f":"SUM(B186:D186)+SUM(F186:H186)+SUM(J186:L186)+SUM(N186:P186)+E188+I188+M188+Q188","v":0},{"$f":"B186","v":0},{"$f":"C186","v":0},{"$f":"D186","v":0},{"$f":"E186","v":0},{"$f":"F186","v":0},{"$f":"G186","v":0},{"$f":"H186","v":0},{"$f":"I186","v":0},{"$f":"J186","v":0},{"$f":"K186","v":0},{"$f":"L186","v":0},{"$f":"M186","v":0},{"$f":"N186","v":0},{"$f":"O186","v":0},{"$f":"P186","v":0},{"$f":"Q186","v":0},{"$f":"SUM(B187:D187)+SUM(F187:H187)+SUM(J187:L187)+SUM(N187:P187)","v":0},{"$f":"B187","v":0},{"$f":"C187","v":0},{"$f":"D187","v":0},{"$f":"E187","v":0},{"$f":"F187","v":0},{"$f":"G187","v":0},{"$f":"H187","v":0},{"$f":"I187","v":0},{"$f":"J187","v":0},{"$f":"K187","v":0},{"$f":"L187","v":0},{"$f":"M187","v":0},{"$f":"N187","v":0},{"$f":"O187","v":0},{"$f":"P187","v":0},{"$f":"Q187","v":0},{"$f":"SUM(B188:D188)+SUM(F188:H188)+SUM(J188:L188)+SUM(N188:P188)","v":0},{"$f":"B188","v":0},{"$f":"C188","v":0},{"$f":"D188","v":0},{"$f":"E188","v":0},{"$f":"F188","v":0},{"$f":"G188","v":0},{"$f":"H188","v":0},{"$f":"I188","v":0},{"$f":"J188","v":0},{"$f":"K188","v":0},{"$f":"L188","v":0},{"$f":"M188","v":0},{"$f":"N188","v":0},{"$f":"O188","v":0},{"$f":"P188","v":0},{"$f":"Q188","v":0},{"$f":"SUM(B186:D197,E188,E191,E194,E197,F186:H197,I188,I191,I194,I197,J186:L197,M188,M191,M194,M197,N186:P197,Q188,Q191,Q194,Q197)","v":0},{"$f":"SUM(B186:B197)","v":0},{"$f":"SUM(C186:C197)","v":0},{"$f":"SUM(D186:D197)","v":0},{"$f":"SUM(E186+E189+E192+E195)","v":0},{"$f":"SUM(E187+E190+E193+E196)","v":0},{"$f":"SUM(E188+E191+E194+E197)","v":0},{"$f":"SUM(F186:F197)","v":0},{"$f":"SUM(G186:G197)","v":0},{"$f":"SUM(H186:H197)","v":0},{"$f":"SUM(I186+I189+I192+I195)","v":0},{"$f":"SUM(I187+I190+I193+I196)","v":0},{"$f":"SUM(I188+I191+I194+I197)","v":0},{"$f":"SUM(J186:J197)","v":0},{"$f":"SUM(K186:K197)","v":0},{"$f":"SUM(L186:L197)","v":0},{"$f":"SUM(M186+M189+M192+M195)","v":0},{"$f":"SUM(M187+M190+M193+M196)","v":0},{"$f":"SUM(M188+M191+M194+M197)","v":0},{"$f":"SUM(N186:N197)","v":0},{"$f":"SUM(O186:O197)","v":0},{"$f":"SUM(P186:P197)","v":0},{"$f":"SUM(Q186+Q189+Q192+Q195)","v":0},{"$f":"SUM(Q187+Q190+Q193+Q196)","v":0},{"$f":"SUM(Q188+Q191+Q194+Q197)","v":0},{"$f":"SUM(B186:D186)+SUM(B189:D189)+SUM(B192:D192)+SUM(B195:D195)+SUM(F186:H186)+SUM(F189:H189)+SUM(F192:H192)+SUM(F195:H195)+SUM(J186:L186)+SUM(J189:L189)+SUM(J192:L192)+SUM(J195:L195)+SUM(N186:P186)+SUM(N189:P189)+SUM(N192:P192)+SUM(N195:P195)+E188+E191+E194+E197+I188+I191+I194+I197+M188+M191+M194+M197+Q188+Q191+Q194+Q197","v":0},{"$f":"SUM(B186,B189,B192,B195)","v":0},{"$f":"SUM(C186,C189,C192,C195)","v":0},{"$f":"SUM(D186,D189,D192,D195)","v":0},{"$f":"SUM(E186,E189,E192,E195)","v":0},{"$f":"SUM(F186,F189,F192,F195)","v":0},{"$f":"SUM(G186,G189,G192,G195)","v":0},{"$f":"SUM(H186,H189,H192,H195)","v":0},{"$f":"SUM(I186,I189,I192,I195)","v":0},{"$f":"SUM(J186,J189,J192,J195)","v":0},{"$f":"SUM(K186,K189,K192,K195)","v":0},{"$f":"SUM(L186,L189,L192,L195)","v":0},{"$f":"SUM(M186,M189,M192,M195)","v":0},{"$f":"SUM(N186,N189,N192,N195)","v":0},{"$f":"SUM(O186,O189,O192,O195)","v":0},{"$f":"SUM(P186,P189,P192,P195)","v":0},{"$f":"SUM(Q186,Q189,Q192,Q195)","v":0},{"$f":"SUM(B187:D187)+SUM(B190:D190)+SUM(B193:D193)+SUM(B196:D196)+SUM(F187:H187)+SUM(F190:H190)+SUM(F193:H193)+SUM(F196:H196)+SUM(J187:L187)+SUM(J190:L190)+SUM(J193:L193)+SUM(J196:L196)+SUM(N187:P187)+SUM(N190:P190)+SUM(N193:P193)+SUM(N196:P196)","v":0},{"$f":"SUM(B187,B190,B193,B196)","v":0},{"$f":"SUM(C187,C190,C193,C196)","v":0},{"$f":"SUM(D187,D190,D193,D196)","v":0},{"$f":"SUM(E187,E190,E193,E196)","v":0},{"$f":"SUM(F187,F190,F193,F196)","v":0},{"$f":"SUM(G187,G190,G193,G196)","v":0},{"$f":"SUM(H187,H190,H193,H196)","v":0},{"$f":"SUM(I187,I190,I193,I196)","v":0},{"$f":"SUM(J187,J190,J193,J196)","v":0},{"$f":"SUM(K187,K190,K193,K196)","v":0},{"$f":"SUM(L187,L190,L193,L196)","v":0},{"$f":"SUM(M187,M190,M193,M196)","v":0},{"$f":"SUM(N187,N190,N193,N196)","v":0},{"$f":"SUM(O187,O190,O193,O196)","v":0},{"$f":"SUM(P187,P190,P193,P196)","v":0},{"$f":"SUM(Q187,Q190,Q193,Q196)","v":0},{"$f":"SUM(B188:D188)+SUM(B191:D191)+SUM(B194:D194)+SUM(B197:D197)+SUM(F188:H188)+SUM(F191:H191)+SUM(F194:H194)+SUM(F197:H197)+SUM(J188:L188)+SUM(J191:L191)+SUM(J194:L194)+SUM(J197:L197)+SUM(N188:P188)+SUM(N191:P191)+SUM(N194:P194)+SUM(N197:P197)","v":0},{"$f":"SUM(B188,B191,B194,B197)","v":0},{"$f":"SUM(C188,C191,C194,C197)","v":0},{"$f":"SUM(D188,D191,D194,D197)","v":0},{"$f":"SUM(E188,E191,E194,E197)","v":0},{"$f":"SUM(F188,F191,F194,F197)","v":0},{"$f":"SUM(G188,G191,G194,G197)","v":0},{"$f":"SUM(H188,H191,H194,H197)","v":0},{"$f":"SUM(I188,I191,I194,I197)","v":0},{"$f":"SUM(J188,J191,J194,J197)","v":0},{"$f":"SUM(K188,K191,K194,K197)","v":0},{"$f":"SUM(L188,L191,L194,L197)","v":0},{"$f":"SUM(M188,M191,M194,M197)","v":0},{"$f":"SUM(N188,N191,N194,N197)","v":0},{"$f":"SUM(O188,O191,O194,O197)","v":0},{"$f":"SUM(P188,P191,P194,P197)","v":0},{"$f":"SUM(Q188,Q191,Q194,Q197)","v":0}]
["22:00:02.592",{"$f":"ROUND('Import Tab'!E187*'Base Information'!$V$22,0)","v":0},{"$f":"ROUND('Import Tab'!D187*'Base Information'!$V$22,0)","v":0},{"$f":"ROUND('Import Tab'!C187*'Base Information'!$V$22,0)","v":0},{"$f":"ROUND('Import Tab'!F187,0)","v":0},{"$f":"ROUND('Import Tab'!I187*'Base Information'!$V$22,0)","v":0},{"$f":"ROUND('Import Tab'!H187*'Base Information'!$V$22,0)","v":0},{"$f":"ROUND('Import Tab'!G187*'Base Information'!$V$22,0)","v":0},{"$f":"ROUND('Import Tab'!J187,0)","v":0},{"$f":"ROUND('Import Tab'!M187*'Base Information'!$V$22,0)","v":0},{"$f":"ROUND('Import Tab'!L187*'Base Information'!$V$22,0)","v":0},{"$f":"ROUND('Import Tab'!K187*'Base Information'!$V$22,0)","v":0},{"$f":"ROUND('Import Tab'!N187,0)","v":0},{"$f":"ROUND('Import Tab'!Q187*'Base Information'!$V$22,0)","v":0},{"$f":"ROUND('Import Tab'!P187*'Base Information'!$V$22,0)","v":0},{"$f":"ROUND('Import Tab'!O187*'Base Information'!$V$22,0)","v":0},{"$f":"ROUND('Import Tab'!R187,0)","v":0}]
["22:00:02.592",{"$f":"ROUND('Import Tab'!E188*'Base Information'!$V$22,0)","v":0},{"$f":"ROUND('Import Tab'!D188*'Base Information'!$V$22,0)","v":0},{"$f":"ROUND('Import Tab'!C188*'Base Information'!$V$22,0)","v":0},{"$f":"ROUND('Import Tab'!F188,0)","v":0},{"$f":"ROUND('Import Tab'!I188*'Base Information'!$V$22,0)","v":0},{"$f":"ROUND('Import Tab'!H188*'Base Information'!$V$22,0)","v":0},{"$f":"ROUND('Import Tab'!G188*'Base Information'!$V$22,0)","v":0},{"$f":"ROUND('Import Tab'!J188,0)","v":0},{"$f":"ROUND('Import Tab'!M188*'Base Information'!$V$22,0)","v":0},{"$f":"ROUND('Import Tab'!L188*'Base Information'!$V$22,0)","v":0},{"$f":"ROUND('Import Tab'!K188*'Base Information'!$V$22,0)","v":0},{"$f":"ROUND('Import Tab'!N188,0)","v":0},{"$f":"ROUND('Import Tab'!Q188*'Base Information'!$V$22,0)","v":0},{"$f":"ROUND('Import Tab'!P188*'Base Information'!$V$22,0)","v":0},{"$f":"ROUND('Import Tab'!O188*'Base Information'!$V$22,0)","v":0},{"$f":"ROUND('Import Tab'!R188,0)","v":0}]
["22:15:02.621",{"$f":"ROUND('Import Tab'!E189*'Base Information'!$V$22,0)","v":0},{"$f":"ROUND('Import Tab'!D189*'Base Information'!$V$22,0)","v":0},{"$f":"ROUND('Import Tab'!C189*'Base Information'!$V$22,0)","v":0},{"$f":"ROUND('Import Tab'!F189,0)","v":0},{"$f":"ROUND('Import Tab'!I189*'Base Information'!$V$22,0)","v":0},{"$f":"ROUND('Import Tab'!H189*'Base Information'!$V$22,0)","v":0},{"$f":"ROUND('Import Tab'!G189*'Base Information'!$V$22,0)","v":0},{"$f":"ROUND('Import Tab'!J189,0)","v":0},{"$f":"ROUND('Import Tab'!M189*'Base Information'!$V$22,0)","v":0},{"$f":"ROUND('Import Tab'!L189*'Base Information'!$V$22,0)","v":0},{"$f":"ROUND('Import Tab'!K189*'Base Information'!$V$22,0)","v":0},{"$f":"ROUND('Import Tab'!N189,0)","v":0},{"$f":"ROUND('Import Tab'!Q189*'Base Information'!$V$22,0)","v":0},{"$f":"ROUND('Import Tab'!P189*'Base Information'!$V$22,0)","v":0},{"$f":"ROUND('Import Tab'!O189*'Base Information'!$V$22,0)","v":0},{"$f":"ROUND('Import Tab'!R189,0)","v":0},{"$f":"SUM(B189:D191)+SUM(F189:H191)+SUM(J189:L191)+SUM(N189:P191)+E191+I191+M191+Q191","v":0},{"$f":"B189+B190+B191","v":0},0,0,{"$f":"E189","v":0},{"$f":"E190","v":0},{"$f":"E191","v":0},{"$f":"F189+F190+F191","v":0},{"$f":"G189+G190+G191","v":0},{"$f":"H189+H190+H191","v":0},{"$f":"I189","v":0},{"$f":"I190","v":0},{"$f":"I191","v":0},{"$f":"J189+J190+J191","v":0},{"$f":"K189+K190+K191","v":0},{"$f":"L189+L190+L191","v":0},{"$f":"M189","v":0},{"$f":"M190","v":0},{"$f":"M191","v":0},{"$f":"N189+N190+N191","v":0},{"$f":"O189+O190+O191","v":0},{"$f":"P189+P190+P191","v":0},{"$f":"Q189","v":0},{"$f":"Q190","v":0},{"$f":"Q191","v":0},{"$f":"SUM(B189:D189)+SUM(F189:H189)+SUM(J189:L189)+SUM(N189:P189)+E191+I191+M191+Q191","v":0},{"$f":"B189","v":0},{"$f":"C189","v":0},{"$f":"D189","v":0},{"$f":"E189","v":0},{"$f":"F189","v":0},{"$f":"G189","v":0},{"$f":"H189","v":0},{"$f":"I189","v":0},{"$f":"J189","v":0},{"$f":"K189","v":0},{"$f":"L189","v":0},{"$f":"M189","v":0},{"$f":"N189","v":0},{"$f":"O189","v":0},{"$f":"P189","v":0},{"$f":"Q189","v":0},{"$f":"SUM(B190:D190)+SUM(F190:H190)+SUM(J190:L190)+SUM(N190:P190)","v":0},{"$f":"B190","v":0},{"$f":"C190","v":0},{"$f":"D190","v":0},{"$f":"E190","v":0},{"$f":"F190","v":0},{"$f":"G190","v":0},{"$f":"H190","v":0},{"$f":"I190","v":0},{"$f":"J190","v":0},{"$f":"K190","v":0},{"$f":"L190","v":0},{"$f":"M190","v":0},{"$f":"N190","v":0},{"$f":"O190","v":0},{"$f":"P190","v":0},{"$f":"Q190","v":0},{"$f":"SUM(B191:D191)+SUM(F191:H191)+SUM(J191:L191)+SUM(N191:P191)","v":0},{"$f":"B191","v":0},{"$f":"C191","v":0},{"$f":"D191","v":0},{"$f":"E191","v":0},{"$f":"F191","v":0},{"$f":"G191","v":0},{"$f":"H191","v":0},{"$f":"I191","v":0},{"$f":"J191","v":0},{"$f":"K191","v":0},{"$f":"L191","v":0},{"$f":"M191","v":0},{"$f":"N191","v":0},{"$f":"O191","v":0},{"$f":"P191","v":0},{"$f":"Q191","v":0}]
["22:15:02.621",{"$f":"ROUND('Import Tab'!E190*'Base Information'!$V$22,0)","v":0},{"$f":"ROUND('Import Tab'!D190*'Base Information'!$V$22,0)","v":0},{"$f":"ROUND('Import Tab'!C190*'Base Information'!$V$22,0)","v":0},{"$f":"ROUND('Import Tab'!F190,0)","v":0},{"$f":"ROUND('Import Tab'!I190*'Base Information'!$V$22,0)","v":0},{"$f":"ROUND('Import Tab'!H190*'Base Information'!$V$22,0)","v":0},{"$f":"ROUND('Import Tab'!G190*'Base Information'!$V$22,0)","v":0},{"$f":"ROUND('Import Tab'!J190,0)","v":0},{"$f":"ROUND('Import Tab'!M190*'Base Information'!$V$22,0)","v":0},{"$f":"ROUND('Import Tab'!L190*'Base Information'!$V$22,0)","v":0},{"$f":"ROUND('Import Tab'!K190*'Base Information'!$V$22,0)","v":0},{"$f":"ROUND('Import Tab'!N190,0)","v":0},{"$f":"ROUND('Import Tab'!Q190*'Base Information'!$V$22,0)","v":0},{"$f":"ROUND('Import Tab'!P190*'Base Information'!$V$22,0)","v":0},{"$f":"ROUND('Import Tab'!O190*'Base Information'!$V$22,0)","v":0},{"$f":"ROUND('Import Tab'!R190,0)","v":0}]
["22:15:02.621",{"$f":"ROUND('Import Tab'!E191*'Base Information'!$V$22,0)","v":0},{"$f":"ROUND('Import Tab'!D191*'Base Information'!$V$22,0)","v":0},{"$f":"ROUND('Import Tab'!C191*'Base Information'!$V$22,0)","v":0},{"$f":"ROUND('Import Tab'!F191,0)","v":0},{"$f":"ROUND('Import Tab'!I191*'Base Information'!$V$22,0)","v":0},{"$f":"ROUND('Import Tab'!H191*'Base Information'!$V$22,0)","v":0},{"$f":"ROUND('Import Tab'!G191*'Base Information'!$V$22,0)","v":0},{"$f":"ROUND('Import Tab'!J191,0)","v":0},{"$f":"ROUND('Import Tab'!M191*'Base Information'!$V$22,0)","v":0},{"$f":"ROUND('Import Tab'!L191*'Base Information'!$V$22,0)","v":0},{"$f":"ROUND('Import Tab'!K191*'Base Information'!$V$22,0)","v":0},{"$f":"ROUND('Import Tab'!N191,0)","v":0},{"$f":"ROUND('Import Tab'!Q191*'Base Information'!$V$22,0)","v":0},{"$f":"ROUND('Import Tab'!P191*'Base Information'!$V$22,0)","v":0},{"$f":"ROUND('Import Tab'!O191*'Base Information'!$V$22,0)","v":0},{"$f":"ROUND('Import Tab'!R191,0)","v":0}]
["22:30:02.650",{"$f":"ROUND('Import Tab'!E192*'Base Information'!$V$22,0)","v":0},{"$f":"ROUND('Import Tab'!D192*'Base Information'!$V$22,0)","v":0},{"$f":"ROUND('Import Tab'!C192*'Base Information'!$V$22,0)","v":0},{"$f":"ROUND('Import Tab'!F192,0)","v":0},{"$f":"ROUND('Import Tab'!I192*'Base Information'!$V$22,0)","v":0},{"$f":"ROUND('Import Tab'!H192*'Base Information'!$V$22,0)","v":0},{"$f":"ROUND('Import Tab'!G192*'Base Information'!$V$22,0)","v":0},{"$f":"ROUND('Import Tab'!J192,0)","v":0},{"$f":"ROUND('Import Tab'!M192*'Base Information'!$V$22,0)","v":0},{"$f":"ROUND('Import Tab'!L192*'Base Information'!$V$22,0)","v":0},{"$f":"ROUND('Import Tab'!K192*'Base Information'!$V$22,0)","v":0},{"$f":"ROUND('Import Tab'!N192,0)","v":0},{"$f":"ROUND('Import Tab'!Q192*'Base Information'!$V$22,0)","v":0},{"$f":"ROUND('Import Tab'!P192*'Base Information'!$V$22,0)","v":0},{"$f":"ROUND('Import Tab'!O192*'Base Information'!$V$22,0)","v":0},{"$f":"ROUND('Import Tab'!R192,0)","v":0},{"$f":"SUM(B192:D194)+SUM(F192:H194)+SUM(J192:L194)+SUM(N192:P194)+E194+I194+M194+Q194","v":0},{"$f":"B192+B193+B194","v":0},0,0,{"$f":"E192","v":0},{"$f":"E193","v":0},{"$f":"E194","v":0},{"$f":"F192+F193+F194","v":0},{"$f":"G192+G193+G194","v":0},{"$f":"H192+H193+H194","v":0},{"$f":"I192","v":0},{"$f":"I193","v":0},{"$f":"I194","v":0},{"$f":"J192+J193+J194","v":0},{"$f":"K192+K193+K194","v":0},{"$f":"L192+L193+L194","v":0},{"$f":"M192","v":0},{"$f":"M193","v":0},{"$f":"M194","v":0},{"$f":"N192+N193+N194","v":0},{"$f":"O192+O193+O194","v":0},{"$f":"P192+P193+P194","v":0},{"$f":"Q192","v":0},{"$f":"Q193","v":0},{"$f":"Q194","v":0},{"$f":"SUM(B192:D192)+SUM(F192:H192)+SUM(J192:L192)+SUM(N192:P192)+E194+I194+M194+Q194","v":0},{"$f":"B192","v":0},{"$f":"C192","v":0},{"$f":"D192","v":0},{"$f":"E192","v":0},{"$f":"F192","v":0},{"$f":"G192","v":0},{"$f":"H192","v":0},{"$f":"I192","v":0},{"$f":"J192","v":0},{"$f":"K192","v":0},{"$f":"L192","v":0},{"$f":"M192","v":0},{"$f":"N192","v":0},{"$f":"O192","v":0},{"$f":"P192","v":0},{"$f":"Q192","v":0},{"$f":"SUM(B193:D193)+SUM(F193:H193)+SUM(J193:L193)+SUM(N193:P193)","v":0},{"$f":"B193","v":0},{"$f":"C193","v":0},{"$f":"D193","v":0},{"$f":"E193","v":0},{"$f":"F193","v":0},{"$f":"G193","v":0},{"$f":"H193","v":0},{"$f":"I193","v":0},{"$f":"J193","v":0},{"$f":"K193","v":0},{"$f":"L193","v":0},{"$f":"M193","v":0},{"$f":"N193","v":0},{"$f":"O193","v":0},{"$f":"P193","v":0},{"$f":"Q193","v":0},{"$f":"SUM(B194:D194)+SUM(F194:H194)+SUM(J194:L194)+SUM(N194:P194)","v":0},{"$f":"B194","v":0},{"$f":"C194","v":0},{"$f":"D194","v":0},{"$f":"E194","v":0},{"$f":"F194","v":0},{"$f":"G194","v":0},{"$f":"H194","v":0},{"$f":"I194","v":0},{"$f":"J194","v":0},{"$f":"K194","v":0},{"$f":"L194","v":0},{"$f":"M194","v":0},{"$f":"N194","v":0},{"$f":"O194","v":0},{"$f":"P194","v":0},{"$f":"Q194","v":0}]
["22:30:02.650",{"$f":"ROUND('Import Tab'!E193*'Base Information'!$V$22,0)","v":0},{"$f":"ROUND('Import Tab'!D193*'Base Information'!$V$22,0)","v":0},{"$f":"ROUND('Import Tab'!C193*'Base Information'!$V$22,0)","v":0},{"$f":"ROUND('Import Tab'!F193,0)","v":0},{"$f":"ROUND('Import Tab'!I193*'Base Information'!$V$22,0)","v":0},{"$f":"ROUND('Import Tab'!H193*'Base Information'!$V$22,0)","v":0},{"$f":"ROUND('Import Tab'!G193*'Base Information'!$V$22,0)","v":0},{"$f":"ROUND('Import Tab'!J193,0)","v":0},{"$f":"ROUND('Import Tab'!M193*'Base Information'!$V$22,0)","v":0},{"$f":"ROUND('Import Tab'!L193*'Base Information'!$V$22,0)","v":0},{"$f":"ROUND('Import Tab'!K193*'Base Information'!$V$22,0)","v":0},{"$f":"ROUND('Import Tab'!N193,0)","v":0},{"$f":"ROUND('Import Tab'!Q193*'Base Information'!$V$22,0)","v":0},{"$f":"ROUND('Import Tab'!P193*'Base Information'!$V$22,0)","v":0},{"$f":"ROUND('Import Tab'!O193*'Base Information'!$V$22,0)","v":0},{"$f":"ROUND('Import Tab'!R193,0)","v":0}]
["22:30:02.650",{"$f":"ROUND('Import Tab'!E194*'Base Information'!$V$22,0)","v":0},{"$f":"ROUND('Import Tab'!D194*'Base Information'!$V$22,0)","v":0},{"$f":"ROUND('Import Tab'!C194*'Base Information'!$V$22,0)","v":0},{"$f":"ROUND('Import Tab'!F194,0)","v":0},{"$f":"ROUND('Import Tab'!I194*'Base Information'!$V$22,0)","v":0},{"$f":"ROUND('Import Tab'!H194*'Base Information'!$V$22,0)","v":0},{"$f":"ROUND('Import Tab'!G194*'Base Information'!$V$22,0)","v":0},{"$f":"ROUND('Import Tab'!J194,0)","v":0},{"$f":"ROUND('Import Tab'!M194*'Base Information'!$V$22,0)","v":0},{"$f":"ROUND('Import Tab'!L194*'Base Information'!$V$22,0)","v":0},{"$f":"ROUND('Import Tab'!K194*'Base Information'!$V$22,0)","v":0},{"$f":"ROUND('Import Tab'!N194,0)","v":0},{"$f":"ROUND('Import Tab'!Q194*'Base Information'!$V$22,0)","v":0},{"$f":"ROUND('Import Tab'!P194*'Base Information'!$V$22,0)","v":0},{"$f":"ROUND('Import Tab'!O194*'Base Information'!$V$22,0)","v":0},{"$f":"ROUND('Import Tab'!R194,0)","v":0}]
["22:45:02.678",{"$f":"ROUND('Import Tab'!E195*'Base Information'!$V$22,0)","v":0},{"$f":"ROUND('Import Tab'!D195*'Base Information'!$V$22,0)","v":0},{"$f":"ROUND('Import Tab'!C195*'Base Information'!$V$22,0)","v":0},{"$f":"ROUND('Import Tab'!F195,0)","v":0},{"$f":"ROUND('Import Tab'!I195*'Base Information'!$V$22,0)","v":0},{"$f":"ROUND('Import Tab'!H195*'Base Information'!$V$22,0)","v":0},{"$f":"ROUND('Import Tab'!G195*'Base Information'!$V$22,0)","v":0},{"$f":"ROUND('Import Tab'!J195,0)","v":0},{"$f":"ROUND('Import Tab'!M195*'Base Information'!$V$22,0)","v":0},{"$f":"ROUND('Import Tab'!L195*'Base Information'!$V$22,0)","v":0},{"$f":"ROUND('Import Tab'!K195*'Base Information'!$V$22,0)","v":0},{"$f":"ROUND('Import Tab'!N195,0)","v":0},{"$f":"ROUND('Import Tab'!Q195*'Base Information'!$V$22,0)","v":0},{"$f":"ROUND('Import Tab'!P195*'Base Information'!$V$22,0)","v":0},{"$f":"ROUND('Import Tab'!O195*'Base Information'!$V$22,0)","v":0},{"$f":"ROUND('Import Tab'!R195,0)","v":0},{"$f":"SUM(B195:D197)+SUM(F195:H197)+SUM(J195:L197)+SUM(N195:P197)+E197+I197+M197+Q197","v":0},{"$f":"B195+B196+B197","v":0},0,0,{"$f":"E195","v":0},{"$f":"E196","v":0},{"$f":"E197","v":0},{"$f":"F195+F196+F197","v":0},{"$f":"G195+G196+G197","v":0},{"$f":"H195+H196+H197","v":0},{"$f":"I195","v":0},{"$f":"I196","v":0},{"$f":"I197","v":0},{"$f":"J195+J196+J197","v":0},{"$f":"K195+K196+K197","v":0},{"$f":"L195+L196+L197","v":0},{"$f":"M195","v":0},{"$f":"M196","v":0},{"$f":"M197","v":0},{"$f":"N195+N196+N197","v":0},{"$f":"O195+O196+O197","v":0},{"$f":"P195+P196+P197","v":0},{"$f":"Q195","v":0},{"$f":"Q196","v":0},{"$f":"Q197","v":0},{"$f":"SUM(B195:D195)+SUM(F195:H195)+SUM(J195:L195)+SUM(N195:P195)+E197+I197+M197+Q197","v":0},{"$f":"B195","v":0},{"$f":"C195","v":0},{"$f":"D195","v":0},{"$f":"E195","v":0},{"$f":"F195","v":0},{"$f":"G195","v":0},{"$f":"H195","v":0},{"$f":"I195","v":0},{"$f":"J195","v":0},{"$f":"K195","v":0},{"$f":"L195","v":0},{"$f":"M195","v":0},{"$f":"N195","v":0},{"$f":"O195","v":0},{"$f":"P195","v":0},{"$f":"Q195","v":0},{"$f":"SUM(B196:D196)+SUM(F196:H196)+SUM(J196:L196)+SUM(N196:P196)","v":0},{"$f":"B196","v":0},{"$f":"C196","v":0},{"$f":"D196","v":0},{"$f":"E196","v":0},{"$f":"F196","v":0},{"$f":"G196","v":0},{"$f":"H196","v":0},{"$f":"I196","v":0},{"$f":"J196","v":0},{"$f":"K196","v":0},{"$f":"L196","v":0},{"$f":"M196","v":0},{"$f":"N196","v":0},{"$f":"O196","v":0},{"$f":"P196","v":0},{"$f":"Q196","v":0},{"$f":"SUM(B197:D197)+SUM(F197:H197)+SUM(J197:L197)+SUM(N197:P197)","v":0},{"$f":"B197","v":0},{"$f":"C197","v":0},{"$f":"D197","v":0},{"$f":"E197","v":0},{"$f":"F197","v":0},{"$f":"G197","v":0},{"$f":"H197","v":0},{"$f":"I197","v":0},{"$f":"J197","v":0},{"$f":"K197","v":0},{"$f":"L197","v":0},{"$f":"M197","v":0},{"$f":"N197","v":0},{"$f":"O197","v":0},{"$f":"P197","v":0},{"$f":"Q197","v":0}]
["22:45:02.678",{"$f":"ROUND('Import Tab'!E196*'Base Information'!$V$22,0)","v":0},{"$f":"ROUND('Import Tab'!D196*'Base Information'!$V$22,0)","v":0},{"$f":"ROUND('Import Tab'!C196*'Base Information'!$V$22,0)","v":0},{"$f":"ROUND('Import Tab'!F196,0)","v":0},{"$f":"ROUND('Import Tab'!I196*'Base Information'!$V$22,0)","v":0},{"$f":"ROUND('Import Tab'!H196*'Base Information'!$V$22,0)","v":0},{"$f":"ROUND('Import Tab'!G196*'Base Information'!$V$22,0)","v":0},{"$f":"ROUND('Import Tab'!J196,0)","v":0},{"$f":"ROUND('Import Tab'!M196*'Base Information'!$V$22,0)","v":0},{"$f":"ROUND('Import Tab'!L196*'Base Information'!$V$22,0)","v":0},{"$f":"ROUND('Import Tab'!K196*'Base Information'!$V$22,0)","v":0},{"$f":"ROUND('Import Tab'!N196,0)","v":0},{"$f":"ROUND('Import Tab'!Q196*'Base Information'!$V$22,0)","v":0},{"$f":"ROUND('Import Tab'!P196*'Base Information'!$V$22,0)","v":0},{"$f":"ROUND('Import Tab'!O196*'Base Information'!$V$22,0)","v":0},{"$f":"ROUND('Import Tab'!R196,0)","v":0}]
["22:45:02.678",{"$f":"ROUND('Import Tab'!E197*'Base Information'!$V$22,0)","v":0},{"$f":"ROUND('Import Tab'!D197*'Base Information'!$V$22,0)","v":0},{"$f":"ROUND('Import Tab'!C197*'Base Information'!$V$22,0)","v":0},{"$f":"ROUND('Import Tab'!F197,0)","v":0},{"$f":"ROUND('Import Tab'!I197*'Base Information'!$V$22,0)","v":0},{"$f":"ROUND('Import Tab'!H197*'Base Information'!$V$22,0)","v":0},{"$f":"ROUND('Import Tab'!G197*'Base Information'!$V$22,0)","v":0},{"$f":"ROUND('Import Tab'!J197,0)","v":0},{"$f":"ROUND('Import Tab'!M197*'Base Information'!$V$22,0)","v":0},{"$f":"ROUND('Import Tab'!L197*'Base Information'!$V$22,0)","v":0},{"$f":"ROUND('Import Tab'!K197*'Base Information'!$V$22,0)","v":0},{"$f":"ROUND('Import Tab'!N197,0)","v":0},{"$f":"ROUND('Import Tab'!Q197*'Base Information'!$V$22,0)","v":0},{"$f":"ROUND('Import Tab'!P197*'Base Information'!$V$22,0)","v":0},{"$f":"ROUND('Import Tab'!O197*'Base Information'!$V$22,0)","v":0},{"$f":"ROUND('Import Tab'!R197,0)","v":0}]