{"text_format":"1","workbook":"xlsx","n_sheets":4,"sheets":["2013","2014","2015","Plan"],"not_rendered":{"charts":4,"images":1,"macros":0,"external_links":0,"defined_names":2,"comments":0,"pivot_tables":0},"unopened":[],"bounds":{"document_bytes":16777216,"sheet_cells":100000,"rows_first":2000,"rows_last":500,"rows_between":2000,"halvings":0,"cell_chars":16384,"cell_head_chars":4096},"cells_cut":0,"cells_raw":0,"read":"whole","date_system":"1900"}

{"sheet":"2013","index":0,"n_rows":199,"n_cols":11,"rows_kept":199,"cut":false,"hidden":false,"merged":[]}
["Water Meter Readings"]
["Juneau County"]
["Rest Area #10"]
[null,null,null,null,null,null,"Est. waste contrib/Veh",0.29084973550123616,"gal/veh","See RA 13 analysis"]
[]
[null,"Day of Week",null,"Meter Reading (gal)","H2O Use",null,"Traffic",null,"Waste Contrib","Est Total"]
["2013-06-01"]
["2013-06-01","2013-06-01",null,3468000,{"$f":"+D9-D8","v":2400},null,1169,null,{"$f":"+G8*$H$4","v":340.00334080094507},{"$f":"+I8+E8","v":2740.0033408009449},{"$f":"+J38","v":3356.9955740868268}]
["2013-06-02","2013-06-02",null,3470400,{"$f":"+D10-D9","v":3100},null,1274,null,{"$f":"+G9*$H$4","v":370.54256302857488},{"$f":"+I9+E9","v":3470.5425630285749}]
["2013-06-03","2013-06-03",null,3473500,2100,null,1138,null,330.98699900040674,2430.9869990004067]
["2013-06-04","2013-06-04",null,3475600,1800,null,1004,null,292.01313444324109,2092.0131344432411]
["2013-06-05","2013-06-05",null,3477400,2000,null,1027,null,298.70267835976955,2298.7026783597694]
["2013-06-06","2013-06-06",null,3479400,2900,null,1274,null,370.54256302857488,3270.5425630285749]
["2013-06-07","2013-06-07",null,3482300,3000,null,1507,null,438.3105514003629,3438.3105514003628]
["2013-06-08","2013-06-08",null,3485300,3100,null,1195,null,347.5654339239772,3447.5654339239773]
["2013-06-09","2013-06-09",null,3488400,3600,null,1279,null,371.99681170608108,3971.9968117060812]
["2013-06-10","2013-06-10",null,3492000,2600,null,1231,null,358.03602440202172,2958.0360244020217]
["2013-06-11","2013-06-11",null,3494600,2000,null,1191,null,346.40203498197229,2346.4020349819721]
["2013-06-12","2013-06-12",null,3496600,2000,null,1086,null,315.86281275434249,2315.8628127543425]
["2013-06-13","2013-06-13",null,3498600,2800,null,1266,null,368.21576514456495,3168.215765144565]
["2013-06-14","2013-06-14",null,3501400,3600,null,1593,null,463.3236286534692,4063.3236286534693]
["2013-06-15","2013-06-15",null,3505000,3700,null,1342,null,390.32034504265891,4090.320345042659]
["2013-06-16","2013-06-16",null,3508700,3900,null,1414,null,411.26152599874791,4311.2615259987479]
["2013-06-17","2013-06-17",null,3512600,2600,null,1269,null,369.08831435106868,2969.0883143510687]
["2013-06-18","2013-06-18",null,3515200,2400,null,1165,null,338.83994185894011,2738.8399418589402]
["2013-06-19","2013-06-19",null,3517600,2600,null,1322,null,384.50335033263423,2984.503350332634]
["2013-06-20","2013-06-20",null,3520200,2800,null,1285,null,373.74191011908846,3173.7419101190885]
["2013-06-21","2013-06-21",null,3523000,3900,null,1747,null,508.1144879206596,4408.1144879206595]
["2013-06-22","2013-06-22",null,3526900,3400,null,1454,null,422.8955154187974,3822.8955154187975]
["2013-06-23","2013-06-23",null,3530300,4200,null,1565,null,455.17983605943459,4655.1798360594348]
["2013-06-24","2013-06-24",null,3534500,3000,null,1247,null,362.68962017004151,3362.6896201700415]
["2013-06-25","2013-06-25",null,3537500,2100,null,1110,null,322.84320640637213,2422.8432064063722]
["2013-06-26","2013-06-26",null,3539600,2500,null,1255,null,365.01641805405137,2865.0164180540514]
["2013-06-27","2013-06-27",null,3542100,3300,null,1352,null,393.22884239767131,3693.2288423976715]
["2013-06-28","2013-06-28",null,3545400,4100,null,1647,null,479.02951437053594,4579.0295143705362]
["2013-06-29","2013-06-29",null,3549500,4800,null,1594,null,463.61447838897044,5263.6144783889704,{"$f":"+J38","v":3356.9955740868268}]
["2013-06-30","2013-06-30",null,3554300,{"$f":"+D40-D37","v":978900},null,1589,null,462.16022971146424]
[null,null,null,null,null,null,null,null,"Ave",{"$f":"AVERAGE(J8:J36)","v":3356.9955740868268}]
["2013-07-01"]
["2013-07-01","2013-07-01",null,4533200,{"$f":"+D41-D40","v":5900},null,1380,null,{"$f":"+G40*$H$4","v":401.37263499170592},{"$f":"+I40+E40","v":6301.372634991706},{"$f":"+J71","v":6230.7845031245552}]
["2013-07-02","2013-07-02",null,4539100,{"$f":"+D42-D41","v":5100},null,1369,null,398.17328790119228,5498.1732879011925]
["2013-07-03","2013-07-03",null,4544200,6800,null,1673,null,486.59160749356812,7286.5916074935685]
["2013-07-04","2013-07-04",null,4551000,6500,null,1397,null,406.31708049522695,6906.3170804952269]
["2013-07-05","2013-07-05",null,4557500,6800,null,1459,null,424.34976409630355,7224.3497640963033]
["2013-07-06","2013-07-06",null,4564300,7700,null,1365,null,397.00988895918738,8097.0098889591873]
["2013-07-07","2013-07-07",null,4572000,8100,null,1613,null,469.14062336349394,8569.1406233634934]
["2013-07-08","2013-07-08",null,4580100,5700,null,1370,null,398.46413763669352,6098.4641376366935]
["2013-07-09","2013-07-09",null,4585800,4100,null,1109,null,322.55235667087089,4422.5523566708707]
["2013-07-10","2013-07-10",null,4589900,4400,null,null,null,0,4400]
["2013-07-11","2013-07-11",null,4594300,5800,null,1403,null,408.06217890823433,6208.0621789082343]
["2013-07-12","2013-07-12",null,4600100,7400,null,1661,null,483.10141066755324,7883.101410667553]
["2013-07-13","2013-07-13",null,4607500,6500,null,1440,null,418.8236191217801,6918.8236191217802]
["2013-07-14","2013-07-14",null,4614000,6100,null,1349,null,392.35629319116759,6492.3562931911674]
["2013-07-15","2013-07-15",null,4620100,5000,null,1246,null,362.39877043454027,5362.39877043454]
["2013-07-16","2013-07-16",null,4625100,4100,null,1098,null,319.35300958035731,4419.3530095803571]
["2013-07-17","2013-07-17",null,4629200,4500,null,1242,null,361.23537149253531,4861.2353714925357]
["2013-07-18","2013-07-18",null,4633700,5000,null,1358,null,394.9739408106787,5394.9739408106789]
["2013-07-19","2013-07-19",null,4638700,7700,null,1609,null,467.97722442148898,8167.9772244214892]
["2013-07-20","2013-07-20",null,4646400,6900,null,1407,null,409.22557785023929,7309.2255778502395]
["2013-07-21","2013-07-21",null,4653300,7000,null,1477,null,429.58505933532581,7429.5850593353262]
["2013-07-22","2013-07-22",null,4660300,5200,null,1280,null,372.28766144158226,5572.2876614415818]
["2013-07-23","2013-07-23",null,4665500,4500,null,1193,null,346.98373445297472,4846.9837344529751]
["2013-07-24","2013-07-24",null,4670000,4700,null,1300,null,378.104656151607,5078.1046561516068]
["2013-07-25","2013-07-25",null,4674700,5700,null,1425,null,414.46087308926155,6114.4608730892614]
["2013-07-26","2013-07-26",null,4680400,7800,null,1797,null,522.65697469572137,8322.6569746957211]
["2013-07-27","2013-07-27",null,4688200,6400,null,1478,null,429.87590907082705,6829.8759090708272]
["2013-07-28","2013-07-28",null,4694600,6900,null,1538,null,447.32689320090122,7347.3268932009014]
["2013-07-29","2013-07-29",null,4701500,4800,null,1281,null,372.5785111770835,5172.5785111770838]
["2013-07-30","2013-07-30",null,4706300,3700,null,1201,null,349.31053233698464,4049.3105323369846]
["2013-07-31","2013-07-31",null,4710000,{"$f":"+D73-D70","v":4200},null,1271,null,369.67001382207116,4569.6700138220713,{"$f":"+J71","v":6230.7845031245552}]
[null,null,null,null,null,null,null,null,"Ave",{"$f":"AVERAGE(J40:J70)","v":6230.7845031245552}]
["2013-08-01"]
["2013-08-01","2013-08-01",null,4714200,{"$f":"+D74-D73","v":6000},null,1603,null,{"$f":"+G73*$H$4","v":466.23212600848154},{"$f":"+I73+E73","v":6466.2321260084818},{"$f":"+J104","v":5991.6550539391956}]
["2013-08-02","2013-08-02",null,4720200,7300,null,1807,null,525.56547205073377,7825.5654720507337]
["2013-08-03","2013-08-03",null,4727500,6500,null,1566,null,455.47068579493583,6955.4706857949359]
["2013-08-04","2013-08-04",null,4734000,7000,null,1524,null,443.25499690388392,7443.2549969038837]
["2013-08-05","2013-08-05",null,4741000,5000,null,1359,null,395.26479054617994,5395.2647905461799]
["2013-08-06","2013-08-06",null,4746000,4100,null,1241,null,360.94452175703407,4460.9445217570337]
["2013-08-07","2013-08-07",null,4750100,4000,null,1180,null,343.20268789145865,4343.2026878914585]
["2013-08-08","2013-08-08",null,4754100,5200,null,1440,null,418.8236191217801,5618.8236191217802]
["2013-08-09","2013-08-09",null,4759300,7800,null,1799,null,523.23867416672385,8323.2386741667233]
["2013-08-10","2013-08-10",null,4767100,6200,null,1417,null,412.13407520525163,6612.134075205252]
["2013-08-11","2013-08-11",null,4773300,6700,null,1495,null,434.82035457434807,7134.8203545743481]
["2013-08-12","2013-08-12",null,4780000,5000,null,1348,null,392.06544345566635,5392.0654434556664]
["2013-08-13","2013-08-13",null,4785000,4300,null,1202,null,349.60138207248588,4649.6013820724856]
["2013-08-14","2013-08-14",null,4789300,4700,null,1335,null,388.28439689415029,5088.2843968941506]
["2013-08-15","2013-08-15",null,4794000,5600,null,1478,null,429.87590907082705,6029.8759090708272]
["2013-08-16","2013-08-16",null,4799600,7100,null,1755,null,510.44128580466946,7610.4412858046699]
["2013-08-17","2013-08-17",null,4806700,6300,null,1414,null,411.26152599874791,6711.2615259987479]
["2013-08-18","2013-08-18",null,4813000,7000,null,1504,null,437.43800219385918,7437.4380021938596]
["2013-08-19","2013-08-19",null,4820000,5100,null,1375,null,399.91838631419972,5499.9183863141998]
["2013-08-20","2013-08-20",null,4825100,4000,null,1173,null,341.16673974295003,4341.1667397429501]
["2013-08-21","2013-08-21",null,4829100,4000,null,1162,null,337.96739265243644,4337.9673926524365]
["2013-08-22","2013-08-22",null,4833100,4900,null,1349,null,392.35629319116759,5292.3562931911674]
["2013-08-23","2013-08-23",null,4838000,6100,null,1613,null,469.14062336349394,6569.1406233634943]
["2013-08-24","2013-08-24",null,4844100,5400,null,1270,null,369.37916408656992,5769.3791640865702]
["2013-08-25","2013-08-25",null,4849500,6500,null,1462,null,425.22231330280727,6925.2223133028074]
["2013-08-26","2013-08-26",null,4856000,4200,null,1151,null,334.7680455619228,4534.7680455619229]
["2013-08-27","2013-08-27",null,4860200,3500,null,1094,null,318.18961063835235,3818.1896106383524]
["2013-08-28","2013-08-28",null,4863700,3700,null,1133,null,329.5327503229006,4029.5327503229005]
["2013-08-29","2013-08-29",null,4867400,5400,null,1431,null,416.20597150226894,5816.2059715022688]
["2013-08-30","2013-08-30",null,4872800,7500,null,1880,null,546.79750274232401,8046.7975027423236]
["2013-08-31","2013-08-31",null,4880300,{"$f":"+D106-D103","v":6800},null,1591,null,462.74192918246672,7262.7419291824663,{"$f":"+J104","v":5991.6550539391956}]
[null,null,null,null,null,null,null,null,"Ave",{"$f":"AVERAGE(J73:J103)","v":5991.6550539391956}]
[]
["2013-09-01","2013-09-01",null,4887100,{"$f":"+D107-D106","v":5500},null,1165,null,{"$f":"+G106*$H$4","v":338.83994185894011},{"$f":"+I106+E106","v":5838.8399418589397},{"$f":"+J128","v":4167.6205157020777}]
["2013-09-02","2013-09-02",null,4892600,5400,null,1286,null,374.0327598545897,5774.03275985459]
["2013-09-03","2013-09-03",null,4898000,4000,null,1140,null,331.56869847140922,4331.5686984714093]
["2013-09-04","2013-09-04",null,4902000,3200,null,1073,null,312.08176619282642,3512.0817661928263]
["2013-09-05","2013-09-05",null,4905200,3800,null,1169,null,340.00334080094507,4140.0033408009449]
["2013-09-06","2013-09-06",null,4909000,4800,null,1328,null,386.24844874564161,5186.2484487456413]
["2013-09-07","2013-09-07",null,4913800,4600,null,1129,null,328.36935138089564,4928.3693513808958]
["2013-09-08","2013-09-08",null,4918400,4700,null,1175,null,341.74843921395251,5041.7484392139522]
["2013-09-09","2013-09-09",null,4923100,3400,null,1039,null,302.19287518578437,3702.1928751857845]
["2013-09-10","2013-09-10",null,4926500,2800,null,845,null,245.76802649854454,3045.7680264985447]
["2013-09-11","2013-09-11",null,4929300,2500,null,914,null,265.83665824812988,2765.8366582481299]
["2013-09-12","2013-09-12",null,4931800,3000,null,1012,null,294.33993232725101,3294.3399323272511]
["2013-09-13","2013-09-13",null,4934800,5000,null,1359,null,395.26479054617994,5395.2647905461799]
["2013-09-14","2013-09-14",null,4939800,3900,null,990,null,287.94123814622378,4187.9412381462234]
["2013-09-15","2013-09-15",null,4943700,4000,null,1020,null,296.66673021126087,4296.666730211261]
["2013-09-16","2013-09-16",null,4947700,3100,null,956,null,278.05234713918179,3378.0523471391816]
["2013-09-17","2013-09-17",null,4950800,2400,null,892,null,259.43796406710266,2659.4379640671027]
["2013-09-18","2013-09-18",null,4953200,3000,null,902,null,262.346461422115,3262.3464614221148]
["2013-09-19","2013-09-19",null,4956200,3300,null,1060,null,308.30071963131036,3608.3007196313101]
["2013-09-20","2013-09-20",null,4959500,5000,null,1315,null,382.46740218412555,5382.4674021841256]
["2013-09-21","2013-09-21",null,4964500,3500,null,992,null,288.52293761722626,3788.5229376172265,{"$f":"+J128","v":4167.6205157020777}]
["2013-09-22","2013-09-22",null,4968000,{"$error":"#VALUE!"},null,1102]
["2013-09-23","2013-09-23",null,"Closed",null,null,null,null,"Ave",{"$f":"AVERAGE(J106:J127)","v":4167.6205157020777}]
["2013-09-24","2013-09-24",null,"Closed"]
["2013-09-25","2013-09-25",null,"Closed"]
["2013-09-26","2013-09-26",null,"Closed"]
["2013-09-27","2013-09-27",null,"Closed"]
["2013-09-28","2013-09-28",null,"Closed"]
["2013-09-29","2013-09-29",null,"Closed"]
["2013-09-30","2013-09-30",null,"Closed"]
[]
["2013-11-01","2013-11-01",null,4992500]
["2013-11-02","2013-11-02"]
["2013-11-03","2013-11-03"]
["2013-11-04","2013-11-04",null,4992700]
["2013-11-05","2013-11-05",null,4993200]
["2013-11-06","2013-11-06",null,4994300]
["2013-11-07","2013-11-07",null,4997100]
["2013-11-08","2013-11-08",null,4998000]
["2013-11-09","2013-11-09"]
["2013-11-10","2013-11-10"]
["2013-11-11","2013-11-11",null,4998200,{"$f":"+D148-D147","v":1800}]
["2013-11-12","2013-11-12",null,5000000,1600]
["2013-11-13","2013-11-13",null,5001600,2400]
["2013-11-14","2013-11-14",null,5004000,2100]
["2013-11-15","2013-11-15",null,5006100,3600,null,962,null,{"$f":"+G151*$H$4","v":279.79744555218917},{"$f":"+I151+E151","v":3879.7974455521889}]
["2013-11-16","2013-11-16",null,5009700,2100,null,694,null,201.84971643785789,2301.8497164378578]
["2013-11-17","2013-11-17",null,5011800,2800,null,811,null,235.87913549150252,3035.8791354915024]
["2013-11-18","2013-11-18",null,5014600,2200,null,729,null,212.02945718040115,2412.0294571804011]
["2013-11-19","2013-11-19",null,5016800,1600,null,722,null,209.9935090318925,1809.9935090318925]
["2013-11-20","2013-11-20",null,5018400,2300,null,864,null,251.29417147306805,2551.2941714730682]
["2013-11-21","2013-11-21",null,5020700,3000,null,1047,null,304.51967306979424,3304.5196730697944]
["2013-11-22","2013-11-22",null,5023700,4100,null,1555,null,452.27133870442225,4552.2713387044223]
["2013-11-23","2013-11-23",null,5027800,2000,null,646,null,187.88892913379857,2187.8889291337987]
["2013-11-24","2013-11-24",null,5029800,2700,null,716,null,208.24841061888509,2908.2484106188849]
["2013-11-25","2013-11-25",null,5032500,1900,null,704,null,204.75821379287027,2104.7582137928703]
["2013-11-26","2013-11-26",null,5034400,2700,null,898,null,261.1830624801101,2961.18306248011]
["2013-11-27","2013-11-27",null,5037100,5700,null,1441,null,419.11446885728128,6119.1144688572813]
["2013-11-28","2013-11-28",null,5042800,3700,null,944,null,274.56215031316691,3974.562150313167]
["2013-11-29","2013-11-29",null,5046500,3400,null,869,null,252.74842015057422,3652.748420150574]
["2013-11-30","2013-11-30",null,5049900,{"$f":"+D169-D166","v":4500},null,1019,null,296.37588047575963,4796.3758804757599]
[]
[]
["2013-12-01","2013-12-01",null,5054400,{"$f":"+D170-D169","v":6100},null,1502,null,{"$f":"+G169*$H$4","v":436.8563027228567},{"$f":"+I169+E169","v":6536.8563027228565}]
["2013-12-02","2013-12-02",null,5060500,{"$f":"+D171-D170","v":2700},null,933,null,271.36280322265333,2971.3628032226534]
["2013-12-03","2013-12-03",null,5063200,1900,null,710,null,206.50331220587768,2106.5033122058776]
["2013-12-04","2013-12-04",null,5065100,1900,null,661,null,192.25167516631711,2092.251675166317]
["2013-12-05","2013-12-05",null,5067000,2100,null,769,null,223.66344660045061,2323.6634466004507]
["2013-12-06","2013-12-06",null,5069100,1900,null,788,null,229.18959157497409,2129.1895915749742]
["2013-12-07","2013-12-07",null,5071000,1800,null,558,null,162.29415240968979,1962.2941524096898]
["2013-12-08","2013-12-08",null,5072800,1700,null,580,null,168.69284659071698,1868.692846590717]
["2013-12-09","2013-12-09",null,5074500,1500,null,705,null,205.04906352837151,1705.0490635283716]
["2013-12-10","2013-12-10",null,5076000,1500,null,672,null,195.4510222568307,1695.4510222568306]
["2013-12-11","2013-12-11",null,5077500,1500,null,680,null,197.77782014084059,1697.7778201408405]
["2013-12-12","2013-12-12",null,5079000,2000,null,749,null,217.8464518904259,2217.8464518904257]
["2013-12-13","2013-12-13",null,5081000,2400,null,818,null,237.91508364001118,2637.9150836400113]
["2013-12-14","2013-12-14",null,5083400,1400,null,516,null,150.07846351863785,1550.0784635186378]
["2013-12-15","2013-12-15",null,5084800,1700,null,594,null,172.76474288773429,1872.7647428877342]
["2013-12-16","2013-12-16",null,5086500,1900,null,751,null,218.42815136142835,2118.4281513614283]
["2013-12-17","2013-12-17",null,5088400,1600,null,719,null,209.12095982538881,1809.1209598253888]
["2013-12-18","2013-12-18",null,5090000,2000,null,807,null,234.71573654949759,2234.7157365494977]
["2013-12-19","2013-12-19",null,5092000,1700,null,826,null,240.24188152402107,1940.241881524021]
["2013-12-20","2013-12-20",null,5093700,2600,null,947,null,275.43469951967063,2875.4346995196706]
["2013-12-21","2013-12-21",null,5096300,3500,null,934,null,271.65365295815457,3771.6536529581545]
["2013-12-22","2013-12-22",null,5099800,1700,null,593,null,172.47389315223305,1872.4738931522331]
["2013-12-23","2013-12-23",null,5101500,2900,null,929,null,270.19940428064837,3170.1994042806482]
["2013-12-24","2013-12-24",null,5104400,1800,null,689,null,200.39546776035172,2000.3954677603517]
["2013-12-25","2013-12-25",null,5106200,2800,null,598,null,173.92814182973922,2973.9281418297392]
["2013-12-26","2013-12-26",null,5109000,3700,null,989,null,287.65038841072254,3987.6503884107224]
["2013-12-27","2013-12-27",null,5112700,4000,null,1084,null,315.28111328334001,4315.2811132833403]
["2013-12-28","2013-12-28",null,5116700,3900,null,937,null,272.52620216465829,4172.5262021646586]
["2013-12-29","2013-12-29",null,5120600,3500,null,1115,null,324.29745508387833,3824.2974550838785]
["2013-12-30","2013-12-30",null,5124100,3300,null,637,null,185.27128151428744,3485.2712815142872]
["2013-12-31","2013-12-31",null,5127400,-5127400]

{"sheet":"2014","index":1,"n_rows":372,"n_cols":44,"rows_kept":372,"cut":false,"hidden":false,"merged":[[4,31,4,35],[4,22,4,26]]}
["Water Meter Readings"]
["Juneau County",null,null,null,null,null,"Estimate",null,null,null,null,null,null,null,null,null,null,null,null,null,null,null,null,null,null,null,null,null,null,null,null,null,"Use whole minute times for pump run time (i.e. 4.0 min)"]
["Rest Area #10",null,null,null,null,null,null,null,null,null,null,null,null,null,null,null,null,null,null,null,null,null,null,null,null,"2014 Flow test",94.811115771428589,"gpm",null,null,null,null,null,null,"2015 Atten flow est",{"$f":"#REF!","v":{"$error":"#REF!"}},"gpm"]
[null,null,null,null,null,null,"Est. waste contrib/Veh",0.29084973550123616,"gal/veh","See RA 13 analysis",null,null,null,null,null,null,null,null,null,null,1500,"Max daily dose"]
[null,null,null,null,null,null,null,null,null,null,null,null,null,null,null,null,null,null,null,null,null,null,"Mound Pumps",null,null,null,null,null,null,null,null,"Attenuation Pumps",null,null,null,null,null,"Run time + rest time = cycle length"]
["Date","Day of Week",null,"Meter Reading (gal)","H2O Use",null,"Traffic",null,"Waste Contrib","Est Total",null,null,null,"Wk #","7 day ave flow","Wk #",null,"7 day ave traffic",null,null,"# cells","Target Daily vol","Actual Daily vol","Actual Cycle time (min)","Mound cycle vol","Mound cycle (min)","Mound run (min)",null,"Inflow-outflow","Atten Tank Vol",null,"Actual Daily vol","Actual Cycle time (min)","Atten cycle vol","Atten cycle (min)","Atten run (min)"]
[null,null,null,5127400]
["2014-01-01","2014-01-01",null,5129400,{"$f":"+D8-D7","v":2000},null,491,null,{"$f":"+G8*$H$4","v":142.80722013110696},{"$f":"+I8+E8","v":2142.807220131107}]
["2014-01-02","2014-01-02",null,5131600,{"$f":"+D9-D8","v":2200},null,623,null,{"$f":"+G9*$H$4","v":181.19938521727013},{"$f":"+I9+E9","v":2381.19938521727}]
["2014-01-03","2014-01-03",null,5133800,2200,null,721,null,209.70265929639126,2409.7026592963912]
["2014-01-04","2014-01-04",null,5136700,2900,null,620,null,180.32683601076641,3080.3268360107663]
["2014-01-05","2014-01-05",null,5139600,2900,null,481,null,139.89872277609459,3039.8987227760945,null,{"$f":"+B12","v":"2014-01-05"},{"$f":"+J12","v":3039.8987227760945},1]
["2014-01-06","2014-01-06",null,5141700,2100,null,345,null,100.34315874792648,2200.3431587479263,null,{"$f":"+B13","v":"2014-01-06"},{"$f":"+J13","v":2200.3431587479263},1]
["2014-01-07","2014-01-07",null,5143600,1900,null,434,null,126.22878520753649,2026.2287852075365,null,"2014-01-07",2026.2287852075365,1]
["2014-01-08","2014-01-08",null,5145600,2000,null,565,null,164.33010055819844,2164.3301005581984,null,"2014-01-08",2164.3301005581984,1]
["2014-01-09","2014-01-09",null,5147800,2200,null,712,null,207.08501167688016,2407.0850116768802,null,"2014-01-09",2407.0850116768802,1,null,null,null,null,null,null,null,null,null,75,null,null,2.5,null,null,null,null,null,40,null,null,4]
["2014-01-10","2014-01-10",null,5150100,2300,null,718,null,208.83011008988757,2508.8301100898875,null,"2014-01-10",2508.8301100898875,1,null,null,null,null,null,null,null,null,null,null,null,null,null,null,0]
["2014-01-11","2014-01-11",null,5152400,2300,null,528,null,153.5686603446527,2453.5686603446529,null,"2014-01-11",2453.5686603446529,1,{"$f":"AVERAGE(M12:M18)","v":2400.0406499144533},{"$f":"+A18","v":"2014-01-11"},null,{"$f":"AVERAGE(G12:G18)","v":540.42857142857144},null,null,3,{"$f":"+U18*$U$4","v":4500},{"$f":"(24*60)/X18*Y18","v":5688.6669462857153},60,{"$f":"+AA18*AA$3","v":237.02778942857148},{"$f":"24*60/(+V18/Y18)","v":75.84889261714288},2.5,null,{"$f":"+M18-V18","v":-2046.4313396553471},{"$f":"IF(+AC18+AC17<0,0,+AC18+AC17)","v":0},null,{"$f":"(24*60)/AG18*AH18","v":{"$error":"#REF!"}},40,{"$f":"+AJ18*AJ$3","v":{"$error":"#REF!"}},{"$f":"24*60/(+V18/AH18)","v":{"$error":"#REF!"}},4]
["2014-01-12","2014-01-12",null,5154400,2000,null,631,null,183.52618310128003,2183.5261831012799,null,"2014-01-12",2183.5261831012799,{"$f":"1+N12","v":2},null,null,null,null,null,null,null,{"$f":"+V18","v":4500},null,null,null,null,null,null,{"$f":"+M19-V19","v":-2316.4738168987201},{"$f":"IF(+AC19+AD18<0,0,+AC19+AD18)","v":0}]
["2014-01-13","2014-01-13",null,5156100,1700,null,663,null,192.83337463731957,1892.8333746373196,null,"2014-01-13",1892.8333746373196,{"$f":"1+N13","v":2},null,null,null,null,null,null,null,{"$f":"+V19","v":4500},null,null,null,null,null,null,-2607.1666253626804,{"$f":"IF(+AC20+AD19<0,0,+AC20+AD19)","v":0}]
["2014-01-14","2014-01-14",null,5158400,2300,null,630,null,183.23533336577879,2483.2353333657788,null,"2014-01-14",2483.2353333657788,2,null,null,null,null,null,null,null,4500,null,null,null,null,null,null,-2016.7646666342212,0]
["2014-01-15","2014-01-15",null,5159400,1000,null,755,null,219.59155030343331,1219.5915503034332,null,"2014-01-15",1219.5915503034332,2,null,null,null,null,null,null,null,4500,null,null,null,null,null,null,-3280.408449696567,0]
["2014-01-16","2014-01-16",null,5161000,1600,null,686,null,199.522918553848,1799.5229185538481,null,"2014-01-16",1799.5229185538481,2,null,null,null,null,null,null,null,4500,null,null,null,null,null,null,-2700.4770814461517,0]
["2014-01-17","2014-01-17",null,5162500,1500,null,831,null,241.69613020152724,1741.6961302015272,null,"2014-01-17",1741.6961302015272,2,null,null,null,null,null,null,null,4500,null,null,null,null,null,null,-2758.303869798473,0]
["2014-01-18","2014-01-18",null,5165200,2700,null,545,null,158.51310584817369,2858.5131058481738,null,"2014-01-18",2858.5131058481738,2,{"$f":"AVERAGE(M19:M25)","v":2025.5597994301945},{"$f":"+A25","v":"2014-01-18"},null,{"$f":"AVERAGE(G19:G25)","v":677.28571428571433},null,null,3,{"$f":"+U25*$U$4","v":4500},null,null,250,{"$f":"24*60/(V25/Y25)","v":80},{"$f":"+Y25/$AA$3","v":2.6368216212400877},null,-1641.4868941518262,0,null,null,null,125,{"$f":"24*60/(V25/AH25)","v":40},{"$f":"+AH25/$AJ$3","v":{"$error":"#REF!"}}]
["2014-01-19","2014-01-19",null,5167000,1800,null,686,null,199.522918553848,1999.5229185538481,null,"2014-01-19",1999.5229185538481,3,null,null,null,null,null,null,null,{"$f":"+V25","v":4500},null,null,null,null,null,null,-2500.4770814461517,0]
["2014-01-20","2014-01-20",null,5169100,2100,null,678,null,197.19612066983811,2297.1961206698379,null,"2014-01-20",2297.1961206698379,3,null,null,null,null,null,null,null,4500,null,null,null,null,null,null,-2202.8038793301621,0]
["2014-01-21","2014-01-21",null,5170700,1600,null,616,null,179.16343706876148,1779.1634370687616,null,"2014-01-21",1779.1634370687616,3,null,null,null,null,null,null,null,4500,null,null,null,null,null,null,-2720.8365629312384,0]
["2014-01-22","2014-01-22",null,5172500,1800,null,650,null,189.0523280758035,1989.0523280758034,null,"2014-01-22",1989.0523280758034,3,null,null,null,null,null,null,null,4500,null,null,null,null,null,null,-2510.9476719241966,0]
["2014-01-23","2014-01-23",null,5174200,1700,null,642,null,186.72553019179361,1886.7255301917935,null,"2014-01-23",1886.7255301917935,3,null,null,null,null,null,null,null,4500,null,null,null,null,null,null,-2613.2744698082065,0]
["2014-01-24","2014-01-24",null,5175400,1200,null,728,null,211.73860744489991,1411.7386074449,null,"2014-01-24",1411.7386074449,3,null,null,null,null,null,null,null,4500,null,null,null,null,null,null,-3088.2613925551,0]
["2014-01-25","2014-01-25",null,5177700,2300,null,500,null,145.42486775061809,2445.424867750618,null,"2014-01-25",2445.424867750618,3,{"$f":"AVERAGE(M26:M32)","v":1972.6891156793663},{"$f":"+A32","v":"2014-01-25"},null,{"$f":"AVERAGE(G26:G32)","v":642.85714285714289},null,null,3,4500,null,null,250,{"$f":"24*60/(V32/Y32)","v":80},{"$f":"+Y32/$AA$3","v":2.6368216212400877},null,-2054.575132249382,0,null,null,null,125,{"$f":"24*60/(V32/AH32)","v":40},{"$f":"+AH32/$AJ$3","v":{"$error":"#REF!"}}]
["2014-01-26","2014-01-26",null,5179100,1400,null,484,null,140.77127198259831,1540.7712719825984,null,"2014-01-26",1540.7712719825984,4,null,null,null,null,null,null,null,{"$f":"+V32","v":4500},null,null,null,null,null,null,-2959.2287280174014,0]
["2014-01-27","2014-01-27",null,5180600,1500,null,515,null,149.78761378313663,1649.7876137831367,null,"2014-01-27",1649.7876137831367,4,null,null,null,null,null,null,null,4500,null,null,null,null,null,null,-2850.2123862168633,0]
["2014-01-28","2014-01-28",null,5182000,1400,null,538,null,156.47715769966504,1556.477157699665,null,"2014-01-28",1556.477157699665,4,null,null,null,null,null,null,null,4500,null,null,null,null,null,null,-2943.522842300335,0]
["2014-01-29","2014-01-29",null,5183100,1100,null,687,null,199.81376828934924,1299.8137682893494,null,"2014-01-29",1299.8137682893494,4,null,null,null,null,null,null,null,4500,null,null,null,null,null,null,-3200.1862317106506,0]
["2014-01-30","2014-01-30",null,5184400,1300,null,621,null,180.61768574626765,1480.6176857462676,null,"2014-01-30",1480.6176857462676,4,null,null,null,null,null,null,null,4500,null,null,null,null,null,null,-3019.3823142537321,0]
["2014-01-31","2014-01-31",null,5185600,1200,null,795,null,231.22553972348274,1431.2255397234828,null,"2014-01-31",1431.2255397234828,4,null,null,null,null,null,null,null,4500,null,null,null,null,null,null,-3068.7744602765169,0]
["2014-02-01","2014-02-01",null,5187500,{"$f":"+D39-D38","v":1900},null,482,null,{"$f":"+G39*$H$4","v":140.18957251159583},{"$f":"+I39+E39","v":2040.1895725115958},null,{"$f":"+B39","v":"2014-02-01"},{"$f":"+J39","v":2040.1895725115958},4,{"$f":"AVERAGE(M33:M39)","v":1571.2689442480134},{"$f":"+A39","v":"2014-02-01"},null,{"$f":"AVERAGE(G33:G39)","v":588.85714285714289},null,null,3,4500,null,null,250,{"$f":"24*60/(V39/Y39)","v":80},{"$f":"+Y39/$AA$3","v":2.6368216212400877},null,-2459.8104274884045,0,null,null,null,125,{"$f":"24*60/(V39/AH39)","v":40},{"$f":"+AH39/$AJ$3","v":{"$error":"#REF!"}}]
["2014-02-02","2014-02-02",null,5188700,{"$f":"+D40-D39","v":1200},null,565,null,{"$f":"+G40*$H$4","v":164.33010055819844},{"$f":"+I40+E40","v":1364.3301005581984},null,"2014-02-02",1364.3301005581984,5,null,null,null,null,null,null,null,{"$f":"+V39","v":4500},null,null,null,null,null,null,-3135.6698994418016,0]
["2014-02-03","2014-02-03",null,5190200,1500,null,666,null,193.70592384382329,1693.7059238438233,null,"2014-02-03",1693.7059238438233,5,null,null,null,null,null,null,null,4500,null,null,null,null,null,null,-2806.2940761561767,0]
["2014-02-04","2014-02-04",null,5191500,1300,null,650,null,189.0523280758035,1489.0523280758034,null,"2014-02-04",1489.0523280758034,5,null,null,null,null,null,null,null,4500,null,null,null,null,null,null,-3010.9476719241966,0]
["2014-02-05","2014-02-05",null,5193000,1500,null,540,null,157.05885717066752,1657.0588571706676,null,"2014-02-05",1657.0588571706676,5,null,null,null,null,null,null,null,4500,null,null,null,null,null,null,-2842.9411428293324,0]
["2014-02-06","2014-02-06",null,5194200,1200,null,676,null,196.61442119883566,1396.6144211988358,null,"2014-02-06",1396.6144211988358,5,null,null,null,null,null,null,null,4500,null,null,null,null,null,null,-3103.3855788011642,0]
["2014-02-07","2014-02-07",null,5195600,1400,null,729,null,212.02945718040115,1612.0294571804011,null,"2014-02-07",1612.0294571804011,5,null,null,null,null,null,null,null,4500,null,null,null,null,null,null,-2887.9705428195989,0]
["2014-02-08","2014-02-08",null,5197700,2100,null,549,null,159.67650479017865,2259.6765047901786,null,"2014-02-08",2259.6765047901786,5,{"$f":"AVERAGE(M40:M46)","v":1638.9239418311299},{"$f":"+A46","v":"2014-02-08"},null,{"$f":"AVERAGE(G40:G46)","v":625},null,null,3,4500,null,null,250,{"$f":"24*60/(V46/Y46)","v":80},{"$f":"+Y46/$AA$3","v":2.6368216212400877},null,-2240.3234952098214,0,null,null,null,125,{"$f":"24*60/(V46/AH46)","v":40},{"$f":"+AH46/$AJ$3","v":{"$error":"#REF!"}}]
["2014-02-09","2014-02-09",null,5199300,1600,null,605,null,175.96408997824787,1775.9640899782478,null,"2014-02-09",1775.9640899782478,6,null,null,null,null,null,null,null,{"$f":"+V46","v":4500},null,null,null,null,null,null,-2724.035910021752,0]
["2014-02-10","2014-02-10",null,5201400,2100,null,584,null,169.85624553272191,2269.8562455327219,null,"2014-02-10",2269.8562455327219,6,null,null,null,null,null,null,null,4500,null,null,null,null,null,null,-2230.1437544672781,0]
["2014-02-11","2014-02-11",null,5202700,1300,null,615,null,178.87258733326024,1478.8725873332603,null,"2014-02-11",1478.8725873332603,6,null,null,null,null,null,null,null,4500,null,null,null,null,null,null,-3021.1274126667395,0]
["2014-02-12","2014-02-12",null,5204200,1500,null,716,null,208.24841061888509,1708.2484106188851,null,"2014-02-12",1708.2484106188851,6,null,null,null,null,null,null,null,4500,null,null,null,null,null,null,-2791.7515893811151,0]
["2014-02-13","2014-02-13",null,5205400,1200,null,741,null,215.519654006416,1415.519654006416,null,"2014-02-13",1415.519654006416,6,null,null,null,null,null,null,null,4500,null,null,null,null,null,null,-3084.4803459935838,0]
["2014-02-14","2014-02-14",null,5207000,1600,null,858,null,249.54907306006064,1849.5490730600607,null,"2014-02-14",1849.5490730600607,6,null,null,null,null,null,null,null,4500,null,null,null,null,null,null,-2650.4509269399396,0]
["2014-02-15","2014-02-15",null,5209000,2000,null,535,null,155.60460849316135,2155.6046084931613,null,"2014-02-15",2155.6046084931613,6,{"$f":"AVERAGE(M47:M53)","v":1807.6592384318221},{"$f":"+A53","v":"2014-02-15"},null,{"$f":"AVERAGE(G47:G53)","v":664.85714285714289},null,null,3,4500,null,null,250,{"$f":"24*60/(V53/Y53)","v":80},{"$f":"+Y53/$AA$3","v":2.6368216212400877},null,-2344.3953915068387,0,null,null,null,125,{"$f":"24*60/(V53/AH53)","v":40},{"$f":"+AH53/$AJ$3","v":{"$error":"#REF!"}}]
["2014-02-16","2014-02-16",null,5210300,1300,null,710,null,206.50331220587768,1506.5033122058776,null,"2014-02-16",1506.5033122058776,7,null,null,null,null,null,null,null,{"$f":"+V53","v":4500},null,null,null,null,null,null,-2993.4966877941224,0]
["2014-02-17","2014-02-17",null,5212200,1900,null,534,null,155.31375875766011,2055.3137587576603,null,"2014-02-17",2055.3137587576603,7,null,null,null,null,null,null,null,4500,null,null,null,null,null,null,-2444.6862412423397,0]
["2014-02-18","2014-02-18",null,5213200,1000,null,698,null,203.01311537986285,1203.0131153798629,null,"2014-02-18",1203.0131153798629,7,null,null,null,null,null,null,null,4500,null,null,null,null,null,null,-3296.9868846201371,0]
["2014-02-19","2014-02-19",null,5214500,1300,null,764,null,222.20919792294444,1522.2091979229444,null,"2014-02-19",1522.2091979229444,7,null,null,null,null,null,null,null,4500,null,null,null,null,null,null,-2977.7908020770556,0]
["2014-02-20","2014-02-20",null,5216000,1500,null,563,null,163.74840108719596,1663.748401087196,null,"2014-02-20",1663.748401087196,7,null,null,null,null,null,null,null,4500,null,null,null,null,null,null,-2836.2515989128042,0]
["2014-02-21","2014-02-21",null,5217800,1800,null,758,null,220.464099509937,2020.4640995099371,null,"2014-02-21",2020.4640995099371,7,null,null,null,null,null,null,null,4500,null,null,null,null,null,null,-2479.5359004900629,0]
["2014-02-22","2014-02-22",null,5219700,1900,null,606,null,176.25493971374911,2076.2549397137491,null,"2014-02-22",2076.2549397137491,7,{"$f":"AVERAGE(M54:M60)","v":1721.0724035110325},{"$f":"+A60","v":"2014-02-22"},null,{"$f":"AVERAGE(G54:G60)","v":661.85714285714289},null,null,3,4500,null,null,250,{"$f":"24*60/(V60/Y60)","v":80},{"$f":"+Y60/$AA$3","v":2.6368216212400877},null,-2423.7450602862509,0,null,null,null,125,{"$f":"24*60/(V60/AH60)","v":40},{"$f":"+AH60/$AJ$3","v":{"$error":"#REF!"}}]
["2014-02-23","2014-02-23",null,5221400,1700,null,642,null,186.72553019179361,1886.7255301917935,null,"2014-02-23",1886.7255301917935,8,null,null,null,null,null,null,null,{"$f":"+V60","v":4500},null,null,null,null,null,null,-2613.2744698082065,0]
["2014-02-24","2014-02-24",null,5223000,1600,null,659,null,191.66997569531463,1791.6699756953146,null,"2014-02-24",1791.6699756953146,8,null,null,null,null,null,null,null,4500,null,null,null,null,null,null,-2708.3300243046851,0]
["2014-02-25","2014-02-25",null,5224100,1100,null,710,null,206.50331220587768,1306.5033122058776,null,"2014-02-25",1306.5033122058776,8,null,null,null,null,null,null,null,4500,null,null,null,null,null,null,-3193.4966877941224,0]
["2014-02-26","2014-02-26",null,5225800,1700,null,659,null,191.66997569531463,1891.6699756953146,null,"2014-02-26",1891.6699756953146,8,null,null,null,null,null,null,null,4500,null,null,null,null,null,null,-2608.3300243046851,0]
["2014-02-27","2014-02-27",null,5227400,1600,null,700,null,203.5948148508653,1803.5948148508653,null,"2014-02-27",1803.5948148508653,8,null,null,null,null,null,null,null,4500,null,null,null,null,null,null,-2696.4051851491349,0]
["2014-02-28","2014-02-28",null,5229100,1700,null,855,null,248.67652385355692,1948.676523853557,null,"2014-02-28",1948.676523853557,8,null,null,null,null,null,null,null,4500,null,null,null,null,null,null,-2551.3234761464428,0]
["2014-03-01","2014-03-01",null,5231500,{"$f":"+D67-D66","v":2400},null,604,null,{"$f":"+G67*$H$4","v":175.67324024274663},{"$f":"+I67+E67","v":2575.6732402427465},null,"2014-03-01",2575.6732402427465,8,{"$f":"AVERAGE(M61:M67)","v":1886.3590532479243},{"$f":"+A67","v":"2014-03-01"},null,{"$f":"AVERAGE(G61:G67)","v":689.85714285714289},null,null,3,4500,null,null,250,{"$f":"24*60/(V67/Y67)","v":80},{"$f":"+Y67/$AA$3","v":2.6368216212400877},null,-1924.3267597572535,0,null,null,null,125,{"$f":"24*60/(V67/AH67)","v":40},{"$f":"+AH67/$AJ$3","v":{"$error":"#REF!"}}]
["2014-03-02","2014-03-02",null,5233400,{"$f":"+D68-D67","v":1900},null,665,null,193.41507410832205,2093.4150741083222,null,"2014-03-02",2093.4150741083222,9,null,null,null,null,null,null,null,{"$f":"+V67","v":4500},null,null,null,null,null,null,-2406.5849258916778,0]
["2014-03-03","2014-03-03",null,5235400,2000,null,656,null,190.79742648881091,2190.7974264888107,null,"2014-03-03",2190.7974264888107,9,null,null,null,null,null,null,null,4500,null,null,null,null,null,null,-2309.2025735111893,0]
["2014-03-04","2014-03-04",null,5236700,1300,null,605,null,175.96408997824787,1475.9640899782478,null,"2014-03-04",1475.9640899782478,9,null,null,null,null,null,null,null,4500,null,null,null,null,null,null,-3024.035910021752,0]
["2014-03-05","2014-03-05",null,5238100,1400,null,673,null,195.74187199233194,1595.7418719923319,null,"2014-03-05",1595.7418719923319,9,null,null,null,null,null,null,null,4500,null,null,null,null,null,null,-2904.2581280076683,0]
["2014-03-06","2014-03-06",null,5239600,1500,null,840,null,244.31377782103837,1744.3137778210385,null,"2014-03-06",1744.3137778210385,9,null,null,null,null,null,null,null,4500,null,null,null,null,null,null,-2755.6862221789615,0]
["2014-03-07","2014-03-07",null,5241200,1600,null,837,null,243.44122861453468,1843.4412286145348,null,"2014-03-07",1843.4412286145348,9,null,null,null,null,null,null,null,4500,null,null,null,null,null,null,-2656.5587713854652,0]
["2014-03-08","2014-03-08",null,5243600,2400,null,646,null,187.88892913379857,2587.8889291337987,null,"2014-03-08",2587.8889291337987,9,{"$f":"AVERAGE(M68:M74)","v":1933.0803425910121},{"$f":"+A74","v":"2014-03-08"},null,{"$f":"AVERAGE(G68:G74)","v":703.14285714285711},null,null,3,4500,null,null,250,{"$f":"24*60/(V74/Y74)","v":80},{"$f":"+Y74/$AA$3","v":2.6368216212400877},null,-1912.1110708662013,0,null,null,null,125,{"$f":"24*60/(V74/AH74)","v":40},{"$f":"+AH74/$AJ$3","v":{"$error":"#REF!"}}]
["2014-03-09","2014-03-09",null,5245600,2000,null,800,null,232.67978840098894,2232.6797884009889,null,"2014-03-09",2232.6797884009889,10,null,null,null,null,null,null,null,{"$f":"+V74","v":4500},null,null,null,null,null,null,-2267.3202115990111,0]
["2014-03-10","2014-03-10",null,5247800,2200,null,741,null,215.519654006416,2415.5196540064162,null,"2014-03-10",2415.5196540064162,10,null,null,null,null,null,null,null,4500,null,null,null,null,null,null,-2084.4803459935838,0]
["2014-03-11","2014-03-11",null,5249500,1700,null,725,null,210.86605823839622,1910.8660582383961,null,"2014-03-11",1910.8660582383961,10,null,null,null,null,null,null,null,4500,null,null,null,null,null,null,-2589.1339417616036,0]
["2014-03-12","2014-03-12",null,5251100,1600,null,726,null,211.15690797389746,1811.1569079738974,null,"2014-03-12",1811.1569079738974,10,null,null,null,null,null,null,null,4500,null,null,null,null,null,null,-2688.8430920261026,0]
["2014-03-13","2014-03-13",null,5252700,1600,null,872,null,253.62096935707794,1853.6209693570779,null,"2014-03-13",1853.6209693570779,10,null,null,null,null,null,null,null,4500,null,null,null,null,null,null,-2646.3790306429219,0]
["2014-03-14","2014-03-14",null,5255000,2300,null,1033,null,300.44777677277693,2600.4477767727767,null,"2014-03-14",2600.4477767727767,10,null,null,null,null,null,null,null,4500,null,null,null,null,null,null,-1899.5522232272233,0]
["2014-03-15","2014-03-15",null,5257800,2800,null,817,null,237.62423390450994,3037.6242339045098,null,"2014-03-15",3037.6242339045098,10,{"$f":"AVERAGE(M75:M81)","v":2265.9879126648661},{"$f":"+A81","v":"2014-03-15"},null,{"$f":"AVERAGE(G75:G81)","v":816.28571428571433},null,null,3,4500,null,null,250,{"$f":"24*60/(V81/Y81)","v":80},{"$f":"+Y81/$AA$3","v":2.6368216212400877},null,-1462.3757660954902,0,null,null,null,125,{"$f":"24*60/(V81/AH81)","v":40},{"$f":"+AH81/$AJ$3","v":{"$error":"#REF!"}}]
["2014-03-16","2014-03-16",null,5260400,2600,null,875,null,254.49351856358163,2854.4935185635818,null,"2014-03-16",2854.4935185635818,11,null,null,null,null,null,null,null,{"$f":"+V81","v":4500},null,null,null,null,null,null,-1645.5064814364182,0]
["2014-03-17","2014-03-17",null,5263300,2900,null,864,null,251.29417147306805,3151.2941714730682,null,"2014-03-17",3151.2941714730682,11,null,null,null,null,null,null,null,4500,null,null,null,null,null,null,{"$f":"+M83-V83","v":-1348.7058285269318},0]
["2014-03-18","2014-03-18",null,5265300,2000,null,730,null,212.32030691590239,2212.3203069159026,null,"2014-03-18",2212.3203069159026,{"$f":"1+N77","v":11},null,null,null,null,null,null,null,4500,null,null,null,null,null,null,-2287.6796930840974,{"$f":"IF(+AC84+AD83<0,0,+AC84+AD83)","v":0}]
["2014-03-19","2014-03-19",null,5267000,1700,null,748,null,217.55560215492466,1917.5556021549246,null,"2014-03-19",1917.5556021549246,11,null,null,null,null,null,null,null,4500,null,null,null,null,null,null,-2582.4443978450754,0]
["2014-03-20","2014-03-20",null,5268700,1700,null,907,null,263.8007100996212,1963.8007100996213,null,"2014-03-20",1963.8007100996213,11,null,null,null,null,null,null,null,4500,null,null,null,null,null,null,-2536.199289900379,0]
["2014-03-21","2014-03-21",null,5271100,2400,null,955,null,277.76149740368055,2677.7614974036806,null,"2014-03-21",2677.7614974036806,11,null,null,null,null,null,null,null,4500,null,null,null,null,null,null,-1822.2385025963194,0]
["2014-03-22","2014-03-22",null,5274100,3000,null,865,null,251.58502120856929,3251.5850212085693,null,"2014-03-22",3251.5850212085693,11,{"$f":"AVERAGE(M82:M88)","v":2575.5444039741924},{"$f":"+A88","v":"2014-03-22"},null,{"$f":"AVERAGE(G82:G88)","v":849.14285714285711},null,null,3,{"$f":"+U88*$U$4","v":4500},null,null,250,{"$f":"24*60/(V88/Y88)","v":80},{"$f":"+Y88/$AA$3","v":2.6368216212400877},null,-1248.4149787914307,0,null,null,null,125,{"$f":"24*60/(V88/AH88)","v":40},{"$f":"+AH88/$AJ$3","v":{"$error":"#REF!"}}]
["2014-03-23","2014-03-23",null,5277100,3000,null,1015,null,295.21248153375473,3295.2124815337547,null,"2014-03-23",3295.2124815337547,12,null,null,null,null,null,null,null,{"$f":"+V88","v":4500},null,null,null,null,null,null,-1204.7875184662453,0]
["2014-03-24","2014-03-24",null,5280600,3500,null,836,null,243.15037887903344,3743.1503788790333,null,"2014-03-24",3743.1503788790333,12,null,null,null,null,null,null,null,4500,null,null,null,null,null,null,-756.84962112096673,0]
["2014-03-25","2014-03-25",null,5282700,2100,null,790,null,229.77129104597657,2329.7712910459768,null,"2014-03-25",2329.7712910459768,12,null,null,null,null,null,null,null,4500,null,null,null,null,null,null,-2170.2287089540232,0]
["2014-03-26","2014-03-26",null,5284400,1700,null,883,null,256.82031644759155,1956.8203164475915,null,"2014-03-26",1956.8203164475915,12,null,null,null,null,null,null,null,4500,null,null,null,null,null,null,-2543.1796835524083,0]
["2014-03-27","2014-03-27",null,5286700,2300,null,881,null,256.23861697658907,2556.2386169765891,null,"2014-03-27",2556.2386169765891,12,null,null,null,null,null,null,null,4500,null,null,null,null,null,null,-1943.7613830234109,0]
["2014-03-28","2014-03-28",null,5288800,2100,null,995,null,289.39548682372998,2389.3954868237302,null,"2014-03-28",2389.3954868237302,12,null,null,null,null,null,null,null,4500,null,null,null,null,null,null,-2110.6045131762698,0]
["2014-03-29","2014-03-29",null,5291800,3000,null,837,null,243.44122861453468,3243.4412286145348,null,"2014-03-29",3243.4412286145348,12,{"$f":"AVERAGE(M89:M95)","v":2787.7185429030301},{"$f":"+A95","v":"2014-03-29"},null,{"$f":"AVERAGE(G89:G95)","v":891},null,null,3,4500,null,null,250,{"$f":"24*60/(V95/Y95)","v":80},{"$f":"+Y95/$AA$3","v":2.6368216212400877},null,-1256.5587713854652,0,null,null,null,125,{"$f":"24*60/(V95/AH95)","v":40},{"$f":"+AH95/$AJ$3","v":{"$error":"#REF!"}}]
["2014-03-30","2014-03-30",null,5294400,2600,null,900,null,261.76476195111252,2861.7647619511126,null,"2014-03-30",2861.7647619511126,13,null,null,null,null,null,null,null,{"$f":"+V95","v":4500},null,null,null,null,null,null,-1638.2352380488874,0]
["2014-03-31","2014-03-31",null,5298200,3800,null,852,null,247.80397464705322,4047.8039746470531,null,"2014-03-31",4047.8039746470531,13,null,null,null,null,null,null,null,4500,null,null,null,null,null,null,-452.19602535294689,0]
["2014-04-01","2014-04-01",null,5300100,{"$f":"+D98-D97","v":1900},null,829,null,241.11443073052479,2141.1144307305249,null,{"$f":"+B98","v":"2014-04-01"},{"$f":"+J98","v":2141.1144307305249},13,null,null,null,null,null,null,null,4500,null,null,null,null,null,null,-2358.8855692694751,0]
["2014-04-02","2014-04-02",null,5302000,1900,null,892,null,259.43796406710266,2159.4379640671027,null,"2014-04-02",2159.4379640671027,13,null,null,null,null,null,null,null,4500,null,null,null,null,null,null,-2340.5620359328973,0]
["2014-04-03","2014-04-03",null,5304000,2000,null,871,null,253.3301196215767,2253.3301196215766,null,"2014-04-03",2253.3301196215766,13,null,null,null,null,null,null,null,4500,null,null,null,null,null,null,-2246.6698803784234,0]
["2014-04-04","2014-04-04",null,5306400,2400,null,889,null,258.56541486059893,2658.565414860599,null,"2014-04-04",2658.565414860599,13,null,null,null,null,null,null,null,4500,null,null,null,null,null,null,-1841.434585139401,0]
["2014-04-05","2014-04-05",null,5309400,3000,null,806,null,234.42488681399635,3234.4248868139962,null,"2014-04-05",3234.4248868139962,13,{"$f":"AVERAGE(M96:M102)","v":2765.2059360988524},{"$f":"+A102","v":"2014-04-05"},null,{"$f":"AVERAGE(G96:G102)","v":862.71428571428567},null,null,3,{"$f":"+U102*$U$4","v":4500},null,null,250,{"$f":"24*60/(V102/Y102)","v":80},{"$f":"+Y102/$AA$3","v":2.6368216212400877},null,-1265.5751131860038,0,null,null,null,125,{"$f":"24*60/(V102/AH102)","v":40},{"$f":"+AH102/$AJ$3","v":{"$error":"#REF!"}}]
["2014-04-06","2014-04-06",null,5312200,2800,null,964,null,280.37914502319165,3080.3791450231915,null,"2014-04-06",3080.3791450231915,14,null,null,null,null,null,null,null,{"$f":"+V102","v":4500},null,null,null,null,null,null,-1419.6208549768085,0]
["2014-04-07","2014-04-07",null,5315700,3500,null,841,null,244.60462755653961,3744.6046275565395,null,"2014-04-07",3744.6046275565395,14,null,null,null,null,null,null,null,4500,null,null,null,null,null,null,-755.39537244346047,0]
["2014-04-08","2014-04-08",null,5317500,1800,null,887,null,257.98371538959645,2057.9837153895965,null,"2014-04-08",2057.9837153895965,14,null,null,null,null,null,null,null,4500,null,null,null,null,null,null,-2442.0162846104035,0]
["2014-04-09","2014-04-09",null,5320000,2500,null,888,null,258.27456512509769,2758.2745651250975,null,"2014-04-09",2758.2745651250975,14,null,null,null,null,null,null,null,4500,null,null,null,null,null,null,-1741.7254348749025,0]
["2014-04-10","2014-04-10",null,5322100,2100,null,974,null,283.287642378204,2383.2876423782041,null,"2014-04-10",2383.2876423782041,14,null,null,null,null,null,null,null,4500,null,null,null,null,null,null,-2116.7123576217959,0]
["2014-04-11","2014-04-11",null,5324600,2500,null,1068,null,310.62751751532022,2810.6275175153201,null,"2014-04-11",2810.6275175153201,14,null,null,null,null,null,null,null,4500,null,null,null,null,null,null,-1689.3724824846799,0]
["2014-04-12","2014-04-12",null,5328000,3400,null,723,null,210.28435876739374,3610.2843587673938,null,"2014-04-12",3610.2843587673938,14,{"$f":"AVERAGE(M103:M109)","v":2920.7773673936204},{"$f":"+A109","v":"2014-04-12"},null,{"$f":"AVERAGE(G103:G109)","v":906.42857142857144},null,null,3,{"$f":"+U109*$U$4","v":4500},null,null,250,{"$f":"24*60/(V109/Y109)","v":80},{"$f":"+Y109/$AA$3","v":2.6368216212400877},null,-889.71564123260623,0,null,null,null,125,{"$f":"24*60/(V109/AH109)","v":40},{"$f":"+AH109/$AJ$3","v":{"$error":"#REF!"}}]
["2014-04-13","2014-04-13",null,5330200,2200,null,993,null,288.8137873527275,2488.8137873527276,null,"2014-04-13",2488.8137873527276,15,null,null,null,null,null,null,null,{"$f":"+V109","v":4500},null,null,null,null,null,null,-2011.1862126472724,0]
["2014-04-14","2014-04-14",null,5334200,4000,null,842,null,244.89547729204085,4244.8954772920406,null,"2014-04-14",4244.8954772920406,15,null,null,null,null,null,null,null,4500,null,null,null,null,null,null,-255.1045227079594,0]
["2014-04-15","2014-04-15",null,5335300,1100,null,904,null,262.92816089311748,1362.9281608931174,null,"2014-04-15",1362.9281608931174,15,null,null,null,null,null,null,null,4500,null,null,null,null,null,null,-3137.0718391068826,0]
["2014-04-16","2014-04-16",null,5337700,2400,null,863,null,251.00332173756681,2651.0033217375667,null,"2014-04-16",2651.0033217375667,15,null,null,null,null,null,null,null,4500,null,null,null,null,null,null,-1848.9966782624333,0]
["2014-04-17","2014-04-17",null,5339700,2000,null,1063,null,309.17326883781402,2309.1732688378142,null,"2014-04-17",2309.1732688378142,15,null,null,null,null,null,null,null,4500,null,null,null,null,null,null,-2190.8267311621858,0]
["2014-04-18","2014-04-18",null,5343000,3300,null,1342,null,390.32034504265891,3690.320345042659,null,"2014-04-18",3690.320345042659,15,null,null,null,null,null,null,null,4500,null,null,null,null,null,null,-809.67965495734097,0]
["2014-04-19","2014-04-19",null,5347200,4200,null,847,null,246.34972596954702,4446.3497259695469,null,"2014-04-19",4446.3497259695469,15,{"$f":"AVERAGE(M110:M116)","v":3027.6405838750675},{"$f":"+A116","v":"2014-04-19"},null,{"$f":"AVERAGE(G110:G116)","v":979.14285714285711},null,null,3,{"$f":"+U116*$U$4","v":4500},null,null,250,{"$f":"24*60/(V116/Y116)","v":80},{"$f":"+Y116/$AA$3","v":2.6368216212400877},null,-53.650274030453147,0,null,null,null,125,{"$f":"24*60/(V116/AH116)","v":40},{"$f":"+AH116/$AJ$3","v":{"$error":"#REF!"}}]
["2014-04-20","2014-04-20",null,5350800,3600,null,989,null,287.65038841072254,3887.6503884107224,null,"2014-04-20",3887.6503884107224,16,null,null,null,null,null,null,null,4500,null,null,null,null,null,null,-612.34961158927763,0]
["2014-04-21","2014-04-21",null,5354400,3600,null,1190,null,346.11118524647105,3946.111185246471,null,"2014-04-21",3946.111185246471,16,null,null,null,null,null,null,null,4500,null,null,null,null,null,null,-553.888814753529,0]
["2014-04-22","2014-04-22",null,5357700,3300,null,989,null,287.65038841072254,3587.6503884107224,null,"2014-04-22",3587.6503884107224,16,null,null,null,null,null,null,null,4500,null,null,null,null,null,null,-912.34961158927763,0]
["2014-04-23","2014-04-23",null,5360200,2500,null,932,null,271.07195348715209,2771.0719534871523,null,"2014-04-23",2771.0719534871523,16,null,null,null,null,null,null,null,4500,null,null,null,null,null,null,-1728.9280465128477,0]
["2014-04-24","2014-04-24",null,5362700,2500,null,1021,null,296.95757994676211,2796.9575799467621,null,"2014-04-24",2796.9575799467621,16,null,null,null,null,null,null,null,4500,null,null,null,null,null,null,-1703.0424200532379,0]
["2014-04-25","2014-04-25",null,5365400,2700,null,1223,null,355.7092265180118,3055.7092265180117,null,"2014-04-25",3055.7092265180117,16,null,null,null,null,null,null,null,4500,null,null,null,null,null,null,-1444.2907734819883,0]
["2014-04-26","2014-04-26",null,5369000,3600,null,920,null,267.58175666113726,3867.5817566611372,null,"2014-04-26",3867.5817566611372,16,{"$f":"AVERAGE(M117:M123)","v":3416.1046398115682},{"$f":"+A123","v":"2014-04-26"},null,{"$f":"AVERAGE(G117:G123)","v":1037.7142857142858},null,null,3,{"$f":"+U123*$U$4","v":4500},null,null,250,{"$f":"24*60/(V123/Y123)","v":80},{"$f":"+Y123/$AA$3","v":2.6368216212400877},null,-632.41824333886279,0,null,null,null,125,{"$f":"24*60/(V123/AH123)","v":40},{"$f":"+AH123/$AJ$3","v":{"$error":"#REF!"}}]
["2014-04-27","2014-04-27",null,5372700,3700,null,1030,null,299.57522756627327,3999.5752275662735,null,"2014-04-27",3999.5752275662735,17,null,null,null,null,null,null,null,4500,null,null,null,null,null,null,-500.4247724337265,0]
["2014-04-28","2014-04-28",null,5375100,2400,null,928,null,269.90855454514718,2669.9085545451471,null,"2014-04-28",2669.9085545451471,17,null,null,null,null,null,null,null,4500,null,null,null,null,null,null,-1830.0914454548529,0]
["2014-04-29","2014-04-29",null,5382800,7700,null,568,null,165.20264976470213,7865.2026497647021,null,"2014-04-29",7865.2026497647021,17,null,null,null,null,null,null,null,4500,null,null,null,null,null,null,3365.2026497647021,3365.2026497647021]
["2014-04-30","2014-04-30",null,5384800,2000,null,948,null,275.72554925517187,2275.7255492551717,null,"2014-04-30",2275.7255492551717,17,null,null,null,null,null,null,null,4500,null,null,null,null,null,null,-2224.2744507448283,1140.9281990198738]
["2014-05-01","2014-05-01",null,5387400,{"$f":"+D128-D127","v":2600},null,1022,null,{"$f":"+G128*$H$4","v":297.24842968226335},{"$f":"+I128+E128","v":2897.2484296822631},null,"2014-05-01",2897.2484296822631,17,null,null,null,null,null,null,null,4500,null,null,null,null,null,null,-1602.7515703177369,0]
["2014-05-02","2014-05-02",null,5389000,{"$f":"+D129-D128","v":1600},null,1287,null,374.32360959009094,1974.3236095900909,null,"2014-05-02",1974.3236095900909,17,null,null,null,null,null,null,null,4500,null,null,null,null,null,null,-2525.6763904099089,0]
["2014-05-03","2014-05-03",null,5394100,5100,null,947,null,275.43469951967063,5375.4346995196702,null,"2014-05-03",5375.4346995196702,17,{"$f":"AVERAGE(M124:M130)","v":3865.3455314176163},{"$f":"+A130","v":"2014-05-03"},null,{"$f":"AVERAGE(G124:G130)","v":961.42857142857144},null,null,3,{"$f":"+U130*$U$4","v":4500},null,null,250,{"$f":"24*60/(V130/Y130)","v":80},{"$f":"+Y130/$AA$3","v":2.6368216212400877},null,875.43469951967018,875.43469951967018,null,null,null,125,{"$f":"24*60/(V130/AH130)","v":40},{"$f":"+AH130/$AJ$3","v":{"$error":"#REF!"}}]
["2014-05-04","2014-05-04",null,5397400,3300,null,1165,null,338.83994185894011,3638.8399418589402,null,"2014-05-04",3638.8399418589402,18,null,null,null,null,null,null,null,4500,null,null,null,null,null,null,-861.16005814105984,14.27464137861034]
["2014-05-05","2014-05-05",null,5401200,3800,null,980,null,285.03274079121144,4085.0327407912114,null,"2014-05-05",4085.0327407912114,18,null,null,null,null,null,null,null,4500,null,null,null,null,null,null,-414.96725920878862,0]
["2014-05-06","2014-05-06",null,5404000,2800,null,962,null,279.79744555218917,3079.7974455521889,null,"2014-05-06",3079.7974455521889,18,null,null,null,null,null,null,null,4500,null,null,null,null,null,null,-1420.2025544478111,0]
["2014-05-07","2014-05-07",null,5406300,2300,null,961,null,279.50659581668793,2579.5065958166879,null,"2014-05-07",2579.5065958166879,18,null,null,null,null,null,null,null,4500,null,null,null,null,null,null,-1920.4934041833121,0]
["2014-05-08","2014-05-08",null,5409400,3100,null,1076,null,312.95431539933008,3412.95431539933,null,"2014-05-08",3412.95431539933,18,null,null,null,null,null,null,null,4500,null,null,null,null,null,null,-1087.04568460067,0]
["2014-05-09","2014-05-09",null,5412400,3000,null,1375,null,399.91838631419972,3399.9183863141998,null,"2014-05-09",3399.9183863141998,18,null,null,null,null,null,null,null,4500,null,null,null,null,null,null,-1100.0816136858002,0]
["2014-05-10","2014-05-10",null,5417000,4600,null,1035,null,301.02947624377941,4901.0294762437798,null,"2014-05-10",4901.0294762437798,18,{"$f":"AVERAGE(M131:M137)","v":3585.2969859966192},{"$f":"+A137","v":"2014-05-10"},null,{"$f":"AVERAGE(G131:G137)","v":1079.1428571428571},null,null,3,{"$f":"+U137*$U$4","v":4500},null,null,250,{"$f":"24*60/(V137/Y137)","v":80},{"$f":"+Y137/$AA$3","v":2.6368216212400877},null,401.02947624377975,401.02947624377975,null,null,null,125,{"$f":"24*60/(V137/AH137)","v":40},{"$f":"+AH137/$AJ$3","v":{"$error":"#REF!"}}]
["2014-05-11","2014-05-11",null,5420800,3800,null,1189,null,345.82033551096981,4145.8203355109699,null,"2014-05-11",4145.8203355109699,19,null,null,null,null,null,null,null,4500,null,null,null,null,null,null,-354.17966448903007,46.84981175474968]
["2014-05-12","2014-05-12",null,5424800,4000,null,1066,null,310.04581804431774,4310.0458180443175,null,"2014-05-12",4310.0458180443175,19,null,null,null,null,null,null,null,4500,null,null,null,null,null,null,-189.95418195568254,0]
["2014-05-13","2014-05-13",null,5427600,2800,null,1046,null,304.228823334293,3104.2288233342929,null,"2014-05-13",3104.2288233342929,19,null,null,null,null,null,null,null,4500,null,null,null,null,null,null,-1395.7711766657071,0]
["2014-05-14","2014-05-14",null,5430300,2700,null,1048,null,304.81052280529548,3004.8105228052955,null,"2014-05-14",3004.8105228052955,19,null,null,null,null,null,null,null,4500,null,null,null,null,null,null,-1495.1894771947045,0]
["2014-05-15","2014-05-15",null,5433300,3000,null,1246,null,362.39877043454027,3362.3987704345404,null,"2014-05-15",3362.3987704345404,19,null,null,null,null,null,null,null,4500,null,null,null,null,null,null,-1137.6012295654596,0]
["2014-05-16","2014-05-16",null,5436600,3300,null,1511,null,439.47395034236786,3739.473950342368,null,"2014-05-16",3739.473950342368,19,null,null,null,null,null,null,null,4500,null,null,null,null,null,null,-760.52604965763203,0]
["2014-05-17","2014-05-17",null,5441200,4600,null,1160,null,337.38569318143396,4937.3856931814344,null,"2014-05-17",4937.3856931814344,19,{"$f":"AVERAGE(M138:M144)","v":3800.5948448076028},{"$f":"+A144","v":"2014-05-17"},null,{"$f":"AVERAGE(G138:G144)","v":1180.8571428571429},null,null,3,{"$f":"+U144*$U$4","v":4500},null,null,250,{"$f":"24*60/(V144/Y144)","v":80},{"$f":"+Y144/$AA$3","v":2.6368216212400877},null,437.38569318143436,437.38569318143436,null,null,null,125,{"$f":"24*60/(V144/AH144)","v":40},{"$f":"+AH144/$AJ$3","v":{"$error":"#REF!"}}]
["2014-05-18","2014-05-18",null,5445000,3800,null,1320,null,383.92165086163175,4183.9216508616319,null,"2014-05-18",4183.9216508616319,20,null,null,null,null,null,null,null,4500,null,null,null,null,null,null,-316.07834913836814,121.30734404306622,null,null,null,null,null,null,null,null,null,null,"Pump Rate",89,"gal/min"]
["2014-05-19","2014-05-19",null,5450100,5100,null,1181,null,343.49353762695989,5443.4935376269596,null,"2014-05-19",5443.4935376269596,20,null,null,null,null,null,null,null,4500,null,null,null,null,null,null,943.49353762695955,1064.8008816700258,null,null,null,null,null,null,null,null,null,null,"Cycle",20,"min"]
["2014-05-20","2014-05-20",null,5452300,2200,null,1034,null,300.73862650827817,2500.7386265082782,null,"2014-05-20",2500.7386265082782,20,null,null,null,null,null,null,null,4500,null,null,null,null,null,null,{"$f":"+M147-V147","v":-1999.2613734917218},0,null,null,null,null,null,null,null,null,null,null,"Stnd cycle",150,"sec"]
["2014-05-21","2014-05-21",null,5455000,2700,null,1113,null,323.71575561287585,3023.7157556128759,null,"2014-05-21",3023.7157556128759,{"$f":"1+N141","v":20},null,null,null,null,null,null,null,4500,null,null,null,null,null,null,-1476.2842443871241,{"$f":"IF(+AC148+AD147<0,0,+AC148+AD147)","v":0}]
["2014-05-22","2014-05-22",null,5458100,3100,null,1297,null,377.23210694510328,3477.2321069451032,null,"2014-05-22",3477.2321069451032,20,null,null,null,null,null,null,null,4500,null,null,null,null,null,null,-1022.7678930548968,0,null,null,null,null,null,null,null,null,null,null,"% of 150","Vol/cycle","Cycles/day","Vol"]
["2014-05-23","2014-05-23",null,5462000,3900,null,1843,null,536.0360625287783,4436.0360625287785,null,"2014-05-23",4436.0360625287785,20,null,null,null,null,null,null,null,4500,null,null,null,null,null,null,-63.96393747122147,0,null,null,null,null,null,null,null,null,null,"M1",0.55000000000000004,{"$f":"AO150*AP$145*AP$147/60","v":122.375},{"$f":"24*60/(AP$146*6)","v":12},{"$f":"AP150*AQ150","v":1468.5}]
["2014-05-24","2014-05-24",null,5468600,6600,null,1397,null,406.31708049522695,7006.3170804952269,null,"2014-05-24",7006.3170804952269,20,{"$f":"AVERAGE(M145:M151)","v":4295.9221172255511},{"$f":"+A151","v":"2014-05-24"},null,{"$f":"AVERAGE(G145:G151)","v":1312.1428571428571},null,null,5,{"$f":"+U151*$U$4","v":7500},{"$f":"(24*60)/X151*Y151","v":7584.8892617142874},45,{"$f":"+AA151*AA$3","v":237.02778942857148},{"$f":"24*60/(+V151/Y151)","v":45.509335570285721},2.5,null,-493.68291950477305,0,"Summer",{"$f":"(24*60)/AG151*AH151","v":{"$error":"#REF!"}},24,{"$f":"+AJ151*AJ$3","v":{"$error":"#REF!"}},{"$f":"24*60/(+V151/AH151)","v":{"$error":"#REF!"}},4,null,null,null,"M2",0.65,{"$f":"AO151*AP$145*AP$147/60","v":144.625},{"$f":"24*60/(AP$146*6)","v":12},{"$f":"AP151*AQ151","v":1735.5}]
["2014-05-25","2014-05-25",null,5473600,5000,null,965,null,280.66999475869289,5280.6699947586931,null,"2014-05-25",5280.6699947586931,21,null,"Peak",null,null,null,null,6,{"$f":"+U152*$U$4","v":9000},{"$f":"(24*60)/X152*Y152","v":8982.1057046616552},38,{"$f":"+AA152*AA$3","v":237.02778942857148},{"$f":"24*60/(+V152/Y152)","v":37.92444630857144},2.5,null,-3719.3300052413069,0,"Peak",{"$f":"(24*60)/AG152*AH152","v":{"$error":"#REF!"}},20,{"$f":"+AJ152*AJ$3","v":{"$error":"#REF!"}},{"$f":"24*60/(+V152/AH152)","v":{"$error":"#REF!"}},6,null,null,null,"M3",0.65,144.625,12,1735.5]
["2014-05-26","2014-05-26",null,5477200,3600,null,1312,null,381.59485297762183,3981.5948529776219,null,"2014-05-26",3981.5948529776219,21,null,null,null,null,null,null,null,9000,null,null,null,null,null,null,-5018.4051470223785,0,null,null,null,null,null,null,null,null,null,"M4",0.55000000000000004,122.375,12,1468.5]
["2014-05-27","2014-05-27",null,5482000,4800,null,1043,null,303.35627412778933,5103.3562741277892,null,"2014-05-27",5103.3562741277892,21,null,null,null,null,null,null,null,9000,null,null,null,null,null,null,-3896.6437258722108,0,null,null,null,null,null,null,null,null,null,"M5",0.55000000000000004,122.375,12,1468.5]
["2014-05-28","2014-05-28",null,5484700,2700,null,1118,null,325.17000429038205,3025.1700042903822,null,"2014-05-28",3025.1700042903822,21,null,null,null,null,null,null,null,9000,null,null,null,null,null,null,-5974.8299957096178,0,null,null,null,null,null,null,null,null,null,"M6",0.55000000000000004,122.375,12,1468.5]
["2014-05-29","2014-05-29",null,5487500,2800,null,1201,null,349.31053233698464,3149.3105323369846,null,"2014-05-29",3149.3105323369846,21,null,null,null,null,null,null,null,9000,null,null,null,null,null,null,-5850.6894676630154,0,null,null,null,null,null,null,null,null,null,null,null,null,null,{"$f":"SUM(AR150:AR155)","v":9345}]
["2014-05-30","2014-05-30",null,5490600,3100,null,1355,null,394.10139160417498,3494.1013916041748,null,"2014-05-30",3494.1013916041748,21,null,null,null,null,null,null,null,9000,null,null,null,null,null,null,-5505.8986083958252,0]
["2014-05-31","2014-05-31",null,5495000,4400,null,1186,null,344.94778630446609,4744.9477863044658,null,{"$f":"+B158","v":"2014-05-31"},{"$f":"+J158","v":4744.9477863044658},21,{"$f":"AVERAGE(M152:M158)","v":4111.3072623428734},{"$f":"+A158","v":"2014-05-31"},null,{"$f":"AVERAGE(G152:G158)","v":1168.5714285714287},null,null,6,{"$f":"+U158*$U$4","v":9000},null,null,250,{"$f":"24*60/(V158/Y158)","v":40},{"$f":"+Y158/$AA$3","v":2.6368216212400877},null,-4255.0522136955342,0,null,null,null,125,{"$f":"24*60/(V158/AH158)","v":20},{"$f":"+AH158/$AJ$3","v":{"$error":"#REF!"}}]
["2014-06-01","2014-06-01",null,5499000,4000,null,1111,null,{"$f":"+G159*$H$4","v":323.13405614187337},{"$f":"+I159+E159","v":4323.1340561418738},null,"2014-06-01",4323.1340561418738,22,null,null,null,null,null,null,null,9000,null,null,null,null,null,null,-4676.8659438581262,0]
["2014-06-02","2014-06-02",null,5502700,3700,null,1116,null,324.58830481937957,4024.5883048193796,null,"2014-06-02",4024.5883048193796,22,null,null,null,null,null,null,null,9000,null,null,null,null,null,null,-4975.4116951806209,0]
["2014-06-03","2014-06-03",null,5505500,2800,null,1084,null,315.28111328334001,3115.2811132833399,null,"2014-06-03",3115.2811132833399,22,null,null,null,null,null,null,null,9000,null,null,null,null,null,null,-5884.7188867166606,0]
["2014-06-04","2014-06-04",null,5508400,2900,null,1190,null,346.11118524647105,3246.111185246471,null,"2014-06-04",3246.111185246471,22,null,null,null,null,null,null,null,9000,null,null,null,null,null,null,-5753.888814753529,0]
["2014-06-05","2014-06-05",null,5511800,3400,null,1298,null,377.52295668060452,3777.5229566806047,null,"2014-06-05",3777.5229566806047,22,null,null,null,null,null,null,null,9000,null,null,null,null,null,null,-5222.4770433193953,0]
["2014-06-06","2014-06-06",null,5516000,4200,null,1554,null,451.98048896892101,4651.9804889689212,null,"2014-06-06",4651.9804889689212,22,null,null,null,null,null,null,null,9000,null,null,null,null,null,null,-4348.0195110310788,0]
["2014-06-07","2014-06-07",null,5522100,6100,null,1205,null,350.4739312789896,6450.4739312789898,null,"2014-06-07",6450.4739312789898,22,{"$f":"AVERAGE(M159:M165)","v":4227.0131480599402},{"$f":"+A165","v":"2014-06-07"},null,{"$f":"AVERAGE(G159:G165)","v":1222.5714285714287},null,null,6,{"$f":"+U165*$U$4","v":9000},null,null,250,{"$f":"24*60/(V165/Y165)","v":40},{"$f":"+Y165/$AA$3","v":2.6368216212400877},null,-2549.5260687210102,0,null,null,null,125,{"$f":"24*60/(V165/AH165)","v":20},{"$f":"+AH165/$AJ$3","v":{"$error":"#REF!"}}]
["2014-06-08","2014-06-08",null,5526200,4100,null,1286,null,374.0327598545897,4474.03275985459,null,"2014-06-08",4474.03275985459,23,null,null,null,null,null,null,null,9000,null,null,null,null,null,null,-4525.96724014541,0]
["2014-06-09","2014-06-09",null,5530700,4500,null,1211,null,352.21902969199698,4852.2190296919971,null,"2014-06-09",4852.2190296919971,23,null,null,null,null,null,null,null,9000,null,null,null,null,null,null,-4147.7809703080029,0]
["2014-06-10","2014-06-10",null,5534300,3600,null,1126,null,327.49680217439192,3927.4968021743921,null,"2014-06-10",3927.4968021743921,23,null,null,null,null,null,null,null,9000,null,null,null,null,null,null,-5072.5031978256084,0]
["2014-06-11","2014-06-11",null,5537700,3400,null,1179,null,342.91183815595741,3742.9118381559574,null,"2014-06-11",3742.9118381559574,23,null,null,null,null,null,null,null,9000,null,null,null,null,null,null,-5257.0881618440426,0]
["2014-06-12","2014-06-12",null,5541000,3300,null,1298,null,377.52295668060452,3677.5229566806047,null,"2014-06-12",3677.5229566806047,23,null,null,null,null,null,null,null,9000,null,null,null,null,null,null,-5322.4770433193953,0]
["2014-06-13","2014-06-13",null,5544900,3900,null,1660,null,482.81056093205206,4382.8105609320519,null,"2014-06-13",4382.8105609320519,23,null,null,null,null,null,null,null,9000,null,null,null,null,null,null,-4617.1894390679481,0]
["2014-06-14","2014-06-14",null,5551000,6100,null,1438,null,418.24191965077762,6518.2419196507781,null,"2014-06-14",6518.2419196507781,23,{"$f":"AVERAGE(M166:M172)","v":4510.747981020053},{"$f":"+A172","v":"2014-06-14"},null,{"$f":"AVERAGE(G166:G172)","v":1314},null,null,6,{"$f":"+U172*$U$4","v":9000},null,null,250,{"$f":"24*60/(V172/Y172)","v":40},{"$f":"+Y172/$AA$3","v":2.6368216212400877},null,-2481.7580803492219,0,null,null,null,125,{"$f":"24*60/(V172/AH172)","v":20},{"$f":"+AH172/$AJ$3","v":{"$error":"#REF!"}}]
["2014-06-15","2014-06-15",null,5556500,5500,null,1483,null,431.33015774833325,5931.3301577483335,null,"2014-06-15",5931.3301577483335,24,null,null,null,null,null,null,null,9000,null,null,null,null,null,null,-3068.6698422516665,0]
["2014-06-16","2014-06-16",null,5561400,4900,null,1359,null,395.26479054617994,5295.2647905461799,null,"2014-06-16",5295.2647905461799,24,null,null,null,null,null,null,null,{"$f":"+V173","v":9000},null,null,null,null,null,null,-3704.7352094538201,0]
["2014-06-17","2014-06-17",null,5566400,5000,null,1141,null,331.85954820691046,5331.8595482069104,null,"2014-06-17",5331.8595482069104,24,null,null,null,null,null,null,null,9000,null,null,null,null,null,null,-3668.1404517930896,0]
["2014-06-18","2014-06-18",null,5569700,3300,null,1272,null,369.9608635575724,3669.9608635575723,null,"2014-06-18",3669.9608635575723,24,null,null,null,null,null,null,null,9000,null,null,null,null,null,null,-5330.0391364424277,0]
["2014-06-19","2014-06-19",null,5573400,3700,null,1350,null,392.64714292666883,4092.6471429266689,null,"2014-06-19",4092.6471429266689,24,null,null,null,null,null,null,null,9000,null,null,null,null,null,null,-4907.3528570733306,0]
["2014-06-20","2014-06-20",null,5578100,4700,null,1771,null,515.09488157268925,5215.0948815726897,null,"2014-06-20",5215.0948815726897,24,null,null,null,null,null,null,null,9000,null,null,null,null,null,null,-3784.9051184273103,0]
["2014-06-21","2014-06-21",null,5584000,5900,null,1395,null,405.73538102422447,6305.7353810242248,null,"2014-06-21",6305.7353810242248,24,{"$f":"AVERAGE(M173:M179)","v":5120.2703950832265},{"$f":"+A179","v":"2014-06-21"},null,{"$f":"AVERAGE(G173:G179)","v":1395.8571428571429},null,null,6,{"$f":"+U179*$U$4","v":9000},null,null,250,{"$f":"24*60/(V179/Y179)","v":40},{"$f":"+Y179/$AA$3","v":2.6368216212400877},null,-2694.2646189757752,0,null,null,null,125,{"$f":"24*60/(V179/AH179)","v":20},{"$f":"+AH179/$AJ$3","v":{"$error":"#REF!"}}]
["2014-06-22","2014-06-22",null,5589700,5700,null,1597,null,464.48702759547416,6164.4870275954745,null,"2014-06-22",6164.4870275954745,25,null,null,null,null,null,null,null,{"$f":"+V179","v":9000},null,null,null,null,null,null,-2835.5129724045255,0]
["2014-06-23","2014-06-23",null,5596200,6500,null,1541,null,448.19944240740494,6948.1994424074046,null,"2014-06-23",6948.1994424074046,25,null,null,null,null,null,null,null,9000,null,null,null,null,null,null,-2051.8005575925954,0]
["2014-06-24","2014-06-24",null,5601800,5600,null,1191,null,346.40203498197229,5946.4020349819721,null,"2014-06-24",5946.4020349819721,25,null,null,null,null,null,null,null,9000,null,null,null,null,null,null,-3053.5979650180279,0]
["2014-06-25","2014-06-25",null,5605400,3600,null,1343,null,390.61119477816015,3990.6111947781601,null,"2014-06-25",3990.6111947781601,25,null,null,null,null,null,null,null,9000,null,null,null,null,null,null,-5009.3888052218399,0]
["2014-06-26","2014-06-26",null,5609800,4400,null,1419,null,412.71577467625411,4812.7157746762541,null,"2014-06-26",4812.7157746762541,25,null,null,null,null,null,null,null,9000,null,null,null,null,null,null,-4187.2842253237459,0]
["2014-06-27","2014-06-27",null,5614500,4700,null,1651,null,480.1929133125409,5180.1929133125414,null,"2014-06-27",5180.1929133125414,25,null,null,null,null,null,null,null,9000,null,null,null,null,null,null,-3819.8070866874586,0]
["2014-06-28","2014-06-28",null,5620500,{"$f":"+D186-D185","v":6000},null,1502,null,436.8563027228567,6436.8563027228565,null,"2014-06-28",6436.8563027228565,25,{"$f":"AVERAGE(M180:M186)","v":5639.9235272106671},{"$f":"+A186","v":"2014-06-28"},null,{"$f":"AVERAGE(G180:G186)","v":1463.4285714285713},null,null,6,{"$f":"+U186*$U$4","v":9000},null,null,250,{"$f":"24*60/(V186/Y186)","v":40},{"$f":"+Y186/$AA$3","v":2.6368216212400877},null,-2563.1436972771435,0,null,null,null,125,{"$f":"24*60/(V186/AH186)","v":20},{"$f":"+AH186/$AJ$3","v":{"$error":"#REF!"}}]
["2014-06-29","2014-06-29",null,5626000,5500,null,1598,null,464.7778773309754,5964.7778773309756,null,"2014-06-29",5964.7778773309756,26,null,null,null,null,null,null,null,{"$f":"+V186","v":9000},null,null,null,null,null,null,-3035.2221226690244,0]
["2014-06-30","2014-06-30",null,5634000,8000,null,1261,null,366.76151646705881,8366.7615164670588,null,"2014-06-30",8366.7615164670588,26,null,null,null,null,null,null,null,9000,null,null,null,null,null,null,-633.23848353294125,0]
["2014-07-01","2014-07-01",null,5638300,4300,null,1282,null,372.86936091258474,4672.8693609125849,null,"2014-07-01",4672.8693609125849,26,null,null,null,null,null,null,null,9000,null,null,null,null,null,null,-4327.1306390874151,0]
["2014-07-02","2014-07-02",null,5642100,3800,null,1478,null,429.87590907082705,4229.8759090708272,null,"2014-07-02",4229.8759090708272,26,null,null,null,null,null,null,null,9000,null,null,null,null,null,null,-4770.1240909291728,0]
["2014-07-03","2014-07-03",null,5647800,5700,null,2011,null,584.89881809298595,6284.8988180929864,null,"2014-07-03",6284.8988180929864,26,null,null,null,null,null,null,null,9000,null,null,null,null,null,null,-2715.1011819070136,0]
["2014-07-04","2014-07-04",null,5656400,8600,null,1616,null,470.01317256999766,9070.0131725699976,null,"2014-07-04",9070.0131725699976,26,null,null,null,null,null,null,null,9000,null,null,null,null,null,null,70.01317256999755,70.01317256999755]
["2014-07-05","2014-07-05",null,5663100,6700,null,1150,null,334.47719582642156,7034.4771958264218,null,"2014-07-05",7034.4771958264218,26,{"$f":"AVERAGE(M187:M193)","v":6517.6676928958359},{"$f":"+A193","v":"2014-07-05"},null,{"$f":"AVERAGE(G187:G193)","v":1485.1428571428571},null,null,6,{"$f":"+U193*$U$4","v":9000},null,null,250,{"$f":"24*60/(V193/Y193)","v":40},{"$f":"+Y193/$AA$3","v":2.6368216212400877},null,-1965.5228041735782,0,null,null,null,125,{"$f":"24*60/(V193/AH193)","v":20},{"$f":"+AH193/$AJ$3","v":{"$error":"#REF!"}}]
["2014-07-06","2014-07-06",null,5667800,4700,null,1721,null,500.55239479762741,5200.5523947976271,null,"2014-07-06",5200.5523947976271,27,null,null,null,null,null,null,null,{"$f":"+V193","v":9000},null,null,null,null,null,null,-3799.4476052023729,0]
["2014-07-07","2014-07-07",null,5674800,7000,null,1433,null,416.78767097327142,7416.7876709732718,null,"2014-07-07",7416.7876709732718,27,null,null,null,null,null,null,null,9000,null,null,null,null,null,null,-1583.2123290267282,0]
["2014-07-08","2014-07-08",null,5679300,4500,null,1257,null,365.59811752505385,4865.5981175250536,null,"2014-07-08",4865.5981175250536,27,null,null,null,null,null,null,null,9000,null,null,null,null,null,null,-4134.4018824749464,0]
["2014-07-09","2014-07-09",null,5683000,3700,null,1215,null,353.38242863400194,4053.3824286340018,null,"2014-07-09",4053.3824286340018,27,null,null,null,null,null,null,null,9000,null,null,null,null,null,null,-4946.6175713659977,0]
["2014-07-10","2014-07-10",null,5686300,3300,null,1456,null,423.47721488979982,3723.4772148898001,null,"2014-07-10",3723.4772148898001,27,null,null,null,null,null,null,null,9000,null,null,null,null,null,null,-5276.5227851101999,0]
["2014-07-11","2014-07-11",null,5691500,5200,null,1711,null,497.64389744261507,5697.6438974426146,null,"2014-07-11",5697.6438974426146,27,null,null,null,null,null,null,null,9000,null,null,null,null,null,null,-3302.3561025573854,0]
["2014-07-12","2014-07-12",null,5698700,7200,null,1436,null,417.66022017977514,7617.660220179775,null,"2014-07-12",7617.660220179775,27,{"$f":"AVERAGE(M194:M200)","v":5510.7288492060197},{"$f":"+A200","v":"2014-07-12"},null,{"$f":"AVERAGE(G194:G200)","v":1461.2857142857142},null,null,6,{"$f":"+U200*$U$4","v":9000},null,null,250,{"$f":"24*60/(V200/Y200)","v":40},{"$f":"+Y200/$AA$3","v":2.6368216212400877},null,-1382.339779820225,0,null,null,null,125,{"$f":"24*60/(V200/AH200)","v":20},{"$f":"+AH200/$AJ$3","v":{"$error":"#REF!"}}]
["2014-07-13","2014-07-13",null,5704100,5400,null,1571,null,456.92493447244203,5856.9249344724421,null,"2014-07-13",5856.9249344724421,28,null,null,null,null,null,null,null,{"$f":"+V200","v":9000},null,null,null,null,null,null,-3143.0750655275579,0]
["2014-07-14","2014-07-14",null,5710600,6500,null,1323,null,384.79420006813547,6884.7942000681351,null,"2014-07-14",6884.7942000681351,28,null,null,null,null,null,null,null,9000,null,null,null,null,null,null,-2115.2057999318649,0]
["2014-07-15","2014-07-15",null,5714700,4100,null,1263,null,367.34321593806129,4467.3432159380609,null,"2014-07-15",4467.3432159380609,28,null,null,null,null,null,null,null,9000,null,null,null,null,null,null,-4532.6567840619391,0]
["2014-07-16","2014-07-16",null,5718100,3400,null,1314,null,382.17655244862431,3782.1765524486245,null,"2014-07-16",3782.1765524486245,28,null,null,null,null,null,null,null,9000,null,null,null,null,null,null,-5217.8234475513755,0]
["2014-07-17","2014-07-17",null,5722300,4200,null,1382,null,401.9543344627084,4601.9543344627082,null,"2014-07-17",4601.9543344627082,28,null,null,null,null,null,null,null,9000,null,null,null,null,null,null,-4398.0456655372918,0]
["2014-07-18","2014-07-18",null,5726800,4500,null,1722,null,500.84324453312865,5000.8432445331291,null,"2014-07-18",5000.8432445331291,28,null,null,null,null,null,null,null,9000,null,null,null,null,null,null,-3999.1567554668709,0]
["2014-07-19","2014-07-19",null,5733200,6400,null,1415,null,411.55237573424915,6811.5523757342489,null,"2014-07-19",6811.5523757342489,28,{"$f":"AVERAGE(M201:M207)","v":5343.655551093907},{"$f":"+A207","v":"2014-07-19"},null,{"$f":"AVERAGE(G201:G207)","v":1427.1428571428571},null,null,6,{"$f":"+U207*$U$4","v":9000},null,null,250,{"$f":"24*60/(V207/Y207)","v":40},{"$f":"+Y207/$AA$3","v":2.6368216212400877},null,-2188.4476242657511,0,null,null,null,125,{"$f":"24*60/(V207/AH207)","v":20},{"$f":"+AH207/$AJ$3","v":{"$error":"#REF!"}}]
["2014-07-20","2014-07-20",null,5739100,5900,null,1599,null,465.06872706647664,6365.0687270664766,null,"2014-07-20",6365.0687270664766,29,null,null,null,null,null,null,null,{"$f":"+V207","v":9000},null,null,null,null,null,null,-2634.9312729335234,0]
["2014-07-21","2014-07-21",null,5745600,6500,null,1379,null,401.08178525620468,6901.081785256205,null,"2014-07-21",6901.081785256205,29,null,null,null,null,null,null,null,9000,null,null,null,null,null,null,-2098.918214743795,0]
["2014-07-22","2014-07-22",null,5749600,4000,null,1144,null,332.73209741341418,4332.7320974134145,null,"2014-07-22",4332.7320974134145,29,null,null,null,null,null,null,null,9000,null,null,null,null,null,null,-4667.2679025865855,0]
["2014-07-23","2014-07-23",null,5753100,3500,null,1330,null,386.83014821664409,3886.8301482166439,null,"2014-07-23",3886.8301482166439,29,null,null,null,null,null,null,null,9000,null,null,null,null,null,null,{"$f":"+M211-V211","v":-5113.1698517833556},0]
["2014-07-24","2014-07-24",null,5757700,4600,null,1539,null,447.61774293640246,5047.6177429364025,null,"2014-07-24",5047.6177429364025,{"$f":"1+N205","v":29},null,null,null,null,null,null,null,9000,null,null,null,null,null,null,-3952.3822570635975,{"$f":"IF(+AC212+AD211<0,0,+AC212+AD211)","v":0}]
["2014-07-25","2014-07-25",null,5763000,5300,null,1858,null,540.39880856129673,5840.3988085612964,null,"2014-07-25",5840.3988085612964,29,null,null,null,null,null,null,null,9000,null,null,null,null,null,null,-3159.6011914387036,0]
["2014-07-26","2014-07-26",null,5769400,6400,null,1491,null,433.65695563234311,6833.6569556323429,null,"2014-07-26",6833.6569556323429,29,{"$f":"AVERAGE(M208:M214)","v":5601.0551807261118},{"$f":"+A214","v":"2014-07-26"},null,{"$f":"AVERAGE(G208:G214)","v":1477.1428571428571},null,null,6,{"$f":"+U214*$U$4","v":9000},null,null,250,{"$f":"24*60/(V214/Y214)","v":40},{"$f":"+Y214/$AA$3","v":2.6368216212400877},null,-2166.3430443676571,0,null,null,null,125,{"$f":"24*60/(V214/AH214)","v":20},{"$f":"+AH214/$AJ$3","v":{"$error":"#REF!"}}]
["2014-07-27","2014-07-27",null,5775200,5800,null,1603,null,466.23212600848154,6266.2321260084818,null,"2014-07-27",6266.2321260084818,30,null,null,null,null,null,null,null,{"$f":"+V214","v":9000},null,null,null,null,null,null,-2733.7678739915182,0]
["2014-07-28","2014-07-28",null,5781500,6300,null,1363,null,396.4281894881849,6696.4281894881851,null,{"$f":"+B216","v":"2014-07-28"},{"$f":"+J216","v":6696.4281894881851},30,null,null,null,null,null,null,null,9000,null,null,null,null,null,null,-2303.5718105118149,0]
["2014-07-29","2014-07-29",null,5786000,4500,null,1245,null,{"$f":"+G217*$H$4","v":362.10792069903903},{"$f":"+I217+E217","v":4862.1079206990389},null,"2014-07-29",4862.1079206990389,30,null,null,null,null,null,null,null,9000,null,null,null,null,null,null,-4137.8920793009611,0]
["2014-07-30","2014-07-30",null,5789800,3800,null,1313,null,381.88570271312307,4181.8857027131235,null,"2014-07-30",4181.8857027131235,30,null,null,null,null,null,null,null,9000,null,null,null,null,null,null,-4818.1142972868765,0]
["2014-07-31","2014-07-31",null,5793700,3900,null,1570,null,456.63408473694079,4356.6340847369411,null,"2014-07-31",4356.6340847369411,30,null,null,null,null,null,null,null,9000,null,null,null,null,null,null,-4643.3659152630589,0]
["2014-08-01","2014-08-01",null,5798300,{"$f":"+D220-D219","v":4600},null,1949,null,566.86613449190929,5166.8661344919092,null,"2014-08-01",5166.8661344919092,30,null,null,null,null,null,null,null,9000,null,null,null,null,null,null,-3833.1338655080908,0]
["2014-08-02","2014-08-02",null,5806600,8300,null,1633,null,474.95761807351863,8774.9576180735185,null,"2014-08-02",8774.9576180735185,30,{"$f":"AVERAGE(M215:M221)","v":5757.8731108873135},{"$f":"+A221","v":"2014-08-02"},null,{"$f":"AVERAGE(G215:G221)","v":1525.1428571428571},null,null,6,{"$f":"+U221*$U$4","v":9000},null,null,250,{"$f":"24*60/(V221/Y221)","v":40},{"$f":"+Y221/$AA$3","v":2.6368216212400877},null,-225.04238192648154,0,null,null,null,125,{"$f":"24*60/(V221/AH221)","v":20},{"$f":"+AH221/$AJ$3","v":{"$error":"#REF!"}}]
["2014-08-03","2014-08-03",null,5814000,7400,null,1588,null,461.869379975963,7861.8693799759631,null,"2014-08-03",7861.8693799759631,31,null,null,null,null,null,null,null,{"$f":"+V221","v":9000},null,null,null,null,null,null,-1138.1306200240369,0]
["2014-08-04","2014-08-04",null,5820700,6700,null,1393,null,405.15368155322199,7105.1536815532218,null,"2014-08-04",7105.1536815532218,31,null,null,null,null,null,null,null,9000,null,null,null,null,null,null,-1894.8463184467782,0]
["2014-08-05","2014-08-05",null,5824500,3800,null,1233,null,358.6177238730242,4158.6177238730243,null,"2014-08-05",4158.6177238730243,31,null,null,null,null,null,null,null,9000,null,null,null,null,null,null,-4841.3822761269757,0]
["2014-08-06","2014-08-06",null,5828700,4200,null,1341,null,390.02949530715767,4590.029495307158,null,"2014-08-06",4590.029495307158,31,null,null,null,null,null,null,null,9000,null,null,null,null,null,null,-4409.970504692842,0]
["2014-08-07","2014-08-07",null,5833000,4300,null,1438,null,418.24191965077762,4718.2419196507781,null,"2014-08-07",4718.2419196507781,31,null,null,null,null,null,null,null,9000,null,null,null,null,null,null,-4281.7580803492219,0]
["2014-08-08","2014-08-08",null,5838000,5000,null,1680,null,488.62755564207674,5488.6275556420769,null,"2014-08-08",5488.6275556420769,31,null,null,null,null,null,null,null,9000,null,null,null,null,null,null,-3511.3724443579231,0]
["2014-08-09","2014-08-09",null,5844800,6800,null,1461,null,424.93146356730603,7224.9314635673063,null,"2014-08-09",7224.9314635673063,31,{"$f":"AVERAGE(M222:M228)","v":5878.2101742242185},{"$f":"+A228","v":"2014-08-09"},null,{"$f":"AVERAGE(G222:G228)","v":1447.7142857142858},null,null,6,{"$f":"+U228*$U$4","v":9000},null,null,250,{"$f":"24*60/(V228/Y228)","v":40},{"$f":"+Y228/$AA$3","v":2.6368216212400877},null,-1775.0685364326937,0,null,null,null,125,{"$f":"24*60/(V228/AH228)","v":20},{"$f":"+AH228/$AJ$3","v":{"$error":"#REF!"}}]
["2014-08-10","2014-08-10",null,5851000,6200,null,1543,null,448.78114187840742,6648.7811418784077,null,"2014-08-10",6648.7811418784077,32,null,null,null,null,null,null,null,{"$f":"+V228","v":9000},null,null,null,null,null,null,-2351.2188581215923,0]
["2014-08-11","2014-08-11",null,5857300,6300,null,1400,null,407.18962970173061,6707.1896297017302,null,"2014-08-11",6707.1896297017302,32,null,null,null,null,null,null,null,9000,null,null,null,null,null,null,-2292.8103702982698,0]
["2014-08-12","2014-08-12",null,5862000,4700,null,1260,null,366.47066673155757,5066.4706667315577,null,"2014-08-12",5066.4706667315577,32,null,null,null,null,null,null,null,9000,null,null,null,null,null,null,-3933.5293332684423,0]
["2014-08-13","2014-08-13",null,5865700,3700,null,1239,null,360.36282228603159,4060.3628222860316,null,"2014-08-13",4060.3628222860316,32,null,null,null,null,null,null,null,9000,null,null,null,null,null,null,-4939.6371777139684,0]
["2014-08-14","2014-08-14",null,5869700,4000,null,1541,null,448.19944240740494,4448.1994424074046,null,"2014-08-14",4448.1994424074046,32,null,null,null,null,null,null,null,9000,null,null,null,null,null,null,-4551.8005575925954,0]
["2014-08-15","2014-08-15",null,5875000,5300,null,1802,null,524.11122337322752,5824.1112233732274,null,"2014-08-15",5824.1112233732274,32,null,null,null,null,null,null,null,9000,null,null,null,null,null,null,-3175.8887766267726,0]
["2014-08-16","2014-08-16",null,5881800,6800,null,1443,null,419.69616832828376,7219.6961683282834,null,"2014-08-16",7219.6961683282834,32,{"$f":"AVERAGE(M229:M235)","v":5710.6872992438066},{"$f":"+A235","v":"2014-08-16"},null,{"$f":"AVERAGE(G229:G235)","v":1461.1428571428571},null,null,6,{"$f":"+U235*$U$4","v":9000},null,null,250,{"$f":"24*60/(V235/Y235)","v":40},{"$f":"+Y235/$AA$3","v":2.6368216212400877},null,-1780.3038316717166,0,null,null,null,125,{"$f":"24*60/(V235/AH235)","v":20},{"$f":"+AH235/$AJ$3","v":{"$error":"#REF!"}}]
["2014-08-17","2014-08-17",null,5888400,6600,null,1580,null,459.54258209195314,7059.5425820919536,null,"2014-08-17",7059.5425820919536,33,null,null,null,null,null,null,null,{"$f":"+V235","v":9000},null,null,null,null,null,null,-1940.4574179080464,0]
["2014-08-18","2014-08-18",null,5893700,5300,null,1362,null,396.13733975268366,5696.1373397526841,null,"2014-08-18",5696.1373397526841,33,null,null,null,null,null,null,null,9000,null,null,null,null,null,null,-3303.8626602473159,0]
["2014-08-19","2014-08-19",null,5897600,3900,null,1210,null,351.92817995649574,4251.928179956496,null,"2014-08-19",4251.928179956496,33,null,null,null,null,null,null,null,9000,null,null,null,null,null,null,-4748.071820043504,0]
["2014-08-20","2014-08-20",null,5901000,3400,null,1290,null,375.19615879659466,3775.1961587965948,null,"2014-08-20",3775.1961587965948,33,null,null,null,null,null,null,null,9000,null,null,null,null,null,null,-5224.8038412034057,0]
["2014-08-21","2014-08-21",null,5905000,4000,null,1280,null,372.28766144158226,4372.2876614415818,null,"2014-08-21",4372.2876614415818,33,null,null,null,null,null,null,null,9000,null,null,null,null,null,null,-4627.7123385584182,0]
["2014-08-22","2014-08-22",null,5909200,4200,null,1633,null,474.95761807351863,4674.9576180735185,null,"2014-08-22",4674.9576180735185,33,null,null,null,null,null,null,null,9000,null,null,null,null,null,null,-4325.0423819264815,0]
["2014-08-23","2014-08-23",null,5915000,5800,null,1335,null,388.28439689415029,6188.2843968941506,null,"2014-08-23",6188.2843968941506,33,{"$f":"AVERAGE(M236:M242)","v":5145.4762767152833},{"$f":"+A242","v":"2014-08-23"},null,{"$f":"AVERAGE(G236:G242)","v":1384.2857142857142},null,null,6,{"$f":"+U242*$U$4","v":9000},null,null,250,{"$f":"24*60/(V242/Y242)","v":40},{"$f":"+Y242/$AA$3","v":2.6368216212400877},null,-2811.7156031058494,0,null,null,null,125,{"$f":"24*60/(V242/AH242)","v":20},{"$f":"+AH242/$AJ$3","v":{"$error":"#REF!"}}]
["2014-08-24","2014-08-24",null,5920000,5000,null,1454,null,422.8955154187974,5422.895515418797,null,"2014-08-24",5422.895515418797,34,null,null,null,null,null,null,null,{"$f":"+V242","v":9000},null,null,null,null,null,null,-3577.104484581203,0]
["2014-08-25","2014-08-25",null,5925300,{"$f":"+D244-D243","v":5300},null,1253,null,364.43471858304889,5664.4347185830493,null,"2014-08-25",5664.4347185830493,34,null,null,null,null,null,null,null,9000,null,null,null,null,null,null,-3335.5652814169507,0]
["2014-08-26","2014-08-26",null,5928800,3500,null,1131,null,328.95105085189812,3828.9510508518979,null,"2014-08-26",3828.9510508518979,34,null,null,null,null,null,null,null,9000,null,null,null,null,null,null,-5171.0489491481021,0]
["2014-08-27","2014-08-27",null,5932200,3400,null,1212,null,352.50987942749822,3752.5098794274982,null,"2014-08-27",3752.5098794274982,34,null,null,null,null,null,null,null,9000,null,null,null,null,null,null,-5247.4901205725018,0]
["2014-08-28","2014-08-28",null,{"$f":"(D250-D246)*G247/(G247+G248+G249+G250)+D246","v":5937526.5269065695},5326.5269065694883,null,1447,null,420.85956727028872,5747.386473839777,null,"2014-08-28",5747.386473839777,34,null,null,null,null,null,null,null,9000,null,null,null,null,null,null,-3252.613526160223,0]
["2014-08-29","2014-08-29",null,{"$f":"(D250-D246)*G248/(G248+G249+G250+G247)+D247","v":5944505.8600198086},6979.3331132391468,null,1896,null,551.45109851034374,7530.7842117494902,null,"2014-08-29",7530.7842117494902,34,null,null,null,null,null,null,null,9000,null,null,null,null,null,null,-1469.2157882505098,0]
["2014-08-30","2014-08-30",null,{"$f":"(D250-D246)*G249/(G249+G250+G247+G248)+D248","v":5949998.0356553318},5492.1756355231628,null,1492,null,433.94780536784435,5926.1234408910068,null,"2014-08-30",5926.1234408910068,34,{"$f":"AVERAGE(M243:M249)","v":5410.4407558230732},{"$f":"+A249","v":"2014-08-30"},null,{"$f":"AVERAGE(G243:G249)","v":1412.1428571428571},null,null,6,{"$f":"+U249*$U$4","v":9000},null,null,250,{"$f":"24*60/(V249/Y249)","v":40},{"$f":"+Y249/$AA$3","v":2.6368216212400877},null,-3073.8765591089932,0,null,null,null,125,{"$f":"24*60/(V249/AH249)","v":20},{"$f":"+AH249/$AJ$3","v":{"$error":"#REF!"}}]
["2014-08-31","2014-08-31",null,5954500,4501.9643446682021,null,1223,null,355.7092265180118,4857.6735711862138,null,"2014-08-31",4857.6735711862138,35,null,null,null,null,null,null,null,{"$f":"+V249","v":9000},null,null,null,null,null,null,-4142.3264288137862,0]
["2014-09-01","2014-09-01",null,5958500,4000,null,1585,null,460.99683076945934,4460.9968307694589,null,"2014-09-01",4460.9968307694589,35,null,null,null,null,null,null,null,9000,null,null,null,null,null,null,-4539.0031692305411,0]
["2014-09-02","2014-09-02",null,5963500,5000,null,1068,null,310.62751751532022,5310.6275175153205,null,"2014-09-02",5310.6275175153205,35,null,null,null,null,null,null,null,9000,null,null,null,null,null,null,-3689.3724824846795,0]
["2014-09-03","2014-09-03",null,5966600,3100,null,1101,null,320.22555878686103,3420.2255587868613,null,"2014-09-03",3420.2255587868613,35,null,null,null,null,null,null,null,9000,null,null,null,null,null,null,-5579.7744412131387,0]
["2014-09-04","2014-09-04",null,5969300,2700,null,1109,null,322.55235667087089,3022.5523566708707,null,"2014-09-04",3022.5523566708707,35,null,null,null,null,null,null,null,9000,null,null,null,null,null,null,-5977.4476433291293,0]
["2014-09-05","2014-09-05",null,5972600,3300,null,1007,null,292.88568364974481,3592.8856836497448,null,"2014-09-05",3592.8856836497448,35,null,null,null,null,null,null,null,9000,null,null,null,null,null,null,-5407.1143163502547,0]
["2014-09-06","2014-09-06",null,5976600,4000,null,1138,null,330.98699900040674,4330.9869990004063,null,"2014-09-06",4330.9869990004063,35,{"$f":"AVERAGE(M250:M256)","v":4142.2783596541258},{"$f":"+A256","v":"2014-09-06"},null,{"$f":"AVERAGE(G250:G256)","v":1175.8571428571429},null,null,6,{"$f":"+U256*$U$4","v":9000},null,null,250,{"$f":"24*60/(V256/Y256)","v":40},{"$f":"+Y256/$AA$3","v":2.6368216212400877},null,-4669.0130009995937,0,null,null,null,125,{"$f":"24*60/(V256/AH256)","v":20},{"$f":"+AH256/$AJ$3","v":{"$error":"#REF!"}}]
["2014-09-07","2014-09-07",null,5981400,4800,null,1401,null,407.48047943723185,5207.4804794372321,null,"2014-09-07",5207.4804794372321,36,null,null,null,null,null,null,null,{"$f":"+V256","v":9000},null,null,null,null,null,null,-3792.5195205627679,0]
["2014-09-08","2014-09-08",null,5984400,3000,null,1070,null,311.2092169863227,3311.2092169863226,null,"2014-09-08",3311.2092169863226,36,null,null,null,null,null,null,null,9000,null,null,null,null,null,null,-5688.7907830136774,0]
["2014-09-09","2014-09-09",null,5987600,3200,3642000,1122,null,326.33340323238696,3526.3334032323869,null,"2014-09-09",3526.3334032323869,36,null,null,null,null,null,null,null,9000,null,null,null,null,null,null,-5473.6665967676126,0]
["2012-09-10","2014-09-10",null,3646300,{"$f":"+D260-F259","v":4300},null,1047,null,304.51967306979424,4604.5196730697944,null,"2014-09-10",4604.5196730697944,36,null,null,null,null,null,null,null,9000,null,null,null,null,null,null,-4395.4803269302056,0]
["2012-09-11","2014-09-11",null,3650200,3900,null,945,null,274.85300004866815,4174.853000048668,null,"2014-09-11",4174.853000048668,36,null,null,null,null,null,null,null,9000,null,null,null,null,null,null,-4825.146999951332,0]
["2012-09-12","2014-09-12",null,3653400,3200,null,1061,null,308.59156936681154,3508.5915693668117,null,"2014-09-12",3508.5915693668117,36,null,null,null,null,null,null,null,9000,null,null,null,null,null,null,-5491.4084306331879,0]
["2012-09-13","2014-09-13",null,3656400,3000,null,1222,null,355.41837678251056,3355.4183767825107,null,"2014-09-13",3355.4183767825107,36,{"$f":"AVERAGE(M257:M263)","v":3955.4865312748184},{"$f":"+A263","v":"2012-09-13"},null,{"$f":"AVERAGE(G257:G263)","v":1124},null,null,6,{"$f":"+U263*$U$4","v":9000},null,null,250,{"$f":"24*60/(V263/Y263)","v":40},{"$f":"+Y263/$AA$3","v":2.6368216212400877},null,-5644.5816232174893,0,null,null,null,125,{"$f":"24*60/(V263/AH263)","v":20},{"$f":"+AH263/$AJ$3","v":{"$error":"#REF!"}}]
["2012-09-14","2014-09-14",null,3660200,3800,null,1455,null,423.18636515429864,4223.186365154299,null,"2014-09-14",4223.186365154299,37,null,null,null,null,null,null,null,9000,null,null,null,null,null,null,-4776.813634845701,0]
["2012-09-15","2014-09-15",null,3665600,5400,null,1090,null,317.02621169634739,5717.0262116963477,null,"2014-09-15",5717.0262116963477,37,null,null,null,null,null,null,null,9000,null,null,null,null,null,null,-3282.9737883036523,0]
["2012-09-16","2014-09-16",null,3670000,4400,null,1225,null,356.29092598901428,4756.2909259890139,null,"2014-09-16",4756.2909259890139,37,null,null,null,null,null,null,null,9000,null,null,null,null,null,null,-4243.7090740109861,0]
["2012-09-17","2014-09-17",null,3675000,5000,null,1075,null,312.6634656638289,5312.6634656638289,null,"2014-09-17",5312.6634656638289,37,null,null,null,null,null,null,null,9000,null,null,null,null,null,null,-3687.3365343361711,0]
["2012-09-18","2014-09-18",null,3677600,2600,null,966,null,280.96084449419413,2880.9608444941941,null,"2014-09-18",2880.9608444941941,37,null,null,null,null,null,null,null,9000,null,null,null,null,null,null,-6119.0391555058059,0]
["2012-09-19","2014-09-19",null,3680400,2800,null,1010,null,293.75823285624853,3093.7582328562485,null,"2014-09-19",3093.7582328562485,37,null,null,null,null,null,null,null,9000,null,null,null,null,null,null,-5906.2417671437515,0]
["2012-09-20","2014-09-20",null,3683200,2800,null,1124,null,326.91510270338944,3126.9151027033895,null,"2014-09-20",3126.9151027033895,37,{"$f":"AVERAGE(M264:M270)","v":4158.6858783653315},{"$f":"+A270","v":"2012-09-20"},null,{"$f":"AVERAGE(G264:G270)","v":1135},null,null,6,{"$f":"+U270*$U$4","v":9000},null,null,250,{"$f":"24*60/(V270/Y270)","v":40},{"$f":"+Y270/$AA$3","v":2.6368216212400877},null,-5873.0848972966105,0,null,null,null,125,{"$f":"24*60/(V270/AH270)","v":20},{"$f":"+AH270/$AJ$3","v":{"$error":"#REF!"}}]
["2012-09-21","2014-09-21",null,3686700,3500,null,1375,null,399.91838631419972,3899.9183863141998,null,"2014-09-21",3899.9183863141998,38,null,null,null,null,null,null,null,9000,null,null,null,null,null,null,-5100.0816136858002,0]
["2012-09-22","2014-09-22",null,3691000,4300,null,1084,null,315.28111328334001,4615.2811132833403,null,"2014-09-22",4615.2811132833403,38,null,null,null,null,null,null,null,9000,null,null,null,null,null,null,-4384.7188867166597,0]
["2012-09-23","2014-09-23",null,3695000,4000,null,1209,null,351.6373302209945,4351.637330220994,null,"2014-09-23",4351.637330220994,38,null,null,null,null,null,null,null,9000,null,null,null,null,null,null,-4648.362669779006,0]
["2012-09-24","2014-09-24",null,3699800,4800,null,995,null,289.39548682372998,5089.3954868237297,null,{"$f":"+B274","v":"2014-09-24"},{"$f":"+J274","v":5089.3954868237297},38,null,null,null,null,null,null,null,9000,null,null,null,null,null,null,-3910.6045131762703,0]
["2012-09-25","2014-09-25",null,3702700,2900,null,969,null,{"$f":"+G275*$H$4","v":281.83339370069785},{"$f":"+I275+E275","v":3181.8333937006978},null,"2014-09-25",3181.8333937006978,38,null,null,null,null,null,null,null,9000,null,null,null,null,null,null,{"$f":"+M275-V275","v":-5818.1666062993027},0]
["2012-09-26","2014-09-26",null,3705100,2400,null,999,null,290.55888576573494,2690.5588857657349,null,"2014-09-26",2690.5588857657349,{"$f":"1+N269","v":38},null,null,null,null,null,null,null,9000,null,null,null,null,null,null,-6309.4411142342651,{"$f":"IF(+AC276+AD275<0,0,+AC276+AD275)","v":0}]
["2012-09-27","2014-09-27",null,3708000,2900,null,1293,null,376.06870800309838,3276.0687080030984,null,"2014-09-27",3276.0687080030984,38,{"$f":"AVERAGE(M271:M277)","v":3872.0990434445421},{"$f":"+A277","v":"2012-09-27"},null,{"$f":"AVERAGE(G271:G277)","v":1132},null,null,6,{"$f":"+U277*$U$4","v":9000},null,null,250,{"$f":"24*60/(V277/Y277)","v":40},{"$f":"+Y277/$AA$3","v":2.6368216212400877},null,-5723.9312919969016,0,null,null,null,125,{"$f":"24*60/(V277/AH277)","v":20},{"$f":"+AH277/$AJ$3","v":{"$error":"#REF!"}}]
["2012-09-28","2014-09-28",null,3711800,3800,null,1739,null,505.78769003664968,4305.78769003665,null,"2014-09-28",4305.78769003665,39,null,null,null,null,null,null,null,9000,null,null,null,null,null,null,-4694.21230996335,0]
["2012-09-29","2014-09-29",null,3718400,6600,null,1191,null,346.40203498197229,6946.4020349819721,null,"2014-09-29",6946.4020349819721,39,null,null,null,null,null,null,null,9000,null,null,null,null,null,null,-2053.5979650180279,0]
["2012-09-30","2014-09-30",null,3723800,5400,null,1230,null,357.74517466652048,5757.7451746665201,null,"2014-09-30",5757.7451746665201,39,null,null,null,null,null,null,null,9000,null,null,null,null,null,null,-3242.2548253334799,0]
["2012-10-01","2014-10-01",null,3728700,4900,null,1077,null,313.24516513483132,5213.245165134831,null,"2014-10-01",5213.245165134831,39,null,null,null,null,null,null,null,9000,null,null,null,null,null,null,-3786.754834865169,0]
["2012-10-02","2014-10-02",null,3731800,3100,null,1002,null,291.43143497223866,3391.4314349722385,null,"2014-10-02",3391.4314349722385,39,null,null,null,null,null,null,null,9000,null,null,null,null,null,null,-5608.568565027761,0]
["2012-10-03","2014-10-03",null,3734300,2500,null,1030,null,299.57522756627327,2799.5752275662735,null,"2014-10-03",2799.5752275662735,39,null,null,null,null,null,null,null,9000,null,null,null,null,null,null,-6200.4247724337265,0]
["2012-10-04","2014-10-04",null,3737300,3000,null,1167,null,339.42164132994259,3339.4216413299428,null,"2014-10-04",3339.4216413299428,39,{"$f":"AVERAGE(M278:M284)","v":4536.22976695549},{"$f":"+A284","v":"2012-10-04"},null,{"$f":"AVERAGE(G278:G284)","v":1205.1428571428571},null,null,6,{"$f":"+U284*$U$4","v":9000},null,null,250,{"$f":"24*60/(V284/Y284)","v":40},{"$f":"+Y284/$AA$3","v":2.6368216212400877},null,-5660.5783586700572,0,null,null,null,125,{"$f":"24*60/(V284/AH284)","v":20},{"$f":"+AH284/$AJ$3","v":{"$error":"#REF!"}}]
["2012-10-05","2014-10-05",null,3740800,3500,null,1558,null,453.14388791092591,3953.143887910926,null,"2014-10-05",3953.143887910926,40,null,null,null,null,null,null,null,9000,null,null,null,null,null,null,-5046.8561120890736,0]
["2012-10-06","2014-10-06",null,3746200,5400,null,1045,null,303.93797359879181,5703.9379735987914,null,"2014-10-06",5703.9379735987914,40,null,null,null,null,null,null,null,9000,null,null,null,null,null,null,-3296.0620264012086,0]
["2012-10-07","2014-10-07",null,3750300,4100,null,1136,null,330.40529952940426,4430.4052995294041,null,"2014-10-07",4430.4052995294041,40,null,null,null,null,null,null,null,9000,null,null,null,null,null,null,-4569.5947004705959,0]
["2012-10-08","2014-10-08",null,3754800,4500,null,1064,null,309.46411857331526,4809.4641185733153,null,"2014-10-08",4809.4641185733153,40,null,null,null,null,null,null,null,9000,null,null,null,null,null,null,-4190.5358814266847,0]
["2012-10-09","2014-10-09",null,3757800,3000,null,854,null,248.38567411805568,3248.3856741180557,null,"2014-10-09",3248.3856741180557,40,null,null,null,null,null,null,null,9000,null,null,null,null,null,null,-5751.6143258819448,0]
["2012-10-10","2014-10-10",null,3760000,2200,null,982,null,285.61444026221392,2485.614440262214,null,"2014-10-10",2485.614440262214,40,null,null,null,null,null,null,null,9000,null,null,null,null,null,null,-6514.385559737786,0]
["2012-10-11","2014-10-11",null,3762300,2300,null,1105,null,321.38895772886593,2621.388957728866,null,"2014-10-11",2621.388957728866,40,{"$f":"AVERAGE(M285:M291)","v":3893.1914788173672},{"$f":"+A291","v":"2012-10-11"},null,{"$f":"AVERAGE(G285:G291)","v":1106.2857142857142},null,null,3,{"$f":"+U291*$U$4","v":4500},null,null,250,{"$f":"24*60/(V291/Y291)","v":80},{"$f":"+Y291/$AA$3","v":2.6368216212400877},null,-1878.611042271134,0,null,null,null,125,{"$f":"24*60/(V291/AH291)","v":40},{"$f":"+AH291/$AJ$3","v":{"$error":"#REF!"}}]
["2012-10-12","2014-10-12",null,3765300,3000,null,1368,null,397.88243816569104,3397.8824381656909,null,"2014-10-12",3397.8824381656909,41,null,null,null,null,null,null,null,4500,null,null,null,null,null,null,-1102.1175618343091,0]
["2012-10-13","2014-10-13",null,3769700,4400,null,855,null,248.67652385355692,4648.6765238535572,null,"2014-10-13",4648.6765238535572,41,null,null,null,null,null,null,null,4500,null,null,null,null,null,null,148.67652385355723,148.67652385355723]
["2012-10-14","2014-10-14",null,3772900,3200,null,1021,null,{"$f":"+G294*$H$4","v":296.95757994676211},{"$f":"+I294+E294","v":3496.9575799467621},null,{"$f":"+B294","v":"2014-10-14"},3496.9575799467621,41,null,null,null,null,null,null,null,4500,null,null,null,null,null,null,-1003.0424200532379,0]
["2012-10-15","2014-10-15",null,3777100,4200,null,1043,null,303.35627412778933,4503.3562741277892,null,"2014-10-15",4503.3562741277892,41,null,null,null,null,null,null,null,4500,null,null,null,null,null,null,3.3562741277892201,3.3562741277892201]
["2012-10-16","2014-10-16",null,3779800,2700,null,976,null,283.86934184920648,2983.8693418492066,null,"2014-10-16",2983.8693418492066,41,null,null,null,null,null,null,null,4500,null,null,null,null,null,null,-1516.1306581507934,0]
["2012-10-17","2014-10-17",null,3782500,2700,null,937,null,272.52620216465829,2972.5262021646581,null,"2014-10-17",2972.5262021646581,41,null,null,null,null,null,null,null,4500,null,null,null,null,null,null,-1527.4737978353419,0]
["2012-10-18","2014-10-18",null,3785400,2900,null,1110,null,322.84320640637213,3222.8432064063722,null,"2014-10-18",3222.8432064063722,41,{"$f":"AVERAGE(M292:M298)","v":3603.7302237877193},{"$f":"+A298","v":"2012-10-18"},null,{"$f":"AVERAGE(G292:G298)","v":1044.2857142857142},null,null,3,{"$f":"+U298*$U$4","v":4500},null,null,250,{"$f":"24*60/(V298/Y298)","v":80},{"$f":"+Y298/$AA$3","v":2.6368216212400877},null,-1277.1567935936278,0,null,null,null,125,{"$f":"24*60/(V298/AH298)","v":40},{"$f":"+AH298/$AJ$3","v":{"$error":"#REF!"}}]
["2012-10-19","2014-10-19",null,3788100,2700,null,1389,null,403.99028261121703,3103.990282611217,null,"2014-10-19",3103.990282611217,42,null,null,null,null,null,null,null,4500,null,null,null,null,null,null,-1396.009717388783,0]
["2012-10-20","2014-10-20",null,3792800,4700,null,1113,null,323.71575561287585,5023.7157556128759,null,"2014-10-20",5023.7157556128759,42,null,null,null,null,null,null,null,4500,null,null,null,null,null,null,523.71575561287591,523.71575561287591]
["2012-10-21","2014-10-21",null,3797300,4500,null,1445,null,420.27786779928624,4920.2778677992865,null,"2014-10-21",4920.2778677992865,42,null,null,null,null,null,null,null,4500,null,null,null,null,null,null,420.27786779928647,943.99362341216238]
["2012-10-22","2014-10-22",null,3803500,6200,null,985,null,286.48698946871764,6486.4869894687181,null,"2014-10-22",6486.4869894687181,42,null,null,null,null,null,null,null,4500,null,null,null,null,null,null,1986.4869894687181,2930.4806128808805]
["2012-10-23","2014-10-23",null,3806400,2900,null,951,null,276.59809846167559,3176.5980984616754,null,"2014-10-23",3176.5980984616754,42,null,null,null,null,null,null,null,4500,null,null,null,null,null,null,-1323.4019015383246,1607.0787113425558]
["2012-10-24","2014-10-24",null,3809100,2700,null,999,null,290.55888576573494,2990.5588857657349,null,"2014-10-24",2990.5588857657349,42,null,null,null,null,null,null,null,4500,null,null,null,null,null,null,-1509.4411142342651,97.63759710829072]
["2012-10-25","2014-10-25",null,3811100,2000,null,1104,null,321.09810799336475,2321.0981079933649,null,"2014-10-25",2321.0981079933649,42,{"$f":"AVERAGE(M299:M305)","v":4003.2465696732679},{"$f":"+A305","v":"2012-10-25"},null,{"$f":"AVERAGE(G299:G305)","v":1140.8571428571429},null,null,3,{"$f":"+U305*$U$4","v":4500},null,null,250,{"$f":"24*60/(V305/Y305)","v":80},{"$f":"+Y305/$AA$3","v":2.6368216212400877},null,-2178.9018920066351,0,null,null,null,125,{"$f":"24*60/(V305/AH305)","v":40},{"$f":"+AH305/$AJ$3","v":{"$error":"#REF!"}}]
["2012-10-26","2014-10-26",null,3814700,3600,null,1304,null,379.26805509361196,3979.268055093612,null,"2014-10-26",3979.268055093612,43,null,null,null,null,null,null,null,4500,null,null,null,null,null,null,-520.73194490638798,0]
["2012-10-27","2014-10-27",null,3819300,4600,null,934,null,271.65365295815457,4871.6536529581545,null,"2014-10-27",4871.6536529581545,43,null,null,null,null,null,null,null,4500,null,null,null,null,null,null,371.65365295815445,371.65365295815445]
["2012-10-28","2014-10-28",null,3822600,{"$f":"+D308-D307","v":3300},null,1096,null,318.77131010935483,3618.771310109355,null,"2014-10-28",3618.771310109355,43,null,null,null,null,null,null,null,4500,null,null,null,null,null,null,-881.228689890645,0]
["2012-10-29","2014-10-29",null,3826500,3900,null,916,null,266.4183577191323,4166.4183577191325,null,"2014-10-29",4166.4183577191325,43,null,null,null,null,null,null,null,4500,null,null,null,null,null,null,-333.58164228086753,0]
["2012-10-30","2014-10-30",null,3829100,2600,null,857,null,249.2582233245594,2849.2582233245594,null,"2014-10-30",2849.2582233245594,43,null,null,null,null,null,null,null,4500,null,null,null,null,null,null,-1650.7417766754406,0]
["2012-10-31","2014-10-31",null,3831200,2100,null,826,null,240.24188152402107,2340.2418815240212,null,"2014-10-31",2340.2418815240212,43,null,null,null,null,null,null,null,4500,null,null,null,null,null,null,-2159.7581184759788,0]
["2012-11-01","2014-11-01",null,3833200,2000,null,958,null,278.63404661018427,2278.6340466101842,null,"2014-11-01",2278.6340466101842,43,{"$f":"AVERAGE(M306:M312)","v":3443.4636467627165},{"$f":"+A312","v":"2012-11-01"},null,{"$f":"AVERAGE(G306:G312)","v":984.42857142857144},null,null,3,{"$f":"+U312*$U$4","v":4500},null,null,250,{"$f":"24*60/(V312/Y312)","v":80},{"$f":"+Y312/$AA$3","v":2.6368216212400877},null,-2221.3659533898158,0,null,null,null,125,{"$f":"24*60/(V312/AH312)","v":40},{"$f":"+AH312/$AJ$3","v":{"$error":"#REF!"}}]
["2012-11-02","2014-11-02",null,3835800,2600,null,1226,null,356.58177572451552,2956.5817757245154,null,"2014-11-02",2956.5817757245154,44,null,null,null,null,null,null,null,4500,null,null,null,null,null,null,-1543.4182242754846,0]
["2012-11-03","2014-11-03",null,3839700,3900,null,828,null,240.82358099502355,4140.8235809950238,null,"2014-11-03",4140.8235809950238,44,null,null,null,null,null,null,null,4500,null,null,null,null,null,null,-359.1764190049762,0]
["2012-11-04","2014-11-04",null,3842600,2900,null,902,null,262.346461422115,3162.3464614221148,null,"2014-11-04",3162.3464614221148,44,null,null,null,null,null,null,null,4500,null,null,null,null,null,null,-1337.6535385778852,0]
["2012-11-05","2014-11-05",null,3846100,3500,null,761,null,221.33664871644072,3721.3366487164408,null,"2014-11-05",3721.3366487164408,44,null,null,null,null,null,null,null,4500,null,null,null,null,null,null,-778.66335128355922,0]
["2012-11-06","2014-11-06",null,3848100,2000,null,769,null,223.66344660045061,2223.6634466004507,null,"2014-11-06",2223.6634466004507,44,null,null,null,null,null,null,null,4500,null,null,null,null,null,null,-2276.3365533995493,0]
["2012-11-07","2014-11-07",null,3849800,1700,null,859,null,249.83992279556188,1949.839922795562,null,"2014-11-07",1949.839922795562,44,null,null,null,null,null,null,null,4500,null,null,null,null,null,null,-2550.160077204438,0]
["2012-11-08","2014-11-08",null,3851800,2000,null,916,null,266.4183577191323,2266.4183577191325,null,"2014-11-08",2266.4183577191325,44,{"$f":"AVERAGE(M313:M319)","v":2917.2871705676052},{"$f":"+A319","v":"2012-11-08"},null,{"$f":"AVERAGE(G313:G319)","v":894.42857142857144},null,null,3,{"$f":"+U319*$U$4","v":4500},null,null,250,{"$f":"24*60/(V319/Y319)","v":80},{"$f":"+Y319/$AA$3","v":2.6368216212400877},null,-2233.5816422808675,0,null,null,null,125,{"$f":"24*60/(V319/AH319)","v":40},{"$f":"+AH319/$AJ$3","v":{"$error":"#REF!"}}]
["2012-11-09","2014-11-09",null,3854400,2600,null,1121,null,326.04255349688572,2926.0425534968858,null,"2014-11-09",2926.0425534968858,45,null,null,null,null,null,null,null,4500,null,null,null,null,null,null,-1573.9574465031142,0]
["2012-11-10","2014-11-10",null,3858200,3800,null,812,null,236.16998522700376,4036.169985227004,null,"2014-11-10",4036.169985227004,45,null,null,null,null,null,null,null,{"$f":"+V320","v":4500},null,null,null,null,null,null,-463.83001477299604,0]
["2012-11-11","2014-11-11",null,3861200,3000,null,769,null,223.66344660045061,3223.6634466004507,null,"2014-11-11",3223.6634466004507,45,null,null,null,null,null,null,null,4500,null,null,null,null,null,null,-1276.3365533995493,0]
["2012-11-12","2014-11-12",null,3863700,2500,null,896,null,260.60136300910762,2760.6013630091074,null,"2014-11-12",2760.6013630091074,45,null,null,null,null,null,null,null,4500,null,null,null,null,null,null,-1739.3986369908926,0]
["2012-11-13","2014-11-13",null,3866200,2500,null,814,null,236.75168469800624,2736.7516846980061,null,"2014-11-13",2736.7516846980061,45,null,null,null,null,null,null,null,4500,null,null,null,null,null,null,-1763.2483153019939,0]
["2012-11-14","2014-11-14",null,3868000,1800,null,882,null,256.52946671209031,2056.5294667120902,null,"2014-11-14",2056.5294667120902,45,null,null,null,null,null,null,null,4500,null,null,null,null,null,null,-2443.4705332879098,0]
["2012-11-15","2014-11-15",null,3870200,2200,null,1138,null,330.98699900040674,2530.9869990004067,null,"2014-11-15",2530.9869990004067,45,{"$f":"AVERAGE(M320:M326)","v":2895.8207855348505},{"$f":"+A326","v":"2012-11-15"},null,{"$f":"AVERAGE(G320:G326)","v":918.85714285714289},null,null,3,{"$f":"+U326*$U$4","v":4500},null,null,250,{"$f":"24*60/(V326/Y326)","v":80},{"$f":"+Y326/$AA$3","v":2.6368216212400877},null,-1969.0130009995933,0,null,null,null,125,{"$f":"24*60/(V326/AH326)","v":40},{"$f":"+AH326/$AJ$3","v":{"$error":"#REF!"}}]
["2012-11-16","2014-11-16",null,3873200,3000,null,1616,null,470.01317256999766,3470.0131725699976,null,"2014-11-16",3470.0131725699976,46,null,null,null,null,null,null,null,{"$f":"+V326","v":4500},null,null,null,null,null,null,-1029.9868274300024,0]
["2012-11-17","2014-11-17",null,3877700,4500,null,690,null,200.68631749585296,4700.6863174958526,null,"2014-11-17",4700.6863174958526,46,null,null,null,null,null,null,null,4500,null,null,null,null,null,null,200.68631749585256,200.68631749585256]
["2012-11-18","2014-11-18",null,3880400,2700,null,845,null,245.76802649854454,2945.7680264985447,null,"2014-11-18",2945.7680264985447,46,null,null,null,null,null,null,null,4500,null,null,null,null,null,null,-1554.2319735014553,0]
["2012-11-19","2014-11-19",null,3883600,3200,null,816,null,237.3333841690087,3437.3333841690087,null,"2014-11-19",3437.3333841690087,46,null,null,null,null,null,null,null,4500,null,null,null,null,null,null,-1062.6666158309913,0]
["2012-11-20","2014-11-20",null,3885800,2200,null,999,null,290.55888576573494,2490.5588857657349,null,"2014-11-20",2490.5588857657349,46,null,null,null,null,null,null,null,4500,null,null,null,null,null,null,-2009.4411142342651,0]
["2012-11-21","2014-11-21",null,3889100,3300,null,1643,null,477.86611542853103,3777.866115428531,null,"2014-11-21",3777.866115428531,46,null,null,null,null,null,null,null,4500,null,null,null,null,null,null,-722.13388457146903,0]
["2012-11-22","2014-11-22",null,3895800,6700,null,1027,null,298.70267835976955,6998.7026783597694,null,"2014-11-22",6998.7026783597694,46,{"$f":"AVERAGE(M327:M333)","v":3974.4183686124911},{"$f":"+A333","v":"2012-11-22"},null,{"$f":"AVERAGE(G327:G333)","v":1090.8571428571429},null,null,3,{"$f":"+U333*$U$4","v":4500},null,null,250,{"$f":"24*60/(V333/Y333)","v":80},{"$f":"+Y333/$AA$3","v":2.6368216212400877},null,2498.7026783597694,2498.7026783597694,null,null,null,125,{"$f":"24*60/(V333/AH333)","v":40},{"$f":"+AH333/$AJ$3","v":{"$error":"#REF!"}}]
["2012-11-23","2014-11-23",null,3900800,5000,null,905,null,263.21901062861872,5263.2190106286189,null,"2014-11-23",5263.2190106286189,47,null,null,null,null,null,null,null,4500,null,null,null,null,null,null,763.21901062861889,3261.9216889883883]
["2012-11-24","2014-11-24",null,3904400,3600,null,1026,null,298.41182862426831,3898.4118286242683,null,"2014-11-24",3898.4118286242683,47,null,null,null,null,null,null,null,4500,null,null,null,null,null,null,-601.58817137573169,2660.3335176126566]
["2012-11-25","2014-11-25",null,3909000,4600,null,1454,null,422.8955154187974,5022.895515418797,null,"2014-11-25",5022.895515418797,47,null,null,null,null,null,null,null,4500,null,null,null,null,null,null,522.895515418797,3183.2290330314536]
["2012-11-26","2014-11-26",null,3915400,6400,null,898,null,261.1830624801101,6661.1830624801105,null,"2014-11-26",6661.1830624801105,47,null,null,null,null,null,null,null,4500,null,null,null,null,null,null,2161.1830624801105,5344.4120955115641]
["2012-11-27","2014-11-27",null,3918000,2600,null,718,null,208.83011008988757,2808.8301100898875,null,"2014-11-27",{"$f":"+J338","v":2808.8301100898875},47,null,null,null,null,null,null,null,4500,null,null,null,null,null,null,-1691.1698899101125,3653.2422056014516]
["2012-11-28","2014-11-28",null,3919600,1600,null,756,null,219.88240003893455,1819.8824000389345,null,"2014-11-28",1819.8824000389345,47,null,null,null,null,null,null,null,4500,null,null,null,null,null,null,{"$f":"+M339-V339","v":-2680.1175999610655},973.12460564038611]
["2012-11-29","2014-11-29",null,3921700,2100,null,804,null,233.84318734299387,2333.843187342994,null,"2014-11-29",2333.843187342994,{"$f":"1+N333","v":47},{"$f":"AVERAGE(M334:M340)","v":3972.6093020890876},{"$f":"+A340","v":"2012-11-29"},null,{"$f":"AVERAGE(G334:G340)","v":937.28571428571433},null,null,3,{"$f":"+U340*$U$4","v":4500},null,null,250,{"$f":"24*60/(V340/Y340)","v":80},{"$f":"+Y340/$AA$3","v":2.6368216212400877},null,-2166.156812657006,{"$f":"IF(+AC340+AD339<0,0,+AC340+AD339)","v":0},null,null,null,125,{"$f":"24*60/(V340/AH340)","v":40},{"$f":"+AH340/$AJ$3","v":{"$error":"#REF!"}}]
["2012-11-30","2014-11-30",null,3923400,1700,null,854,null,248.38567411805568,1948.3856741180557,null,"2014-11-30",1948.3856741180557,48,null,null,null,null,null,null,null,{"$f":"+V340","v":4500},null,null,null,null,null,null,-2551.6143258819443,0]
["2012-12-01","2014-12-01",null,3926000,2600,null,677,null,196.90527093433687,2796.9052709343368,null,"2014-12-01",2796.9052709343368,48,null,null,null,null,null,null,null,4500,null,null,null,null,null,null,-1703.0947290656632,0]
["2012-12-02","2014-12-02",null,3928700,2700,null,664,null,193.12422437282081,2893.1242243728207,null,"2014-12-02",2893.1242243728207,48,null,null,null,null,null,null,null,4500,null,null,null,null,null,null,-1606.8757756271793,0]
["2012-12-03","2014-12-03",null,3931300,2600,null,721,null,209.70265929639126,2809.7026592963912,null,"2014-12-03",2809.7026592963912,48,null,null,null,null,null,null,null,4500,null,null,null,null,null,null,-1690.2973407036088,0]
["2012-12-04","2014-12-04",null,3933300,2000,null,773,null,224.82684554245554,2224.8268455424554,null,"2014-12-04",2224.8268455424554,48,null,null,null,null,null,null,null,4500,null,null,null,null,null,null,-2275.1731544575446,0]
["2012-12-05","2014-12-05",null,3935100,1800,null,848,null,246.64057570504826,2046.6405757050484,null,"2014-12-05",2046.6405757050484,48,null,null,null,null,null,null,null,4500,null,null,null,null,null,null,-2453.3594242949516,0]
["2012-12-06","2014-12-06",null,3937000,1900,null,822,null,239.07848258201614,2139.078482582016,null,"2014-12-06",2139.078482582016,48,{"$f":"AVERAGE(M341:M347)","v":2408.3805332215893},{"$f":"+A347","v":"2012-12-06"},null,{"$f":"AVERAGE(G341:G347)","v":765.57142857142856},null,null,3,{"$f":"+U347*$U$4","v":4500},null,null,250,{"$f":"24*60/(V347/Y347)","v":80},{"$f":"+Y347/$AA$3","v":2.6368216212400877},null,-2360.921517417984,0,null,null,null,125,{"$f":"24*60/(V347/AH347)","v":40},{"$f":"+AH347/$AJ$3","v":{"$error":"#REF!"}}]
["2012-12-07","2014-12-07",null,3938800,1800,null,909,null,264.38240957062368,2064.3824095706236,null,"2014-12-07",2064.3824095706236,49,null,null,null,null,null,null,null,4500,null,null,null,null,null,null,-2435.6175904293764,0]
["2012-12-08","2014-12-08",null,3941400,2600,null,686,null,199.522918553848,2799.5229185538478,null,"2014-12-08",2799.5229185538478,49,null,null,null,null,null,null,null,4500,null,null,null,null,null,null,-1700.4770814461522,0]
["2012-12-09","2014-12-09",null,3943800,2400,null,620,null,180.32683601076641,2580.3268360107663,null,"2014-12-09",2580.3268360107663,49,null,null,null,null,null,null,null,4500,null,null,null,null,null,null,-1919.6731639892337,0]
["2012-12-10","2014-12-10",null,3945800,2000,null,743,null,216.10135347741846,2216.1013534774183,null,"2014-12-10",2216.1013534774183,49,null,null,null,null,null,null,null,4500,null,null,null,null,null,null,-2283.8986465225817,0]
["2012-12-11","2014-12-11",null,3947500,1700,null,704,null,204.75821379287027,1904.7582137928703,null,"2014-12-11",1904.7582137928703,49,null,null,null,null,null,null,null,4500,null,null,null,null,null,null,-2595.2417862071297,0]
["2012-12-12","2014-12-12",null,3949100,1600,null,733,null,213.19285612240611,1813.1928561224061,null,"2014-12-12",1813.1928561224061,49,null,null,null,null,null,null,null,4500,null,null,null,null,null,null,-2686.8071438775942,0]
["2012-12-13","2014-12-13",null,3951000,1900,null,810,null,235.58828575600128,2135.5882857560014,null,"2014-12-13",2135.5882857560014,49,{"$f":"AVERAGE(M348:M354)","v":2216.2675533262764},{"$f":"+A354","v":"2012-12-13"},null,{"$f":"AVERAGE(G348:G354)","v":743.57142857142856},null,null,3,{"$f":"+U354*$U$4","v":4500},null,null,250,{"$f":"24*60/(V354/Y354)","v":80},{"$f":"+Y354/$AA$3","v":2.6368216212400877},null,-2364.4117142439986,0,null,null,null,125,{"$f":"24*60/(V354/AH354)","v":40},{"$f":"+AH354/$AJ$3","v":{"$error":"#REF!"}}]
["2012-12-14","2014-12-14",null,3953000,2000,null,864,null,251.29417147306805,2251.2941714730682,null,"2014-12-14",2251.2941714730682,50,null,null,null,null,null,null,null,{"$f":"+V354","v":4500},null,null,null,null,null,null,-2248.7058285269318,0]
["2012-12-15","2014-12-15",null,3955300,2300,null,565,null,164.33010055819844,2464.3301005581984,null,"2014-12-15",2464.3301005581984,50,null,null,null,null,null,null,null,4500,null,null,null,null,null,null,-2035.6698994418016,0]
["2012-12-16","2014-12-16",null,3957200,1900,null,707,null,205.63076299937396,2105.6307629993739,null,"2014-12-16",2105.6307629993739,50,null,null,null,null,null,null,null,4500,null,null,null,null,null,null,-2394.3692370006261,0]
["2012-12-17","2014-12-17",null,3959700,2500,null,807,null,{"$f":"+G358*$H$4","v":234.71573654949759},{"$f":"+I358+E358","v":2734.7157365494977},null,{"$f":"+B358","v":"2014-12-17"},2734.7157365494977,50,null,null,null,null,null,null,null,4500,null,null,null,null,null,null,-1765.2842634505023,0]
["2012-12-18","2014-12-18",null,3961700,2000,null,856,null,248.96737358905816,2248.9673735890583,null,"2014-12-18",2248.9673735890583,50,null,null,null,null,null,null,null,4500,null,null,null,null,null,null,-2251.0326264109417,0]
["2012-12-19","2014-12-19",null,3963400,1700,null,785,null,228.3170423684704,1928.3170423684703,null,"2014-12-19",1928.3170423684703,50,null,null,null,null,null,null,null,4500,null,null,null,null,null,null,-2571.6829576315295,0]
["2012-12-20","2014-12-20",null,3965100,1700,null,406,null,118.08499261350188,1818.084992613502,null,"2014-12-20",1818.084992613502,50,{"$f":"AVERAGE(M355:M361)","v":2221.620025735881},{"$f":"+N361","v":50},null,{"$f":"AVERAGE(G355:G361)","v":712.85714285714289},null,null,3,{"$f":"+U361*$U$4","v":4500},null,null,250,{"$f":"24*60/(V361/Y361)","v":80},{"$f":"+Y361/$AA$3","v":2.6368216212400877},null,-2681.915007386498,0,null,null,null,125,{"$f":"24*60/(V361/AH361)","v":40},{"$f":"+AH361/$AJ$3","v":{"$error":"#REF!"}}]
["2012-12-21","2014-12-21",null,3965800,700,null,981,null,285.32359052671268,985.32359052671268,null,"2014-12-21",985.32359052671268,51,null,null,null,null,null,null,null,4500,null,null,null,null,null,null,-3514.6764094732871,0]
["2012-12-22","2014-12-22",null,3968500,2700,null,1216,null,353.67327836950318,3053.6732783695034,null,"2014-12-22",3053.6732783695034,51,null,null,null,null,null,null,null,4500,null,null,null,null,null,null,-1446.3267216304966,0]
["2012-12-23","2014-12-23",null,3972800,4300,null,885,null,257.40201591859403,4557.4020159185939,null,"2014-12-23",4557.4020159185939,51,null,null,null,null,null,null,null,4500,null,null,null,null,null,null,57.402015918593861,57.402015918593861]
["2012-12-24","2014-12-24",null,3975800,3000,null,610,null,177.41833865575407,3177.4183386557543,null,"2014-12-24",3177.4183386557543,51,null,null,null,null,null,null,null,4500,null,null,null,null,null,null,-1322.5816613442457,0]
["2012-12-25","2014-12-25",null,3977700,1900,null,777,null,225.9902444844605,2125.9902444844606,null,"2014-12-25",2125.9902444844606,51,null,null,null,null,null,null,null,4500,null,null,null,null,null,null,-2374.0097555155394,0]
["2012-12-26","2014-12-26",null,3980700,3000,null,850,null,247.22227517605074,3247.222275176051,null,"2014-12-26",3247.222275176051,51,null,null,null,null,null,null,null,4500,null,null,null,null,null,null,-1252.777724823949,0]
["2012-12-27","2014-12-27",null,3984700,4000,null,850,null,247.22227517605074,4247.222275176051,null,"2014-12-27",4247.222275176051,51,{"$f":"AVERAGE(M362:M368)","v":3056.3217169010177},{"$f":"+N368","v":51},null,{"$f":"AVERAGE(G362:G368)","v":881.28571428571433},null,null,3,{"$f":"+U368*$U$4","v":4500},null,null,250,{"$f":"24*60/(V368/Y368)","v":80},{"$f":"+Y368/$AA$3","v":2.6368216212400877},null,-252.77772482394903,0,null,null,null,125,{"$f":"24*60/(V368/AH368)","v":40},{"$f":"+AH368/$AJ$3","v":{"$error":"#REF!"}}]
["2012-12-28","2014-12-28",null,3988200,3500,null,850,null,247.22227517605074,3747.222275176051,null,"2014-12-28",3747.222275176051,52,null,null,null,null,null,null,null,{"$f":"+V368","v":4500},null,null,null,null,null,null,-752.77772482394903,0]
["2012-12-29","2014-12-29",null,3991200,3000,null,850,null,247.22227517605074,3247.222275176051,null,"2014-12-29",3247.222275176051,52,null,null,null,null,null,null,null,4500,null,null,null,null,null,null,-1252.777724823949,0]
["2012-12-30","2014-12-30",null,3994400,3200,null,850,null,247.22227517605074,3447.222275176051,null,"2014-12-30",3447.222275176051,52,null,null,null,null,null,null,null,4500,null,null,null,null,null,null,-1052.777724823949,0]
["2012-12-31","2014-12-31",null,3997600,{"$f":"+D372-D371","v":3200},null,850,null,247.22227517605074,3447.222275176051,null,"2014-12-31",3447.222275176051,52,null,null,null,null,null,null,null,4500,null,null,null,null,null,null,-1052.777724823949,0]

{"sheet":"2015","index":2,"n_rows":372,"n_cols":26,"rows_kept":372,"cut":false,"hidden":false,"merged":[]}
["Water Meter Readings"]
["Juneau County",null,null,null,null,null,"Estimate"]
["Rest Area #10"]
[null,null,null,null,null,null,"Est. waste contrib/Veh",0.29084973550123616,"gal/veh","See RA 13 analysis"]
[]
["Date","Day of Week",null,"Meter Reading (gal)","H2O Use",null,"Traffic",null,"Waste Contrib","Est Total",null,"2015 Wkly Ave flow","2015 Wkly Peak",null,"2014 Wkly Ave flow","Increase",null,"2015 7-day ave traffic","2014 7-day ave traffic","Increase"]
[null,null,null,6340400]
["2015-01-01",{"$f":"+A8","v":"2015-01-01"},null,6343700,{"$f":"+D8-D7","v":3300},null,1000,null,{"$f":"+G8*$H$4","v":290.84973550123618},{"$f":"+I8+E8","v":3590.849735501236}]
["2015-01-02",{"$f":"+A9","v":"2015-01-02"},null,6347000,{"$f":"+D9-D8","v":3300},null,1000,null,{"$f":"+G9*$H$4","v":290.84973550123618},{"$f":"+I9+E9","v":3590.849735501236}]
["2015-01-03","2015-01-03",null,6350500,3500,null,1000,null,290.84973550123618,{"$f":"+I10+E10","v":3790.849735501236}]
["2015-01-04","2015-01-04",null,6353300,2800,null,1000,null,290.84973550123618,{"$f":"+I11+E11","v":3090.849735501236}]
["2015-01-05","2015-01-05",null,6356000,2700,null,600,null,174.5098413007417,{"$f":"+I12+E12","v":2874.5098413007418}]
["2015-01-06","2015-01-06",null,6358000,2000,null,635,null,184.68958204328496,{"$f":"+I13+E13","v":2184.6895820432851},null,null,null,null,null,null,null,null,null,null,null,null,null,"01/06/15",null,635]
["2015-01-07","2015-01-07",null,6360600,2600,null,658,null,191.37912595981339,{"$f":"+I14+E14","v":2791.3791259598133},null,null,null,null,null,null,null,null,null,null,null,null,null,"01/07/15",null,658]
["2015-01-08","2015-01-08",null,6363100,2500,null,644,null,187.30722966279609,{"$f":"+I15+E15","v":2687.3072296627961},null,null,null,null,null,null,null,null,null,null,null,null,null,"01/08/15",null,644]
["2015-01-09","2015-01-09",null,6364700,1600,null,749,null,217.8464518904259,{"$f":"+I16+E16","v":1817.8464518904259},null,null,null,null,null,null,null,null,null,null,null,null,null,"01/09/15",null,749]
["2015-01-10","2015-01-10",null,6367200,2500,null,578,null,168.1111471197145,{"$f":"+I17+E17","v":2668.1111471197146},null,{"$f":"AVERAGE(J11:J17)","v":2587.8133019254301},{"$f":"MAX(J11:J17)","v":3090.849735501236},null,{"$f":"+'2014'!O18","v":2400.0406499144533},{"$f":"(M17-O17)/O17","v":0.28783224384612227},null,{"$f":"AVERAGE(G11:G17)","v":694.85714285714289},{"$f":"+'2014'!R18","v":540.42857142857144},{"$f":"(R17-S17)/S17","v":0.28575204863864662},null,null,null,"01/10/15",null,578]
["2015-01-11","2015-01-11",null,6369400,2200,null,669,null,194.57847305032701,{"$f":"+I18+E18","v":2394.5784730503269},null,null,null,null,null,null,null,null,null,null,null,null,null,"01/11/15",null,669]
["2015-01-12","2015-01-12",null,6371600,2200,null,670,null,194.86932278582822,{"$f":"+I19+E19","v":2394.8693227858284},null,null,null,null,null,null,null,null,null,null,null,null,null,"01/12/15",null,670]
["2015-01-13","2015-01-13",null,6373400,1800,null,664,null,193.12422437282081,{"$f":"+I20+E20","v":1993.1242243728209},null,null,null,null,null,null,null,null,null,null,null,null,null,"01/13/15",null,664]
["2015-01-14","2015-01-14",null,6375800,2400,null,723,null,210.28435876739374,{"$f":"+I21+E21","v":2610.2843587673938},null,null,null,null,null,null,null,null,null,null,null,null,null,"01/14/15",null,723]
["2015-01-15","2015-01-15",null,6377400,1600,null,831,null,241.69613020152724,{"$f":"+I22+E22","v":1841.6961302015272},null,null,null,null,null,null,null,null,null,null,null,null,null,"01/15/15",null,831]
["2015-01-16","2015-01-16",null,6379400,2000,null,893,null,259.7288138026039,{"$f":"+I23+E23","v":2259.7288138026038},null,null,null,null,null,null,null,null,null,null,null,null,null,"01/16/15",null,893]
["2015-01-17","2015-01-17",null,6381900,2500,null,699,null,203.30396511536406,{"$f":"+I24+E24","v":2703.303965115364},null,{"$f":"AVERAGE(J18:J24)","v":2313.9407554422664},{"$f":"MAX(J18:J24)","v":2703.303965115364},null,{"$f":"+'2014'!O25","v":2025.5597994301945},{"$f":"(M24-O24)/O24","v":0.33459597977597311},null,{"$f":"AVERAGE(G18:G24)","v":735.57142857142856},{"$f":"+'2014'!R25","v":677.28571428571433},{"$f":"(R24-S24)/S24","v":8.6057793714406139E-2},null,null,null,"01/17/15",null,699]
["2015-01-18","2015-01-18",null,6381900,0,null,691,null,200.9771672313542,{"$f":"+I25+E25","v":200.9771672313542},null,null,null,null,null,null,null,null,null,null,null,null,null,"01/18/15",null,691]
["2015-01-19","2015-01-19",null,6383800,1900,null,769,null,223.66344660045061,{"$f":"+I26+E26","v":2123.6634466004507},null,null,null,null,null,null,null,null,null,null,null,null,null,"01/19/15",null,769]
["2015-01-20","2015-01-20",null,6385400,1600,null,721,null,209.70265929639126,{"$f":"+I27+E27","v":1809.7026592963912},null,null,null,null,null,null,null,null,null,null,null,null,null,"01/20/15",null,721]
["2015-01-21","2015-01-21",null,6386800,1400,null,746,null,216.97390268392218,{"$f":"+I28+E28","v":1616.9739026839222},null,null,null,null,null,null,null,null,null,null,null,null,null,"01/21/15",null,746]
["2015-01-22","2015-01-22",null,6388400,1600,null,768,null,223.37259686494937,{"$f":"+I29+E29","v":1823.3725968649494},null,null,null,null,null,null,null,null,null,null,null,null,null,"01/22/15",null,768]
["2015-01-23","2015-01-23",null,6390100,1700,null,872,null,253.62096935707794,{"$f":"+I30+E30","v":1953.6209693570779},null,null,null,null,null,null,null,null,null,null,null,null,null,"01/23/15",null,872]
["2015-01-24","2015-01-24",null,6392300,2200,null,708,null,205.9216127348752,{"$f":"+I31+E31","v":2405.921612734875},null,{"$f":"AVERAGE(J25:J31)","v":1704.8903363955744},{"$f":"MAX(J25:J31)","v":2405.921612734875},null,{"$f":"+'2014'!O32","v":1972.6891156793663},{"$f":"(M31-O31)/O31","v":0.21961519106689528},null,{"$f":"AVERAGE(G25:G31)","v":753.57142857142856},{"$f":"+'2014'!R32","v":642.85714285714289},{"$f":"(R31-S31)/S31","v":0.17222222222222214},null,null,null,"01/24/15",null,708]
["2015-01-25","2015-01-25",null,6394500,2200,null,689,null,200.39546776035172,{"$f":"+I32+E32","v":2400.3954677603515},null,null,null,null,null,null,null,null,null,null,null,null,null,"01/25/15",null,689]
["2015-01-26","2015-01-26",null,6396500,2000,null,747,null,217.26475241942342,{"$f":"+I33+E33","v":2217.2647524194235},null,null,null,null,null,null,null,null,null,null,null,null,null,"01/26/15",null,747]
["2015-01-27","2015-01-27",null,6397700,1200,null,738,null,214.64710479991228,{"$f":"+I34+E34","v":1414.6471047999123},null,null,null,null,null,null,null,null,null,null,null,null,null,"01/27/15",null,738]
["2015-01-28","2015-01-28",null,6399900,2200,null,706,null,205.33991326387272,{"$f":"+I35+E35","v":2405.3399132638729},null,null,null,null,null,null,null,null,null,null,null,null,null,"01/28/15",null,706]
["2015-01-29","2015-01-29",null,6401400,1500,null,765,null,222.50004765844565,{"$f":"+I36+E36","v":1722.5000476584457},null,null,null,null,null,null,null,null,null,null,null,null,null,"01/29/15",null,765]
["2015-01-30","2015-01-30",null,6403500,2100,null,880,null,255.94776724108783,{"$f":"+I37+E37","v":2355.9477672410876},null,null,null,null,null,null,null,null,null,null,null,null,null,"01/30/15",null,880]
["2015-01-31","2015-01-31",null,6405800,2300,null,643,null,187.01637992729485,{"$f":"+I38+E38","v":2487.016379927295},null,{"$f":"AVERAGE(J32:J38)","v":2143.30163329577},{"$f":"MAX(J32:J38)","v":2487.016379927295},null,{"$f":"+'2014'!O39","v":1571.2689442480134},{"$f":"(M38-O38)/O38","v":0.582807570296341},null,{"$f":"AVERAGE(G32:G38)","v":738.28571428571433},{"$f":"+'2014'!R39","v":588.85714285714289},{"$f":"(R38-S38)/S38","v":0.25376031052886949},null,null,null,"01/31/15",null,643]
["2015-02-01","2015-02-01",null,6407700,{"$f":"+D39-D38","v":1900},null,434,null,126.22878520753649,{"$f":"+I39+E39","v":2026.2287852075365},null,null,null,null,null,null,null,null,null,null,null,null,null,"02/01/15",null,434]
["2015-02-02","2015-02-02",null,6408100,{"$f":"+D40-D39","v":400},null,686,null,199.522918553848,{"$f":"+I40+E40","v":599.52291855384806},null,null,null,null,null,null,null,null,null,null,null,null,null,"02/02/15",null,686]
["2015-02-03","2015-02-03",null,6410300,2200,null,708,null,205.9216127348752,{"$f":"+I41+E41","v":2405.921612734875},null,null,null,null,null,null,null,null,null,null,null,null,null,"02/03/15",null,708]
["2015-02-04","2015-02-04",null,6411700,1400,null,718,null,208.83011008988757,{"$f":"+I42+E42","v":1608.8301100898875},null,null,null,null,null,null,null,null,null,null,null,null,null,"02/04/15",null,718]
["2015-02-05","2015-02-05",null,6413500,1800,null,774,null,225.11769527795678,{"$f":"+I43+E43","v":2025.1176952779567},null,null,null,null,null,null,null,null,null,null,null,null,null,"02/05/15",null,774]
["2015-02-06","2015-02-06",null,6415400,1900,null,872,null,253.62096935707794,{"$f":"+I44+E44","v":2153.6209693570781},null,null,null,null,null,null,null,null,null,null,null,null,null,"02/06/15",null,872]
["2015-02-07","2015-02-07",null,6417600,2200,null,615,null,178.87258733326024,{"$f":"+I45+E45","v":2378.8725873332601},null,{"$f":"AVERAGE(J39:J45)","v":1885.4449540792061},{"$f":"MAX(J39:J45)","v":2405.921612734875},null,{"$f":"+'2014'!O46","v":1638.9239418311299},{"$f":"(M45-O45)/O45","v":0.46798856940658101},null,{"$f":"AVERAGE(G39:G45)","v":686.71428571428567},{"$f":"+'2014'!R46","v":625},{"$f":"(R45-S45)/S45","v":9.8742857142857063E-2},null,null,null,"02/07/15",null,615]
["2015-02-08","2015-02-08",null,6419600,2000,null,651,null,189.34317781130474,{"$f":"+I46+E46","v":2189.3431778113049},null,null,null,null,null,null,null,null,null,null,null,null,null,"02/08/15",null,651]
["2015-02-09","2015-02-09",null,6421500,1900,null,714,null,207.66671114788261,{"$f":"+I47+E47","v":2107.6667111478828},null,null,null,null,null,null,null,null,null,null,null,null,null,"02/09/15",null,714]
["2015-02-10","2015-02-10",null,6423100,1600,null,628,null,182.65363389477631,{"$f":"+I48+E48","v":1782.6536338947762},null,null,null,null,null,null,null,null,null,null,null,null,null,"02/10/15",null,628]
["2015-02-11","2015-02-11",null,6424300,1200,null,731,null,212.61115665140363,{"$f":"+I49+E49","v":1412.6111566514037},null,null,null,null,null,null,null,null,null,null,null,null,null,"02/11/15",null,731]
["2015-02-12","2015-02-12",null,6426300,2000,null,792,null,230.35299051697905,{"$f":"+I50+E50","v":2230.3529905169789},null,null,null,null,null,null,null,null,null,null,null,null,null,"02/12/15",null,792]
["2015-02-13","2015-02-13",null,6429000,2700,null,848,null,246.64057570504826,{"$f":"+I51+E51","v":2946.6405757050484},null,null,null,null,null,null,null,null,null,null,null,null,null,"02/13/15",null,848]
["2015-02-14","2015-02-14",null,6431300,2300,null,561,null,163.16670161619348,{"$f":"+I52+E52","v":2463.1667016161937},null,{"$f":"AVERAGE(J46:J52)","v":2161.7764210490841},{"$f":"MAX(J46:J52)","v":2946.6405757050484},null,{"$f":"+'2014'!O53","v":1807.6592384318221},{"$f":"(M52-O52)/O52","v":0.63008630888934225},null,{"$f":"AVERAGE(G46:G52)","v":703.57142857142856},{"$f":"+'2014'!R53","v":664.85714285714289},{"$f":"(R52-S52)/S52","v":5.8229480017189438E-2},null,null,null,"02/14/15",null,561]
["2015-02-15","2015-02-15",null,6433500,2200,null,718,null,208.83011008988757,{"$f":"+I53+E53","v":2408.8301100898875},null,null,null,null,null,null,null,null,null,null,null,null,null,"02/15/15",null,718]
["2015-02-16","2015-02-16",null,6435800,2300,null,793,null,230.64384025248029,{"$f":"+I54+E54","v":2530.6438402524805},null,null,null,null,null,null,null,null,null,null,null,null,null,"02/16/15",null,793]
["2015-02-17","2015-02-17",null,6438000,2200,null,703,null,204.46736405736902,{"$f":"+I55+E55","v":2404.4673640573692},null,null,null,null,null,null,null,null,null,null,null,null,null,"02/17/15",null,703]
["2015-02-18","2015-02-18",null,6439300,1300,null,672,null,195.4510222568307,{"$f":"+I56+E56","v":1495.4510222568306},null,null,null,null,null,null,null,null,null,null,null,null,null,"02/18/15",null,672]
["2015-02-19","2015-02-19",null,6441700,2400,null,757,null,220.17324977443579,{"$f":"+I57+E57","v":2620.1732497744356},null,null,null,null,null,null,null,null,null,null,null,null,null,"02/19/15",null,757]
["2015-02-20","2015-02-20",null,6444000,2300,null,881,null,256.23861697658907,{"$f":"+I58+E58","v":2556.2386169765891},null,null,null,null,null,null,null,null,null,null,null,null,null,"02/20/15",null,881]
["2015-02-21","2015-02-21",null,6446700,2700,null,585,null,170.14709526822315,{"$f":"+I59+E59","v":2870.147095268223},null,{"$f":"AVERAGE(J53:J59)","v":2412.2787569536881},{"$f":"MAX(J53:J59)","v":2870.147095268223},null,{"$f":"+'2014'!O60","v":1721.0724035110325},{"$f":"(M59-O59)/O59","v":0.66765040762552941},null,{"$f":"AVERAGE(G53:G59)","v":729.85714285714289},{"$f":"+'2014'!R60","v":661.85714285714289},{"$f":"(R59-S59)/S59","v":0.10274120440319447},null,null,null,"02/21/15",null,585]
["2015-02-22","2015-02-22",null,6449000,2300,null,758,null,220.464099509937,{"$f":"+I60+E60","v":2520.4640995099371},null,null,null,null,null,null,null,null,null,null,null,null,null,"02/22/15",null,758]
["2015-02-23","2015-02-23",null,6451200,2200,null,735,null,213.77455559340859,{"$f":"+I61+E61","v":2413.7745555934084},null,null,null,null,null,null,null,null,null,null,null,null,null,"02/23/15",null,735]
["2015-02-24","2015-02-24",null,6453200,2000,null,728,null,211.73860744489991,{"$f":"+I62+E62","v":2211.7386074449},null,null,null,null,null,null,null,null,null,null,null,null,null,"02/24/15",null,728]
["2015-02-25","2015-02-25",null,6455000,1800,null,747,null,217.26475241942342,{"$f":"+I63+E63","v":2017.2647524194235},null,null,null,null,null,null,null,null,null,null,null,null,null,"02/25/15",null,747]
["2015-02-26","2015-02-26",null,6457000,2000,null,766,null,222.79089739394689,{"$f":"+I64+E64","v":2222.790897393947},null,null,null,null,null,null,null,null,null,null,null,null,null,"02/26/15",null,766]
["2015-02-27","2015-02-27",null,6459200,2200,null,828,null,240.82358099502355,{"$f":"+I65+E65","v":2440.8235809950233},null,null,null,null,null,null,null,null,null,null,null,null,null,"02/27/15",null,828]
["2015-02-28","2015-02-28",null,6462000,2800,null,705,null,205.04906352837151,{"$f":"+I66+E66","v":3005.0490635283713},null,{"$f":"AVERAGE(J60:J66)","v":2404.5579366978586},{"$f":"MAX(J60:J66)","v":3005.0490635283713},null,{"$f":"+'2014'!O67","v":1886.3590532479243},{"$f":"(M66-O66)/O66","v":0.59304192823433677},null,{"$f":"AVERAGE(G60:G66)","v":752.42857142857144},{"$f":"+'2014'!R67","v":689.85714285714289},{"$f":"(R66-S66)/S66","v":9.070200869745286E-2},null,null,null,"02/28/15",null,705]
["2015-03-01","2015-03-01",null,6464800,{"$f":"+D67-D66","v":2800},null,761,null,221.33664871644072,{"$f":"+I67+E67","v":3021.3366487164408},null,null,null,null,null,null,null,null,null,null,null,null,null,"03/01/15",null,761]
["2015-03-02","2015-03-02",null,6467500,{"$f":"+D68-D67","v":2700},null,824,null,239.66018205301859,{"$f":"+I68+E68","v":2939.6601820530186},null,null,null,null,null,null,null,null,null,null,null,null,null,"03/02/15",null,824]
["2015-03-03","2015-03-03",null,6469600,2100,null,726,null,211.15690797389746,{"$f":"+I69+E69","v":2311.1569079738974},null,null,null,null,null,null,null,null,null,null,null,null,null,"03/03/15",null,726]
["2015-03-04","2015-03-04",null,6471000,1400,null,777,null,225.9902444844605,{"$f":"+I70+E70","v":1625.9902444844606},null,null,null,null,null,null,null,null,null,null,null,null,null,"03/04/15",null,777]
["2015-03-05","2015-03-05",null,6473000,2000,null,810,null,235.58828575600128,{"$f":"+I71+E71","v":2235.5882857560014},null,null,null,null,null,null,null,null,null,null,null,null,null,"03/05/15",null,810]
["2015-03-06","2015-03-06",null,6475200,2200,null,893,null,259.7288138026039,{"$f":"+I72+E72","v":2459.7288138026038},null,null,null,null,null,null,null,null,null,null,null,null,null,"03/06/15",null,893]
["2015-03-07",{"$f":"+A73","v":"2015-03-07"},null,6477700,2500,null,743,null,{"$f":"+G73*$H$4","v":216.10135347741846},{"$f":"+I73+E73","v":2716.1013534774183},null,{"$f":"AVERAGE(J67:J73)","v":2472.7946337519775},{"$f":"MAX(J67:J73)","v":3021.3366487164408},null,{"$f":"+'2014'!O74","v":1933.0803425910121},{"$f":"(M73-O73)/O73","v":0.56296486087421482},null,{"$f":"AVERAGE(G67:G73)","v":790.57142857142856},{"$f":"+'2014'!R74","v":703.14285714285711},{"$f":"(R73-S73)/S73","v":0.12433969930922392},null,null,null,"03/07/15",null,743]
["2015-03-08","2015-03-08",null,6480700,3000,null,{"$f":"+G73+G75/2","v":1161.5},null,337.8219677846858,{"$f":"+I74+E74","v":3337.821967784686}]
["2015-03-09","2015-03-09",null,6483500,2800,null,837,null,243.44122861453468,{"$f":"+I75+E75","v":3043.4412286145348},null,null,null,null,null,null,null,null,null,null,null,null,null,"03/09/15",null,837]
["2015-03-10","2015-03-10",null,6485600,2100,null,813,null,236.460834962505,{"$f":"+I76+E76","v":2336.460834962505},null,null,null,null,null,null,null,null,null,null,null,null,null,"03/10/15",null,813]
["2015-03-11","2015-03-11",null,6487400,1800,null,823,null,239.36933231751735,{"$f":"+I77+E77","v":2039.3693323175173},null,null,null,null,null,null,null,null,null,null,null,null,null,"03/11/15",null,823]
["2015-03-12","2015-03-12",null,6489400,2000,null,935,null,271.94450269365581,{"$f":"+I78+E78","v":2271.944502693656},null,null,null,null,null,null,null,null,null,null,null,null,null,"03/12/15",null,935]
["2015-03-13","2015-03-13",null,6491600,2200,null,1125,null,327.20595243889068,{"$f":"+I79+E79","v":2527.2059524388906},null,null,null,null,null,null,null,null,null,null,null,null,null,"03/13/15",null,1125]
["2015-03-14","2015-03-14",null,6495100,3500,null,825,null,239.95103178851983,{"$f":"+I80+E80","v":3739.9510317885197},null,{"$f":"AVERAGE(J74:J80)","v":2756.5992643714731},{"$f":"MAX(J74:J80)","v":3739.9510317885197},null,{"$f":"+'2014'!O81","v":2265.9879126648661},{"$f":"(M80-O80)/O80","v":0.65047263089335328},null,{"$f":"AVERAGE(G74:G80)","v":931.35714285714289},{"$f":"+'2014'!R81","v":816.28571428571433},{"$f":"(R80-S80)/S80","v":0.14096954847742385},null,null,null,"03/14/15",null,825]
["2015-03-15","2015-03-15",null,6498000,2900,null,1018,null,296.08503074025839,{"$f":"+I81+E81","v":3196.0850307402584},null,null,null,null,null,null,null,null,null,null,null,null,null,"03/15/15",null,1018]
["2015-03-16","2015-03-16",null,6501800,3800,null,849,null,246.9314254405495,{"$f":"+I82+E82","v":4046.9314254405494},null,null,null,null,null,null,null,null,null,null,null,null,null,"03/16/15",null,849]
["2015-03-17","2015-03-17",null,6503800,2000,null,892,null,259.43796406710266,{"$f":"+I83+E83","v":2259.4379640671027},null,null,null,null,null,null,null,null,null,null,null,null,null,"03/17/15",null,892]
["2015-03-18","2015-03-18",null,6506200,2400,null,885,null,257.40201591859403,{"$f":"+I84+E84","v":2657.4020159185939},null,null,null,null,null,null,null,null,null,null,null,null,null,"03/18/15",null,885]
["2015-03-19","2015-03-19",null,6508400,2200,null,951,null,276.59809846167559,{"$f":"+I85+E85","v":2476.5980984616754},null,null,null,null,null,null,null,null,null,null,null,null,null,"03/19/15",null,951]
["2015-03-20","2015-03-20",null,6511000,2600,null,1157,null,336.51314397493024,{"$f":"+I86+E86","v":2936.5131439749302},null,null,null,null,null,null,null,null,null,null,null,null,null,"03/20/15",null,1157]
["2015-03-21","2015-03-21",null,6514600,3600,null,842,null,244.89547729204085,{"$f":"+I87+E87","v":3844.8954772920411},null,{"$f":"AVERAGE(J81:J87)","v":3059.6947365564506},{"$f":"MAX(J81:J87)","v":4046.9314254405494},null,{"$f":"+'2014'!O88","v":2575.5444039741924},{"$f":"(M87-O87)/O87","v":0.57129165359988909},null,{"$f":"AVERAGE(G81:G87)","v":942},{"$f":"+'2014'!R88","v":849.14285714285711},{"$f":"(R87-S87)/S87","v":0.1093539703903096},null,null,null,"03/21/15",null,842]
["2015-03-22","2015-03-22",null,6518000,3400,null,1039,null,302.19287518578437,{"$f":"+I88+E88","v":3702.1928751857845},null,null,null,null,null,null,null,null,null,null,null,null,null,"03/22/15",null,1039]
["2015-03-23","2015-03-23",null,6522000,4000,null,810,null,235.58828575600128,{"$f":"+I89+E89","v":4235.5882857560009},null,null,null,null,null,null,null,null,null,null,null,null,null,"03/23/15",null,810]
["2015-03-24","2015-03-24",null,6523800,1800,null,839,null,244.02292808553713,{"$f":"+I90+E90","v":2044.0229280855372},null,null,null,null,null,null,null,null,null,null,null,null,null,"03/24/15",null,839]
["2015-03-25","2015-03-25",null,6526100,2300,null,941,null,273.68960110666325,{"$f":"+I91+E91","v":2573.6896011066633},null,null,null,null,null,null,null,null,null,null,null,null,null,"03/25/15",null,941]
["2015-03-26","2015-03-26",null,6528500,2400,null,1006,null,292.59483391424357,{"$f":"+I92+E92","v":2692.5948339142437},null,null,null,null,null,null,null,null,null,null,null,null,null,"03/26/15",null,1006]
["2015-03-27","2015-03-27",null,6531200,2700,null,1094,null,318.18961063835235,{"$f":"+I93+E93","v":3018.1896106383524},null,null,null,null,null,null,null,null,null,null,null,null,null,"03/27/15",null,1094]
["2015-03-28","2015-03-28",null,6535100,3900,null,890,null,258.85626459610017,{"$f":"+I94+E94","v":4158.8562645961001},null,{"$f":"AVERAGE(J88:J94)","v":3203.5906284689545},{"$f":"MAX(J88:J94)","v":4235.5882857560009},null,{"$f":"+'2014'!O95","v":2787.7185429030301},{"$f":"(M94-O94)/O94","v":0.51937443489012025},null,{"$f":"AVERAGE(G88:G94)","v":945.57142857142856},{"$f":"+'2014'!R95","v":891},{"$f":"(R94-S94)/S94","v":6.1247394580727893E-2},null,null,null,"03/28/15",null,890]
["2015-03-29","2015-03-29",null,6538100,3000,null,1018,null,296.08503074025839,{"$f":"+I95+E95","v":3296.0850307402584},null,null,null,null,null,null,null,null,null,null,null,null,null,"03/29/15",null,1018]
["2015-03-30","2015-03-30",null,6542000,3900,null,980,null,285.03274079121144,{"$f":"+I96+E96","v":4185.0327407912118},null,null,null,null,null,null,null,null,null,null,null,null,null,"03/30/15",null,980]
["2015-03-31","2015-03-31",null,6544600,2600,null,973,null,282.99679264270276,{"$f":"+I97+E97","v":2882.9967926427025},null,null,null,null,null,null,null,null,null,null,null,null,null,"03/31/15",null,973]
["2015-04-01","2015-04-01",null,6547000,{"$f":"+D98-D97","v":2400},null,1083,null,314.99026354783877,{"$f":"+I98+E98","v":2714.9902635478388},null,null,null,null,null,null,null,null,null,null,null,null,null,"04/01/15",null,1083]
["2015-04-02","2015-04-02",null,6550300,3300,null,1204,null,350.18308154348836,{"$f":"+I99+E99","v":3650.1830815434882},null,null,null,null,null,null,null,null,null,null,null,null,null,"04/02/15",null,1204]
["2015-04-03","2015-04-03",null,6554000,3700,null,1352,null,393.22884239767131,{"$f":"+I100+E100","v":4093.2288423976715},null,null,null,null,null,null,null,null,null,null,null,null,null,"04/03/15",null,1352]
["2015-04-04","2015-04-04",null,6559200,5200,null,921,null,267.8726063966385,{"$f":"+I101+E101","v":5467.8726063966387},null,{"$f":"AVERAGE(J95:J101)","v":3755.7699082942586},{"$f":"MAX(J95:J101)","v":5467.8726063966387},null,{"$f":"+'2014'!O102","v":2765.2059360988524},{"$f":"(M101-O101)/O101","v":0.97738350515430461},null,{"$f":"AVERAGE(G95:G101)","v":1075.8571428571429},{"$f":"+'2014'!R102","v":862.71428571428567},{"$f":"(R101-S101)/S101","v":0.24706077165093571},null,null,null,"04/04/15",null,921]
["2015-04-05","2015-04-05",null,6563600,4400,null,1240,null,360.65367202153283,{"$f":"+I102+E102","v":4760.6536720215327},null,null,null,null,null,null,null,null,null,null,null,null,null,"04/05/15",null,1240]
["2015-04-06","2015-04-06",null,6568800,5200,null,1261,null,366.76151646705881,{"$f":"+I103+E103","v":5566.7615164670588},null,null,null,null,null,null,null,null,null,null,null,null,null,"04/06/15",null,1261]
["2015-04-07","2015-04-07",null,6573100,4300,null,933,null,271.36280322265333,{"$f":"+I104+E104","v":4571.3628032226534},null,null,null,null,null,null,null,null,null,null,null,null,null,"04/07/15",null,933]
["2015-04-08","2015-04-08",null,6575800,2700,null,966,null,280.96084449419413,{"$f":"+I105+E105","v":2980.9608444941941},null,null,null,null,null,null,null,null,null,null,null,null,null,"04/08/15",null,966]
["2015-04-09","2015-04-09",null,6578800,3000,null,967,null,281.25169422969537,{"$f":"+I106+E106","v":3281.2516942296952},null,null,null,null,null,null,null,null,null,null,null,null,null,"04/09/15",null,967]
["2015-04-10","2015-04-10",null,6582300,3500,null,1163,null,338.25824238793763,{"$f":"+I107+E107","v":3838.2582423879376},null,null,null,null,null,null,null,null,null,null,null,null,null,"04/10/15",null,1163]
["2015-04-11","2015-04-11",null,6587000,4700,null,890,null,258.85626459610017,{"$f":"+I108+E108","v":4958.8562645961001},null,{"$f":"AVERAGE(J102:J108)","v":4279.7292910598817},{"$f":"MAX(J102:J108)","v":5566.7615164670588},null,{"$f":"+'2014'!O109","v":2920.7773673936204},{"$f":"(M108-O108)/O108","v":0.90591778018144675},null,{"$f":"AVERAGE(G102:G108)","v":1060},{"$f":"+'2014'!R109","v":906.42857142857144},{"$f":"(R108-S108)/S108","v":0.16942474389282897},null,null,null,"04/11/15",null,890]
["2015-04-12","2015-04-12",null,6590700,3700,null,1060,null,308.30071963131036,{"$f":"+I109+E109","v":4008.3007196313101},null,null,null,null,null,null,null,null,null,null,null,null,null,"04/12/15",null,1060]
["2015-04-13","2015-04-13",null,6595700,5000,null,878,null,255.36606777008535,{"$f":"+I110+E110","v":5255.3660677700855},null,null,null,null,null,null,null,null,null,null,null,null,null,"04/13/15",null,878]
["2015-04-14","2015-04-14",null,6598300,2600,null,872,null,253.62096935707794,{"$f":"+I111+E111","v":2853.6209693570781},null,null,null,null,null,null,null,null,null,null,null,null,null,"04/14/15",null,872]
["2015-04-15","2015-04-15",null,6601000,2700,null,928,null,269.90855454514718,{"$f":"+I112+E112","v":2969.9085545451471},null,null,null,null,null,null,null,null,null,null,null,null,null,"04/15/15",null,928]
["2015-04-16","2015-04-16",null,6603800,2800,null,885,null,257.40201591859403,{"$f":"+I113+E113","v":3057.4020159185939},null,null,null,null,null,null,null,null,null,null,null,null,null,"04/16/15",null,885]
["2015-04-17","2015-04-17",null,6607000,3200,null,1159,null,337.09484344593272,{"$f":"+I114+E114","v":3537.0948434459328},null,null,null,null,null,null,null,null,null,null,null,null,null,"04/17/15",null,1159]
["2015-04-18","2015-04-18",null,6611800,4800,null,842,null,244.89547729204085,{"$f":"+I115+E115","v":5044.8954772920406},null,{"$f":"AVERAGE(J109:J115)","v":3818.0840925657408},{"$f":"MAX(J109:J115)","v":5255.3660677700855},null,{"$f":"+'2014'!O116","v":3027.6405838750675},{"$f":"(M115-O115)/O115","v":0.73579588533714235},null,{"$f":"AVERAGE(G109:G115)","v":946.28571428571433},{"$f":"+'2014'!R116","v":979.14285714285711},{"$f":"(R115-S115)/S115","v":-3.3557046979865689E-2},null,null,null,"04/18/15",null,842]
["2015-04-19","2015-04-19",null,6615300,3500,null,1041,null,302.77457465678685,{"$f":"+I116+E116","v":3802.7745746567871},null,null,null,null,null,null,null,null,null,null,null,null,null,"04/19/15",null,1041]
["2015-04-20","2015-04-20",null,6620100,4800,null,800,null,232.67978840098894,{"$f":"+I117+E117","v":5032.6797884009893},null,null,null,null,null,null,null,null,null,null,null,null,null,"04/20/15",null,800]
["2015-04-21","2015-04-21",null,6622400,2300,null,756,null,219.88240003893455,{"$f":"+I118+E118","v":2519.8824000389345},null,null,null,null,null,null,null,null,null,null,null,null,null,"04/21/15",null,756]
["2015-04-22","2015-04-22",null,6624600,2200,null,717,null,208.53926035438633,{"$f":"+I119+E119","v":2408.5392603543864},null,null,null,null,null,null,null,null,null,null,null,null,null,"04/22/15",null,717]
["2015-04-23","2015-04-23",null,6626900,2300,null,907,null,263.8007100996212,{"$f":"+I120+E120","v":2563.800710099621},null,null,null,null,null,null,null,null,null,null,null,null,null,"04/23/15",null,907]
["2015-04-24","2015-04-24",null,6629700,2800,null,1195,null,347.5654339239772,{"$f":"+I121+E121","v":3147.5654339239773},null,null,null,null,null,null,null,null,null,null,null,null,null,"04/24/15",null,1195]
["2015-04-25","2015-04-25",null,6633800,4100,null,921,null,267.8726063966385,{"$f":"+I122+E122","v":4367.8726063966387},null,{"$f":"AVERAGE(J116:J122)","v":3406.1592534101906},{"$f":"MAX(J116:J122)","v":5032.6797884009893},null,{"$f":"+'2014'!O123","v":3416.1046398115682},{"$f":"(M122-O122)/O122","v":0.47322178886141825},null,{"$f":"AVERAGE(G116:G122)","v":905.28571428571433},{"$f":"+'2014'!R123","v":1037.7142857142858},{"$f":"(R122-S122)/S122","v":-0.12761563876651982},null,null,null,"04/25/15",null,921]
["2015-04-26","2015-04-26",null,6637400,3600,null,1193,null,346.98373445297472,{"$f":"+I123+E123","v":3946.9837344529747},null,null,null,null,null,null,null,null,null,null,null,null,null,"04/26/15",null,1193]
["2015-04-27","2015-04-27",null,6642800,5400,null,955,null,277.76149740368055,{"$f":"+I124+E124","v":5677.7614974036806},null,null,null,null,null,null,null,null,null,null,null,null,null,"04/27/15",null,955]
["2015-04-28","2015-04-28",null,6646200,3400,null,779,null,226.57194395546296,{"$f":"+I125+E125","v":3626.5719439554628},null,null,null,null,null,null,null,null,null,null,null,null,null,"04/28/15",null,779]
["2015-04-29","2015-04-29",null,6648700,2500,null,858,null,249.54907306006064,{"$f":"+I126+E126","v":2749.5490730600604},null,null,null,null,null,null,null,null,null,null,null,null,null,"04/29/15",null,858]
["2015-04-30","2015-04-30",null,6651700,3000,null,620,null,180.32683601076641,{"$f":"+I127+E127","v":3180.3268360107663},null,null,null,null,null,null,null,null,null,null,null,null,null,"04/30/15",null,620]
["2015-05-01","2015-05-01",null,6654200,{"$f":"+D128-D127","v":2500},null,1304,null,379.26805509361196,{"$f":"+I128+E128","v":2879.268055093612},null,null,null,null,null,null,null,null,null,null,null,null,null,"05/01/15",null,1304]
["2015-05-02","2015-05-02",null,6659200,{"$f":"+D129-D128","v":5000},null,956,null,278.05234713918179,{"$f":"+I129+E129","v":5278.0523471391816},null,{"$f":"AVERAGE(J123:J129)","v":3905.5019267308198},{"$f":"MAX(J123:J129)","v":5677.7614974036806},null,{"$f":"+'2014'!O130","v":3865.3455314176163},{"$f":"(M129-O129)/O129","v":0.46888847355422852},null,{"$f":"AVERAGE(G123:G129)","v":952.14285714285711},{"$f":"+'2014'!R130","v":961.42857142857144},{"$f":"(R129-S129)/S129","v":-9.6582466567608233E-3},null,null,null,"05/02/15",null,956]
["2015-05-03","2015-05-03",null,6663500,4300,null,1053,null,306.26477148280168,{"$f":"+I130+E130","v":4606.2647714828017},null,null,null,null,null,null,null,null,null,null,null,null,null,"05/03/15",null,1053]
["2015-05-04","2015-05-04",null,6668400,4900,null,806,null,234.42488681399635,{"$f":"+I131+E131","v":5134.4248868139966},null,null,null,null,null,null,null,null,null,null,null,null,null,"05/04/15",null,806]
["2015-05-05","2015-05-05",null,6671000,2600,null,873,null,253.91181909257918,{"$f":"+I132+E132","v":2853.9118190925792},null,null,null,null,null,null,null,null,null,null,null,null,null,"05/05/15",null,873]
["2015-05-06","2015-05-06",null,6674000,3000,null,921,null,267.8726063966385,{"$f":"+I133+E133","v":3267.8726063966387},null,null,null,null,null,null,null,null,null,null,null,null,null,"05/06/15",null,921]
["2015-05-07","2015-05-07",null,6677100,3100,null,1088,null,316.44451222534497,{"$f":"+I134+E134","v":3416.4445122253451},null,null,null,null,null,null,null,null,null,null,null,null,null,"05/07/15",null,1088]
["2015-05-08","2015-05-08",null,6681100,4000,null,1314,null,382.17655244862431,{"$f":"+I135+E135","v":4382.1765524486245},null,null,null,null,null,null,null,null,null,null,null,null,null,"05/08/15",null,1314]
["2015-05-09","2015-05-09",null,6687700,6600,null,1047,null,304.51967306979424,{"$f":"+I136+E136","v":6904.5196730697944},null,{"$f":"AVERAGE(J130:J136)","v":4366.5164030756832},{"$f":"MAX(J130:J136)","v":6904.5196730697944},null,{"$f":"+'2014'!O137","v":3585.2969859966192},{"$f":"(M136-O136)/O136","v":0.92578737550538448},null,{"$f":"AVERAGE(G130:G136)","v":1014.5714285714286},{"$f":"+'2014'!R137","v":1079.1428571428571},{"$f":"(R136-S136)/S136","v":-5.983584855705585E-2},null,null,null,"05/09/15",null,1047]
["2015-05-10",{"$f":"+A137","v":"2015-05-10"},null,6691100,3400,null,1135,null,{"$f":"+G137*$H$4","v":330.11444979390302},{"$f":"+I137+E137","v":3730.1144497939031},null,null,null,null,null,null,null,null,null,null,null,null,null,"05/10/15",null,1135]
["2015-05-11","2015-05-11",null,6696300,5200,null,961,null,279.50659581668793,{"$f":"+I138+E138","v":5479.5065958166879},null,null,null,null,null,null,null,null,null,null,null,null,null,"05/11/15",null,961]
["2015-05-12","2015-05-12",null,6699700,3400,null,648,null,188.47062860480102,{"$f":"+I139+E139","v":3588.4706286048008},null,null,null,null,null,null,null,null,null,null,null,null,null,"05/12/15",null,648]
["2015-05-13","2015-05-13",null,6701600,1900,null,201,null,58.460796835748468,{"$f":"+I140+E140","v":1958.4607968357484},null,null,null,null,null,null,null,null,null,null,null,null,null,"05/13/15",null,201]
["2015-05-14","2015-05-14",null,6702600,1000,null,895,null,260.31051327360638,{"$f":"+I141+E141","v":1260.3105132736064},null,null,null,null,null,null,null,null,null,null,null,null,null,"05/14/15",null,895]
["2015-05-15","2015-05-15",null,6706200,3600,null,1311,null,381.30400324212059,{"$f":"+I142+E142","v":3981.3040032421204},null,null,null,null,null,null,null,null,null,null,null,null,null,"05/15/15",null,1311]
["2015-05-16","2015-05-16",null,6712000,5800,null,1067,null,310.33666777981898,{"$f":"+I143+E143","v":6110.3366677798185},null,{"$f":"AVERAGE(J137:J143)","v":3729.7862364780981},{"$f":"MAX(J137:J143)","v":6110.3366677798185},null,{"$f":"+'2014'!O144","v":3800.5948448076028},{"$f":"(M143-O143)/O143","v":0.60773166235485476},null,{"$f":"AVERAGE(G137:G143)","v":888.28571428571433},{"$f":"+'2014'!R144","v":1180.8571428571429},{"$f":"(R143-S143)/S143","v":-0.24776191628357125},null,null,null,"05/16/15",null,1067]
["2015-05-17","2015-05-17",null,6717000,5000,null,1185,null,344.65693656896485,{"$f":"+I144+E144","v":5344.6569365689647},null,null,null,null,null,null,null,null,null,null,null,null,null,"05/17/15",null,1185]
["2015-05-18","2015-05-18",null,6722500,5500,null,255,null,74.166682552815217,{"$f":"+I145+E145","v":5574.1666825528155},null,null,null,null,null,null,null,null,null,null,null,null,null,"05/18/15",null,255]
["2015-05-19","2015-05-19",null,6723400,900,null,467,null,135.82682647907728,{"$f":"+I146+E146","v":1035.8268264790772},null,null,null,null,null,null,null,null,null,null,null,null,null,"05/19/15",null,467]
["2015-05-20","2015-05-20",null,6725000,1600,null,855,null,248.67652385355692,{"$f":"+I147+E147","v":1848.676523853557},null,null,null,null,null,null,null,null,null,null,null,null,null,"05/20/15",null,855]
["2015-05-21","2015-05-21",null,6728000,3000,null,1240,null,360.65367202153283,{"$f":"+I148+E148","v":3360.6536720215327},null,null,null,null,null,null,null,null,null,null,null,null,null,"05/21/15",null,1240]
["2015-05-22","2015-05-22",null,6732600,4600,null,1812,null,527.01972072823992,{"$f":"+I149+E149","v":5127.0197207282399},null,null,null,null,null,null,null,null,null,null,null,null,null,"05/22/15",null,1812]
["2015-05-23","2015-05-23",null,6741700,9100,null,1292,null,375.77785826759714,{"$f":"+I150+E150","v":9475.7778582675965},null,{"$f":"AVERAGE(J144:J150)","v":4538.1111743531119},{"$f":"MAX(J144:J150)","v":9475.7778582675965},null,{"$f":"+'2014'!O151","v":4295.9221172255511},{"$f":"(M150-O150)/O150","v":1.2057610914946866},null,{"$f":"AVERAGE(G144:G150)","v":1015.1428571428571},{"$f":"+'2014'!R151","v":1312.1428571428571},{"$f":"(R150-S150)/S150","v":-0.22634730538922157},null,null,null,"05/23/15",null,1292]
["2015-05-24","2015-05-24",null,6748100,6400,null,899,null,261.47391221561134,{"$f":"+I151+E151","v":6661.4739122156116},null,null,null,null,null,null,null,null,null,null,null,null,null,"05/24/15",null,899]
["2015-05-25","2015-05-25",null,6752700,4600,null,1303,null,378.97720535811072,{"$f":"+I152+E152","v":4978.977205358111},null,null,null,null,null,null,null,null,null,null,null,null,null,"05/25/15",null,1303]
["2015-05-26","2015-05-26",null,6759500,6800,null,1089,null,316.73536196084621,{"$f":"+I153+E153","v":7116.7353619608466},null,null,null,null,null,null,null,null,null,null,null,null,null,"05/26/15",null,1089]
["2015-05-27","2015-05-27",null,6763300,3800,null,1015,null,295.21248153375473,{"$f":"+I154+E154","v":4095.2124815337547},null,null,null,null,null,null,null,null,null,null,null,null,null,"05/27/15",null,1015]
["2015-05-28","2015-05-28",null,6766800,3500,null,1078,null,313.53601487033256,{"$f":"+I155+E155","v":3813.5360148703326},null,null,null,null,null,null,null,null,null,null,null,null,null,"05/28/15",null,1078]
["2015-05-29","2015-05-29",null,6770600,3800,null,1374,null,399.62753657869848,{"$f":"+I156+E156","v":4199.6275365786987},null,null,null,null,null,null,null,null,null,null,null,null,null,"05/29/15",null,1374]
["2015-05-30","2015-05-30",null,6776700,6100,null,1078,null,313.53601487033256,{"$f":"+I157+E157","v":6413.536014870333},null,{"$f":"AVERAGE(J151:J157)","v":5325.5855039125263},{"$f":"MAX(J151:J157)","v":7116.7353619608466},null,{"$f":"+'2014'!O158","v":4111.3072623428734},{"$f":"(M157-O157)/O157","v":0.73101519975067419},null,{"$f":"AVERAGE(G151:G157)","v":1119.4285714285713},{"$f":"+'2014'!R158","v":1168.5714285714287},{"$f":"(R157-S157)/S157","v":-4.2053789731051505E-2},null,null,null,"05/30/15",null,1078]
["2015-05-31","2015-05-31",null,6781400,4700,null,1183,null,344.07523709796237,{"$f":"+I158+E158","v":5044.0752370979626},null,null,null,null,null,null,null,null,null,null,null,null,null,"05/31/15",null,1183]
["2015-06-01","2015-06-01",null,6787000,5600,null,1226,null,356.58177572451552,{"$f":"+I159+E159","v":5956.5817757245159},null,null,null,null,null,null,null,null,null,null,null,null,null,"06/01/15",null,1226]
["2015-06-02","2015-06-02",null,6791200,4200,null,1032,null,300.15692703727569,{"$f":"+I160+E160","v":4500.1569270372756},null,null,null,null,null,null,null,null,null,null,null,null,null,"06/02/15",null,1032]
["2015-06-03","2015-06-03",null,6795000,3800,null,1032,null,300.15692703727569,{"$f":"+I161+E161","v":4100.1569270372756},null,null,null,null,null,null,null,null,null,null,null,null,null,"06/03/15",null,1032]
["2015-06-04","2015-06-04",null,6798800,3800,null,1241,null,360.94452175703407,{"$f":"+I162+E162","v":4160.9445217570337},null,null,null,null,null,null,null,null,null,null,null,null,null,"06/04/15",null,1241]
["2015-06-05","2015-06-05",null,6803600,4800,null,1594,null,463.61447838897044,{"$f":"+I163+E163","v":5263.6144783889704},null,null,null,null,null,null,null,null,null,null,null,null,null,"06/05/15",null,1594]
["2015-06-06","2015-06-06",null,6811100,7500,null,1385,null,402.82688366921207,{"$f":"+I164+E164","v":7902.8268836692123},null,{"$f":"AVERAGE(J158:J164)","v":5275.4795358160345},{"$f":"MAX(J158:J164)","v":7902.8268836692123},null,{"$f":"+'2014'!O165","v":4227.0131480599402},{"$f":"(M164-O164)/O164","v":0.86960073386484482},null,{"$f":"AVERAGE(G158:G164)","v":1241.8571428571429},{"$f":"+'2014'!R165","v":1222.5714285714287},{"$f":"(R164-S164)/S164","v":1.5774713718158393E-2},null,null,null,"06/06/15",null,1385]
["2015-06-07","2015-06-07",null,6817200,6100,null,1358,null,394.9739408106787,{"$f":"+I165+E165","v":6494.9739408106789},null,null,null,null,null,null,null,null,null,null,null,null,null,"06/07/15",null,1358]
["2015-06-08","2015-06-08",null,6823700,6500,null,1192,null,346.69288471747353,{"$f":"+I166+E166","v":6846.6928847174731},null,null,null,null,null,null,null,null,null,null,null,null,null,"06/08/15",null,1192]
["2015-06-09","2015-06-09",null,6828100,4400,null,1067,null,310.33666777981898,{"$f":"+I167+E167","v":4710.3366677798185},null,null,null,null,null,null,null,null,null,null,null,null,null,"06/09/15",null,1067]
["2015-06-10","2015-06-10",null,6832200,4100,null,1267,null,368.50661488006619,{"$f":"+I168+E168","v":4468.5066148800661},null,null,null,null,null,null,null,null,null,null,null,null,null,"06/10/15",null,1267]
["2015-06-11","2015-06-11",null,6836600,4400,null,1226,null,356.58177572451552,{"$f":"+I169+E169","v":4756.5817757245159},null,null,null,null,null,null,null,null,null,null,null,null,null,"06/11/15",null,1226]
["2015-06-12","2015-06-12",null,6841000,4400,null,1729,null,502.87919268163733,{"$f":"+I170+E170","v":4902.8791926816375},null,null,null,null,null,null,null,null,null,null,null,null,null,"06/12/15",null,1729]
["2015-06-13","2015-06-13",null,6848000,7000,null,1431,null,416.20597150226894,{"$f":"+I171+E171","v":7416.2059715022688},null,{"$f":"AVERAGE(J165:J171)","v":5656.5967211566367},{"$f":"MAX(J165:J171)","v":7416.2059715022688},null,{"$f":"+'2014'!O172","v":4510.747981020053},{"$f":"(M171-O171)/O171","v":0.64411889174645942},null,{"$f":"AVERAGE(G165:G171)","v":1324.2857142857142},{"$f":"+'2014'!R172","v":1314},{"$f":"(R171-S171)/S171","v":7.8277886497064089E-3},null,null,null,"06/13/15",null,1431]
["2015-06-14","2015-06-14",null,6855300,7300,null,1517,null,441.21904875537524,{"$f":"+I172+E172","v":7741.2190487553753},null,null,null,null,null,null,null,null,null,null,null,null,null,"06/14/15",null,1517]
["2015-06-15","2015-06-15",null,6863000,7700,null,1356,null,394.39224133967622,{"$f":"+I173+E173","v":8094.3922413396758},null,null,null,null,null,null,null,null,null,null,null,null,null,"06/15/15",null,1356]
["2015-06-16","2015-06-16",null,6868500,5500,null,1226,null,356.58177572451552,{"$f":"+I174+E174","v":5856.5817757245159},null,null,null,null,null,null,null,null,null,null,null,null,null,"06/16/15",null,1226]
["2015-06-17","2015-06-17",null,6873200,4700,null,1299,null,377.81380641610576,{"$f":"+I175+E175","v":5077.8138064161058},null,null,null,null,null,null,null,null,null,null,null,null,null,"06/17/15",null,1299]
["2015-06-18","2015-06-18",null,6878000,4800,null,1420,null,413.00662441175535,{"$f":"+I176+E176","v":5213.0066244117552},null,null,null,null,null,null,null,null,null,null,null,null,null,"06/18/15",null,1420]
["2015-06-19","2015-06-19",null,6883600,5600,null,1731,null,503.46089215263981,{"$f":"+I177+E177","v":6103.4608921526396},null,null,null,null,null,null,null,null,null,null,null,null,null,"06/19/15",null,1731]
["2015-06-20","2015-06-20",null,6892100,8500,null,1414,null,411.26152599874791,{"$f":"+I178+E178","v":8911.2615259987488},null,{"$f":"AVERAGE(J172:J178)","v":6713.9622735426883},{"$f":"MAX(J172:J178)","v":8911.2615259987488},null,{"$f":"+'2014'!O179","v":5120.2703950832265},{"$f":"(M178-O178)/O178","v":0.74038885418157729},null,{"$f":"AVERAGE(G172:G178)","v":1423.2857142857142},{"$f":"+'2014'!R179","v":1395.8571428571429},{"$f":"(R178-S178)/S178","v":1.9649984648449421E-2},null,null,null,"06/20/15",null,1414]
["2015-06-21","2015-06-21",null,6899300,7200,null,1457,null,423.76806462530107,{"$f":"+I179+E179","v":7623.7680646253011},null,null,null,null,null,null,null,null,null,null,null,null,null,"06/21/15",null,1457]
["2015-06-22","2015-06-22",null,6906700,7400,null,1321,null,384.21250059713299,{"$f":"+I180+E180","v":7784.2125005971329},null,null,null,null,null,null,null,null,null,null,null,null,null,"06/22/15",null,1321]
["2015-06-23","2015-06-23",null,6911700,5000,null,1175,null,341.74843921395251,{"$f":"+I181+E181","v":5341.7484392139522},null,null,null,null,null,null,null,null,null,null,null,null,null,"06/23/15",null,1175]
["2015-06-24","2015-06-24",null,6916100,4400,null,1238,null,360.07197255053035,{"$f":"+I182+E182","v":4760.0719725505305},null,null,null,null,null,null,null,null,null,null,null,null,null,"06/24/15",null,1238]
["2015-06-25","2015-06-25",null,6921400,5300,null,1469,null,427.25826145131595,{"$f":"+I183+E183","v":5727.2582614513158},null,null,null,null,null,null,null,null,null,null,null,null,null,"06/25/15",null,1469]
["2015-06-26","2015-06-26",null,6927400,6000,null,1780,null,517.71252919220035,{"$f":"+I184+E184","v":6517.7125291922002},null,null,null,null,null,null,null,null,null,null,null,null,null,"06/26/15",null,1780]
["2015-06-27","2015-06-27",null,6936000,8600,null,1535,null,446.4543439943975,{"$f":"+I185+E185","v":9046.4543439943973},null,{"$f":"AVERAGE(J179:J185)","v":6685.8894445178321},{"$f":"MAX(J179:J185)","v":9046.4543439943973},null,{"$f":"+'2014'!O186","v":5639.9235272106671},{"$f":"(M185-O185)/O185","v":0.60400301535090062},null,{"$f":"AVERAGE(G179:G185)","v":1425},{"$f":"+'2014'!R186","v":1463.4285714285713},{"$f":"(R185-S185)/S185","v":-2.625927372120259E-2},null,null,null,"06/27/15",null,1535]
["2015-06-28","2015-06-28",null,6946000,10000,null,1668,null,485.13735881606192,{"$f":"+I186+E186","v":10485.137358816062},null,null,null,null,null,null,null,null,null,null,null,null,null,"06/28/15",null,1668]
["2015-06-29","2015-06-29",null,6954100,8100,null,1477,null,429.58505933532581,{"$f":"+I187+E187","v":8529.5850593353262},null,null,null,null,null,null,null,null,null,null,null,null,null,"06/29/15",null,1477]
["2015-06-30","2015-06-30",null,6960000,5900,null,1247,null,362.68962017004151,{"$f":"+I188+E188","v":6262.689620170042},null,null,null,null,null,null,null,null,null,null,null,null,null,"06/30/15",null,1247]
["2015-07-01","2015-07-01",null,6965400,5400,null,1467,null,426.67656198031347,{"$f":"+I189+E189","v":5826.6765619803136},null,null,null,null,null,null,null,null,null,null,null,null,null,"07/01/15",null,1467]
["2015-07-02","2015-07-02",null,6972000,6600,null,1901,null,552.90534718785,{"$f":"+I190+E190","v":7152.9053471878497},null,null,null,null,null,null,null,null,null,null,null,null,null,"07/02/15",null,1901]
["2015-07-03","2015-07-03",null,6982100,10100,null,1971,null,573.26482867293646,{"$f":"+I191+E191","v":10673.264828672936},null,null,null,null,null,null,null,null,null,null,null,null,null,"07/03/15",null,1971]
["2015-07-04","2015-07-04",null,6993700,11600,null,1033,null,300.44777677277693,{"$f":"+I192+E192","v":11900.447776772777},null,{"$f":"AVERAGE(J186:J192)","v":8690.1009361336164},{"$f":"MAX(J186:J192)","v":11900.447776772777},null,{"$f":"+'2014'!O193","v":6517.6676928958359},{"$f":"(M192-O192)/O192","v":0.82587519608342319},null,{"$f":"AVERAGE(G186:G192)","v":1537.7142857142858},{"$f":"+'2014'!R193","v":1485.1428571428571},{"$f":"(R192-S192)/S192","v":3.5398230088495644E-2},null,null,null,"07/04/15",null,1033]
["2015-07-05","2015-07-05",null,6999600,{"$f":"+D193-D192","v":5900},null,1568,null,456.05238526593831,{"$f":"+I193+E193","v":6356.052385265938},null,null,null,null,null,null,null,null,null,null,null,null,null,"07/05/15",null,1568]
["2015-07-06","2015-07-06",null,7008400,8800,null,1403,null,408.06217890823433,{"$f":"+I194+E194","v":9208.0621789082343},null,null,null,null,null,null,null,null,null,null,null,null,null,"07/06/15",null,1403]
["2015-07-07","2015-07-07",null,7014500,6100,null,1370,null,398.46413763669352,{"$f":"+I195+E195","v":6498.4641376366935},null,null,null,null,null,null,null,null,null,null,null,null,null,"07/07/15",null,1370]
["2015-07-08","2015-07-08",null,7020600,6100,null,1319,null,383.63080112613051,{"$f":"+I196+E196","v":6483.6308011261308},null,null,null,null,null,null,null,null,null,null,null,null,null,"07/08/15",null,1319]
["2015-07-09","2015-07-09",null,7026600,6000,null,1441,null,419.11446885728128,{"$f":"+I197+E197","v":6419.1144688572813},null,null,null,null,null,null,null,null,null,null,null,null,null,"07/09/15",null,1441]
["2015-07-10","2015-07-10",null,7033200,6600,null,1762,null,512.47723395317814,{"$f":"+I198+E198","v":7112.4772339531783},null,null,null,null,null,null,null,null,null,null,null,null,null,"07/10/15",null,1762]
["2015-07-11","2015-07-11",null,7043100,9900,null,1508,null,438.60140113586414,{"$f":"+I199+E199","v":10338.601401135864},null,{"$f":"AVERAGE(J193:J199)","v":7488.0575152690453},{"$f":"MAX(J193:J199)","v":10338.601401135864},null,{"$f":"+'2014'!O200","v":5510.7288492060197},{"$f":"(M199-O199)/O199","v":0.87608602855236462},null,{"$f":"AVERAGE(G193:G199)","v":1481.5714285714287},{"$f":"+'2014'!R200","v":1461.2857142857142},{"$f":"(R199-S199)/S199","v":1.3882099912014971E-2},null,null,null,"07/11/15",null,1508]
["2015-07-12","2015-07-12",null,7051800,8700,null,1539,null,447.61774293640246,{"$f":"+I200+E200","v":9147.6177429364034},null,null,null,null,null,null,null,null,null,null,null,null,null,"07/12/15",null,1539]
["2015-07-13",{"$f":"+A201","v":"2015-07-13"},null,7060600,8800,null,1299,null,{"$f":"+G201*$H$4","v":377.81380641610576},{"$f":"+I201+E201","v":9177.8138064161067},null,null,null,null,null,null,null,null,null,null,null,null,null,"07/13/15",null,1299]
["2015-07-14","2015-07-14",null,7066300,5700,null,1239,null,360.36282228603159,{"$f":"+I202+E202","v":6060.3628222860316},null,null,null,null,null,null,null,null,null,null,null,null,null,"07/14/15",null,1239]
["2015-07-15","2015-07-15",null,7072100,5800,null,1222,null,355.41837678251056,{"$f":"+I203+E203","v":6155.4183767825107},null,null,null,null,null,null,null,null,null,null,null,null,null,"07/15/15",null,1222]
["2015-07-16","2015-07-16",null,7077600,5500,null,1475,null,429.00335986432333,{"$f":"+I204+E204","v":5929.0033598643231},null,null,null,null,null,null,null,null,null,null,null,null,null,"07/16/15",null,1475]
["2015-07-17","2015-07-17",null,7084000,6400,null,1793,null,521.49357575371641,{"$f":"+I205+E205","v":6921.4935757537169},null,null,null,null,null,null,null,null,null,null,null,null,null,"07/17/15",null,1793]
["2015-07-18","2015-07-18",null,7094200,10200,null,1406,null,408.93472811473805,{"$f":"+I206+E206","v":10608.934728114738},null,{"$f":"AVERAGE(J200:J206)","v":7714.3777731648315},{"$f":"MAX(J200:J206)","v":10608.934728114738},null,{"$f":"+'2014'!O207","v":5343.655551093907},{"$f":"(M206-O206)/O206","v":0.98533281695953789},null,{"$f":"AVERAGE(G200:G206)","v":1424.7142857142858},{"$f":"+'2014'!R207","v":1427.1428571428571},{"$f":"(R206-S206)/S206","v":-1.7017017017016336E-3},null,null,null,"07/18/15",null,1406]
["2015-07-19","2015-07-19",null,7102400,8200,null,1628,null,473.50336939601249,{"$f":"+I207+E207","v":8673.5033693960122},null,null,null,null,null,null,null,null,null,null,null,null,null,"07/19/15",null,1628]
["2015-07-20","2015-07-20",null,7111500,9100,null,1338,null,389.15694610065401,{"$f":"+I208+E208","v":9489.1569461006547},null,null,null,null,null,null,null,null,null,null,null,null,null,"07/20/15",null,1338]
["2015-07-21","2015-07-21",null,7117600,6100,null,1189,null,345.82033551096981,{"$f":"+I209+E209","v":6445.8203355109699},null,null,null,null,null,null,null,null,null,null,null,null,null,"07/21/15",null,1189]
["2015-07-22","2015-07-22",null,7123500,5900,null,1309,null,380.72230377111816,{"$f":"+I210+E210","v":6280.7223037711183},null,null,null,null,null,null,null,null,null,null,null,null,null,"07/22/15",null,1309]
["2015-07-23","2015-07-23",null,7129200,5700,null,1461,null,424.93146356730603,{"$f":"+I211+E211","v":6124.9314635673063},null,null,null,null,null,null,null,null,null,null,null,null,null,"07/23/15",null,1461]
["2015-07-24","2015-07-24",null,7136000,6800,null,1797,null,522.65697469572137,{"$f":"+I212+E212","v":7322.6569746957211},null,null,null,null,null,null,null,null,null,null,null,null,null,"07/24/15",null,1797]
["2015-07-25","2015-07-25",null,7145800,9800,null,1540,null,447.9085926719037,{"$f":"+I213+E213","v":10247.908592671904},null,{"$f":"AVERAGE(J207:J213)","v":7797.8142836733841},{"$f":"MAX(J207:J213)","v":10247.908592671904},null,{"$f":"+'2014'!O214","v":5601.0551807261118},{"$f":"(M213-O213)/O213","v":0.8296389273107253},null,{"$f":"AVERAGE(G207:G213)","v":1466},{"$f":"+'2014'!R214","v":1477.1428571428571},{"$f":"(R213-S213)/S213","v":-7.5435203094777348E-3},null,null,null,"07/25/15",null,1540]
["2015-07-26","2015-07-26",null,7155600,9800,null,1610,null,468.26807415699022,{"$f":"+I214+E214","v":10268.268074156989},null,null,null,null,null,null,null,null,null,null,null,null,null,"07/26/15",null,1610]
["2015-07-27","2015-07-27",null,7165000,9400,null,1342,null,390.32034504265891,{"$f":"+I215+E215","v":9790.320345042659},null,null,null,null,null,null,null,null,null,null,null,null,null,"07/27/15",null,1342]
["2015-07-28","2015-07-28",null,7172000,7000,null,1179,null,342.91183815595741,{"$f":"+I216+E216","v":7342.9118381559574},null,null,null,null,null,null,null,null,null,null,null,null,null,"07/28/15",null,1179]
["2015-07-29","2015-07-29",null,7177100,5100,null,1271,null,369.67001382207116,{"$f":"+I217+E217","v":5469.6700138220713},null,null,null,null,null,null,null,null,null,null,null,null,null,"07/29/15",null,1271]
["2015-07-30","2015-07-30",null,7182700,5600,null,1535,null,446.4543439943975,{"$f":"+I218+E218","v":6046.4543439943973},null,null,null,null,null,null,null,null,null,null,null,null,null,"07/30/15",null,1535]
["2015-07-31","2015-07-31",null,7190100,7400,null,1866,null,542.72560644530665,{"$f":"+I219+E219","v":7942.7256064453068},null,null,null,null,null,null,null,null,null,null,null,null,null,"07/31/15",null,1866]
["2015-08-01","2015-08-01",null,7200100,{"$f":"+D220-D219","v":10000},null,1710,null,497.35304770711383,{"$f":"+I220+E220","v":10497.353047707114},null,{"$f":"AVERAGE(J214:J220)","v":8193.9576099035003},{"$f":"MAX(J214:J220)","v":10497.353047707114},null,{"$f":"+'2014'!O221","v":5757.8731108873135},{"$f":"(M220-O220)/O220","v":0.82313032009304321},null,{"$f":"AVERAGE(G214:G220)","v":1501.8571428571429},{"$f":"+'2014'!R221","v":1525.1428571428571},{"$f":"(R220-S220)/S220","v":-1.5267890595728695E-2},null,null,null,"08/01/15",null,1710]
["2015-08-02","2015-08-02",null,7209700,9600,null,1645,null,478.44781489953351,{"$f":"+I221+E221","v":10078.447814899533},null,null,null,null,null,null,null,null,null,null,null,null,null,"08/02/15",null,1645]
["2015-08-03","2015-08-03",null,7219800,10100,null,1304,null,379.26805509361196,{"$f":"+I222+E222","v":10479.268055093611},null,null,null,null,null,null,null,null,null,null,null,null,null,"08/03/15",null,1304]
["2015-08-04","2015-08-04",null,7226800,7000,null,1283,null,373.16021064808598,{"$f":"+I223+E223","v":7373.1602106480859},null,null,null,null,null,null,null,null,null,null,null,null,null,"08/04/15",null,1283]
["2015-08-05","2015-08-05",null,7232000,5200,null,1279,null,371.99681170608108,{"$f":"+I224+E224","v":5571.9968117060807},null,null,null,null,null,null,null,null,null,null,null,null,null,"08/05/15",null,1279]
["2015-08-06","2015-08-06",null,7238400,6400,null,1517,null,441.21904875537524,{"$f":"+I225+E225","v":6841.2190487553753},null,null,null,null,null,null,null,null,null,null,null,null,null,"08/06/15",null,1517]
["2015-08-07","2015-08-07",null,7246100,7700,null,1741,null,506.36938950765216,{"$f":"+I226+E226","v":8206.3693895076522},null,null,null,null,null,null,null,null,null,null,null,null,null,"08/07/15",null,1741]
["2015-08-08","2015-08-08",null,7255300,9200,null,1500,null,436.27460325185422,{"$f":"+I227+E227","v":9636.2746032518535},null,{"$f":"AVERAGE(J221:J227)","v":8312.3908476945981},{"$f":"MAX(J221:J227)","v":10479.268055093611},null,{"$f":"+'2014'!O228","v":5878.2101742242185},{"$f":"(M227-O227)/O227","v":0.78273109407433206},null,{"$f":"AVERAGE(G221:G227)","v":1467},{"$f":"+'2014'!R228","v":1447.7142857142858},{"$f":"(R227-S227)/S227","v":1.332149200710475E-2},null,null,null,"08/08/15",null,1500]
["2015-08-09","2015-08-09",null,7264000,8700,null,1619,null,470.88572177650133,{"$f":"+I228+E228","v":9170.8857217765017},null,null,null,null,null,null,null,null,null,null,null,null,null,"08/09/15",null,1619]
["2015-08-10","2015-08-10",null,7273800,9800,null,1466,null,426.38571224481223,{"$f":"+I229+E229","v":10226.385712244812},null,null,null,null,null,null,null,null,null,null,null,null,null,"08/10/15",null,1466]
["2015-08-11","2015-08-11",null,7280400,6600,null,1218,null,354.25497784050566,{"$f":"+I230+E230","v":6954.2549778405055},null,null,null,null,null,null,null,null,null,null,null,null,null,"08/11/15",null,1218]
["2015-08-12","2015-08-12",null,7285800,5400,null,1348,null,392.06544345566635,{"$f":"+I231+E231","v":5792.0654434556664},null,null,null,null,null,null,null,null,null,null,null,null,null,"08/12/15",null,1348]
["2015-08-13","2015-08-13",null,7292000,6200,null,1438,null,418.24191965077762,{"$f":"+I232+E232","v":6618.2419196507781},null,null,null,null,null,null,null,null,null,null,null,null,null,"08/13/15",null,1438]
["2015-08-14","2015-08-14",null,7298700,6700,null,1682,null,489.20925511307922,{"$f":"+I233+E233","v":7189.2092551130791},null,null,null,null,null,null,null,null,null,null,null,null,null,"08/14/15",null,1682]
["2015-08-15","2015-08-15",null,7308300,9600,null,1287,null,374.32360959009094,{"$f":"+I234+E234","v":9974.3236095900902},null,{"$f":"AVERAGE(J228:J234)","v":7989.3380913816318},{"$f":"MAX(J228:J234)","v":10226.385712244812},null,{"$f":"+'2014'!O235","v":5710.6872992438066},{"$f":"(M234-O234)/O234","v":0.7907451724066491},null,{"$f":"AVERAGE(G228:G234)","v":1436.8571428571429},{"$f":"+'2014'!R235","v":1461.1428571428571},{"$f":"(R234-S234)/S234","v":-1.6621040281579933E-2},null,null,null,"08/15/15",null,1287]
["2015-08-16","2015-08-16",null,7315600,7300,null,1548,null,450.23539055591357,{"$f":"+I235+E235","v":7750.2353905559139},null,null,null,null,null,null,null,null,null,null,null,null,null,"08/16/15",null,1548]
["2015-08-17","2015-08-17",null,7324100,8500,null,1313,null,381.88570271312307,{"$f":"+I236+E236","v":8881.8857027131235},null,null,null,null,null,null,null,null,null,null,null,null,null,"08/17/15",null,1313]
["2015-08-18","2015-08-18",null,7330200,6100,null,1123,null,326.6242529678882,{"$f":"+I237+E237","v":6426.6242529678884},null,null,null,null,null,null,null,null,null,null,null,null,null,"08/18/15",null,1123]
["2015-08-19","2015-08-19",null,7335000,4800,null,1278,null,371.70596197057984,{"$f":"+I238+E238","v":5171.7059619705797},null,null,null,null,null,null,null,null,null,null,null,null,null,"08/19/15",null,1278]
["2015-08-20","2015-08-20",null,7340000,5000,null,1466,null,426.38571224481223,{"$f":"+I239+E239","v":5426.3857122448126},null,null,null,null,null,null,null,null,null,null,null,null,null,"08/20/15",null,1466]
["2015-08-21","2015-08-21",null,7346000,6000,null,1609,null,467.97722442148898,{"$f":"+I240+E240","v":6467.9772244214892},null,null,null,null,null,null,null,null,null,null,null,null,null,"08/21/15",null,1609]
["2015-08-22","2015-08-22",null,7354300,8300,null,1328,null,386.24844874564161,{"$f":"+I241+E241","v":8686.2484487456422},null,{"$f":"AVERAGE(J235:J241)","v":6973.0089562313497},{"$f":"MAX(J235:J241)","v":8881.8857027131235},null,{"$f":"+'2014'!O242","v":5145.4762767152833},{"$f":"(M241-O241)/O241","v":0.72615424210702051},null,{"$f":"AVERAGE(G235:G241)","v":1380.7142857142858},{"$f":"+'2014'!R242","v":1384.2857142857142},{"$f":"(R241-S241)/S241","v":-2.579979360165025E-3},null,null,null,"08/22/15",null,1328]
["2015-08-23","2015-08-23",null,7361400,7100,null,1435,null,417.3693704442739,{"$f":"+I242+E242","v":7517.369370444274},null,null,null,null,null,null,null,null,null,null,null,null,null,"08/23/15",null,1435]
["2015-08-24","2015-08-24",null,7369300,7900,null,1202,null,349.60138207248588,{"$f":"+I243+E243","v":8249.6013820724856},null,null,null,null,null,null,null,null,null,null,null,null,null,"08/24/15",null,1202]
["2015-08-25","2015-08-25",null,7374300,5000,null,1161,null,337.6765429169352,{"$f":"+I244+E244","v":5337.6765429169354},null,null,null,null,null,null,null,null,null,null,null,null,null,"08/25/15",null,1161]
["2015-08-26","2015-08-26",null,7379300,5000,null,1232,null,358.32687413752296,{"$f":"+I245+E245","v":5358.3268741375232},null,null,null,null,null,null,null,null,null,null,null,null,null,"08/26/15",null,1232]
["2015-08-27","2015-08-27",null,7384200,4900,null,1242,null,361.23537149253531,{"$f":"+I246+E246","v":5261.2353714925357},null,null,null,null,null,null,null,null,null,null,null,null,null,"08/27/15",null,1242]
["2015-08-28","2015-08-28",null,7389500,5300,null,1381,null,401.66348472720716,{"$f":"+I247+E247","v":5701.6634847272071},null,null,null,null,null,null,null,null,null,null,null,null,null,"08/28/15",null,1381]
["2015-08-29","2015-08-29",null,7395700,6200,null,1249,null,363.27131964104399,{"$f":"+I248+E248","v":6563.2713196410441},null,{"$f":"AVERAGE(J242:J248)","v":6284.1634779188562},{"$f":"MAX(J242:J248)","v":8249.6013820724856},null,{"$f":"+'2014'!O249","v":5410.4407558230732},{"$f":"(M248-O248)/O248","v":0.52475588484981017},null,{"$f":"AVERAGE(G242:G248)","v":1271.7142857142858},{"$f":"+'2014'!R249","v":1412.1428571428571},{"$f":"(R248-S248)/S248","v":-9.9443601416287233E-2},null,null,null,"08/29/15",null,1249]
["2015-08-30","2015-08-30",null,7402200,6500,null,1457,null,423.76806462530107,{"$f":"+I249+E249","v":6923.7680646253011},null,null,null,null,null,null,null,null,null,null,null,null,null,"08/30/15",null,1457]
["2015-08-31","2015-08-31",null,7410000,7800,null,1179,null,342.91183815595741,{"$f":"+I250+E250","v":8142.9118381559574},null,null,null,null,null,null,null,null,null,null,null,null,null,"08/31/15",null,1179]
["2015-09-01","2015-09-01",null,7414800,4800,null,1045,null,303.93797359879181,{"$f":"+I251+E251","v":5103.9379735987914},null,null,null,null,null,null,null,null,null,null,null,null,null,"09/01/15",null,1045]
["2015-09-02","2015-09-02",null,7419200,4400,null,1074,null,312.37261592832766,{"$f":"+I252+E252","v":4712.3726159283278},null,null,null,null,null,null,null,null,null,null,null,null,null,"09/02/15",null,1074]
["2015-09-03","2015-09-03",null,7423500,4300,null,1312,null,381.59485297762183,{"$f":"+I253+E253","v":4681.5948529776215},null,null,null,null,null,null,null,null,null,null,null,null,null,"09/03/15",null,1312]
["2015-09-04","2015-09-04",null,7429500,6000,null,1852,null,538.65371014828941,{"$f":"+I254+E254","v":6538.6537101482891},null,null,null,null,null,null,null,null,null,null,null,null,null,"09/04/15",null,1852]
["2015-09-05","2015-09-05",null,7440100,10600,null,1465,null,426.09486250931099,{"$f":"+I255+E255","v":11026.094862509311},null,{"$f":"AVERAGE(J249:J255)","v":6732.7619882776571},{"$f":"MAX(J249:J255)","v":11026.094862509311},null,{"$f":"+'2014'!O256","v":4142.2783596541258},{"$f":"(M255-O255)/O255","v":1.6618430499272323},null,{"$f":"AVERAGE(G249:G255)","v":1340.5714285714287},{"$f":"+'2014'!R256","v":1175.8571428571429},{"$f":"(R255-S255)/S255","v":0.14008018466771965},null,null,null,"09/05/15",null,1465]
["2015-09-06","2015-09-06",null,7448600,8500,null,1019,null,296.37588047575963,{"$f":"+I256+E256","v":8796.3758804757599},null,null,null,null,null,null,null,null,null,null,null,null,null,"09/06/15",null,1019]
["2015-09-07","2015-09-07",null,7455500,{"$f":"+D257-D256","v":6900},null,1174,null,341.45758947845127,{"$f":"+I257+E257","v":7241.4575894784512},null,null,null,null,null,null,null,null,null,null,null,null,null,"09/07/15",null,1174]
["2015-09-08","2015-09-08",null,7462300,6800,null,1051,null,305.6830720117992,{"$f":"+I258+E258","v":7105.6830720117996},null,null,null,null,null,null,null,null,null,null,null,null,null,"09/08/15",null,1051]
["2015-09-09","2015-09-09",null,7466400,4100,null,1086,null,315.86281275434249,{"$f":"+I259+E259","v":4415.8628127543425},null,null,null,null,null,null,null,null,null,null,null,null,null,"09/09/15",null,1086]
["2015-09-10","2015-09-10",null,7470300,3900,null,1163,null,338.25824238793763,{"$f":"+I260+E260","v":4238.2582423879376},null,null,null,null,null,null,null,null,null,null,null,null,null,"09/10/15",null,1163]
["2015-09-11","2015-09-11",null,7474800,4500,null,1498,null,435.69290378085179,{"$f":"+I261+E261","v":4935.6929037808513},null,null,null,null,null,null,null,null,null,null,null,null,null,"09/11/15",null,1498]
["2015-09-12","2015-09-12",null,7481700,6900,null,1149,null,334.18634609092032,{"$f":"+I262+E262","v":7234.1863460909208},null,{"$f":"AVERAGE(J256:J262)","v":6281.0738352828657},{"$f":"MAX(J256:J262)","v":8796.3758804757599},null,{"$f":"+'2014'!O263","v":3955.4865312748184},{"$f":"(M262-O262)/O262","v":1.2238416970770889},null,{"$f":"AVERAGE(G256:G262)","v":1162.8571428571429},{"$f":"+'2014'!R263","v":1124},{"$f":"(R262-S262)/S262","v":3.4570411794611108E-2},null,null,null,"09/12/15",null,1149]
["2015-09-13","2015-09-13",null,7487700,6000,null,1179,null,342.91183815595741,{"$f":"+I263+E263","v":6342.9118381559574},null,null,null,null,null,null,null,null,null,null,null,null,null,"09/13/15",null,1179]
["2015-09-14","2015-09-14",null,7493400,5700,null,1101,null,320.22555878686103,{"$f":"+I264+E264","v":6020.2255587868613},null,null,null,null,null,null,null,null,null,null,null,null,null,"09/14/15",null,1101]
["2015-09-15",{"$f":"+A265","v":"2015-09-15"},null,7497400,4000,null,991,null,{"$f":"+G265*$H$4","v":288.23208788172502},{"$f":"+I265+E265","v":4288.2320878817254},null,null,null,null,null,null,null,null,null,null,null,null,null,"09/15/15",null,991]
["2015-09-16","2015-09-16",null,7500800,3400,null,1114,null,324.00660534837709,{"$f":"+I266+E266","v":3724.006605348377},null,null,null,null,null,null,null,null,null,null,null,null,null,"09/16/15",null,1114]
["2015-09-17","2015-09-17",null,7505100,4300,null,1190,null,346.11118524647105,{"$f":"+I267+E267","v":4646.111185246471},null,null,null,null,null,null,null,null,null,null,null,null,null,"09/17/15",null,1190]
["2015-09-18","2015-09-18",null,7510000,4900,null,1360,null,395.55564028168118,{"$f":"+I268+E268","v":5295.555640281681},null,null,null,null,null,null,null,null,null,null,null,null,null,"09/18/15",null,1360]
["2015-09-19","2015-09-19",null,7516300,6300,null,1173,null,341.16673974295003,{"$f":"+I269+E269","v":6641.1667397429501},null,{"$f":"AVERAGE(J263:J269)","v":5279.7442364920034},{"$f":"MAX(J263:J269)","v":6641.1667397429501},null,{"$f":"+'2014'!O270","v":4158.6858783653315},{"$f":"(M269-O269)/O269","v":0.59693877681221152},null,{"$f":"AVERAGE(G263:G269)","v":1158.2857142857142},{"$f":"+'2014'!R270","v":1135},{"$f":"(R269-S269)/S269","v":2.0516047828823103E-2},null,null,null,"09/19/15",null,1173]
["2015-09-20","2015-09-20",null,7522300,6000,null,1322,null,384.50335033263423,{"$f":"+I270+E270","v":6384.503350332634},null,null,null,null,null,null,null,null,null,null,null,null,null,"09/20/15",null,1322]
["2015-09-21","2015-09-21",null,7528800,6500,null,1182,null,343.78438736246113,{"$f":"+I271+E271","v":6843.7843873624615},null,null,null,null,null,null,null,null,null,null,null,null,null,"09/21/15",null,1182]
["2015-09-22","2015-09-22",null,7533300,4500,null,971,null,282.41509317170033,{"$f":"+I272+E272","v":4782.4150931717004},null,null,null,null,null,null,null,null,null,null,null,null,null,"09/22/15",null,971]
["2015-09-23","2015-09-23",null,7537300,4000,null,1016,null,295.50333126925597,{"$f":"+I273+E273","v":4295.5033312692558},null,null,null,null,null,null,null,null,null,null,null,null,null,"09/23/15",null,1016]
["2015-09-24","2015-09-24",null,7541200,3900,null,1278,null,371.70596197057984,{"$f":"+I274+E274","v":4271.7059619705797},null,null,null,null,null,null,null,null,null,null,null,null,null,"09/24/15",null,1278]
["2015-09-25","2015-09-25",null,7547200,6000,null,1536,null,446.74519372989874,{"$f":"+I275+E275","v":6446.7451937298983},null,null,null,null,null,null,null,null,null,null,null,null,null,"09/25/15",null,1536]
["2015-09-26","2015-09-26",null,7556400,9200,null,1116,null,324.58830481937957,{"$f":"+I276+E276","v":9524.5883048193791},null,{"$f":"AVERAGE(J270:J276)","v":6078.4636603794161},{"$f":"MAX(J270:J276)","v":9524.5883048193791},null,{"$f":"+'2014'!O277","v":3872.0990434445421},{"$f":"(M276-O276)/O276","v":1.4597997618228524},null,{"$f":"AVERAGE(G270:G276)","v":1203},{"$f":"+'2014'!R277","v":1132},{"$f":"(R276-S276)/S276","v":6.2720848056537104E-2},null,null,null,"09/26/15",null,1116]
["2015-09-27","2015-09-27",null,7563100,6700,null,1260,null,366.47066673155757,{"$f":"+I277+E277","v":7066.4706667315577},null,null,null,null,null,null,null,null,null,null,null,null,null,"09/27/15",null,1260]
["2015-09-28","2015-09-28",null,7569800,6700,null,1001,null,291.14058523673742,{"$f":"+I278+E278","v":6991.140585236737},null,null,null,null,null,null,null,null,null,null,null,null,null,"09/28/15",null,1001]
["2015-09-29","2015-09-29",null,7574200,4400,null,1063,null,309.17326883781402,{"$f":"+I279+E279","v":4709.1732688378142},null,null,null,null,null,null,null,null,null,null,null,null,null,"09/29/15",null,1063]
["2015-09-30","2015-09-30",null,7578500,4300,null,1031,null,299.86607730177451,{"$f":"+I280+E280","v":4599.8660773017746},null,null,null,null,null,null,null,null,null,null,null,null,null,"09/30/15",null,1031]
["2015-10-01","2015-10-01",null,null,-7578500,null,1185,null,344.65693656896485,{"$f":"+I281+E281","v":-7578155.3430634309},null,null,null,null,null,null,null,null,null,null,null,null,null,"10/01/15",null,1185]
["2015-10-02","2015-10-02",null,null,0,null,1478,null,429.87590907082705,{"$f":"+I282+E282","v":429.87590907082705},null,null,null,null,null,null,null,null,null,null,null,null,null,"10/02/15",null,1478]
["2015-10-03","2015-10-03",null,null,0,null,1048,null,304.81052280529548,{"$f":"+I283+E283","v":304.81052280529548},null,{"$f":"AVERAGE(J277:J283)","v":-1079150.5722904925},{"$f":"MAX(J277:J283)","v":7066.4706667315577},null,null,0,null,{"$f":"AVERAGE(G277:G283)","v":1152.2857142857142},{"$f":"+'2014'!R284","v":1205.1428571428571},{"$f":"(R283-S283)/S283","v":-4.3859649122807043E-2},null,null,null,"10/03/15",null,1048]
["2015-10-04","2015-10-04",null,null,0,null,1143,null,332.44124767791294,{"$f":"+I284+E284","v":332.44124767791294},null,null,null,null,null,null,null,null,null,null,null,null,null,"10/04/15",null,1143]
["2015-10-05","2015-10-05",null,null,0,null,1049,null,305.10137254079672,{"$f":"+I285+E285","v":305.10137254079672},null,null,null,null,null,null,null,null,null,null,null,null,null,"10/05/15",null,1049]
["2015-10-06","2015-10-06",null,null,0,null,null,null,0,{"$f":"+I286+E286","v":0}]
["2015-10-07","2015-10-07",null,null,0,null,null,null,0,{"$f":"+I287+E287","v":0}]
["2015-10-08","2015-10-08",null,null,0,null,null,null,0,{"$f":"+I288+E288","v":0}]
["2015-10-09","2015-10-09",null,null,0,null,null,null,0,{"$f":"+I289+E289","v":0}]
["2015-10-10","2015-10-10",null,null,0,null,null,null,0,{"$f":"+I290+E290","v":0},null,null,null,null,null,0]
["2015-10-11","2015-10-11",null,null,0,null,null,null,0,{"$f":"+I291+E291","v":0}]
["2015-10-12","2015-10-12",null,null,0,null,null,null,0,{"$f":"+I292+E292","v":0}]
["2015-10-13","2015-10-13",null,null,0,null,null,null,0,{"$f":"+I293+E293","v":0}]
["2015-10-14","2015-10-14",null,null,0,null,null,null,0,{"$f":"+I294+E294","v":0}]
["2015-10-15","2015-10-15",null,null,0,null,null,null,0,{"$f":"+I295+E295","v":0}]
["2015-10-16","2015-10-16",null,null,0,null,null,null,0,{"$f":"+I296+E296","v":0}]
["2015-10-17","2015-10-17",null,null,0,null,null,null,0,{"$f":"+I297+E297","v":0},null,null,null,null,null,0]
["2015-10-18","2015-10-18",null,null,0,null,null,null,0,{"$f":"+I298+E298","v":0}]
["2015-10-19","2015-10-19",null,null,0,null,null,null,0,{"$f":"+I299+E299","v":0}]
["2015-10-20","2015-10-20",null,null,0,null,null,null,0,{"$f":"+I300+E300","v":0}]
["2015-10-21","2015-10-21",null,null,0,null,null,null,0,{"$f":"+I301+E301","v":0}]
["2015-10-22","2015-10-22",null,null,0,null,null,null,0,{"$f":"+I302+E302","v":0}]
["2015-10-23","2015-10-23",null,null,0,null,null,null,0,{"$f":"+I303+E303","v":0}]
["2015-10-24","2015-10-24",null,null,0,null,null,null,0,{"$f":"+I304+E304","v":0},null,null,null,null,null,0]
["2015-10-25","2015-10-25",null,null,0,null,null,null,0,{"$f":"+I305+E305","v":0}]
["2015-10-26","2015-10-26",null,null,0,null,null,null,0,{"$f":"+I306+E306","v":0}]
["2015-10-27","2015-10-27",null,null,0,null,null,null,0,{"$f":"+I307+E307","v":0}]
["2015-10-28","2015-10-28",null,null,0,null,null,null,0,{"$f":"+I308+E308","v":0}]
["2015-10-29","2015-10-29",null,null,0,null,null,null,0,{"$f":"+I309+E309","v":0}]
["2015-10-30","2015-10-30",null,null,0,null,null,null,0,{"$f":"+I310+E310","v":0}]
["2015-10-31","2015-10-31",null,null,0,null,null,null,0,{"$f":"+I311+E311","v":0},null,null,null,null,null,0]
["2015-11-01","2015-11-01",null,null,0,null,null,null,0,{"$f":"+I312+E312","v":0}]
["2015-11-02","2015-11-02",null,null,0,null,null,null,0,{"$f":"+I313+E313","v":0}]
["2015-11-03","2015-11-03",null,null,0,null,null,null,0,{"$f":"+I314+E314","v":0}]
["2015-11-04","2015-11-04",null,null,0,null,null,null,0,{"$f":"+I315+E315","v":0}]
["2015-11-05","2015-11-05",null,null,0,null,null,null,0,{"$f":"+I316+E316","v":0}]
["2015-11-06","2015-11-06",null,null,0,null,null,null,0,{"$f":"+I317+E317","v":0}]
["2015-11-07","2015-11-07",null,null,0,null,null,null,0,{"$f":"+I318+E318","v":0},null,null,null,null,null,0]
["2015-11-08","2015-11-08",null,null,0,null,null,null,0,{"$f":"+I319+E319","v":0}]
["2015-11-09","2015-11-09",null,null,0,null,null,null,0,{"$f":"+I320+E320","v":0}]
["2015-11-10","2015-11-10",null,null,{"$f":"+D321-D320","v":0},null,null,null,0,{"$f":"+I321+E321","v":0}]
["2015-11-11","2015-11-11",null,null,0,null,null,null,0,{"$f":"+I322+E322","v":0}]
["2015-11-12","2015-11-12",null,null,0,null,null,null,0,{"$f":"+I323+E323","v":0}]
["2015-11-13","2015-11-13",null,null,0,null,null,null,0,{"$f":"+I324+E324","v":0}]
["2015-11-14","2015-11-14",null,null,0,null,null,null,0,{"$f":"+I325+E325","v":0},null,null,null,null,null,0]
["2015-11-15","2015-11-15",null,null,0,null,null,null,0,{"$f":"+I326+E326","v":0}]
["2015-11-16","2015-11-16",null,null,0,null,null,null,0,{"$f":"+I327+E327","v":0}]
["2015-11-17","2015-11-17",null,null,0,null,null,null,0,{"$f":"+I328+E328","v":0}]
["2015-11-18",{"$f":"+A329","v":"2015-11-18"},null,null,0,null,null,null,{"$f":"+G329*$H$4","v":0},{"$f":"+I329+E329","v":0}]
["2015-11-19","2015-11-19",null,null,0,null,null,null,0,{"$f":"+I330+E330","v":0}]
["2015-11-20","2015-11-20",null,null,0,null,null,null,0,{"$f":"+I331+E331","v":0}]
["2015-11-21","2015-11-21",null,null,0,null,null,null,0,{"$f":"+I332+E332","v":0},null,null,null,null,null,0]
["2015-11-22","2015-11-22",null,null,0,null,null,null,0,{"$f":"+I333+E333","v":0}]
["2015-11-23","2015-11-23",null,null,0,null,null,null,0,{"$f":"+I334+E334","v":0}]
["2015-11-24","2015-11-24",null,null,0,null,null,null,0,{"$f":"+I335+E335","v":0}]
["2015-11-25","2015-11-25",null,null,0,null,null,null,0,{"$f":"+I336+E336","v":0}]
["2015-11-26","2015-11-26",null,null,0,null,null,null,0,{"$f":"+I337+E337","v":0}]
["2015-11-27","2015-11-27",null,null,0,null,null,null,0,{"$f":"+I338+E338","v":0}]
["2015-11-28","2015-11-28",null,null,0,null,null,null,0,{"$f":"+I339+E339","v":0},null,null,null,null,null,0]
["2015-11-29","2015-11-29",null,null,0,null,null,null,0,{"$f":"+I340+E340","v":0}]
["2015-11-30","2015-11-30",null,null,0,null,null,null,0,{"$f":"+I341+E341","v":0}]
["2015-12-01","2015-12-01",null,null,0,null,null,null,0,{"$f":"+I342+E342","v":0}]
["2015-12-02","2015-12-02",null,null,0,null,null,null,0,{"$f":"+I343+E343","v":0}]
["2015-12-03","2015-12-03",null,null,0,null,null,null,0,{"$f":"+I344+E344","v":0}]
["2015-12-04","2015-12-04",null,null,0,null,null,null,0,{"$f":"+I345+E345","v":0}]
["2015-12-05","2015-12-05",null,null,0,null,null,null,0,{"$f":"+I346+E346","v":0},null,null,null,null,null,0]
["2015-12-06","2015-12-06",null,null,0,null,null,null,0,{"$f":"+I347+E347","v":0}]
["2015-12-07","2015-12-07",null,null,0,null,null,null,0,{"$f":"+I348+E348","v":0}]
["2015-12-08","2015-12-08",null,null,0,null,null,null,0,{"$f":"+I349+E349","v":0}]
["2015-12-09","2015-12-09",null,null,0,null,null,null,0,{"$f":"+I350+E350","v":0}]
["2015-12-10","2015-12-10",null,null,0,null,null,null,0,{"$f":"+I351+E351","v":0}]
["2015-12-11","2015-12-11",null,null,0,null,null,null,0,{"$f":"+I352+E352","v":0}]
["2015-12-12","2015-12-12",null,null,0,null,null,null,0,{"$f":"+I353+E353","v":0},null,null,null,null,null,0]
["2015-12-13","2015-12-13",null,null,0,null,null,null,0,{"$f":"+I354+E354","v":0}]
["2015-12-14","2015-12-14",null,null,0,null,null,null,0,{"$f":"+I355+E355","v":0}]
["2015-12-15","2015-12-15",null,null,0,null,null,null,0,{"$f":"+I356+E356","v":0}]
["2015-12-16","2015-12-16",null,null,0,null,null,null,0,{"$f":"+I357+E357","v":0}]
["2015-12-17","2015-12-17",null,null,0,null,null,null,0,{"$f":"+I358+E358","v":0}]
["2015-12-18","2015-12-18",null,null,0,null,null,null,0,{"$f":"+I359+E359","v":0}]
["2015-12-19","2015-12-19",null,null,0,null,null,null,0,{"$f":"+I360+E360","v":0},null,null,null,null,null,0]
["2015-12-20","2015-12-20",null,null,0,null,null,null,0,{"$f":"+I361+E361","v":0}]
["2015-12-21","2015-12-21",null,null,0,null,null,null,0,{"$f":"+I362+E362","v":0}]
["2015-12-22","2015-12-22",null,null,0,null,null,null,0,{"$f":"+I363+E363","v":0}]
["2015-12-23","2015-12-23",null,null,0,null,null,null,0,{"$f":"+I364+E364","v":0}]
["2015-12-24","2015-12-24",null,null,0,null,null,null,0,{"$f":"+I365+E365","v":0}]
["2015-12-25","2015-12-25",null,null,0,null,null,null,0,{"$f":"+I366+E366","v":0}]
["2015-12-26","2015-12-26",null,null,0,null,null,null,0,{"$f":"+I367+E367","v":0},null,null,null,null,null,0]
["2015-12-27","2015-12-27",null,null,0,null,null,null,0,{"$f":"+I368+E368","v":0}]
["2015-12-28","2015-12-28",null,null,0,null,null,null,0,{"$f":"+I369+E369","v":0}]
["2015-12-29","2015-12-29",null,null,0,null,null,null,0,{"$f":"+I370+E370","v":0}]
["2015-12-30","2015-12-30",null,null,0,null,null,null,0,{"$f":"+I371+E371","v":0}]
["2015-12-31","2015-12-31",null,null,0,null,null,null,0,{"$f":"+I372+E372","v":0}]

{"sheet":"Plan","index":3,"n_rows":37,"n_cols":27,"rows_kept":37,"cut":false,"hidden":false,"merged":[[4,12,4,14],[4,15,4,17],[33,12,33,14],[33,15,33,17]]}
["Rest Area 10"]
["Mound System Rotation Plan"]
[]
["Rev","2015-08-18"]
[null,null,null,null,null,null,null,null,null,null,null,null,"Attenuation Tank Pumps",null,null,"Mound Pumps"]
[null,"From","To","# Active  Mounds",null,"Mound 1","Mound 4","Mound 5","Mound 6","Mound 2","Mound 3",null,"Cycle Time (min)","Run Time (min)","Pump rate (gpm)","Cycle Time (min)","Run Time (sec x 10)","Pump rate (gpm)"]
["W","2014-10-15","2015-05-15",3,null,"Off","Off","Off",null,null,null,null,{"$f":"+'2014'!AG18","v":40},{"$f":"+'2014'!AJ18","v":4},{"$f":"+Z15","v":21},{"$f":"+'2014'!X18","v":60},{"$f":"+'2014'!AA18*600","v":1500},{"$f":"'2014'!AA3","v":94.811115771428589}]
["S",{"$f":"+C7","v":"2015-05-15"},"2015-06-15",5,null,"Off",null,null,null,null,null,null,{"$f":"+'2014'!AG151","v":24},{"$f":"+'2014'!AJ151","v":4},{"$f":"+O7","v":21},{"$f":"+'2014'!X151","v":45},{"$f":"+Q7","v":1500},{"$f":"+R7","v":94.811115771428589}]
["S-Peak","2015-06-15","2015-10-15",6,null,null,null,null,null,null,null,null,{"$f":"+'2014'!AG152","v":20},{"$f":"+'2014'!AJ152","v":6},{"$f":"+O8","v":21},{"$f":"+'2014'!X152","v":38},{"$f":"+Q8","v":1500},{"$f":"+R8","v":94.811115771428589},null,{"$f":"+M9-N9","v":14},"min rest"]
["W",{"$f":"+C9","v":"2015-10-15"},{"$f":"+B10+213","v":"2016-05-15"},3,null,"Off","Off","Off",null,null,null,null,"Recalibrate Pumps"]
["S","2016-05-15",{"$f":"+B11+153","v":"2016-10-15"},5,null,null,"Off"]
["W","2016-10-15",{"$f":"+B12+212","v":"2017-05-15"},3,null,null,"Off","Off","Off"]
["S","2017-05-15",{"$f":"+B13+153","v":"2017-10-15"},5,null,null,null,"Off"]
["W","2017-10-15",{"$f":"+B14+212","v":"2018-05-15"},3,null,null,null,"Off","Off","Off",null,null,null,null,null,null,null,null,null,"Attenuation tank Pumps",null,null,null,null,null,"Pump rate"]
["S","2018-05-15",{"$f":"+B15+153","v":"2018-10-15"},5,null,null,null,null,"Off",null,null,null,null,null,null,null,null,null,null,"Reprogrammed July 31, 2015",null,null,null,null,null,21,"gal/min"]
["W","2018-10-15",{"$f":"+B16+212","v":"2019-05-15"},3,null,null,null,null,"Off","Off","Off",null,null,null,null,null,null,null,null,null,"Target"]
["S","2019-05-15",{"$f":"+B17+153","v":"2019-10-15"},5,null,null,null,null,null,"Off",null,null,null,null,null,null,null,null,null,null,"Daily ","Run","Cycle","Cycles",null,"Cycle","Daily"]
["W","2019-10-15",{"$f":"+B18+212","v":"2020-05-14"},3,null,"Off",null,null,null,"Off","Off",null,null,null,null,null,null,null,null,null,"Vol","Time","Time","per day",null,"vol (gal)","Vol (gal)"]
["S","2020-05-14",{"$f":"+B19+153","v":"2020-10-14"},5,null,null,null,null,null,null,"Off",null,null,null,null,null,null,null,null,">>>>",9000,6,20,{"$f":"24*60/W19","v":72},null,{"$f":"V19*Z$15","v":126},{"$f":"Z19*X19","v":9072}]
["W","2020-10-14",{"$f":"+B20+212","v":"2021-05-14"},3,null,"Off","Off",null,null,null,"Off",null,null,null,null,null,null,null,null,null,9000,5,100,{"$f":"24*60/W20","v":14.4},null,{"$f":"V20*Z$15","v":105},{"$f":"Z20*X20","v":1512}]
["S","2021-05-14",{"$f":"+B21+153","v":"2021-10-14"},5,null,"Off",null,null,null,null,null,null,null,null,null,null,null,null,null,null,9000,5,100,{"$f":"24*60/W21","v":14.4},null,{"$f":"V21*Z$15","v":105},{"$f":"Z21*X21","v":1512}]
["W","2021-10-14",{"$f":"+B22+212","v":"2022-05-14"},3,null,"Off","Off","Off"]
["S","2022-05-14",{"$f":"+B23+153","v":"2022-10-14"},5,null,null,"Off",null,null,null,null,null,null,null,null,null,null,null,null,"Mound pumps"]
["W","2022-10-14",{"$f":"+B24+212","v":"2023-05-14"},3,null,null,"Off","Off","Off",null,null,null,null,null,null,null,null,null,null,"Reprogrammed Aug 18, 2015"]
["S","2023-05-14",{"$f":"+B25+153","v":"2023-10-14"},5,null,null,null,"Off",null,null,null,null,null,null,null,null,null,null,null,null,"Pump Rate",89,"gal/min"]
["W","2023-10-14",{"$f":"+B26+212","v":"2024-05-13"},3,null,null,null,"Off","Off","Off",null,null,null,null,null,null,null,null,null,null,"Cycle",20,"min"]
["S","2024-05-13",{"$f":"+B27+153","v":"2024-10-13"},5,null,null,null,null,"Off",null,null,null,null,null,null,null,null,null,null,null,"Stnd cycle",150,"sec"]
["W","2024-10-13",{"$f":"+B28+212","v":"2025-05-13"},3,null,null,null,null,"Off","Off","Off"]
["S","2025-05-13",{"$f":"+B29+153","v":"2025-10-13"},5,null,null,null,null,null,"Off",null,null,null,null,null,null,null,null,null,null,"% of 150 sec","Vol/cycle","Cycles/day","Vol"]
["W","2025-10-13",{"$f":"+B30+212","v":"2026-05-13"},3,null,"Off",null,null,null,"Off","Off",null,null,null,null,null,null,null,null,"M1",0.55000000000000004,{"$f":"U30*V$25*V$27/60","v":122.375},{"$f":"24*60/(V$26*6)","v":12},{"$f":"V30*W30","v":1468.5}]
[null,null,null,null,null,null,null,null,null,null,null,null,null,null,null,null,null,null,null,"M2",0.65,144.625,12,{"$f":"V31*W31","v":1735.5}]
[null,null,null,null,null,null,null,null,null,null,null,null,null,null,null,null,null,null,null,"M3",0.65,144.625,12,1735.5]
[null,null,null,null,null,null,null,null,null,null,null,null,null,null,null,null,null,null,null,"M4",0.55000000000000004,122.375,12,1468.5]
[null,null,null,null,null,null,null,null,null,null,null,null,"Attenuation Tank Pumps",null,null,"Mound Pumps",null,null,null,"M5",0.55000000000000004,122.375,12,1468.5]
[null,null,null,null,null,null,null,null,null,null,null,null,"Cycles/day","Vol/cycle  (gal)","Vol (gal/day)","Cycles/day","Vol/cycle  (gal)","Vol (gal/day)",null,"M6",0.55000000000000004,122.375,12,1468.5]
[null,null,null,null,null,null,null,null,null,null,null,null,{"$f":"(24*60)/M7","v":36},{"$f":"+N7*O7","v":84},{"$f":"+N36*M36","v":3024},{"$f":"(24*60)/P7","v":24},{"$f":"+Q7*R7/600","v":237.02778942857145},{"$f":"+Q36*P36","v":5688.6669462857153},null,null,null,null,"Total",{"$f":"SUM(X30:X35)","v":9345},"gal"]
[null,null,null,null,null,null,null,null,null,null,null,null,{"$f":"(24*60)/M8","v":60},{"$f":"+N8*O8","v":84},{"$f":"+N37*M37","v":5040},{"$f":"(24*60)/P8","v":32},{"$f":"+Q8*R8/600","v":237.02778942857145},{"$f":"+Q37*P37","v":7584.8892617142865}]